Workbook
Name OLE_LINK7: ×表Ⅱ・4!#REF!
Name RZK_DD: #REF!
Name RZK_DD: #REF!
Name RZK_DD: #REF!
Name RZK_DD: #REF!
Name RZK_TTL: #REF!
Name RZK_TTL: #REF!
Name RZK_TTL: #REF!
Name RZK_TTL: #REF!
Name san: #REF!
Name san: #REF!
Name san: #REF!
Name デ１: [1]デフレータ!#REF!
Name デフレータ: [1]デフレータ!#REF!
Name デフレータ: [1]デフレータ!#REF!
Name デフレータ: [1]デフレータ!#REF!
Name デフレータ: [1]デフレータ!#REF!

Sheet 表Ⅱ・8
B1: 表－Ⅱ・８ 濃縮汚泥量（全国量（ｍ３／年））
B2: No. | C2: 都道府県名 | D2: 令和4年度
B3: 1 | C3: 北海道 | D3: 4112783.4
B4: 2 | C4: 青森県 | D4: 517180.48
B5: 3 | C5: 岩手県 | D5: 467966.36
B6: 4 | C6: 宮城県 | D6: 1602876.4
B7: 5 | C7: 秋田県 | D7: 372558.1
B8: 6 | C8: 山形県 | D8: 603839.1
B9: 7 | C9: 福島県 | D9: 865812.83
B10: 8 | C10: 茨城県 | D10: 1786662.5
B11: 9 | C11: 栃木県 | D11: 946278.04
B12: 10 | C12: 群馬県 | D12: 1041466.2
B13: 11 | C13: 埼玉県 | D13: 4533443.9
B14: 12 | C14: 千葉県 | D14: 3506009.1
... B49: 47 | C49: 沖縄県 | D49: 899515.1
B50: 合計 | D50: 77428385

Sheet 表Ⅲ・2
B1: 表－Ⅲ・２ 産業廃棄物の業種別排出量（令和４年度実績値）
B3: 業種 | D3: 令和４年度 | F3: 令和３年度（参考）
D4: 排出量（千ｔ） | E4: 割合（%） | F4: 排出量（千ｔ） | G4: 割合（%）
B5: 農業、林業 | D5: =表Ⅲ・5!Y5 -> 81619.319 | E5: =D5/D$87*100 -> 21.819335 | F5: 81693.24 | G5: 21.731736
C6: 耕種農業 | D6: =表Ⅲ・5!Y6 -> 21.171117 | E6: =D6/D$87*100 -> 0.0056596859 | F6: 21.798322 | G6: 0.0057987097
C7: 畜産農業 | D7: =表Ⅲ・5!Y7 -> 81383.493 | E7: =D7/D$87*100 -> 21.756292 | F7: 81464.548 | G7: 21.6709
C8: 林業大分類 | D8: =表Ⅲ・5!Y8 -> 17.523545 | E8: =D8/D$87*100 -> 0.0046845785 | F8: 15.00376 | G8: 0.0039912451
C9: 上記以外の農業 | D9: =表Ⅲ・5!Y9 -> 0 | E9: =D9/D$87*100 -> 0 | F9: 0 | G9: 0
B10: 漁 業 | D10: =表Ⅲ・5!Y10 -> 6.8324535 | E10: =D10/D$87*100 -> 0.0018265234 | F10: 6.4095073 | G10: 0.0017050336
C11: 漁 業 | D11: =表Ⅲ・5!Y11 -> 1.1937817 | E11: =D11/D$87*100 -> 0.00031913428 | F11: 0.88671993 | G11: 0.00023588198
C12: 水産養殖業 | D12: =表Ⅲ・5!Y12 -> 0.2846848 | E12: =D12/D$87*100 -> 7.6104937e-05 | F12: 0.16582725 | G12: 4.4112756e-05
B13: 鉱 業 | D13: =表Ⅲ・5!Y13 -> 8931.4065 | E13: =D13/D$87*100 -> 2.3876376 | F13: 7847.8547 | G13: 2.0876575
B14: 建設業 | D14: =表Ⅲ・5!Y14 -> 80234.89 | E14: =D14/D$87*100 -> 21.449235 | F14: 80936.749 | G14: 21.530497
B15: 製造業 | D15: =表Ⅲ・5!Y15 -> 98054.963 | E15: =D15/D$87*100 -> 26.213085 | F15: 98243.646 | G15: 26.134414
C16: 食料品製造業 | D16: =表Ⅲ・5!Y16 -> 8639.6873 | E16: =D16/D$87*100 -> 2.3096521 | F16: 8708.8461 | G16: 2.3166953
C17: 飲料・たばこ・飼料製造業 | D17: =表Ⅲ・5!Y17 -> 2516.6906 | E17: =D17/D$87*100 -> 0.67278821 | F17: 2582.8594 | G17: 0.68708279
C18: 繊維工業 | D18: =表Ⅲ・5!Y18 -> 695.35687 | E18: =D18/D$87*100 -> 0.18589012 | F18: 802.07628 | G18: 0.21336539
C19: 木材・木製品製造業 | D19: =表Ⅲ・5!Y19 -> 899.07549 | E19: =D19/D$87*100 -> 0.24035032 | F19: 885.47085 | G19: 0.23554971
C20: 家具・装備品製造業 | D20: =表Ⅲ・5!Y20 -> 177.54297 | E20: =D20/D$87*100 -> 0.047462654 | F20: 189.85003 | G20: 0.050503208
C21: パルプ・紙・紙加工品製造業 | D21: =表Ⅲ・5!Y21 -> 27780.748 | E21: =D21/D$87*100 -> 7.4266418 | F21: 27744.73 | G21: 7.3805513
C22: 印刷・同関連業 | D22: =表Ⅲ・5!Y22 -> 513.1691 | E22: =D22/D$87*100 -> 0.13718576 | F22: 498.53909 | G22: 0.13261954
C23: 化学工業 | D23: =表Ⅲ・5!Y23 -> 9306.0536 | E23: =D23/D$87*100 -> 2.4877922 | F23: 9481.2894 | G23: 2.5221778
C24: 石油製品・石炭製品製造業 | D24: =表Ⅲ・5!Y24 -> 1151.2718 | E24: =D24/D$87*100 -> 0.30777009 | F24: 1137.3459 | G24: 0.30255258
C25: プラスチック製品製造業 | D25: =表Ⅲ・5!Y25 -> 1004.2683 | E25: =D25/D$87*100 -> 0.26847157 | F25: 1100.2829 | G25: 0.29269321
C26: ゴム製品製造業 | D26: =表Ⅲ・5!Y26 -> 297.85221 | E26: =D26/D$87*100 -> 0.079624988 | F26: 326.78182 | G26: 0.086929302
C27: なめし革・同製品・毛皮製造業 | D27: =表Ⅲ・5!Y27 -> 17.374045 | E27: =D27/D$87*100 -> 0.0046446125 | F27: 17.383754 | G27: 0.0046243626
... C39: その他の製造業 | D39: =表Ⅲ・5!Y39 -> 610.55528 | E39: =D39/D$87*100 -> 0.16322006 | F39: 593.22427 | G39: 0.15780735
B40: 電気･ガス・熱供給・水道業 | D40: =表Ⅲ・5!Y40 -> 98262.765 | E40: =D40/D$87*100 -> 26.268636 | F40: 99481.206 | G40: 26.463626
C41: 電気業 | D41: =表Ⅲ・5!Y41 -> 11250.67 | E41: =D41/D$87*100 -> 3.0076475 | F41: 11318.842 | G41: 3.0109967
C42: ガス業 | D42: =表Ⅲ・5!Y42 -> 12.373916 | E42: =D42/D$87*100 -> 0.0033079254 | F42: 11.131342 | G42: 0.0029611188
C43: 熱供給業 | D43: =表Ⅲ・5!Y43 -> 149.53959 | E43: =D43/D$87*100 -> 0.039976496 | F43: 219.87376 | G43: 0.058490012
C44: 上水道業 | D44: =表Ⅲ・5!Y44 -> 8939.8134 | E44: =D44/D$87*100 -> 2.389885 | F44: 10071.491 | G44: 2.6791811
C45: 下水道業 | D45: =表Ⅲ・5!Y45 -> 77910.368 | E45: =D45/D$87*100 -> 20.827819 | F45: 77859.868 | G45: 20.711997
B46: 情報通信業 | D46: =表Ⅲ・5!Y46 -> 92.488866 | E46: =D46/D$87*100 -> 0.024725097 | F46: 107.30468 | G46: 0.028544798
C47: 通信業 | D47: =表Ⅲ・5!Y47 -> 45.493873 | E47: =D47/D$87*100 -> 0.012161901 | F47: 20.172492 | G47: 0.0053662124
C48: 放送業 | D48: =表Ⅲ・5!Y48 -> 27.758637 | E48: =D48/D$87*100 -> 0.0074207311 | F48: 22.109913 | G48: 0.0058815979
C49: 情報サービス業 | D49: =表Ⅲ・5!Y49 -> 10.818706 | E49: =D49/D$87*100 -> 0.0028921705 | F49: 12.714827 | G49: 0.0033823517
C50: インターネット付随サービス業 | D50: =表Ⅲ・5!Y50 -> 1.6935877 | E50: =D50/D$87*100 -> 0.00045274769 | F50: 10.556735 | G50: 0.0028082641
C51: 映像・音声・文字情報制作業 | D51: =表Ⅲ・5!Y51 -> 5.4375613 | E51: =D51/D$87*100 -> 0.0014536261 | F51: 5.9017487 | G51: 0.0015699615
B52: 運輸業 | D52: =表Ⅲ・5!Y52 -> 599.52574 | E52: =D52/D$87*100 -> 0.16027153 | F52: 684.34083 | G52: 0.18204584
C53: 鉄道業 | D53: =表Ⅲ・5!Y53 -> 69.418854 | E53: =D53/D$87*100 -> 0.018557778 | F53: 149.01961 | G53: 0.03964165
C54: 道路旅客運送業 | D54: =表Ⅲ・5!Y54 -> 23.685042 | E54: =D54/D$87*100 -> 0.0063317347 | F54: 56.936904 | G54: 0.015146146
C55: 道路貨物運送業 | D55: =表Ⅲ・5!Y55 -> 276.74609 | E55: =D55/D$87*100 -> 0.073982677 | F55: 348.81898 | G55: 0.092791545
C56: 上記以外の運輸通信業 | D56: =表Ⅲ・5!Y56 -> 93.49805 | E56: =D56/D$87*100 -> 0.024994883 | F56: 123.49034 | G56: 0.032850448
B57: 卸売・小売業 | D57: =表Ⅲ・5!Y57 -> 1983.7867 | E57: =D57/D$87*100 -> 0.53032673 | F57: 2184.378 | G57: 0.58108022
C58: 各種商品卸売業 | D58: =表Ⅲ・5!Y58 -> 28.792228 | E58: =D58/D$87*100 -> 0.0076970415 | F58: 28.909885 | G58: 0.0076905016
C59: 木材・竹材卸売業 | D59: =表Ⅲ・5!Y59 -> 46.085278 | E59: =D59/D$87*100 -> 0.012320001 | F59: 180.02861 | G59: 0.047890551
C60: 各種商品小売業 | D60: =表Ⅲ・5!Y60 -> 59.676096 | E60: =D60/D$87*100 -> 0.015953242 | F60: 97.331714 | G60: 0.025891826
C61: 自動車小売業 | D61: =表Ⅲ・5!Y61 -> 508.48688 | E61: =D61/D$87*100 -> 0.13593406 | F61: 636.08018 | G61: 0.16920772
C62: 機械器具小売業 | D62: =表Ⅲ・5!Y62 -> 75.967812 | E62: =D62/D$87*100 -> 0.020308515 | F62: 179.99812 | G62: 0.04788244
C63: 家具・建具・畳小売業 | D63: =表Ⅲ・5!Y63 -> 7.0216481 | E63: =D63/D$87*100 -> 0.0018771009 | F63: 15.294013 | G63: 0.0040684573
C64: じゅう器小売業 | D64: =表Ⅲ・5!Y64 -> 2.4429543 | E64: =D64/D$87*100 -> 0.00065307626 | F64: 3.1045697 | G64: 0.00082586623
C65: 燃料小売業 | D65: =表Ⅲ・5!Y65 -> 427.98356 | E65: =D65/D$87*100 -> 0.11441307 | F65: 324.66231 | G65: 0.086365478
C66: 上記以外の卸売・小売業 | D66: =表Ⅲ・5!Y66 -> 401.01261 | E66: =D66/D$87*100 -> 0.10720291 | F66: 717.23596 | G66: 0.19079648
B67: 不動産業、物品賃貸業 | D67: =表Ⅲ・5!Y67 -> 254.77089 | E67: =D67/D$87*100 -> 0.068108036 | F67: 247.82927 | G67: 0.065926634
C68: 物品賃借業 | D68: =表Ⅲ・5!Y68 -> 254.70333 | E68: =D68/D$87*100 -> 0.068089975 | F68: 247.77831 | G68: 0.065913078
B69: 学術研究、専門・技術サービス業 | D69: =表Ⅲ・5!Y69 -> 461.54058 | E69: =D69/D$87*100 -> 0.12338388 | F69: 223.05883 | G69: 0.059337293
C70: 学術開発研究機関 | D70: =表Ⅲ・5!Y70 -> 429.65394 | E70: =D70/D$87*100 -> 0.11485961 | F70: 200.45747 | G70: 0.053324962
C71: 写真業 | D71: =表Ⅲ・5!Y71 -> 18.043351 | E71: =D71/D$87*100 -> 0.0048235384 | F71: 22.185935 | G71: 0.005901821
B72: 飲食店、宿泊業 | D72: =表Ⅲ・5!Y72 -> 275.43627 | E72: =D72/D$87*100 -> 0.073632523 | F72: 307.60907 | G72: 0.081829036
C73: 一般飲食店 | D73: =表Ⅲ・5!Y73 -> 146.95409 | E73: =D73/D$87*100 -> 0.039285313 | F73: 196.25111 | G73: 0.052206
C74: 上記以外の飲食店、宿泊業 | D74: =表Ⅲ・5!Y74 -> 75.995495 | E74: =D74/D$87*100 -> 0.020315915 | F74: 109.41208 | G74: 0.029105401
B75: 生活関連サービス、娯楽業 | D75: =表Ⅲ・5!Y75 -> 161.15496 | E75: =D75/D$87*100 -> 0.043081639 | F75: 164.73421 | G75: 0.043821992
C76: 洗濯業 | D76: =表Ⅲ・5!Y76 -> 66.021305 | E76: =D76/D$87*100 -> 0.01764951 | F76: 69.565972 | G76: 0.018505685
B77: 教育、学習支援業 | D77: =表Ⅲ・5!Y77 -> 213.95983 | E77: =D77/D$87*100 -> 0.057197992 | F77: 199.61106 | G77: 0.053099801
B78: 医療、福祉 | D78: =表Ⅲ・5!Y78 -> 507.99477 | E78: =D78/D$87*100 -> 0.13580251 | F78: 544.6108 | G78: 0.14487537
C79: 医療業 | D79: =表Ⅲ・5!Y79 -> 407.71188 | E79: =D79/D$87*100 -> 0.10899383 | F79: 423.22303 | G79: 0.11258424
C80: 上記以外の医療、福祉 | D80: =表Ⅲ・5!Y80 -> 92.554519 | E80: =D80/D$87*100 -> 0.024742648 | F80: 119.35849 | G80: 0.031751308
B81: 複合サービス事業 | D81: =表Ⅲ・5!Y81 -> 178.48888 | E81: =D81/D$87*100 -> 0.047715525 | F81: 380.29047 | G81: 0.10116348
B82: サービス業 | D82: =表Ⅲ・5!Y82 -> 1966.7978 | E82: =D82/D$87*100 -> 0.52578508 | F82: 1906.8075 | G82: 0.50724195
C83: 自動車整備業 | D83: =表Ⅲ・5!Y83 -> 785.05067 | E83: =D83/D$87*100 -> 0.20986801 | F83: 1103.854 | G83: 0.29364319
C84: と蓄場 | D84: =表Ⅲ・5!Y84 -> 83.115323 | E84: =D84/D$87*100 -> 0.022219263 | F84: 109.20183 | G84: 0.029049472
C85: 上記以外のサービス業 | D85: =表Ⅲ・5!Y85 -> 713.39465 | E85: =D85/D$87*100 -> 0.19071216 | F85: 614.56813 | G85: 0.16348516
B86: 公 務 | D86: =表Ⅲ・5!Y86 -> 262.64987 | E86: =D86/D$87*100 -> 0.070214327 | F86: 757.08879 | G86: 0.20139798
B87: 合 計 | D87: =表Ⅲ・5!Y87 -> 374068.77 | E87: =D87/D$87*100 -> 100 | F87: 375916.77 | G87: 100
M92: =H92/10 -> 0
M93: =H93/10 -> 0
M94: =H94/10 -> 0
M95: =H95/10 -> 0
M96: =H96/10 -> 0
M97: =H97/10 -> 0
M98: =H98/10 -> 0
M99: =H99/10 -> 0
M100: =H100/10 -> 0
M101: =H101/10 -> 0

Sheet 表Ⅲ・3
B1: 表－Ⅲ・３ 産業廃棄物の業種別排出量（令和４年度実績値） | Q1: =表Ⅲ・5!Z87 -> 0 | R1: =表Ⅲ・5!AA87 -> 0 | S1: =表Ⅲ・5!AB87 -> 0
B3: 種類 | C3: 令和４年度 | E3: 令和３年度（参考）
C4: 排出量（千ｔ） | D4: 割合（%） | E4: 排出量（千ｔ） | F4: 割合（%）
B5: 燃え殻 | C5: =表Ⅲ・5!F87 -> 2234.6213 | D5: =C5/$C$24*100 -> 0.59738247 | E5: 2185.1608 | F5: 0.58128846
B6: 汚 泥 | C6: =表Ⅲ・5!G87 -> 158317.41 | D6: =C6/$C$24*100 -> 42.323076 | E6: 159817.75 | F6: 42.514133
B7: 廃 油 | C7: =表Ⅲ・5!H87 -> 2953.1491 | D7: =C7/$C$24*100 -> 0.78946688 | E7: 2935.5722 | F7: 0.78091015
B8: 廃 酸 | C8: =表Ⅲ・5!I87 -> 3047.2503 | D8: =C8/$C$24*100 -> 0.81462302 | E8: 3103.3051 | F8: 0.82552983
B9: 廃アルカリ | C9: =表Ⅲ・5!J87 -> 2458.2648 | D9: =C9/$C$24*100 -> 0.65716922 | E9: 2521.1706 | F9: 0.67067257
B10: 廃プラスチック類 | C10: =表Ⅲ・5!K87 -> 7411.4489 | D10: =C10/$C$24*100 -> 1.9813065 | E10: 7350.8714 | F10: 1.9554518
B11: 紙くず | C11: =表Ⅲ・5!L87 -> 802.98625 | D11: =C11/$C$24*100 -> 0.21466273 | E11: 790.8979 | F11: 0.21039176
B12: 木くず | C12: =表Ⅲ・5!M87 -> 7579.0888 | D12: =C12/$C$24*100 -> 2.0261218 | E12: 7739.6095 | F12: 2.0588625
B13: 繊維くず | C13: =表Ⅲ・5!N87 -> 88.374558 | D13: =C13/$C$24*100 -> 0.023625217 | E13: 92.804393 | F13: 0.024687484
B14: 動植物性残さ | C14: =表Ⅲ・5!O87 -> 2323.5445 | D14: =C14/$C$24*100 -> 0.62115436 | E14: 2316.3916 | F14: 0.616198
B15: 動物系固形不要物 | C15: =表Ⅲ・5!P87 -> 78.543058 | D15: =C15/$C$24*100 -> 0.020996957 | E15: 74.619115 | F15: 0.019849903
B16: ゴムくず | C16: =表Ⅲ・5!Q87 -> 15.375786 | D16: =C16/$C$24*100 -> 0.0041104168 | E16: 15.480396 | F16: 0.0041180381
B17: 金属くず | C17: =表Ⅲ・5!R87 -> 6678.6911 | D17: =C17/$C$24*100 -> 1.785418 | E17: 6894.5501 | F17: 1.8340629
B18: ガラスくず、コンクリートくず及び陶磁器くず | C18: =表Ⅲ・5!S87 -> 8169.1668 | D18: =C18/$C$24*100 -> 2.1838676 | E18: 8040.8929 | F18: 2.1390088
B19: 鉱さい | C19: =表Ⅲ・5!T87 -> 12029.326 | D19: =C19/$C$24*100 -> 3.2158061 | E19: 11303.013 | F19: 3.0067862
B20: がれき類 | C20: =表Ⅲ・5!U87 -> 61851.733 | D20: =C20/$C$24*100 -> 16.534856 | E20: 62498.853 | F20: 16.625716
B21: 動物のふん尿 | C21: =表Ⅲ・5!V87 -> 81185.734 | D21: =C21/$C$24*100 -> 21.703425 | E21: 81270.546 | F21: 21.619293
B22: 動物の死体 | C22: =表Ⅲ・5!W87 -> 167.56781 | D22: =C22/$C$24*100 -> 0.044795991 | E22: 167.53165 | F22: 0.044566156
B23: ばいじん | C23: =表Ⅲ・5!X87 -> 16676.492 | D23: =C23/$C$24*100 -> 4.4581353 | E23: 16797.744 | F23: 4.4684741
B24: 合 計 | C24: =表Ⅲ・5!Y87 -> 374068.77 | D24: =C24/$C$24*100 -> 100 | E24: 375916.77 | F24: 100

Sheet 表Ⅲ・4
B1: 表－Ⅲ・４ 産業廃棄物の地域別排出量（令和４年度実績値）
B3: 地域別 | C3: 令和４年度 | E3: 令和３年度（参考）
C4: 排出量（千ｔ） | D4: 割合（%） | E4: 排出量（千ｔ） | F4: 割合（%）
B5: 北海道 | C5: =E20 -> 0 | D5: =C5/C$13*100 -> #DIV/0! | E5: 35271.637 | F5: 9.3828314
B6: 東北 | C6: =SUM(E21:E26) -> 0 | D6: =C6/C$13*100 -> #DIV/0! | E6: 36909.344 | F6: 9.8184884
B7: 関東 | C7: =SUM(E27:E33) -> 0 | D7: =C7/C$13*100 -> #DIV/0! | E7: 98670.633 | F7: 26.248
B8: 中部 | C8: =SUM(E34:E42) -> 0 | D8: =C8/C$13*100 -> #DIV/0! | E8: 62427.967 | F8: 16.606859
B9: 近畿 | C9: =SUM(E43:E49) -> 0 | D9: =C9/C$13*100 -> #DIV/0! | E9: 50372.279 | F9: 13.399849
B10: 中国 | C10: =SUM(E50:E54) -> 0 | D10: =C10/C$13*100 -> #DIV/0! | E10: 25392.731 | F10: 6.7548811
B11: 四国 | C11: =SUM(E55:E58) -> 0 | D11: =C11/C$13*100 -> #DIV/0! | E11: 14121.166 | F11: 3.7564609
B12: 九州 | C12: =SUM(E59:E66) -> 0 | D12: =C12/C$13*100 -> #DIV/0! | E12: 52751.012 | F12: 14.032631
B13: 合 計 | C13: =E67 -> 0 | D13: 100 | E13: 375916.77 | F13: 100
B14: ※ 各地域の産業廃棄物の量は四捨五入しているため、合算した値は合計値と異なる場合がある。
J72: =F72-C72 -> 0 | K72: =F72-F73 -> 0
J73: =F73-C73 -> 0 | K73: =F73-F74 -> 0
J74: =F74-C74 -> 0 | K74: =F74-F75 -> 0
J75: =F75-C75 -> 0 | K75: =F75-F76 -> 0
J76: =F76-C76 -> 0 | K76: =F76-F77 -> 0
J77: =F77-C77 -> 0 | K77: =F77-F78 -> 0
J78: =F78-C78 -> 0 | K78: =F78-F79 -> 0

Sheet 表Ⅲ・5
B1: 表－Ⅲ・５ 令和４年度実績値 業種別・種類別排出量推計値一覧表
D3: 全国 | F3: 令和４年度 | Y3: (単位：千ｔ/年)
B4: 大分類 | C4: 番号 | D4: 産業分類 | E4: コード | F4: 燃え殻 | G4: 汚 泥 | H4: 廃 油 | I4: 廃 酸 | J4: 廃アルカリ | K4: 廃プラス チック類 | L4: 紙くず | M4: 木くず | N4: 繊維くず | O4: 動植物性 残 渣 | P4: 動物系固形不要物 | Q4: ゴムくず | R4: 金属くず | S4: ガラスくず及び 陶磁器くず | T4: 鉱さい | U4: がれき類 | V4: 動物の ふん尿 | W4: 動物の死体 | X4: ばいじん | Y4: 合 計
B5: 農業、 | D5: 農業大分類 | E5: Ａ | F5: 0.34634545 | G5: 60.279653 | H5: 2.0087533 | I5: 3.0840645 | J5: 0.0714935 | K5: 101.29329 | L5: 0 | M5: 76.245632 | N5: 0 | O5: 0 | P5: 0 | Q5: 0.0082524439 | R5: 1.6304894 | S5: 10.795419 | T5: 0.01302 | U5: 10.240137 | V5: 81185.734 | W5: 167.56781 | X5: 0 | Y5: 81619.319
B6: 林業 | C6: 1 | D6: 耕種農業 | E6: A011 | F6: 0 | G6: 0 | H6: 0.649 | I6: 0 | J6: 0 | K6: 20.085561 | L6: 0 | M6: 0.001647755 | N6: 0 | O6: 0 | P6: 0 | Q6: 0 | R6: 0 | S6: 0.43490896 | T6: 0 | U6: 0 | V6: 0 | W6: 0 | X6: 0 | Y6: 21.171117
C7: 2 | D7: 畜産農業 | E7: A012 | F7: 0 | G7: 0.142753 | H7: 0.033828 | I7: 2e-05 | J7: 0.00028 | K7: 29.730578 | L7: 0 | M7: 0.00037371083 | N7: 0 | O7: 0 | P7: 0 | Q7: 0 | R7: 0.15669419 | S7: 0.126958 | T7: 0 | U7: 0 | V7: 81185.734 | W7: 167.56781 | X7: 0 | Y7: 81383.493
C8: 3 | D8: 林業大分類 | E8: A02 | F8: 0.014 | G8: 0 | H8: 0.0090956654 | I8: 0 | J8: 0 | K8: 0.71650003 | L8: 0 | M8: 7.6531688 | N8: 0 | O8: 0 | P8: 0 | Q8: 0 | R8: 0.020239806 | S8: 9.0443352 | T8: 0 | U8: 0.066205604 | V8: 0 | W8: 0 | X8: 0 | Y8: 17.523545
C9: 4 | D9: 上記以外の農業 | F9: 0 | G9: 0 | H9: 0 | I9: 0 | J9: 0 | K9: 0 | L9: 0 | M9: 0 | N9: 0 | O9: 0 | P9: 0 | Q9: 0 | R9: 0 | S9: 0 | T9: 0 | U9: 0 | V9: 0 | W9: 0 | X9: 0
B10: 漁 業 | D10: 漁業大分類 | E10: B | F10: 0.0006517 | G10: 1.3816616 | H10: 0.33903272 | I10: 0.01800595 | J10: 0 | K10: 4.2896175 | L10: 0 | M10: 0.19108369 | N10: 0 | O10: 0 | P10: 0 | Q10: 0 | R10: 0.5364779 | S10: 0.026725856 | T10: 0 | U10: 0.04919661 | V10: 0 | W10: 0 | X10: 0 | Y10: 6.8324535
C11: 5 | D11: 漁 業 | E11: B03 | F11: 0 | G11: 0.00128 | H11: 0.0010773089 | I11: 0 | J11: 0 | K11: 1.185803 | L11: 0 | M11: 0.00030378608 | N11: 0 | O11: 0 | P11: 0 | Q11: 0 | R11: 0.0051302413 | S11: 0.00011706593 | T11: 0 | U11: 7.0239557e-05 | V11: 0 | W11: 0 | X11: 0 | Y11: 1.1937817
C12: 6 | D12: 水産養殖業 | E12: B04 | F12: 0 | G12: 0.0072997927 | H12: 0 | I12: 0 | J12: 0 | K12: 0.15792295 | L12: 0 | M12: 0 | N12: 0 | O12: 0 | P12: 0 | Q12: 0 | R12: 0.11946206 | S12: 0 | T12: 0 | U12: 0 | V12: 0 | W12: 0 | X12: 0 | Y12: 0.2846848
B13: 鉱 業 | C13: 7 | D13: 鉱業 | E13: C | F13: 0.087624608 | G13: 8510.3574 | H13: 4.2548035 | I13: 0.14331302 | J13: 0.70553398 | K13: 2.4192104 | L13: 0 | M13: 0.79017442 | N13: 0 | O13: 0 | P13: 0 | Q13: 0.059818946 | R13: 13.123334 | S13: 14.407853 | T13: 8.9124366 | U13: 376.12351 | V13: 0 | W13: 0 | X13: 0.021427683 | Y13: 8931.4065
B14: 建設業 | C14: 8 | D14: 建設業 | E14: D | F14: 53.055454 | G14: 9649.333 | H14: 106.94179 | I14: 7.2347534 | J14: 54.576106 | K14: 1395.269 | L14: 310.02434 | M14: 5765.211 | N14: 68.405386 | O14: 0 | P14: 0 | Q14: 0.92997481 | R14: 1014.893 | S14: 2903.0192 | T14: 68.922279 | U14: 58833.699 | V14: 0 | W14: 0 | X14: 3.3756153 | Y14: 80234.89
B15: 製造業 | D15: 製造業大分類 | E15: E | F15: 854.34931 | G15: 51478.418 | H15: 2320.0845 | I15: 2934.8576 | J15: 2265.7342 | K15: 3463.5947 | L15: 491.57624 | M15: 1386.8513 | N15: 19.969172 | O15: 2323.5445 | P15: 54.053536 | Q15: 12.477231 | R15: 4986.623 | S15: 4849.7448 | T15: 11715.983 | U15: 1791.6832 | V15: 0 | W15: 0 | X15: 7105.4183 | Y15: 98054.963
C16: 9 | D16: 食料品製造業 | E16: E9 | F16: 40.812026 | G16: 5756.7319 | H16: 137.56605 | I16: 108.56195 | J16: 58.647375 | K16: 370.52828 | L16: 0 | M16: 13.85203 | N16: 0 | O16: 1603.6528 | P16: 54.007536 | Q16: 0.061103647 | R16: 128.64154 | S16: 40.222017 | T16: 150.60685 | U16: 7.2966093 | V16: 0 | W16: 0 | X16: 168.49919 | Y16: 8639.6873
C17: 10 | D17: 飲料・たばこ・飼料製造業 | E17: E10 | F17: 1.9838955 | G17: 1152.6611 | H17: 5.853323 | I17: 748.59364 | J17: 38.802776 | K17: 59.621066 | L17: 0 | M17: 5.1152 | N17: 0 | O17: 437.89813 | P17: 0 | Q17: 0.058856265 | R17: 17.970781 | S17: 14.3069 | T17: 18.173574 | U17: 1.8207151 | V17: 0 | W17: 0 | X17: 13.830599 | Y17: 2516.6906
C18: 11 | D18: 繊維工業 | E18: E11 | F18: 33.602014 | G18: 361.8984 | H18: 18.328624 | I18: 15.426194 | J18: 22.777341 | K18: 132.08563 | L18: 0 | M18: 5.4761901 | N18: 18.211172 | O18: 0 | P18: 0 | Q18: 0.0037819027 | R18: 3.8725708 | S18: 0.49446773 | T18: 0.084540617 | U18: 2.2331156 | V18: 0 | W18: 0 | X18: 80.862833 | Y18: 695.35687
C19: 12 | D19: 木材・木製品製造業 | E19: E12 | F19: 54.472721 | G19: 6.4403254 | H19: 2.239695 | I19: 0.34231379 | J19: 0.9680503 | K19: 38.475826 | L19: 0 | M19: 740.39032 | N19: 0 | O19: 0 | P19: 0 | Q19: 0.0038449976 | R19: 7.6206201 | S19: 24.574121 | T19: 1.0192988 | U19: 3.8620126 | V19: 0 | W19: 0 | X19: 18.666336 | Y19: 899.07549
C20: 13 | D20: 家具・装備品製造業 | E20: E13 | F20: 1.0386714 | G20: 16.920719 | H20: 2.1633555 | I20: 1.0985868 | J20: 1.1650055 | K20: 28.550326 | L20: 0 | M20: 108.04926 | N20: 0 | O20: 0 | P20: 0 | Q20: 0.052453444 | R20: 7.9246648 | S20: 3.1397746 | T20: 2.418568 | U20: 3.2894297 | V20: 0 | W20: 0 | X20: 1.7321538 | Y20: 177.54297
C21: 14 | D21: パルプ・紙・紙加工品製造業 | E21: E14 | F21: 285.61255 | G21: 25730.609 | H21: 20.671708 | I21: 3.6285323 | J21: 18.530876 | K21: 446.93664 | L21: 311.05202 | M21: 40.380037 | N21: 0 | O21: 0 | P21: 0 | Q21: 0.0064431167 | R21: 44.066145 | S21: 10.915807 | T21: 31.594117 | U21: 2.290493 | V21: 0 | W21: 0 | X21: 834.45392 | Y21: 27780.748
C22: 15 | D22: 印刷・同関連業 | E22: E15 | F22: 2.0339841 | G22: 54.764564 | H22: 44.405654 | I22: 10.478641 | J22: 19.67641 | K22: 146.28458 | L22: 158.54064 | M22: 5.4104975 | N22: 0 | O22: 0 | P22: 0 | Q22: 0.028229983 | R22: 16.786584 | S22: 2.3396647 | T22: 6.2229773 | U22: 0.81983147 | V22: 0 | W22: 0 | X22: 45.376837 | Y22: 513.1691
C23: 16 | D23: 化学工業 | E23: E16 | F23: 91.2547 | G23: 5414.5464 | H23: 801.66349 | I23: 580.12317 | J23: 1178.4145 | K23: 261.86508 | L23: 0 | M23: 31.394256 | N23: 0 | O23: 65.45056 | P23: 0 | Q23: 0.053633291 | R23: 169.18764 | S23: 67.68909 | T23: 248.87509 | U23: 37.340453 | V23: 0 | W23: 0 | X23: 358.19557 | Y23: 9306.0536
C24: 17 | D24: 石油製品・石炭製品製造業 | E24: E17 | F24: 11.039951 | G24: 374.02146 | H24: 109.37919 | I24: 89.884279 | J24: 38.562807 | K24: 27.890724 | L24: 0 | M24: 3.2235449 | N24: 0 | O24: 0 | P24: 0 | Q24: 0.24830845 | R24: 67.302626 | S24: 99.847513 | T24: 88.550556 | U24: 146.0987 | V24: 0 | W24: 0 | X24: 95.222126 | Y24: 1151.2718
C25: 18 | D25: プラスチック製品製造業 | E25: E18 | F25: 20.584158 | G25: 171.3894 | H25: 51.418756 | I25: 26.197928 | J25: 29.508903 | K25: 610.00761 | L25: 0 | M25: 30.226269 | N25: 0 | O25: 0 | P25: 0 | Q25: 0.10980618 | R25: 26.059339 | S25: 15.890862 | T25: 3.7098189 | U25: 6.5210884 | V25: 0 | W25: 0 | X25: 12.64435 | Y25: 1004.2683
C26: 19 | D26: ゴム製品製造業 | E26: E19 | F26: 1.7870673 | G26: 43.673963 | H26: 13.295759 | I26: 0.60347805 | J26: 3.1882088 | K26: 203.88725 | L26: 0 | M26: 4.2271593 | N26: 0 | O26: 0 | P26: 0 | Q26: 10.428332 | R26: 8.6101811 | S26: 6.4032447 | T26: 0.62006803 | U26: 0.23415665 | V26: 0 | W26: 0 | X26: 0.89334521 | Y26: 297.85221
C27: 20 | D27: なめし革・同製品・毛皮製造業 | E27: E20 | F27: 0.00011050503 | G27: 11.35833 | H27: 2.4558187 | I27: 0.0017461047 | J27: 0.17010185 | K27: 2.7409318 | L27: 0 | M27: 0.38258986 | N27: 0 | O27: 0 | P27: 0 | Q27: 0.024041034 | R27: 0.16814737 | S27: 0.028742067 | T27: 0.024693577 | U27: 0.0008288051 | V27: 0 | W27: 0 | X27: 0.017963381 | Y27: 17.374045
... C39: 32 | D39: その他の製造業 | E39: E32 | F39: 21.854833 | G39: 126.14808 | H39: 61.851455 | I39: 9.0123183 | J39: 20.701829 | K39: 115.47457 | L39: 0 | M39: 24.774581 | N39: 0 | O39: 0 | P39: 0 | Q39: 0.031245286 | R39: 24.969935 | S39: 47.56056 | T39: 21.59018 | U39: 33.458237 | V39: 0 | W39: 0 | X39: 103.12745 | Y39: 610.55528
B40: 電気･ガス | D40: インフラ大分類 | E40: F | F40: 1273.7388 | G40: 87196.243 | H40: 5.8990293 | I40: 2.2534364 | J40: 30.054911 | K40: 11.245427 | L40: 0 | M40: 6.4436618 | N40: 0 | O40: 0 | P40: 0 | Q40: 0.0037021106 | R40: 14.447143 | S40: 20.372063 | T40: 44.302002 | U40: 168.50285 | V40: 0 | W40: 0 | X40: 9489.2588 | Y40: 98262.765
B41: ･熱供給･ | C41: 33 | D41: 電気業 | E41: F33 | F41: 1218.9499 | G41: 1009.5765 | H41: 4.5755118 | I41: 1.4945557 | J41: 3.231306 | K41: 9.0187529 | L41: 0 | M41: 2.2322353 | N41: 0 | O41: 0 | P41: 0 | Q41: 0.0015346479 | R41: 11.798678 | S41: 19.447037 | T41: 40.622552 | U41: 69.816125 | V41: 0 | W41: 0 | X41: 8859.9054 | Y41: 11250.67
B42: 水道業 | C42: 34 | D42: ガス業 | E42: F34 | F42: 0 | G42: 0.61680204 | H42: 0.30702781 | I42: 0 | J42: 0.0025066044 | K42: 0.8816483 | L42: 0 | M42: 3.6590758 | N42: 0 | O42: 0 | P42: 0 | Q42: 0.0014291612 | R42: 1.2328457 | S42: 0.35457328 | T42: 0.00021369166 | U42: 5.3177933 | V42: 0 | W42: 0 | X42: 0 | Y42: 12.373916
C43: 35 | D43: 熱供給業 | E43: F35 | F43: 29.590843 | G43: 100.25766 | H43: 0.0066134807 | I43: 0.0018499821 | J43: 0.010042487 | K43: 0.016896945 | L43: 0 | M43: 0.0010097248 | N43: 0 | O43: 0 | P43: 0 | Q43: 0 | R43: 0.024420575 | S43: 0.0016596793 | T43: 0.059975022 | U43: 0.25850378 | V43: 0 | W43: 0 | X43: 19.31011 | Y43: 149.53959
C44: 36 | D44: 上水道業 | E44: F361 | F44: 4.7845819 | G44: 8657.4077 | H44: 0.57253718 | I44: 0.61629308 | J44: 26.516037 | K44: 0.65602263 | L44: 0 | M44: 0.13497271 | N44: 0 | O44: 0 | P44: 0 | Q44: 0 | R44: 0.64408308 | S44: 0.12093317 | T44: 0.72795884 | U44: 83.016754 | V44: 0 | W44: 0 | X44: 164.61548 | Y44: 8939.8134
C45: 37 | D45: 下水道業 | E45: F363 | F45: 20.413511 | G45: 77428.385 | H45: 0.43733909 | I45: 0.14073762 | J45: 0.29501939 | K45: 0.67210588 | L45: 0 | M45: 0.41636827 | N45: 0 | O45: 0 | P45: 0 | Q45: 0.00073830142 | R45: 0.74711611 | S45: 0.44785988 | T45: 2.8913026 | U45: 10.093673 | V45: 0 | W45: 0 | X45: 445.42778 | Y45: 77910.368
B46: 情報通信業 | D46: 情報大分類 | E46: G | F46: 0.40673267 | G46: 0.96338768 | H46: 1.9964729 | I46: 0.85082339 | J46: 1.6262678 | K46: 26.231551 | L46: 1.3856695 | M46: 1.9208475 | N46: 0 | O46: 0 | P46: 0 | Q46: 0.012360649 | R46: 16.308332 | S46: 7.0883298 | T46: 0 | U46: 33.698092 | V46: 0 | W46: 0 | X46: 0 | Y46: 92.488866
C47: 38 | D47: 通信業 | E47: G37 | F47: 0 | G47: 0.0073144526 | H47: 0.2827214 | I47: 0 | J47: 0 | K47: 15.806915 | L47: 0 | M47: 0 | N47: 0 | O47: 0 | P47: 0 | Q47: 0 | R47: 6.5545411 | S47: 5.0753507 | T47: 0 | U47: 17.76703 | V47: 0 | W47: 0 | X47: 0 | Y47: 45.493873
C48: 39 | D48: 放送業 | E48: G38 | F48: 0 | G48: 0.14121538 | H48: 0 | I48: 0 | J48: 0.010572983 | K48: 4.3699077 | L48: 0 | M48: 1.8949597 | N48: 0 | O48: 0 | P48: 0 | Q48: 0 | R48: 5.2209431 | S48: 0.18997636 | T48: 0 | U48: 15.931062 | V48: 0 | W48: 0 | X48: 0 | Y48: 27.758637
C49: 40 | D49: 情報サービス業 | E49: G39 | F49: 0 | G49: 0.42094602 | H49: 0 | I49: 0 | J49: 0 | K49: 4.667666 | L49: 0 | M49: 0.025887776 | N49: 0 | O49: 0 | P49: 0 | Q49: 0 | R49: 4.099505 | S49: 1.6047017 | T49: 0 | U49: 0 | V49: 0 | W49: 0 | X49: 0 | Y49: 10.818706
C50: 41 | D50: インターネット付随サービス業 | E50: G40 | F50: 0 | G50: 0 | H50: 0.158886 | I50: 0 | J50: 1.5292583 | K50: 0.0041896809 | L50: 0 | M50: 0 | N50: 0 | O50: 0 | P50: 0 | Q50: 0 | R50: 0.001253704 | S50: 0 | T50: 0 | U50: 0 | V50: 0 | W50: 0 | X50: 0 | Y50: 1.6935877
C51: 42 | D51: 映像・音声・文字情報制作業 | E51: G41 | F51: 0 | G51: 0.0018327287 | H51: 1.5548655 | I51: 0.85082339 | J51: 0.08643649 | K51: 1.3828718 | L51: 0.91034118 | M51: 0 | N51: 0 | O51: 0 | P51: 0 | Q51: 0 | R51: 0.43208907 | S51: 0.21830113 | T51: 0 | U51: 0 | V51: 0 | W51: 0 | X51: 0 | Y51: 5.4375613
B52: 運輸業 | D52: 運輸大分類 | E52: H | F52: 0.4618226 | G52: 119.83348 | H52: 41.142598 | I52: 1.7878902 | J52: 3.4937008 | K52: 223.16651 | L52: 0 | M52: 117.71191 | N52: 0 | O52: 0 | P52: 0 | Q52: 0.16008266 | R52: 37.077122 | S52: 25.185114 | T52: 0.18371955 | U52: 29.132696 | V52: 0 | W52: 0 | X52: 0.18908577 | Y52: 599.52574
C53: 43 | D53: 鉄道業 | E53: H42 | F53: 0.002 | G53: 45.49858 | H53: 2.9885443 | I53: 0.0025638951 | J53: 0.39652924 | K53: 7.0377697 | L53: 0 | M53: 4.8765231 | N53: 0 | O53: 0 | P53: 0 | Q53: 0.017680637 | R53: 3.4076819 | S53: 0.88094256 | T53: 0.0020343127 | U53: 4.3080041 | V53: 0 | W53: 0 | X53: 0 | Y53: 69.418854
C54: 44 | D54: 道路旅客運送業 | E54: H43 | F54: 0 | G54: 8.096693 | H54: 2.0666609 | I54: 0 | J54: 0.10662989 | K54: 9.2902184 | L54: 0 | M54: 0.038524499 | N54: 0 | O54: 0 | P54: 0 | Q54: 0.00099295469 | R54: 3.7494801 | S54: 0.081242536 | T54: 0 | U54: 0.25460003 | V54: 0 | W54: 0 | X54: 0 | Y54: 23.685042
C55: 45 | D55: 道路貨物運送業 | E55: H44 | F55: 0.013189669 | G55: 11.478262 | H55: 35.472729 | I55: 0.79430887 | J55: 0.14761509 | K55: 80.645806 | L55: 0 | M55: 98.405961 | N55: 0 | O55: 0 | P55: 0 | Q55: 0.01326173 | R55: 28.138221 | S55: 2.1180719 | T55: 0 | U55: 19.518663 | V55: 0 | W55: 0 | X55: 0 | Y55: 276.74609
C56: 46 | D56: 上記以外の運輸通信業 | F56: 0 | G56: 54.75995 | H56: 0.61466394 | I56: 0.091367609 | J56: 2.8429265 | K56: 13.392633 | L56: 0 | M56: 14.390898 | N56: 0 | O56: 0 | P56: 0 | Q56: 0 | R56: 1.7817389 | S56: 0.57244242 | T56: 0 | U56: 5.051429 | V56: 0 | W56: 0 | X56: 0 | Y56: 93.49805
B57: 卸売・小売業 | D57: 卸・小売大分類 | E57: I | F57: 1.1008806 | G57: 246.23278 | H57: 211.11494 | I57: 11.252724 | J57: 28.011482 | K57: 915.75406 | L57: 0 | M57: 78.745062 | N57: 0 | O57: 0 | P57: 0 | Q57: 0.78271152 | R57: 234.65895 | S57: 100.01612 | T57: 0.24499142 | U57: 155.33894 | V57: 0 | W57: 0 | X57: 0.533054 | Y57: 1983.7867
C58: 47 | D58: 各種商品卸売業 | E58: I50 | F58: 0 | G58: 5.335283 | H58: 1.960051 | I58: 0.016653763 | J58: 0.20119381 | K58: 15.770336 | L58: 0 | M58: 1.6877145 | N58: 0 | O58: 0 | P58: 0 | Q58: 0 | R58: 3.017285 | S58: 0.78008703 | T58: 0 | U58: 0.023623962 | V58: 0 | W58: 0 | X58: 0 | Y58: 28.792228
C59: 48 | D59: 木材・竹材卸売業 | E59: I5311 | F59: 0 | G59: 1.0028177 | H59: 0.024048013 | I59: 0 | J59: 0 | K59: 14.044463 | L59: 0 | M59: 19.623604 | N59: 0 | O59: 0 | P59: 0 | Q59: 0 | R59: 0.17161124 | S59: 8.9355118 | T59: 0 | U59: 2.2832218 | V59: 0 | W59: 0 | X59: 0 | Y59: 46.085278
C60: 49 | D60: 各種商品小売業 | E60: I56 | F60: 0.015104231 | G60: 6.4106813 | H60: 3.643386 | I60: 0.00088520302 | J60: 0.48535532 | K60: 32.08976 | L60: 0 | M60: 6.9733956 | N60: 0 | O60: 0 | P60: 0 | Q60: 0 | R60: 4.5970449 | S60: 4.3581667 | T60: 0 | U60: 1.1023162 | V60: 0 | W60: 0 | X60: 0 | Y60: 59.676096
C61: 50 | D61: 自動車小売業 | E61: I591 | F61: 0.0079616383 | G61: 44.461933 | H61: 98.209332 | I61: 6.9433044 | J61: 22.483993 | K61: 179.23271 | L61: 0 | M61: 0.51044119 | N61: 0 | O61: 0 | P61: 0 | Q61: 0.75820707 | R61: 128.46837 | S61: 27.372048 | T61: 0 | U61: 0.038582282 | V61: 0 | W61: 0 | X61: 0 | Y61: 508.48688
C62: 51 | D62: 機械器具小売業 | E62: I593 | F62: 0 | G62: 4.3241893 | H62: 5.0226534 | I62: 0.031714223 | J62: 0.17000634 | K62: 53.476337 | L62: 0 | M62: 1.6181665 | N62: 0 | O62: 0 | P62: 0 | Q62: 0.018932006 | R62: 9.4242516 | S62: 1.2753579 | T62: 0 | U62: 0.60620415 | V62: 0 | W62: 0 | X62: 0 | Y62: 75.967812
C63: 52 | D63: 家具・建具・畳小売業 | E63: I601 | F63: 0.10917442 | G63: 0 | H63: 0.033530255 | I63: 0 | J63: 0 | K63: 3.5860035 | L63: 0 | M63: 1.6972872 | N63: 0 | O63: 0 | P63: 0 | Q63: 0.0010776256 | R63: 0.53801013 | S63: 0.89560415 | T63: 0 | U63: 0.16096089 | V63: 0 | W63: 0 | X63: 0 | Y63: 7.0216481
C64: 53 | D64: じゅう器小売業 | E64: I602 | F64: 0 | G64: 0 | H64: 0 | I64: 0 | J64: 0 | K64: 1.0449743 | L64: 0 | M64: 1.3306608 | N64: 0 | O64: 0 | P64: 0 | Q64: 0 | R64: 0.0078164931 | S64: 0.021680775 | T64: 0.037401899 | U64: 0.00042009934 | V64: 0 | W64: 0 | X64: 0 | Y64: 2.4429543
C65: 54 | D65: 燃料小売業 | E65: I603 | F65: 0.015116458 | G65: 152.21674 | H65: 88.349751 | I65: 0 | J65: 0.23719977 | K65: 43.800866 | L65: 0 | M65: 5.8860832 | N65: 0 | O65: 0 | P65: 0 | Q65: 0.0030914723 | R65: 6.4663626 | S65: 24.015575 | T65: 0 | U65: 106.99278 | V65: 0 | W65: 0 | X65: 0 | Y65: 427.98356
C66: 55 | D66: 上記以外の卸売・小売業 | F66: 0.11097688 | G66: 32.481134 | H66: 13.872191 | I66: 4.2601667 | J66: 4.4337344 | K66: 147.97419 | L66: 0 | M66: 39.417708 | N66: 0 | O66: 0 | P66: 0 | Q66: 0.0014033455 | R66: 81.968192 | S66: 32.362088 | T66: 0 | U66: 44.130831 | V66: 0 | W66: 0 | X66: 0 | Y66: 401.01261
B67: 不動産業、 | D67: 不動産・物品賃借大分類 | E67: K | F67: 0.0015731239 | G67: 36.44158 | H67: 5.7387934 | I67: 0.0032179052 | J67: 0.046718817 | K67: 56.624322 | L67: 0 | M67: 31.773629 | N67: 0 | O67: 0 | P67: 0 | Q67: 0.26543825 | R67: 27.624129 | S67: 20.010463 | T67: 0.029 | U67: 76.210247 | V67: 0 | W67: 0 | X67: 0.0017805071 | Y67: 254.77089
B68: 物品賃借業 | C68: 56 | D68: 物品賃借業 | E68: K70 | F68: 0.00012412393 | G68: 36.44158 | H68: 5.7387934 | I68: 0 | J68: 0.03012903 | K68: 56.624322 | L68: 0 | M68: 31.773629 | N68: 0 | O68: 0 | P68: 0 | Q68: 0.24813504 | R68: 27.624129 | S68: 20.010463 | T68: 0 | U68: 76.210247 | V68: 0 | W68: 0 | X68: 0.0017805071 | Y68: 254.70333
B69: 学術研究，専門 | D69: 学術研究、専門・技術サービス業 | E69: L | F69: 0.22016257 | G69: 89.06341 | H69: 12.373189 | I69: 21.989002 | J69: 8.5452332 | K69: 40.486483 | L69: 0 | M69: 5.8600258 | N69: 0 | O69: 0 | P69: 0 | Q69: 0.029653092 | R69: 39.126165 | S69: 14.903123 | T69: 181.94277 | U69: 33.764917 | V69: 0 | W69: 0 | X69: 13.236444 | Y69: 461.54058
B70: ・技術サービス業 | C70: 57 | D70: 学術開発研究機関 | E70: L71 | F70: 0.0038716239 | G70: 88.641525 | H70: 12.373189 | I70: 12.033373 | J70: 3.314051 | K70: 38.189054 | L70: 0 | M70: 5.8412616 | N70: 0 | O70: 0 | P70: 0 | Q70: 0 | R70: 39.12194 | S70: 14.788888 | T70: 181.58187 | U70: 33.764917 | V70: 0 | W70: 0 | X70: 0 | Y70: 429.65394
C71: 58 | D71: 写真業 | E71: L746 | F71: 0 | G71: 0.42188453 | H71: 0 | I71: 9.95563 | J71: 5.2311822 | K71: 2.2974296 | L71: 0 | M71: 0.018764246 | N71: 0 | O71: 0 | P71: 0 | Q71: 0 | R71: 0.0042252201 | S71: 0.11423507 | T71: 0 | U71: 0 | V71: 0 | W71: 0 | X71: 0 | Y71: 18.043351
B72: 宿泊業，飲食 | D72: 飲食店、宿泊業大分類 | E72: Ｍ | F72: 0.77506678 | G72: 108.03298 | H72: 72.178128 | I72: 0.022796992 | J72: 0.011751234 | K72: 64.13616 | L72: 0 | M72: 1.1126536 | N72: 0 | O72: 0 | P72: 0 | Q72: 0.027038804 | R72: 12.315582 | S72: 12.035837 | T72: 0 | U72: 4.7863703 | V72: 0 | W72: 0 | X72: 0.0019070594 | Y72: 275.43627
B73: サービス業 | C73: 59 | D73: 一般飲食店 | E73: M76 | F73: 0.27242067 | G73: 51.862712 | H73: 47.744748 | I73: 6.7137673e-07 | J73: 0.003469184 | K73: 32.875085 | L73: 0 | M73: 0.17552777 | N73: 0 | O73: 0 | P73: 0 | Q73: 1.4573969e-05 | R73: 7.9388464 | S73: 6.0811232 | T73: 0 | U73: 0.00013989525 | V73: 0 | W73: 0 | X73: 0 | Y73: 146.95409
C74: 60 | D74: 上記以外の飲食店、宿泊業 | F74: 0.0011864098 | G74: 56.170268 | H74: 4.616621 | I74: 0 | J74: 0 | K74: 10.24589 | L74: 0 | M74: 0.0045131119 | N74: 0 | O74: 0 | P74: 0 | Q74: 0.01230823 | R74: 4.3767353 | S74: 0.56140442 | T74: 0 | U74: 0.004660313 | V74: 0 | W74: 0 | X74: 0.0019070594 | Y74: 75.995495
B75: 生活関連サービス、娯楽業 | D75: 生活関連サービス、娯楽業 | E75: N | F75: 3.4211006 | G75: 65.058443 | H75: 3.5857254 | I75: 15.730336 | J75: 0.63774577 | K75: 57.710971 | L75: 0 | M75: 2.1314508 | N75: 0 | O75: 0 | P75: 0 | Q75: 0.18528813 | R75: 5.4330128 | S75: 2.6330686 | T75: 0.004 | U75: 4.6076978 | V75: 0 | W75: 0 | X75: 0.01612 | Y75: 161.15496
C76: 61 | D76: 洗濯業 | E76: N781 | F76: 0.85368178 | G76: 30.506342 | H76: 2.2059805 | I76: 6.6328188 | J76: 0.43458066 | K76: 20.889874 | L76: 0 | M76: 0.82644475 | N76: 0 | O76: 0 | P76: 0 | Q76: 0.00028813357 | R76: 3.5093713 | S76: 0.046854365 | T76: 0 | U76: 0.11506827 | V76: 0 | W76: 0 | X76: 0 | Y76: 66.021305
B77: 教育、学習支援業 | C77: 64 | D77: 教育、学習支援業大分類 | E77: O | F77: 0.050385079 | G77: 87.879662 | H77: 2.3807908 | I77: 1.0498212 | J77: 0.51192183 | K77: 56.959457 | L77: 0 | M77: 5.1501977 | N77: 0 | O77: 0 | P77: 0 | Q77: 0.006879886 | R77: 38.544906 | S77: 11.400377 | T77: 0.0014338685 | U77: 9.9911493 | V77: 0 | W77: 0 | X77: 0.032844098 | Y77: 213.95983
B78: 医療、福祉 | D78: 医療、福祉大分類 | E78: P | F78: 2.7078506 | G78: 53.337079 | H78: 12.34977 | I78: 13.73066 | J78: 10.77605 | K78: 325.40127 | L78: 0 | M78: 2.7183538 | N78: 0 | O78: 0 | P78: 0 | Q78: 0.14184538 | R78: 43.919619 | S78: 35.061824 | T78: 0 | U78: 5.8213035 | V78: 0 | W78: 0 | X78: 2.0291463 | Y78: 507.99477
C79: 62 | D79: 医療業 | E79: P83 | F79: 0.50370829 | G79: 40.45367 | H79: 11.683452 | I79: 9.9719004 | J79: 5.9866958 | K79: 263.22131 | L79: 0 | M79: 1.779115 | N79: 0 | O79: 0 | P79: 0 | Q79: 0.043268218 | R79: 38.256909 | S79: 33.538358 | T79: 0 | U79: 2.2734981 | V79: 0 | W79: 0 | X79: 0 | Y79: 407.71188
C80: 63 | D80: 上記以外の医療、福祉 | F80: 0.066705053 | G80: 12.883409 | H80: 0.66631786 | I80: 3.7587591 | J80: 4.7893543 | K80: 62.179964 | L80: 0 | M80: 0.93923881 | N80: 0 | O80: 0 | P80: 0 | Q80: 0.00056490496 | R80: 5.6627097 | S80: 1.5234665 | T80: 0 | U80: 0.08402986 | V80: 0 | W80: 0 | X80: 0 | Y80: 92.554519 | Z80: 21086101
B81: 複合サービス事業 | C81: 65 | D81: 複合サービス事業大分類 | E81: Q | F81: 1.9003993 | G81: 26.928106 | H81: 1.0980613 | I81: 1.0598609 | J81: 0.629997 | K81: 42.424652 | L81: 0 | M81: 12.483607 | N81: 0 | O81: 0 | P81: 0 | Q81: 9.0235559e-05 | R81: 8.7785219 | S81: 6.8714438 | T81: 0.040078304 | U81: 76.226903 | V81: 0 | W81: 0 | X81: 0.047155111 | Y81: 178.48888
B82: サービス業 | D82: サービス業大分類 | E82: R | F82: 36.828361 | G82: 446.25789 | H82: 147.30311 | I82: 31.771754 | J82: 51.414882 | K82: 606.71867 | L82: 0 | M82: 77.672162 | N82: 0 | O82: 0 | P82: 24.489521 | Q82: 0.28447289 | R82: 160.07476 | S82: 122.73403 | T82: 8.6879995 | U82: 218.60122 | V82: 0 | W82: 0 | X82: 33.958958 | Y82: 1966.7978
C83: 66 | D83: 自動車整備業 | E83: R891 | F83: 0.005421 | G83: 182.51198 | H83: 141.15217 | I83: 2.737178 | J83: 41.51821 | K83: 159.66593 | L83: 0 | M83: 2.9324813 | N83: 0 | O83: 0 | P83: 0 | Q83: 0.095905511 | R83: 142.01309 | S83: 110.82967 | T83: 0 | U83: 1.5886273 | V83: 0 | W83: 0 | X83: 0 | Y83: 785.05067
C84: 67 | D84: と蓄場 | E84: R952 | F84: 0 | G84: 63.880281 | H84: 3.755661e-06 | I84: 0 | J84: 0.0025086765 | K84: 11.562043 | L84: 0 | M84: 0 | N84: 0 | O84: 0 | P84: 7.6694902 | Q84: 0 | R84: 0.00099625052 | S84: 0 | T84: 0 | U84: 0 | V84: 0 | W84: 0 | X84: 0 | Y84: 83.115323
C85: 68 | D85: 上記以外のサービス業 | F85: 36.82294 | G85: 199.86563 | H85: 6.1509359 | I85: 29.034576 | J85: 9.8941636 | K85: 75.947048 | L85: 0 | M85: 74.739681 | N85: 0 | O85: 0 | P85: 0 | Q85: 0.0030961586 | R85: 18.060667 | S85: 11.904357 | T85: 0 | U85: 217.0126 | V85: 0 | W85: 0 | X85: 33.958958 | Y85: 713.39465
B86: 公 務 | C86: 69 | D86: 公務大分類 | E86: S | F86: 5.1687132 | G86: 141.36933 | H86: 2.3595252 | I86: 0.41023353 | J86: 1.4168262 | K86: 17.723494 | L86: 0 | M86: 6.0761063 | N86: 0 | O86: 0 | P86: 0 | Q86: 0.00094483149 | R86: 23.576551 | S86: 12.861022 | T86: 0.059338561 | U86: 23.256329 | V86: 0 | W86: 0 | X86: 28.371452 | Y86: 262.64987
D87: 合 計 | F87: 2234.6213 | G87: 158317.41 | H87: 2953.1491 | I87: 3047.2503 | J87: 2458.2648 | K87: 7411.4489 | L87: 802.98625 | M87: 7579.0888 | N87: 88.374558 | O87: 2323.5445 | P87: 78.543058 | Q87: 15.375786 | R87: 6678.6911 | S87: 8169.1668 | T87: 12029.326 | U87: 61851.733 | V87: 81185.734 | W87: 167.56781 | X87: 16676.492 | Y87: 374068.77
B88: ※大分類のみの回答で、かつ中分類への配分ができない都道府県があるため、中分類の合算値と大分類の値が合致しない項目がある。
B89: ※四捨五入により、各項目の合算値と合計値が合致しない場合がある。
B90: ※空欄は該当値が無いもの、「0」表示は500t/年未満である事を示している。
B91: ※動物の死体の原単位については平成30年度家畜共済統計表（農林水産省）の動物の死亡率を用いて推計した。

Sheet 表Ⅲ・6
C1: 表－Ⅲ・６ 令和４年度実績値 都道府県別・種類別排出量推計値一覧表
X3: (単位：千ｔ/年)
B4: 大分類 | C4: No. | D4: 都道府県名 | E4: 燃え殻 | F4: 汚 泥 | G4: 廃 油 | H4: 廃 酸 | I4: 廃アルカリ | J4: 廃プラス チック類 | K4: 紙くず | L4: 木くず | M4: 繊維くず | N4: 動植物性 残 渣 | O4: 動物系 固形不要物 | P4: ゴムくず | Q4: 金属くず | R4: ガラスくず 及び 陶磁器くず | S4: 鉱さい | T4: がれき類 | U4: 動物の ふん尿 | V4: 動物の死体 | W4: ばいじん | X4: 合 計
C5: 1 | D5: 北海道 | E5: 247.1088 | F5: 7794.7569 | G5: 47.600742 | H5: 23.73695 | I5: 7.8889748 | J5: 380.82904 | K5: 7.5646208 | L5: 476.70861 | M5: 1.9784977 | N5: 136.22182 | O5: 1.288653 | P5: 0.039360611 | Q5: 76.302482 | R5: 370.80637 | S5: 81.319235 | T5: 3655.1539 | U5: 20498.3 | V5: 42.220992 | W5: 1429.1157 | X5: 35278.941
C6: 2 | D6: 青森県 | E6: 8.1757461 | F6: 1621.7325 | G6: 9.6597104 | H6: 6.1494688 | I6: 11.686849 | J6: 35.067702 | K6: 2.4824315 | L6: 71.340355 | M6: 0.92731236 | N6: 40.639892 | O6: 1.8813608 | P6: 0.02652866 | Q6: 14.466144 | R6: 103.39921 | S6: 41.609173 | T6: 925.37122 | U6: 2102.9782 | V6: 0.70569208 | W6: 31.91536 | X6: 5030.2148
C7: 3 | D7: 岩手県 | E7: 17.176379 | F7: 845.22056 | G7: 15.793269 | H7: 7.877837 | I7: 10.046457 | J7: 57.869487 | K7: 3.029852 | L7: 111.16647 | M7: 0.825425 | N7: 16.078497 | O7: 0.78 | P7: 0.0560006 | Q7: 10.747948 | R7: 107.86656 | S7: 101.34598 | T7: 859.53687 | U7: 3758.6554 | V7: 4.1583139 | W7: 47.63669 | X7: 5975.868
C8: 4 | D8: 宮城県 | E8: 23.148223 | F8: 5356.4464 | G8: 36.95942 | H8: 10.67608 | I8: 9.405968 | J8: 151.03581 | K8: 9.4308879 | L8: 282.92614 | M8: 1.8597498 | N8: 32.1769 | O8: 0.29599224 | P8: 0.10617264 | Q8: 47.874225 | R8: 225.99967 | S8: 38.885408 | T8: 1698.2806 | U8: 1729.1189 | V8: 1.7229173 | W8: 138.90934 | X8: 9795.2588
C9: 5 | D9: 秋田県 | E9: 32.85287 | F9: 1381.8771 | G9: 16.916697 | H9: 7.2591129 | I9: 9.3143542 | J9: 44.912094 | K9: 9.66 | L9: 79.664974 | M9: 0.468 | N9: 7.1 | O9: 2.569 | P9: 0.0060120062 | Q9: 19.593199 | R9: 59.630432 | S9: 147.72217 | T9: 583.01891 | U9: 979.88886 | V9: 0.42039614 | W9: 1.9324772 | X9: 3384.8067
C10: 6 | D10: 山形県 | E10: 8.722089 | F10: 1014.4433 | G10: 25.76651 | H10: 21.159801 | I10: 32.893623 | J10: 72.746268 | K10: 19.23468 | L10: 90.734018 | M10: 1.1643355 | N10: 28.136594 | O10: 0 | P10: 0.031009921 | Q10: 35.925913 | R10: 49.163257 | S10: 34.605023 | T10: 782.17822 | U10: 1027.613 | V10: 1.7410435 | W10: 212.79181 | X10: 3459.0504
C11: 7 | D11: 福島県 | E11: 173.97818 | F11: 3116.1837 | G11: 35.942217 | H11: 18.340137 | I11: 100.66633 | J11: 164.11901 | K11: 6.928887 | L11: 250.03743 | M11: 3.616097 | N11: 17.954461 | O11: 0 | P11: 0.00523 | Q11: 26.382772 | R11: 165.42889 | S11: 141.16132 | T11: 1704.2523 | U11: 1200.2948 | V11: 1.7452595 | W11: 1232.7973 | X11: 8359.8344
C12: 8 | D12: 茨城県 | E12: 105.84822 | F12: 5604.9322 | G12: 167.72376 | H12: 138.22082 | I12: 59.217541 | J12: 186.46846 | K12: 16.08684 | L12: 138.34561 | M12: 1.0498213 | N12: 89.740872 | O12: 0 | P12: 1.1543876 | Q12: 94.386417 | R12: 279.79308 | S12: 183.89232 | T12: 1278.598 | U12: 2564.8448 | V12: 3.1180647 | W12: 731.05803 | X12: 11644.479
C13: 9 | D13: 栃木県 | E13: 4.1555496 | F13: 2756.9143 | G13: 92.35046 | H13: 35.013388 | I13: 28.928069 | J13: 284.37546 | K13: 13.497366 | L13: 198.25912 | M13: 0.65768071 | N13: 31.392689 | O13: 4.3589691 | P13: 0.095889802 | Q13: 77.853781 | R13: 167.7752 | S13: 290.91962 | T13: 1113.0955 | U13: 2701.0796 | V13: 26.345959 | W13: 37.472498 | X13: 7864.541
C14: 10 | D14: 群馬県 | E14: 4.1348208 | F14: 1440.1815 | G14: 32.862344 | H14: 10.157239 | I14: 15.909121 | J14: 40.671729 | K14: 2.00793 | L14: 45.320151 | M14: 0.09779 | N14: 93.84833 | O14: 0 | P14: 0.011525445 | Q14: 9.4224201 | R14: 140.94388 | S14: 95.984852 | T14: 321.26618 | U14: 2880.9333 | V14: 2.0474244 | W14: 16.961145 | X14: 5152.7617
C15: 11 | D15: 埼玉県 | E15: 39.275939 | F15: 6665.547 | G15: 106.5208 | H15: 39.895673 | I15: 32.881124 | J15: 348.55706 | K15: 63.259611 | L15: 216.28808 | M15: 4.1786504 | N15: 121.87186 | O15: 1.5496046 | P15: 1.819893 | Q15: 158.91823 | R15: 296.43414 | S15: 111.15143 | T15: 1874.4726 | U15: 600.70495 | V15: 1.7666324 | W15: 29.761716 | X15: 10714.855
C16: 12 | D16: 千葉県 | E16: 28.09241 | F16: 7697.8822 | G16: 209.06756 | H16: 155.27757 | I16: 91.534601 | J16: 232.63667 | K16: 67.927 | L16: 292.41192 | M16: 2.902 | N16: 39.812 | O16: 0 | P16: 0.17669608 | Q16: 1398.5247 | R16: 398.09709 | S16: 2134.7609 | T16: 2141.753 | U16: 2865.212 | V16: 10.082391 | W16: 2188.8242 | X16: 19954.975
... C51: 47 | D51: 沖縄県 | E51: 10.825 | F51: 1107.0572 | G51: 15.280993 | H51: 0.73528554 | I51: 0.47887477 | J51: 28.14285 | K51: 1.067 | L51: 33.605 | M51: 0.046 | N51: 180.242 | O51: 1.2987051 | P51: 0.27413695 | Q51: 10.150854 | R51: 74.121849 | S51: 32.056 | T51: 390.36873 | U51: 1375.1346 | V51: 1.9239527 | W51: 152.059 | X51: 3414.868
C52: 全国 | E52: 2234.6213 | F52: 158317.41 | G52: 2953.1491 | H52: 3047.2503 | I52: 2458.2648 | J52: 7411.4489 | K52: 802.98625 | L52: 7579.0888 | M52: 88.374558 | N52: 2323.5445 | O52: 78.543058 | P52: 15.375786 | Q52: 6678.6911 | R52: 8169.1668 | S52: 12029.326 | T52: 61851.733 | U52: 81185.734 | V52: 167.56781 | W52: 16676.492 | X52: 374068.77
C53: ※四捨五入により、各項目の合算値と合計値が合致しない場合がある。
C54: ※動物の死体の原単位については平成30年度家畜共済統計表（農林水産省）の動物の死亡率を用いて推計した。

Sheet 表Ⅲ・7
B1: 表－Ⅲ・７ 令和４年度実績値 業種別・種類別全国共通原単位一覧表
D3: 全国 | F3: 令和４年度
B4: 大分類 | C4: 番号 | D4: 産業分類 | E4: コード | F4: 単位 | G4: 燃え殻 | H4: 汚 泥 | I4: 廃 油 | J4: 廃 酸 | K4: 廃アルカリ | L4: 廃プラス チック類 | M4: 紙くず | N4: 木くず | O4: 繊維くず | P4: 動植物性 残 渣 | Q4: 動物系固形不要物 | R4: ゴムくず | S4: 金属くず | T4: ガラスくず及び 陶磁器くず | U4: 鉱さい | V4: がれき類 | W4: 動物の ふん尿 | X4: 動物の死体 | Y4: ばいじん | AA4: 合 計
D5: 農業，林業大分類 | E5: A
C6: 1 | D6: 耕種農業 | E6: A011 | F6: t/千a
B7: 農業，林業 | C7: 2 | D7: 畜産農業 | E7: A012 | F7: t/頭羽
C8: 3 | D8: 林業 | E8: A02 | F8: t/千人
C9: 4 | D9: 上記以外の農業，林業
D10: 漁業大分類 | E10: B
B11: 漁 業 | C11: 5 | D11: 漁業 | E11: B03 | F11: t/千人
C12: 6 | D12: 水産養殖業 | E12: B04 | F12: t/千人
B13: 鉱 業 | C13: 7 | D13: 鉱業，採石業，砂利採取業 | E13: C | F13: t/千人 | G13: 0.39132461 | H13: 547931.34 | I13: 222.84493 | J13: 0.016862231 | K13: 0.1540128 | L13: 127.28008 | N13: 32.257291 | R13: 1.5695532 | S13: 104.6078 | T13: 244.23444 | U13: 30.112322 | V13: 22863.619 | Y13: 1.3503721
B14: 建設業 | C14: 8 | D14: 建設業 | E14: D | F14: t/十億円 | G14: 0.5045276 | H14: 170.25673 | I14: 0.9342282 | J14: 0.14296302 | K14: 0.44986217 | L14: 23.054489 | M14: 5.1668498 | N14: 90.645754 | O14: 1.0738937 | R14: 0.012897268 | S14: 15.937084 | T14: 41.638464 | U14: 0.84624212 | V14: 891.52645 | Y14: 0.047356965
D15: 製造業大分類 | E15: E
C16: 9 | D16: 食料品製造業 | E16: E09 | F16: t/十億円 | G16: 0.61682357 | H16: 173.12711 | I16: 3.848875 | J16: 2.1985579 | K16: 2.5378579 | L16: 13.099384 | N16: 0.37791375 | R16: 0.0023810101 | S16: 1.0450575 | T16: 0.79835245 | U16: 0 | V16: 0.024914821 | Y16: 0.030557279
C17: 10 | D17: 飲料・たばこ・飼料製造業 | E17: E10 | F17: t/十億円 | G17: 0.041395997 | H17: 89.638321 | I17: 0.077509648 | J17: 89.85115 | K17: 5.8316131 | L17: 4.8711108 | N17: 0.42317143 | R17: 0.0082266832 | S17: 0.39988804 | T17: 0.47779833 | U17: 0 | V17: 0.0071808079 | Y17: 0.023857468
C18: 11 | D18: 繊維工業 | E18: E11 | F18: t/十億円 | G18: 2.7971413 | H18: 53.682566 | I18: 3.0045199 | J18: 0.83622081 | K18: 10.138502 | L18: 30.126908 | N18: 1.6547569 | R18: 0.00050974033 | S18: 0.53407067 | T18: 0.066467533 | U18: 0 | V18: 0.43285012 | Y18: 19.159343
C19: 12 | D19: 木材・木製品製造業 | E19: E12 | F19: t/十億円 | G19: 13.862294 | H19: 0.7267186 | I19: 0.36208961 | J19: 0.002582861 | K19: 0.3323793 | L19: 10.986095 | N19: 221.93663 | R19: 0.0013466208 | S19: 0.40194916 | T19: 2.5530126 | U19: 0 | V19: 0.79548891 | Y19: 6.4261457
C20: 13 | D20: 家具・装備品製造業 | E20: E13 | F20: t/十億円 | G20: 0.17661386 | H20: 2.2429322 | I20: 0.54719614 | J20: 0.28036978 | K20: 0.31858136 | L20: 16.49794 | N20: 55.324867 | R20: 0.039166618 | S20: 4.7428811 | T20: 1.3405392 | U20: 0.022318752 | V20: 0.85882063 | Y20: 0
C21: 14 | D21: パルプ・紙・紙加工品製造業 | E21: E14 | F21: t/十億円 | G21: 20.032379 | H21: 2775.6956 | I21: 2.5757586 | J21: 0.26831471 | K21: 0.68329904 | L21: 58.818549 | N21: 4.5062747 | R21: 0.00025269132 | S21: 1.1026043 | T21: 1.0018113 | U21: 0.52546568 | V21: 0.13973904 | Y21: 72.070799
C22: 15 | D22: 印刷・同関連業 | E22: E15 | F22: t/十億円 | G22: 0.70427585 | H22: 15.329358 | I22: 15.186572 | J22: 1.9892873 | K22: 5.8396252 | L22: 38.86194 | N22: 1.5694769 | R22: 0.0067467265 | S22: 1.4841089 | T22: 0.3447435 | U22: 0.0019929718 | V22: 0.15264776 | Y22: 0.15743086
C23: 16 | D23: 化学工業 | E23: E16 | F23: t/十億円 | G23: 1.7548077 | H23: 134.73364 | I23: 23.187135 | J23: 16.918914 | K23: 43.660868 | L23: 6.4665651 | N23: 0.9573303 | R23: 0.0011045936 | S23: 0.78308619 | T23: 0.87730685 | U23: 2.2257058 | V23: 0.53667987 | Y23: 6.4907551
C24: 17 | D24: 石油製品・石炭製品製造業 | E24: E17 | F24: t/十億円 | G24: 0.48860448 | H24: 13.263435 | I24: 4.3422362 | J24: 6.060991 | K24: 1.9168918 | L24: 0.33630112 | N24: 0.15602795 | R24: 0 | S24: 0.24653445 | T24: 6.9552571 | U24: 0.00095138691 | V24: 1.741667 | Y24: 2.1727541
B25: 製造業 | C25: 18 | D25: プラスチック製品製造業 | E25: E18 | F25: t/十億円 | G25: 0.028318327 | H25: 4.6948536 | I25: 3.2368555 | J25: 0.76196875 | K25: 1.6354128 | L25: 40.308546 | N25: 1.7941666 | R25: 0.006385976 | S25: 0.63222094 | T25: 0.34655572 | U25: 0.0075867772 | V25: 0.47470251 | Y25: 0.80703874
C26: 19 | D26: ゴム製品製造業 | E26: E19 | F26: t/十億円 | G26: 0.14236072 | H26: 6.4140951 | I26: 3.0566075 | J26: 0.091196586 | K26: 1.0331912 | L26: 46.244242 | N26: 0.96538899 | R26: 2.5247295 | S26: 1.8742087 | T26: 1.4675703 | U26: 0 | V26: 0.068298415 | Y26: 0.018472684
C27: 20 | D27: なめし革・同製品・毛皮製造業 | E27: E20 | F27: t/十億円 | G27: 0 | H27: 2.4449509 | I27: 0.22261483 | J27: 0 | K27: 2.7364086 | L27: 31.053696 | N27: 1.1811897 | R27: 0.29488553 | S27: 0.020175584 | T27: 0.0050094875 | U27: 0 | V27: 0 | Y27: 0
C28: 21 | D28: 窯業・土石製品製造業 | E28: E21 | F28: t/十億円 | G28: 13.320316 | H28: 490.46706 | I28: 2.3567799 | J28: 1.2636423 | K28: 19.436871 | L28: 7.0105778 | N28: 10.106625 | R28: 0.0063627191 | S28: 0.96517125 | T28: 386.66432 | U28: 5.1811234 | V28: 90.269483 | Y28: 1.5725089
C29: 22 | D29: 鉄鋼業 | E29: E22 | F29: t/十億円 | G29: 1.5837836 | H29: 67.156075 | I29: 6.8944143 | J29: 26.106695 | K29: 1.2898491 | L29: 3.2556374 | N29: 1.2265396 | R29: 0.0015543347 | S29: 40.717574 | T29: 11.788452 | U29: 283.95983 | V29: 21.331006 | Y29: 156.6319
C30: 23 | D30: 非鉄金属製造業 | E30: E23 | F30: t/十億円 | G30: 0.09324588 | H30: 39.178626 | I30: 3.5572026 | J30: 1.9676547 | K30: 6.6474166 | L30: 5.5897247 | N30: 1.7277926 | R30: 0.0015025365 | S30: 6.6211029 | T30: 1.3382211 | U30: 30.913121 | V30: 0.50447299 | Y30: 0.46188035
C31: 24 | D31: 金属製品製造業 | E31: E24 | F31: t/十億円 | G31: 0.17191825 | H31: 26.242657 | I31: 5.7106698 | J31: 6.0994106 | K31: 4.0523222 | L31: 6.2592564 | N31: 2.6153169 | R31: 0.0036855301 | S31: 11.91022 | T31: 2.1187754 | U31: 0.75190192 | V31: 2.0345709 | Y31: 0.052544025
C32: 25 | D32: はん用機械器具製造業 | E32: E25 | F32: t/十億円 | G32: 0.0090862903 | H32: 17.282905 | I32: 7.0995708 | J32: 0.58632122 | K32: 1.7455184 | L32: 4.5105237 | N32: 3.0553736 | R32: 0.0029363729 | S32: 4.0292361 | T32: 0.79326499 | U32: 0.7852223 | V32: 1.446041 | Y32: 0.045366796
C33: 26 | D33: 生産用機械器具製造業 | E33: E26 | F33: t/十億円 | G33: 0.0052394776 | H33: 2.6119169 | I33: 3.2104577 | J33: 0.51138127 | K33: 0.59230243 | L33: 1.9724624 | N33: 2.1183826 | R33: 0.00057022591 | S33: 2.7418678 | T33: 0.30589182 | U33: 0.8126189 | V33: 0.071580426 | Y33: 0.00052653852
C34: 27 | D34: 業務用機械器具製造業 | E34: E27 | F34: t/十億円 | G34: 0.004140301 | H34: 22.407043 | I34: 3.5985248 | J34: 0.33560243 | K34: 3.3333216 | L34: 8.472928 | N34: 1.4852426 | R34: 4.0710407e-05 | S34: 2.089803 | T34: 0.42650635 | U34: 0.0059298932 | V34: 0.23936986 | Y34: 6.1806306e-05
C35: 28 | D35: 電子部品・デバイス・電子回路製造業 | E35: E28 | F35: t/十億円 | G35: 0.0025638298 | H35: 47.223988 | I35: 2.3721753 | J35: 7.5775752 | K35: 9.4994169 | L35: 4.572365 | N35: 0.34601059 | R35: 0.00036247531 | S35: 0.91948804 | T35: 0.60114729 | U35: 0.00021839285 | V35: 0.1675227 | Y35: 0.00021804871
C36: 29 | D36: 電気機械器具製造業 | E36: E29 | F36: t/十億円 | G36: 0.00048684742 | H36: 5.5468893 | I36: 0.95790812 | J36: 0.92522874 | K36: 1.5961289 | L36: 3.1256591 | N36: 1.2942133 | R36: 0.0013291921 | S36: 2.8396812 | T36: 0.60842915 | U36: 0.025791304 | V36: 0.15812632 | Y36: 0.0032037897
C37: 30 | D37: 情報通信機械器具製造業 | E37: E30 | F37: t/十億円 | G37: 0 | H37: 2.9986923 | I37: 1.0907007 | J37: 0.60094837 | K37: 16.842217 | L37: 6.534593 | N37: 0.64236113 | R37: 0 | S37: 2.0567434 | T37: 0.12100489 | U37: 0.0012008376 | V37: 0.0059235198 | Y37: 0
... C39: 32 | D39: その他の製造業 | E39: E32 | F39: t/十億円 | G39: 2.6984136 | H39: 44.825082 | I39: 11.469982 | J39: 2.6202314 | K39: 3.9742827 | L39: 36.690259 | N39: 5.2845054 | R39: 0.0072893965 | S39: 4.4815149 | T39: 13.902752 | U39: 3.5208166 | V39: 4.6900373 | Y39: 1.8759145
D40: 電気・ガス・熱供給・水道業大分類 | E40: F
B41: 電気･ガス | C41: 33 | D41: 電気業 | E41: F33 | F41: t/千人 | G41: 11052.38 | H41: 2157.2135 | I41: 11.507602 | J41: 2.3825058 | K41: 36.840047 | L41: 48.757319 | N41: 7.0764767 | R41: 0 | S41: 29.788687 | T41: 211.08052 | U41: 486.68452 | V41: 313.36164 | Y41: 57295.574
B42: ･熱供給･ | C42: 34 | D42: ガス業 | E42: F34 | F42: t/千人 | G42: 0 | H42: 29.308457 | I42: 2.7026322 | J42: 0 | K42: 0.038890329 | L42: 25.319879 | N42: 4.5544539 | R42: 0 | S42: 38.65388 | T42: 25.920919 | U42: 0 | V42: 29.678895 | Y42: 0
B43: 水道業 | C43: 35 | D43: 熱供給業 | E43: F35 | F43: t/千人 | G43: 5577.9487 | H43: 35560.513 | I43: 0 | J43: 0 | K43: 0 | L43: 102.5641 | N43: 0 | R43: 0 | S43: 0 | T43: 0 | U43: 0 | V43: 0 | Y43: 23028.205
C44: 36 | D44: 上水道業 | E44: F361 | F44: t/千人 | G44: 0 | H44: 36.453625 | I44: 0.00016191794 | J44: 0.00065905716 | K44: 0.49701461 | L44: 0.0075969229 | N44: 0.00073715101 | R44: 0 | S44: 0.0039857623 | T44: 0.00077704846 | U44: 0 | V44: 0.23434679 | Y44: 0
C45: 37 | D45: 下水道業 | E45: F363 | F45: t/千人 | G45: 0.026002561 | H45: 338.81193 | I45: 0.001702997 | J45: 0.0011241619 | K45: 0.00077402499 | L45: 0.0051773209 | N45: 0.0062407564 | R45: 0 | S45: 0.0034992093 | T45: 0.0084048965 | U45: 0 | V45: 0.0016578085 | Y45: 0.39825568
D46: 情報通信業大分類 | E46: G
C47: 38 | D47: 通信業 | E47: G37 | F47: t/千人 | G47: 0 | H47: 0 | I47: 0 | J47: 0 | K47: 0 | L47: 576.4411 | N47: 0 | R47: 0 | S47: 0 | T47: 288.22055 | U47: 0 | V47: 0 | Y47: 0
B48: 情報通信業 | C48: 39 | D48: 放送業 | E48: G38 | F48: t/千人 | G48: 0 | H48: 0 | I48: 0 | J48: 0 | K48: 0 | L48: 20.667727 | N48: 0 | R48: 0 | S48: 22.257552 | T48: 0 | U48: 0 | V48: 0 | Y48: 0
C49: 40 | D49: 情報サービス業 | E49: G39 | F49: t/千人 | G49: 0 | H49: 0 | I49: 0 | J49: 0 | K49: 0 | L49: 4.957039 | N49: 0 | R49: 0 | S49: 0 | T49: 0 | U49: 0 | V49: 0 | Y49: 0
C50: 41 | D50: インターネット付随サービス業 | E50: G40 | F50: t/千人
C51: 42 | D51: 映像・音声・文字情報制作業 | E51: G41 | F51: t/千人 | G51: 0 | H51: 0 | I51: 1.4974543 | J51: 0 | K51: 0 | L51: 2.9949087 | N51: 0 | R51: 0 | S51: 1.4974543 | T51: 0 | U51: 0 | V51: 0 | Y51: 0
D52: 運輸業，郵便業大分類 | E52: H
B53: 運輸業， | C53: 43 | D53: 鉄道業 | E53: H42 | F53: t/千人
B54: 郵便業 | C54: 44 | D54: 道路旅客運送業 | E54: H43 | F54: t/千人
C55: 45 | D55: 道路貨物運送業 | E55: H44 | F55: t/千人
C56: 46 | D56: 上記以外の運輸業，郵便業 | F56: t/千人
D57: 卸売業，小売業大分類 | E57: I
C58: 47 | D58: 各種商品卸売業 | E58: I50 | F58: t/千人
C59: 48 | D59: 木材・竹材卸売業 | E59: I5311 | F59: t/千人
C60: 49 | D60: 各種商品小売業 | E60: I56 | F60: t/千人
B61: 卸売業， | C61: 50 | D61: 自動車小売業 | E61: I591 | F61: t/千人
B62: 小売業 | C62: 51 | D62: 機械器具小売業 | E62: I593 | F62: t/千人
C63: 52 | D63: 家具・建具・畳小売業 | E63: I601 | F63: t/千人
C64: 53 | D64: じゅう器小売業 | E64: I602 | F64: t/千人
C65: 54 | D65: 燃料小売業 | E65: I605 | F65: t/千人
C66: 55 | D66: 上記以外の卸売業，小売業 | F66: t/千人
B67: 不動産業， | D67: 不動産業，物品賃貸業大分類 | E67: K
B68: 物品賃貸業 | C68: 56 | D68: 物品賃貸業 | E68: K70 | F68: t/千人 | G68: 0 | H68: 77.336158 | I68: 39.540291 | J68: 0 | K68: 0 | L68: 81.987956 | N68: 43.02914 | R68: 0 | S68: 18.025721 | T68: 9.8850728 | U68: 0 | V68: 219.7975 | Y68: 0
B69: 学術研究，専門 | D69: 学術研究，専門・技術サービス業大分類 | E69: L
B70: ・技術サービス業 | C70: 57 | D70: 学術・開発研究機関 | E70: L71 | F70: t/千人 | G70: 0 | H70: 337.1097 | I70: 11.052777 | J70: 165.79166 | K70: 0 | L70: 149.21249 | N70: 22.105554 | R70: 0 | S70: 44.211108 | T70: 0 | U70: 0 | V70: 0 | Y70: 0
C71: 58 | D71: 写真業 | E71: L746 | F71: t/千人 | G71: 0 | H71: 6.143773 | I71: 0 | J71: 540.65202 | K71: 297.97299 | L71: 9.2156595 | N71: 0 | R71: 0 | S71: 0 | T71: 3.0718865 | U71: 0 | V71: 0 | Y71: 0
B72: 宿泊業，飲食 | D72: 宿泊業，飲食サービス業大分類 | E72: M
B73: サービス業 | C73: 59 | D73: 飲食店 | E73: M76 | F73: t/千人
C74: 60 | D74: 上記以外の宿泊業，飲食サービス業 | F74: t/千人
B75: 生活関連サー | D75: 生活関連サービス業，娯楽業大分類 | E75: N
B76: ビス業，娯楽業 | C76: 61 | D76: 洗濯業 | E76: N781 | F76: t/千人 | G76: 0.45795933 | H76: 1.8318373 | I76: 1.8318373 | J76: 91.133907 | K76: 6.86939 | L76: 8.243268 | N76: 0 | R76: 0 | S76: 0.45795933 | T76: 0 | U76: 0 | V76: 0 | Y76: 0
B77: 教育，学習支援業 | C77: 62 | D77: 教育，学習支援業 | E77: O | F77: t/千人 | G77: 0.016595532 | H77: 37.615427 | I77: 0.49533165 | J77: 0.30251031 | K77: 0.14847622 | L77: 18.113198 | N77: 1.0938782 | R77: 0.0017516664 | S77: 11.240093 | T77: 2.9324732 | U77: 0.00011626104 | V77: 3.2154123 | Y77: 0
D78: 医療，福祉大分類 | E78: P
B79: 医療，福祉 | C79: 63 | D79: 医療業 | E79: P83 | F79: t/千床 | G79: 0 | H79: 3.0616224 | I79: 0.39459833 | J79: 0.28569485 | K79: 0.54418067 | L79: 27.325615 | N79: 0.10883613 | R79: 0 | S79: 4.3947977 | T79: 5.8273802 | U79: 0 | V79: 0 | Y79: 0
C80: 64 | D80: 上記以外の医療，福祉 | F80: t/千人 | G80: 0 | H80: 3.5791598 | I80: 0.73308092 | J80: 0 | K80: 0 | L80: 6.5330447 | N80: 0 | R80: 0 | S80: 2.220804 | T80: 0.73308092 | U80: 0 | V80: 0 | Y80: 0
B81: 教育、学習支援業 | C81: 65 | D81: 複合サービス事業 | E81: Q | F81: t/千人 | G81: 0.10419889 | H81: 64.950729 | I81: 1.7639018 | J81: 1.5333335 | K81: 0.78958378 | L81: 25.966344 | N81: 6.9379904 | R81: 0.00024826806 | S81: 13.40198 | T81: 2.8227977 | U81: 0.10594424 | V81: 5.4533116 | Y81: 0
D82: サービス業大分類 | E82: R
B83: サービス業 | C83: 66 | D83: 自動車整備業 | E83: R891 | F83: t/千人
C84: 67 | D84: と畜場 | E84: R952 | F84: t/千頭
C85: 68 | D85: 上記以外のサービス業 | F85: t/千人
B86: 公務 | C86: 69 | D86: 公務 | E86: Ｓ | F86: t/千人 | G86: 0.0013023917 | H86: 19.487349 | I86: 0.82934437 | J86: 0.079701834 | K86: 0.60319242 | L86: 7.5820705 | N86: 1.9050059 | R86: 0 | S86: 8.3368504 | T86: 5.9669381 | U86: 0 | V86: 7.8458496 | Y86: 11.582666
B87: ※空欄は該当値が無いものを示している。

Sheet 表Ⅲ・8
B1: 表－Ⅲ・８ 令和４年度実績値 業種別・種類別活動量指標合計（有回答）一覧表
D3: 全国 | F3: 令和４年度
B4: 大分類 | C4: 番号 | D4: 産業分類 | E4: コード | F4: 単位 | G4: 燃え殻 | H4: 汚 泥 | I4: 廃 油 | J4: 廃 酸 | K4: 廃アルカリ | L4: 廃プラス チック類 | M4: 紙くず | N4: 木くず | O4: 繊維くず | P4: 動植物性 残 渣 | Q4: 動物系固形不要物 | R4: ゴムくず | S4: 金属くず | T4: ガラスくず及び 陶磁器くず | U4: 鉱さい | V4: がれき類 | W4: 動物の ふん尿 | X4: 動物の死体 | Y4: ばいじん | Z4: 合 計
D5: 農業，林業大分類 | E5: A
C6: 1 | D6: 耕種農業 | E6: A011 | F6: 千a | L6: 77.0004
B7: 農業，林業 | C7: 2 | D7: 畜産農業 | E7: A012 | F7: 頭羽 | H7: 6588.94 | I7: 6588.94 | J7: 6588.94 | K7: 6588.94 | L7: 10211.71 | S7: 6588.94 | T7: 6588.94 | W7: 54602.83 | X7: 54602.83
C8: 3 | D8: 林業 | E8: A02 | F8: 千人 | G8: 1.2084 | I8: 2.0974 | L8: 4.9022 | N8: 2.8048 | S8: 3.6938 | T8: 3.3058
C9: 4 | D9: 上記以外の農業，林業
D10: 漁業大分類 | E10: B
B11: 漁 業 | C11: 5 | D11: 漁業 | E11: B03 | F11: 千人 | H11: 0.3458 | L11: 0.3458
C12: 6 | D12: 水産養殖業 | E12: B04 | F12: 千人
B13: 鉱 業 | C13: 7 | D13: 鉱業，採石業，砂利採取業 | E13: C | F13: 千人 | G13: 0.4344 | H13: 5.011 | I13: 5.9328 | J13: 0.1444 | K13: 0.368 | L13: 6.481 | N13: 3.01 | R13: 0.418 | S13: 5.5628 | T13: 3.7252 | U13: 0.1444 | V13: 2.4368 | Y13: 0.1444
B14: 建設業 | C14: 8 | D14: 建設業 | E14: D | F14: 十億円 | G14: 40893.036 | H14: 41188.856 | I14: 41188.856 | J14: 35472.257 | K14: 36476.144 | L14: 41188.856 | M14: 41188.856 | N14: 41188.856 | O14: 39738.957 | R14: 29818.456 | S14: 41188.856 | T14: 41188.856 | U14: 32456.617 | V14: 41188.856 | Y14: 22996.586
D15: 製造業大分類 | E15: E
C16: 9 | D16: 食料品製造業 | E16: E09 | F16: 十億円 | G16: 12810.392 | H16: 14136.319 | I16: 14136.319 | J16: 14025.465 | K16: 12803.466 | L16: 14136.319 | N16: 11148.64 | P16: 14136.319 | Q16: 7184.169 | R16: 4654.771 | S16: 14025.465 | T16: 14136.319 | V16: 8450.461 | Y16: 6003.108
C17: 10 | D17: 飲料・たばこ・飼料製造業 | E17: E10 | F17: 十億円 | G17: 3513.959 | H17: 5404.537 | I17: 3940.724 | J17: 4351.668 | K17: 4447.094 | L17: 5404.537 | N17: 4645.917 | P17: 5404.537 | R17: 1639.334 | S17: 5331.711 | T17: 5377.311 | V17: 503.78 | Y17: 437.25
C18: 11 | D18: 繊維工業 | E18: E11 | F18: 十億円 | G18: 1281.928 | H18: 1868.143 | I18: 1758.633 | J18: 1574.214 | K18: 1125.042 | L18: 1911.935 | N18: 1662.206 | O18: 1473.789 | R18: 252.331 | S18: 1851.182 | T18: 1704.488 | V18: 650.864 | Y18: 542.969
C19: 12 | D19: 木材・木製品製造業 | E19: E12 | F19: 十億円 | G19: 1527.801 | H19: 1489.755 | I19: 1485.538 | J19: 336.936 | K19: 719.496 | L19: 1862.276 | N19: 1862.276 | R19: 188.808 | S19: 1701.433 | T19: 1613.875 | V19: 989.024 | Y19: 1117.207
C20: 13 | D20: 家具・装備品製造業 | E20: E13 | F20: 十億円 | G20: 442.635 | H20: 817.813 | I20: 907.346 | J20: 170.959 | K20: 205.286 | L20: 930.867 | N20: 936.643 | R20: 192.537 | S20: 735.291 | T20: 920.893 | U20: 38.237 | V20: 362.92
C21: 14 | D21: パルプ・紙・紙加工品製造業 | E21: E14 | F21: 十億円 | G21: 3427.627 | H21: 3838.785 | I21: 3739.09 | J21: 3284.9 | K21: 3464.795 | L21: 3838.785 | M21: 3757.829 | N21: 3838.785 | R21: 274.083 | S21: 3796.142 | T21: 3667.775 | U21: 895.454 | V21: 1989.197 | Y21: 2856.587
C22: 15 | D22: 印刷・同関連業 | E22: E15 | F22: 十億円 | G22: 1170.536 | H22: 2031.957 | I22: 2118.189 | J22: 2058.589 | K22: 2051.791 | L22: 2138.995 | M22: 2114.042 | N22: 1877.461 | R22: 977.611 | S22: 1906.442 | T22: 1815.182 | U22: 49.975 | V22: 1032.794 | Y22: 160.448
C23: 16 | D23: 化学工業 | E23: E16 | F23: 十億円 | G23: 16551.047 | H23: 16578.203 | I23: 16578.203 | J23: 16577.6 | K23: 16569.519 | L23: 16586.284 | N23: 13915.922 | P23: 14421.59 | R23: 4136.814 | S23: 16578.203 | T23: 16577.6 | U23: 8169.365 | V23: 12898.997 | Y23: 11822.433
C24: 17 | D24: 石油製品・石炭製品製造業 | E24: E17 | F24: 十億円 | G24: 7205.011 | H24: 8666.44 | I24: 8698.884 | J24: 8586.059 | K24: 8559.324 | L24: 8699.622 | N24: 8608.504 | S24: 8675.386 | T24: 8654.381 | U24: 1052.149 | V24: 6008.849 | Y24: 7120.674
B25: 製造業 | C25: 18 | D25: プラスチック製品製造業 | E25: E18 | F25: 十億円 | G25: 3476.629 | H25: 7095.306 | I25: 7216.496 | J25: 6850.096 | K25: 6800.731 | L25: 7216.496 | N25: 6823.372 | R25: 3206.855 | S25: 7169.663 | T25: 7076.033 | U25: 1345.125 | V25: 3776.208 | Y25: 2553.131
C26: 19 | D26: ゴム製品製造業 | E26: E19 | F26: 十億円 | G26: 1259.419 | H26: 2365.332 | I26: 2417.895 | J26: 1623.18 | K26: 2246.013 | L26: 2422.164 | N26: 1967.641 | R26: 2013.892 | S26: 2257.872 | T26: 2194.047 | V26: 703.04 | Y26: 558.25
C27: 20 | D27: なめし革・同製品・毛皮製造業 | E27: E20 | F27: 十億円 | H27: 18.425457 | I27: 11.544457 | K27: 22.529 | L27: 50.841457 | N27: 48.398 | R27: 14.074 | S27: 16.332 | T27: 4.602
C28: 21 | D28: 窯業・土石製品製造業 | E28: E21 | F28: 十億円 | G28: 3613.225 | H28: 4212.532 | I28: 4148.534 | J28: 3658.152 | K28: 3916.19 | L28: 4212.532 | N28: 3851.535 | R28: 2197.389 | S28: 4124.282 | T28: 4212.532 | U28: 3014.713 | V28: 3701.514 | Y28: 3666.94
C29: 22 | D29: 鉄鋼業 | E29: E22 | F29: 十億円 | G29: 8205.665 | H29: 10841.517 | I29: 10912.057 | J29: 9924.4 | K29: 9953.704 | L29: 10878.236 | N29: 10781.098 | R29: 1957.445 | S29: 10878.236 | T29: 9968.953 | U29: 10880.704 | V29: 9587.195 | Y29: 10249.971
C30: 23 | D30: 非鉄金属製造業 | E30: E23 | F30: 十億円 | G30: 4064.581 | H30: 6495.7213 | I30: 6554.2513 | J30: 5436.7963 | K30: 5436.7963 | L30: 6568.1363 | N30: 6460.1293 | R30: 2107.074 | S30: 6554.2513 | T30: 6549.917 | U30: 5343.474 | V30: 4945.1383 | Y30: 5324.827
C31: 24 | D31: 金属製品製造業 | E31: E24 | F31: 十億円 | G31: 5885.326 | H31: 7561.345 | I31: 7561.345 | J31: 7510.835 | K31: 7510.835 | L31: 7561.345 | N31: 7369.18 | R31: 1818.837 | S31: 7561.345 | T31: 7561.345 | U31: 6444.073 | V31: 5685.942 | Y31: 4726.183
C32: 25 | D32: はん用機械器具製造業 | E32: E25 | F32: 十億円 | G32: 3270.1 | H32: 5946.265 | I32: 5963.426 | J32: 5573.67 | K32: 5927.26 | L32: 5969.196 | N32: 5387.86 | R32: 2597.721 | S32: 5969.196 | T32: 5942.974 | U32: 4611.959 | V32: 4889.958 | Y32: 3121.357
C33: 26 | D33: 生産用機械器具製造業 | E33: E26 | F33: 十億円 | G33: 6746.001 | H33: 11646.48 | I33: 11202.176 | J33: 11170.794 | K33: 11170.794 | L33: 11510.965 | N33: 11439.727 | R33: 6048.008 | S33: 11411.416 | T33: 11383.382 | U33: 8652.331 | V33: 6315.54 | Y33: 3274.165
C34: 27 | D34: 業務用機械器具製造業 | E34: E27 | F34: 十億円 | G34: 926.348 | H34: 3627.949 | I34: 3634.562 | J34: 3577.654 | K34: 3618.83 | L34: 3637.608 | N34: 3220.79 | R34: 120.549 | S34: 3637.608 | T34: 3635.138 | U34: 789.579 | V34: 1709.484 | Y34: 495.494
C35: 28 | D35: 電子部品・デバイス・電子回路製造業 | E35: E28 | F35: 十億円 | G35: 1954.204 | H35: 9172.2623 | I35: 9172.2623 | J35: 9154.653 | K35: 9154.653 | L35: 9172.2623 | N35: 8003.6373 | R35: 699.56 | S35: 9172.2623 | T35: 9172.2623 | U35: 913.541 | V35: 3624.2253 | Y35: 513.04
C36: 29 | D36: 電気機械器具製造業 | E36: E29 | F36: 十億円 | G36: 5361.902 | H36: 12439.439 | I36: 12448.612 | J36: 12146.923 | K36: 12225.601 | L36: 12448.612 | N36: 12276.212 | R36: 9019.194 | S36: 12448.612 | T36: 12406.803 | U36: 7824.224 | V36: 7835.299 | Y36: 2856.4
C37: 30 | D37: 情報通信機械器具製造業 | E37: E30 | F37: 十億円 | H37: 2623.545 | I37: 2707.334 | J37: 2344.747 | K37: 2671.284 | L37: 2707.334 | N37: 2233.22 | S37: 2722.991 | T37: 2675.34 | U37: 7.193 | V37: 828.156
C38: 31 | D38: 輸送用機械器具製造業 | E38: E31 | F38: 十億円 | G38: 48094.929 | H38: 52039.225 | I38: 52062.295 | J38: 51751.075 | K38: 51847.717 | L38: 52062.295 | N38: 51374.458 | R38: 38309.487 | S38: 52047.615 | T38: 52039.225 | U38: 47972.121 | V38: 50098.128 | Y38: 45825.54
C39: 32 | D39: その他の製造業 | E39: E32 | F39: 十億円 | G39: 1017.989 | H39: 1812.729 | I39: 1714.797 | J39: 1638.428 | K39: 1690.89 | L39: 1880.473 | N39: 1577.491 | R39: 461.321 | S39: 1867.594 | T39: 1806.749 | U39: 525.149 | V39: 1253.187 | Y39: 393.949
D40: 電気・ガス・熱供給・水道業大分類 | E40: F
B41: 電気･ガス | C41: 33 | D41: 電気業 | E41: F33 | F41: 千人 | G41: 39.6128 | H41: 46.6942 | I41: 42.6928 | J41: 23.7616 | K41: 38.4986 | L41: 47.0154 | N41: 27.602 | S41: 46.6942 | T41: 43.858 | U41: 22.5074 | V41: 32.5722 | Y41: 37.686
B42: ･熱供給･ | C42: 34 | D42: ガス業 | E42: F34 | F42: 千人 | H42: 7.2938 | I42: 6.0836 | K42: 0.6122 | L42: 9.2246 | N42: 5.5924 | S42: 8.5876 | T42: 7.0346 | V42: 6.9466
B43: 水道業 | C43: 35 | D43: 熱供給業 | E43: F35 | F43: 千人 | G43: 0.0092 | H43: 0.0298 | L43: 0.0298 | Y43: 0.0298
C44: 36 | D44: 上水道業 | E44: F361 | F44: 千人 | H44: 39396.567 | I44: 34122.234 | J44: 35923.005 | K44: 31096.929 | L44: 37442.79 | N44: 22316.97 | S44: 34638.295 | T44: 30241.129 | V44: 22218.424
C45: 37 | D45: 下水道業 | E45: F363 | F45: 千人 | G45: 18780 | H45: 29615 | I45: 24452 | J45: 15960 | K45: 14525 | L45: 26723 | N45: 4353 | S45: 20379 | T45: 11328 | V45: 9213 | Y45: 13638
D46: 情報通信業大分類 | E46: G
C47: 38 | D47: 通信業 | E47: G37 | F47: 千人 | L47: 0.0266 | T47: 0.0266
B48: 情報通信業 | C48: 39 | D48: 放送業 | E48: G38 | F48: 千人 | L48: 0.629 | S48: 0.629
C49: 40 | D49: 情報サービス業 | E49: G39 | F49: 千人 | L49: 1.8156
C50: 41 | D50: インターネット付随サービス業 | E50: G40 | F50: 千人
C51: 42 | D51: 映像・音声・文字情報制作業 | E51: G41 | F51: 千人 | I51: 0.6678 | L51: 0.6678 | M51: 0.6678 | S51: 0.6678
D52: 運輸業，郵便業大分類 | E52: H
B53: 運輸業， | C53: 43 | D53: 鉄道業 | E53: H42 | F53: 千人 | G53: 2.33 | H53: 2.33 | I53: 2.33 | J53: 2.33 | L53: 2.33 | N53: 2.33 | S53: 2.33 | T53: 2.33 | V53: 2.33
B54: 郵便業 | C54: 44 | D54: 道路旅客運送業 | E54: H43 | F54: 千人 | H54: 2.7438 | I54: 2.7438 | K54: 2.7438 | L54: 2.7438 | S54: 2.7438 | T54: 2.7438
C55: 45 | D55: 道路貨物運送業 | E55: H44 | F55: 千人 | H55: 10.7422 | I55: 10.7422 | K55: 10.7422 | L55: 10.7422 | N55: 10.7422 | S55: 10.7422 | T55: 10.7422
C56: 46 | D56: 上記以外の運輸業，郵便業 | F56: 千人
D57: 卸売業，小売業大分類 | E57: I
C58: 47 | D58: 各種商品卸売業 | E58: I50 | F58: 千人 | H58: 0.1972 | I58: 0.1972 | L58: 0.1972 | N58: 0.1972 | S58: 0.1972 | T58: 0.1972 | V58: 0.1972
C59: 48 | D59: 木材・竹材卸売業 | E59: I5311 | F59: 千人
C60: 49 | D60: 各種商品小売業 | E60: I56 | F60: 千人 | H60: 1.4574 | I60: 1.4574 | K60: 1.4574 | L60: 1.4574 | N60: 1.4574 | S60: 1.4574
B61: 卸売業， | C61: 50 | D61: 自動車小売業 | E61: I591 | F61: 千人 | H61: 5.8684 | I61: 5.8684 | K61: 5.8684 | L61: 5.8684 | S61: 5.8684 | T61: 5.8684
B62: 小売業 | C62: 51 | D62: 機械器具小売業 | E62: I593 | F62: 千人 | H62: 1.9494 | I62: 1.9494 | J62: 1.9494 | K62: 1.9494 | L62: 1.9494 | S62: 1.9494 | T62: 1.9494 | V62: 1.9494
C63: 52 | D63: 家具・建具・畳小売業 | E63: I601 | F63: 千人 | L63: 0.6294 | N63: 0.6294 | R63: 0.6294 | S63: 0.6294 | T63: 0.6294 | V63: 0.6294
C64: 53 | D64: じゅう器小売業 | E64: I602 | F64: 千人 | L64: 0.3606
C65: 54 | D65: 燃料小売業 | E65: I605 | F65: 千人 | H65: 4.2774 | I65: 4.2774 | K65: 4.2774 | L65: 4.2774 | S65: 4.2774 | T65: 4.2774 | V65: 4.2774
C66: 55 | D66: 上記以外の卸売業，小売業 | F66: 千人
B67: 不動産業， | D67: 不動産業，物品賃貸業大分類 | E67: K
B68: 物品賃貸業 | C68: 56 | D68: 物品賃貸業 | E68: K70 | F68: 千人 | H68: 1.9138 | I68: 1.9138 | L68: 1.9138 | N68: 1.9138 | S68: 1.9138 | T68: 1.9138 | V68: 1.9138
B69: 学術研究，専門 | D69: 学術研究，専門・技術サービス業大分類 | E69: L
B70: ・技術サービス業 | C70: 57 | D70: 学術・開発研究機関 | E70: L71 | F70: 千人 | H70: 0.1974 | I70: 0.1974 | J70: 0.1974 | L70: 0.1974 | N70: 0.1974 | S70: 0.1974
C71: 58 | D71: 写真業 | E71: L746 | F71: 千人 | H71: 0.3302 | J71: 0.3302 | K71: 0.3302 | L71: 0.3302 | T71: 0.3302
B72: 宿泊業，飲食 | D72: 宿泊業，飲食サービス業大分類 | E72: M
B73: サービス業 | C73: 59 | D73: 飲食店 | E73: M76 | F73: 千人
C74: 60 | D74: 上記以外の宿泊業，飲食サービス業 | F74: 千人
B75: 生活関連サー | D75: 生活関連サービス業，娯楽業大分類 | E75: N
B76: ビス業，娯楽業 | C76: 61 | D76: 洗濯業 | E76: N781 | F76: 千人 | G76: 2.1836 | H76: 2.1836 | I76: 2.1836 | J76: 2.1836 | K76: 2.1836 | L76: 2.1836 | S76: 2.1836
B77: 教育，学習支援業 | C77: 62 | D77: 教育，学習支援業 | E77: O | F77: 千人 | G77: 176.1 | H77: 1290.2 | I77: 864.1 | J77: 864.1 | K77: 816.7 | L77: 1290.2 | N77: 527.1 | R77: 66.4 | S77: 1290.2 | T77: 1290.2 | U77: 31.1 | V77: 928.3
D78: 医療，福祉大分類 | E78: P
B79: 医療，福祉 | C79: 63 | D79: 医療業 | E79: P83 | F79: 千床 | G79: 36.037 | H79: 73.505 | I79: 73.505 | J79: 58.821 | K79: 58.821 | L79: 73.505 | N79: 22.784 | S79: 73.505 | T79: 73.505
C80: 64 | D80: 上記以外の医療，福祉 | F80: 千人 | H80: 46.3796 | I80: 46.3796 | L80: 46.3796 | S80: 46.3796 | T80: 46.3796
B81: 教育、学習支援業 | C81: 65 | D81: 複合サービス事業 | E81: Q | F81: 人 | G81: 26.288 | H81: 83.0956 | I81: 86.5072 | J81: 75.4222 | K81: 64.7054 | L81: 98.3526 | N81: 51.2754 | R81: 22.5406 | S81: 98.3526 | T81: 87.4042 | U81: 4.1192 | V81: 54.426
D82: サービス業大分類 | E82: R
B83: サービス業 | C83: 66 | D83: 自動車整備業 | E83: R891 | F83: 千人 | H83: 2.2996 | I83: 2.2996 | K83: 2.2996 | L83: 2.2996 | S83: 2.2996 | T83: 2.2996
C84: 67 | D84: と畜場 | E84: R952 | F84: 千人
C85: 68 | D85: 上記以外のサービス業 | F85: 千人 | H85: 36.675 | I85: 36.675 | J85: 36.675 | K85: 36.675 | L85: 36.675 | S85: 36.675 | T85: 36.675
B86: 公務 | C86: 69 | D86: 公務 | E86: Ｓ | F86: 千人 | G86: 85.9 | H86: 422.3 | I86: 422.3 | J86: 371.6 | K86: 401.2 | L86: 422.3 | N86: 190.7 | S86: 422.3 | T86: 422.3 | V86: 239.7 | Y86: 60.2
D87: 合計

Sheet 表Ⅲ・9
B1: 表―Ⅲ・９ 産業廃棄物排出・処理状況一覧表（令和４年度実施値）
L2: （単位：千ｔ/年）
B3: 廃棄物名 | C3: 排出量 | D3: 直接再生利用量 | E3: 直接最終処分量 | F3: 中間処理 | J3: 再生利用量 計 | K3: 減量化量 | L3: 最終処分量 計 | AF3: 旧
F4: 中間処理量 | G4: 処理残渣量 | H4: 中間処理後 再生利用量 | I4: 中間処理後 最終処分量 | AF4: 廃棄物名 | AG4: 排出量 | AH4: 直接再生利用量 | AI4: 直接最終処分量 | AJ4: 中間処理 | AN4: 再生利用量 計 | AO4: 減量化量 | AP4: 最終処分量 計 | AQ4: 廃棄物名 | AR4: 排出量 | AS4: 直接再生利用量 | AT4: 直接最終処分量 | AU4: 中間処理 | AY4: 再生利用量 計 | AZ4: 減量化量 | BA4: 最終処分量 計
C5: （Ａ） | D5: （Ｂ） | E5: （Ｃ） | F5: （Ｄ） | G5: （Ｅ） | H5: （Ｆ） | I5: （Ｇ） | J5: （Ｂ）＋（Ｆ） | K5: （Ｄ）－（Ｅ） | L5: （Ｃ）＋（Ｇ） | AJ5: 中間処理量 | AK5: 処理残渣量 | AL5: 中間処理後 再生利用量 | AM5: 中間処理後 最終処分量 | AU5: 中間処理量 | AV5: 処理残渣量 | AW5: 中間処理後 再生利用量 | AX5: 中間処理後 最終処分量
B6: 燃 え 殻 | C6: =P8 -> 2234.6213 | D6: =Q8 -> 177.82418 | E6: =R8 -> 529.52712 | F6: =S8 -> 1527.27 | G6: =T8 -> 1412.5743 | H6: =U8 -> 1362.0088 | I6: =V8 -> 50.565525 | J6: =W8 -> 1539.8329 | ... L6: =Y8 -> 580.09265 | P6: 排出量(補正後） | Q6: 直接再生利用量 | R6: 直接最終処分量 | S6: 中間処理量 | T6: 処理残渣量 | U6: 処理後再生利用量 | V6: 処理後最終処分量 | W6: 再生利用量合計 | X6: 減量化量 | Y6: 最終処分量合計 | AG6: （Ａ） | AH6: （Ｂ） | AI6: （Ｃ） | AJ6: （Ｄ） | AK6: （Ｅ） | AL6: （Ｆ） | AM6: （Ｇ） | AN6: （Ｂ）＋（Ｆ） | AO6: （Ｄ）－（Ｅ） | AP6: （Ｃ）＋（Ｇ） | AR6: （Ａ） | AS6: （Ｂ） | AT6: （Ｃ） | AU6: （Ｄ） | AV6: （Ｅ） | AW6: （Ｆ） | AX6: （Ｇ） | AY6: （Ｂ）＋（Ｆ） | AZ6: （Ｄ）－（Ｅ） | BA6: （Ｃ）＋（Ｇ）
B7: 構成比 | D7: =D6/$C6 -> 0.079576877 | E7: =E6/$C6 -> 0.23696504 | F7: =F6/$C6 -> 0.68345808 | G7: =G6/$C6 -> 0.63213141 | H7: =H6/$C6 -> 0.60950318 | I7: =I6/$C6 -> 0.022628231 | J7: =J6/$C6 -> 0.68908006 | K7: =K6/$C6 -> 0.05132667 | L7: =L6/$C6 -> 0.25959327 | O7: 廃 棄 物 名 | P7: ④+⑧+⑨ | Q7: ①：（8） | R7: ②：(11)+(14：ハ） | S7: ③：(4)+(13：ｲ) | T7: ⑤：(6)+(15) | U7: ⑥：（9）+（17） | V7: ⑦：(10)+(14：ﾆ)+(18) | W7: ⑧：(8)+(9)+(17) | X7: ④:(7)+(16) | Y7: ⑨：(11)+(14：ハ）+(10)+(14：ﾆ)+(18) | AF7: 燃 え 殻 | AG7: 1875.8421 | AH7: 28.524957 | AI7: 432.23778 | AJ7: 1415.0794 | AK7: 1167.4382 | AL7: 1102.0798 | AM7: 65.358305 | AN7: 1130.6048 | AO7: 247.64124 | AP7: 497.59609 | AQ7: 燃 え 殻 | AR7: =C6-AG7 -> 358.77913 | AS7: =D6-AH7 -> 149.29922 | AT7: =E6-AI7 -> 97.28934 | AU7: =F6-AJ7 -> 112.19057 | AV7: =G6-AK7 -> 245.13614 | AW7: =H6-AL7 -> 259.92892 | AX7: =I6-AM7 -> -14.79278 | AY7: =J6-AN7 -> 409.22815 | ... BA7: =L6-AP7 -> 82.49656
B8: 汚 泥 | C8: =P9 -> 158317.41 | D8: =Q9 -> 623.08355 | E8: =R9 -> 411.47966 | F8: =S9 -> 157282.85 | G8: =T9 -> 11668.245 | H8: =U9 -> 10672.846 | I8: =V9 -> 995.39861 | J8: =W9 -> 11295.93 | ... L8: =Y9 -> 1406.8783 | O8: 燃 え 殻 | P8: =Y37 -> 2234.6213 | Q8: =P37 -> 177.82418 | R8: =Q37 -> 529.52712 | S8: =R37 -> 1527.27 | T8: =T37 -> 1412.5743 | U8: =U37 -> 1362.0088 | V8: =V37 -> 50.565525 | W8: =W37 -> 1539.8329 | X8: =S37 -> 114.69567 | Y8: =X37 -> 580.09265 | AF8: 構成比 | AH8: =AH7/$AG7 -> 0.015206481 | AI8: =AI7/$AG7 -> 0.23042333 | AJ8: =AJ7/$AG7 -> 0.75437019 | AK8: =AK7/$AG7 -> 0.62235416 | AL8: =AL7/$AG7 -> 0.58751204 | AM8: =AM7/$AG7 -> 0.034842114 | AN8: =AN7/$AG7 -> 0.60271852 | AO8: =AO7/$AG7 -> 0.13201604 | AP8: =AP7/$AG7 -> 0.26526544 | AQ8: 構成比 | AR8: =C7-AG8 -> 0 | AS8: =D7-AH8 -> 0.064370396 | AT8: =E7-AI8 -> 0.0065417165 | AU8: =F7-AJ8 -> -0.070912112 | AV8: =G7-AK8 -> 0.0097772531 | AW8: =H7-AL8 -> 0.021991136 | AX8: =I7-AM8 -> -0.012213883 | AY8: =J7-AN8 -> 0.086361532 | ... BA8: =L7-AP8 -> -0.0056721668
B9: 構成比 | D9: =D8/$C8 -> 0.0039356603 | E9: =E8/$C8 -> 0.0025990803 | F9: =F8/$C8 -> 0.99346526 | G9: =G8/$C8 -> 0.073701591 | H9: =H8/$C8 -> 0.06741423 | I9: =I8/$C8 -> 0.0062873603 | J9: =J8/$C8 -> 0.071349891 | K9: =K8/$C8 -> 0.91976367 | L9: =L8/$C8 -> 0.0088864406 | O9: 汚 泥 | P9: =Y38 -> 158317.41 | Q9: =P38 -> 623.08355 | R9: =Q38 -> 411.47966 | S9: =R38 -> 157282.85 | T9: =T38 -> 11668.245 | U9: =U38 -> 10672.846 | V9: =V38 -> 995.39861 | W9: =W38 -> 11295.93 | X9: =S38 -> 145614.6 | Y9: =X38 -> 1406.8783 | AF9: 汚 泥 | AG9: 170694.97 | AH9: 612.30416 | AI9: 642.76604 | AJ9: 169439.9 | AK9: 12970.286 | AL9: 11430.709 | AM9: 1539.5772 | AN9: 12043.013 | AO9: 156469.61 | AP9: 2182.3433 | AQ9: 汚 泥 | AR9: =C8-AG9 -> -12377.557 | AS9: =D8-AH9 -> 10.779395 | AT9: =E8-AI9 -> -231.28638 | AU9: =F8-AJ9 -> -12157.05 | AV9: =G8-AK9 -> -1302.0408 | AW9: =H8-AL9 -> -757.8622 | AX9: =I8-AM9 -> -544.17862 | AY9: =J8-AN9 -> -747.08281 | ... BA9: =L8-AP9 -> -775.46499
B10: 廃 油 | C10: =P10 -> 2953.1491 | D10: =Q10 -> 220.152 | E10: =R10 -> 1.7107364 | F10: =S10 -> 2731.2863 | G10: =T10 -> 1147.5078 | H10: =U10 -> 1102.0569 | I10: =V10 -> 45.45087 | J10: =W10 -> 1322.2089 | ... L10: =Y10 -> 47.161606 | O10: 廃 油 | P10: =Y39 -> 2953.1491 | Q10: =P39 -> 220.152 | R10: =Q39 -> 1.7107364 | S10: =R39 -> 2731.2863 | T10: =T39 -> 1147.5078 | U10: =U39 -> 1102.0569 | V10: =V39 -> 45.45087 | W10: =W39 -> 1322.2089 | X10: =S39 -> 1583.7785 | Y10: =X39 -> 47.161606 | AF10: 構成比 | AH10: =AH9/$AG9 -> 0.0035871248 | AI10: =AI9/$AG9 -> 0.0037655828 | AJ10: =AJ9/$AG9 -> 0.99264729 | AK10: =AK9/$AG9 -> 0.075985168 | AL10: =AL9/$AG9 -> 0.066965703 | AM10: =AM9/$AG9 -> 0.0090194646 | AN10: =AN9/$AG9 -> 0.070552828 | AO10: =AO9/$AG9 -> 0.91666212 | AP10: =AP9/$AG9 -> 0.012785047 | AQ10: 構成比 | AR10: =C9-AG10 -> 0 | AS10: =D9-AH10 -> 0.0003485355 | AT10: =E9-AI10 -> -0.0011665025 | AU10: =F9-AJ10 -> 0.00081796702 | AV10: =G9-AK10 -> -0.0022835773 | AW10: =H9-AL10 -> 0.00044852695 | AX10: =I9-AM10 -> -0.0027321043 | AY10: =J9-AN10 -> 0.00079706245 | ... BA10: =L9-AP10 -> -0.0038986068
B11: 構成比 | D11: =D10/$C10 -> 0.074548218 | E11: =E10/$C10 -> 0.00057929226 | F11: =F10/$C10 -> 0.92487249 | G11: =G10/$C10 -> 0.3885709 | H11: =H10/$C10 -> 0.37318025 | I11: =I10/$C10 -> 0.015390645 | J11: =J10/$C10 -> 0.44772847 | K11: =K10/$C10 -> 0.53630159 | L11: =L10/$C10 -> 0.015969938 | O11: 廃 酸 | P11: =Y40 -> 3047.2503 | Q11: =P40 -> 67.50267 | R11: =Q40 -> 0.26293442 | S11: =R40 -> 2979.4847 | T11: =T40 -> 945.22061 | U11: =U40 -> 890.73879 | V11: =V40 -> 54.481825 | W11: =W40 -> 958.24146 | X11: =S40 -> 2034.2641 | Y11: =X40 -> 54.744759 | AF11: 廃 油 | AG11: 2868.6461 | AH11: 238.08755 | AI11: 0 | AJ11: 2630.5585 | AK11: 963.26874 | AL11: 915.67695 | AM11: 47.591789 | AN11: 1153.7645 | AO11: 1667.2898 | AP11: 47.591789 | AQ11: 廃 油 | AR11: =C10-AG11 -> 84.502975 | AS11: =D10-AH11 -> -17.935551 | AT11: =E10-AI11 -> 1.7107364 | AU11: =F10-AJ11 -> 100.72779 | AV11: =G10-AK11 -> 184.23905 | AW11: =H10-AL11 -> 186.37997 | AX11: =I10-AM11 -> -2.1409187 | AY11: =J10-AN11 -> 168.44442 | ... BA11: =L10-AP11 -> -0.43018234
B12: 廃 酸 | C12: =P11 -> 3047.2503 | D12: =Q11 -> 67.50267 | E12: =R11 -> 0.26293442 | F12: =S11 -> 2979.4847 | G12: =T11 -> 945.22061 | H12: =U11 -> 890.73879 | I12: =V11 -> 54.481825 | J12: =W11 -> 958.24146 | ... L12: =Y11 -> 54.744759 | O12: 廃 ア ル カ リ | P12: =Y41 -> 2458.2648 | Q12: =P41 -> 31.291065 | R12: =Q41 -> 0.1361905 | S12: =R41 -> 2426.8376 | T12: =T41 -> 478.17373 | U12: =U41 -> 428.06157 | V12: =V41 -> 50.112161 | W12: =W41 -> 459.35264 | X12: =S41 -> 1948.6638 | Y12: =X41 -> 50.248352 | AF12: 構成比 | AH12: =AH11/$AG11 -> 0.082996489 | AI12: =AI11/$AG11 -> 0 | AJ12: =AJ11/$AG11 -> 0.91700351 | AK12: =AK11/$AG11 -> 0.33579212 | AL12: =AL11/$AG11 -> 0.31920178 | AM12: =AM11/$AG11 -> 0.016590331 | AN12: =AN11/$AG11 -> 0.40219827 | AO12: =AO11/$AG11 -> 0.5812114 | AP12: =AP11/$AG11 -> 0.016590331 | AQ12: 構成比 | AR12: =C11-AG12 -> 0 | AS12: =D11-AH12 -> -0.0084482704 | AT12: =E11-AI12 -> 0.00057929226 | AU12: =F11-AJ12 -> 0.0078689781 | AV12: =G11-AK12 -> 0.052778784 | AW12: =H11-AL12 -> 0.05397847 | AX12: =I11-AM12 -> -0.0011996858 | AY12: =J11-AN12 -> 0.045530199 | ... BA12: =L11-AP12 -> -0.00062039357
B13: 構成比 | D13: =D12/$C12 -> 0.022151994 | E13: =E12/$C12 -> 8.6285795e-05 | F13: =F12/$C12 -> 0.97776172 | G13: =G12/$C12 -> 0.31018804 | H13: =H12/$C12 -> 0.29230903 | I13: =I12/$C12 -> 0.017879012 | J13: =J12/$C12 -> 0.31446102 | K13: =K12/$C12 -> 0.66757368 | L13: =L12/$C12 -> 0.017965298 | O13: 廃プラスチック類 | P13: =Y42 -> 7411.4489 | Q13: =P42 -> 82.317845 | R13: =Q42 -> 311.0998 | S13: =R42 -> 7018.0312 | T13: =T42 -> 5383.6838 | U13: =U42 -> 4532.2908 | V13: =V42 -> 851.39301 | W13: =W42 -> 4614.6086 | X13: =S42 -> 1634.3474 | Y13: =X42 -> 1162.4928 | AF13: 廃 酸 | AG13: 2609.4451 | AH13: 54.126061 | AI13: 0 | AJ13: 2555.319 | AK13: 908.06176 | AL13: 853.72572 | AM13: 54.336042 | AN13: 907.85178 | AO13: 1647.2573 | AP13: 54.336042 | AQ13: 廃 酸 | AR13: =C12-AG13 -> 437.80524 | AS13: =D12-AH13 -> 13.37661 | AT13: =E12-AI13 -> 0.26293442 | AU13: =F12-AJ13 -> 424.16569 | AV13: =G12-AK13 -> 37.15885 | AW13: =H12-AL13 -> 37.013067 | AX13: =I12-AM13 -> 0.14578306 | AY13: =J12-AN13 -> 50.389676 | ... BA13: =L12-AP13 -> 0.40871748
B14: 廃 ア ル カ リ | C14: =P12 -> 2458.2648 | D14: =Q12 -> 31.291065 | E14: =R12 -> 0.1361905 | F14: =S12 -> 2426.8376 | G14: =T12 -> 478.17373 | H14: =U12 -> 428.06157 | I14: =V12 -> 50.112161 | J14: =W12 -> 459.35264 | ... L14: =Y12 -> 50.248352 | O14: 紙 く ず | P14: =Y43 -> 802.98625 | Q14: =P43 -> 39.042009 | R14: =Q43 -> 15.290002 | S14: =R43 -> 748.65424 | T14: =T43 -> 605.93404 | U14: =U43 -> 584.34854 | V14: =V43 -> 21.5855 | W14: =W43 -> 623.39055 | X14: =S43 -> 142.7202 | Y14: =X43 -> 36.875502 | AF14: 構成比 | AH14: =AH13/$AG13 -> 0.020742364 | AI14: =AI13/$AG13 -> 0 | AJ14: =AJ13/$AG13 -> 0.97925764 | AK14: =AK13/$AG13 -> 0.34799037 | AL14: =AL13/$AG13 -> 0.32716754 | AM14: =AM13/$AG13 -> 0.020822834 | AN14: =AN13/$AG13 -> 0.3479099 | AO14: =AO13/$AG13 -> 0.63126726 | AP14: =AP13/$AG13 -> 0.020822834 | AQ14: 構成比 | AR14: =C13-AG14 -> 0 | AS14: =D13-AH14 -> 0.0014096294 | AT14: =E13-AI14 -> 8.6285795e-05 | AU14: =F13-AJ14 -> -0.0014959152 | AV14: =G13-AK14 -> -0.037802328 | AW14: =H13-AL14 -> -0.034858506 | AX14: =I13-AM14 -> -0.0029438221 | AY14: =J13-AN14 -> -0.033448877 | ... BA14: =L13-AP14 -> -0.0028575363
B15: 構成比 | D15: =D14/$C14 -> 0.012728924 | E15: =E14/$C14 -> 5.5401068e-05 | F15: =F14/$C14 -> 0.98721568 | G15: =G14/$C14 -> 0.19451677 | H15: =H14/$C14 -> 0.1741316 | I15: =I14/$C14 -> 0.020385176 | J15: =J14/$C14 -> 0.18686052 | K15: =K14/$C14 -> 0.7926989 | L15: =L14/$C14 -> 0.020440577 | O15: 木 く ず | P15: =Y44 -> 7579.0888 | Q15: =P44 -> 101.31808 | R15: =Q44 -> 42.009855 | S15: =R44 -> 7435.7609 | T15: =T44 -> 6506.4322 | U15: =U44 -> 6340.9267 | V15: =V44 -> 165.50547 | W15: =W44 -> 6442.2448 | X15: =S44 -> 929.32871 | Y15: =X44 -> 207.51532 | AF15: 廃 ア ル カ リ | AG15: 2391.5306 | AH15: 14.38406 | AI15: 0 | AJ15: 2377.1465 | AK15: 544.67065 | AL15: 457.86584 | AM15: 86.804808 | AN15: 472.2499 | AO15: 1832.4759 | AP15: 86.804808 | AQ15: 廃 ア ル カ リ | AR15: =C14-AG15 -> 66.734247 | AS15: =D14-AH15 -> 16.907005 | AT15: =E14-AI15 -> 0.1361905 | AU15: =F14-AJ15 -> 49.691051 | AV15: =G14-AK15 -> -66.496919 | AW15: =H14-AL15 -> -29.804272 | AX15: =I14-AM15 -> -36.692647 | AY15: =J14-AN15 -> -12.897267 | ... BA15: =L14-AP15 -> -36.556456
B16: 廃プラスチック類 | C16: =P13 -> 7411.4489 | D16: =Q13 -> 82.317845 | E16: =R13 -> 311.0998 | F16: =S13 -> 7018.0312 | G16: =T13 -> 5383.6838 | H16: =U13 -> 4532.2908 | I16: =V13 -> 851.39301 | J16: =W13 -> 4614.6086 | ... L16: =Y13 -> 1162.4928 | O16: 繊 維 く ず | P16: =Y45 -> 88.374558 | Q16: =P45 -> 2.0073907 | R16: =Q45 -> 2.5915652 | S16: =R45 -> 83.775602 | T16: =T45 -> 56.395806 | U16: =U45 -> 47.044631 | V16: =V45 -> 9.3511756 | W16: =W45 -> 49.052021 | X16: =S45 -> 27.379796 | Y16: =X45 -> 11.942741 | AF16: 構成比 | AH16: =AH15/$AG15 -> 0.0060145833 | AI16: =AI15/$AG15 -> 0 | AJ16: =AJ15/$AG15 -> 0.99398542 | AK16: =AK15/$AG15 -> 0.22774982 | AL16: =AL15/$AG15 -> 0.19145306 | AM16: =AM15/$AG15 -> 0.036296759 | AN16: =AN15/$AG15 -> 0.19746764 | AO16: =AO15/$AG15 -> 0.7662356 | AP16: =AP15/$AG15 -> 0.036296759 | AQ16: 構成比 | AR16: =C15-AG16 -> 0 | AS16: =D15-AH16 -> 0.0067143403 | AT16: =E15-AI16 -> 5.5401068e-05 | AU16: =F15-AJ16 -> -0.0067697414 | AV16: =G15-AK16 -> -0.033233048 | AW16: =H15-AL16 -> -0.017321465 | AX16: =I15-AM16 -> -0.015911583 | AY16: =J15-AN16 -> -0.010607125 | ... BA16: =L15-AP16 -> -0.015856181
B17: 構成比 | D17: =D16/$C16 -> 0.011106849 | E17: =E16/$C16 -> 0.041975571 | F17: =F16/$C16 -> 0.94691758 | G17: =G16/$C16 -> 0.72640099 | H17: =H16/$C16 -> 0.61152561 | I17: =I16/$C16 -> 0.11487538 | J17: =J16/$C16 -> 0.62263246 | K17: =K16/$C16 -> 0.22051659 | L17: =L16/$C16 -> 0.15685095 | O17: 動植物性残渣 | P17: =Y46 -> 2323.5445 | Q17: =P46 -> 289.92994 | R17: =Q46 -> 7.5052369 | S17: =R46 -> 2026.1093 | T17: =T46 -> 1189.8805 | U17: =U46 -> 1164.1011 | V17: =V46 -> 25.779413 | W17: =W46 -> 1454.0311 | X17: =S46 -> 836.22877 | Y17: =X46 -> 33.28465 | AF17: 廃プラスチック類 | AG17: 6456.264 | AH17: 61.702794 | AI17: 234.28115 | AJ17: 6160.2801 | AK17: 4365.6653 | AL17: 3627.93 | AM17: 737.73528 | AN17: 3689.6328 | AO17: 1794.6148 | AP17: 972.01644 | AQ17: 廃プラスチック類 | AR17: =C16-AG17 -> 955.18482 | AS17: =D16-AH17 -> 20.615051 | AT17: =E16-AI17 -> 76.818645 | AU17: =F16-AJ17 -> 857.75113 | AV17: =G16-AK17 -> 1018.0186 | AW17: =H16-AL17 -> 904.36083 | AX17: =I16-AM17 -> 113.65773 | AY17: =J16-AN17 -> 924.97588 | ... BA17: =L16-AP17 -> 190.47637
B18: 紙 く ず | C18: =P14 -> 802.98625 | D18: =Q14 -> 39.042009 | E18: =R14 -> 15.290002 | F18: =S14 -> 748.65424 | G18: =T14 -> 605.93404 | H18: =U14 -> 584.34854 | I18: =V14 -> 21.5855 | J18: =W14 -> 623.39055 | ... L18: =Y14 -> 36.875502 | O18: 動物系固形不要物 | P18: =Y47 -> 78.543058 | Q18: =P47 -> 0.0197028 | R18: =Q47 -> 0.12121248 | S18: =R47 -> 78.402142 | T18: =T47 -> 69.137926 | U18: =U47 -> 67.288033 | V18: =V47 -> 1.8498936 | W18: =W47 -> 67.307736 | X18: =S47 -> 9.264216 | Y18: =X47 -> 1.9711061 | AF18: 構成比 | AH18: =AH17/$AG17 -> 0.0095570431 | AI18: =AI17/$AG17 -> 0.036287418 | AJ18: =AJ17/$AG17 -> 0.95415554 | AK18: =AK17/$AG17 -> 0.67619063 | AL18: =AL17/$AG17 -> 0.56192404 | AM18: =AM17/$AG17 -> 0.11426659 | AN18: =AN17/$AG17 -> 0.57148108 | AO18: =AO17/$AG17 -> 0.27796491 | AP18: =AP17/$AG17 -> 0.15055401 | AQ18: 構成比 | AR18: =C17-AG18 -> 0 | AS18: =D17-AH18 -> 0.0015498061 | AT18: =E17-AI18 -> 0.0056881528 | AU18: =F17-AJ18 -> -0.0072379589 | AV18: =G17-AK18 -> 0.050210362 | AW18: =H17-AL18 -> 0.049601572 | AX18: =I17-AM18 -> 0.00060878998 | AY18: =J17-AN18 -> 0.051151378 | ... BA18: =L17-AP18 -> 0.0062969428
B19: 構成比 | D19: =D18/$C18 -> 0.048621018 | E19: =E18/$C18 -> 0.019041425 | F19: =F18/$C18 -> 0.93233756 | G19: =G18/$C18 -> 0.75460076 | H19: =H18/$C18 -> 0.72771923 | I19: =I18/$C18 -> 0.026881531 | J19: =J18/$C18 -> 0.77634025 | K19: =K18/$C18 -> 0.17773679 | L19: =L18/$C18 -> 0.045922956 | O19: ゴ ム く ず | P19: =Y48 -> 15.375786 | Q19: =P48 -> 0.0079018724 | R19: =Q48 -> 0.71227519 | S19: =R48 -> 14.655608 | T19: =T48 -> 12.357852 | U19: =U48 -> 10.170156 | V19: =V48 -> 2.1876967 | W19: =W48 -> 10.178057 | X19: =S48 -> 2.2977562 | Y19: =X48 -> 2.8999719 | AF19: 紙 く ず | AG19: 934.93859 | AH19: 71.748918 | AI19: 3.8665683 | AJ19: 859.3231 | AK19: 648.67603 | AL19: 636.31176 | AM19: 12.364274 | AN19: 708.06068 | AO19: 210.64707 | AP19: 16.230843 | AQ19: 紙 く ず | AR19: =C18-AG19 -> -131.95234 | AS19: =D18-AH19 -> -32.706909 | AT19: =E18-AI19 -> 11.423434 | AU19: =F18-AJ19 -> -110.66886 | AV19: =G18-AK19 -> -42.741995 | AW19: =H18-AL19 -> -51.963221 | AX19: =I18-AM19 -> 9.2212255 | AY19: =J18-AN19 -> -84.67013 | ... BA19: =L18-AP19 -> 20.644659
B20: 木 く ず | C20: =P15 -> 7579.0888 | D20: =Q15 -> 101.31808 | E20: =R15 -> 42.009855 | F20: =S15 -> 7435.7609 | G20: =T15 -> 6506.4322 | H20: =U15 -> 6340.9267 | I20: =V15 -> 165.50547 | J20: =W15 -> 6442.2448 | ... L20: =Y15 -> 207.51532 | O20: 金 属 く ず | P20: =Y49 -> 6678.6911 | Q20: =P49 -> 3067.2583 | R20: =Q49 -> 24.323774 | S20: =R49 -> 3587.109 | T20: =T49 -> 3450.1792 | U20: =U49 -> 3322.4577 | V20: =V49 -> 127.72146 | W20: =W49 -> 6389.716 | X20: =S49 -> 136.92987 | Y20: =X49 -> 152.04523 | AF20: 構成比 | AH20: =AH19/$AG19 -> 0.076741851 | AI20: =AI19/$AG19 -> 0.0041356388 | AJ20: =AJ19/$AG19 -> 0.91912251 | AK20: =AK19/$AG19 -> 0.69381673 | AL20: =AL19/$AG19 -> 0.68059204 | AM20: =AM19/$AG19 -> 0.013224692 | AN20: =AN19/$AG19 -> 0.75733389 | AO20: =AO19/$AG19 -> 0.22530578 | AP20: =AP19/$AG19 -> 0.01736033 | AQ20: 構成比 | AR20: =C19-AG20 -> 0 | AS20: =D19-AH20 -> -0.028120833 | AT20: =E19-AI20 -> 0.014905786 | AU20: =F19-AJ20 -> 0.013215047 | AV20: =G19-AK20 -> 0.060784036 | AW20: =H19-AL20 -> 0.047127196 | AX20: =I19-AM20 -> 0.01365684 | AY20: =J19-AN20 -> 0.019006363 | ... BA20: =L19-AP20 -> 0.028562626
B21: 構成比 | D21: =D20/$C20 -> 0.013368108 | E21: =E20/$C20 -> 0.0055428636 | F21: =F20/$C20 -> 0.98108903 | G21: =G20/$C20 -> 0.85847156 | H21: =H20/$C20 -> 0.83663444 | I21: =I20/$C20 -> 0.021837119 | J21: =J20/$C20 -> 0.85000254 | K21: =K20/$C20 -> 0.12261747 | L21: =L20/$C20 -> 0.027379983 | O21: ガラスくず、コンクリート及び陶磁器くず | P21: =Y50 -> 8169.1668 | Q21: =P50 -> 202.15451 | R21: =Q50 -> 560.52864 | S21: =R50 -> 7406.4837 | T21: =T50 -> 6886.1708 | U21: =U50 -> 6246.1664 | V21: =V50 -> 640.00443 | W21: =W50 -> 6448.3209 | X21: =S50 -> 520.31283 | Y21: =X50 -> 1200.5331 | AF21: 木 く ず | AG21: 7413.0416 | AH21: 54.414533 | AI21: 106.92624 | AJ21: 7251.7008 | AK21: 6102.1467 | AL21: 5939.7109 | AM21: 162.43577 | AN21: 5994.1255 | AO21: 1149.5541 | AP21: 269.36201 | AQ21: 木 く ず | AR21: =C20-AG21 -> 166.04725 | AS21: =D20-AH21 -> 46.903544 | AT21: =E20-AI21 -> -64.916385 | AU21: =F20-AJ21 -> 184.06009 | AV21: =G20-AK21 -> 404.28548 | AW21: =H20-AL21 -> 401.21578 | AX21: =I20-AM21 -> 3.0696989 | AY21: =J20-AN21 -> 448.11932 | ... BA21: =L20-AP21 -> -61.846686
B22: 繊 維 く ず | C22: =P16 -> 88.374558 | D22: =Q16 -> 2.0073907 | E22: =R16 -> 2.5915652 | F22: =S16 -> 83.775602 | G22: =T16 -> 56.395806 | H22: =U16 -> 47.044631 | I22: =V16 -> 9.3511756 | J22: =W16 -> 49.052021 | ... L22: =Y16 -> 11.942741 | O22: 鉱 さ い | P22: =Y51 -> 12029.326 | Q22: =P51 -> 1858.8092 | R22: =Q51 -> 685.63143 | S22: =R51 -> 9484.8857 | T22: =T51 -> 9265.307 | U22: =U51 -> 9001.5503 | V22: =V51 -> 263.75662 | W22: =W51 -> 10860.36 | X22: =S51 -> 219.57871 | Y22: =X51 -> 949.38806 | AF22: 構成比 | AH22: =AH21/$AG21 -> 0.0073403788 | AI22: =AI21/$AG21 -> 0.014424071 | AJ22: =AJ21/$AG21 -> 0.97823555 | AK22: =AK21/$AG21 -> 0.8231637 | AL22: =AL21/$AG21 -> 0.80125153 | AM22: =AM21/$AG21 -> 0.021912162 | AN22: =AN21/$AG21 -> 0.80859191 | AO22: =AO21/$AG21 -> 0.15507185 | AP22: =AP21/$AG21 -> 0.036336233 | AQ22: 構成比 | AR22: =C21-AG22 -> 0 | AS22: =D21-AH22 -> 0.0060277291 | AT22: =E21-AI22 -> -0.0088812077 | AU22: =F21-AJ22 -> 0.0028534787 | AV22: =G21-AK22 -> 0.035307861 | AW22: =H21-AL22 -> 0.035382903 | AX22: =I21-AM22 -> -7.5042694e-05 | AY22: =J21-AN22 -> 0.041410633 | ... BA22: =L21-AP22 -> -0.0089562504
B23: 構成比 | D23: =D22/$C22 -> 0.022714577 | E23: =E22/$C22 -> 0.029324788 | F23: =F22/$C22 -> 0.94796063 | G23: =G22/$C22 -> 0.63814527 | H23: =H22/$C22 -> 0.53233229 | I23: =I22/$C22 -> 0.10581298 | J23: =J22/$C22 -> 0.55504687 | K23: =K22/$C22 -> 0.30981536 | L23: =L22/$C22 -> 0.13513777 | O23: がれき類 | P23: =Y52 -> 61851.733 | Q23: =P52 -> 610.8929 | R23: =Q52 -> 738.4109 | S23: =R52 -> 60502.43 | T23: =T52 -> 59659.729 | U23: =U52 -> 58777.059 | V23: =V52 -> 882.66999 | W23: =W52 -> 59387.952 | X23: =S52 -> 842.70094 | Y23: =X52 -> 1621.0809 | AF23: 繊 維 く ず | AG23: 88.016514 | AH23: 2.7919245 | AI23: 1.6441695 | AJ23: 83.58042 | AK23: 56.594654 | AL23: 47.17179 | AM23: 9.4228643 | AN23: 49.963714 | AO23: 26.985766 | AP23: 11.067034 | AQ23: 繊 維 く ず | AR23: =C22-AG23 -> 0.35804382 | AS23: =D22-AH23 -> -0.78453376 | AT23: =E22-AI23 -> 0.94739566 | AU23: =F22-AJ23 -> 0.19518192 | AV23: =G22-AK23 -> -0.19884766 | AW23: =H22-AL23 -> -0.12715904 | AX23: =I22-AM23 -> -0.07168862 | AY23: =J22-AN23 -> -0.91169281 | ... BA23: =L22-AP23 -> 0.87570704
B24: 動植物性残渣 | C24: =P17 -> 2323.5445 | D24: =Q17 -> 289.92994 | E24: =R17 -> 7.5052369 | F24: =S17 -> 2026.1093 | G24: =T17 -> 1189.8805 | H24: =U17 -> 1164.1011 | I24: =V17 -> 25.779413 | J24: =W17 -> 1454.0311 | ... L24: =Y17 -> 33.28465 | O24: 動物のふん尿 | P24: =Y53 -> 81185.734 | Q24: =P53 -> 66834.266 | R24: =Q53 -> 0.65423873 | S24: =R53 -> 14350.814 | T24: =T53 -> 10384.582 | U24: =U53 -> 10341.493 | V24: =V53 -> 43.089012 | W24: =W53 -> 77175.759 | X24: =S53 -> 3966.2322 | Y24: =X53 -> 43.743251 | AF24: 構成比 | AH24: =AH23/$AG23 -> 0.031720462 | AI24: =AI23/$AG23 -> 0.018680239 | AJ24: =AJ23/$AG23 -> 0.9495993 | AK24: =AK23/$AG23 -> 0.6430004 | AL24: =AL23/$AG23 -> 0.53594249 | AM24: =AM23/$AG23 -> 0.10705791 | AN24: =AN23/$AG23 -> 0.56766295 | AO24: =AO23/$AG23 -> 0.3065989 | AP24: =AP23/$AG23 -> 0.12573815 | AQ24: 構成比 | AR24: =C23-AG24 -> 0 | AS24: =D23-AH24 -> -0.0090058847 | AT24: =E23-AI24 -> 0.010644549 | AU24: =F23-AJ24 -> -0.0016386643 | AV24: =G23-AK24 -> -0.0048551302 | AW24: =H23-AL24 -> -0.0036102012 | AX24: =I23-AM24 -> -0.0012449289 | AY24: =J23-AN24 -> -0.012616086 | ... BA24: =L23-AP24 -> 0.0093996201
B25: 構成比 | D25: =D24/$C24 -> 0.12477917 | E25: =E24/$C24 -> 0.003230081 | F25: =F24/$C24 -> 0.87199075 | G25: =G24/$C24 -> 0.51209716 | H25: =H24/$C24 -> 0.50100229 | I25: =I24/$C24 -> 0.011094865 | J25: =J24/$C24 -> 0.62578146 | K25: =K24/$C24 -> 0.35989359 | L25: =L24/$C24 -> 0.014324946 | O25: 動物の死体 | P25: =Y54 -> 167.56781 | Q25: =P54 -> 4.5855215 | R25: =Q54 -> 0.6559885 | S25: =R54 -> 162.3263 | T25: =T54 -> 82.129127 | U25: =U54 -> 76.130614 | V25: =V54 -> 5.9985126 | W25: =W54 -> 80.716136 | X25: =S54 -> 80.197177 | Y25: =X54 -> 6.6545011 | AF25: 動植物性残渣 | AG25: 2428.9977 | AH25: 189.30194 | AI25: 21.038621 | AJ25: 2218.6571 | AK25: 1567.2209 | AL25: 1541.3284 | AM25: 25.892432 | AN25: 1730.6304 | AO25: 651.43627 | AP25: 46.931053 | AQ25: 動植物性残渣 | AR25: =C24-AG25 -> -105.45321 | AS25: =D24-AH25 -> 100.628 | AT25: =E24-AI25 -> -13.533384 | AU25: =F24-AJ25 -> -192.54783 | AV25: =G24-AK25 -> -377.34033 | AW25: =H24-AL25 -> -377.22731 | AX25: =I24-AM25 -> -0.11301959 | AY25: =J24-AN25 -> -276.59931 | ... BA25: =L24-AP25 -> -13.646403
B26: 動物系固形不要物 | C26: =P18 -> 78.543058 | D26: =Q18 -> 0.0197028 | E26: =R18 -> 0.12121248 | F26: =S18 -> 78.402142 | G26: =T18 -> 69.137926 | H26: =U18 -> 67.288033 | I26: =V18 -> 1.8498936 | J26: =W18 -> 67.307736 | ... L26: =Y18 -> 1.9711061 | O26: ば い じ ん | P26: =Y55 -> 16676.492 | Q26: =P55 -> 2243.8508 | R26: =Q55 -> 1252.418 | S26: =R55 -> 13180.223 | T26: =T55 -> 11460.997 | U26: =U55 -> 11262.325 | V26: =V55 -> 198.67167 | W26: =W55 -> 13506.176 | X26: =S55 -> 1719.2263 | Y26: =X55 -> 1451.0897 | AF26: 構成比 | AH26: =AH25/$AG25 -> 0.077934179 | AI26: =AI25/$AG25 -> 0.0086614413 | AJ26: =AJ25/$AG25 -> 0.91340438 | AK26: =AK25/$AG25 -> 0.64521299 | AL26: =AL25/$AG25 -> 0.63455327 | AM26: =AM25/$AG25 -> 0.010659719 | AN26: =AN25/$AG25 -> 0.71248745 | AO26: =AO25/$AG25 -> 0.26819139 | AP26: =AP25/$AG25 -> 0.01932116 | AQ26: 構成比 | AR26: =C25-AG26 -> 0 | AS26: =D25-AH26 -> 0.046844988 | AT26: =E25-AI26 -> -0.0054313602 | AU26: =F25-AJ26 -> -0.041413628 | AV26: =G25-AK26 -> -0.13311583 | AW26: =H25-AL26 -> -0.13355098 | AX26: =I25-AM26 -> 0.00043514638 | AY26: =J25-AN26 -> -0.086705987 | ... BA26: =L25-AP26 -> -0.0049962138
B27: 構成比 | D27: =D26/$C26 -> 0.00025085349 | E27: =E26/$C26 -> 0.0015432616 | F27: =F26/$C26 -> 0.99820588 | G27: =G26/$C26 -> 0.88025509 | H27: =H26/$C26 -> 0.85670249 | I27: =I26/$C26 -> 0.023552605 | J27: =J26/$C26 -> 0.85695334 | K27: =K26/$C26 -> 0.11795079 | L27: =L26/$C26 -> 0.025095866 | O27: 合計値 | P27: =Y56 -> 374068.77 | Q27: =P56 -> 76456.314 | R27: =Q56 -> 4585.0696 | S27: =R56 -> 293027.39 | T27: =T56 -> 130664.64 | U27: =U56 -> 126229.06 | V27: =V56 -> 4435.5729 | W27: =W56 -> 202685.38 | X27: =S56 -> 162362.75 | Y27: =X56 -> 9020.6424 | AF27: 動物系固形不要物 | AG27: 58.577982 | AH27: 0 | AI27: 0 | AJ27: 58.577982 | AK27: 45.822181 | AL27: 44.249604 | AM27: 1.5725774 | AN27: 44.249604 | AO27: 12.755802 | AP27: 1.5725774 | AQ27: 動物系固形不要物 | AR27: =C26-AG27 -> 19.965075 | AS27: =D26-AH27 -> 0.0197028 | AT27: =E26-AI27 -> 0.12121248 | AU27: =F26-AJ27 -> 19.82416 | AV27: =G26-AK27 -> 23.315745 | AW27: =H26-AL27 -> 23.038429 | AX27: =I26-AM27 -> 0.27731623 | AY27: =J26-AN27 -> 23.058132 | ... BA27: =L26-AP27 -> 0.39852871
B28: ゴ ム く ず | C28: =P19 -> 15.375786 | D28: =Q19 -> 0.0079018724 | E28: =R19 -> 0.71227519 | F28: =S19 -> 14.655608 | G28: =T19 -> 12.357852 | H28: =U19 -> 10.170156 | I28: =V19 -> 2.1876967 | J28: =W19 -> 10.178057 | ... L28: =Y19 -> 2.8999719 | AF28: 構成比 | AH28: =AH27/$AG27 -> 0 | AI28: =AI27/$AG27 -> 0 | AJ28: =AJ27/$AG27 -> 1 | AK28: =AK27/$AG27 -> 0.78224239 | AL28: =AL27/$AG27 -> 0.75539651 | AM28: =AM27/$AG27 -> 0.026845878 | AN28: =AN27/$AG27 -> 0.75539651 | AO28: =AO27/$AG27 -> 0.21775761 | AP28: =AP27/$AG27 -> 0.026845878 | AQ28: 構成比 | AR28: =C27-AG28 -> 0 | AS28: =D27-AH28 -> 0.00025085349 | AT28: =E27-AI28 -> 0.0015432616 | AU28: =F27-AJ28 -> -0.0017941151 | AV28: =G27-AK28 -> 0.098012703 | AW28: =H27-AL28 -> 0.10130598 | AX28: =I27-AM28 -> -0.0032932731 | AY28: =J27-AN28 -> 0.10155683 | ... BA28: =L27-AP28 -> -0.0017500115
B29: 構成比 | D29: =D28/$C28 -> 0.00051391667 | E29: =E28/$C28 -> 0.046324475 | F29: =F28/$C28 -> 0.95316161 | G29: =G28/$C28 -> 0.80372169 | H29: =H28/$C28 -> 0.66143974 | I29: =I28/$C28 -> 0.14228195 | J29: =J28/$C28 -> 0.66195366 | K29: =K28/$C28 -> 0.14943992 | L29: =L28/$C28 -> 0.18860642 | AF29: ゴ ム く ず | AG29: 16.3788 | AH29: 0.22270253 | AI29: 1.6972173 | AJ29: 14.45888 | AK29: 10.759848 | AL29: 6.6661358 | AM29: 4.0937124 | AN29: 6.8888384 | AO29: 3.6990321 | AP29: 5.7909297 | AQ29: ゴ ム く ず | AR29: =C28-AG29 -> -1.0030147 | AS29: =D28-AH29 -> -0.21480066 | AT29: =E28-AI29 -> -0.98494212 | AU29: =F28-AJ29 -> 0.19672811 | AV29: =G28-AK29 -> 1.5980041 | AW29: =H28-AL29 -> 3.5040197 | AX29: =I28-AM29 -> -1.9060157 | AY29: =J28-AN29 -> 3.2892191 | ... BA29: =L28-AP29 -> -2.8909578
B30: 金 属 く ず | C30: =P20 -> 6678.6911 | D30: =Q20 -> 3067.2583 | E30: =R20 -> 24.323774 | F30: =S20 -> 3587.109 | G30: =T20 -> 3450.1792 | H30: =U20 -> 3322.4577 | I30: =V20 -> 127.72146 | J30: =W20 -> 6389.716 | ... L30: =Y20 -> 152.04523 | AF30: 構成比 | AH30: =AH29/$AG29 -> 0.013596999 | AI30: =AI29/$AG29 -> 0.10362281 | AJ30: =AJ29/$AG29 -> 0.88278019 | AK30: =AK29/$AG29 -> 0.65693751 | AL30: =AL29/$AG29 -> 0.40699781 | AM30: =AM29/$AG29 -> 0.2499397 | AN30: =AN29/$AG29 -> 0.42059481 | AO30: =AO29/$AG29 -> 0.22584268 | AP30: =AP29/$AG29 -> 0.35356251 | AQ30: 構成比 | AR30: =C29-AG30 -> 0 | AS30: =D29-AH30 -> -0.013083082 | AT30: =E29-AI30 -> -0.057298336 | AU30: =F29-AJ30 -> 0.070381418 | AV30: =G29-AK30 -> 0.14678418 | AW30: =H29-AL30 -> 0.25444193 | AX30: =I29-AM30 -> -0.10765775 | AY30: =J29-AN30 -> 0.24135885 | ... BA30: =L29-AP30 -> -0.16495609
B31: 構成比 | D31: =D30/$C30 -> 0.45926039 | E31: =E30/$C30 -> 0.0036419971 | F31: =F30/$C30 -> 0.53709761 | G31: =G30/$C30 -> 0.51659511 | H31: =H30/$C30 -> 0.49747138 | I31: =I30/$C30 -> 0.019123726 | J31: =J30/$C30 -> 0.95673178 | K31: =K30/$C30 -> 0.020502501 | L31: =L30/$C30 -> 0.022765723 | AF31: 金 属 く ず | AG31: 8008.1196 | AH31: 2583.0921 | AI31: 40.902201 | AJ31: 5384.1253 | AK31: 5011.3869 | AL31: 4918.1958 | AM31: 93.191042 | AN31: 7501.2879 | AO31: 372.73841 | AP31: 134.09324 | AQ31: 金 属 く ず | AR31: =C30-AG31 -> -1329.4285 | AS31: =D30-AH31 -> 484.16621 | AT31: =E30-AI31 -> -16.578427 | AU31: =F30-AJ31 -> -1797.0162 | AV31: =G30-AK31 -> -1561.2077 | AW31: =H30-AL31 -> -1595.7381 | AX31: =I30-AM31 -> 34.530418 | AY31: =J30-AN31 -> -1111.5719 | ... BA31: =L30-AP31 -> 17.951991
B32: ガラスくず、コンクリートくず 及び陶磁器くず | C32: =P21 -> 8169.1668 | D32: =Q21 -> 202.15451 | E32: =R21 -> 560.52864 | F32: =S21 -> 7406.4837 | G32: =T21 -> 6886.1708 | H32: =U21 -> 6246.1664 | I32: =V21 -> 640.00443 | J32: =W21 -> 6448.3209 | ... L32: =Y21 -> 1200.5331 | AF32: 構成比 | AH32: =AH31/$AG31 -> 0.32255913 | AI32: =AI31/$AG31 -> 0.0051075912 | AJ32: =AJ31/$AG31 -> 0.67233328 | AK32: =AK31/$AG31 -> 0.62578822 | AL32: =AL31/$AG31 -> 0.61415115 | AM32: =AM31/$AG31 -> 0.011637069 | AN32: =AN31/$AG31 -> 0.93671028 | AO32: =AO31/$AG31 -> 0.046545061 | AP32: =AP31/$AG31 -> 0.01674466 | AQ32: 構成比 | AR32: =C31-AG32 -> 0 | AS32: =D31-AH32 -> 0.13670126 | AT32: =E31-AI32 -> -0.0014655941 | AU32: =F31-AJ32 -> -0.13523567 | AV32: =G31-AK32 -> -0.10919311 | AW32: =H31-AL32 -> -0.11667976 | AX32: =I31-AM32 -> 0.0074866569 | AY32: =J31-AN32 -> 0.020021497 | ... BA32: =L31-AP32 -> 0.0060210628
B33: 構成比 | D33: =D32/$C32 -> 0.024746038 | E33: =E32/$C32 -> 0.068615154 | F33: =F32/$C32 -> 0.90663881 | G33: =G32/$C32 -> 0.84294653 | H33: =H32/$C32 -> 0.76460263 | I33: =I32/$C32 -> 0.078343905 | J33: =J32/$C32 -> 0.78934866 | K33: =K32/$C32 -> 0.063692276 | L33: =L32/$C32 -> 0.14695906 | AF33: ガラスくず、コンクリートくず 及び陶磁器くず | AG33: 8109.3543 | AH33: 201.96812 | AI33: 643.03251 | AJ33: 7264.3536 | AK33: 6483.8164 | AL33: 5668.1792 | AM33: 815.63721 | AN33: 5870.1473 | AO33: 780.53726 | AP33: 1458.6697 | AQ33: ガラスくず、コンクリートくず 及び陶磁器くず | AR33: =C32-AG33 -> 59.812535 | AS33: =D32-AH33 -> 0.18639623 | AT33: =E32-AI33 -> -82.503875 | AU33: =F32-AJ33 -> 142.13001 | AV33: =G32-AK33 -> 402.35444 | AW33: =H32-AL33 -> 577.98722 | AX33: =I32-AM33 -> -175.63278 | AY33: =J32-AN33 -> 578.17362 | ... BA33: =L32-AP33 -> -258.13665
B34: 鉱 さ い | C34: =P22 -> 12029.326 | D34: =Q22 -> 1858.8092 | E34: =R22 -> 685.63143 | F34: =S22 -> 9484.8857 | G34: =T22 -> 9265.307 | H34: =U22 -> 9001.5503 | I34: =V22 -> 263.75662 | J34: =W22 -> 10860.36 | ... L34: =Y22 -> 949.38806 | AF34: 構成比 | AH34: =AH33/$AG33 -> 0.024905573 | AI34: =AI33/$AG33 -> 0.079295156 | AJ34: =AJ33/$AG33 -> 0.89579927 | AK34: =AK33/$AG33 -> 0.7995478 | AL34: =AL33/$AG33 -> 0.698968 | AM34: =AM33/$AG33 -> 0.1005798 | AN34: =AN33/$AG33 -> 0.72387358 | AO34: =AO33/$AG33 -> 0.096251469 | AP34: =AP33/$AG33 -> 0.17987495 | AQ34: 構成比 | AR34: =C33-AG34 -> 0 | AS34: =D33-AH34 -> -0.00015953515 | AT34: =E33-AI34 -> -0.010680002 | AU34: =F33-AJ34 -> 0.010839537 | AV34: =G33-AK34 -> 0.04339873 | AW34: =H33-AL34 -> 0.065634622 | AX34: =I33-AM34 -> -0.022235892 | AY34: =J33-AN34 -> 0.065475087 | ... BA34: =L33-AP34 -> -0.032915894
B35: 構成比 | D35: =D34/$C34 -> 0.15452314 | E35: =E34/$C34 -> 0.056996661 | F35: =F34/$C34 -> 0.7884802 | G35: =G34/$C34 -> 0.77022659 | H35: =H34/$C34 -> 0.74830045 | I35: =I34/$C34 -> 0.021926134 | J35: =J34/$C34 -> 0.90282359 | K35: =K34/$C34 -> 0.018253616 | L35: =L34/$C34 -> 0.078922795 | P35: 直接再生利用量 | Q35: 直接最終処分量 | R35: 中間処理量 | S35: 減量化量 | T35: 処理残渣量 | U35: 処理後再生利用量 | V35: 処理後最終処分量 | W35: 再生利用量合計 | X35: 最終処分量合計 | Y35: 排出量(補正後） | Z35: 再生 | AA35: 減量化 | AB35: 最終 | AF35: 鉱 さ い | AG35: 15011.416 | AH35: 2518.0404 | AI35: 613.07021 | AJ35: 11880.306 | AK35: 11659.465 | AL35: 11356.556 | AM35: 302.90871 | AN35: 13874.597 | AO35: 220.8405 | AP35: 915.97892 | AQ35: 鉱 さ い | AR35: =C34-AG35 -> -2982.09 | AS35: =D34-AH35 -> -659.2312 | AT35: =E34-AI35 -> 72.561225 | AU35: =F34-AJ35 -> -2395.42 | AV35: =G34-AK35 -> -2394.1582 | AW35: =H34-AL35 -> -2355.0061 | AX35: =I34-AM35 -> -39.15209 | AY35: =J34-AN35 -> -3014.2373 | ... BA35: =L34-AP35 -> 33.409135
B36: がれき類 | C36: =P23 -> 61851.733 | D36: =Q23 -> 610.8929 | E36: =R23 -> 738.4109 | F36: =S23 -> 60502.43 | G36: =T23 -> 59659.729 | H36: =U23 -> 58777.059 | I36: =V23 -> 882.66999 | J36: =W23 -> 59387.952 | ... L36: =Y23 -> 1621.0809 | O36: 廃 棄 物 名 | P36: ①：（8） | Q36: ②：(11)+(14：ハ） | R36: ③：(4)+(13：ｲ) | S36: ④:(7)+(16) | T36: ⑤：(6)+(15) | U36: ⑥：（9）+（17） | V36: ⑦：(10)+(14：ﾆ)+(18) | W36: ⑧：(8)+(9)+(17) | X36: ⑨：(11)+(14：ハ）+(10)+(14：ﾆ)+(18) | Y36: ④+⑧+⑨ | AF36: 構成比 | AH36: =AH35/$AG35 -> 0.1677417 | AI36: =AI35/$AG35 -> 0.040840264 | AJ36: =AJ35/$AG35 -> 0.79141804 | AK36: =AK35/$AG35 -> 0.77670654 | AL36: =AL35/$AG35 -> 0.75652798 | AM36: =AM35/$AG35 -> 0.020178557 | AN36: =AN35/$AG35 -> 0.92426968 | AO36: =AO35/$AG35 -> 0.014711503 | AP36: =AP35/$AG35 -> 0.061018821 | AQ36: 構成比 | AR36: =C35-AG36 -> 0 | AS36: =D35-AH36 -> -0.01321856 | AT36: =E35-AI36 -> 0.016156397 | AU36: =F35-AJ36 -> -0.0029378369 | AV36: =G35-AK36 -> -0.0064799499 | AW36: =H35-AL36 -> -0.0082275275 | AX36: =I35-AM36 -> 0.0017475776 | AY36: =J35-AN36 -> -0.021446087 | ... BA36: =L35-AP36 -> 0.017903974
B37: 構成比 | D37: =D36/$C36 -> 0.0098767305 | E37: =E36/$C36 -> 0.011938403 | F37: =F36/$C36 -> 0.97818487 | G37: =G36/$C36 -> 0.96456033 | H37: =H36/$C36 -> 0.95028959 | I37: =I36/$C36 -> 0.01427074 | J37: =J36/$C36 -> 0.96016633 | K37: =K36/$C36 -> 0.013624532 | L37: =L36/$C36 -> 0.026209142 | O37: 燃 え 殻 | P37: 177.82418 | Q37: 529.52712 | R37: 1527.27 | S37: 114.69567 | T37: 1412.5743 | U37: 1362.0088 | V37: 50.565525 | W37: 1539.8329 | X37: 580.09265 | Y37: 2234.6213 | Z37: =W37 -> 1539.8329 | AA37: =S37 -> 114.69567 | AB37: =X37 -> 580.09265 | AF37: がれき類 | AG37: 59773.334 | AH37: 565.32642 | AI37: 549.65427 | AJ37: 58658.354 | AK37: 57733.369 | AL37: 56926.941 | AM37: 806.42852 | AN37: 57492.267 | AO37: 924.98437 | AP37: 1356.0828 | AQ37: がれき類 | AR37: =C36-AG37 -> 2078.399 | AS37: =D36-AH37 -> 45.566477 | AT37: =E36-AI37 -> 188.75663 | AU37: =F36-AJ37 -> 1844.0759 | AV37: =G36-AK37 -> 1926.3594 | AW37: =H36-AL37 -> 1850.1179 | AX37: =I36-AM37 -> 76.241468 | AY37: =J36-AN37 -> 1895.6844 | ... BA37: =L36-AP37 -> 264.9981
B38: 動物のふん尿 | C38: =P24 -> 81185.734 | D38: =Q24 -> 66834.266 | E38: =R24 -> 0.65423873 | F38: =S24 -> 14350.814 | G38: =T24 -> 10384.582 | H38: =U24 -> 10341.493 | I38: =V24 -> 43.089012 | J38: =W24 -> 77175.759 | ... L38: =Y24 -> 43.743251 | O38: 汚 泥 | P38: 623.08355 | Q38: 411.47966 | R38: 157282.85 | S38: 145614.6 | T38: 11668.245 | U38: 10672.846 | V38: 995.39861 | W38: 11295.93 | X38: 1406.8783 | Y38: 158317.41 | Z38: =W38 -> 11295.93 | AA38: =S38 -> 145614.6 | AB38: =X38 -> 1406.8783 | AF38: 構成比 | AH38: =AH37/$AG37 -> 0.0094578365 | AI38: =AI37/$AG37 -> 0.0091956433 | AJ38: =AJ37/$AG37 -> 0.98134652 | AK38: =AK37/$AG37 -> 0.96587165 | AL38: =AL37/$AG37 -> 0.95238021 | AM38: =AM37/$AG37 -> 0.013491443 | AN38: =AN37/$AG37 -> 0.96183805 | AO38: =AO37/$AG37 -> 0.015474867 | AP38: =AP37/$AG37 -> 0.022687086 | AQ38: 構成比 | AR38: =C37-AG38 -> 0 | AS38: =D37-AH38 -> 0.00041889398 | AT38: =E37-AI38 -> 0.0027427593 | AU38: =F37-AJ38 -> -0.0031616533 | AV38: =G37-AK38 -> -0.001311319 | AW38: =H37-AL38 -> -0.0020906159 | AX38: =I37-AM38 -> 0.00077929693 | AY38: =J37-AN38 -> -0.0016717219 | ... BA38: =L37-AP38 -> 0.0035220562
B39: 構成比 | D39: =D38/$C38 -> 0.82322673 | E39: =E38/$C38 -> 8.058543e-06 | F39: =F38/$C38 -> 0.17676522 | G39: =G38/$C38 -> 0.12791141 | H39: =H38/$C38 -> 0.12738066 | I39: =I38/$C38 -> 0.00053074611 | J39: =J38/$C38 -> 0.95060739 | K39: =K38/$C38 -> 0.048853807 | L39: =L38/$C38 -> 0.00053880465 | O39: 廃 油 | P39: 220.152 | Q39: 1.7107364 | R39: 2731.2863 | S39: 1583.7785 | T39: 1147.5078 | U39: 1102.0569 | V39: 45.45087 | W39: 1322.2089 | X39: 47.161606 | Y39: 2953.1491 | Z39: =W39 -> 1322.2089 | AA39: =S39 -> 1583.7785 | AB39: =X39 -> 47.161606 | AF39: 動物のふん尿 | AG39: 77893.774 | AH39: 65789.758 | AI39: 0.011941334 | AJ39: 12104.003 | AK39: 8610.7669 | AL39: 8569.3984 | AM39: 41.368533 | AN39: 74359.157 | AO39: 3493.2365 | AP39: 41.380474 | AQ39: 動物のふん尿 | AR39: =C38-AG39 -> 3291.9607 | AS39: =D38-AH39 -> 1044.508 | AT39: =E38-AI39 -> 0.6422974 | AU39: =F38-AJ39 -> 2246.8104 | AV39: =G38-AK39 -> 1773.8147 | AW39: =H38-AL39 -> 1772.0943 | AX39: =I38-AM39 -> 1.7204798 | AY39: =J38-AN39 -> 2816.6022 | ... BA39: =L38-AP39 -> 2.3627772
B40: 動物の死体 | C40: =P25 -> 167.56781 | D40: =Q25 -> 4.5855215 | E40: =R25 -> 0.6559885 | F40: =S25 -> 162.3263 | G40: =T25 -> 82.129127 | H40: =U25 -> 76.130614 | I40: =V25 -> 5.9985126 | J40: =W25 -> 80.716136 | ... L40: =Y25 -> 6.6545011 | O40: 廃 酸 | P40: 67.50267 | Q40: 0.26293442 | R40: 2979.4847 | S40: 2034.2641 | T40: 945.22061 | U40: 890.73879 | V40: 54.481825 | W40: 958.24146 | X40: 54.744759 | Y40: 3047.2503 | Z40: =W40 -> 958.24146 | AA40: =S40 -> 2034.2641 | AB40: =X40 -> 54.744759 | AF40: 構成比 | AH40: =AH39/$AG39 -> 0.84460869 | AI40: =AI39/$AG39 -> 1.533028e-07 | AJ40: =AJ39/$AG39 -> 0.15539116 | AK40: =AK39/$AG39 -> 0.110545 | AL40: =AL39/$AG39 -> 0.11001391 | AM40: =AM39/$AG39 -> 0.00053108908 | AN40: =AN39/$AG39 -> 0.9546226 | AO40: =AO39/$AG39 -> 0.044846158 | AP40: =AP39/$AG39 -> 0.00053124238 | AQ40: 構成比 | AR40: =C39-AG40 -> 0 | AS40: =D39-AH40 -> -0.021381966 | AT40: =E39-AI40 -> 7.9052402e-06 | AU40: =F39-AJ40 -> 0.021374061 | AV40: =G39-AK40 -> 0.017366413 | AW40: =H39-AL40 -> 0.017366756 | AX40: =I39-AM40 -> -3.4297394e-07 | AY40: =J39-AN40 -> -0.0040152107 | ... BA40: =L39-AP40 -> 7.5622662e-06
B41: 構成比 | D41: =D40/$C40 -> 0.027365169 | E41: =E40/$C40 -> 0.0039147643 | F41: =F40/$C40 -> 0.96872007 | G41: =G40/$C40 -> 0.49012471 | H41: =H40/$C40 -> 0.45432719 | I41: =I40/$C40 -> 0.035797523 | J41: =J40/$C40 -> 0.48169236 | K41: =K40/$C40 -> 0.47859535 | L41: =L40/$C40 -> 0.039712287 | O41: 廃 ア ル カ リ | P41: 31.291065 | Q41: 0.1361905 | R41: 2426.8376 | S41: 1948.6638 | T41: 478.17373 | U41: 428.06157 | V41: 50.112161 | W41: 459.35264 | X41: 50.248352 | Y41: 2458.2648 | Z41: =W41 -> 459.35264 | AA41: =S41 -> 1948.6638 | AB41: =X41 -> 50.248352 | AF41: 動物の死体 | AG41: 123.52268 | AH41: 8.9710531 | AI41: 0.0038972958 | AJ41: 114.54773 | AK41: 56.563964 | AL41: 55.438867 | AM41: 1.125097 | AN41: 64.40992 | AO41: 57.98377 | AP41: 1.1289943 | AQ41: 動物の死体 | AR41: =C40-AG41 -> 44.045131 | AS41: =D40-AH41 -> -4.3855316 | AT41: =E40-AI41 -> 0.65209121 | AU41: =F40-AJ41 -> 47.778571 | AV41: =G40-AK41 -> 25.565163 | AW41: =H40-AL41 -> 20.691748 | AX41: =I40-AM41 -> 4.8734157 | AY41: =J40-AN41 -> 16.306216 | ... BA41: =L40-AP41 -> 5.5255069
B42: ば い じ ん | C42: =P26 -> 16676.492 | D42: =Q26 -> 2243.8508 | E42: =R26 -> 1252.418 | F42: =S26 -> 13180.223 | G42: =T26 -> 11460.997 | H42: =U26 -> 11262.325 | I42: =V26 -> 198.67167 | J42: =W26 -> 13506.176 | ... L42: =Y26 -> 1451.0897 | O42: 廃プラスチック類 | P42: 82.317845 | Q42: 311.0998 | R42: 7018.0312 | S42: 1634.3474 | T42: 5383.6838 | U42: 4532.2908 | V42: 851.39301 | W42: 4614.6086 | X42: 1162.4928 | Y42: 7411.4489 | Z42: =W42 -> 4614.6086 | AA42: =S42 -> 1634.3474 | AB42: =X42 -> 1162.4928 | AF42: 構成比 | AH42: =AH41/$AG41 -> 0.072626767 | AI42: =AI41/$AG41 -> 3.1551256e-05 | AJ42: =AJ41/$AG41 -> 0.92734168 | AK42: =AK41/$AG41 -> 0.45792369 | AL42: =AL41/$AG41 -> 0.44881527 | AM42: =AM41/$AG41 -> 0.009108424 | AN42: =AN41/$AG41 -> 0.52144204 | AO42: =AO41/$AG41 -> 0.46941799 | AP42: =AP41/$AG41 -> 0.0091399752 | AQ42: 構成比 | AR42: =C41-AG42 -> 0 | AS42: =D41-AH42 -> -0.045261598 | AT42: =E41-AI42 -> 0.0038832131 | AU42: =F41-AJ42 -> 0.041378385 | AV42: =G41-AK42 -> 0.03220102 | AW42: =H41-AL42 -> 0.0055119212 | AX42: =I41-AM42 -> 0.026689099 | AY42: =J41-AN42 -> -0.039749677 | ... BA42: =L41-AP42 -> 0.030572312
B43: 構成比 | D43: =D42/$C42 -> 0.13455172 | E43: =E42/$C42 -> 0.075100807 | F43: =F42/$C42 -> 0.79034747 | G43: =G42/$C42 -> 0.68725467 | H43: =H42/$C42 -> 0.67534139 | I43: =I42/$C42 -> 0.011913277 | J43: =J42/$C42 -> 0.80989312 | K43: =K42/$C42 -> 0.1030928 | L43: =L42/$C42 -> 0.087014084 | O43: 紙 く ず | P43: 39.042009 | Q43: 15.290002 | R43: 748.65424 | S43: 142.7202 | T43: 605.93404 | U43: 584.34854 | V43: 21.5855 | W43: 623.39055 | X43: 36.875502 | Y43: 802.98625 | Z43: =W43 -> 623.39055 | AA43: =S43 -> 142.7202 | AB43: =X43 -> 36.875502 | AF43: ば い じ ん | AG43: 16787.982 | AH43: 1318.3644 | AI43: 1479.497 | AJ43: 13990.12 | AK43: 11924.678 | AL43: 11805.822 | AM43: 118.85653 | AN43: 13124.186 | AO43: 2065.442 | AP43: 1598.3535 | AQ43: ば い じ ん | AR43: =C42-AG43 -> -111.48971 | AS43: =D42-AH43 -> 925.48633 | AT43: =E42-AI43 -> -227.07901 | AU43: =F42-AJ43 -> -809.89703 | AV43: =G42-AK43 -> -463.68125 | AW43: =H42-AL43 -> -543.49639 | AX43: =I42-AM43 -> 79.815141 | AY43: =J42-AN43 -> 381.98994 | ... BA43: =L42-AP43 -> -147.26387
B44: 合計 | C44: =P27 -> 374068.77 | D44: =Q27 -> 76456.314 | E44: =R27 -> 4585.0696 | F44: =S27 -> 293027.39 | G44: =T27 -> 130664.64 | H44: =U27 -> 126229.06 | I44: =V27 -> 4435.5729 | J44: =W27 -> 202685.38 | ... L44: =Y27 -> 9020.6424 | O44: 木 く ず | P44: 101.31808 | Q44: 42.009855 | R44: 7435.7609 | S44: 929.32871 | T44: 6506.4322 | U44: 6340.9267 | V44: 165.50547 | W44: 6442.2448 | X44: 207.51532 | Y44: 7579.0888 | Z44: =W44 -> 6442.2448 | AA44: =S44 -> 929.32871 | AB44: =X44 -> 207.51532 | AF44: 構成比 | AH44: =AH43/$AG43 -> 0.078530251 | AI44: =AI43/$AG43 -> 0.088128343 | AJ44: =AJ43/$AG43 -> 0.83334141 | AK44: =AK43/$AG43 -> 0.71031041 | AL44: =AL43/$AG43 -> 0.70323056 | AM44: =AM43/$AG43 -> 0.0070798582 | AN44: =AN43/$AG43 -> 0.78176081 | AO44: =AO43/$AG43 -> 0.12303099 | AP44: =AP43/$AG43 -> 0.095208201 | AQ44: 構成比 | AR44: =C43-AG44 -> 0 | AS44: =D43-AH44 -> 0.056021473 | AT44: =E43-AI44 -> -0.013027536 | AU44: =F43-AJ44 -> -0.042993936 | AV44: =G43-AK44 -> -0.023055745 | AW44: =H43-AL44 -> -0.027889164 | AX44: =I43-AM44 -> 0.004833419 | AY44: =J43-AN44 -> 0.028132309 | ... BA44: =L43-AP44 -> -0.0081941174
B45: 構成比 | D45: =D44/$C44 -> 0.20439106 | E45: =E44/$C44 -> 0.01225729 | F45: =F44/$C44 -> 0.78335165 | G45: =G44/$C44 -> 0.34930646 | H45: =H44/$C44 -> 0.33744882 | I45: =I44/$C44 -> 0.01185764 | J45: =J44/$C44 -> 0.54183988 | K45: =K44/$C44 -> 0.43404519 | L45: =L44/$C44 -> 0.024114931 | O45: 繊 維 く ず | P45: 2.0073907 | Q45: 2.5915652 | R45: 83.775602 | S45: 27.379796 | T45: 56.395806 | U45: 47.044631 | V45: 9.3511756 | W45: 49.052021 | X45: 11.942741 | Y45: 88.374558 | Z45: =W45 -> 49.052021 | AA45: =S45 -> 27.379796 | AB45: =X45 -> 11.942741 | AF45: 合計 | AG45: 383544.15 | AH45: 74313.13 | AI45: 4770.6298 | AJ45: 304460.39 | AK45: 130830.66 | AL45: 125903.96 | AM45: 4926.7007 | AN45: 200217.09 | AO45: 173629.73 | AP45: 9697.3306 | AQ45: 合計 | AR45: =C44-AG45 -> -9475.3798 | AS45: =D44-AH45 -> 2143.1834 | AT45: =E44-AI45 -> -185.56026 | AU45: =F44-AJ45 -> -11433.003 | AV45: =G44-AK45 -> -166.02051 | AW45: =H44-AL45 -> 325.10737 | AX45: =I44-AM45 -> -491.12788 | AY45: =J44-AN45 -> 2468.2908 | ... BA45: =L44-AP45 -> -676.68814
B46: ※各産業廃棄物の量は、四捨五入しているため合算した値は合計値と異なる場合がある。 | O46: 動植物性残渣 | P46: 289.92994 | Q46: 7.5052369 | R46: 2026.1093 | S46: 836.22877 | T46: 1189.8805 | U46: 1164.1011 | V46: 25.779413 | W46: 1454.0311 | X46: 33.28465 | Y46: 2323.5445 | Z46: =W46 -> 1454.0311 | AA46: =S46 -> 836.22877 | AB46: =X46 -> 33.28465 | AF46: 構成比 | AH46: =AH45/$AG45 -> 0.19375378 | AI46: =AI45/$AG45 -> 0.012438281 | AJ46: =AJ45/$AG45 -> 0.79380794 | AK46: =AK45/$AG45 -> 0.34110977 | AL46: =AL45/$AG45 -> 0.32826457 | AM46: =AM45/$AG45 -> 0.012845198 | AN46: =AN45/$AG45 -> 0.52201836 | AO46: =AO45/$AG45 -> 0.45269816 | AP46: =AP45/$AG45 -> 0.025283479 | AQ46: 構成比 | AR46: =C45-AG46 -> 0 | AS46: =D45-AH46 -> 0.01063728 | AT46: =E45-AI46 -> -0.00018099033 | AU46: =F45-AJ46 -> -0.010456289 | AV46: =G45-AK46 -> 0.0081966857 | AW46: =H45-AL46 -> 0.009184244 | AX46: =I45-AM46 -> -0.00098755837 | AY46: =J45-AN46 -> 0.019821524 | ... BA46: =L45-AP46 -> -0.0011685487
B47: ※動物の死体の原単位については平成30年度家畜共済統計表（農林水産省）の動物の死亡率を用いて推計した。 | O47: 動物系固形不要物 | P47: 0.0197028 | Q47: 0.12121248 | R47: 78.402142 | S47: 9.264216 | T47: 69.137926 | U47: 67.288033 | V47: 1.8498936 | W47: 67.307736 | X47: 1.9711061 | Y47: 78.543058 | Z47: =W47 -> 67.307736 | AA47: =S47 -> 9.264216 | AB47: =X47 -> 1.9711061
L48: =L102-L44 -> 136.47617 | O48: ゴ ム く ず | P48: 0.0079018724 | Q48: 0.71227519 | R48: 14.655608 | S48: 2.2977562 | T48: 12.357852 | U48: 10.170156 | V48: 2.1876967 | W48: 10.178057 | X48: 2.8999719 | Y48: 15.375786 | Z48: =W48 -> 10.178057 | AA48: =S48 -> 2.2977562 | AB48: =X48 -> 2.8999719
L49: =L44/L102 -> 0.98509617 | O49: 金 属 く ず | P49: 3067.2583 | Q49: 24.323774 | R49: 3587.109 | S49: 136.92987 | T49: 3450.1792 | U49: 3322.4577 | V49: 127.72146 | W49: 6389.716 | X49: 152.04523 | Y49: 6678.6911 | Z49: =W49 -> 6389.716 | AA49: =S49 -> 136.92987 | AB49: =X49 -> 152.04523
J50: =J45 -> 0.54183988 | K50: =K45 -> 0.43404519 | L50: =L45 -> 0.024114931 | O50: ガラスくず、コンクリート及び陶磁器くず | P50: 202.15451 | Q50: 560.52864 | R50: 7406.4837 | S50: 520.31283 | T50: 6886.1708 | U50: 6246.1664 | V50: 640.00443 | W50: 6448.3209 | X50: 1200.5331 | Y50: 8169.1668 | Z50: =W50 -> 6448.3209 | AA50: =S50 -> 520.31283 | AB50: =X50 -> 1200.5331
D51: =D103 -> 0.19721053 | E51: =E103 -> 0.011820456 | F51: =F103 -> 0.79096901 | G51: =G103 -> 0.34213807 | H51: =H103 -> 0.33023264 | I51: =I103 -> 0.011905429 | J51: =J103 -> 0.52744317 | K51: =K103 -> 0.44883094 | L51: =L103 -> 0.023725886 | O51: 鉱 さ い | P51: 1858.8092 | Q51: 685.63143 | R51: 9484.8857 | S51: 219.57871 | T51: 9265.307 | U51: 9001.5503 | V51: 263.75662 | W51: 10860.36 | X51: 949.38806 | Y51: 12029.326 | Z51: =W51 -> 10860.36 | AA51: =S51 -> 219.57871 | AB51: =X51 -> 949.38806
O52: がれき類 | P52: 610.8929 | Q52: 738.4109 | R52: 60502.43 | S52: 842.70094 | T52: 59659.729 | U52: 58777.059 | V52: 882.66999 | W52: 59387.952 | X52: 1621.0809 | Y52: 61851.733 | Z52: =W52 -> 59387.952 | AA52: =S52 -> 842.70094 | AB52: =X52 -> 1621.0809
O53: 動物のふん尿 | P53: 66834.266 | Q53: 0.65423873 | R53: 14350.814 | S53: 3966.2322 | T53: 10384.582 | U53: 10341.493 | V53: 43.089012 | W53: 77175.759 | X53: 43.743251 | Y53: 81185.734 | Z53: =W53 -> 77175.759 | AA53: =S53 -> 3966.2322 | AB53: =X53 -> 43.743251
O54: 動物の死体 | P54: 4.5855215 | Q54: 0.6559885 | R54: 162.3263 | S54: 80.197177 | T54: 82.129127 | U54: 76.130614 | V54: 5.9985126 | W54: 80.716136 | X54: 6.6545011 | Y54: 167.56781 | Z54: =W54 -> 80.716136 | AA54: =S54 -> 80.197177 | AB54: =X54 -> 6.6545011
O55: ば い じ ん | P55: 2243.8508 | Q55: 1252.418 | R55: 13180.223 | S55: 1719.2263 | T55: 11460.997 | U55: 11262.325 | V55: 198.67167 | W55: 13506.176 | X55: 1451.0897 | Y55: 16676.492 | Z55: =W55 -> 13506.176 | AA55: =S55 -> 1719.2263 | AB55: =X55 -> 1451.0897
O56: 合計値 | P56: 76456.314 | Q56: 4585.0696 | R56: 293027.39 | S56: 162362.75 | T56: 130664.64 | U56: 126229.06 | V56: 4435.5729 | W56: 202685.38 | X56: 9020.6424 | Y56: 374068.77 | Z56: =W56 -> 202685.38 | AA56: =S56 -> 162362.75 | AB56: =X56 -> 9020.6424
B59: R1
B60: 表―Ⅲ・９ 産業廃棄物排出・処理状況一覧表（令和元年度実施値） | L60: （単位：千ｔ/年）
B61: 廃棄物名 | C61: 排出量 | D61: 直接再生利用量 | E61: 直接最終処分量 | F61: 中間処理 | J61: 再生利用量 計 | K61: 減量化量 | L61: 最終処分量 計
F62: 中間処理量 | G62: 処理残渣量 | H62: 中間処理後 再生利用量 | I62: 中間処理後 最終処分量
C63: （Ａ） | D63: （Ｂ） | E63: （Ｃ） | F63: （Ｄ） | G63: （Ｅ） | H63: （Ｆ） | I63: （Ｇ） | J63: （Ｂ）＋（Ｆ） | K63: （Ｄ）－（Ｅ） | L63: （Ｃ）＋（Ｇ）
B64: 燃 え 殻 | C64: 2198.6951 | D64: 120.44298 | E64: 451.59791 | F64: 1626.6542 | G64: 1484.9315 | H64: 1438.9514 | I64: 45.98014 | J64: 1559.3943 | K64: 141.72266 | L64: 497.57805 | P64: 排出量 | Q64: 直接再生利用量 | R64: 直接最終処分量 | S64: 中間処理量 | T64: 減量化量 | U64: 処理残渣量 | V64: 処理後再生利用量 | W64: 処理後最終処分量 | X64: 再生利用量合計 | Y64: 最終処分量合計
B65: 構成比 | D65: 0.054779301 | E65: 0.20539361 | F65: 0.73982709 | G65: 0.67536946 | H65: 0.654457 | I65: 0.020912468 | J65: 0.7092363 | K65: 0.064457626 | L65: 0.22630608 | O65: 廃 棄 物 名 | P65: （3） | Q65: ①：（8） | R65: ②：(11)+(14：ハ） | S65: ③：(4)+(13：ｲ) | T65: ④:(7)+(16) | U65: ⑤：(6)+(15) | V65: ⑥：（9）+（17） | W65: ⑦：(10)+(14：ﾆ)+(18) | X65: ⑧：(8)+(9)+(17) | Y65: ⑨：(11)+(14：ハ）+(10)+(14：ﾆ)+(18)
B66: 汚 泥 | C66: 170841.2 | D66: 697.94466 | E66: 740.07707 | F66: 169403.18 | G66: 12732.92 | H66: 11692.88 | I66: 1040.0393 | J66: 12390.825 | K66: 156670.26 | L66: 1780.1164 | O66: 燃 え 殻 | P66: 2455.8601 | Q66: 291.5988 | R66: 361.15979 | S66: 1803.1015 | T66: 1604.2699 | U66: 1556.8207 | V66: 47.449236 | W66: 1848.4195 | X66: 198.83157 | Y66: 408.60902
B67: 構成比 | D67: 0.0040853416 | E67: 0.004331959 | F67: 0.9915827 | G67: 0.074530733 | H67: 0.068442978 | I67: 0.0060877547 | J67: 0.07252832 | K67: 0.91705197 | L67: 0.010419714 | O67: 汚 泥 | P67: 167378.15 | Q67: 719.10511 | R67: 583.2167 | S67: 166075.83 | T67: 12479.065 | U67: 11124.622 | V67: 1354.4433 | W67: 11843.727 | X67: 153596.76 | Y67: 1937.66
B68: 廃 油 | C68: 3119.9922 | D68: 289.2016 | E68: 0 | F68: 2830.7906 | G68: 1157.9132 | H68: 1113.9961 | I68: 43.917134 | J68: 1403.1977 | K68: 1672.8774 | L68: 43.917134 | O68: 廃 油 | P68: 3081.2742 | Q68: 240.65484 | R68: 0 | S68: 2840.6193 | T68: 1107.9839 | U68: 1055.0081 | V68: 52.975782 | W68: 1295.663 | X68: 1732.6354 | Y68: 52.975782
B69: 構成比 | D69: 0.092693053 | E69: 0 | F69: 0.90730695 | G69: 0.37112696 | H69: 0.35705092 | I69: 0.01407604 | J69: 0.44974398 | K69: 0.53617998 | L69: 0.01407604 | O69: 廃 酸 | P69: 2751.9407 | Q69: 21.918156 | R69: 0 | S69: 2730.0225 | T69: 863.44576 | U69: 807.68928 | V69: 55.756478 | W69: 829.60744 | X69: 1866.5767 | Y69: 55.756478
B70: 廃 酸 | C70: 2988.6164 | D70: 31.537422 | E70: 0 | F70: 2957.079 | G70: 1039.4039 | H70: 997.68285 | I70: 41.721079 | J70: 1029.2203 | K70: 1917.675 | L70: 41.721079 | O70: 廃 ア ル カ リ | P70: 2262.434 | Q70: 31.17644 | R70: 0 | S70: 2231.2575 | T70: 524.8694 | U70: 462.87877 | V70: 61.990627 | W70: 494.05521 | X70: 1706.3881 | Y70: 61.990627
B71: 構成比 | D71: 0.010552516 | E71: 0 | F71: 0.98944748 | G71: 0.34778767 | H71: 0.33382767 | I71: 0.013959998 | J71: 0.34438019 | K71: 0.64165981 | L71: 0.013959998 | O71: 廃プラスチック類 | P71: 7063.5401 | Q71: 50.834463 | R71: 228.82538 | S71: 6783.8802 | T71: 4937.8123 | U71: 4091.137 | V71: 846.67533 | W71: 4141.9715 | X71: 1846.0679 | Y71: 1075.5007
B72: 廃 ア ル カ リ | C72: 2778.048 | D72: 37.893186 | E72: 0 | F72: 2740.1548 | G72: 511.50686 | H72: 454.71298 | I72: 56.793879 | J72: 492.60616 | K72: 2228.648 | L72: 56.793879 | O72: 紙 く ず | P72: 1094.1417 | Q72: 98.082356 | R72: 6.4138799 | S72: 989.64549 | T72: 769.13005 | U72: 739.18674 | V72: 29.943309 | W72: 837.26909 | X72: 220.51544 | Y72: 36.357189
B73: 構成比 | D73: 0.01364022 | E73: 0 | F73: 0.98635978 | G73: 0.18412455 | H73: 0.16368075 | I73: 0.020443807 | J73: 0.17732097 | K73: 0.80223523 | L73: 0.020443807 | O73: 木 く ず | P73: 7532.3122 | Q73: 72.156856 | R73: 62.410436 | S73: 7397.745 | T73: 6263.1987 | U73: 6071.6636 | V73: 191.53511 | W73: 6143.8204 | X73: 1134.5463 | Y73: 253.94554
B74: 廃プラスチック類 | C74: 7536.5215 | D74: 66.276165 | E74: 234.7449 | F74: 7235.5005 | G74: 5386.0249 | H74: 4471.1685 | I74: 914.85632 | J74: 4537.4447 | K74: 1849.4756 | L74: 1149.6012 | O74: 繊 維 く ず | P74: 72.439333 | Q74: 2.4514967 | R74: 1.2815723 | S74: 68.706264 | T74: 48.711528 | U74: 40.835678 | V74: 7.87585 | W74: 43.287175 | X74: 19.994736 | Y74: 9.1574224
B75: 構成比 | D75: 0.0087939992 | E75: 0.031147645 | F75: 0.96005836 | G75: 0.7146566 | H75: 0.59326687 | I75: 0.12138973 | J75: 0.60206087 | K75: 0.24540176 | L75: 0.15253738 | O75: 動植物性残渣 | P75: 2406.6028 | Q75: 179.4917 | R75: 14.369117 | S75: 2212.742 | T75: 1382.3584 | U75: 1356.2512 | V75: 26.107205 | W75: 1535.7429 | X75: 830.38361 | Y75: 40.476321
B76: 紙 く ず | C76: 906.09495 | D76: 62.211644 | E76: 8.2088696 | F76: 835.67443 | G76: 695.59508 | H76: 673.38575 | I76: 22.209331 | J76: 735.59739 | K76: 140.07936 | L76: 30.418201 | O76: 動物系固形不要物 | P76: 66.103739 | Q76: 0 | R76: 0 | S76: 66.103739 | T76: 47.784825 | U76: 45.599616 | V76: 2.1852089 | W76: 45.599616 | X76: 18.318914 | Y76: 2.1852089
B77: 構成比 | D77: 0.068659079 | E77: 0.0090596131 | F77: 0.92228131 | G77: 0.76768453 | H77: 0.74317349 | I77: 0.024511042 | J77: 0.81183257 | K77: 0.15459677 | L77: 0.033570655 | O77: ゴ ム く ず | P77: 15.990462 | Q77: 0.012510668 | R77: 1.0466803 | S77: 14.931271 | T77: 13.361075 | U77: 8.5413509 | V77: 4.8197244 | W77: 8.5538615 | X77: 1.5701959 | Y77: 5.8664047
B78: 木 く ず | C78: 7954.9711 | D78: 46.532991 | E78: 63.640417 | F78: 7844.7977 | G78: 6788.6942 | H78: 6598.5944 | I78: 190.09976 | J78: 6645.1274 | K78: 1056.1035 | L78: 253.74017 | O78: 金 属 く ず | P78: 7434.6447 | Q78: 3476.5926 | R78: 32.643146 | S78: 3925.409 | T78: 3766.7844 | U78: 3627.2882 | V78: 139.49614 | W78: 7103.8808 | X78: 158.62457 | Y78: 172.13929
B79: 構成比 | D79: 0.0058495487 | E79: 0.0080000816 | F79: 0.98615037 | G79: 0.85339018 | H79: 0.82949321 | I79: 0.023896976 | J79: 0.83534275 | K79: 0.13276019 | L79: 0.031897058 | O79: ガラスくず、コンクリート及び陶磁器くず | P79: 8855.8259 | Q79: 241.25116 | R79: 605.67268 | S79: 8008.9021 | T79: 7022.62 | U79: 6217.2172 | V79: 805.40283 | W79: 6458.4683 | X79: 986.28204 | Y79: 1411.0755
B80: 繊 維 く ず | C80: 78.821815 | D80: 2.3537707 | E80: 2.4046641 | F80: 74.06338 | G80: 52.388431 | H80: 42.644831 | I80: 9.7435995 | J80: 44.998602 | K80: 21.67495 | L80: 12.148264 | O80: 鉱 さ い | P80: 13660.062 | Q80: 2029.3846 | R80: 513.63979 | S80: 11117.037 | T80: 10892.291 | U80: 10649.049 | V80: 243.24169 | W80: 12678.433 | X80: 224.74681 | Y80: 756.88148
B81: 構成比 | D81: 0.029861919 | E81: 0.030507596 | F81: 0.93963049 | G81: 0.6646438 | H81: 0.54102828 | I81: 0.12361552 | J81: 0.5708902 | K81: 0.27498668 | L81: 0.15412311 | O81: がれき類 | P81: 56277.966 | Q81: 785.69347 | R81: 798.88656 | S81: 54693.386 | T81: 54126.498 | U81: 53266.63 | V81: 859.86852 | W81: 54052.323 | X81: 566.88794 | Y81: 1658.7551
B82: 動植物性残渣 | C82: 2331.5801 | D82: 157.67113 | E82: 12.929765 | F82: 2160.9792 | G82: 1275.7602 | H82: 1241.4735 | I82: 34.28669 | J82: 1399.1447 | K82: 885.21903 | L82: 47.216455 | O82: 動物のふん尿(*) | P82: 80508.743 | Q82: 65615.848 | R82: 0.0069812094 | S82: 14892.889 | T82: 10830.743 | U82: 10786.989 | V82: 43.754466 | W82: 76402.837 | X82: 4062.1453 | Y82: 43.761447
B83: 構成比 | D83: 0.067624153 | E83: 0.0055454946 | F83: 0.92683035 | G83: 0.5471655 | H83: 0.53246016 | I83: 0.014705345 | J83: 0.60008431 | K83: 0.37966485 | L83: 0.020250839 | O83: 動物の死体 | P83: 122.8173 | Q83: 0 | R83: 1.0795936 | S83: 121.7377 | T83: 57.04051 | U83: 55.625649 | V83: 1.4148608 | W83: 55.625649 | X83: 64.697192 | Y83: 2.4944544
B84: 動物系固形不要物 | C84: 69.533896 | D84: 0 | E84: 0 | F84: 69.533896 | G84: 56.243605 | H84: 54.516166 | I84: 1.7274392 | J84: 54.516166 | K84: 13.29029 | L84: 1.7274392 | O84: ば い じ ん | P84: 15790.689 | Q84: 1497.6704 | R84: 1001.784 | S84: 13291.234 | T84: 11829.622 | U84: 11690.846 | V84: 138.77598 | W84: 13188.516 | X84: 1461.6121 | Y84: 1140.56
B85: 構成比 | D85: 0 | E85: 0 | F85: 1 | G85: 0.80886602 | H85: 0.78402289 | I85: 0.024843124 | J85: 0.78402289 | K85: 0.19113398 | L85: 0.024843124 | P85: 378831.54 | Q85: 75353.923 | R85: 4212.4364 | S85: 299265.18 | T85: 128567.59 | U85: 123653.88 | V85: 4913.7116 | W85: 199007.8 | X85: 170697.59 | Y85: 9126.148
B86: ゴ ム く ず | C86: 17.454815 | D86: 0.1386613 | E86: 1.2518072 | F86: 16.064346 | G86: 12.825191 | H86: 10.874791 | I86: 1.9503995 | J86: 11.013453 | K86: 3.2391555 | L86: 3.2022067
B87: 構成比 | D87: 0.0079440144 | E87: 0.071717015 | F87: 0.92033897 | G87: 0.73476522 | H87: 0.6230253 | I87: 0.11173991 | J87: 0.63096932 | K87: 0.18557375 | L87: 0.18345693
B88: 金 属 く ず | C88: 6795.9761 | D88: 3189.955 | E88: 38.19559 | F88: 3567.8255 | G88: 3482.274 | H88: 3346.3993 | I88: 135.87469 | J88: 6536.3543 | K88: 85.55149 | L88: 174.07028
B89: 構成比 | D89: 0.46938879 | E89: 0.0056203244 | F89: 0.52499089 | G89: 0.51240234 | H89: 0.49240893 | I89: 0.019993404 | J89: 0.96179772 | K89: 0.012588551 | L89: 0.025613728
B90: ガラスくず、コンクリートくず 及び陶磁器くず | C90: 8416.6487 | D90: 204.50604 | E90: 625.74968 | F90: 7586.393 | G90: 7108.9054 | H90: 6403.7605 | I90: 705.14491 | J90: 6608.2666 | K90: 477.48756 | L90: 1330.8946
B91: 構成比 | D91: 0.0242978 | E91: 0.074346655 | F91: 0.90135555 | G91: 0.84462423 | H91: 0.76084446 | I91: 0.083779772 | J91: 0.78514226 | K91: 0.056731316 | L91: 0.15812643
B92: 鉱 さ い | C92: 13806.858 | D92: 2437.9806 | E92: 533.66384 | F92: 10835.213 | G92: 10755.371 | H92: 10522.717 | I92: 232.6546 | J92: 12960.697 | K92: 79.842207 | L92: 766.31844
B93: 構成比 | D93: 0.17657751 | E93: 0.038652084 | F93: 0.78477041 | G93: 0.77898761 | H93: 0.76213696 | I93: 0.016850655 | J93: 0.93871447 | K93: 0.0057827934 | L93: 0.055502739
B94: がれき類 | C94: 58929.972 | D94: 700.74006 | E94: 901.92993 | F94: 57327.302 | G94: 57054.609 | H94: 56128.168 | I94: 926.44097 | J94: 56828.908 | K94: 272.69286 | L94: 1828.3709
B95: 構成比 | D95: 0.011891064 | E95: 0.015305114 | F95: 0.97280382 | G95: 0.96817642 | H95: 0.95245537 | I95: 0.015721049 | J95: 0.96434643 | K95: 0.0046274052 | L95: 0.031026163
B96: 動物のふん尿 | C96: 80787.84 | D96: 65909.957 | E96: 0.0077488416 | F96: 14877.876 | G96: 10816.445 | H96: 10772.633 | I96: 43.81206 | J96: 76682.59 | K96: 4061.4307 | L96: 43.819809
B97: 構成比 | D97: 0.81584006 | E97: 9.5915939e-08 | F97: 0.18415984 | G97: 0.13388704 | H97: 0.13334473 | I97: 0.00054231008 | J97: 0.9491848 | K97: 0.050272798 | L97: 0.000542406
B98: 動物の死体 | C98: 164.01994 | D98: 6.6921168 | E98: 1.2274635 | F98: 156.10036 | G98: 54.226022 | H98: 50.682393 | I98: 3.5436285 | J98: 57.37451 | K98: 101.87434 | L98: 4.7710921
B99: 構成比 | D99: 0.040800629 | E99: 0.0074836236 | F99: 0.95171575 | G99: 0.33060627 | H99: 0.30900141 | I99: 0.021604864 | J99: 0.34980204 | K99: 0.62110948 | L99: 0.029088488
B100: ば い じ ん | C100: 16231.92 | D100: 2152.3092 | E100: 946.5318 | F100: 13133.079 | G100: 11583.781 | H100: 11439.62 | I100: 144.1612 | J100: 13591.929 | K100: 1549.2984 | L100: 1090.693
B101: 構成比 | D101: 0.13259732 | E101: 0.058312989 | F101: 0.80908969 | G101: 0.71364206 | H101: 0.70476072 | I101: 0.0088813395 | J101: 0.83735804 | K101: 0.095447632 | L101: 0.067194328
B102: 合計 | C102: 385954.76 | D102: 76114.344 | E102: 4562.1615 | F102: 305278.26 | G102: 132049.82 | H102: 127454.86 | I102: 4594.9571 | J102: 203569.21 | K102: 173228.44 | L102: 9157.1186
...

Sheet 表Ⅲ・1
B1: 表―Ⅲ・１ 都道府県実態調査の実施状況（令和４年度）
B6: №都道府県 | D6: 調査年度
D7: 平成20年度 | E7: 平成21年度 | F7: 平成22年度 | G7: 平成23年度 | H7: 平成24年度 | I7: 平成25年度 | J7: 平成26年度 | K7: 平成27年度 | L7: 平成28年度 | M7: 平成29年度 | N7: 平成30年度 | O7: 令和元年度 | P7: 令和２年度 | Q7: 令和３年度 | R7: 令和４年度
B8: 1 | C8: 北海道 | D8: ○ | H8: ○ | I8: ○ | J8: ○ | K8: ○ | L8: ○ | M8: ○ | N8: ○※ | P8: ▲
B9: 2 | C9: 青森県 | D9: ○ | I9: ○ | N9: ▲
B10: 3 | C10: 岩手県 | D10: ○ | E10: ○ | F10: ○ | G10: ○ | H10: ○ | I10: ○ | J10: ○ | K10: ○ | L10: ○ | M10: ○ | N10: ○ | O10: ○ | P10: ○ | Q10: ○※ | R10: ▲
B11: 4 | C11: 宮城県 | D11: ○ | E11: ○ | F11: ○ | G11: ○ | H11: ○ | I11: ○ | J11: ○ | K11: ○ | L11: ○ | M11: ○ | N11: ○ | O11: ○ | P11: ○ | Q11: ○※ | R11: ▲
B12: 5 | C12: 秋田県 | D12: ○ | E12: ○ | F12: ○ | G12: ○ | H12: ○ | I12: ○ | J12: ○ | K12: ○ | L12: ○ | M12: ○ | N12: ○ | O12: ○ | P12: ○ | Q12: ○※ | R12: ▲
B13: 6 | C13: 山形県 | D13: ○ | E13: ○ | J13: ○※ | N13: ▲
B14: 7 | C14: 福島県 | D14: ○ | E14: ○ | F14: ○ | G14: ○ | H14: ○ | I14: ○ | J14: ○ | K14: ○ | L14: ○ | M14: ○ | N14: ○ | O14: ○ | P14: ○ | Q14: ○※ | R14: ▲
B15: 8 | C15: 茨城県 | D15: ○ | I15: ○ | M15: ○ | N15: ▲
B16: 9 | C16: 栃木県 | D16: ○ | E16: ○ | F16: ○ | G16: ○ | H16: ○ | I16: ○ | J16: ○ | K16: ○ | L16: ○ | M16: ○ | N16: ○ | O16: ○ | P16: ○ | Q16: ○※ | R16: ▲
B17: 10 | C17: 群馬県 | D17: ○ | E17: ○ | F17: ○ | G17: ○ | H17: ○ | I17: ○ | J17: ○ | K17: ○ | L17: ○ | M17: ○ | N17: ○ | O17: ○ | P17: ○ | Q17: ○※ | R17: ▲
B18: 11 | C18: 埼玉県 | D18: ○ | F18: ○ | G18: ○ | H18: ○ | I18: ○ | J18: ○ | K18: ○ | M18: ○ | N18: ○ | O18: ○ | P18: ○ | Q18: ○※ | R18: ▲
B19: 12 | C19: 千葉県 | D19: ○ | E19: ○ | F19: ○ | G19: ○ | H19: ○ | I19: ○ | J19: ○ | K19: ○ | L19: ○ | M19: ○ | N19: ○ | O19: ○ | P19: ○ | Q19: ○※ | R19: ▲
B20: 13 | C20: 東京都 | D20: ○ | E20: ○ | F20: ○ | G20: ○ | H20: ○ | I20: ○ | J20: ○ | K20: ○ | L20: ○ | M20: ○ | N20: ○ | O20: ○ | P20: ○ | Q20: ○※ | R20: ▲
B21: 14 | C21: 神奈川県 | D21: ○ | E21: ○ | F21: ○ | G21: ○ | H21: ○ | I21: ○ | J21: ○ | K21: ○ | L21: ○ | M21: ○ | N21: ○ | O21: ○ | P21: ○ | Q21: ○※ | R21: ▲
B22: 15 | C22: 新潟県 | D22: ○ | I22: ○ | N22: ▲
B23: 16 | C23: 富山県 | D23: ○ | E23: ○ | F23: ○ | G23: ○ | H23: ○ | I23: ○ | J23: ○ | K23: ○ | L23: ○ | M23: ○ | N23: ○ | O23: ○ | P23: ○ | Q23: ○※ | R23: ▲
B24: 17 | C24: 石川県 | D24: ○ | E24: ○ | F24: ○ | G24: ○ | H24: ○ | I24: ○ | J24: ○ | K24: ○ | L24: ○ | M24: ○ | N24: ○ | O24: ○ | P24: ○ | Q24: ○※ | R24: ▲
B25: 18 | C25: 福井県 | D25: ○ | I25: ○ | N25: ▲
B26: 19 | C26: 山梨県 | D26: ○ | E26: ○ | F26: ○ | G26: ○ | H26: ○ | I26: ○ | J26: ○ | K26: ○ | L26: ○ | M26: ○ | N26: ○※ | O26: ▲
B27: 20 | C27: 長野県 | D27: ○ | I27: ○ | N27: ▲
B28: 21 | C28: 岐阜県 | D28: ○ | J28: ○ | N28: ▲
B29: 22 | C29: 静岡県 | D29: ○ | E29: ○ | F29: ○ | H29: ○ | I29: ○ | J29: ○ | K29: ○ | L29: ○ | M29: ○ | N29: ○ | O29: ○ | P29: ○ | Q29: ○※ | R29: ▲
B30: 23 | C30: 愛知県 | D30: ○ | E30: ○ | F30: ○ | H30: ○ | I30: ○ | J30: ○ | K30: ○ | L30: ○ | M30: ○ | N30: ○ | O30: ○ | P30: ○ | Q30: ○※ | R30: ▲
B31: 24 | C31: 三重県 | D31: ○ | H31: ○ | I31: ○ | J31: ○ | K31: ○ | L31: ○ | M31: ○ | N31: ○ | O31: ○ | P31: ○ | Q31: ○※ | R31: ▲
B32: 25 | C32: 滋賀県 | D32: ○ | E32: ○ | F32: ○ | G32: ○ | H32: ○ | I32: ○ | J32: ○ | K32: ○ | L32: ○ | M32: ○ | N32: ○ | O32: ○ | P32: ○ | Q32: ○※ | R32: ▲
B33: 26 | C33: 京都府 | D33: ○ | F33: ○ | K33: ▲
B34: 27 | C34: 大阪府 | D34: ○ | F34: ○ | J34: ○ | O34: ▲
B35: 28 | C35: 兵庫県 | D35: ○ | K35: ○ | P35: ▲
B36: 29 | C36: 奈良県 | D36: ○ | F36: ○ | K36: ○※ | P36: ▲
B37: 30 | C37: 和歌山県 | D37: ○ | E37: ○ | F37: ○ | G37: ○ | H37: ○ | I37: ○ | J37: ○ | K37: ○ | L37: ○ | M37: ○ | N37: ○ | O37: ○ | P37: ○ | Q37: ○※ | R37: ▲
B38: 31 | C38: 鳥取県 | E38: ○ | F38: ○ | G38: ○ | H38: ○ | I38: ○ | J38: ○ | K38: ○ | L38: ○ | M38: ○ | N38: ○ | O38: ○ | P38: ○ | Q38: ○※ | R38: ▲
B39: 32 | C39: 島根県 | D39: ○ | I39: ○ | N39: ▲
B40: 33 | C40: 岡山県 | D40: ○ | E40: ○ | F40: ○ | G40: ○ | H40: ○ | I40: ○ | J40: ○ | K40: ○ | L40: ○ | M40: ○ | N40: ○ | O40: ○ | P40: ○ | Q40: ○※ | R40: ▲
B41: 34 | C41: 広島県 | D41: ○ | E41: ○ | F41: ○ | G41: ○ | H41: ○ | I41: ○ | J41: ○ | K41: ○ | L41: ○ | M41: ○ | N41: ○ | O41: ○ | P41: ○ | Q41: ○※ | R41: ▲
B42: 35 | C42: 山口県 | D42: ○ | J42: ○ | N42: ▲
B43: 36 | C43: 徳島県 | D43: ○ | I43: ▲
B44: 37 | C44: 香川県 | D44: ○ | E44: ○ | F44: ○ | G44: ○ | H44: ○ | I44: ○ | N44: ▲
B45: 38 | C45: 愛媛県 | D45: ○ | E45: ○ | J45: ○※ | O45: ▲
B46: 39 | C46: 高知県 | D46: ●
B47: 40 | C47: 福岡県 | D47: ○ | E47: ○ | I47: ○ | K47: ○ | M47: ○ | N47: ○ | O47: ○ | P47: ○※ | Q47: ▲
B48: 41 | C48: 佐賀県 | D48: ○ | E48: ○ | F48: ○ | G48: ○ | H48: ○ | I48: ○ | J48: ○ | K48: ○ | L48: ○ | M48: ○ | N48: ○ | O48: ○ | P48: ○ | Q48: ○※ | R48: ▲
B49: 42 | C49: 長崎県 | D49: ○ | J49: ○ | O49: ▲
B50: 43 | C50: 熊本県 | D50: ○ | I50: ○ | N50: ▲
B51: 44 | C51: 大分県 | D51: ○ | E51: ○ | G51: ○ | I51: ○ | N51: ○ | O51: ○ | P51: ○ | Q51: ○※ | R51: ▲
B52: 45 | C52: 宮崎県 | D52: ○ | E52: ○ | F52: ○ | G52: ○ | H52: ○ | I52: ○ | J52: ○ | K52: ○ | L52: ○ | M52: ○ | N52: ○ | O52: ○ | P52: ○ | Q52: ○※ | R52: ▲
B53: 46 | C53: 鹿児島県 | D53: ○ | O53: ○ | P53: ○ | Q53: ○※ | R53: ▲
B54: 47 | C54: 沖縄県 | E54: ○ | F54: ○ | G54: ○ | H54: ○ | I54: ○ | K54: ○ | L54: ○ | M54: ○ | N54: ○ | O54: ○ | P54: ○ | Q54: ○※ | R54: ▲
B55: ○、○※ | D55: =COUNTIF(D8:D54,"○")+COUNTIF(D8:D54,"○※") -> 44 | E55: =COUNTIF(E8:E54,"○")+COUNTIF(E8:E54,"○※") -> 27 | F55: =COUNTIF(F8:F54,"○")+COUNTIF(F8:F54,"○※") -> 27 | G55: =COUNTIF(G8:G54,"○")+COUNTIF(G8:G54,"○※") -> 23 | H55: =COUNTIF(H8:H54,"○")+COUNTIF(H8:H54,"○※") -> 26 | I55: =COUNTIF(I8:I54,"○")+COUNTIF(I8:I54,"○※") -> 35 | J55: =COUNTIF(J8:J54,"○")+COUNTIF(J8:J54,"○※") -> 30 | K55: =COUNTIF(K8:K54,"○")+COUNTIF(K8:K54,"○※") -> 28 | ... R55: =COUNTIF(R8:R54,"○")+COUNTIF(R8:R54,"○※") -> 0
B56: ●、▲ | D56: =COUNTIF(D8:D54,"●")+COUNTIF(D8:D54,"▲") -> 1 | E56: =COUNTIF(E8:E54,"●")+COUNTIF(E8:E54,"▲") -> 0 | F56: =COUNTIF(F8:F54,"●")+COUNTIF(F8:F54,"▲") -> 0 | G56: =COUNTIF(G8:G54,"●")+COUNTIF(G8:G54,"▲") -> 0 | H56: =COUNTIF(H8:H54,"●")+COUNTIF(H8:H54,"▲") -> 0 | I56: =COUNTIF(I8:I54,"●")+COUNTIF(I8:I54,"▲") -> 1 | J56: =COUNTIF(J8:J54,"●")+COUNTIF(J8:J54,"▲") -> 0 | K56: =COUNTIF(K8:K54,"●")+COUNTIF(K8:K54,"▲") -> 1 | ... R56: =COUNTIF(R8:R54,"●")+COUNTIF(R8:R54,"▲") -> 25
B57: 計 | D57: =D55+D56 -> 45 | E57: =E55+E56 -> 27 | F57: =F55+F56 -> 27 | G57: =G55+G56 -> 23 | H57: =H55+H56 -> 26 | I57: =I55+I56 -> 36 | J57: =J55+J56 -> 30 | K57: =K55+K56 -> 29 | ... R57: =R55+R56 -> 25
C58: ※１ | D58: ●：今回採用データ、▲：今回採用データ（大分類による回答あり）
D59: ○：以前の調査、○※：以前の調査（按分根拠として採用）

Sheet 図表番号の目次‗本編
A1: 平成２７年度事業
A2: 産業廃棄物排出・処理状況調査報告書 平成２５年度実績（詳細版）
A4: 本編
A5: 表番号 | D5: 該当ページ | F5: 図番号 | I5: 該当ページ
A6: Ⅱ．調査方法
A7: ２．産業廃棄物排出量の推計
A8: 表―Ⅱ・４ | B8: 業種ごとの活動量指標の種類及び出店 | C8: ・・・ | D8: 9
A10: Ⅲ．調査結果
A11: １．アンケート調査結果
A12: 表―Ⅲ・１ | B12: 都道府県実態調査の実施状況（平成２５年度） | C12: ・・・ | D12: 22
A13: 表―Ⅲ・２ | B13: 産業廃棄物の業種別排出量（平成２５年度実績値） | C13: ・・・ | D13: 24 | F13: 図－Ⅲ・１ | G13: 産業廃棄物の業種別排出量（平成２５年度実施値） | H13: ・・・ | I13: 23
A14: 表―Ⅲ・３ | B14: 産業廃棄物の種類別排出量（平成２５年度実施値） | C14: ・・・ | D14: 26 | F14: 図－Ⅲ・２ | G14: 産業廃棄物の種類別排出量（平成２５年度実施値） | H14: ・・・ | I14: 25
A15: 表―Ⅲ・４ | B15: 産業廃棄物の地域別排出量（平成２５年度実施値） | C15: ・・・ | D15: 27 | F15: 図－Ⅲ・３ | G15: 産業廃棄物の地域別排出量（平成２５年度実施値） | H15: ・・・ | I15: 27
A16: 表―Ⅲ・５ | B16: 業種別・種類別排出量推計値一覧表（平成２５年度実施値） | C16: ・・・ | D16: 29 | F16: 図－Ⅲ・４ | G16: 産業廃棄物の処理状況（平成２５年度実施値） | H16: ・・・ | I16: 33
A17: 表―Ⅲ・６ | B17: 都道府県別・種類別推計排出量推計値一覧表（平成２５年度実施値） | C17: ・・・ | D17: 30 | F17: 図－Ⅲ・５ | G17: 産業廃棄物の種類別の処理状況（平成２５年度実施値） | H17: ・・・ | I17: 34
A18: 表―Ⅲ・７ | B18: 業種別・種類別全国共通原単位一覧表（平成２５年度実施値） | C18: ・・・ | D18: 31 | F18: 図－Ⅲ・６ | G18: 産業廃棄物の種類別再生利用率（平成２５年度実施値） | H18: ・・・ | I18: 36
A19: 表―Ⅲ・８ | B19: 全国業種別・種類別活動量指標合計（有回答）一覧表（平成２５年度実施値） | C19: ・・・ | D19: 32 | F19: 図－Ⅲ・７ | G19: 産業廃棄物の再生利用量の種類別内訳（平成２５年度実施値） | H19: ・・・ | I19: 37
A20: 表―Ⅲ・９ | B20: 産業廃棄物排出・処理状況一覧表（平成２５年度実施値） | C20: ・・・ | D20: 35 | F20: 図－Ⅲ・８ | G20: 産業廃棄物の種類別減量化率（平成２５年度実施値） | H20: ・・・ | I20: 38
F21: 図－Ⅲ・９ | G21: 産業廃棄物の減量化量の種類別内訳（平成２５年度実施値） | H21: ・・・ | I21: 39
F22: 図－Ⅲ・１０ | G22: 産業廃棄物の種類別最終処分率（平成２５年度実施値） | H22: ・・・ | I22: 40
F23: 図－Ⅲ・１１ | G23: 産業廃棄物の最終処分量の種類別内訳（平成２５年度実施値） | H23: ・・・ | I23: 41
A25: Ⅳ．まとめ
A26: １．産業廃棄物排出量の変化
F27: 図－Ⅳ・１ | G27: 産業廃棄物排出量の推移（平成２５年度実績値） | H27: ・・・ | I27: 42
F28: 図－Ⅳ・２ | G28: 産業廃棄物の業種別排出量の推移（平成２５年度実績値） | H28: ・・・ | I28: 43
F29: 図－Ⅳ・３ | G29: 産業廃棄物の種類別排出量の推移（平成２５年度実績値） | H29: ・・・ | I29: 44
F30: 図－Ⅳ・４ | G30: 産業廃棄物の地域別排出量の推移（平成２５年度実績値） | H30: ・・・ | I30: 45
F31: 図－Ⅳ・５ | G31: 産業廃棄物の直接再生利用量、中間処理量、直接最終処分量の推移（平成２５年度実績値） | H31: ・・・ | I31: 46
F32: 図－Ⅳ・６ | G32: 産業廃棄物の直接再生利用量、減量化量、最終処分量の推移（平成２５年度実績値） | H32: ・・・ | I32: 47
A34: Ⅴ．石綿含有産業廃棄物の調査結果
A35: 表―Ⅴ・１ | B35: 都道府県の石綿含有産業廃棄物実態調査の実施状況（平成２５年度実施値） | C35: ・・・ | D35: 48 | F35: 図－Ⅴ・１ | G35: 石綿含有産業廃棄物の種類別の排出量（平成２５年度実施値） | H35: ・・・ | I35: 51
A36: 表―Ⅴ・２ | B36: 石綿含有産業廃棄物の排出量の集計結果（平成２５年度実施値） | C36: ・・・ | D36: 50 | F36: 図－Ⅴ・２ | G36: 石綿含有産業廃棄物の業種別の排出量（平成２５年度実施値） | H36: ・・・ | I36: 51
A37: 表―Ⅴ・３ | B37: 石綿含有産業廃棄物の処理量の集計結果（平成２５年度実施値） | C37: ・・・ | D37: 52 | F37: 図－Ⅴ・３ | G37: 石綿含有産業廃棄物の処理量の集計結果（平成２５年度実施値） | H37: ・・・ | I37: 52
A40: 資料編
A41: Ⅱ．活動量指標 | B41: 表－資・Ⅱ・１（１） 活動量指標全国合計値（平成25年度実績値）旧産業分類 | C41: ・・・ | D41: 69
B42: 表－資・Ⅱ・１（２） 活動量指標全国合計値（平成25年度実績値）新産業分類 | C42: ・・・ | D42: 70
B43: 表－資・Ⅱ・１（３） 活動量指標（新産業分類（平成19年11月改訂版）の業種区分）（平成25年度実績値） | C43: ・・・ | D43: 71
B44: 表－資・Ⅱ・１（４） 活動量指標（新産業分類（平成19年11月改訂版）の業種区分）（平成25年度実績値） | C44: ・・・ | D44: 72
A46: Ⅲ．年度補正係数 | B46: 表－資・Ⅲ・１（１） 平成25年度業種別・都道府県別年度補正係数一覧表 | C46: ・・・ | D46: 73,74
A48: Ⅳ．有効回答データ数合計 | B48: 表－資・Ⅳ・1 平成25年度業種別・種類別有効回答データ数合計表（新産業分類の業種区分） | C48: ・・・ | D48: 75
B49: 表－資・Ⅳ・２ 平成25年度業種別・種類別有効回答データ数合計表（旧産業分類の業種区分） | C49: ・・・ | D49: 76
A51: Ⅶ．動物のふん尿及び動物の死体計算資料 | B51: 表－資・Ⅶ・１ 都道府県別家畜飼育頭羽数（平成25年度実績値） | C51: ・・・ | D51: 207
B52: 表－資・Ⅶ・２ 都道府県別動物のふん尿排出量総括表（平成25年度実績値） | C52: ・・・ | D52: 208
B53: 表－資・Ⅶ・３／４ 都道府県別動物の死体の原単位（平成25年度実績値） | C53: ・・・ | D53: 209210
A55: Ⅷ．下水汚泥資料 | B55: 表―資・Ⅷ 都道府県別濃縮汚泥量（平成２５年度実績値） | C55: ・・・ | D55: 211
A58: Ⅸ．産業廃棄物の種類別処理状況フロー図 | C58: ・・・ | D58: 213

Sheet ×表Ⅱ・4
B4: 表－Ⅱ・４ 業種ごとの活動量指標の種類及び出典
B7: 業種 | D7: 活動量指標の種類 | E7: 単位 | F7: 出典 | G7: 出典年次
B8: 農業 | C8: 耕種農業 | D8: 施設面積(ハウス面積、ガラス室面積) | E8: ａ | F8: 世界農林業センサス | G8: 平成16年度 平成21年度
C9: 畜産農業 | D9: 家畜数（乳用牛、肉用牛、豚、鶏） | E9: 頭羽 | F9: 畜産統計 | G9: 平成25年度
B10: 林業、漁業、鉱業 | D10: 従業者数 | E10: 人 | F10: 経済センサス | G10: 平成21年度 平成24年度
B11: 漁業 | D11: 従業者数 | E11: 人 | F11: 経済センサス | G11: 平成21年 平成24年
B12: 鉱業 | D12: 従業者数 | E12: 人 | F12: 経済センサス | G12: 平成21年 平成24年
B13: 建設業 | D13: 元請完成工事高 | E13: 百万円 | F13: 建設工事施工統計調査報告 | G13: 平成25年度
B14: 製造業 | D14: 製造品出荷額等 | E14: 百万円 | F14: 工業統計 | G14: 平成25年度
B15: 電気･ガス･熱供給･水道業 | D15: 従業者数 | E15: 人 | F15: 経済センサス | G15: 平成21年度 平成24年度
C16: 上水道業 | D16: 給水人口 | E16: 人 | F16: 給水人口と給水普及率 | G16: 平成25年度
C17: 下水道業 | D17: 処理区域人口 | E17: 人 | F17: 都道府県別汚水処理人口普及状況 | G17: 平成25年度
B18: 情報通信業、運輸業 卸売・小売業 不動産業，物品賃貸業 学術研究，専門・技術サービス業 宿泊業、飲食サービス業 生活関連サービス業，娯楽業 | D18: 従業者数 | E18: 人 | F18: 経済センサス | G18: 平成21年度 平成24年度
B19: 卸売・小売業 飲食店、宿泊業 | D19: 従業者数 | E19: 人 | F19: 経済センサス | G19: 平成21年 平成24年
B20: 不動産業，物品賃貸業
B21: 学術研究，専門・技術サービス業
B22: 医療、福祉 | D22: 病床数 | E22: 床 | F22: 医療施設動態調査 | G22: 平成25年度
B23: 教育，学習支援業 複合ｻｰﾋﾞｽ業、サービス業 | D23: 従業者数 | E23: 人 | F23: 経済センサス | G23: 平成21年度 平成24年度
C24: と畜場(動物系固形不要物) | D24: と畜頭数 | E24: 頭 | F24: 畜産物流通統計 | G24: 平成25年度
B25: 公務 | D25: 従業者数 | E25: 人 | F25: 就業構造基本調査 | G25: 平成19年度 平成24年度

Sheet 表V・1
B1: 表―Ⅴ・1 都道府県の石綿含産業廃棄物実態調査の実施状況（令和４年度実績値）
B6: №都道府県 | D6: 調査年度
D7: 平成21年度 | E7: 平成22年度 | F7: 平成23年度 | G7: 平成24年度 | H7: 平成25年度 | I7: 平成26年度 | J7: 平成27年度 | K7: 平成28年度 | L7: 平成29年度 | M7: 平成30年度 | N7: 令和元年度 | O7: 令和２年度 | P7: 令和３年度 | Q7: 令和４年度
B8: 1 | C8: 北海道
B9: 2 | C9: 青森県
B10: 3 | C10: 岩手県 | G10: ○ | H10: ○ | I10: ○ | J10: ○ | K10: ○ | L10: ○ | M10: ○ | N10: ○ | O10: ○ | P10: ○ | Q10: ●
B11: 4 | C11: 宮城県
B12: 5 | C12: 秋田県
B13: 6 | C13: 山形県
B14: 7 | C14: 福島県 | E14: ○ | F14: ○ | G14: ○ | H14: ○ | I14: ○ | J14: ○ | K14: ○ | L14: ○ | M14: ○ | N14: ○ | O14: ○ | P14: ○
B15: 8 | C15: 茨城県
B16: 9 | C16: 栃木県 | F16: ○ | G16: ○ | J16: ○
B17: 10 | C17: 群馬県
B18: 11 | C18: 埼玉県
B19: 12 | C19: 千葉県 | H19: ○
B20: 13 | C20: 東京都 | H20: ○
B21: 14 | C21: 神奈川県
B22: 15 | C22: 新潟県
B23: 16 | C23: 富山県
B24: 17 | C24: 石川県 | N24: ○
B25: 18 | C25: 福井県
B26: 19 | C26: 山梨県
B27: 20 | C27: 長野県
B28: 21 | C28: 岐阜県
B29: 22 | C29: 静岡県 | E29: ○ | G29: ○ | H29: ○ | I29: ○ | J29: ○ | K29: ○ | L29: ○ | M29: ○ | N29: ○ | O29: ○ | P29: ○ | Q29: ●
B30: 23 | C30: 愛知県 | D30: ○ | E30: ○ | G30: ○ | H30: ○ | J30: ○ | K30: ○ | L30: ○ | M30: ○
B31: 24 | C31: 三重県 | H31: ○
B32: 25 | C32: 滋賀県 | E32: ○ | F32: ○ | G32: ○ | H32: ○ | I32: ○ | J32: ○ | K32: ○ | L32: ○ | M32: ○ | N32: ○ | O32: ○ | P32: ○ | Q32: ●
B33: 26 | C33: 京都府
B34: 27 | C34: 大阪府 | E34: ○
B35: 28 | C35: 兵庫県 | J35: ○ | O35: ○
B36: 29 | C36: 奈良県
B37: 30 | C37: 和歌山県 | E37: ○ | F37: ○ | G37: ○ | H37: ○ | I37: ○ | J37: ○ | K37: ○ | L37: ○ | M37: ○ | N37: ○
B38: 31 | C38: 鳥取県
B39: 32 | C39: 島根県 | H39: ○
B40: 33 | C40: 岡山県 | E40: ○
B41: 34 | C41: 広島県 | I41: ○
B42: 35 | C42: 山口県 | M42: ○
B43: 36 | C43: 徳島県 | H43: ○
B44: 37 | C44: 香川県 | H44: ○ | M44: ○
B45: 38 | C45: 愛媛県 | E45: ○
B46: 39 | C46: 高知県
B47: 40 | C47: 福岡県 | E47: ○
B48: 41 | C48: 佐賀県 | I48: ○ | M48: ○ | N48: ○ | O48: ○ | P48: ○ | Q48: ●
B49: 42 | C49: 長崎県
B50: 43 | C50: 熊本県 | M50: ○
B51: 44 | C51: 大分県 | H51: ○
B52: 45 | C52: 宮崎県
B53: 46 | C53: 鹿児島県
B54: 47 | C54: 沖縄県 | H54: ○ | N54: ○
B55: ○ | D55: =COUNTIF(D8:D54,"○") -> 1 | E55: =COUNTIF(E8:E54,"○") -> 9 | F55: =COUNTIF(F8:F54,"○") -> 4 | G55: =COUNTIF(G8:G54,"○") -> 7 | H55: =COUNTIF(H8:H54,"○") -> 14 | I55: =COUNTIF(I8:I54,"○") -> 7 | J55: =COUNTIF(J8:J54,"○") -> 8 | K55: =COUNTIF(K8:K54,"○") -> 6 | ... Q55: =COUNTIF(Q8:Q54,"○") -> 0
B56: ● | D56: =COUNTIF(D8:D54,"●") -> 0 | E56: =COUNTIF(E8:E54,"●") -> 0 | F56: =COUNTIF(F8:F54,"●") -> 0 | G56: =COUNTIF(G8:G54,"●") -> 0 | H56: =COUNTIF(H8:H54,"●") -> 0 | I56: =COUNTIF(I8:I54,"●") -> 0 | J56: =COUNTIF(J8:J54,"●") -> 0 | K56: =COUNTIF(K8:K54,"●") -> 0 | ... Q56: =COUNTIF(Q8:Q54,"●") -> 4
B57: 計 | D57: =D55+D56 -> 1 | E57: =E55+E56 -> 9 | F57: =F55+F56 -> 4 | G57: =G55+G56 -> 7 | H57: =H55+H56 -> 14 | I57: =I55+I56 -> 7 | J57: =J55+J56 -> 8 | K57: =K55+K56 -> 6 | ... Q57: =Q55+Q56 -> 4
B58: ※ | C58: ●：今回採用データ、○：以前の調査

Sheet 表V・2
B1: 表―Ⅴ・２ 石綿含産業廃棄物の排出量の集計結果
B7: 大分類 | C7: 番 | D7: 産業分類 | E7: コード | F7: 廃プラスチック類 | J7: ガラスくず、コンクリート及び陶磁器くず | N7: がれき類 | R7: 合 計
C8: 号 | F8: 母数排出量 （t／年） | G8: うち石綿含有 （t／年） | H8: データ数(件) | I8: 比率 | J8: 母数排出量 （t／年） | K8: うち石綿含有 （t／年） | L8: データ数(件) | M8: 比率 | N8: 母数排出量 （t／年） | O8: うち石綿含有 （t／年） | P8: データ数(件) | Q8: 比率 | R8: 母数排出量 （t／年） | S8: うち石綿含有 （t／年） | T8: データ数(件) | U8: 比率
D9: 農業，林業大分類 | E9: A | F9: 5446.392 | G9: 0 | I9: 0 | J9: 373.588 | K9: 0 | M9: 0 | N9: 389.66 | O9: 0 | Q9: 0 | R9: 6209.64 | S9: 0 | T9: 0 | U9: 0
C10: 1 | D10: 耕種農業 | E10: A011 | F10: 0 | G10: 0 | H10: 0 | J10: 0 | K10: 0 | L10: 0 | N10: 0 | O10: 0 | R10: 0 | S10: 0 | T10: 0
B11: 農業，林業 | C11: 2 | D11: 畜産農業 | E11: A012 | F11: 0 | G11: 0 | H11: 0 | J11: 0 | K11: 0 | L11: 0 | N11: 0 | O11: 0 | R11: 0 | S11: 0 | T11: 0
C12: 3 | D12: 林業 | E12: A02 | F12: 0 | G12: 0 | H12: 0 | J12: 0 | K12: 0 | L12: 0 | N12: 0 | O12: 0 | R12: 0 | S12: 0 | T12: 0
C13: 4 | D13: 上記以外の農業，林業 | F13: 0 | G13: 0 | H13: 0 | J13: 0 | K13: 0 | L13: 0 | N13: 0 | O13: 0 | R13: 0 | S13: 0 | T13: 0
D14: 漁業大分類 | E14: B | F14: 198.635 | G14: 0 | I14: 0 | J14: 1.26 | K14: 0 | M14: 0 | N14: 0 | O14: 0 | R14: 199.895 | S14: 0 | T14: 0 | U14: 0
B15: 漁 業 | C15: 5 | D15: 漁業 | E15: B03 | F15: 0 | G15: 0 | H15: 0 | J15: 0 | K15: 0 | L15: 0 | N15: 0 | O15: 0 | R15: 0 | S15: 0 | T15: 0
C16: 6 | D16: 水産養殖業 | E16: B04 | F16: 0 | G16: 0 | H16: 0 | J16: 0 | K16: 0 | L16: 0 | N16: 0 | O16: 0 | P16: 0 | R16: 0 | S16: 0 | T16: 0
B17: 鉱 業 | C17: 7 | D17: 鉱業，採石業，砂利採取業 | E17: C | F17: 113.006 | G17: 0 | I17: 0 | J17: 524.614 | K17: 0.58 | L17: 2 | M17: 0.0011055748 | N17: 0 | O17: 0 | R17: 637.62 | S17: 0.58 | T17: 0 | U17: 0.0009096327
B18: 建設業 | C18: 8 | D18: 建設業 | E18: D | F18: 145409.15 | G18: 258.2168 | H18: 4 | I18: 0.0017757948 | J18: 210891.96 | K18: 3012.3474 | L18: 4 | M18: 0.014283842 | N18: 3894205.1 | O18: 21417.238 | P18: 4 | Q18: 0.0054997715 | R18: 4250506.2 | S18: 24687.802 | T18: 0 | U18: 0.0058082029
D19: 製造業大分類 | E19: E | F19: 336477.09 | G19: 242.67678 | H19: 4 | I19: 0.00072122824 | J19: 305012.78 | K19: 330.34171 | L19: 4 | M19: 0.0010830422 | N19: 58295.579 | O19: 61.262699 | P19: 1 | Q19: 0.0010508979 | R19: 699785.45 | S19: 634.28119 | T19: 0 | U19: 0.0009063938
C20: 9 | D20: 食料品製造業 | E20: E09 | F20: 25274.91 | G20: 14.299246 | H20: 2 | I20: 0.00056574865 | J20: 9501.9012 | K20: 1.7756465 | L20: 2 | M20: 0.00018687276 | N20: 2.96 | O20: 0 | Q20: 0 | R20: 34779.771 | S20: 16.074893 | T20: 0 | U20: 0.00046219087
C21: 10 | D21: 飲料・たばこ・飼料製造業 | E21: E10 | F21: 4631.5758 | G21: 1.0596443 | H21: 1 | I21: 0.00022878699 | J21: 479.81872 | K21: 1.4445898 | L21: 2 | M21: 0.0030106991 | N21: 0 | O21: 0 | R21: 5111.3945 | S21: 2.5042341 | T21: 0 | U21: 0.00048993168
C22: 11 | D22: 繊維工業 | E22: E11 | F22: 15339.456 | G22: 3.2214591 | H22: 1 | I22: 0.0002100113 | J22: 62.329 | K22: 1.46 | L22: 2 | M22: 0.023424088 | N22: 13.36 | O22: 0 | Q22: 0 | R22: 15415.145 | S22: 4.6814591 | T22: 0 | U22: 0.00030369219
C23: 12 | D23: 木材・木製品製造業 | E23: E12 | F23: 13638.593 | G23: 38.64704 | H23: 1 | I23: 0.002833653 | J23: 763.861 | K23: 11.952127 | L23: 3 | M23: 0.015646992 | N23: 122.91 | O23: 0 | Q23: 0 | R23: 14525.364 | S23: 50.599167 | T23: 0 | U23: 0.0034835042
C24: 13 | D24: 家具・装備品製造業 | E24: E13 | F24: 1763.6997 | G24: 1.1819749 | H24: 1 | I24: 0.00067016792 | J24: 52.259 | K24: 2.825 | L24: 2 | M24: 0.054057674 | N24: 0.74 | O24: 0 | Q24: 0 | R24: 1816.6987 | S24: 4.0069749 | T24: 0 | U24: 0.0022056354
C25: 14 | D25: パルプ・紙・紙加工品製造業 | E25: E14 | F25: 83692.773 | G25: 25.290437 | H25: 1 | I25: 0.00030218185 | J25: 1281.156 | K25: 0 | M25: 0 | N25: 3.2243736 | O25: 0.0038433169 | P25: 1 | Q25: 0.0011919577 | R25: 84977.153 | S25: 25.29428 | T25: 0 | U25: 0.00029765978
C26: 15 | D26: 印刷・同関連業 | E26: E15 | F26: 11042.04 | G26: 0.27145061 | H26: 1 | I26: 2.4583375e-05 | J26: 2.65 | K26: 0 | M26: 0 | N26: 1.184 | O26: 0 | Q26: 0 | R26: 11045.874 | S26: 0.27145061 | T26: 0 | U26: 2.4574842e-05
C27: 16 | D27: 化学工業 | E27: E16 | F27: 30488.513 | G27: 41.573917 | H27: 3 | I27: 0.0013635928 | J27: 7317.5813 | K27: 143.01978 | L27: 3 | M27: 0.019544679 | N27: 38.184963 | O27: 0.0022292041 | P27: 1 | Q27: 5.8379107e-05 | R27: 37844.279 | S27: 184.59592 | T27: 0 | U27: 0.0048777762
C28: 17 | D28: 石油製品・石炭製品製造業 | E28: E17 | F28: 1024.7528 | G28: 0.070819717 | H28: 1 | I28: 6.9109075e-05 | J28: 3426.304 | K28: 0 | M28: 0 | N28: 0 | O28: 0 | R28: 4451.0568 | S28: 0.070819717 | T28: 0 | U28: 1.5910765e-05
B29: 製造業 | C29: 18 | D29: プラスチック製品製造業 | E29: E18 | F29: 32700.206 | G29: 4.3203528 | H29: 1 | I29: 0.00013212005 | J29: 1202.1566 | K29: 0.057784902 | L29: 2 | M29: 4.80677e-05 | N29: 244.04 | O29: 0 | Q29: 0 | R29: 34146.403 | S29: 4.3781377 | T29: 0 | U29: 0.00012821666
C30: 19 | D30: ゴム製品製造業 | E30: E19 | F30: 29998.444 | G30: 71.780849 | H30: 1 | I30: 0.0023928191 | J30: 31.433201 | K30: 0.026955841 | L30: 1 | M30: 0.00085755954 | N30: 65 | O30: 0 | Q30: 0 | R30: 30094.877 | S30: 71.807804 | T30: 0 | U30: 0.0023860474
C31: 20 | D31: なめし革・同製品・毛皮製造業 | E31: E20 | F31: 203.4396 | G31: 0.60876592 | H31: 1 | I31: 0.0029923669 | J31: 0 | K31: 0 | N31: 0 | O31: 0 | R31: 203.4396 | S31: 0.60876592 | T31: 0 | U31: 0.0029923669
C32: 21 | D32: 窯業・土石製品製造業 | E32: E21 | F32: 6291.7731 | G32: 7.8273687 | H32: 2 | I32: 0.0012440641 | J32: 251049.81 | K32: 96.939942 | L32: 3 | M32: 0.00038613827 | N32: 49600.647 | O32: 60.467424 | P32: 1 | Q32: 0.0012190854 | R32: 306942.23 | S32: 165.23473 | T32: 0 | U32: 0.00053832519
C33: 22 | D33: 鉄鋼業 | E33: E22 | F33: 3410.3647 | G33: 0.62553057 | H33: 2 | I33: 0.00018342043 | J33: 3035.873 | K33: 18.253182 | L33: 3 | M33: 0.0060124986 | N33: 180.558 | O33: 0 | Q33: 0 | R33: 6626.7958 | S33: 18.878713 | T33: 0 | U33: 0.0028488448
C34: 23 | D34: 非鉄金属製造業 | E34: E23 | F34: 2100.1422 | G34: 1.9479327 | H34: 1 | I34: 0.00092752419 | J34: 3683.7135 | K34: 1.8226056 | L34: 2 | M34: 0.00049477397 | N34: 35.49 | O34: 0 | Q34: 0 | R34: 5819.3457 | S34: 3.7705382 | T34: 0 | U34: 0.00064793165
C35: 24 | D35: 金属製品製造業 | E35: E24 | F35: 8834.1265 | G35: 3.5126573 | H35: 1 | I35: 0.00039762361 | J35: 5997.9659 | K35: 5.8982282 | L35: 2 | M35: 0.0009833714 | N35: 5610.5359 | O35: 0.7851729 | P35: 1 | Q35: 0.00013994615 | R35: 20442.628 | S35: 10.196058 | T35: 0 | U35: 0.00049876455
C36: 25 | D36: はん用機械器具製造業 | E36: E25 | F36: 2025.4715 | G36: 0.68598054 | H36: 1 | I36: 0.00033867697 | J36: 162.294 | K36: 0.55 | L36: 2 | M36: 0.0033889115 | N36: 118.144 | O36: 0 | Q36: 0 | R36: 2305.9095 | S36: 1.2359805 | T36: 0 | U36: 0.00053600567
C37: 26 | D37: 生産用機械器具製造業 | E37: E26 | F37: 2009.021 | G37: 1.361389 | H37: 1 | I37: 0.00067763799 | J37: 435.75522 | K37: 0.02336507 | L37: 1 | M37: 5.3619714e-05 | N37: 30.85 | O37: 0 | Q37: 0 | R37: 2475.6262 | S37: 1.384754 | T37: 0 | U37: 0.00055935505
C38: 27 | D38: 業務用機械器具製造業 | E38: E27 | F38: 2871.3842 | G38: 0.45427427 | H38: 2 | I38: 0.00015820741 | J38: 69.799 | K38: 0 | M38: 0 | N38: 268.31 | O38: 0 | Q38: 0 | R38: 3209.4932 | S38: 0.45427427 | T38: 0 | U38: 0.00014154081
C39: 28 | D39: 電子部品・デバイス・電子回路製造業 | E39: E28 | F39: 5356.254 | G39: 1.2766739 | H39: 2 | I39: 0.00023835201 | J39: 3127.6994 | K39: 11.007285 | L39: 2 | M39: 0.0035192911 | N39: 1196.4108 | O39: 0.00063088979 | P39: 1 | Q39: 5.2731869e-07 | R39: 9680.3642 | S39: 12.284589 | T39: 0 | U39: 0.0012690214
C40: 29 | D40: 電気機械器具製造業 | E40: E29 | F40: 9871.0599 | G40: 6.0251027 | H40: 3 | I40: 0.00061038052 | J40: 4714.9789 | K40: 1.3281619 | L40: 4 | M40: 0.00028168989 | N40: 488.03357 | O40: 0.00339803 | P40: 1 | Q40: 6.9626972e-06 | R40: 15074.072 | S40: 7.3566626 | T40: 0 | U40: 0.00048803418
C41: 30 | D41: 情報通信機械器具製造業 | E41: E30 | F41: 470.26804 | G41: 0.25735562 | H41: 1 | I41: 0.00054725307 | J41: 110.06654 | K41: 0.026681545 | L41: 1 | M41: 0.00024241287 | N41: 0 | O41: 0 | R41: 580.33457 | S41: 0.28403717 | T41: 0 | U41: 0.00048943693
C42: 31 | D42: 輸送用機械器具製造業 | E42: E31 | F42: 14222.264 | G42: 5.8061255 | H42: 1 | I42: 0.000408242 | J42: 2849.9691 | K42: 14.010377 | L42: 3 | M42: 0.0049159751 | N42: 41.346 | O42: 0 | Q42: 0 | R42: 17113.579 | S42: 19.816502 | T42: 0 | U42: 0.0011579403
C43: 32 | D43: その他の製造業 | E43: E32 | F43: 29216.561 | G43: 10.570435 | H43: 3 | I43: 0.000361796 | J43: 5653.399 | K43: 17.92 | L43: 3 | M43: 0.0031697745 | N43: 233.65 | O43: 0 | Q43: 0 | R43: 35103.61 | S43: 28.490435 | T43: 0 | U43: 0.00081160983
D44: 電気・ガス・熱供給・水道業大分類 | E44: F | F44: 960.63065 | G44: 1.0454412 | H44: 3 | I44: 0.0010882863 | J44: 3533.994 | K44: 1392.0966 | L44: 4 | M44: 0.39391596 | N44: 3432.4739 | O44: 1.5292668 | P44: 1 | Q44: 0.00044552905 | R44: 7927.0986 | S44: 1394.6714 | T44: 0 | U44: 0.17593718
B45: 電気･ガス | C45: 33 | D45: 電気業 | E45: F33 | F45: 733.86465 | G45: 0.98570205 | H45: 2 | I45: 0.001343166 | J45: 3133.968 | K45: 1378.2128 | L45: 2 | M45: 0.43976607 | N45: 3112.1679 | O45: 1.5025749 | P45: 1 | Q45: 0.00048280651 | R45: 6980.0006 | S45: 1380.7011 | T45: 0 | U45: 0.19780816
B46: ･熱供給･ | C46: 34 | D46: ガス業 | E46: F34 | F46: 102.327 | G46: 0.043664127 | H46: 2 | I46: 0.00042671169 | J46: 222.786 | K46: 13.362992 | L46: 2 | M46: 0.059981293 | N46: 231.21 | O46: 0.026691912 | P46: 1 | Q46: 0.00011544445 | R46: 556.323 | S46: 13.433348 | T46: 0 | U46: 0.024146671
B47: 水道業 | C47: 35 | D47: 熱供給業 | E47: F35 | F47: 0 | G47: 0 | H47: 0 | J47: 0 | K47: 0 | L47: 0 | N47: 0 | O47: 0 | R47: 0 | S47: 0 | T47: 0
C48: 36 | D48: 上水道業 | E48: F361 | F48: 32.055 | G48: 2.6931302e-05 | H48: 1 | I48: 8.4015916e-07 | J48: 6.245 | K48: 0.09 | L48: 2 | M48: 0.014411529 | N48: 76 | O48: 0 | Q48: 0 | R48: 114.3 | S48: 0.090026931 | T48: 0 | U48: 0.00078763719
C49: 37 | D49: 下水道業 | E49: F363 | F49: 92.384001 | G49: 0.016048067 | H49: 1 | I49: 0.00017371046 | J49: 170.995 | K49: 0.4308618 | L49: 2 | M49: 0.0025197333 | N49: 13.096 | O49: 0 | Q49: 0 | R49: 276.475 | S49: 0.44690987 | T49: 0 | U49: 0.0016164567
D50: 情報通信業大分類 | E50: G | F50: 1654.8862 | G50: 0 | I50: 0 | J50: 2482.14 | K50: 0 | M50: 0 | N50: 1887.0995 | O50: 0 | Q50: 0 | R50: 6024.1256 | S50: 0 | T50: 0 | U50: 0
C51: 38 | D51: 通信業 | E51: G37 | F51: 645.12512 | G51: 0 | H51: 0 | I51: 0 | J51: 2403.3752 | K51: 0 | M51: 0 | N51: 976.84741 | O51: 0 | Q51: 0 | R51: 4025.3478 | S51: 0 | T51: 0 | U51: 0
B52: 情報通信業 | C52: 39 | D52: 放送業 | E52: G38 | F52: 546.95391 | G52: 0 | H52: 0 | I52: 0 | J52: 76.649012 | K52: 0 | M52: 0 | N52: 910.25204 | O52: 0 | Q52: 0 | R52: 1533.855 | S52: 0 | T52: 0 | U52: 0
C53: 40 | D53: 情報サービス業 | E53: G39 | F53: 378.6604 | G53: 0 | H53: 0 | I53: 0 | J53: 0.23397538 | K53: 0 | M53: 0 | N53: 0 | O53: 0 | R53: 378.89437 | S53: 0 | T53: 0 | U53: 0
C54: 41 | D54: インターネット付随サービス業 | E54: G40 | F54: 0 | G54: 0 | H54: 0 | J54: 0 | K54: 0 | N54: 0 | O54: 0 | R54: 0 | S54: 0 | T54: 0
C55: 42 | D55: 映像・音声・文字情報制作業 | E55: G41 | F55: 84.146755 | G55: 0 | H55: 0 | I55: 0 | J55: 1.8817838 | K55: 0 | M55: 0 | N55: 0 | O55: 0 | R55: 86.028539 | S55: 0 | T55: 0 | U55: 0
D56: 運輸業，郵便業大分類 | E56: H | F56: 23145.707 | G56: 0 | I56: 0 | J56: 1927.3831 | K56: 0 | M56: 0 | N56: 980.19557 | O56: 0 | Q56: 0 | R56: 26053.286 | S56: 0 | T56: 0 | U56: 0
B57: 運輸業， | C57: 43 | D57: 鉄道業 | E57: H42 | F57: 0 | G57: 0 | H57: 0 | J57: 0 | K57: 0 | N57: 0 | O57: 0 | R57: 0 | S57: 0 | T57: 0
B58: 郵便業 | C58: 44 | D58: 道路旅客運送業 | E58: H43 | F58: 0 | G58: 0 | H58: 0 | J58: 0 | K58: 0 | N58: 0 | O58: 0 | R58: 0 | S58: 0 | T58: 0
C59: 45 | D59: 道路貨物運送業 | E59: H44 | F59: 0 | G59: 0 | H59: 0 | J59: 0 | K59: 0 | N59: 980.19557 | O59: 0 | Q59: 0 | R59: 980.19557 | S59: 0 | T59: 0 | U59: 0
C60: 46 | D60: 上記以外の運輸業，郵便業 | F60: 0 | G60: 0 | H60: 0 | J60: 0 | K60: 0 | N60: 0 | O60: 0 | R60: 0 | S60: 0 | T60: 0
D61: 卸売業，小売業大分類 | E61: I | F61: 43057.788 | G61: 0 | I61: 0 | J61: 4235.0518 | K61: 0 | M61: 0 | N61: 4619.6881 | O61: 0 | Q61: 0 | R61: 51912.528 | S61: 0 | T61: 0 | U61: 0
C62: 47 | D62: 各種商品卸売業 | E62: I50 | F62: 0 | G62: 0 | H62: 0 | J62: 0 | K62: 0 | L62: 0 | N62: 0 | O62: 0 | R62: 0 | S62: 0 | T62: 0
C63: 48 | D63: 木材・竹材卸売業 | E63: I5311 | F63: 0 | G63: 0 | H63: 0 | J63: 0 | K63: 0 | L63: 0 | N63: 0 | O63: 0 | R63: 0 | S63: 0 | T63: 0
C64: 49 | D64: 各種商品小売業 | E64: I56 | F64: 0 | G64: 0 | H64: 0 | J64: 0 | K64: 0 | L64: 0 | N64: 0 | O64: 0 | R64: 0 | S64: 0 | T64: 0
B65: 卸売業， | C65: 50 | D65: 自動車小売業 | E65: I591 | F65: 0 | G65: 0 | H65: 0 | J65: 2117.5259 | K65: 0 | L65: 0 | M65: 0 | N65: 0 | O65: 0 | R65: 2117.5259 | S65: 0 | T65: 0 | U65: 0
B66: 小売業 | C66: 51 | D66: 機械器具小売業 | E66: I593 | F66: 0 | G66: 0 | H66: 0 | J66: 0 | K66: 0 | L66: 0 | N66: 0 | O66: 0 | R66: 0 | S66: 0 | T66: 0
C67: 52 | D67: 家具・建具・畳小売業 | E67: I601 | F67: 0 | G67: 0 | H67: 0 | J67: 0 | K67: 0 | L67: 0 | N67: 0 | O67: 0 | P67: 0 | R67: 0 | S67: 0 | T67: 0
C68: 53 | D68: じゅう器小売業 | E68: I602 | F68: 0 | G68: 0 | H68: 0 | J68: 0 | K68: 0 | L68: 0 | N68: 0 | O68: 0 | P68: 0 | R68: 0 | S68: 0 | T68: 0
C69: 54 | D69: 燃料小売業 | E69: I605 | F69: 0 | G69: 0 | H69: 0 | J69: 2117.5259 | K69: 0 | L69: 0 | M69: 0 | N69: 4619.6881 | O69: 0 | P69: 0 | Q69: 0 | R69: 6737.214 | S69: 0 | T69: 0 | U69: 0
C70: 55 | D70: 上記以外の卸売業，小売業 | F70: 0 | G70: 0 | H70: 0 | J70: 0 | K70: 0 | L70: 0 | N70: 0 | O70: 0 | P70: 0 | R70: 0 | S70: 0 | T70: 0
B71: 不動産業， | D71: 不動産業，物品賃貸業大分類 | E71: K | F71: 1387.8031 | G71: 0 | I71: 0 | J71: 3526.69 | K71: 0 | M71: 0 | N71: 937.864 | O71: 0 | Q71: 0 | R71: 5852.3571 | S71: 0 | T71: 0 | U71: 0
B72: 物品賃貸業 | C72: 56 | D72: 物品賃貸業 | E72: K70 | F72: 1387.8031 | G72: 0 | I72: 0 | J72: 3526.69 | K72: 0 | M72: 0 | N72: 937.864 | O72: 0 | Q72: 0 | R72: 5852.3571 | S72: 0 | T72: 0 | U72: 0
B73: 学術研究，専門 | D73: 学術研究，専門・技術サービス業大分類 | E73: L | F73: 1659.2857 | G73: 0 | I73: 0 | J73: 355.06405 | K73: 0 | M73: 0 | N73: 1980.8872 | O73: 0 | Q73: 0 | R73: 3995.237 | S73: 0 | T73: 0 | U73: 0
B74: ・技術サービス業 | C74: 57 | D74: 学術・開発研究機関 | E74: L71 | F74: 1503.9133 | G74: 0 | I74: 0 | J74: 348.47815 | K74: 0 | M74: 0 | N74: 1980.8872 | O74: 0 | Q74: 0 | R74: 3833.2787 | S74: 0 | T74: 0 | U74: 0
C75: 58 | D75: 写真業 | E75: L746 | F75: 155.37243 | G75: 0 | I75: 0 | J75: 6.5859067 | K75: 0 | M75: 0 | N75: 0 | O75: 0 | R75: 161.95834 | S75: 0 | T75: 0 | U75: 0
B76: 宿泊業，飲食 | D76: 宿泊業，飲食サービス業大分類 | E76: M | F76: 2059.1882 | G76: 0 | I76: 0 | J76: 851.73283 | K76: 0 | M76: 0 | N76: 137.28 | O76: 0 | Q76: 0 | R76: 3048.201 | S76: 0 | T76: 0 | U76: 0
B77: サービス業 | C77: 59 | D77: 飲食店 | E77: M76 | F77: 0 | G77: 0 | J77: 0 | K77: 0 | N77: 0 | O77: 0 | R77: 0 | S77: 0 | T77: 0
C78: 60 | D78: 上記以外の宿泊業，飲食サービス業 | F78: 0 | G78: 0 | J78: 0 | K78: 0 | N78: 0 | O78: 0 | R78: 0 | S78: 0 | T78: 0
B79: 生活関連サー | D79: 生活関連サービス業，娯楽業大分類 | E79: N | F79: 5206.3684 | G79: 0 | I79: 0 | J79: 1231.528 | K79: 0 | M79: 0 | N79: 310.59 | O79: 0 | Q79: 0 | R79: 6748.4864 | S79: 0 | T79: 0 | U79: 0
B80: ビス業，娯楽業 | C80: 61 | D80: 洗濯業 | E80: N781 | F80: 0 | G80: 0 | H80: 0 | J80: 0 | K80: 0 | N80: 0 | O80: 0 | R80: 0 | S80: 0 | T80: 0
B81: 教育，学習支援業 | C81: 62 | D81: 教育，学習支援業 | E81: O | F81: 1987.2593 | G81: 2.0379832 | H81: 2 | I81: 0.0010255246 | J81: 352.90734 | K81: 0.079304715 | L81: 1 | M81: 0.00022471824 | N81: 5.13 | O81: 0 | Q81: 0 | R81: 2345.2966 | S81: 2.1172879 | T81: 0 | U81: 0.00090278044
D82: 医療，福祉大分類 | E82: P | F82: 15147.861 | G82: 0 | I82: 0 | J82: 1345.5637 | K82: 0 | M82: 0 | N82: 34.138 | O82: 0 | Q82: 0 | R82: 16527.562 | S82: 0 | T82: 0 | U82: 0
B83: 医療，福祉 | C83: 63 | D83: 医療業 | E83: P83 | F83: 12406.457 | G83: 0 | H83: 0 | I83: 0 | J83: 1342.3622 | K83: 0 | L83: 0 | M83: 0 | N83: 0 | O83: 0 | R83: 13748.82 | S83: 0 | T83: 0 | U83: 0
C84: 64 | D84: 上記以外の医療，福祉 | F84: 2741.4033 | G84: 0 | H84: 0 | I84: 0 | J84: 3.2015882 | K84: 0 | L84: 0 | M84: 0 | N84: 0 | O84: 0 | R84: 2744.6049 | S84: 0 | T84: 0 | U84: 0
B85: 教育、学習支援業 | C85: 65 | D85: 複合サービス事業 | E85: Q | F85: 346.0458 | G85: 0.9221601 | H85: 1 | I85: 0.0026648498 | J85: 7.2901378 | K85: 0.00022184759 | L85: 1 | M85: 3.0431193e-05 | N85: 1.67 | O85: 0 | Q85: 0 | R85: 355.00594 | S85: 0.92238195 | T85: 0 | U85: 0.0025982155
D86: サービス業大分類 | E86: R | F86: 135423.61 | G86: 0 | I86: 0 | J86: 29498.421 | K86: 0 | M86: 0 | N86: 35552.957 | O86: 0 | Q86: 0 | R86: 200474.99 | S86: 0 | T86: 0 | U86: 0
B87: サービス業 | C87: 66 | D87: 自動車整備業 | E87: R891 | F87: 0 | G87: 0 | H87: 0 | J87: 29498.421 | K87: 0 | M87: 0 | N87: 265.69849 | O87: 0 | Q87: 0 | R87: 29764.119 | S87: 0 | T87: 0 | U87: 0
C88: 67 | D88: と畜場 | E88: R952 | F88: 0 | G88: 0 | H88: 0 | J88: 0 | K88: 0 | L88: 0 | N88: 0 | O88: 0 | R88: 0 | S88: 0 | T88: 0
C89: 68 | D89: 上記以外のサービス業 | F89: 0 | G89: 0 | H89: 0 | J89: 0 | K89: 0 | L89: 0 | N89: 35287.259 | O89: 0 | Q89: 0 | R89: 35287.259 | S89: 0 | T89: 0 | U89: 0
B90: 公務 | C90: 69 | D90: 公務 | E90: Ｓ | F90: 982.33724 | G90: 0.0073978541 | H90: 1 | I90: 7.53087e-06 | J90: 514.12 | K90: 0.050077809 | L90: 2 | M90: 9.7404903e-05 | N90: 28.692 | O90: 0 | Q90: 0 | R90: 1525.1492 | S90: 0.057475663 | T90: 0 | U90: 3.7685271e-05
D91: 合計 | F91: 720663.05 | G91: 504.90657 | H91: =SUM(H45:H90,H20:H43,H18) -> 49 | I91: 0.00070061393 | J91: 566666.09 | K91: 4735.4954 | L91: =SUM(L45:L90,L20:L43,L17:L18) -> 61 | M91: 0.008356765 | N91: 4002799 | O91: 21480.03 | P91: =SUM(P45:P90,P20:P43,P18) -> 12 | Q91: 0.0053662525 | R91: 5290128.1 | S91: 26720.432 | T91: 0 | U91: 0.005050999
B92: ※大分類のみの回答で、かつ中分類への配分ができない都道府県があるため、中分類の合算値と大分類の値が合致しない項目がある。
B93: ※各産業廃棄物の量は、四捨五入しているため合算した値は合計値と異なる場合がある。
B94: ※空欄は該当値が無いもの、「0」表示は500kg/年未満である事を示している。
G95: =G91/1000 -> 0.50490657 | K95: =K91/1000 -> 4.7354954 | O95: =O91/1000 -> 21.48003 | S95: =S91/1000 -> 26.720432
B99: H30
B100: 大分類 | C100: 番 | D100: 産業分類 | E100: コード | F100: 廃プラスチック類 | J100: ガラスくず、コンクリート及び陶磁器くず | N100: がれき類 | R100: 合 計
C101: 号 | F101: 母数排出量 | G101: うち石綿含有 | H101: データ数(件) | I101: 比率 | J101: 母数排出量 | K101: うち石綿含有 | L101: データ数(件) | M101: 比率 | N101: 母数排出量 | O101: うち石綿含有 | P101: データ数(件) | Q101: 比率 | R101: 母数排出量 | S101: うち石綿含有 | T101: データ数(件) | U101: 比率
D102: 農業，林業大分類 | E102: A | F102: 7660.458 | J102: 1721.537 | N102: 0 | O102: 0 | R102: 9381.995 | S102: 0 | T102: 0 | U102: 0
C103: 1 | D103: 耕種農業 | E103: A011 | F103: 579 | J103: 0 | N103: 0 | O103: 0 | R103: 579 | S103: 0
B104: 農業，林業 | C104: 2 | D104: 畜産農業 | E104: A012 | F104: 0 | J104: 0 | N104: 0 | O104: 0 | R104: 0 | S104: 0
C105: 3 | D105: 林業 | E105: A02 | F105: 0 | J105: 0 | N105: 0 | O105: 0 | R105: 0 | S105: 0
C106: 4 | D106: 上記以外の農業，林業 | F106: 0 | J106: 0 | N106: 0 | O106: 0 | R106: 0 | S106: 0
D107: 漁業大分類 | E107: B | F107: 835.671 | G107: 0 | I107: 0 | J107: 0.32 | K107: 0 | R107: 835.991 | S107: 0 | T107: 0 | U107: 0
B108: 漁 業 | C108: 5 | D108: 漁業 | E108: B03 | F108: 631 | G108: 0 | J108: 0 | K108: 0 | R108: 631 | S108: 0 | T108: 0 | U108: 0
...

Sheet 表V2 (2)
B3: 報告書P50で利用
B4: 表―Ⅴ・２ 石綿含産業廃棄物の排出量の集計結果（令和元年度実績値）
U6: （単位：t／年）
B7: 大分類 | C7: 番 | D7: 産業分類 | E7: コード | F7: 廃プラスチック類 | J7: ガラスくず、コンクリート及び陶磁器くず | N7: がれき類 | R7: 合 計
C8: 号 | F8: 母数排出量 | G8: うち石綿含有 | H8: データ数(件) | I8: 比率 | J8: 母数排出量 | K8: うち石綿含有 | L8: データ数(件) | M8: 比率 | N8: 母数排出量 | O8: うち石綿含有 | P8: データ数(件) | Q8: 比率 | R8: 母数排出量 | S8: うち石綿含有 | T8: データ数(件) | U8: 比率
D9: 農業，林業大分類 | E9: A | F9: 7159.675 | G9: 0 | H9: 7 | I9: 0 | J9: 1729.945 | K9: 0 | L9: 7 | M9: 0 | N9: 10.44 | O9: 0 | P9: 7 | Q9: 0 | R9: 8900.06 | S9: 0 | T9: 0 | U9: 0
C10: 1 | D10: 耕種農業 | E10: A011 | F10: 0 | G10: 0 | H10: 0 | J10: 0 | K10: 0 | L10: 0 | N10: 0 | O10: 0 | P10: 0 | R10: 0 | S10: 0 | T10: 0
B11: 農業，林業 | C11: 2 | D11: 畜産農業 | E11: A012 | F11: 404.4 | G11: 0 | H11: 1 | I11: 0 | J11: 0 | K11: 0 | L11: 1 | N11: 0 | O11: 0 | P11: 1 | R11: 404.4 | S11: 0 | T11: 0 | U11: 0
C12: 3 | D12: 林業 | E12: A02 | F12: 1.418 | G12: 0 | H12: 1 | I12: 0 | J12: 89.907 | K12: 0 | L12: 1 | M12: 0 | N12: 0 | O12: 0 | P12: 1 | R12: 91.325 | S12: 0 | T12: 0 | U12: 0
C13: 4 | D13: 上記以外の農業，林業 | F13: 0 | G13: 0 | H13: 0 | J13: 0 | K13: 0 | L13: 0 | N13: 0 | O13: 0 | P13: 0 | R13: 0 | S13: 0 | T13: 0
D14: 漁業大分類 | E14: B | F14: 124.333 | G14: 0 | H14: 8 | I14: 0 | J14: 0.5 | K14: 0 | L14: 8 | M14: 0 | N14: 13.75 | O14: 0 | P14: 8 | Q14: 0 | R14: 138.583 | S14: 0 | T14: 0 | U14: 0
B15: 漁 業 | C15: 5 | D15: 漁業 | E15: B03 | F15: 124.333 | G15: 0 | H15: 0 | I15: 0 | J15: 0 | K15: 0 | L15: 0 | N15: 13.75 | O15: 0 | P15: 0 | Q15: 0 | R15: 138.083 | S15: 0 | T15: 0 | U15: 0
C16: 6 | D16: 水産養殖業 | E16: B04 | F16: 0 | G16: 0 | H16: 0 | J16: 0 | K16: 0 | L16: 0 | N16: 0 | O16: 0 | P16: 0 | R16: 0 | S16: 0 | T16: 0
B17: 鉱 業 | C17: 7 | D17: 鉱業，採石業，砂利採取業 | E17: C | F17: 32.899 | G17: 0 | H17: 8 | I17: 0 | J17: 40.42 | K17: 2.5 | L17: 8 | M17: 0.061850569 | N17: 126 | O17: 0 | P17: 8 | Q17: 0 | R17: 199.319 | S17: 2.5 | T17: 0 | U17: 0.012542708
B18: 建設業 | C18: 8 | D18: 建設業 | E18: D | F18: 251774.33 | G18: 782.0569 | H18: 8 | I18: 0.0031061821 | J18: 282184.08 | K18: 4132.0405 | L18: 8 | M18: 0.014643068 | N18: 8008127 | O18: 26366.515 | P18: 8 | Q18: 0.0032924696 | R18: 8542085.5 | S18: 31280.612 | T18: 0 | U18: 0.0036619409
D19: 製造業大分類 | E19: E | F19: 457081.69 | G19: 284.96609 | H19: 0 | I19: 0.00062344673 | J19: 667831.34 | K19: 456.19612 | L19: 0 | M19: 0.00068310079 | N19: 29042.943 | O19: 64.64709 | P19: 0 | Q19: 0.0022259139 | R19: 1153956 | S19: 805.80929 | T19: 0 | U19: 0.00069830159
C20: 9 | D20: 食料品製造業 | E20: E09 | F20: 31790.035 | G20: 17.500168 | H20: 8 | I20: 0.00055049225 | J20: 15992.322 | K20: 31.380252 | L20: 8 | M20: 0.0019622073 | N20: 4.913 | O20: 0 | P20: 8 | Q20: 0 | R20: 47787.27 | S20: 48.88042 | T20: 0 | U20: 0.0010228753
C21: 10 | D21: 飲料・たばこ・飼料製造業 | E21: E10 | F21: 3428.3056 | G21: 1.2674061 | H21: 8 | I21: 0.00036968879 | J21: 1288.689 | K21: 1.7864465 | L21: 8 | M21: 0.0013862511 | N21: 30.58 | O21: 0 | P21: 8 | Q21: 0 | R21: 4747.5746 | S21: 3.0538527 | T21: 0 | U21: 0.0006432448
C22: 11 | D22: 繊維工業 | E22: E11 | F22: 19304.902 | G22: 4.1678917 | H22: 8 | I22: 0.00021589811 | J22: 546.28268 | K22: 0 | L22: 8 | M22: 0 | N22: 221.80216 | O22: 0 | P22: 8 | Q22: 0 | R22: 20072.987 | S22: 4.1678917 | T22: 0 | U22: 0.00020763685
C23: 12 | D23: 木材・木製品製造業 | E23: E12 | F23: 11437.992 | G23: 33.132126 | H23: 8 | I23: 0.0028966732 | J23: 4140.827 | K23: 10.12184 | L23: 8 | M23: 0.0024444006 | N23: 579.9 | O23: 0 | P23: 8 | Q23: 0 | R23: 16158.719 | S23: 43.253966 | T23: 0 | U23: 0.0026768189
C24: 13 | D24: 家具・装備品製造業 | E24: E13 | F24: 1122.1222 | G24: 1.420838 | H24: 8 | I24: 0.0012662061 | J24: 1182.3887 | K24: 5.4 | L24: 8 | M24: 0.004567026 | N24: 90.45964 | O24: 0 | P24: 8 | Q24: 0 | R24: 2394.9706 | S24: 6.820838 | T24: 0 | U24: 0.0028479841
C25: 14 | D25: パルプ・紙・紙加工品製造業 | E25: E14 | F25: 123383.41 | G25: 30.241742 | H25: 8 | I25: 0.00024510379 | J25: 13151.174 | K25: 0.05 | L25: 8 | M25: 3.8019419e-06 | N25: 32.6683 | O25: 0.0044271927 | P25: 8 | Q25: 0.00013551953 | R25: 136567.26 | S25: 30.296169 | T25: 0 | U25: 0.00022184065
C26: 15 | D26: 印刷・同関連業 | E26: E15 | F26: 10276.815 | G26: 0.33220932 | H26: 8 | I26: 3.2326099e-05 | J26: 2.76764 | K26: 0 | L26: 8 | M26: 0 | N26: 8.73518 | O26: 0 | P26: 8 | Q26: 0 | R26: 10288.317 | S26: 0.33220932 | T26: 0 | U26: 3.2289957e-05
C27: 16 | D27: 化学工業 | E27: E16 | F27: 36782.998 | G27: 46.851252 | H27: 8 | I27: 0.0012737203 | J27: 11988.743 | K27: 91.176177 | L27: 8 | M27: 0.0076051489 | N27: 60.38543 | O27: 0.0027037583 | P27: 8 | Q27: 4.477501e-05 | R27: 48832.127 | S27: 138.03013 | T27: 0 | U27: 0.0028266255
C28: 17 | D28: 石油製品・石炭製品製造業 | E28: E17 | F28: 1090.931 | G28: 0.034671724 | H28: 8 | I28: 3.1781775e-05 | J28: 27815.539 | K28: 0.53 | L28: 8 | M28: 1.9054098e-05 | N28: 35.21 | O28: 0 | P28: 8 | Q28: 0 | R28: 28941.68 | S28: 0.56467172 | T28: 0 | U28: 1.9510675e-05
B29: 製造業 | C29: 18 | D29: プラスチック製品製造業 | E29: E18 | F29: 61021.853 | G29: 4.8108164 | H29: 8 | I29: 7.8837598e-05 | J29: 603.11672 | K29: 2.0686687 | L29: 8 | M29: 0.0034299641 | N29: 53.135 | O29: 0 | P29: 8 | Q29: 0 | R29: 61678.105 | S29: 6.879485 | T29: 0 | U29: 0.00011153853
C30: 19 | D30: ゴム製品製造業 | E30: E19 | F30: 38126.296 | G30: 76.138568 | H30: 8 | I30: 0.0019970093 | J30: 571.00444 | K30: 3.2685923 | L30: 8 | M30: 0.0057242853 | N30: 1.66 | O30: 0 | P30: 8 | Q30: 0 | R30: 38698.961 | S30: 79.407161 | T30: 0 | U30: 0.0020519197
C31: 20 | D31: なめし革・同製品・毛皮製造業 | E31: E20 | F31: 1837.5727 | G31: 0.70754782 | H31: 8 | I31: 0.0003850448 | J31: 2.336 | K31: 0 | L31: 8 | M31: 0 | N31: 0 | O31: 0 | P31: 8 | R31: 1839.9087 | S31: 0.70754782 | T31: 0 | U31: 0.00038455594
C32: 21 | D32: 窯業・土石製品製造業 | E32: E21 | F32: 5825.1782 | G32: 7.866493 | H32: 8 | I32: 0.0013504296 | J32: 496267.6 | K32: 85.480986 | L32: 8 | M32: 0.00017224777 | N32: 24332.725 | O32: 59.986058 | P32: 8 | Q32: 0.0024652421 | R32: 526425.5 | S32: 153.33354 | T32: 0 | U32: 0.00029127301
C33: 22 | D33: 鉄鋼業 | E33: E22 | F33: 5461.4726 | G33: 2.0549341 | H33: 8 | I33: 0.00037626008 | J33: 50153.292 | K33: 105.67612 | L33: 8 | M33: 0.0021070624 | N33: 1287.1511 | O33: 0 | P33: 8 | Q33: 0 | R33: 56901.916 | S33: 107.73105 | T33: 0 | U33: 0.0018932764
C34: 23 | D34: 非鉄金属製造業 | E34: E23 | F34: 2397.6506 | G34: 33.607243 | H34: 8 | I34: 0.014016739 | J34: 3570.112 | K34: 12.11254 | L34: 8 | M34: 0.003392762 | N34: 37.29777 | O34: 0 | P34: 8 | Q34: 0 | R34: 6005.0603 | S34: 45.719783 | T34: 0 | U34: 0.0076135427
C35: 24 | D35: 金属製品製造業 | E35: E24 | F35: 9383.2644 | G35: 3.4742197 | H35: 8 | I35: 0.00037025704 | J35: 11903.945 | K35: 6.680444 | L35: 8 | M35: 0.00056119579 | N35: 365.25284 | O35: 0.7733623 | P35: 8 | Q35: 0.0021173341 | R35: 21652.462 | S35: 10.928026 | T35: 0 | U35: 0.0005047013
C36: 25 | D36: はん用機械器具製造業 | E36: E25 | F36: 1435.7703 | G36: 0.5152788 | H36: 8 | I36: 0.00035888665 | J36: 1279.783 | K36: 0 | L36: 8 | M36: 0 | N36: 17.358 | O36: 0 | P36: 8 | Q36: 0 | R36: 2732.9113 | S36: 0.5152788 | T36: 0 | U36: 0.00018854574
C37: 26 | D37: 生産用機械器具製造業 | E37: E26 | F37: 3985.9832 | G37: 1.4604621 | H37: 8 | I37: 0.00036639945 | J37: 1063.4217 | K37: 1.0250654 | L37: 8 | M37: 0.00096393127 | N37: 328.5391 | O37: 0 | P37: 8 | Q37: 0 | R37: 5377.944 | S37: 2.4855275 | T37: 0 | U37: 0.00046217058
C38: 27 | D38: 業務用機械器具製造業 | E38: E27 | F38: 3117.2052 | G38: 0.010936516 | H38: 8 | I38: 3.5084364e-06 | J38: 504.22366 | K38: 0 | L38: 8 | M38: 0 | N38: 26.098 | O38: 3.806 | P38: 8 | Q38: 0.14583493 | R38: 3647.5268 | S38: 3.8169365 | T38: 0 | U38: 0.0010464451
C39: 28 | D39: 電子部品・デバイス・電子回路製造業 | E39: E28 | F39: 10442.743 | G39: 1.2542391 | H39: 8 | I39: 0.00012010629 | J39: 377.8925 | K39: 1.3484571 | L39: 8 | M39: 0.0035683617 | N39: 498.91636 | O39: 0.00071062482 | P39: 8 | Q39: 1.4243366e-06 | R39: 11319.552 | S39: 2.6034069 | T39: 0 | U39: 0.00022999204
C40: 29 | D40: 電気機械器具製造業 | E40: E29 | F40: 7621.0378 | G40: 6.1997476 | H40: 8 | I40: 0.00081350437 | J40: 4548.4809 | K40: 8.6518234 | L40: 8 | M40: 0.0019021347 | N40: 251.01264 | O40: 0.073827222 | P40: 8 | Q40: 0.00029411755 | R40: 12420.531 | S40: 14.925398 | T40: 0 | U40: 0.0012016715
C41: 30 | D41: 情報通信機械器具製造業 | E41: E30 | F41: 3127.5097 | G41: 1.4129723 | H41: 8 | I41: 0.00045178831 | J41: 199.53392 | K41: 0.030374135 | L41: 8 | M41: 0.00015222542 | N41: 593.9295 | O41: 0 | P41: 8 | Q41: 0 | R41: 3920.9732 | S41: 1.4433465 | T41: 0 | U41: 0.00036810925
C42: 31 | D42: 輸送用機械器具製造業 | E42: E31 | F42: 18157.546 | G42: 1.8092461 | H42: 8 | I42: 9.9641552e-05 | J42: 2381.7461 | K42: 33.623331 | L42: 8 | M42: 0.014117093 | N42: 155.799 | O42: 0 | P42: 8 | Q42: 0 | R42: 20695.091 | S42: 35.432577 | T42: 0 | U42: 0.0017121247
C43: 32 | D43: その他の製造業 | E43: E32 | F43: 46523.094 | G43: 8.6950778 | H43: 8 | I43: 0.0001868981 | J43: 18296.118 | K43: 55.785 | L43: 8 | M43: 0.0030490074 | N43: 29.415 | O43: 0 | P43: 8 | Q43: 0 | R43: 64848.627 | S43: 64.480078 | T43: 0 | U43: 0.00099431678
D44: 電気・ガス・熱供給・水道業大分類 | E44: F | F44: 1040.2995 | G44: 1.1782104 | H44: 0 | I44: 0.0011325685 | J44: 14985.732 | K44: 3.7580601 | L44: 0 | M44: 0.00025077588 | N44: 1182.106 | O44: 1.8877918 | P44: 0 | Q44: 0.0015969733 | R44: 17208.138 | S44: 6.8240622 | T44: 0 | U44: 0.00039656019
B45: 電気･ガス | C45: 33 | D45: 電気業 | E45: F33 | F45: 770.018 | G45: 1.1380059 | H45: 8 | I45: 0.0014778952 | J45: 14781.146 | K45: 3.5740569 | L45: 8 | M45: 0.00024179836 | N45: 677.53 | O45: 1.8576071 | P45: 8 | Q45: 0.0027417341 | R45: 16228.694 | S45: 6.56967 | T45: 0 | U45: 0.00040481816
B46: ･熱供給･ | C46: 34 | D46: ガス業 | E46: F34 | F46: 17.25 | G46: 0.038069187 | H46: 7 | I46: 0.0022069094 | J46: 1 | K46: 0.0033839277 | L46: 7 | M46: 0.0033839277 | N46: 8.92 | O46: 0.030184635 | P46: 7 | Q46: 0.0033839277 | R46: 27.17 | S46: 0.07163775 | T46: 0 | U46: 0.0026366489
B47: 水道業 | C47: 35 | D47: 熱供給業 | E47: F35 | F47: 0 | G47: 0 | H47: 5 | J47: 0 | K47: 0 | L47: 5 | N47: 0 | O47: 0 | P47: 5 | R47: 0 | S47: 0 | T47: 0
C48: 36 | D48: 上水道業 | E48: F361 | F48: 11.27148 | G48: 3.045535e-05 | H48: 8 | I48: 2.7019832e-06 | J48: 13.00904 | K48: 0 | L48: 8 | M48: 0 | N48: 494.296 | O48: 0 | P48: 8 | Q48: 0 | R48: 518.57652 | S48: 3.045535e-05 | T48: 0 | U48: 5.8728748e-08
C49: 37 | D49: 下水道業 | E49: F363 | F49: 241.76 | G49: 0.002104803 | H49: 8 | I49: 8.7061675e-06 | J49: 190.577 | K49: 0.18061926 | L49: 8 | M49: 0.00094774951 | N49: 1.36 | O49: 0 | P49: 8 | Q49: 0 | R49: 433.697 | S49: 0.18272406 | T49: 0 | U49: 0.00042131733
D50: 情報通信業大分類 | E50: G | F50: 1132.6505 | G50: 0 | H50: 8 | I50: 0 | J50: 3907.486 | K50: 0 | L50: 8 | M50: 0 | N50: 674.56252 | O50: 0 | P50: 8 | Q50: 0 | R50: 5714.699 | S50: 0 | T50: 0 | U50: 0
C51: 38 | D51: 通信業 | E51: G37 | F51: 623.3048 | G51: 0 | H51: 0 | I51: 0 | J51: 0 | K51: 0 | L51: 0 | N51: 0 | O51: 0 | P51: 0 | R51: 623.3048 | S51: 0 | T51: 0 | U51: 0
B52: 情報通信業 | C52: 39 | D52: 放送業 | E52: G38 | F52: 32.805516 | G52: 0 | H52: 0 | I52: 0 | J52: 0 | K52: 0 | L52: 0 | N52: 0 | O52: 0 | P52: 0 | R52: 32.805516 | S52: 0 | T52: 0 | U52: 0
C53: 40 | D53: 情報サービス業 | E53: G39 | F53: 360.86067 | G53: 0 | H53: 0 | I53: 0 | J53: 0 | K53: 0 | L53: 0 | N53: 0 | O53: 0 | P53: 0 | R53: 360.86067 | S53: 0 | T53: 0 | U53: 0
C54: 41 | D54: インターネット付随サービス業 | E54: G40 | F54: 0 | G54: 0 | H54: 0 | J54: 0 | K54: 0 | L54: 0 | N54: 0 | O54: 0 | P54: 0 | R54: 0 | S54: 0 | T54: 0
C55: 42 | D55: 映像・音声・文字情報制作業 | E55: G41 | F55: 115.67954 | G55: 0 | H55: 0 | I55: 0 | J55: 1.31596 | K55: 0 | L55: 0 | M55: 0 | N55: 0 | O55: 0 | P55: 0 | R55: 116.9955 | S55: 0 | T55: 0 | U55: 0
D56: 運輸業，郵便業大分類 | E56: H | F56: 12386.306 | G56: 0.491 | H56: 7 | I56: 3.9640551e-05 | J56: 10418.035 | K56: 0.89 | L56: 7 | M56: 8.5428778e-05 | N56: 777.516 | O56: 0 | P56: 7 | Q56: 0 | R56: 23581.857 | S56: 1.381 | T56: 0 | U56: 5.8561969e-05
B57: 運輸業， | C57: 43 | D57: 鉄道業 | E57: H42 | F57: 1105.0448 | G57: 0 | H57: 1 | I57: 0 | J57: 4212.4895 | K57: 0.89 | L57: 1 | M57: 0.00021127649 | N57: 284.27117 | O57: 0 | P57: 1 | Q57: 0 | R57: 5601.8054 | S57: 0.89 | T57: 0 | U57: 0.00015887735
B58: 郵便業 | C58: 44 | D58: 道路旅客運送業 | E58: H43 | F58: 1204.3062 | G58: 0 | H58: 1 | I58: 0 | J58: 145.12667 | K58: 0 | L58: 1 | M58: 0 | N58: 26.18351 | O58: 0 | P58: 1 | Q58: 0 | R58: 1375.6164 | S58: 0 | T58: 0 | U58: 0
C59: 45 | D59: 道路貨物運送業 | E59: H44 | F59: 8479.984 | G59: 0.451 | H59: 1 | I59: 5.3184063e-05 | J59: 6059.2089 | K59: 0 | L59: 1 | M59: 0 | N59: 140.28232 | O59: 0 | P59: 1 | Q59: 0 | R59: 14679.475 | S59: 0.451 | T59: 0 | U59: 3.0723169e-05
C60: 46 | D60: 上記以外の運輸業，郵便業 | F60: 1596.9713 | G60: 0.04 | H60: 1 | I60: 2.5047414e-05 | J60: 1.21 | K60: 0 | L60: 1 | M60: 0 | N60: 326.779 | O60: 0 | P60: 1 | Q60: 0 | R60: 1924.9603 | S60: 0.04 | T60: 0 | U60: 2.077965e-05
D61: 卸売業，小売業大分類 | E61: I | F61: 43374.173 | G61: 0 | H61: 7 | I61: 0 | J61: 11014.892 | K61: 0 | L61: 7 | M61: 0 | N61: 4197.5464 | O61: 0 | P61: 7 | Q61: 0 | R61: 58586.612 | S61: 0 | T61: 0 | U61: 0
C62: 47 | D62: 各種商品卸売業 | E62: I50 | F62: 124.03549 | G62: 0 | H62: 1 | I62: 0 | J62: 9.0383925 | K62: 0 | L62: 1 | M62: 0 | N62: 134.4984 | O62: 0 | P62: 1 | Q62: 0 | R62: 267.57228 | S62: 0 | T62: 0 | U62: 0
C63: 48 | D63: 木材・竹材卸売業 | E63: I5311 | F63: 3743.2719 | G63: 0 | H63: 1 | I63: 0 | J63: 9889.2805 | K63: 0 | L63: 1 | M63: 0 | N63: 2399.273 | O63: 0 | P63: 1 | Q63: 0 | R63: 16031.825 | S63: 0 | T63: 0 | U63: 0
C64: 49 | D64: 各種商品小売業 | E64: I56 | F64: 1103.6432 | G64: 0 | H64: 1 | I64: 0 | J64: 37.76457 | K64: 0 | L64: 1 | M64: 0 | N64: 31.485 | O64: 0 | P64: 1 | Q64: 0 | R64: 1172.8927 | S64: 0 | T64: 0 | U64: 0
B65: 卸売業， | C65: 50 | D65: 自動車小売業 | E65: I591 | F65: 7887.1683 | G65: 0 | H65: 1 | I65: 0 | J65: 145.98019 | K65: 0 | L65: 1 | M65: 0 | N65: 67.178 | O65: 0 | P65: 1 | Q65: 0 | R65: 8100.3265 | S65: 0 | T65: 0 | U65: 0
B66: 小売業 | C66: 51 | D66: 機械器具小売業 | E66: I593 | F66: 13592.108 | G66: 0 | H66: 1 | I66: 0 | J66: 91.239336 | K66: 0 | L66: 1 | M66: 0 | N66: 526.353 | O66: 0 | P66: 1 | Q66: 0 | R66: 14209.7 | S66: 0 | T66: 0 | U66: 0
C67: 52 | D67: 家具・建具・畳小売業 | E67: I601 | F67: 211.65678 | G67: 0 | H67: 1 | I67: 0 | J67: 0.267 | K67: 0 | L67: 1 | M67: 0 | N67: 58.855 | O67: 0 | P67: 1 | Q67: 0 | R67: 270.77878 | S67: 0 | T67: 0 | U67: 0
C68: 53 | D68: じゅう器小売業 | E68: I602 | F68: 7.465 | G68: 0 | H68: 1 | I68: 0 | J68: 0 | K68: 0 | L68: 1 | N68: 0 | O68: 0 | P68: 1 | R68: 7.465 | S68: 0 | T68: 0 | U68: 0
C69: 54 | D69: 燃料小売業 | E69: I605 | F69: 1643.5141 | G69: 0 | H69: 1 | I69: 0 | J69: 78.140196 | K69: 0 | L69: 1 | M69: 0 | N69: 698.79419 | O69: 0 | P69: 1 | Q69: 0 | R69: 2420.4485 | S69: 0 | T69: 0 | U69: 0
C70: 55 | D70: 上記以外の卸売業，小売業 | F70: 15061.31 | G70: 0 | H70: 1 | I70: 0 | J70: 763.18194 | K70: 0 | L70: 1 | M70: 0 | N70: 281.1098 | O70: 0 | P70: 1 | Q70: 0 | R70: 16105.602 | S70: 0 | T70: 0 | U70: 0
B71: 不動産業， | D71: 不動産業，物品賃貸業大分類 | E71: K | F71: 1353.7495 | G71: 0 | H71: 7 | I71: 0 | J71: 4889.4172 | K71: 0 | L71: 7 | M71: 0 | N71: 201.0213 | O71: 0 | P71: 7 | Q71: 0 | R71: 6444.188 | S71: 0 | T71: 0 | U71: 0
B72: 物品賃貸業 | C72: 56 | D72: 物品賃貸業 | E72: K70 | F72: 1353.7495 | G72: 0 | H72: 0 | I72: 0 | J72: 4889.4172 | K72: 0 | L72: 0 | M72: 0 | N72: 201.0213 | O72: 0 | P72: 0 | Q72: 0 | R72: 6444.188 | S72: 0 | T72: 0 | U72: 0
B73: 学術研究，専門 | D73: 学術研究，専門・技術サービス業大分類 | E73: L | F73: 1505.9623 | G73: 0 | H73: 7 | I73: 0 | J73: 527.4878 | K73: 0 | L73: 7 | M73: 0 | N73: 1256.086 | O73: 0 | P73: 7 | Q73: 0 | R73: 3289.5361 | S73: 0 | T73: 0 | U73: 0
B74: ・技術サービス業 | C74: 57 | D74: 学術・開発研究機関 | E74: L71 | F74: 1451.1797 | G74: 0 | H74: 1 | I74: 0 | J74: 527.4878 | K74: 0 | L74: 1 | M74: 0 | N74: 1256.086 | O74: 0 | P74: 1 | Q74: 0 | R74: 3234.7535 | S74: 0 | T74: 0 | U74: 0
C75: 58 | D75: 写真業 | E75: L746 | F75: 54.782582 | G75: 0 | H75: 1 | I75: 0 | J75: 0 | K75: 0 | L75: 1 | N75: 0 | O75: 0 | P75: 1 | R75: 54.782582 | S75: 0 | T75: 0 | U75: 0
B76: 宿泊業，飲食 | D76: 宿泊業，飲食サービス業大分類 | E76: M | F76: 1978.6311 | G76: 0 | H76: 7 | I76: 0 | J76: 1065.9182 | K76: 0 | L76: 7 | M76: 0 | N76: 52.229 | O76: 0 | P76: 7 | Q76: 0 | R76: 3096.7783 | S76: 0 | T76: 0 | U76: 0
B77: サービス業 | C77: 59 | D77: 飲食店 | E77: M76 | F77: 970.8707 | G77: 0 | H77: 1 | I77: 0 | J77: 63.916818 | K77: 0 | L77: 1 | M77: 0 | N77: 0 | O77: 0 | P77: 1 | R77: 1034.7875 | S77: 0 | T77: 0 | U77: 0
C78: 60 | D78: 上記以外の宿泊業，飲食サービス業 | F78: 1007.7604 | G78: 0 | H78: 1 | I78: 0 | J78: 1002.0014 | K78: 0 | L78: 1 | M78: 0 | N78: 52.229 | O78: 0 | P78: 1 | Q78: 0 | R78: 2061.9908 | S78: 0 | T78: 0 | U78: 0
B79: 生活関連サー | D79: 生活関連サービス業，娯楽業大分類 | E79: N | F79: 4687.6406 | G79: 0 | H79: 7 | I79: 0 | J79: 1536.92 | K79: 0 | L79: 7 | M79: 0 | N79: 0.477 | O79: 0 | P79: 7 | Q79: 0 | R79: 6225.0376 | S79: 0 | T79: 0 | U79: 0
B80: ビス業，娯楽業 | C80: 61 | D80: 洗濯業 | E80: N781 | F80: 255.3038 | G80: 0 | H80: 1 | I80: 0 | J80: 0.037 | K80: 0 | L80: 1 | M80: 0 | N80: 0.477 | O80: 0 | P80: 1 | Q80: 0 | R80: 255.8178 | S80: 0 | T80: 0 | U80: 0
B81: 教育，学習支援業 | C81: 62 | D81: 教育，学習支援業 | E81: O | F81: 2311.2981 | G81: 10.4227 | H81: 8 | I81: 0.0045094574 | J81: 1106.2143 | K81: 14.822165 | L81: 8 | M81: 0.013399 | N81: 149.1339 | O81: 0 | P81: 8 | Q81: 0 | R81: 3566.6464 | S81: 25.244866 | T81: 0 | U81: 0.0070780401
D82: 医療，福祉大分類 | E82: P | F82: 19668.384 | G82: 0 | H82: 7 | I82: 0 | J82: 7752.9104 | K82: 0 | L82: 7 | M82: 0 | N82: 150.69324 | O82: 0 | P82: 7 | Q82: 0 | R82: 27571.987 | S82: 0 | T82: 0 | U82: 0
B83: 医療，福祉 | C83: 63 | D83: 医療業 | E83: P83 | F83: 16091.49 | G83: 0 | H83: 1 | I83: 0 | J83: 4628.5067 | K83: 0 | L83: 1 | M83: 0 | N83: 97.6563 | O83: 0 | P83: 1 | Q83: 0 | R83: 20817.653 | S83: 0 | T83: 0 | U83: 0
C84: 64 | D84: 上記以外の医療，福祉 | F84: 3576.8936 | G84: 0 | H84: 1 | I84: 0 | J84: 3124.4037 | K84: 0 | L84: 1 | M84: 0 | N84: 53.03694 | O84: 0 | P84: 1 | Q84: 0 | R84: 6754.3342 | S84: 0 | T84: 0 | U84: 0
B85: 教育、学習支援業 | C85: 65 | D85: 複合サービス事業 | E85: Q | F85: 1462.915 | G85: 3.3631039 | H85: 7 | I85: 0.0022989058 | J85: 80.248319 | K85: 0.00028932582 | L85: 7 | M85: 3.6053817e-06 | N85: 61.496256 | O85: 0 | P85: 7 | Q85: 0 | R85: 1604.6596 | S85: 3.3633932 | T85: 0 | U85: 0.0020960166
D86: サービス業大分類 | E86: R | F86: 192707.66 | G86: 0 | H86: 7 | I86: 0 | J86: 47587.626 | K86: 0 | L86: 7 | M86: 0 | N86: 494.10759 | O86: 0 | P86: 7 | Q86: 0 | R86: 240789.39 | S86: 0 | T86: 0 | U86: 0
B87: サービス業 | C87: 66 | D87: 自動車整備業 | E87: R891 | F87: 77495.604 | G87: 0 | H87: 1 | I87: 0 | J87: 24677.554 | K87: 0 | L87: 1 | M87: 0 | N87: 52.214 | O87: 0 | P87: 1 | Q87: 0 | R87: 102225.37 | S87: 0 | T87: 0 | U87: 0
C88: 67 | D88: と畜場 | E88: R952 | F88: 176.8327 | G88: 0 | H88: 1 | I88: 0 | J88: 0.3288 | K88: 0 | L88: 1 | M88: 0 | N88: 0.1781 | O88: 0 | P88: 1 | Q88: 0 | R88: 177.3396 | S88: 0 | T88: 0 | U88: 0
C89: 68 | D89: 上記以外のサービス業 | F89: 115035.22 | G89: 0 | H89: 1 | I89: 0 | J89: 22909.743 | K89: 0 | L89: 1 | M89: 0 | N89: 441.71549 | O89: 0 | P89: 1 | Q89: 0 | R89: 138386.68 | S89: 0 | T89: 0 | U89: 0
B90: 公務 | C90: 69 | D90: 公務 | E90: Ｓ | F90: 1902.3948 | G90: 0.0083650694 | H90: 7 | I90: 4.3971259e-06 | J90: 2237.9884 | K90: 8.7982121e-05 | L90: 7 | M90: 3.9313037e-08 | N90: 523.28032 | O90: 0 | P90: 7 | Q90: 0 | R90: 4663.6635 | S90: 0.0084530515 | T90: 0 | U90: 1.8125346e-06
D91: 合計 | F91: 1001685 | G91: 1082.4864 | H91: 0 | I91: 0.0010806655 | J91: 1058897.2 | K91: 4610.2072 | L91: 0 | M91: 0.0043537819 | N91: 8047040.4 | O91: 26433.05 | P91: 0 | Q91: 0.0032848163 | R91: 10107623 | S91: 32125.744 | T91: 0 | U91: 0.0031783679
G92: =G91/1000 -> 1.0824864 | K92: =K91/1000 -> 4.6102072 | O92: =O91/1000 -> 26.43305 | S92: =S91/1000 -> 32.125744
B96: H30
B97: 大分類 | C97: 番 | D97: 産業分類 | E97: コード | F97: 廃プラスチック類 | J97: ガラスくず、コンクリート及び陶磁器くず | N97: がれき類 | R97: 合 計
C98: 号 | F98: 母数排出量 | G98: うち石綿含有 | H98: データ数(件) | I98: 比率 | J98: 母数排出量 | K98: うち石綿含有 | L98: データ数(件) | M98: 比率 | N98: 母数排出量 | O98: うち石綿含有 | P98: データ数(件) | Q98: 比率 | R98: 母数排出量 | S98: うち石綿含有 | T98: データ数(件) | U98: 比率
D99: 農業，林業大分類 | E99: A | F99: 6565.4682 | G99: 0 | H99: 7 | I99: 0 | J99: 2396.1723 | K99: 0 | L99: 7 | M99: 0 | N99: 147 | O99: 0 | P99: 8 | Q99: 0 | R99: 9108.6405 | S99: 0 | T99: 0 | U99: 0
C100: 1 | D100: 耕種農業 | E100: A011 | F100: 0 | G100: 0 | H100: 0 | J100: 0 | K100: 0 | L100: 0
B101: 農業，林業 | C101: 2 | D101: 畜産農業 | E101: A012 | F101: 0 | G101: 0 | H101: 0 | J101: 0 | K101: 0 | L101: 0
C102: 3 | D102: 林業 | E102: A02 | F102: 0 | G102: 0 | H102: 0 | J102: 0 | K102: 0 | L102: 0
C103: 4 | D103: 上記以外の農業，林業 | F103: 0 | G103: 0 | H103: 0 | J103: 0 | K103: 0 | L103: 0
D104: 漁業大分類 | E104: B | F104: 102.828 | G104: 0 | H104: 7 | I104: 0 | J104: 16.93 | K104: 0 | L104: 7 | M104: 0 | N104: 0 | O104: 0 | P104: 7 | R104: 119.758 | S104: 0 | T104: 0 | U104: 0
B105: 漁 業 | C105: 5 | D105: 漁業 | E105: B03 | F105: 0 | G105: 0 | H105: 0 | J105: 0 | K105: 0 | L105: 0
C106: 6 | D106: 水産養殖業 | E106: B04 | F106: 0 | G106: 0 | H106: 0 | J106: 0 | K106: 0 | L106: 0
...

Sheet 表V・3
B1: 表－Ⅴ・３ 石綿含有産業廃棄物の処理量の集計結果
B3: 報告書P52で利用
L5: （単位：ｔ/年）
B6: 廃棄物種類 | C6: 排出量 | D6: 直接再生 利用量 | E6: 直接最終 処分量 | F6: 中間処理量 | J6: 再生利用量 計 | K6: 減量化量 計 | L6: 最終処分量 計
F7: 中間処理量 | G7: 処理残渣量 | H7: 中間処理後 再生利用量 | I7: 中間処理後 最終処分量
B8: 石綿含有 廃プラスチック類 | C8: 504.90657 | D8: 0 | E8: 465.01502 | F8: 39.891547 | G8: 37.95104 | H8: 1.0218175 | I8: 36.929222 | J8: 1.0218175 | K8: 1.9405073 | L8: 501.94425
D9: 0 | E9: 0.92099222 | F9: 0.07900778 | G9: 0.07516448 | H9: 0.0020237755 | I9: 0.073140705 | J9: 0.0020237755 | K9: 0.0038432998 | L9: 0.99413292
B10: 石綿含有 ガラスくず、コンクリート 及び陶磁器くず | C10: 4735.4954 | D10: 0 | E10: 2934.1889 | F10: 1801.3064 | G10: 1801.3064 | H10: 1337.9749 | I10: 463.33153 | J10: 1337.9749 | K10: 2.302051e-14 | L10: 3397.5205
D11: 0 | E11: 0.61961605 | F11: 0.38038395 | G11: 0.38038395 | H11: 0.2825417 | I11: 0.097842252 | J11: 0.2825417 | K11: 4.8612676e-18 | L11: 0.7174583
B12: 石綿含有 がれき類 | C12: 21480.03 | D12: 0 | E12: 21459.426 | F12: 20.603845 | G12: 20.499257 | H12: 12.550575 | I12: 7.9486825 | J12: 12.550575 | K12: 0.10458793 | L12: 21467.375
D13: 0 | E13: 0.99904079 | F13: 0.00095920932 | G13: 0.00095434025 | H13: 0.00058429037 | I13: 0.00037004988 | J13: 0.00058429037 | K13: 4.8690773e-06 | L13: 0.99941084
B14: 合計 | C14: 26720.432 | D14: 0 | E14: 24858.63 | F14: 1861.8018 | G14: 1859.7567 | H14: 1351.5473 | I14: 508.20943 | J14: 1351.5473 | K14: 2.0450952 | L14: 25366.84
D15: 0 | E15: 0.93032291 | F15: 0.069677085 | G15: 0.069600549 | H15: 0.050581042 | I15: 0.019019507 | J15: 0.050581042 | K15: 7.6536758e-05 | L15: 0.94934242
B16: ※四捨五入により、各項目の合算値と合計値が合致しない場合がある。

Sheet 表Ⅵ・1
B1: 表―Ⅵ・1 都道府県の水銀使用産業廃棄物実態調査の実施状況
B6: №都道府県 | D6: 産業分類 （新/旧） | E6: 調査年度 | O6: 調査年度
E7: 平成20年度 | F7: 平成21年度 | G7: 平成22年度 | H7: 平成23年度 | I7: 平成24年度 | J7: 平成25年度 | K7: 平成26年度 | L7: 平成27年度 | M7: 平成28年度 | N7: 平成29年度 | O7: 平成30年度 | P7: 令和元年度 | Q7: 令和2年度 | R7: 令和3年度 | S7: 令和４年度
B8: 1 | C8: 北海道 | D8: 新 | P8: ○ | Q8: ○
B9: 2 | C9: 青森県 | D9: 新 | O9: ○
B10: 3 | C10: 岩手県 | D10: 新 | O10: ○
B11: 4 | C11: 宮城県 | D11: 新 | O11: ○
B12: 5 | C12: 秋田県 | D12: 新 | O12: ○
B13: 6 | C13: 山形県 | D13: 新 | O13: ○
B14: 7 | C14: 福島県 | D14: 新 | O14: ○ | P14: ○ | Q14: ○ | R14: ○
B15: 8 | C15: 茨城県 | D15: 新
B16: 9 | C16: 栃木県 | D16: 新 | O16: ○
B17: 10 | C17: 群馬県 | D17: 新 | O17: ○
B18: 11 | C18: 埼玉県 | D18: 新 | O18: ○
B19: 12 | C19: 千葉県 | D19: 新 | O19: ○
B20: 13 | C20: 東京都 | D20: 新 | O20: ○ | P20: ○
B21: 14 | C21: 神奈川県 | D21: 新
B22: 15 | C22: 新潟県 | D22: 新 | O22: ○
B23: 16 | C23: 富山県 | D23: 新 | O23: ○ | P23: ○ | Q23: ○ | R23: ○ | S23: ●
B24: 17 | C24: 石川県 | D24: 新 | O24: ○ | P24: ○
B25: 18 | C25: 福井県 | D25: 新
B26: 19 | C26: 山梨県 | D26: 新 | O26: ○
B27: 20 | C27: 長野県 | D27: 新 | O27: ○
B28: 21 | C28: 岐阜県 | D28: 新 | O28: ○
B29: 22 | C29: 静岡県 | D29: 新 | O29: ○
B30: 23 | C30: 愛知県 | D30: 新 | O30: ○ | P30: ○ | Q30: ○ | R30: ○ | S30: ●
B31: 24 | C31: 三重県 | D31: 新 | O31: ○
B32: 25 | C32: 滋賀県 | D32: 新 | O32: ○
B33: 26 | C33: 京都府 | D33: 旧
B34: 27 | C34: 大阪府 | D34: 新 | P34: ○
B35: 28 | C35: 兵庫県 | D35: 旧
B36: 29 | C36: 奈良県 | D36: 新 | Q36: ○
B37: 30 | C37: 和歌山県 | D37: 新 | O37: ○
B38: 31 | C38: 鳥取県 | D38: 新 | O38: ○ | S38: ●
B39: 32 | C39: 島根県 | D39: 新 | O39: ○
B40: 33 | C40: 岡山県 | D40: 新 | O40: ○ | P40: ○ | Q40: ○ | R40: ○ | S40: ●
B41: 34 | C41: 広島県 | D41: 新 | O41: ○
B42: 35 | C42: 山口県 | D42: 旧 | O42: ○
B43: 36 | C43: 徳島県 | D43: 新
B44: 37 | C44: 香川県 | D44: 新
B45: 38 | C45: 愛媛県 | D45: 新
B46: 39 | C46: 高知県 | D46: 新
B47: 40 | C47: 福岡県 | D47: 旧
B48: 41 | C48: 佐賀県 | D48: 新 | O48: ○ | P48: ○ | Q48: ○ | R48: ○ | S48: ●
B49: 42 | C49: 長崎県 | D49: 新
B50: 43 | C50: 熊本県 | D50: 新 | O50: ○
B51: 44 | C51: 大分県 | D51: 新 | O51: ○ | P51: ○ | Q51: ○ | R51: ○ | S51: ●
B52: 45 | C52: 宮崎県 | D52: 新 | O52: ○
B53: 46 | C53: 鹿児島県 | D53: 旧
B54: 47 | C54: 沖縄県 | D54: 新 | O54: ○
B55: ○ | E55: =COUNTIF(E8:E54,"○") -> 0 | F55: =COUNTIF(F8:F54,"○") -> 0 | G55: =COUNTIF(G8:G54,"○") -> 0 | H55: =COUNTIF(H8:H54,"○") -> 0 | I55: =COUNTIF(I8:I54,"○") -> 0 | J55: =COUNTIF(J8:J54,"○") -> 0 | K55: =COUNTIF(K8:K54,"○") -> 0 | L55: =COUNTIF(L8:L54,"○") -> 0 | ... S55: =COUNTIF(S8:S54,"○") -> 0
B56: ● | E56: =COUNTIF(E8:E54,"●") -> 0 | F56: =COUNTIF(F8:F54,"●") -> 0 | G56: =COUNTIF(G8:G54,"●") -> 0 | H56: =COUNTIF(H8:H54,"●") -> 0 | I56: =COUNTIF(I8:I54,"●") -> 0 | J56: =COUNTIF(J8:J54,"●") -> 0 | K56: =COUNTIF(K8:K54,"●") -> 0 | L56: =COUNTIF(L8:L54,"●") -> 0 | ... S56: =COUNTIF(S8:S54,"●") -> 6
B57: 計 | E57: =E55+E56 -> 0 | F57: =F55+F56 -> 0 | G57: =G55+G56 -> 0 | H57: =H55+H56 -> 0 | I57: =I55+I56 -> 0 | J57: =J55+J56 -> 0 | K57: =K55+K56 -> 0 | L57: =L55+L56 -> 0 | ... S57: =S55+S56 -> 6
B58: ※ | C58: ●：今回採用データ、○：以前の調査

Sheet 表Ⅵ2 (2)
B3: 報告書P50で利用
B4: 表―Ⅴ・２ 水銀使用産業廃棄物の排出量の集計結果（令和元年度実績値）
M8: （単位：ｔ/年）
B9: 大分類 | C9: 番 | D9: 産業分類 | E9: コード | F9: 水銀使用製品廃棄物 由来の汚泥 | G9: データの個数 | H9: 水銀使用製品廃棄物 由来の廃プラスチック類 | I9: データの個数 | J9: 水銀使用製品廃棄物 由来の金属くず | K9: データの個数 | L9: 水銀使用製品廃棄物 由来のガラスくず | M9: データの個数 | O9: ①水銀使用製品廃棄物（個別製品の種類別）
C10: 号
D11: 農業，林業大分類 | E11: A | F11: 0 | G11: 2 | H11: 0 | I11: 2 | J11: 0 | K11: 2 | L11: 0 | M11: 2
C12: 1 | D12: 耕種農業 | E12: A011 | F12: 0 | G12: 0 | H12: 0 | I12: 0 | J12: 0 | K12: 0 | L12: 0 | M12: 0
B13: 農業，林業 | C13: 2 | D13: 畜産農業 | E13: A012 | F13: 0 | G13: 0 | H13: 0 | I13: 0 | J13: 0 | K13: 0 | L13: 0 | M13: 0
C14: 3 | D14: 林業 | E14: A02 | F14: 0 | G14: 0 | H14: 0 | I14: 0 | J14: 0 | K14: 0 | L14: 0 | M14: 0
C15: 4 | D15: 上記以外の農業，林業 | F15: 0 | G15: 0 | H15: 0 | I15: 0 | J15: 0 | K15: 0 | L15: 0 | M15: 0
D16: 漁業大分類 | E16: B | F16: 0 | G16: 2 | H16: 0 | I16: 2 | J16: 0 | K16: 2 | L16: 0 | M16: 2
B17: 漁 業 | C17: 5 | D17: 漁業 | E17: B03 | F17: 0 | G17: 0 | H17: 0 | I17: 0 | J17: 0 | K17: 0 | L17: 0 | M17: 0
C18: 6 | D18: 水産養殖業 | E18: B04 | F18: 0 | G18: 0 | H18: 0 | I18: 0 | J18: 0 | K18: 0 | L18: 0 | M18: 0
B19: 鉱 業 | C19: 7 | D19: 鉱業，採石業，砂利採取業 | E19: C | F19: 0 | G19: 2 | H19: 0 | I19: 2 | J19: 0 | K19: 2 | L19: 0 | M19: 2
B20: 建設業 | C20: 8 | D20: 建設業 | E20: D | F20: 13.41843 | G20: 2 | H20: 22 | I20: 2 | J20: 2803.002 | K20: 3 | L20: 40.13 | M20: 3
D21: 製造業大分類 | E21: E | F21: 227.15194 | G21: 0 | H21: 0 | I21: 0 | J21: 0 | K21: 0 | L21: 197.27942 | M21: 0
C22: 9 | D22: 食料品製造業 | E22: E09 | F22: 0.77 | G22: 2 | H22: 0 | I22: 2 | J22: 0 | K22: 2 | L22: 195.8534 | M22: 2
C23: 10 | D23: 飲料・たばこ・飼料製造業 | E23: E10 | F23: 0 | G23: 2 | H23: 0 | I23: 2 | J23: 0 | K23: 2 | L23: 0 | M23: 2
C24: 11 | D24: 繊維工業 | E24: E11 | F24: 0 | G24: 2 | H24: 0 | I24: 2 | J24: 0 | K24: 2 | L24: 0 | M24: 2
C25: 12 | D25: 木材・木製品製造業 | E25: E12 | F25: 0 | G25: 2 | H25: 0 | I25: 2 | J25: 0 | K25: 2 | L25: 0 | M25: 2
C26: 13 | D26: 家具・装備品製造業 | E26: E13 | F26: 0 | G26: 2 | H26: 0 | I26: 2 | J26: 0 | K26: 2 | L26: 0 | M26: 2
C27: 14 | D27: パルプ・紙・紙加工品製造業 | E27: E14 | F27: 225.4389 | G27: 2 | H27: 0 | I27: 2 | J27: 0 | K27: 2 | L27: 0 | M27: 2
C28: 15 | D28: 印刷・同関連業 | E28: E15 | F28: 0 | G28: 2 | H28: 0 | I28: 2 | J28: 0 | K28: 2 | L28: 0 | M28: 2
C29: 16 | D29: 化学工業 | E29: E16 | F29: 0.06392 | G29: 2 | H29: 0 | I29: 2 | J29: 0 | K29: 2 | L29: 0 | M29: 2
C30: 17 | D30: 石油製品・石炭製品製造業 | E30: E17 | F30: 0 | G30: 2 | H30: 0 | I30: 2 | J30: 0 | K30: 2 | L30: 0 | M30: 2
B31: 製造業 | C31: 18 | D31: プラスチック製品製造業 | E31: E18 | F31: 0.49 | G31: 2 | H31: 0 | I31: 2 | J31: 0 | K31: 2 | L31: 0 | M31: 2
C32: 19 | D32: ゴム製品製造業 | E32: E19 | F32: 0 | G32: 2 | H32: 0 | I32: 2 | J32: 0 | K32: 2 | L32: 1.12902 | M32: 2
C33: 20 | D33: なめし革・同製品・毛皮製造業 | E33: E20 | F33: 0 | G33: 2 | H33: 0 | I33: 2 | J33: 0 | K33: 2 | L33: 0 | M33: 2
C34: 21 | D34: 窯業・土石製品製造業 | E34: E21 | F34: 0.3601234 | G34: 2 | H34: 0 | I34: 2 | J34: 0 | K34: 2 | L34: 0.297 | M34: 2
C35: 22 | D35: 鉄鋼業 | E35: E22 | F35: 0 | G35: 2 | H35: 0 | I35: 2 | J35: 0 | K35: 2 | L35: 0 | M35: 2
C36: 23 | D36: 非鉄金属製造業 | E36: E23 | F36: 0 | G36: 2 | H36: 0 | I36: 2 | J36: 0 | K36: 2 | L36: 0 | M36: 2
C37: 24 | D37: 金属製品製造業 | E37: E24 | F37: 0 | G37: 2 | H37: 0 | I37: 2 | J37: 0 | K37: 2 | L37: 0 | M37: 2
C38: 25 | D38: はん用機械器具製造業 | E38: E25 | F38: 0 | G38: 2 | H38: 0 | I38: 2 | J38: 0 | K38: 2 | L38: 0 | M38: 2
C39: 26 | D39: 生産用機械器具製造業 | E39: E26 | F39: 0 | G39: 2 | H39: 0 | I39: 2 | J39: 0 | K39: 2 | L39: 0 | M39: 2
C40: 27 | D40: 業務用機械器具製造業 | E40: E27 | F40: 0 | G40: 2 | H40: 0 | I40: 2 | J40: 0 | K40: 2 | L40: 0 | M40: 2
C41: 28 | D41: 電子部品・デバイス・電子回路製造業 | E41: E28 | F41: 0 | G41: 2 | H41: 0 | I41: 2 | J41: 0 | K41: 2 | L41: 0 | M41: 2
C42: 29 | D42: 電気機械器具製造業 | E42: E29 | F42: 0.029 | G42: 2 | H42: 0 | I42: 2 | J42: 0 | K42: 2 | L42: 0 | M42: 2
C43: 30 | D43: 情報通信機械器具製造業 | E43: E30 | F43: 0 | G43: 2 | H43: 0 | I43: 2 | J43: 0 | K43: 2 | L43: 0 | M43: 2
... C45: 32 | D45: その他の製造業 | E45: E32 | F45: 0 | G45: 2 | H45: 0 | I45: 2 | J45: 0 | K45: 2 | L45: 0 | M45: 2
D46: 電気・ガス・熱供給・水道業大分類 | E46: F | F46: 0 | G46: 2 | H46: 0 | I46: 2 | J46: 0 | K46: 2 | L46: 0.262 | M46: 2
B47: 電気･ガス | C47: 33 | D47: 電気業 | E47: F33 | F47: 0 | G47: 0 | H47: 0 | I47: 0 | J47: 0 | K47: 0 | L47: 0 | M47: 0
B48: ･熱供給･ | C48: 34 | D48: ガス業 | E48: F34 | F48: 0 | G48: 0 | H48: 0 | I48: 0 | J48: 0 | K48: 0 | L48: 0 | M48: 0
B49: 水道業 | C49: 35 | D49: 熱供給業 | E49: F35 | F49: 0 | G49: 0 | H49: 0 | I49: 0 | J49: 0 | K49: 0 | L49: 0 | M49: 0
C50: 36 | D50: 上水道業 | E50: F361 | F50: 0 | G50: 0 | H50: 0 | I50: 0 | J50: 0 | K50: 0 | L50: 0 | M50: 0
C51: 37 | D51: 下水道業 | E51: F363 | F51: 0 | G51: 0 | H51: 0 | I51: 0 | J51: 0 | K51: 0 | L51: 0 | M51: 0
D52: 情報通信業大分類 | E52: G | F52: 0 | G52: 2 | H52: 0 | I52: 2 | J52: 0 | K52: 2 | L52: 0 | M52: 2
C53: 38 | D53: 通信業 | E53: G37 | F53: 0 | G53: 0 | H53: 0 | I53: 0 | J53: 0 | K53: 0 | L53: 0 | M53: 0
B54: 情報通信業 | C54: 39 | D54: 放送業 | E54: G38 | F54: 0 | G54: 0 | H54: 0 | I54: 0 | J54: 0 | K54: 0 | L54: 0 | M54: 0
C55: 40 | D55: 情報サービス業 | E55: G39 | F55: 0 | G55: 0 | H55: 0 | I55: 0 | J55: 0 | K55: 0 | L55: 0 | M55: 0
C56: 41 | D56: インターネット付随サービス業 | E56: G40 | F56: 0 | G56: 0 | H56: 0 | I56: 0 | J56: 0 | K56: 0 | L56: 0 | M56: 0
C57: 42 | D57: 映像・音声・文字情報制作業 | E57: G41 | F57: 0 | G57: 0 | H57: 0 | I57: 0 | J57: 0 | K57: 0 | L57: 0 | M57: 0
D58: 運輸業，郵便業大分類 | E58: H | F58: 0.24 | G58: 2 | H58: 0 | I58: 2 | J58: 0 | K58: 2 | L58: 0 | M58: 2
B59: 運輸業， | C59: 43 | D59: 鉄道業 | E59: H42 | F59: 0 | G59: 0 | H59: 0 | I59: 0 | J59: 0 | K59: 0 | L59: 0 | M59: 0
B60: 郵便業 | C60: 44 | D60: 道路旅客運送業 | E60: H43 | F60: 0 | G60: 0 | H60: 0 | I60: 0 | J60: 0 | K60: 0 | L60: 0 | M60: 0
C61: 45 | D61: 道路貨物運送業 | E61: H44 | F61: 0 | G61: 0 | H61: 0 | I61: 0 | J61: 0 | K61: 0 | L61: 0 | M61: 0
C62: 46 | D62: 上記以外の運輸業，郵便業 | F62: 0 | G62: 0 | H62: 0 | I62: 0 | J62: 0 | K62: 0 | L62: 0 | M62: 0
D63: 卸売業，小売業大分類 | E63: I | F63: 0.09177 | G63: 2 | H63: 0 | I63: 2 | J63: 0 | K63: 2 | L63: 0 | M63: 2
C64: 47 | D64: 各種商品卸売業 | E64: I50 | F64: 0 | G64: 0 | H64: 0 | I64: 0 | J64: 0 | K64: 0 | L64: 0 | M64: 0
C65: 48 | D65: 木材・竹材卸売業 | E65: I5311 | F65: 0 | G65: 0 | H65: 0 | I65: 0 | J65: 0 | K65: 0 | L65: 0 | M65: 0
C66: 49 | D66: 各種商品小売業 | E66: I56 | F66: 0 | G66: 0 | H66: 0 | I66: 0 | J66: 0 | K66: 0 | L66: 0 | M66: 0
B67: 卸売業， | C67: 50 | D67: 自動車小売業 | E67: I591 | F67: 0 | G67: 0 | H67: 0 | I67: 0 | J67: 0 | K67: 0 | L67: 0 | M67: 0
B68: 小売業 | C68: 51 | D68: 機械器具小売業 | E68: I593 | F68: 0 | G68: 0 | H68: 0 | I68: 0 | J68: 0 | K68: 0 | L68: 0 | M68: 0
C69: 52 | D69: 家具・建具・畳小売業 | E69: I601 | F69: 0 | G69: 0 | H69: 0 | I69: 0 | J69: 0 | K69: 0 | L69: 0 | M69: 0
C70: 53 | D70: じゅう器小売業 | E70: I602 | F70: 0 | G70: 0 | H70: 0 | I70: 0 | J70: 0 | K70: 0 | L70: 0 | M70: 0
C71: 54 | D71: 燃料小売業 | E71: I605 | F71: 0 | G71: 0 | H71: 0 | I71: 0 | J71: 0 | K71: 0 | L71: 0 | M71: 0
C72: 55 | D72: 上記以外の卸売業，小売業 | F72: 0 | G72: 0 | H72: 0 | I72: 0 | J72: 0 | K72: 0 | L72: 0 | M72: 0
B73: 不動産業， | D73: 不動産業，物品賃貸業大分類 | E73: K | F73: 0 | G73: 2 | H73: 0 | I73: 2 | J73: 0 | K73: 2 | L73: 0 | M73: 2
B74: 物品賃貸業 | C74: 56 | D74: 物品賃貸業 | E74: K70 | F74: 0 | G74: 0 | H74: 0 | I74: 0 | J74: 0 | K74: 0 | L74: 0 | M74: 0
B75: 学術研究，専門 | D75: 学術研究，専門・技術サービス業大分類 | E75: L | F75: 0 | G75: 2 | H75: 0 | I75: 2 | J75: 0 | K75: 2 | L75: 4 | M75: 2
B76: ・技術サービス業 | C76: 57 | D76: 学術・開発研究機関 | E76: L71 | F76: 0 | G76: 0 | H76: 0 | I76: 0 | J76: 0 | K76: 0 | L76: 0 | M76: 0
C77: 58 | D77: 写真業 | E77: L746 | F77: 0 | G77: 0 | H77: 0 | I77: 0 | J77: 0 | K77: 0 | L77: 0 | M77: 0
B78: 宿泊業，飲食 | D78: 宿泊業，飲食サービス業大分類 | E78: M | F78: 0 | G78: 2 | H78: 0 | I78: 2 | J78: 0 | K78: 2 | L78: 27 | M78: 2
B79: サービス業 | C79: 59 | D79: 飲食店 | E79: M76 | F79: 0 | G79: 0 | H79: 0 | I79: 0 | J79: 0 | K79: 0 | L79: 0 | M79: 0
C80: 60 | D80: 上記以外の宿泊業，飲食サービス業 | F80: 0 | G80: 0 | H80: 0 | I80: 0 | J80: 0 | K80: 0 | L80: 0 | M80: 0
B81: 生活関連サー | D81: 生活関連サービス業，娯楽業大分類 | E81: N | F81: 0 | G81: 2 | H81: 0 | I81: 2 | J81: 0 | K81: 2 | L81: 0 | M81: 2
B82: ビス業，娯楽業 | C82: 61 | D82: 洗濯業 | E82: N781 | F82: 0 | G82: 0 | H82: 0 | I82: 0 | J82: 0 | K82: 0 | L82: 0 | M82: 0
B83: 教育，学習支援業 | C83: 62 | D83: 教育，学習支援業 | E83: O | F83: 0 | G83: 1 | H83: 0 | I83: 1 | J83: 0 | K83: 1 | L83: 0 | M83: 1
D84: 医療，福祉大分類 | E84: P | F84: 0 | G84: 2 | H84: 0.346075 | I84: 2 | J84: 6 | K84: 2 | L84: 0.102 | M84: 2
B85: 医療，福祉 | C85: 63 | D85: 医療業 | E85: P83 | F85: 0 | G85: 0 | H85: 0 | I85: 0 | J85: 0 | K85: 0 | L85: 0 | M85: 0
C86: 64 | D86: 上記以外の医療，福祉 | F86: 0 | G86: 0 | H86: 0 | I86: 0 | J86: 0 | K86: 0 | L86: 0 | M86: 0
B87: 教育、学習支援業 | C87: 65 | D87: 複合サービス事業 | E87: Q | F87: 0 | G87: 2 | H87: 0 | I87: 2 | J87: 18 | K87: 2 | L87: 6 | M87: 2
D88: サービス業大分類 | E88: R | F88: 8.6658 | G88: 2 | H88: 0 | I88: 2 | J88: 0 | K88: 2 | L88: 0 | M88: 2
B89: サービス業 | C89: 66 | D89: 自動車整備業 | E89: R891 | F89: 0 | G89: 0 | H89: 0 | I89: 0 | J89: 0 | K89: 0 | L89: 0 | M89: 0
C90: 67 | D90: と畜場 | E90: R952 | F90: 0 | G90: 0 | H90: 0 | I90: 0 | J90: 0 | K90: 0 | L90: 0 | M90: 0
C91: 68 | D91: 上記以外のサービス業 | F91: 0 | G91: 0 | H91: 0 | I91: 0 | J91: 0 | K91: 0 | L91: 0 | M91: 0
B92: 公務 | C92: 69 | D92: 公務 | E92: Ｓ | F92: 0 | G92: 2 | H92: 0 | I92: 2 | J92: 0 | K92: 2 | L92: 0 | M92: 2
D93: 合計 | F93: =SUM(F11,F16,F19:F21,F46,F52,F58,F63,F73,F75,F78,F81,F83:F84,F87:F88,F92) -> 249.56794 | G93: 0 | H93: =SUM(H11,H16,H19:H21,H46,H52,H58,H63,H73,H75,H78,H81,H83:H84,H87:H88,H92) -> 22.346075 | I93: 0 | J93: =SUM(J11,J16,J19:J21,J46,J52,J58,J63,J73,J75,J78,J81,J83:J84,J87:J88,J92) -> 2827.002 | K93: 0 | L93: =SUM(L11,L16,L19:L21,L46,L52,L58,L63,L73,L75,L78,L81,L83:L84,L87:L88,L92) -> 274.77342 | M93: 0
G94: =G93/1000 -> 0 | K94: =K93/1000 -> 0
B96: ②水銀使用製品廃棄物（一括） | O96: ③水銀含有ばいじん等
G98: （単位：ｔ/年） | AO98: （単位：ｔ/年）
B99: 大分類 | C99: 番 | D99: 産業分類 | E99: コード | F99: 水銀使用製品廃棄物 | G99: データの個数 | O99: 大分類 | P99: 産業分類 | Q99: コード | R99: 燃え殻 | V99: 汚 泥 | Z99: 廃 酸 | AD99: 廃アルカリ | AH99: 鉱さい | AL99: ばいじん
C100: 号 | S100: うち水銀含有 | T100: データの個数 | U100: 比率 | W100: うち水銀含有 | X100: データの個数 | Y100: 比率 | AA100: うち水銀含有 | AB100: データの個数 | AC100: 比率 | AE100: うち水銀含有 | AF100: データの個数 | AG100: 比率 | AI100: うち水銀含有 | AJ100: データの個数 | AK100: 比率 | AM100: うち水銀含有 | AN100: データの個数 | AO100: 比率
D101: 農業，林業大分類 | E101: A | F101: 5.25 | G101: 6 | P101: 農業，林業大分類 | Q101: A | R101: 0 | S101: 0 | T101: 2 | V101: 22564 | W101: 0 | X101: 2 | Y101: 0 | Z101: 0 | AA101: 0 | AB101: 2 | AD101: 0 | AE101: 0 | AF101: 2 | AH101: 0 | AI101: 0 | AJ101: 2 | AL101: 0 | AM101: 0 | AN101: 2
C102: 1 | D102: 耕種農業 | E102: A011 | F102: 0 | G102: 0 | P102: 耕種農業 | Q102: A011 | R102: 0 | S102: 0 | T102: 0 | V102: 0 | W102: 0 | X102: 0 | Z102: 0 | AA102: 0 | AB102: 0 | AD102: 0 | AE102: 0 | AF102: 0 | AH102: 0 | AI102: 0 | AJ102: 0 | AL102: 0 | AM102: 0 | AN102: 0
B103: 農業，林業 | C103: 2 | D103: 畜産農業 | E103: A012 | F103: 0 | G103: 0 | O103: 農業，林業 | P103: 畜産農業 | Q103: A012 | R103: 0 | S103: 0 | T103: 0 | V103: 0 | W103: 0 | X103: 0 | Z103: 0 | AA103: 0 | AB103: 0 | AD103: 0 | AE103: 0 | AF103: 0 | AH103: 0 | AI103: 0 | AJ103: 0 | AL103: 0 | AM103: 0 | AN103: 0
C104: 3 | D104: 林業 | E104: A02 | F104: 0 | G104: 0 | P104: 林業 | Q104: A02 | R104: 0 | S104: 0 | T104: 0 | V104: 0 | W104: 0 | X104: 0 | Z104: 0 | AA104: 0 | AB104: 0 | AD104: 0 | AE104: 0 | AF104: 0 | AH104: 0 | AI104: 0 | AJ104: 0 | AL104: 0 | AM104: 0 | AN104: 0
C105: 4 | D105: 上記以外の農業，林業 | F105: 0 | G105: 0 | P105: 上記以外の農業，林業 | R105: 0 | S105: 0 | T105: 0 | V105: 0 | W105: 0 | X105: 0 | Z105: 0 | AA105: 0 | AB105: 0 | AD105: 0 | AE105: 0 | AF105: 0 | AH105: 0 | AI105: 0 | AJ105: 0 | AL105: 0 | AM105: 0 | AN105: 0
D106: 漁業大分類 | E106: B | F106: 0 | G106: 6 | P106: 漁業大分類 | Q106: B | R106: 0 | S106: 0 | T106: 2 | V106: 0 | W106: 0 | X106: 2 | Z106: 0 | AA106: 0 | AB106: 2 | AD106: 0 | AE106: 0 | AF106: 2 | AH106: 0 | AI106: 0 | AJ106: 2 | AL106: 0 | AM106: 0 | AN106: 2
B107: 漁 業 | C107: 5 | D107: 漁業 | E107: B03 | F107: 0 | G107: 0 | O107: 漁 業 | P107: 漁業 | Q107: B03 | R107: 0 | S107: 0 | T107: 0 | V107: 0 | W107: 0 | X107: 0 | Z107: 0 | AA107: 0 | AB107: 0 | AD107: 0 | AE107: 0 | AF107: 0 | AH107: 0 | AI107: 0 | AJ107: 0 | AL107: 0 | AM107: 0 | AN107: 0
C108: 6 | D108: 水産養殖業 | E108: B04 | F108: 0 | G108: 0 | P108: 水産養殖業 | Q108: B04 | R108: 0 | S108: 0 | T108: 0 | V108: 0 | W108: 0 | X108: 0 | Z108: 0 | AA108: 0 | AB108: 0 | AD108: 0 | AE108: 0 | AF108: 0 | AH108: 0 | AI108: 0 | AJ108: 0 | AL108: 0 | AM108: 0 | AN108: 0
...

Sheet 表Ⅵ・2・３・４
B1: 表―Ⅵ・２ 水銀使用産業廃棄物の排出量の集計結果
B9: 大分類 | C9: 番 | D9: 産業分類 | E9: コード | F9: 水銀使用製品廃棄物 由来の汚泥 （ｔ/年） | G9: データの個数 (件) | H9: 水銀使用製品廃棄物 由来の廃プラスチック類 （ｔ/年） | I9: データの個数 (件) | J9: 水銀使用製品廃棄物 由来の金属くず （ｔ/年） | K9: データの個数 (件) | L9: 水銀使用製品廃棄物 由来のガラスくず （ｔ/年） | M9: データの個数 (件)
C10: 号
D11: 農業，林業大分類 | E11: A | F11: 0 | G11: 0 | H11: 0 | I11: 0 | J11: 0 | K11: 0 | L11: 0 | M11: 0
C12: 1 | D12: 耕種農業 | E12: A011 | F12: 0 | G12: 0 | H12: 0 | I12: 0 | J12: 0 | K12: 0 | L12: 0 | M12: 0
B13: 農業，林業 | C13: 2 | D13: 畜産農業 | E13: A012 | F13: 0 | G13: 0 | H13: 0 | I13: 0 | J13: 0 | K13: 0 | L13: 0 | M13: 0
C14: 3 | D14: 林業 | E14: A02 | F14: 0 | G14: 0 | H14: 0 | I14: 0 | J14: 0 | K14: 0 | L14: 0 | M14: 0
C15: 4 | D15: 上記以外の農業，林業 | F15: 0 | G15: 0 | H15: 0 | I15: 0 | J15: 0 | K15: 0 | L15: 0 | M15: 0
D16: 漁業大分類 | E16: B | F16: 0 | G16: 0 | H16: 0 | I16: 0 | J16: 0 | K16: 0 | L16: 0 | M16: 0
B17: 漁 業 | C17: 5 | D17: 漁業 | E17: B03 | F17: 0 | G17: 0 | H17: 0 | I17: 0 | J17: 0 | K17: 0 | L17: 0 | M17: 0
C18: 6 | D18: 水産養殖業 | E18: B04 | F18: 0 | G18: 0 | H18: 0 | I18: 0 | J18: 0 | K18: 0 | L18: 0 | M18: 0
B19: 鉱 業 | C19: 7 | D19: 鉱業，採石業，砂利採取業 | E19: C | F19: 0 | G19: 0 | H19: 0 | I19: 0 | J19: 0 | K19: 0 | L19: 0 | M19: 0
B20: 建設業 | C20: 8 | D20: 建設業 | E20: D | F20: 11.622537 | G20: 1 | H20: 22 | I20: 1 | J20: 0.002 | K20: 1 | L20: 2.007 | M20: 1
D21: 製造業大分類 | E21: E | F21: 222.53162 | G21: 1 | H21: 0 | I21: 0 | J21: 0 | K21: 0 | L21: 216.85106 | M21: 1
C22: 9 | D22: 食料品製造業 | E22: E09 | F22: 0.77 | G22: 1 | H22: 0 | I22: 0 | J22: 0 | K22: 0 | L22: 215.6588 | M22: 1
C23: 10 | D23: 飲料・たばこ・飼料製造業 | E23: E10 | F23: 0 | G23: 0 | H23: 0 | I23: 0 | J23: 0 | K23: 0 | L23: 0 | M23: 0
C24: 11 | D24: 繊維工業 | E24: E11 | F24: 0 | G24: 0 | H24: 0 | I24: 0 | J24: 0 | K24: 0 | L24: 0 | M24: 0
C25: 12 | D25: 木材・木製品製造業 | E25: E12 | F25: 0 | G25: 0 | H25: 0 | I25: 0 | J25: 0 | K25: 0 | L25: 0 | M25: 0
C26: 13 | D26: 家具・装備品製造業 | E26: E13 | F26: 0 | G26: 0 | H26: 0 | I26: 0 | J26: 0 | K26: 0 | L26: 0 | M26: 0
C27: 14 | D27: パルプ・紙・紙加工品製造業 | E27: E14 | F27: 220.9374 | G27: 1 | H27: 0 | I27: 0 | J27: 0 | K27: 0 | L27: 0 | M27: 0
C28: 15 | D28: 印刷・同関連業 | E28: E15 | F28: 0 | G28: 0 | H28: 0 | I28: 0 | J28: 0 | K28: 0 | L28: 0 | M28: 0
C29: 16 | D29: 化学工業 | E29: E16 | F29: 0.05912 | G29: 1 | H29: 0 | I29: 0 | J29: 0 | K29: 0 | L29: 0 | M29: 0
C30: 17 | D30: 石油製品・石炭製品製造業 | E30: E17 | F30: 0 | G30: 0 | H30: 0 | I30: 0 | J30: 0 | K30: 0 | L30: 0 | M30: 0
B31: 製造業 | C31: 18 | D31: プラスチック製品製造業 | E31: E18 | F31: 0.4975 | G31: 1 | H31: 0 | I31: 0 | J31: 0 | K31: 0 | L31: 0 | M31: 0
C32: 19 | D32: ゴム製品製造業 | E32: E19 | F32: 0 | G32: 0 | H32: 0 | I32: 0 | J32: 0 | K32: 0 | L32: 1.19226 | M32: 1
C33: 20 | D33: なめし革・同製品・毛皮製造業 | E33: E20 | F33: 0 | G33: 0 | H33: 0 | I33: 0 | J33: 0 | K33: 0 | L33: 0 | M33: 0
C34: 21 | D34: 窯業・土石製品製造業 | E34: E21 | F34: 0.2386 | G34: 1 | H34: 0 | I34: 0 | J34: 0 | K34: 0 | L34: 0 | M34: 0
C35: 22 | D35: 鉄鋼業 | E35: E22 | F35: 0 | G35: 0 | H35: 0 | I35: 0 | J35: 0 | K35: 0 | L35: 0 | M35: 0
C36: 23 | D36: 非鉄金属製造業 | E36: E23 | F36: 0 | G36: 0 | H36: 0 | I36: 0 | J36: 0 | K36: 0 | L36: 0 | M36: 0
C37: 24 | D37: 金属製品製造業 | E37: E24 | F37: 0 | G37: 0 | H37: 0 | I37: 0 | J37: 0 | K37: 0 | L37: 0 | M37: 0
C38: 25 | D38: はん用機械器具製造業 | E38: E25 | F38: 0 | G38: 0 | H38: 0 | I38: 0 | J38: 0 | K38: 0 | L38: 0 | M38: 0
C39: 26 | D39: 生産用機械器具製造業 | E39: E26 | F39: 0 | G39: 0 | H39: 0 | I39: 0 | J39: 0 | K39: 0 | L39: 0 | M39: 0
C40: 27 | D40: 業務用機械器具製造業 | E40: E27 | F40: 0 | G40: 0 | H40: 0 | I40: 0 | J40: 0 | K40: 0 | L40: 0 | M40: 0
C41: 28 | D41: 電子部品・デバイス・電子回路製造業 | E41: E28 | F41: 0 | G41: 0 | H41: 0 | I41: 0 | J41: 0 | K41: 0 | L41: 0 | M41: 0
C42: 29 | D42: 電気機械器具製造業 | E42: E29 | F42: 0.029 | G42: 1 | H42: 0 | I42: 0 | J42: 0 | K42: 0 | L42: 0 | M42: 0
C43: 30 | D43: 情報通信機械器具製造業 | E43: E30 | F43: 0 | G43: 0 | H43: 0 | I43: 0 | J43: 0 | K43: 0 | L43: 0 | M43: 0
... C45: 32 | D45: その他の製造業 | E45: E32 | F45: 0 | G45: 0 | H45: 0 | I45: 0 | J45: 0 | K45: 0 | L45: 0 | M45: 0
D46: 電気・ガス・熱供給・水道業大分類 | E46: F | F46: 0 | G46: 0 | H46: 0 | I46: 0 | J46: 0 | K46: 0 | L46: 0.262 | M46: 1
B47: 電気･ガス | C47: 33 | D47: 電気業 | E47: F33 | F47: 0 | G47: 0 | H47: 0 | I47: 0 | J47: 0 | K47: 0 | L47: 0.262 | M47: 1
B48: ･熱供給･ | C48: 34 | D48: ガス業 | E48: F34 | F48: 0 | G48: 0 | H48: 0 | I48: 0 | J48: 0 | K48: 0 | L48: 0 | M48: 0
B49: 水道業 | C49: 35 | D49: 熱供給業 | E49: F35 | F49: 0 | G49: 0 | H49: 0 | I49: 0 | J49: 0 | K49: 0 | L49: 0 | M49: 0
C50: 36 | D50: 上水道業 | E50: F361 | F50: 0 | G50: 0 | H50: 0 | I50: 0 | J50: 0 | K50: 0 | L50: 0 | M50: 0
C51: 37 | D51: 下水道業 | E51: F363 | F51: 0 | G51: 0 | H51: 0 | I51: 0 | J51: 0 | K51: 0 | L51: 0 | M51: 0
D52: 情報通信業大分類 | E52: G | F52: 0 | G52: 0 | H52: 0 | I52: 0 | J52: 0 | K52: 0 | L52: 0 | M52: 0
C53: 38 | D53: 通信業 | E53: G37 | F53: 0 | G53: 0 | H53: 0 | I53: 0 | J53: 0 | K53: 0 | L53: 0 | M53: 0
B54: 情報通信業 | C54: 39 | D54: 放送業 | E54: G38 | F54: 0 | G54: 0 | H54: 0 | I54: 0 | J54: 0 | K54: 0 | L54: 0 | M54: 0
C55: 40 | D55: 情報サービス業 | E55: G39 | F55: 0 | G55: 0 | H55: 0 | I55: 0 | J55: 0 | K55: 0 | L55: 0 | M55: 0
C56: 41 | D56: インターネット付随サービス業 | E56: G40 | F56: 0 | G56: 0 | H56: 0 | I56: 0 | J56: 0 | K56: 0 | L56: 0 | M56: 0
C57: 42 | D57: 映像・音声・文字情報制作業 | E57: G41 | F57: 0 | G57: 0 | H57: 0 | I57: 0 | J57: 0 | K57: 0 | L57: 0 | M57: 0
D58: 運輸業，郵便業大分類 | E58: H | F58: 0.26112 | G58: 1 | H58: 0 | I58: 0 | J58: 0 | K58: 0 | L58: 0 | M58: 0
B59: 運輸業， | C59: 43 | D59: 鉄道業 | E59: H42 | F59: 0 | G59: 0 | H59: 0 | I59: 0 | J59: 0 | K59: 0 | L59: 0 | M59: 0
B60: 郵便業 | C60: 44 | D60: 道路旅客運送業 | E60: H43 | F60: 0 | G60: 0 | H60: 0 | I60: 0 | J60: 0 | K60: 0 | L60: 0 | M60: 0
C61: 45 | D61: 道路貨物運送業 | E61: H44 | F61: 0 | G61: 0 | H61: 0 | I61: 0 | J61: 0 | K61: 0 | L61: 0 | M61: 0
C62: 46 | D62: 上記以外の運輸業，郵便業 | F62: 0 | G62: 0 | H62: 0 | I62: 0 | J62: 0 | K62: 0 | L62: 0 | M62: 0
D63: 卸売業，小売業大分類 | E63: I | F63: 0.09785 | G63: 1 | H63: 0 | I63: 0 | J63: 0 | K63: 0 | L63: 0 | M63: 0
C64: 47 | D64: 各種商品卸売業 | E64: I50 | F64: 0 | G64: 0 | H64: 0 | I64: 0 | J64: 0 | K64: 0 | L64: 0 | M64: 0
C65: 48 | D65: 木材・竹材卸売業 | E65: I5311 | F65: 0 | G65: 0 | H65: 0 | I65: 0 | J65: 0 | K65: 0 | L65: 0 | M65: 0
C66: 49 | D66: 各種商品小売業 | E66: I56 | F66: 0 | G66: 0 | H66: 0 | I66: 0 | J66: 0 | K66: 0 | L66: 0 | M66: 0
B67: 卸売業， | C67: 50 | D67: 自動車小売業 | E67: I591 | F67: 0 | G67: 0 | H67: 0 | I67: 0 | J67: 0 | K67: 0 | L67: 0 | M67: 0
