Workbook
Name OLE_LINK7: ×表Ⅱ・4!#REF!
Name RZK_DD: #REF!
Name RZK_DD: #REF!
Name RZK_DD: #REF!
Name RZK_DD: #REF!
Name RZK_TTL: #REF!
Name RZK_TTL: #REF!
Name RZK_TTL: #REF!
Name RZK_TTL: #REF!
Name san: #REF!
Name san: #REF!
Name san: #REF!
Name デ１: [1]デフレータ!#REF!
Name デフレータ: [1]デフレータ!#REF!
Name デフレータ: [1]デフレータ!#REF!
Name デフレータ: [1]デフレータ!#REF!
Name デフレータ: [1]デフレータ!#REF!

Sheet 表Ⅱ・8
B1: 表－Ⅱ・８ 濃縮汚泥量（全国量（ｍ３／年））
B2: No. | C2: 都道府県名 | D2: 令和4年度
B3: 1 | C3: 北海道 | D3: 4112783.4
B4: 2 | C4: 青森県 | D4: 517180.48
B5: 3 | C5: 岩手県 | D5: 467966.36
B6: 4 | C6: 宮城県 | D6: 1602876.4
B7: 5 | C7: 秋田県 | D7: 372558.1
B8: 6 | C8: 山形県 | D8: 603839.1
B9: 7 | C9: 福島県 | D9: 865812.83
B10: 8 | C10: 茨城県 | D10: 1786662.5
B11: 9 | C11: 栃木県 | D11: 946278.04
B12: 10 | C12: 群馬県 | D12: 1041466.2
B13: 11 | C13: 埼玉県 | D13: 4533443.9
B14: 12 | C14: 千葉県 | D14: 3506009.1
... B49: 47 | C49: 沖縄県 | D49: 899515.1
B50: 合計 | D50: 77428385

Sheet 表Ⅲ・2
B1: 表－Ⅲ・２ 産業廃棄物の業種別排出量（令和４年度実績値）
B3: 業種 | D3: 令和４年度 | F3: 令和３年度（参考）
D4: 排出量（千ｔ） | E4: 割合（%） | F4: 排出量（千ｔ） | G4: 割合（%）
B5: 農業、林業 | D5: =表Ⅲ・5!Y5 -> 81619.319 | E5: =D5/D$87*100 -> 21.819335 | F5: 81693.24 | G5: 21.731736
C6: 耕種農業 | D6: =表Ⅲ・5!Y6 -> 21.171117 | E6: =D6/D$87*100 -> 0.0056596859 | F6: 21.798322 | G6: 0.0057987097
C7: 畜産農業 | D7: =表Ⅲ・5!Y7 -> 81383.493 | E7: =D7/D$87*100 -> 21.756292 | F7: 81464.548 | G7: 21.6709
C8: 林業大分類 | D8: =表Ⅲ・5!Y8 -> 17.523545 | E8: =D8/D$87*100 -> 0.0046845785 | F8: 15.00376 | G8: 0.0039912451
C9: 上記以外の農業 | D9: =表Ⅲ・5!Y9 -> 0 | E9: =D9/D$87*100 -> 0 | F9: 0 | G9: 0
B10: 漁 業 | D10: =表Ⅲ・5!Y10 -> 6.8324535 | E10: =D10/D$87*100 -> 0.0018265234 | F10: 6.4095073 | G10: 0.0017050336
C11: 漁 業 | D11: =表Ⅲ・5!Y11 -> 1.1937817 | E11: =D11/D$87*100 -> 0.00031913428 | F11: 0.88671993 | G11: 0.00023588198
C12: 水産養殖業 | D12: =表Ⅲ・5!Y12 -> 0.2846848 | E12: =D12/D$87*100 -> 7.6104937e-05 | F12: 0.16582725 | G12: 4.4112756e-05
B13: 鉱 業 | D13: =表Ⅲ・5!Y13 -> 8931.4065 | E13: =D13/D$87*100 -> 2.3876376 | F13: 7847.8547 | G13: 2.0876575
B14: 建設業 | D14: =表Ⅲ・5!Y14 -> 80234.89 | E14: =D14/D$87*100 -> 21.449235 | F14: 80936.749 | G14: 21.530497
B15: 製造業 | D15: =表Ⅲ・5!Y15 -> 98054.963 | E15: =D15/D$87*100 -> 26.213085 | F15: 98243.646 | G15: 26.134414
C16: 食料品製造業 | D16: =表Ⅲ・5!Y16 -> 8639.6873 | E16: =D16/D$87*100 -> 2.3096521 | F16: 8708.8461 | G16: 2.3166953
C17: 飲料・たばこ・飼料製造業 | D17: =表Ⅲ・5!Y17 -> 2516.6906 | E17: =D17/D$87*100 -> 0.67278821 | F17: 2582.8594 | G17: 0.68708279
C18: 繊維工業 | D18: =表Ⅲ・5!Y18 -> 695.35687 | E18: =D18/D$87*100 -> 0.18589012 | F18: 802.07628 | G18: 0.21336539
C19: 木材・木製品製造業 | D19: =表Ⅲ・5!Y19 -> 899.07549 | E19: =D19/D$87*100 -> 0.24035032 | F19: 885.47085 | G19: 0.23554971
C20: 家具・装備品製造業 | D20: =表Ⅲ・5!Y20 -> 177.54297 | E20: =D20/D$87*100 -> 0.047462654 | F20: 189.85003 | G20: 0.050503208
C21: パルプ・紙・紙加工品製造業 | D21: =表Ⅲ・5!Y21 -> 27780.748 | E21: =D21/D$87*100 -> 7.4266418 | F21: 27744.73 | G21: 7.3805513
C22: 印刷・同関連業 | D22: =表Ⅲ・5!Y22 -> 513.1691 | E22: =D22/D$87*100 -> 0.13718576 | F22: 498.53909 | G22: 0.13261954
C23: 化学工業 | D23: =表Ⅲ・5!Y23 -> 9306.0536 | E23: =D23/D$87*100 -> 2.4877922 | F23: 9481.2894 | G23: 2.5221778
C24: 石油製品・石炭製品製造業 | D24: =表Ⅲ・5!Y24 -> 1151.2718 | E24: =D24/D$87*100 -> 0.30777009 | F24: 1137.3459 | G24: 0.30255258
C25: プラスチック製品製造業 | D25: =表Ⅲ・5!Y25 -> 1004.2683 | E25: =D25/D$87*100 -> 0.26847157 | F25: 1100.2829 | G25: 0.29269321
C26: ゴム製品製造業 | D26: =表Ⅲ・5!Y26 -> 297.85221 | E26: =D26/D$87*100 -> 0.079624988 | F26: 326.78182 | G26: 0.086929302
C27: なめし革・同製品・毛皮製造業 | D27: =表Ⅲ・5!Y27 -> 17.374045 | E27: =D27/D$87*100 -> 0.0046446125 | F27: 17.383754 | G27: 0.0046243626
... C39: その他の製造業 | D39: =表Ⅲ・5!Y39 -> 610.55528 | E39: =D39/D$87*100 -> 0.16322006 | F39: 593.22427 | G39: 0.15780735
B40: 電気･ガス・熱供給・水道業 | D40: =表Ⅲ・5!Y40 -> 98262.765 | E40: =D40/D$87*100 -> 26.268636 | F40: 99481.206 | G40: 26.463626
C41: 電気業 | D41: =表Ⅲ・5!Y41 -> 11250.67 | E41: =D41/D$87*100 -> 3.0076475 | F41: 11318.842 | G41: 3.0109967
C42: ガス業 | D42: =表Ⅲ・5!Y42 -> 12.373916 | E42: =D42/D$87*100 -> 0.0033079254 | F42: 11.131342 | G42: 0.0029611188
C43: 熱供給業 | D43: =表Ⅲ・5!Y43 -> 149.53959 | E43: =D43/D$87*100 -> 0.039976496 | F43: 219.87376 | G43: 0.058490012
C44: 上水道業 | D44: =表Ⅲ・5!Y44 -> 8939.8134 | E44: =D44/D$87*100 -> 2.389885 | F44: 10071.491 | G44: 2.6791811
C45: 下水道業 | D45: =表Ⅲ・5!Y45 -> 77910.368 | E45: =D45/D$87*100 -> 20.827819 | F45: 77859.868 | G45: 20.711997
B46: 情報通信業 | D46: =表Ⅲ・5!Y46 -> 92.488866 | E46: =D46/D$87*100 -> 0.024725097 | F46: 107.30468 | G46: 0.028544798
C47: 通信業 | D47: =表Ⅲ・5!Y47 -> 45.493873 | E47: =D47/D$87*100 -> 0.012161901 | F47: 20.172492 | G47: 0.0053662124
C48: 放送業 | D48: =表Ⅲ・5!Y48 -> 27.758637 | E48: =D48/D$87*100 -> 0.0074207311 | F48: 22.109913 | G48: 0.0058815979
C49: 情報サービス業 | D49: =表Ⅲ・5!Y49 -> 10.818706 | E49: =D49/D$87*100 -> 0.0028921705 | F49: 12.714827 | G49: 0.0033823517
C50: インターネット付随サービス業 | D50: =表Ⅲ・5!Y50 -> 1.6935877 | E50: =D50/D$87*100 -> 0.00045274769 | F50: 10.556735 | G50: 0.0028082641
C51: 映像・音声・文字情報制作業 | D51: =表Ⅲ・5!Y51 -> 5.4375613 | E51: =D51/D$87*100 -> 0.0014536261 | F51: 5.9017487 | G51: 0.0015699615
B52: 運輸業 | D52: =表Ⅲ・5!Y52 -> 599.52574 | E52: =D52/D$87*100 -> 0.16027153 | F52: 684.34083 | G52: 0.18204584
...

Sheet 表Ⅲ・3
B1: 表－Ⅲ・３ 産業廃棄物の業種別排出量（令和４年度実績値） | Q1: =表Ⅲ・5!Z87 -> 0 | R1: =表Ⅲ・5!AA87 -> 0 | S1: =表Ⅲ・5!AB87 -> 0
B3: 種類 | C3: 令和４年度 | E3: 令和３年度（参考）
C4: 排出量（千ｔ） | D4: 割合（%） | E4: 排出量（千ｔ） | F4: 割合（%）
B5: 燃え殻 | C5: =表Ⅲ・5!F87 -> 2234.6213 | D5: =C5/$C$24*100 -> 0.59738247 | E5: 2185.1608 | F5: 0.58128846
B6: 汚 泥 | C6: =表Ⅲ・5!G87 -> 158317.41 | D6: =C6/$C$24*100 -> 42.323076 | E6: 159817.75 | F6: 42.514133
B7: 廃 油 | C7: =表Ⅲ・5!H87 -> 2953.1491 | D7: =C7/$C$24*100 -> 0.78946688 | E7: 2935.5722 | F7: 0.78091015
B8: 廃 酸 | C8: =表Ⅲ・5!I87 -> 3047.2503 | D8: =C8/$C$24*100 -> 0.81462302 | E8: 3103.3051 | F8: 0.82552983
B9: 廃アルカリ | C9: =表Ⅲ・5!J87 -> 2458.2648 | D9: =C9/$C$24*100 -> 0.65716922 | E9: 2521.1706 | F9: 0.67067257
B10: 廃プラスチック類 | C10: =表Ⅲ・5!K87 -> 7411.4489 | D10: =C10/$C$24*100 -> 1.9813065 | E10: 7350.8714 | F10: 1.9554518
B11: 紙くず | C11: =表Ⅲ・5!L87 -> 802.98625 | D11: =C11/$C$24*100 -> 0.21466273 | E11: 790.8979 | F11: 0.21039176
B12: 木くず | C12: =表Ⅲ・5!M87 -> 7579.0888 | D12: =C12/$C$24*100 -> 2.0261218 | E12: 7739.6095 | F12: 2.0588625
B13: 繊維くず | C13: =表Ⅲ・5!N87 -> 88.374558 | D13: =C13/$C$24*100 -> 0.023625217 | E13: 92.804393 | F13: 0.024687484
B14: 動植物性残さ | C14: =表Ⅲ・5!O87 -> 2323.5445 | D14: =C14/$C$24*100 -> 0.62115436 | E14: 2316.3916 | F14: 0.616198
B15: 動物系固形不要物 | C15: =表Ⅲ・5!P87 -> 78.543058 | D15: =C15/$C$24*100 -> 0.020996957 | E15: 74.619115 | F15: 0.019849903
B16: ゴムくず | C16: =表Ⅲ・5!Q87 -> 15.375786 | D16: =C16/$C$24*100 -> 0.0041104168 | E16: 15.480396 | F16: 0.0041180381
B17: 金属くず | C17: =表Ⅲ・5!R87 -> 6678.6911 | D17: =C17/$C$24*100 -> 1.785418 | E17: 6894.5501 | F17: 1.8340629
B18: ガラスくず、コンクリートくず及び陶磁器くず | C18: =表Ⅲ・5!S87 -> 8169.1668 | D18: =C18/$C$24*100 -> 2.1838676 | E18: 8040.8929 | F18: 2.1390088
B19: 鉱さい | C19: =表Ⅲ・5!T87 -> 12029.326 | D19: =C19/$C$24*100 -> 3.2158061 | E19: 11303.013 | F19: 3.0067862
B20: がれき類 | C20: =表Ⅲ・5!U87 -> 61851.733 | D20: =C20/$C$24*100 -> 16.534856 | E20: 62498.853 | F20: 16.625716
B21: 動物のふん尿 | C21: =表Ⅲ・5!V87 -> 81185.734 | D21: =C21/$C$24*100 -> 21.703425 | E21: 81270.546 | F21: 21.619293
B22: 動物の死体 | C22: =表Ⅲ・5!W87 -> 167.56781 | D22: =C22/$C$24*100 -> 0.044795991 | E22: 167.53165 | F22: 0.044566156
B23: ばいじん | C23: =表Ⅲ・5!X87 -> 16676.492 | D23: =C23/$C$24*100 -> 4.4581353 | E23: 16797.744 | F23: 4.4684741
B24: 合 計 | C24: =表Ⅲ・5!Y87 -> 374068.77 | D24: =C24/$C$24*100 -> 100 | E24: 375916.77 | F24: 100

Sheet 表Ⅲ・4
B1: 表－Ⅲ・４ 産業廃棄物の地域別排出量（令和４年度実績値）
B3: 地域別 | C3: 令和４年度 | E3: 令和３年度（参考）
C4: 排出量（千ｔ） | D4: 割合（%） | E4: 排出量（千ｔ） | F4: 割合（%）
B5: 北海道 | C5: =E20 -> 0 | D5: =C5/C$13*100 -> #DIV/0! | E5: 35271.637 | F5: 9.3828314
B6: 東北 | C6: =SUM(E21:E26) -> 0 | D6: =C6/C$13*100 -> #DIV/0! | E6: 36909.344 | F6: 9.8184884
B7: 関東 | C7: =SUM(E27:E33) -> 0 | D7: =C7/C$13*100 -> #DIV/0! | E7: 98670.633 | F7: 26.248
B8: 中部 | C8: =SUM(E34:E42) -> 0 | D8: =C8/C$13*100 -> #DIV/0! | E8: 62427.967 | F8: 16.606859
B9: 近畿 | C9: =SUM(E43:E49) -> 0 | D9: =C9/C$13*100 -> #DIV/0! | E9: 50372.279 | F9: 13.399849
B10: 中国 | C10: =SUM(E50:E54) -> 0 | D10: =C10/C$13*100 -> #DIV/0! | E10: 25392.731 | F10: 6.7548811
B11: 四国 | C11: =SUM(E55:E58) -> 0 | D11: =C11/C$13*100 -> #DIV/0! | E11: 14121.166 | F11: 3.7564609
B12: 九州 | C12: =SUM(E59:E66) -> 0 | D12: =C12/C$13*100 -> #DIV/0! | E12: 52751.012 | F12: 14.032631
B13: 合 計 | C13: =E67 -> 0 | D13: 100 | E13: 375916.77 | F13: 100
B14: ※ 各地域の産業廃棄物の量は四捨五入しているため、合算した値は合計値と異なる場合がある。
J72: =F72-C72 -> 0 | K72: =F72-F73 -> 0
J73: =F73-C73 -> 0 | K73: =F73-F74 -> 0
J74: =F74-C74 -> 0 | K74: =F74-F75 -> 0
J75: =F75-C75 -> 0 | K75: =F75-F76 -> 0
J76: =F76-C76 -> 0 | K76: =F76-F77 -> 0
J77: =F77-C77 -> 0 | K77: =F77-F78 -> 0
J78: =F78-C78 -> 0 | K78: =F78-F79 -> 0

Sheet 表Ⅲ・5
B1: 表－Ⅲ・５ 令和４年度実績値 業種別・種類別排出量推計値一覧表
D3: 全国 | F3: 令和４年度 | Y3: (単位：千ｔ/年)
B4: 大分類 | C4: 番号 | D4: 産業分類 | E4: コード | F4: 燃え殻 | G4: 汚 泥 | H4: 廃 油 | I4: 廃 酸 | J4: 廃アルカリ | K4: 廃プラス チック類 | L4: 紙くず | M4: 木くず | N4: 繊維くず | O4: 動植物性 残 渣 | P4: 動物系固形不要物 | Q4: ゴムくず | R4: 金属くず | S4: ガラスくず及び 陶磁器くず | T4: 鉱さい | U4: がれき類 | V4: 動物の ふん尿 | W4: 動物の死体 | X4: ばいじん | Y4: 合 計
B5: 農業、 | D5: 農業大分類 | E5: Ａ | F5: 0.34634545 | G5: 60.279653 | H5: 2.0087533 | I5: 3.0840645 | J5: 0.0714935 | K5: 101.29329 | L5: 0 | M5: 76.245632 | N5: 0 | O5: 0 | P5: 0 | Q5: 0.0082524439 | R5: 1.6304894 | S5: 10.795419 | T5: 0.01302 | U5: 10.240137 | V5: 81185.734 | W5: 167.56781 | X5: 0 | Y5: 81619.319
B6: 林業 | C6: 1 | D6: 耕種農業 | E6: A011 | F6: 0 | G6: 0 | H6: 0.649 | I6: 0 | J6: 0 | K6: 20.085561 | L6: 0 | M6: 0.001647755 | N6: 0 | O6: 0 | P6: 0 | Q6: 0 | R6: 0 | S6: 0.43490896 | T6: 0 | U6: 0 | V6: 0 | W6: 0 | X6: 0 | Y6: 21.171117
C7: 2 | D7: 畜産農業 | E7: A012 | F7: 0 | G7: 0.142753 | H7: 0.033828 | I7: 2e-05 | J7: 0.00028 | K7: 29.730578 | L7: 0 | M7: 0.00037371083 | N7: 0 | O7: 0 | P7: 0 | Q7: 0 | R7: 0.15669419 | S7: 0.126958 | T7: 0 | U7: 0 | V7: 81185.734 | W7: 167.56781 | X7: 0 | Y7: 81383.493
C8: 3 | D8: 林業大分類 | E8: A02 | F8: 0.014 | G8: 0 | H8: 0.0090956654 | I8: 0 | J8: 0 | K8: 0.71650003 | L8: 0 | M8: 7.6531688 | N8: 0 | O8: 0 | P8: 0 | Q8: 0 | R8: 0.020239806 | S8: 9.0443352 | T8: 0 | U8: 0.066205604 | V8: 0 | W8: 0 | X8: 0 | Y8: 17.523545
C9: 4 | D9: 上記以外の農業 | F9: 0 | G9: 0 | H9: 0 | I9: 0 | J9: 0 | K9: 0 | L9: 0 | M9: 0 | N9: 0 | O9: 0 | P9: 0 | Q9: 0 | R9: 0 | S9: 0 | T9: 0 | U9: 0 | V9: 0 | W9: 0 | X9: 0
B10: 漁 業 | D10: 漁業大分類 | E10: B | F10: 0.0006517 | G10: 1.3816616 | H10: 0.33903272 | I10: 0.01800595 | J10: 0 | K10: 4.2896175 | L10: 0 | M10: 0.19108369 | N10: 0 | O10: 0 | P10: 0 | Q10: 0 | R10: 0.5364779 | S10: 0.026725856 | T10: 0 | U10: 0.04919661 | V10: 0 | W10: 0 | X10: 0 | Y10: 6.8324535
C11: 5 | D11: 漁 業 | E11: B03 | F11: 0 | G11: 0.00128 | H11: 0.0010773089 | I11: 0 | J11: 0 | K11: 1.185803 | L11: 0 | M11: 0.00030378608 | N11: 0 | O11: 0 | P11: 0 | Q11: 0 | R11: 0.0051302413 | S11: 0.00011706593 | T11: 0 | U11: 7.0239557e-05 | V11: 0 | W11: 0 | X11: 0 | Y11: 1.1937817
C12: 6 | D12: 水産養殖業 | E12: B04 | F12: 0 | G12: 0.0072997927 | H12: 0 | I12: 0 | J12: 0 | K12: 0.15792295 | L12: 0 | M12: 0 | N12: 0 | O12: 0 | P12: 0 | Q12: 0 | R12: 0.11946206 | S12: 0 | T12: 0 | U12: 0 | V12: 0 | W12: 0 | X12: 0 | Y12: 0.2846848
B13: 鉱 業 | C13: 7 | D13: 鉱業 | E13: C | F13: 0.087624608 | G13: 8510.3574 | H13: 4.2548035 | I13: 0.14331302 | J13: 0.70553398 | K13: 2.4192104 | L13: 0 | M13: 0.79017442 | N13: 0 | O13: 0 | P13: 0 | Q13: 0.059818946 | R13: 13.123334 | S13: 14.407853 | T13: 8.9124366 | U13: 376.12351 | V13: 0 | W13: 0 | X13: 0.021427683 | Y13: 8931.4065
B14: 建設業 | C14: 8 | D14: 建設業 | E14: D | F14: 53.055454 | G14: 9649.333 | H14: 106.94179 | I14: 7.2347534 | J14: 54.576106 | K14: 1395.269 | L14: 310.02434 | M14: 5765.211 | N14: 68.405386 | O14: 0 | P14: 0 | Q14: 0.92997481 | R14: 1014.893 | S14: 2903.0192 | T14: 68.922279 | U14: 58833.699 | V14: 0 | W14: 0 | X14: 3.3756153 | Y14: 80234.89
B15: 製造業 | D15: 製造業大分類 | E15: E | F15: 854.34931 | G15: 51478.418 | H15: 2320.0845 | I15: 2934.8576 | J15: 2265.7342 | K15: 3463.5947 | L15: 491.57624 | M15: 1386.8513 | N15: 19.969172 | O15: 2323.5445 | P15: 54.053536 | Q15: 12.477231 | R15: 4986.623 | S15: 4849.7448 | T15: 11715.983 | U15: 1791.6832 | V15: 0 | W15: 0 | X15: 7105.4183 | Y15: 98054.963
C16: 9 | D16: 食料品製造業 | E16: E9 | F16: 40.812026 | G16: 5756.7319 | H16: 137.56605 | I16: 108.56195 | J16: 58.647375 | K16: 370.52828 | L16: 0 | M16: 13.85203 | N16: 0 | O16: 1603.6528 | P16: 54.007536 | Q16: 0.061103647 | R16: 128.64154 | S16: 40.222017 | T16: 150.60685 | U16: 7.2966093 | V16: 0 | W16: 0 | X16: 168.49919 | Y16: 8639.6873
C17: 10 | D17: 飲料・たばこ・飼料製造業 | E17: E10 | F17: 1.9838955 | G17: 1152.6611 | H17: 5.853323 | I17: 748.59364 | J17: 38.802776 | K17: 59.621066 | L17: 0 | M17: 5.1152 | N17: 0 | O17: 437.89813 | P17: 0 | Q17: 0.058856265 | R17: 17.970781 | S17: 14.3069 | T17: 18.173574 | U17: 1.8207151 | V17: 0 | W17: 0 | X17: 13.830599 | Y17: 2516.6906
C18: 11 | D18: 繊維工業 | E18: E11 | F18: 33.602014 | G18: 361.8984 | H18: 18.328624 | I18: 15.426194 | J18: 22.777341 | K18: 132.08563 | L18: 0 | M18: 5.4761901 | N18: 18.211172 | O18: 0 | P18: 0 | Q18: 0.0037819027 | R18: 3.8725708 | S18: 0.49446773 | T18: 0.084540617 | U18: 2.2331156 | V18: 0 | W18: 0 | X18: 80.862833 | Y18: 695.35687
C19: 12 | D19: 木材・木製品製造業 | E19: E12 | F19: 54.472721 | G19: 6.4403254 | H19: 2.239695 | I19: 0.34231379 | J19: 0.9680503 | K19: 38.475826 | L19: 0 | M19: 740.39032 | N19: 0 | O19: 0 | P19: 0 | Q19: 0.0038449976 | R19: 7.6206201 | S19: 24.574121 | T19: 1.0192988 | U19: 3.8620126 | V19: 0 | W19: 0 | X19: 18.666336 | Y19: 899.07549
C20: 13 | D20: 家具・装備品製造業 | E20: E13 | F20: 1.0386714 | G20: 16.920719 | H20: 2.1633555 | I20: 1.0985868 | J20: 1.1650055 | K20: 28.550326 | L20: 0 | M20: 108.04926 | N20: 0 | O20: 0 | P20: 0 | Q20: 0.052453444 | R20: 7.9246648 | S20: 3.1397746 | T20: 2.418568 | U20: 3.2894297 | V20: 0 | W20: 0 | X20: 1.7321538 | Y20: 177.54297
C21: 14 | D21: パルプ・紙・紙加工品製造業 | E21: E14 | F21: 285.61255 | G21: 25730.609 | H21: 20.671708 | I21: 3.6285323 | J21: 18.530876 | K21: 446.93664 | L21: 311.05202 | M21: 40.380037 | N21: 0 | O21: 0 | P21: 0 | Q21: 0.0064431167 | R21: 44.066145 | S21: 10.915807 | T21: 31.594117 | U21: 2.290493 | V21: 0 | W21: 0 | X21: 834.45392 | Y21: 27780.748
C22: 15 | D22: 印刷・同関連業 | E22: E15 | F22: 2.0339841 | G22: 54.764564 | H22: 44.405654 | I22: 10.478641 | J22: 19.67641 | K22: 146.28458 | L22: 158.54064 | M22: 5.4104975 | N22: 0 | O22: 0 | P22: 0 | Q22: 0.028229983 | R22: 16.786584 | S22: 2.3396647 | T22: 6.2229773 | U22: 0.81983147 | V22: 0 | W22: 0 | X22: 45.376837 | Y22: 513.1691
C23: 16 | D23: 化学工業 | E23: E16 | F23: 91.2547 | G23: 5414.5464 | H23: 801.66349 | I23: 580.12317 | J23: 1178.4145 | K23: 261.86508 | L23: 0 | M23: 31.394256 | N23: 0 | O23: 65.45056 | P23: 0 | Q23: 0.053633291 | R23: 169.18764 | S23: 67.68909 | T23: 248.87509 | U23: 37.340453 | V23: 0 | W23: 0 | X23: 358.19557 | Y23: 9306.0536
C24: 17 | D24: 石油製品・石炭製品製造業 | E24: E17 | F24: 11.039951 | G24: 374.02146 | H24: 109.37919 | I24: 89.884279 | J24: 38.562807 | K24: 27.890724 | L24: 0 | M24: 3.2235449 | N24: 0 | O24: 0 | P24: 0 | Q24: 0.24830845 | R24: 67.302626 | S24: 99.847513 | T24: 88.550556 | U24: 146.0987 | V24: 0 | W24: 0 | X24: 95.222126 | Y24: 1151.2718
C25: 18 | D25: プラスチック製品製造業 | E25: E18 | F25: 20.584158 | G25: 171.3894 | H25: 51.418756 | I25: 26.197928 | J25: 29.508903 | K25: 610.00761 | L25: 0 | M25: 30.226269 | N25: 0 | O25: 0 | P25: 0 | Q25: 0.10980618 | R25: 26.059339 | S25: 15.890862 | T25: 3.7098189 | U25: 6.5210884 | V25: 0 | W25: 0 | X25: 12.64435 | Y25: 1004.2683
C26: 19 | D26: ゴム製品製造業 | E26: E19 | F26: 1.7870673 | G26: 43.673963 | H26: 13.295759 | I26: 0.60347805 | J26: 3.1882088 | K26: 203.88725 | L26: 0 | M26: 4.2271593 | N26: 0 | O26: 0 | P26: 0 | Q26: 10.428332 | R26: 8.6101811 | S26: 6.4032447 | T26: 0.62006803 | U26: 0.23415665 | V26: 0 | W26: 0 | X26: 0.89334521 | Y26: 297.85221
C27: 20 | D27: なめし革・同製品・毛皮製造業 | E27: E20 | F27: 0.00011050503 | G27: 11.35833 | H27: 2.4558187 | I27: 0.0017461047 | J27: 0.17010185 | K27: 2.7409318 | L27: 0 | M27: 0.38258986 | N27: 0 | O27: 0 | P27: 0 | Q27: 0.024041034 | R27: 0.16814737 | S27: 0.028742067 | T27: 0.024693577 | U27: 0.0008288051 | V27: 0 | W27: 0 | X27: 0.017963381 | Y27: 17.374045
... C39: 32 | D39: その他の製造業 | E39: E32 | F39: 21.854833 | G39: 126.14808 | H39: 61.851455 | I39: 9.0123183 | J39: 20.701829 | K39: 115.47457 | L39: 0 | M39: 24.774581 | N39: 0 | O39: 0 | P39: 0 | Q39: 0.031245286 | R39: 24.969935 | S39: 47.56056 | T39: 21.59018 | U39: 33.458237 | V39: 0 | W39: 0 | X39: 103.12745 | Y39: 610.55528
B40: 電気･ガス | D40: インフラ大分類 | E40: F | F40: 1273.7388 | G40: 87196.243 | H40: 5.8990293 | I40: 2.2534364 | J40: 30.054911 | K40: 11.245427 | L40: 0 | M40: 6.4436618 | N40: 0 | O40: 0 | P40: 0 | Q40: 0.0037021106 | R40: 14.447143 | S40: 20.372063 | T40: 44.302002 | U40: 168.50285 | V40: 0 | W40: 0 | X40: 9489.2588 | Y40: 98262.765
B41: ･熱供給･ | C41: 33 | D41: 電気業 | E41: F33 | F41: 1218.9499 | G41: 1009.5765 | H41: 4.5755118 | I41: 1.4945557 | J41: 3.231306 | K41: 9.0187529 | L41: 0 | M41: 2.2322353 | N41: 0 | O41: 0 | P41: 0 | Q41: 0.0015346479 | R41: 11.798678 | S41: 19.447037 | T41: 40.622552 | U41: 69.816125 | V41: 0 | W41: 0 | X41: 8859.9054 | Y41: 11250.67
B42: 水道業 | C42: 34 | D42: ガス業 | E42: F34 | F42: 0 | G42: 0.61680204 | H42: 0.30702781 | I42: 0 | J42: 0.0025066044 | K42: 0.8816483 | L42: 0 | M42: 3.6590758 | N42: 0 | O42: 0 | P42: 0 | Q42: 0.0014291612 | R42: 1.2328457 | S42: 0.35457328 | T42: 0.00021369166 | U42: 5.3177933 | V42: 0 | W42: 0 | X42: 0 | Y42: 12.373916
C43: 35 | D43: 熱供給業 | E43: F35 | F43: 29.590843 | G43: 100.25766 | H43: 0.0066134807 | I43: 0.0018499821 | J43: 0.010042487 | K43: 0.016896945 | L43: 0 | M43: 0.0010097248 | N43: 0 | O43: 0 | P43: 0 | Q43: 0 | R43: 0.024420575 | S43: 0.0016596793 | T43: 0.059975022 | U43: 0.25850378 | V43: 0 | W43: 0 | X43: 19.31011 | Y43: 149.53959
C44: 36 | D44: 上水道業 | E44: F361 | F44: 4.7845819 | G44: 8657.4077 | H44: 0.57253718 | I44: 0.61629308 | J44: 26.516037 | K44: 0.65602263 | L44: 0 | M44: 0.13497271 | N44: 0 | O44: 0 | P44: 0 | Q44: 0 | R44: 0.64408308 | S44: 0.12093317 | T44: 0.72795884 | U44: 83.016754 | V44: 0 | W44: 0 | X44: 164.61548 | Y44: 8939.8134
C45: 37 | D45: 下水道業 | E45: F363 | F45: 20.413511 | G45: 77428.385 | H45: 0.43733909 | I45: 0.14073762 | J45: 0.29501939 | K45: 0.67210588 | L45: 0 | M45: 0.41636827 | N45: 0 | O45: 0 | P45: 0 | Q45: 0.00073830142 | R45: 0.74711611 | S45: 0.44785988 | T45: 2.8913026 | U45: 10.093673 | V45: 0 | W45: 0 | X45: 445.42778 | Y45: 77910.368
B46: 情報通信業 | D46: 情報大分類 | E46: G | F46: 0.40673267 | G46: 0.96338768 | H46: 1.9964729 | I46: 0.85082339 | J46: 1.6262678 | K46: 26.231551 | L46: 1.3856695 | M46: 1.9208475 | N46: 0 | O46: 0 | P46: 0 | Q46: 0.012360649 | R46: 16.308332 | S46: 7.0883298 | T46: 0 | U46: 33.698092 | V46: 0 | W46: 0 | X46: 0 | Y46: 92.488866
C47: 38 | D47: 通信業 | E47: G37 | F47: 0 | G47: 0.0073144526 | H47: 0.2827214 | I47: 0 | J47: 0 | K47: 15.806915 | L47: 0 | M47: 0 | N47: 0 | O47: 0 | P47: 0 | Q47: 0 | R47: 6.5545411 | S47: 5.0753507 | T47: 0 | U47: 17.76703 | V47: 0 | W47: 0 | X47: 0 | Y47: 45.493873
C48: 39 | D48: 放送業 | E48: G38 | F48: 0 | G48: 0.14121538 | H48: 0 | I48: 0 | J48: 0.010572983 | K48: 4.3699077 | L48: 0 | M48: 1.8949597 | N48: 0 | O48: 0 | P48: 0 | Q48: 0 | R48: 5.2209431 | S48: 0.18997636 | T48: 0 | U48: 15.931062 | V48: 0 | W48: 0 | X48: 0 | Y48: 27.758637
C49: 40 | D49: 情報サービス業 | E49: G39 | F49: 0 | G49: 0.42094602 | H49: 0 | I49: 0 | J49: 0 | K49: 4.667666 | L49: 0 | M49: 0.025887776 | N49: 0 | O49: 0 | P49: 0 | Q49: 0 | R49: 4.099505 | S49: 1.6047017 | T49: 0 | U49: 0 | V49: 0 | W49: 0 | X49: 0 | Y49: 10.818706
C50: 41 | D50: インターネット付随サービス業 | E50: G40 | F50: 0 | G50: 0 | H50: 0.158886 | I50: 0 | J50: 1.5292583 | K50: 0.0041896809 | L50: 0 | M50: 0 | N50: 0 | O50: 0 | P50: 0 | Q50: 0 | R50: 0.001253704 | S50: 0 | T50: 0 | U50: 0 | V50: 0 | W50: 0 | X50: 0 | Y50: 1.6935877
C51: 42 | D51: 映像・音声・文字情報制作業 | E51: G41 | F51: 0 | G51: 0.0018327287 | H51: 1.5548655 | I51: 0.85082339 | J51: 0.08643649 | K51: 1.3828718 | L51: 0.91034118 | M51: 0 | N51: 0 | O51: 0 | P51: 0 | Q51: 0 | R51: 0.43208907 | S51: 0.21830113 | T51: 0 | U51: 0 | V51: 0 | W51: 0 | X51: 0 | Y51: 5.4375613
B52: 運輸業 | D52: 運輸大分類 | E52: H | F52: 0.4618226 | G52: 119.83348 | H52: 41.142598 | I52: 1.7878902 | J52: 3.4937008 | K52: 223.16651 | L52: 0 | M52: 117.71191 | N52: 0 | O52: 0 | P52: 0 | Q52: 0.16008266 | R52: 37.077122 | S52: 25.185114 | T52: 0.18371955 | U52: 29.132696 | V52: 0 | W52: 0 | X52: 0.18908577 | Y52: 599.52574
...

Sheet 表Ⅲ・6
C1: 表－Ⅲ・６ 令和４年度実績値 都道府県別・種類別排出量推計値一覧表
X3: (単位：千ｔ/年)
B4: 大分類 | C4: No. | D4: 都道府県名 | E4: 燃え殻 | F4: 汚 泥 | G4: 廃 油 | H4: 廃 酸 | I4: 廃アルカリ | J4: 廃プラス チック類 | K4: 紙くず | L4: 木くず | M4: 繊維くず | N4: 動植物性 残 渣 | O4: 動物系 固形不要物 | P4: ゴムくず | Q4: 金属くず | R4: ガラスくず 及び 陶磁器くず | S4: 鉱さい | T4: がれき類 | U4: 動物の ふん尿 | V4: 動物の死体 | W4: ばいじん | X4: 合 計
C5: 1 | D5: 北海道 | E5: 247.1088 | F5: 7794.7569 | G5: 47.600742 | H5: 23.73695 | I5: 7.8889748 | J5: 380.82904 | K5: 7.5646208 | L5: 476.70861 | M5: 1.9784977 | N5: 136.22182 | O5: 1.288653 | P5: 0.039360611 | Q5: 76.302482 | R5: 370.80637 | S5: 81.319235 | T5: 3655.1539 | U5: 20498.3 | V5: 42.220992 | W5: 1429.1157 | X5: 35278.941
C6: 2 | D6: 青森県 | E6: 8.1757461 | F6: 1621.7325 | G6: 9.6597104 | H6: 6.1494688 | I6: 11.686849 | J6: 35.067702 | K6: 2.4824315 | L6: 71.340355 | M6: 0.92731236 | N6: 40.639892 | O6: 1.8813608 | P6: 0.02652866 | Q6: 14.466144 | R6: 103.39921 | S6: 41.609173 | T6: 925.37122 | U6: 2102.9782 | V6: 0.70569208 | W6: 31.91536 | X6: 5030.2148
C7: 3 | D7: 岩手県 | E7: 17.176379 | F7: 845.22056 | G7: 15.793269 | H7: 7.877837 | I7: 10.046457 | J7: 57.869487 | K7: 3.029852 | L7: 111.16647 | M7: 0.825425 | N7: 16.078497 | O7: 0.78 | P7: 0.0560006 | Q7: 10.747948 | R7: 107.86656 | S7: 101.34598 | T7: 859.53687 | U7: 3758.6554 | V7: 4.1583139 | W7: 47.63669 | X7: 5975.868
C8: 4 | D8: 宮城県 | E8: 23.148223 | F8: 5356.4464 | G8: 36.95942 | H8: 10.67608 | I8: 9.405968 | J8: 151.03581 | K8: 9.4308879 | L8: 282.92614 | M8: 1.8597498 | N8: 32.1769 | O8: 0.29599224 | P8: 0.10617264 | Q8: 47.874225 | R8: 225.99967 | S8: 38.885408 | T8: 1698.2806 | U8: 1729.1189 | V8: 1.7229173 | W8: 138.90934 | X8: 9795.2588
C9: 5 | D9: 秋田県 | E9: 32.85287 | F9: 1381.8771 | G9: 16.916697 | H9: 7.2591129 | I9: 9.3143542 | J9: 44.912094 | K9: 9.66 | L9: 79.664974 | M9: 0.468 | N9: 7.1 | O9: 2.569 | P9: 0.0060120062 | Q9: 19.593199 | R9: 59.630432 | S9: 147.72217 | T9: 583.01891 | U9: 979.88886 | V9: 0.42039614 | W9: 1.9324772 | X9: 3384.8067
C10: 6 | D10: 山形県 | E10: 8.722089 | F10: 1014.4433 | G10: 25.76651 | H10: 21.159801 | I10: 32.893623 | J10: 72.746268 | K10: 19.23468 | L10: 90.734018 | M10: 1.1643355 | N10: 28.136594 | O10: 0 | P10: 0.031009921 | Q10: 35.925913 | R10: 49.163257 | S10: 34.605023 | T10: 782.17822 | U10: 1027.613 | V10: 1.7410435 | W10: 212.79181 | X10: 3459.0504
C11: 7 | D11: 福島県 | E11: 173.97818 | F11: 3116.1837 | G11: 35.942217 | H11: 18.340137 | I11: 100.66633 | J11: 164.11901 | K11: 6.928887 | L11: 250.03743 | M11: 3.616097 | N11: 17.954461 | O11: 0 | P11: 0.00523 | Q11: 26.382772 | R11: 165.42889 | S11: 141.16132 | T11: 1704.2523 | U11: 1200.2948 | V11: 1.7452595 | W11: 1232.7973 | X11: 8359.8344
C12: 8 | D12: 茨城県 | E12: 105.84822 | F12: 5604.9322 | G12: 167.72376 | H12: 138.22082 | I12: 59.217541 | J12: 186.46846 | K12: 16.08684 | L12: 138.34561 | M12: 1.0498213 | N12: 89.740872 | O12: 0 | P12: 1.1543876 | Q12: 94.386417 | R12: 279.79308 | S12: 183.89232 | T12: 1278.598 | U12: 2564.8448 | V12: 3.1180647 | W12: 731.05803 | X12: 11644.479
C13: 9 | D13: 栃木県 | E13: 4.1555496 | F13: 2756.9143 | G13: 92.35046 | H13: 35.013388 | I13: 28.928069 | J13: 284.37546 | K13: 13.497366 | L13: 198.25912 | M13: 0.65768071 | N13: 31.392689 | O13: 4.3589691 | P13: 0.095889802 | Q13: 77.853781 | R13: 167.7752 | S13: 290.91962 | T13: 1113.0955 | U13: 2701.0796 | V13: 26.345959 | W13: 37.472498 | X13: 7864.541
C14: 10 | D14: 群馬県 | E14: 4.1348208 | F14: 1440.1815 | G14: 32.862344 | H14: 10.157239 | I14: 15.909121 | J14: 40.671729 | K14: 2.00793 | L14: 45.320151 | M14: 0.09779 | N14: 93.84833 | O14: 0 | P14: 0.011525445 | Q14: 9.4224201 | R14: 140.94388 | S14: 95.984852 | T14: 321.26618 | U14: 2880.9333 | V14: 2.0474244 | W14: 16.961145 | X14: 5152.7617
C15: 11 | D15: 埼玉県 | E15: 39.275939 | F15: 6665.547 | G15: 106.5208 | H15: 39.895673 | I15: 32.881124 | J15: 348.55706 | K15: 63.259611 | L15: 216.28808 | M15: 4.1786504 | N15: 121.87186 | O15: 1.5496046 | P15: 1.819893 | Q15: 158.91823 | R15: 296.43414 | S15: 111.15143 | T15: 1874.4726 | U15: 600.70495 | V15: 1.7666324 | W15: 29.761716 | X15: 10714.855
C16: 12 | D16: 千葉県 | E16: 28.09241 | F16: 7697.8822 | G16: 209.06756 | H16: 155.27757 | I16: 91.534601 | J16: 232.63667 | K16: 67.927 | L16: 292.41192 | M16: 2.902 | N16: 39.812 | O16: 0 | P16: 0.17669608 | Q16: 1398.5247 | R16: 398.09709 | S16: 2134.7609 | T16: 2141.753 | U16: 2865.212 | V16: 10.082391 | W16: 2188.8242 | X16: 19954.975
... C51: 47 | D51: 沖縄県 | E51: 10.825 | F51: 1107.0572 | G51: 15.280993 | H51: 0.73528554 | I51: 0.47887477 | J51: 28.14285 | K51: 1.067 | L51: 33.605 | M51: 0.046 | N51: 180.242 | O51: 1.2987051 | P51: 0.27413695 | Q51: 10.150854 | R51: 74.121849 | S51: 32.056 | T51: 390.36873 | U51: 1375.1346 | V51: 1.9239527 | W51: 152.059 | X51: 3414.868
C52: 全国 | E52: 2234.6213 | F52: 158317.41 | G52: 2953.1491 | H52: 3047.2503 | I52: 2458.2648 | J52: 7411.4489 | K52: 802.98625 | L52: 7579.0888 | M52: 88.374558 | N52: 2323.5445 | O52: 78.543058 | P52: 15.375786 | Q52: 6678.6911 | R52: 8169.1668 | S52: 12029.326 | T52: 61851.733 | U52: 81185.734 | V52: 167.56781 | W52: 16676.492 | X52: 374068.77
C53: ※四捨五入により、各項目の合算値と合計値が合致しない場合がある。
C54: ※動物の死体の原単位については平成30年度家畜共済統計表（農林水産省）の動物の死亡率を用いて推計した。

Sheet 表Ⅲ・7
B1: 表－Ⅲ・７ 令和４年度実績値 業種別・種類別全国共通原単位一覧表
D3: 全国 | F3: 令和４年度
B4: 大分類 | C4: 番号 | D4: 産業分類 | E4: コード | F4: 単位 | G4: 燃え殻 | H4: 汚 泥 | I4: 廃 油 | J4: 廃 酸 | K4: 廃アルカリ | L4: 廃プラス チック類 | M4: 紙くず | N4: 木くず | O4: 繊維くず | P4: 動植物性 残 渣 | Q4: 動物系固形不要物 | R4: ゴムくず | S4: 金属くず | T4: ガラスくず及び 陶磁器くず | U4: 鉱さい | V4: がれき類 | W4: 動物の ふん尿 | X4: 動物の死体 | Y4: ばいじん | AA4: 合 計
D5: 農業，林業大分類 | E5: A
C6: 1 | D6: 耕種農業 | E6: A011 | F6: t/千a
B7: 農業，林業 | C7: 2 | D7: 畜産農業 | E7: A012 | F7: t/頭羽
C8: 3 | D8: 林業 | E8: A02 | F8: t/千人
C9: 4 | D9: 上記以外の農業，林業
D10: 漁業大分類 | E10: B
B11: 漁 業 | C11: 5 | D11: 漁業 | E11: B03 | F11: t/千人
C12: 6 | D12: 水産養殖業 | E12: B04 | F12: t/千人
B13: 鉱 業 | C13: 7 | D13: 鉱業，採石業，砂利採取業 | E13: C | F13: t/千人 | G13: 0.39132461 | H13: 547931.34 | I13: 222.84493 | J13: 0.016862231 | K13: 0.1540128 | L13: 127.28008 | N13: 32.257291 | R13: 1.5695532 | S13: 104.6078 | T13: 244.23444 | U13: 30.112322 | V13: 22863.619 | Y13: 1.3503721
B14: 建設業 | C14: 8 | D14: 建設業 | E14: D | F14: t/十億円 | G14: 0.5045276 | H14: 170.25673 | I14: 0.9342282 | J14: 0.14296302 | K14: 0.44986217 | L14: 23.054489 | M14: 5.1668498 | N14: 90.645754 | O14: 1.0738937 | R14: 0.012897268 | S14: 15.937084 | T14: 41.638464 | U14: 0.84624212 | V14: 891.52645 | Y14: 0.047356965
D15: 製造業大分類 | E15: E
C16: 9 | D16: 食料品製造業 | E16: E09 | F16: t/十億円 | G16: 0.61682357 | H16: 173.12711 | I16: 3.848875 | J16: 2.1985579 | K16: 2.5378579 | L16: 13.099384 | N16: 0.37791375 | R16: 0.0023810101 | S16: 1.0450575 | T16: 0.79835245 | U16: 0 | V16: 0.024914821 | Y16: 0.030557279
C17: 10 | D17: 飲料・たばこ・飼料製造業 | E17: E10 | F17: t/十億円 | G17: 0.041395997 | H17: 89.638321 | I17: 0.077509648 | J17: 89.85115 | K17: 5.8316131 | L17: 4.8711108 | N17: 0.42317143 | R17: 0.0082266832 | S17: 0.39988804 | T17: 0.47779833 | U17: 0 | V17: 0.0071808079 | Y17: 0.023857468
C18: 11 | D18: 繊維工業 | E18: E11 | F18: t/十億円 | G18: 2.7971413 | H18: 53.682566 | I18: 3.0045199 | J18: 0.83622081 | K18: 10.138502 | L18: 30.126908 | N18: 1.6547569 | R18: 0.00050974033 | S18: 0.53407067 | T18: 0.066467533 | U18: 0 | V18: 0.43285012 | Y18: 19.159343
C19: 12 | D19: 木材・木製品製造業 | E19: E12 | F19: t/十億円 | G19: 13.862294 | H19: 0.7267186 | I19: 0.36208961 | J19: 0.002582861 | K19: 0.3323793 | L19: 10.986095 | N19: 221.93663 | R19: 0.0013466208 | S19: 0.40194916 | T19: 2.5530126 | U19: 0 | V19: 0.79548891 | Y19: 6.4261457
C20: 13 | D20: 家具・装備品製造業 | E20: E13 | F20: t/十億円 | G20: 0.17661386 | H20: 2.2429322 | I20: 0.54719614 | J20: 0.28036978 | K20: 0.31858136 | L20: 16.49794 | N20: 55.324867 | R20: 0.039166618 | S20: 4.7428811 | T20: 1.3405392 | U20: 0.022318752 | V20: 0.85882063 | Y20: 0
C21: 14 | D21: パルプ・紙・紙加工品製造業 | E21: E14 | F21: t/十億円 | G21: 20.032379 | H21: 2775.6956 | I21: 2.5757586 | J21: 0.26831471 | K21: 0.68329904 | L21: 58.818549 | N21: 4.5062747 | R21: 0.00025269132 | S21: 1.1026043 | T21: 1.0018113 | U21: 0.52546568 | V21: 0.13973904 | Y21: 72.070799
C22: 15 | D22: 印刷・同関連業 | E22: E15 | F22: t/十億円 | G22: 0.70427585 | H22: 15.329358 | I22: 15.186572 | J22: 1.9892873 | K22: 5.8396252 | L22: 38.86194 | N22: 1.5694769 | R22: 0.0067467265 | S22: 1.4841089 | T22: 0.3447435 | U22: 0.0019929718 | V22: 0.15264776 | Y22: 0.15743086
C23: 16 | D23: 化学工業 | E23: E16 | F23: t/十億円 | G23: 1.7548077 | H23: 134.73364 | I23: 23.187135 | J23: 16.918914 | K23: 43.660868 | L23: 6.4665651 | N23: 0.9573303 | R23: 0.0011045936 | S23: 0.78308619 | T23: 0.87730685 | U23: 2.2257058 | V23: 0.53667987 | Y23: 6.4907551
C24: 17 | D24: 石油製品・石炭製品製造業 | E24: E17 | F24: t/十億円 | G24: 0.48860448 | H24: 13.263435 | I24: 4.3422362 | J24: 6.060991 | K24: 1.9168918 | L24: 0.33630112 | N24: 0.15602795 | R24: 0 | S24: 0.24653445 | T24: 6.9552571 | U24: 0.00095138691 | V24: 1.741667 | Y24: 2.1727541
B25: 製造業 | C25: 18 | D25: プラスチック製品製造業 | E25: E18 | F25: t/十億円 | G25: 0.028318327 | H25: 4.6948536 | I25: 3.2368555 | J25: 0.76196875 | K25: 1.6354128 | L25: 40.308546 | N25: 1.7941666 | R25: 0.006385976 | S25: 0.63222094 | T25: 0.34655572 | U25: 0.0075867772 | V25: 0.47470251 | Y25: 0.80703874
C26: 19 | D26: ゴム製品製造業 | E26: E19 | F26: t/十億円 | G26: 0.14236072 | H26: 6.4140951 | I26: 3.0566075 | J26: 0.091196586 | K26: 1.0331912 | L26: 46.244242 | N26: 0.96538899 | R26: 2.5247295 | S26: 1.8742087 | T26: 1.4675703 | U26: 0 | V26: 0.068298415 | Y26: 0.018472684
C27: 20 | D27: なめし革・同製品・毛皮製造業 | E27: E20 | F27: t/十億円 | G27: 0 | H27: 2.4449509 | I27: 0.22261483 | J27: 0 | K27: 2.7364086 | L27: 31.053696 | N27: 1.1811897 | R27: 0.29488553 | S27: 0.020175584 | T27: 0.0050094875 | U27: 0 | V27: 0 | Y27: 0
C28: 21 | D28: 窯業・土石製品製造業 | E28: E21 | F28: t/十億円 | G28: 13.320316 | H28: 490.46706 | I28: 2.3567799 | J28: 1.2636423 | K28: 19.436871 | L28: 7.0105778 | N28: 10.106625 | R28: 0.0063627191 | S28: 0.96517125 | T28: 386.66432 | U28: 5.1811234 | V28: 90.269483 | Y28: 1.5725089
C29: 22 | D29: 鉄鋼業 | E29: E22 | F29: t/十億円 | G29: 1.5837836 | H29: 67.156075 | I29: 6.8944143 | J29: 26.106695 | K29: 1.2898491 | L29: 3.2556374 | N29: 1.2265396 | R29: 0.0015543347 | S29: 40.717574 | T29: 11.788452 | U29: 283.95983 | V29: 21.331006 | Y29: 156.6319
C30: 23 | D30: 非鉄金属製造業 | E30: E23 | F30: t/十億円 | G30: 0.09324588 | H30: 39.178626 | I30: 3.5572026 | J30: 1.9676547 | K30: 6.6474166 | L30: 5.5897247 | N30: 1.7277926 | R30: 0.0015025365 | S30: 6.6211029 | T30: 1.3382211 | U30: 30.913121 | V30: 0.50447299 | Y30: 0.46188035
C31: 24 | D31: 金属製品製造業 | E31: E24 | F31: t/十億円 | G31: 0.17191825 | H31: 26.242657 | I31: 5.7106698 | J31: 6.0994106 | K31: 4.0523222 | L31: 6.2592564 | N31: 2.6153169 | R31: 0.0036855301 | S31: 11.91022 | T31: 2.1187754 | U31: 0.75190192 | V31: 2.0345709 | Y31: 0.052544025
C32: 25 | D32: はん用機械器具製造業 | E32: E25 | F32: t/十億円 | G32: 0.0090862903 | H32: 17.282905 | I32: 7.0995708 | J32: 0.58632122 | K32: 1.7455184 | L32: 4.5105237 | N32: 3.0553736 | R32: 0.0029363729 | S32: 4.0292361 | T32: 0.79326499 | U32: 0.7852223 | V32: 1.446041 | Y32: 0.045366796
C33: 26 | D33: 生産用機械器具製造業 | E33: E26 | F33: t/十億円 | G33: 0.0052394776 | H33: 2.6119169 | I33: 3.2104577 | J33: 0.51138127 | K33: 0.59230243 | L33: 1.9724624 | N33: 2.1183826 | R33: 0.00057022591 | S33: 2.7418678 | T33: 0.30589182 | U33: 0.8126189 | V33: 0.071580426 | Y33: 0.00052653852
C34: 27 | D34: 業務用機械器具製造業 | E34: E27 | F34: t/十億円 | G34: 0.004140301 | H34: 22.407043 | I34: 3.5985248 | J34: 0.33560243 | K34: 3.3333216 | L34: 8.472928 | N34: 1.4852426 | R34: 4.0710407e-05 | S34: 2.089803 | T34: 0.42650635 | U34: 0.0059298932 | V34: 0.23936986 | Y34: 6.1806306e-05
C35: 28 | D35: 電子部品・デバイス・電子回路製造業 | E35: E28 | F35: t/十億円 | G35: 0.0025638298 | H35: 47.223988 | I35: 2.3721753 | J35: 7.5775752 | K35: 9.4994169 | L35: 4.572365 | N35: 0.34601059 | R35: 0.00036247531 | S35: 0.91948804 | T35: 0.60114729 | U35: 0.00021839285 | V35: 0.1675227 | Y35: 0.00021804871
C36: 29 | D36: 電気機械器具製造業 | E36: E29 | F36: t/十億円 | G36: 0.00048684742 | H36: 5.5468893 | I36: 0.95790812 | J36: 0.92522874 | K36: 1.5961289 | L36: 3.1256591 | N36: 1.2942133 | R36: 0.0013291921 | S36: 2.8396812 | T36: 0.60842915 | U36: 0.025791304 | V36: 0.15812632 | Y36: 0.0032037897
C37: 30 | D37: 情報通信機械器具製造業 | E37: E30 | F37: t/十億円 | G37: 0 | H37: 2.9986923 | I37: 1.0907007 | J37: 0.60094837 | K37: 16.842217 | L37: 6.534593 | N37: 0.64236113 | R37: 0 | S37: 2.0567434 | T37: 0.12100489 | U37: 0.0012008376 | V37: 0.0059235198 | Y37: 0
... C39: 32 | D39: その他の製造業 | E39: E32 | F39: t/十億円 | G39: 2.6984136 | H39: 44.825082 | I39: 11.469982 | J39: 2.6202314 | K39: 3.9742827 | L39: 36.690259 | N39: 5.2845054 | R39: 0.0072893965 | S39: 4.4815149 | T39: 13.902752 | U39: 3.5208166 | V39: 4.6900373 | Y39: 1.8759145
D40: 電気・ガス・熱供給・水道業大分類 | E40: F
B41: 電気･ガス | C41: 33 | D41: 電気業 | E41: F33 | F41: t/千人 | G41: 11052.38 | H41: 2157.2135 | I41: 11.507602 | J41: 2.3825058 | K41: 36.840047 | L41: 48.757319 | N41: 7.0764767 | R41: 0 | S41: 29.788687 | T41: 211.08052 | U41: 486.68452 | V41: 313.36164 | Y41: 57295.574
B42: ･熱供給･ | C42: 34 | D42: ガス業 | E42: F34 | F42: t/千人 | G42: 0 | H42: 29.308457 | I42: 2.7026322 | J42: 0 | K42: 0.038890329 | L42: 25.319879 | N42: 4.5544539 | R42: 0 | S42: 38.65388 | T42: 25.920919 | U42: 0 | V42: 29.678895 | Y42: 0
...

Sheet 表Ⅲ・8
B1: 表－Ⅲ・８ 令和４年度実績値 業種別・種類別活動量指標合計（有回答）一覧表
D3: 全国 | F3: 令和４年度
B4: 大分類 | C4: 番号 | D4: 産業分類 | E4: コード | F4: 単位 | G4: 燃え殻 | H4: 汚 泥 | I4: 廃 油 | J4: 廃 酸 | K4: 廃アルカリ | L4: 廃プラス チック類 | M4: 紙くず | N4: 木くず | O4: 繊維くず | P4: 動植物性 残 渣 | Q4: 動物系固形不要物 | R4: ゴムくず | S4: 金属くず | T4: ガラスくず及び 陶磁器くず | U4: 鉱さい | V4: がれき類 | W4: 動物の ふん尿 | X4: 動物の死体 | Y4: ばいじん | Z4: 合 計
D5: 農業，林業大分類 | E5: A
C6: 1 | D6: 耕種農業 | E6: A011 | F6: 千a | L6: 77.0004
B7: 農業，林業 | C7: 2 | D7: 畜産農業 | E7: A012 | F7: 頭羽 | H7: 6588.94 | I7: 6588.94 | J7: 6588.94 | K7: 6588.94 | L7: 10211.71 | S7: 6588.94 | T7: 6588.94 | W7: 54602.83 | X7: 54602.83
C8: 3 | D8: 林業 | E8: A02 | F8: 千人 | G8: 1.2084 | I8: 2.0974 | L8: 4.9022 | N8: 2.8048 | S8: 3.6938 | T8: 3.3058
C9: 4 | D9: 上記以外の農業，林業
D10: 漁業大分類 | E10: B
B11: 漁 業 | C11: 5 | D11: 漁業 | E11: B03 | F11: 千人 | H11: 0.3458 | L11: 0.3458
C12: 6 | D12: 水産養殖業 | E12: B04 | F12: 千人
B13: 鉱 業 | C13: 7 | D13: 鉱業，採石業，砂利採取業 | E13: C | F13: 千人 | G13: 0.4344 | H13: 5.011 | I13: 5.9328 | J13: 0.1444 | K13: 0.368 | L13: 6.481 | N13: 3.01 | R13: 0.418 | S13: 5.5628 | T13: 3.7252 | U13: 0.1444 | V13: 2.4368 | Y13: 0.1444
B14: 建設業 | C14: 8 | D14: 建設業 | E14: D | F14: 十億円 | G14: 40893.036 | H14: 41188.856 | I14: 41188.856 | J14: 35472.257 | K14: 36476.144 | L14: 41188.856 | M14: 41188.856 | N14: 41188.856 | O14: 39738.957 | R14: 29818.456 | S14: 41188.856 | T14: 41188.856 | U14: 32456.617 | V14: 41188.856 | Y14: 22996.586
D15: 製造業大分類 | E15: E
C16: 9 | D16: 食料品製造業 | E16: E09 | F16: 十億円 | G16: 12810.392 | H16: 14136.319 | I16: 14136.319 | J16: 14025.465 | K16: 12803.466 | L16: 14136.319 | N16: 11148.64 | P16: 14136.319 | Q16: 7184.169 | R16: 4654.771 | S16: 14025.465 | T16: 14136.319 | V16: 8450.461 | Y16: 6003.108
C17: 10 | D17: 飲料・たばこ・飼料製造業 | E17: E10 | F17: 十億円 | G17: 3513.959 | H17: 5404.537 | I17: 3940.724 | J17: 4351.668 | K17: 4447.094 | L17: 5404.537 | N17: 4645.917 | P17: 5404.537 | R17: 1639.334 | S17: 5331.711 | T17: 5377.311 | V17: 503.78 | Y17: 437.25
C18: 11 | D18: 繊維工業 | E18: E11 | F18: 十億円 | G18: 1281.928 | H18: 1868.143 | I18: 1758.633 | J18: 1574.214 | K18: 1125.042 | L18: 1911.935 | N18: 1662.206 | O18: 1473.789 | R18: 252.331 | S18: 1851.182 | T18: 1704.488 | V18: 650.864 | Y18: 542.969
C19: 12 | D19: 木材・木製品製造業 | E19: E12 | F19: 十億円 | G19: 1527.801 | H19: 1489.755 | I19: 1485.538 | J19: 336.936 | K19: 719.496 | L19: 1862.276 | N19: 1862.276 | R19: 188.808 | S19: 1701.433 | T19: 1613.875 | V19: 989.024 | Y19: 1117.207
C20: 13 | D20: 家具・装備品製造業 | E20: E13 | F20: 十億円 | G20: 442.635 | H20: 817.813 | I20: 907.346 | J20: 170.959 | K20: 205.286 | L20: 930.867 | N20: 936.643 | R20: 192.537 | S20: 735.291 | T20: 920.893 | U20: 38.237 | V20: 362.92
C21: 14 | D21: パルプ・紙・紙加工品製造業 | E21: E14 | F21: 十億円 | G21: 3427.627 | H21: 3838.785 | I21: 3739.09 | J21: 3284.9 | K21: 3464.795 | L21: 3838.785 | M21: 3757.829 | N21: 3838.785 | R21: 274.083 | S21: 3796.142 | T21: 3667.775 | U21: 895.454 | V21: 1989.197 | Y21: 2856.587
C22: 15 | D22: 印刷・同関連業 | E22: E15 | F22: 十億円 | G22: 1170.536 | H22: 2031.957 | I22: 2118.189 | J22: 2058.589 | K22: 2051.791 | L22: 2138.995 | M22: 2114.042 | N22: 1877.461 | R22: 977.611 | S22: 1906.442 | T22: 1815.182 | U22: 49.975 | V22: 1032.794 | Y22: 160.448
C23: 16 | D23: 化学工業 | E23: E16 | F23: 十億円 | G23: 16551.047 | H23: 16578.203 | I23: 16578.203 | J23: 16577.6 | K23: 16569.519 | L23: 16586.284 | N23: 13915.922 | P23: 14421.59 | R23: 4136.814 | S23: 16578.203 | T23: 16577.6 | U23: 8169.365 | V23: 12898.997 | Y23: 11822.433
C24: 17 | D24: 石油製品・石炭製品製造業 | E24: E17 | F24: 十億円 | G24: 7205.011 | H24: 8666.44 | I24: 8698.884 | J24: 8586.059 | K24: 8559.324 | L24: 8699.622 | N24: 8608.504 | S24: 8675.386 | T24: 8654.381 | U24: 1052.149 | V24: 6008.849 | Y24: 7120.674
B25: 製造業 | C25: 18 | D25: プラスチック製品製造業 | E25: E18 | F25: 十億円 | G25: 3476.629 | H25: 7095.306 | I25: 7216.496 | J25: 6850.096 | K25: 6800.731 | L25: 7216.496 | N25: 6823.372 | R25: 3206.855 | S25: 7169.663 | T25: 7076.033 | U25: 1345.125 | V25: 3776.208 | Y25: 2553.131
C26: 19 | D26: ゴム製品製造業 | E26: E19 | F26: 十億円 | G26: 1259.419 | H26: 2365.332 | I26: 2417.895 | J26: 1623.18 | K26: 2246.013 | L26: 2422.164 | N26: 1967.641 | R26: 2013.892 | S26: 2257.872 | T26: 2194.047 | V26: 703.04 | Y26: 558.25
C27: 20 | D27: なめし革・同製品・毛皮製造業 | E27: E20 | F27: 十億円 | H27: 18.425457 | I27: 11.544457 | K27: 22.529 | L27: 50.841457 | N27: 48.398 | R27: 14.074 | S27: 16.332 | T27: 4.602
C28: 21 | D28: 窯業・土石製品製造業 | E28: E21 | F28: 十億円 | G28: 3613.225 | H28: 4212.532 | I28: 4148.534 | J28: 3658.152 | K28: 3916.19 | L28: 4212.532 | N28: 3851.535 | R28: 2197.389 | S28: 4124.282 | T28: 4212.532 | U28: 3014.713 | V28: 3701.514 | Y28: 3666.94
C29: 22 | D29: 鉄鋼業 | E29: E22 | F29: 十億円 | G29: 8205.665 | H29: 10841.517 | I29: 10912.057 | J29: 9924.4 | K29: 9953.704 | L29: 10878.236 | N29: 10781.098 | R29: 1957.445 | S29: 10878.236 | T29: 9968.953 | U29: 10880.704 | V29: 9587.195 | Y29: 10249.971
C30: 23 | D30: 非鉄金属製造業 | E30: E23 | F30: 十億円 | G30: 4064.581 | H30: 6495.7213 | I30: 6554.2513 | J30: 5436.7963 | K30: 5436.7963 | L30: 6568.1363 | N30: 6460.1293 | R30: 2107.074 | S30: 6554.2513 | T30: 6549.917 | U30: 5343.474 | V30: 4945.1383 | Y30: 5324.827
C31: 24 | D31: 金属製品製造業 | E31: E24 | F31: 十億円 | G31: 5885.326 | H31: 7561.345 | I31: 7561.345 | J31: 7510.835 | K31: 7510.835 | L31: 7561.345 | N31: 7369.18 | R31: 1818.837 | S31: 7561.345 | T31: 7561.345 | U31: 6444.073 | V31: 5685.942 | Y31: 4726.183
C32: 25 | D32: はん用機械器具製造業 | E32: E25 | F32: 十億円 | G32: 3270.1 | H32: 5946.265 | I32: 5963.426 | J32: 5573.67 | K32: 5927.26 | L32: 5969.196 | N32: 5387.86 | R32: 2597.721 | S32: 5969.196 | T32: 5942.974 | U32: 4611.959 | V32: 4889.958 | Y32: 3121.357
C33: 26 | D33: 生産用機械器具製造業 | E33: E26 | F33: 十億円 | G33: 6746.001 | H33: 11646.48 | I33: 11202.176 | J33: 11170.794 | K33: 11170.794 | L33: 11510.965 | N33: 11439.727 | R33: 6048.008 | S33: 11411.416 | T33: 11383.382 | U33: 8652.331 | V33: 6315.54 | Y33: 3274.165
C34: 27 | D34: 業務用機械器具製造業 | E34: E27 | F34: 十億円 | G34: 926.348 | H34: 3627.949 | I34: 3634.562 | J34: 3577.654 | K34: 3618.83 | L34: 3637.608 | N34: 3220.79 | R34: 120.549 | S34: 3637.608 | T34: 3635.138 | U34: 789.579 | V34: 1709.484 | Y34: 495.494
C35: 28 | D35: 電子部品・デバイス・電子回路製造業 | E35: E28 | F35: 十億円 | G35: 1954.204 | H35: 9172.2623 | I35: 9172.2623 | J35: 9154.653 | K35: 9154.653 | L35: 9172.2623 | N35: 8003.6373 | R35: 699.56 | S35: 9172.2623 | T35: 9172.2623 | U35: 913.541 | V35: 3624.2253 | Y35: 513.04
C36: 29 | D36: 電気機械器具製造業 | E36: E29 | F36: 十億円 | G36: 5361.902 | H36: 12439.439 | I36: 12448.612 | J36: 12146.923 | K36: 12225.601 | L36: 12448.612 | N36: 12276.212 | R36: 9019.194 | S36: 12448.612 | T36: 12406.803 | U36: 7824.224 | V36: 7835.299 | Y36: 2856.4
C37: 30 | D37: 情報通信機械器具製造業 | E37: E30 | F37: 十億円 | H37: 2623.545 | I37: 2707.334 | J37: 2344.747 | K37: 2671.284 | L37: 2707.334 | N37: 2233.22 | S37: 2722.991 | T37: 2675.34 | U37: 7.193 | V37: 828.156
C38: 31 | D38: 輸送用機械器具製造業 | E38: E31 | F38: 十億円 | G38: 48094.929 | H38: 52039.225 | I38: 52062.295 | J38: 51751.075 | K38: 51847.717 | L38: 52062.295 | N38: 51374.458 | R38: 38309.487 | S38: 52047.615 | T38: 52039.225 | U38: 47972.121 | V38: 50098.128 | Y38: 45825.54
C39: 32 | D39: その他の製造業 | E39: E32 | F39: 十億円 | G39: 1017.989 | H39: 1812.729 | I39: 1714.797 | J39: 1638.428 | K39: 1690.89 | L39: 1880.473 | N39: 1577.491 | R39: 461.321 | S39: 1867.594 | T39: 1806.749 | U39: 525.149 | V39: 1253.187 | Y39: 393.949
D40: 電気・ガス・熱供給・水道業大分類 | E40: F
B41: 電気･ガス | C41: 33 | D41: 電気業 | E41: F33 | F41: 千人 | G41: 39.6128 | H41: 46.6942 | I41: 42.6928 | J41: 23.7616 | K41: 38.4986 | L41: 47.0154 | N41: 27.602 | S41: 46.6942 | T41: 43.858 | U41: 22.5074 | V41: 32.5722 | Y41: 37.686
...

Sheet 表Ⅲ・9
B1: 表―Ⅲ・９ 産業廃棄物排出・処理状況一覧表（令和４年度実施値）
L2: （単位：千ｔ/年）
B3: 廃棄物名 | C3: 排出量 | D3: 直接再生利用量 | E3: 直接最終処分量 | F3: 中間処理 | J3: 再生利用量 計 | K3: 減量化量 | L3: 最終処分量 計 | AF3: 旧
F4: 中間処理量 | G4: 処理残渣量 | H4: 中間処理後 再生利用量 | I4: 中間処理後 最終処分量 | AF4: 廃棄物名 | AG4: 排出量 | AH4: 直接再生利用量 | AI4: 直接最終処分量 | AJ4: 中間処理 | AN4: 再生利用量 計 | AO4: 減量化量 | AP4: 最終処分量 計 | AQ4: 廃棄物名 | AR4: 排出量 | AS4: 直接再生利用量 | AT4: 直接最終処分量 | AU4: 中間処理 | AY4: 再生利用量 計 | AZ4: 減量化量 | BA4: 最終処分量 計
C5: （Ａ） | D5: （Ｂ） | E5: （Ｃ） | F5: （Ｄ） | G5: （Ｅ） | H5: （Ｆ） | I5: （Ｇ） | J5: （Ｂ）＋（Ｆ） | K5: （Ｄ）－（Ｅ） | L5: （Ｃ）＋（Ｇ） | AJ5: 中間処理量 | AK5: 処理残渣量 | AL5: 中間処理後 再生利用量 | AM5: 中間処理後 最終処分量 | AU5: 中間処理量 | AV5: 処理残渣量 | AW5: 中間処理後 再生利用量 | AX5: 中間処理後 最終処分量
B6: 燃 え 殻 | C6: =P8 -> 2234.6213 | D6: =Q8 -> 177.82418 | E6: =R8 -> 529.52712 | F6: =S8 -> 1527.27 | G6: =T8 -> 1412.5743 | H6: =U8 -> 1362.0088 | I6: =V8 -> 50.565525 | J6: =W8 -> 1539.8329 | ... L6: =Y8 -> 580.09265 | P6: 排出量(補正後） | Q6: 直接再生利用量 | R6: 直接最終処分量 | S6: 中間処理量 | T6: 処理残渣量 | U6: 処理後再生利用量 | V6: 処理後最終処分量 | W6: 再生利用量合計 | X6: 減量化量 | Y6: 最終処分量合計 | AG6: （Ａ） | AH6: （Ｂ） | AI6: （Ｃ） | AJ6: （Ｄ） | AK6: （Ｅ） | AL6: （Ｆ） | AM6: （Ｇ） | AN6: （Ｂ）＋（Ｆ） | AO6: （Ｄ）－（Ｅ） | AP6: （Ｃ）＋（Ｇ） | AR6: （Ａ） | AS6: （Ｂ） | AT6: （Ｃ） | AU6: （Ｄ） | AV6: （Ｅ） | AW6: （Ｆ） | AX6: （Ｇ） | AY6: （Ｂ）＋（Ｆ） | AZ6: （Ｄ）－（Ｅ） | BA6: （Ｃ）＋（Ｇ）
B7: 構成比 | D7: =D6/$C6 -> 0.079576877 | E7: =E6/$C6 -> 0.23696504 | F7: =F6/$C6 -> 0.68345808 | G7: =G6/$C6 -> 0.63213141 | H7: =H6/$C6 -> 0.60950318 | I7: =I6/$C6 -> 0.022628231 | J7: =J6/$C6 -> 0.68908006 | K7: =K6/$C6 -> 0.05132667 | L7: =L6/$C6 -> 0.25959327 | O7: 廃 棄 物 名 | P7: ④+⑧+⑨ | Q7: ①：（8） | R7: ②：(11)+(14：ハ） | S7: ③：(4)+(13：ｲ) | T7: ⑤：(6)+(15) | U7: ⑥：（9）+（17） | V7: ⑦：(10)+(14：ﾆ)+(18) | W7: ⑧：(8)+(9)+(17) | X7: ④:(7)+(16) | Y7: ⑨：(11)+(14：ハ）+(10)+(14：ﾆ)+(18) | AF7: 燃 え 殻 | AG7: 1875.8421 | AH7: 28.524957 | AI7: 432.23778 | AJ7: 1415.0794 | AK7: 1167.4382 | AL7: 1102.0798 | AM7: 65.358305 | AN7: 1130.6048 | AO7: 247.64124 | AP7: 497.59609 | AQ7: 燃 え 殻 | AR7: =C6-AG7 -> 358.77913 | AS7: =D6-AH7 -> 149.29922 | AT7: =E6-AI7 -> 97.28934 | AU7: =F6-AJ7 -> 112.19057 | AV7: =G6-AK7 -> 245.13614 | AW7: =H6-AL7 -> 259.92892 | AX7: =I6-AM7 -> -14.79278 | AY7: =J6-AN7 -> 409.22815 | ... BA7: =L6-AP7 -> 82.49656
B8: 汚 泥 | C8: =P9 -> 158317.41 | D8: =Q9 -> 623.08355 | E8: =R9 -> 411.47966 | F8: =S9 -> 157282.85 | G8: =T9 -> 11668.245 | H8: =U9 -> 10672.846 | I8: =V9 -> 995.39861 | J8: =W9 -> 11295.93 | ... L8: =Y9 -> 1406.8783 | O8: 燃 え 殻 | P8: =Y37 -> 2234.6213 | Q8: =P37 -> 177.82418 | R8: =Q37 -> 529.52712 | S8: =R37 -> 1527.27 | T8: =T37 -> 1412.5743 | U8: =U37 -> 1362.0088 | V8: =V37 -> 50.565525 | W8: =W37 -> 1539.8329 | X8: =S37 -> 114.69567 | Y8: =X37 -> 580.09265 | AF8: 構成比 | AH8: =AH7/$AG7 -> 0.015206481 | AI8: =AI7/$AG7 -> 0.23042333 | AJ8: =AJ7/$AG7 -> 0.75437019 | AK8: =AK7/$AG7 -> 0.62235416 | AL8: =AL7/$AG7 -> 0.58751204 | AM8: =AM7/$AG7 -> 0.034842114 | AN8: =AN7/$AG7 -> 0.60271852 | AO8: =AO7/$AG7 -> 0.13201604 | AP8: =AP7/$AG7 -> 0.26526544 | AQ8: 構成比 | AR8: =C7-AG8 -> 0 | AS8: =D7-AH8 -> 0.064370396 | AT8: =E7-AI8 -> 0.0065417165 | AU8: =F7-AJ8 -> -0.070912112 | AV8: =G7-AK8 -> 0.0097772531 | AW8: =H7-AL8 -> 0.021991136 | AX8: =I7-AM8 -> -0.012213883 | AY8: =J7-AN8 -> 0.086361532 | ... BA8: =L7-AP8 -> -0.0056721668
B9: 構成比 | D9: =D8/$C8 -> 0.0039356603 | E9: =E8/$C8 -> 0.0025990803 | F9: =F8/$C8 -> 0.99346526 | G9: =G8/$C8 -> 0.073701591 | H9: =H8/$C8 -> 0.06741423 | I9: =I8/$C8 -> 0.0062873603 | J9: =J8/$C8 -> 0.071349891 | K9: =K8/$C8 -> 0.91976367 | L9: =L8/$C8 -> 0.0088864406 | O9: 汚 泥 | P9: =Y38 -> 158317.41 | Q9: =P38 -> 623.08355 | R9: =Q38 -> 411.47966 | S9: =R38 -> 157282.85 | T9: =T38 -> 11668.245 | U9: =U38 -> 10672.846 | V9: =V38 -> 995.39861 | W9: =W38 -> 11295.93 | X9: =S38 -> 145614.6 | Y9: =X38 -> 1406.8783 | AF9: 汚 泥 | AG9: 170694.97 | AH9: 612.30416 | AI9: 642.76604 | AJ9: 169439.9 | AK9: 12970.286 | AL9: 11430.709 | AM9: 1539.5772 | AN9: 12043.013 | AO9: 156469.61 | AP9: 2182.3433 | AQ9: 汚 泥 | AR9: =C8-AG9 -> -12377.557 | AS9: =D8-AH9 -> 10.779395 | AT9: =E8-AI9 -> -231.28638 | AU9: =F8-AJ9 -> -12157.05 | AV9: =G8-AK9 -> -1302.0408 | AW9: =H8-AL9 -> -757.8622 | AX9: =I8-AM9 -> -544.17862 | AY9: =J8-AN9 -> -747.08281 | ... BA9: =L8-AP9 -> -775.46499
B10: 廃 油 | C10: =P10 -> 2953.1491 | D10: =Q10 -> 220.152 | E10: =R10 -> 1.7107364 | F10: =S10 -> 2731.2863 | G10: =T10 -> 1147.5078 | H10: =U10 -> 1102.0569 | I10: =V10 -> 45.45087 | J10: =W10 -> 1322.2089 | ... L10: =Y10 -> 47.161606 | O10: 廃 油 | P10: =Y39 -> 2953.1491 | Q10: =P39 -> 220.152 | R10: =Q39 -> 1.7107364 | S10: =R39 -> 2731.2863 | T10: =T39 -> 1147.5078 | U10: =U39 -> 1102.0569 | V10: =V39 -> 45.45087 | W10: =W39 -> 1322.2089 | X10: =S39 -> 1583.7785 | Y10: =X39 -> 47.161606 | AF10: 構成比 | AH10: =AH9/$AG9 -> 0.0035871248 | AI10: =AI9/$AG9 -> 0.0037655828 | AJ10: =AJ9/$AG9 -> 0.99264729 | AK10: =AK9/$AG9 -> 0.075985168 | AL10: =AL9/$AG9 -> 0.066965703 | AM10: =AM9/$AG9 -> 0.0090194646 | AN10: =AN9/$AG9 -> 0.070552828 | AO10: =AO9/$AG9 -> 0.91666212 | AP10: =AP9/$AG9 -> 0.012785047 | AQ10: 構成比 | AR10: =C9-AG10 -> 0 | AS10: =D9-AH10 -> 0.0003485355 | AT10: =E9-AI10 -> -0.0011665025 | AU10: =F9-AJ10 -> 0.00081796702 | AV10: =G9-AK10 -> -0.0022835773 | AW10: =H9-AL10 -> 0.00044852695 | AX10: =I9-AM10 -> -0.0027321043 | AY10: =J9-AN10 -> 0.00079706245 | ... BA10: =L9-AP10 -> -0.0038986068
B11: 構成比 | D11: =D10/$C10 -> 0.074548218 | E11: =E10/$C10 -> 0.00057929226 | F11: =F10/$C10 -> 0.92487249 | G11: =G10/$C10 -> 0.3885709 | H11: =H10/$C10 -> 0.37318025 | I11: =I10/$C10 -> 0.015390645 | J11: =J10/$C10 -> 0.44772847 | K11: =K10/$C10 -> 0.53630159 | L11: =L10/$C10 -> 0.015969938 | O11: 廃 酸 | P11: =Y40 -> 3047.2503 | Q11: =P40 -> 67.50267 | R11: =Q40 -> 0.26293442 | S11: =R40 -> 2979.4847 | T11: =T40 -> 945.22061 | U11: =U40 -> 890.73879 | V11: =V40 -> 54.481825 | W11: =W40 -> 958.24146 | X11: =S40 -> 2034.2641 | Y11: =X40 -> 54.744759 | AF11: 廃 油 | AG11: 2868.6461 | AH11: 238.08755 | AI11: 0 | AJ11: 2630.5585 | AK11: 963.26874 | AL11: 915.67695 | AM11: 47.591789 | AN11: 1153.7645 | AO11: 1667.2898 | AP11: 47.591789 | AQ11: 廃 油 | AR11: =C10-AG11 -> 84.502975 | AS11: =D10-AH11 -> -17.935551 | AT11: =E10-AI11 -> 1.7107364 | AU11: =F10-AJ11 -> 100.72779 | AV11: =G10-AK11 -> 184.23905 | AW11: =H10-AL11 -> 186.37997 | AX11: =I10-AM11 -> -2.1409187 | AY11: =J10-AN11 -> 168.44442 | ... BA11: =L10-AP11 -> -0.43018234
B12: 廃 酸 | C12: =P11 -> 3047.2503 | D12: =Q11 -> 67.50267 | E12: =R11 -> 0.26293442 | F12: =S11 -> 2979.4847 | G12: =T11 -> 945.22061 | H12: =U11 -> 890.73879 | I12: =V11 -> 54.481825 | J12: =W11 -> 958.24146 | ... L12: =Y11 -> 54.744759 | O12: 廃 ア ル カ リ | P12: =Y41 -> 2458.2648 | Q12: =P41 -> 31.291065 | R12: =Q41 -> 0.1361905 | S12: =R41 -> 2426.8376 | T12: =T41 -> 478.17373 | U12: =U41 -> 428.06157 | V12: =V41 -> 50.112161 | W12: =W41 -> 459.35264 | X12: =S41 -> 1948.6638 | Y12: =X41 -> 50.248352 | AF12: 構成比 | AH12: =AH11/$AG11 -> 0.082996489 | AI12: =AI11/$AG11 -> 0 | AJ12: =AJ11/$AG11 -> 0.91700351 | AK12: =AK11/$AG11 -> 0.33579212 | AL12: =AL11/$AG11 -> 0.31920178 | AM12: =AM11/$AG11 -> 0.016590331 | AN12: =AN11/$AG11 -> 0.40219827 | AO12: =AO11/$AG11 -> 0.5812114 | AP12: =AP11/$AG11 -> 0.016590331 | AQ12: 構成比 | AR12: =C11-AG12 -> 0 | AS12: =D11-AH12 -> -0.0084482704 | AT12: =E11-AI12 -> 0.00057929226 | AU12: =F11-AJ12 -> 0.0078689781 | AV12: =G11-AK12 -> 0.052778784 | AW12: =H11-AL12 -> 0.05397847 | AX12: =I11-AM12 -> -0.0011996858 | AY12: =J11-AN12 -> 0.045530199 | ... BA12: =L11-AP12 -> -0.00062039357
B13: 構成比 | D13: =D12/$C12 -> 0.022151994 | E13: =E12/$C12 -> 8.6285795e-05 | F13: =F12/$C12 -> 0.97776172 | G13: =G12/$C12 -> 0.31018804 | H13: =H12/$C12 -> 0.29230903 | I13: =I12/$C12 -> 0.017879012 | J13: =J12/$C12 -> 0.31446102 | K13: =K12/$C12 -> 0.66757368 | L13: =L12/$C12 -> 0.017965298 | O13: 廃プラスチック類 | P13: =Y42 -> 7411.4489 | Q13: =P42 -> 82.317845 | R13: =Q42 -> 311.0998 | S13: =R42 -> 7018.0312 | T13: =T42 -> 5383.6838 | U13: =U42 -> 4532.2908 | V13: =V42 -> 851.39301 | W13: =W42 -> 4614.6086 | X13: =S42 -> 1634.3474 | Y13: =X42 -> 1162.4928 | AF13: 廃 酸 | AG13: 2609.4451 | AH13: 54.126061 | AI13: 0 | AJ13: 2555.319 | AK13: 908.06176 | AL13: 853.72572 | AM13: 54.336042 | AN13: 907.85178 | AO13: 1647.2573 | AP13: 54.336042 | AQ13: 廃 酸 | AR13: =C12-AG13 -> 437.80524 | AS13: =D12-AH13 -> 13.37661 | AT13: =E12-AI13 -> 0.26293442 | AU13: =F12-AJ13 -> 424.16569 | AV13: =G12-AK13 -> 37.15885 | AW13: =H12-AL13 -> 37.013067 | AX13: =I12-AM13 -> 0.14578306 | AY13: =J12-AN13 -> 50.389676 | ... BA13: =L12-AP13 -> 0.40871748
B14: 廃 ア ル カ リ | C14: =P12 -> 2458.2648 | D14: =Q12 -> 31.291065 | E14: =R12 -> 0.1361905 | F14: =S12 -> 2426.8376 | G14: =T12 -> 478.17373 | H14: =U12 -> 428.06157 | I14: =V12 -> 50.112161 | J14: =W12 -> 459.35264 | ... L14: =Y12 -> 50.248352 | O14: 紙 く ず | P14: =Y43 -> 802.98625 | Q14: =P43 -> 39.042009 | R14: =Q43 -> 15.290002 | S14: =R43 -> 748.65424 | T14: =T43 -> 605.93404 | U14: =U43 -> 584.34854 | V14: =V43 -> 21.5855 | W14: =W43 -> 623.39055 | X14: =S43 -> 142.7202 | Y14: =X43 -> 36.875502 | AF14: 構成比 | AH14: =AH13/$AG13 -> 0.020742364 | AI14: =AI13/$AG13 -> 0 | AJ14: =AJ13/$AG13 -> 0.97925764 | AK14: =AK13/$AG13 -> 0.34799037 | AL14: =AL13/$AG13 -> 0.32716754 | AM14: =AM13/$AG13 -> 0.020822834 | AN14: =AN13/$AG13 -> 0.3479099 | AO14: =AO13/$AG13 -> 0.63126726 | AP14: =AP13/$AG13 -> 0.020822834 | AQ14: 構成比 | AR14: =C13-AG14 -> 0 | AS14: =D13-AH14 -> 0.0014096294 | AT14: =E13-AI14 -> 8.6285795e-05 | AU14: =F13-AJ14 -> -0.0014959152 | AV14: =G13-AK14 -> -0.037802328 | AW14: =H13-AL14 -> -0.034858506 | AX14: =I13-AM14 -> -0.0029438221 | AY14: =J13-AN14 -> -0.033448877 | ... BA14: =L13-AP14 -> -0.0028575363
B15: 構成比 | D15: =D14/$C14 -> 0.012728924 | E15: =E14/$C14 -> 5.5401068e-05 | F15: =F14/$C14 -> 0.98721568 | G15: =G14/$C14 -> 0.19451677 | H15: =H14/$C14 -> 0.1741316 | I15: =I14/$C14 -> 0.020385176 | J15: =J14/$C14 -> 0.18686052 | K15: =K14/$C14 -> 0.7926989 | L15: =L14/$C14 -> 0.020440577 | O15: 木 く ず | P15: =Y44 -> 7579.0888 | Q15: =P44 -> 101.31808 | R15: =Q44 -> 42.009855 | S15: =R44 -> 7435.7609 | T15: =T44 -> 6506.4322 | U15: =U44 -> 6340.9267 | V15: =V44 -> 165.50547 | W15: =W44 -> 6442.2448 | X15: =S44 -> 929.32871 | Y15: =X44 -> 207.51532 | AF15: 廃 ア ル カ リ | AG15: 2391.5306 | AH15: 14.38406 | AI15: 0 | AJ15: 2377.1465 | AK15: 544.67065 | AL15: 457.86584 | AM15: 86.804808 | AN15: 472.2499 | AO15: 1832.4759 | AP15: 86.804808 | AQ15: 廃 ア ル カ リ | AR15: =C14-AG15 -> 66.734247 | AS15: =D14-AH15 -> 16.907005 | AT15: =E14-AI15 -> 0.1361905 | AU15: =F14-AJ15 -> 49.691051 | AV15: =G14-AK15 -> -66.496919 | AW15: =H14-AL15 -> -29.804272 | AX15: =I14-AM15 -> -36.692647 | AY15: =J14-AN15 -> -12.897267 | ... BA15: =L14-AP15 -> -36.556456
B16: 廃プラスチック類 | C16: =P13 -> 7411.4489 | D16: =Q13 -> 82.317845 | E16: =R13 -> 311.0998 | F16: =S13 -> 7018.0312 | G16: =T13 -> 5383.6838 | H16: =U13 -> 4532.2908 | I16: =V13 -> 851.39301 | J16: =W13 -> 4614.6086 | ... L16: =Y13 -> 1162.4928 | O16: 繊 維 く ず | P16: =Y45 -> 88.374558 | Q16: =P45 -> 2.0073907 | R16: =Q45 -> 2.5915652 | S16: =R45 -> 83.775602 | T16: =T45 -> 56.395806 | U16: =U45 -> 47.044631 | V16: =V45 -> 9.3511756 | W16: =W45 -> 49.052021 | X16: =S45 -> 27.379796 | Y16: =X45 -> 11.942741 | AF16: 構成比 | AH16: =AH15/$AG15 -> 0.0060145833 | AI16: =AI15/$AG15 -> 0 | AJ16: =AJ15/$AG15 -> 0.99398542 | AK16: =AK15/$AG15 -> 0.22774982 | AL16: =AL15/$AG15 -> 0.19145306 | AM16: =AM15/$AG15 -> 0.036296759 | AN16: =AN15/$AG15 -> 0.19746764 | AO16: =AO15/$AG15 -> 0.7662356 | AP16: =AP15/$AG15 -> 0.036296759 | AQ16: 構成比 | AR16: =C15-AG16 -> 0 | AS16: =D15-AH16 -> 0.0067143403 | AT16: =E15-AI16 -> 5.5401068e-05 | AU16: =F15-AJ16 -> -0.0067697414 | AV16: =G15-AK16 -> -0.033233048 | AW16: =H15-AL16 -> -0.017321465 | AX16: =I15-AM16 -> -0.015911583 | AY16: =J15-AN16 -> -0.010607125 | ... BA16: =L15-AP16 -> -0.015856181
B17: 構成比 | D17: =D16/$C16 -> 0.011106849 | E17: =E16/$C16 -> 0.041975571 | F17: =F16/$C16 -> 0.94691758 | G17: =G16/$C16 -> 0.72640099 | H17: =H16/$C16 -> 0.61152561 | I17: =I16/$C16 -> 0.11487538 | J17: =J16/$C16 -> 0.62263246 | K17: =K16/$C16 -> 0.22051659 | L17: =L16/$C16 -> 0.15685095 | O17: 動植物性残渣 | P17: =Y46 -> 2323.5445 | Q17: =P46 -> 289.92994 | R17: =Q46 -> 7.5052369 | S17: =R46 -> 2026.1093 | T17: =T46 -> 1189.8805 | U17: =U46 -> 1164.1011 | V17: =V46 -> 25.779413 | W17: =W46 -> 1454.0311 | X17: =S46 -> 836.22877 | Y17: =X46 -> 33.28465 | AF17: 廃プラスチック類 | AG17: 6456.264 | AH17: 61.702794 | AI17: 234.28115 | AJ17: 6160.2801 | AK17: 4365.6653 | AL17: 3627.93 | AM17: 737.73528 | AN17: 3689.6328 | AO17: 1794.6148 | AP17: 972.01644 | AQ17: 廃プラスチック類 | AR17: =C16-AG17 -> 955.18482 | AS17: =D16-AH17 -> 20.615051 | AT17: =E16-AI17 -> 76.818645 | AU17: =F16-AJ17 -> 857.75113 | AV17: =G16-AK17 -> 1018.0186 | AW17: =H16-AL17 -> 904.36083 | AX17: =I16-AM17 -> 113.65773 | AY17: =J16-AN17 -> 924.97588 | ... BA17: =L16-AP17 -> 190.47637
B18: 紙 く ず | C18: =P14 -> 802.98625 | D18: =Q14 -> 39.042009 | E18: =R14 -> 15.290002 | F18: =S14 -> 748.65424 | G18: =T14 -> 605.93404 | H18: =U14 -> 584.34854 | I18: =V14 -> 21.5855 | J18: =W14 -> 623.39055 | ... L18: =Y14 -> 36.875502 | O18: 動物系固形不要物 | P18: =Y47 -> 78.543058 | Q18: =P47 -> 0.0197028 | R18: =Q47 -> 0.12121248 | S18: =R47 -> 78.402142 | T18: =T47 -> 69.137926 | U18: =U47 -> 67.288033 | V18: =V47 -> 1.8498936 | W18: =W47 -> 67.307736 | X18: =S47 -> 9.264216 | Y18: =X47 -> 1.9711061 | AF18: 構成比 | AH18: =AH17/$AG17 -> 0.0095570431 | AI18: =AI17/$AG17 -> 0.036287418 | AJ18: =AJ17/$AG17 -> 0.95415554 | AK18: =AK17/$AG17 -> 0.67619063 | AL18: =AL17/$AG17 -> 0.56192404 | AM18: =AM17/$AG17 -> 0.11426659 | AN18: =AN17/$AG17 -> 0.57148108 | AO18: =AO17/$AG17 -> 0.27796491 | AP18: =AP17/$AG17 -> 0.15055401 | AQ18: 構成比 | AR18: =C17-AG18 -> 0 | AS18: =D17-AH18 -> 0.0015498061 | AT18: =E17-AI18 -> 0.0056881528 | AU18: =F17-AJ18 -> -0.0072379589 | AV18: =G17-AK18 -> 0.050210362 | AW18: =H17-AL18 -> 0.049601572 | AX18: =I17-AM18 -> 0.00060878998 | AY18: =J17-AN18 -> 0.051151378 | ... BA18: =L17-AP18 -> 0.0062969428
B19: 構成比 | D19: =D18/$C18 -> 0.048621018 | E19: =E18/$C18 -> 0.019041425 | F19: =F18/$C18 -> 0.93233756 | G19: =G18/$C18 -> 0.75460076 | H19: =H18/$C18 -> 0.72771923 | I19: =I18/$C18 -> 0.026881531 | J19: =J18/$C18 -> 0.77634025 | K19: =K18/$C18 -> 0.17773679 | L19: =L18/$C18 -> 0.045922956 | O19: ゴ ム く ず | P19: =Y48 -> 15.375786 | Q19: =P48 -> 0.0079018724 | R19: =Q48 -> 0.71227519 | S19: =R48 -> 14.655608 | T19: =T48 -> 12.357852 | U19: =U48 -> 10.170156 | V19: =V48 -> 2.1876967 | W19: =W48 -> 10.178057 | X19: =S48 -> 2.2977562 | Y19: =X48 -> 2.8999719 | AF19: 紙 く ず | AG19: 934.93859 | AH19: 71.748918 | AI19: 3.8665683 | AJ19: 859.3231 | AK19: 648.67603 | AL19: 636.31176 | AM19: 12.364274 | AN19: 708.06068 | AO19: 210.64707 | AP19: 16.230843 | AQ19: 紙 く ず | AR19: =C18-AG19 -> -131.95234 | AS19: =D18-AH19 -> -32.706909 | AT19: =E18-AI19 -> 11.423434 | AU19: =F18-AJ19 -> -110.66886 | AV19: =G18-AK19 -> -42.741995 | AW19: =H18-AL19 -> -51.963221 | AX19: =I18-AM19 -> 9.2212255 | AY19: =J18-AN19 -> -84.67013 | ... BA19: =L18-AP19 -> 20.644659
B20: 木 く ず | C20: =P15 -> 7579.0888 | D20: =Q15 -> 101.31808 | E20: =R15 -> 42.009855 | F20: =S15 -> 7435.7609 | G20: =T15 -> 6506.4322 | H20: =U15 -> 6340.9267 | I20: =V15 -> 165.50547 | J20: =W15 -> 6442.2448 | ... L20: =Y15 -> 207.51532 | O20: 金 属 く ず | P20: =Y49 -> 6678.6911 | Q20: =P49 -> 3067.2583 | R20: =Q49 -> 24.323774 | S20: =R49 -> 3587.109 | T20: =T49 -> 3450.1792 | U20: =U49 -> 3322.4577 | V20: =V49 -> 127.72146 | W20: =W49 -> 6389.716 | X20: =S49 -> 136.92987 | Y20: =X49 -> 152.04523 | AF20: 構成比 | AH20: =AH19/$AG19 -> 0.076741851 | AI20: =AI19/$AG19 -> 0.0041356388 | AJ20: =AJ19/$AG19 -> 0.91912251 | AK20: =AK19/$AG19 -> 0.69381673 | AL20: =AL19/$AG19 -> 0.68059204 | AM20: =AM19/$AG19 -> 0.013224692 | AN20: =AN19/$AG19 -> 0.75733389 | AO20: =AO19/$AG19 -> 0.22530578 | AP20: =AP19/$AG19 -> 0.01736033 | AQ20: 構成比 | AR20: =C19-AG20 -> 0 | AS20: =D19-AH20 -> -0.028120833 | AT20: =E19-AI20 -> 0.014905786 | AU20: =F19-AJ20 -> 0.013215047 | AV20: =G19-AK20 -> 0.060784036 | AW20: =H19-AL20 -> 0.047127196 | AX20: =I19-AM20 -> 0.01365684 | AY20: =J19-AN20 -> 0.019006363 | ... BA20: =L19-AP20 -> 0.028562626
B21: 構成比 | D21: =D20/$C20 -> 0.013368108 | E21: =E20/$C20 -> 0.0055428636 | F21: =F20/$C20 -> 0.98108903 | G21: =G20/$C20 -> 0.85847156 | H21: =H20/$C20 -> 0.83663444 | I21: =I20/$C20 -> 0.021837119 | J21: =J20/$C20 -> 0.85000254 | K21: =K20/$C20 -> 0.12261747 | L21: =L20/$C20 -> 0.027379983 | O21: ガラスくず、コンクリート及び陶磁器くず | P21: =Y50 -> 8169.1668 | Q21: =P50 -> 202.15451 | R21: =Q50 -> 560.52864 | S21: =R50 -> 7406.4837 | T21: =T50 -> 6886.1708 | U21: =U50 -> 6246.1664 | V21: =V50 -> 640.00443 | W21: =W50 -> 6448.3209 | X21: =S50 -> 520.31283 | Y21: =X50 -> 1200.5331 | AF21: 木 く ず | AG21: 7413.0416 | AH21: 54.414533 | AI21: 106.92624 | AJ21: 7251.7008 | AK21: 6102.1467 | AL21: 5939.7109 | AM21: 162.43577 | AN21: 5994.1255 | AO21: 1149.5541 | AP21: 269.36201 | AQ21: 木 く ず | AR21: =C20-AG21 -> 166.04725 | AS21: =D20-AH21 -> 46.903544 | AT21: =E20-AI21 -> -64.916385 | AU21: =F20-AJ21 -> 184.06009 | AV21: =G20-AK21 -> 404.28548 | AW21: =H20-AL21 -> 401.21578 | AX21: =I20-AM21 -> 3.0696989 | AY21: =J20-AN21 -> 448.11932 | ... BA21: =L20-AP21 -> -61.846686
