Workbook
Name ______________________ＴＢＬ１: [1]CSS編集画面!$B$10:$F$22
Name ______________________ＴＢＬ２: [1]CSS編集画面!$B$24:$I$35
Name _____________________ＴＢＬ１: [1]CSS編集画面!$B$10:$F$22
Name _____________________ＴＢＬ２: [1]CSS編集画面!$B$24:$I$35
Name ____________________ＴＢＬ１: [1]CSS編集画面!$B$10:$F$22
Name ____________________ＴＢＬ２: [1]CSS編集画面!$B$24:$I$35
Name ___________________ＴＢＬ１: [1]CSS編集画面!$B$10:$F$22
Name ___________________ＴＢＬ２: [1]CSS編集画面!$B$24:$I$35
Name __________________ＴＢＬ１: [1]CSS編集画面!$B$10:$F$22
Name __________________ＴＢＬ２: [1]CSS編集画面!$B$24:$I$35
Name _________________ＴＢＬ１: [1]CSS編集画面!$B$10:$F$22
Name _________________ＴＢＬ２: [1]CSS編集画面!$B$24:$I$35
Name ________________ＴＢＬ１: [1]CSS編集画面!$B$10:$F$22
Name ________________ＴＢＬ２: [1]CSS編集画面!$B$24:$I$35
Name _______________ＴＢＬ１: [1]CSS編集画面!$B$10:$F$22
Name _______________ＴＢＬ２: [1]CSS編集画面!$B$24:$I$35
Name ______________ＴＢＬ１: [1]CSS編集画面!$B$10:$F$22
Name ______________ＴＢＬ２: [1]CSS編集画面!$B$24:$I$35
Name _____________ＴＢＬ１: [1]CSS編集画面!$B$10:$F$22
Name _____________ＴＢＬ２: [1]CSS編集画面!$B$24:$I$35
Name ____________ＴＢＬ１: [1]CSS編集画面!$B$10:$F$22
Name ____________ＴＢＬ２: [1]CSS編集画面!$B$24:$I$35
Name ___________ＴＢＬ１: [1]CSS編集画面!$B$10:$F$22
Name ___________ＴＢＬ２: [1]CSS編集画面!$B$24:$I$35
Name __________ＴＢＬ１: [1]CSS編集画面!$B$10:$F$22
Name __________ＴＢＬ２: [1]CSS編集画面!$B$24:$I$35
Name _________ＴＢＬ１: [1]CSS編集画面!$B$10:$F$22
Name _________ＴＢＬ２: [1]CSS編集画面!$B$24:$I$35
Name ________ＴＢＬ１: [1]CSS編集画面!$B$10:$F$22
Name ________ＴＢＬ２: [1]CSS編集画面!$B$24:$I$35
Name _______ＴＢＬ１: [1]CSS編集画面!$B$10:$F$22
Name _______ＴＢＬ２: [1]CSS編集画面!$B$24:$I$35
Name ______ＴＢＬ１: [1]CSS編集画面!$B$10:$F$22
Name ______ＴＢＬ２: [1]CSS編集画面!$B$24:$I$35
Name _____ＴＢＬ１: [1]CSS編集画面!$B$10:$F$22
Name _____ＴＢＬ２: [1]CSS編集画面!$B$24:$I$35
Name ____ＴＢＬ１: [1]CSS編集画面!$B$10:$F$22
Name ____ＴＢＬ２: [1]CSS編集画面!$B$24:$I$35
Name ___ＴＢＬ１: [1]CSS編集画面!$B$10:$F$22
Name ___ＴＢＬ２: [1]CSS編集画面!$B$24:$I$35
Name __ＴＢＬ１: [1]CSS編集画面!$B$10:$F$22
Name __ＴＢＬ２: [1]CSS編集画面!$B$24:$I$35
Name _ＴＢＬ１: [1]CSS編集画面!$B$10:$F$22
Name _ＴＢＬ２: [1]CSS編集画面!$B$24:$I$35
Name PAGE1: #REF!
Name PAGE10: #REF!
Name PAGE100: #REF!
Name PAGE1000: #REF!
Name PAGE1001: #REF!
Name PAGE1002: #REF!
Name PAGE1003: #REF!
Name PAGE1004: #REF!
Name PAGE1005: #REF!
Name PAGE1006: #REF!
Name PAGE1007: #REF!
Name PAGE1008: #REF!
Name PAGE1009: #REF!
Name PAGE101: #REF!
Name PAGE1010: #REF!
Name PAGE1011: #REF!

Sheet 2-1-1
A1: 表2－1－1 1社あたりの平均完成工事高
L3: （単位：百万円）
B4: 資本金 | C4: 個 人 | D4: 法 人 | L4: 合 計
A5: 業種 | D5: 500万円未満 | E5: 500万円以上 1000万円未満 | F5: 1000万円以上 3000万円未満 | G5: 3000万円以上 5000万円未満 | H5: 5000万円以上 1億円未満 | I5: 1億円以上 3億円未満 | J5: 3億円以上 10億円未満 | K5: 10億円以上
A6: 一般土木建築 | B6: 一般土木建築工事業 | C6: 44 | D6: 67 | E6: 101.28571 | F6: 513.52 | G6: 908.55263 | H6: 1961.9273 | I6: 10287.643 | J6: 23102.5 | K6: 122435.7 | L6: 1786.861
A7: 土木 | B7: 土木工事業 | C7: 42.5 | D7: 142.22917 | E7: 123.71186 | F7: 339.39474 | G7: 540.46341 | H7: 870.0678 | I7: 7903.2812 | J7: 10873.4 | K7: 49532.875 | L7: 344.74472
B8: ほ装工事業 | C8: 24.166667 | D8: 91.068966 | E8: 136.875 | F8: 421.28571 | G8: 505.82609 | H8: 926.80645 | I8: 8885.4 | K8: 29974 | L8: 376.31055
B9: しゅんせつ工事業 | E9: 42 | F9: 436.33333 | G9: 767.66667 | H9: 850 | L9: 336.64222
B10: 造園工事業 | C10: 21 | D10: 71 | E10: 83 | F10: 200.82979 | G10: 378.38298 | H10: 835.94118 | L10: 134.65793
B11: 水道施設工事業 | C11: 23 | D11: 130.07692 | E11: 130.55556 | F11: 260.7027 | G11: 555.34375 | H11: 549.66667 | I11: 994 | L11: 226.88602
A12: 小 計 | C12: 34.285714 | D12: 121.2 | E12: 121.87619 | F12: 311.61951 | G12: 502.11429 | H12: 855.32479 | I12: 7850.6842 | J12: 10873.4 | K12: 47359.667 | L12: 315.51219
A13: 建築 | B13: 建築工事業 | C13: 30.421053 | D13: 130.53571 | E13: 123 | F13: 521.51316 | G13: 903.04615 | H13: 2341.6724 | I13: 8226.0571 | J13: 27796.368 | K13: 135799.2 | L13: 489.05858
B14: 木造建築工事業 | C14: 23.363636 | D14: 105.65517 | E14: 168.60465 | F14: 442.06667 | G14: 963.76471 | H14: 1573 | I14: 7795.4167 | J14: 3648 | K14: 248457 | L14: 263.66371
A15: 小 計 | C15: 27.833333 | D15: 117.87719 | E15: 147.82278 | F15: 491.96694 | G15: 923.89899 | H15: 2123.4074 | I15: 8116.1064 | J15: 26588.95 | K15: 154575.5 | L15: 444.42273
A16: 職別 | B16: 大工工事業 | C16: 23 | D16: 178.43902 | E16: 130.09524 | F16: 365.80851 | G16: 701 | H16: 1770.6875 | I16: 1986.6667 | L16: 172.18906
B17: とび・土工・コンクリート工事業 | C17: 38.307692 | D17: 106.42222 | E17: 177.01163 | F17: 438.752 | G17: 809.68132 | H17: 1911.7742 | I17: 5853.5185 | J17: 16227.5 | K17: 62609.5 | L17: 229.69805
B18: 鋼構造物工事業 | C18: 37.875 | D18: 119.25 | E18: 109.25 | F18: 1148.8772 | G18: 837.2093 | H18: 2408.325 | I18: 1949 | J18: 29639 | K18: 36098.667 | L18: 647.76025
B19: 鉄筋工事業 | C19: 33.2 | D19: 132 | E19: 101.5 | F19: 414.62222 | G19: 785.14286 | H19: 1499 | L19: 137.66962
B20: 解体工事業 | C20: 43 | D20: 229.85714 | E20: 239.45455 | F20: 827.84375 | G20: 819.16 | H20: 1893.1 | I20: 930 | L20: 382.1602
B21: 躯体関係計 | C21: 32.261905 | D21: 135.01471 | E21: 150.86911 | F21: 596.96732 | G21: 801.39899 | H21: 2027.218 | I21: 4935.1714 | J21: 20698 | K21: 46703 | L21: 265.79226
B22: 左官工事業 | C22: 21.75 | D22: 111.52 | E22: 53.727273 | F22: 326.1 | G22: 989.63636 | H22: 657 | L22: 118.77578
B23: 石工事業 | D23: 31.666667 | E23: 104.41667 | F23: 313.17647 | G23: 248.6 | H23: 1636 | L23: 167.83731
B24: 屋根工事業 | C24: 37.333333 | D24: 110.34375 | E24: 98.826087 | F24: 285.81159 | G24: 628.68 | H24: 1245 | L24: 145.436
B25: タイル・れんが・ブロック工事業 | C25: 15 | D25: 144.63636 | E25: 112.44444 | F25: 532.84091 | G25: 1058.3158 | H25: 1824.375 | I25: 1907 | L25: 320.56099
B26: 板金工事業 | C26: 27.226415 | D26: 101.07937 | E26: 95.122449 | F26: 285.88 | G26: 535.53846 | H26: 1380 | I26: 3067.6667 | L26: 141.9701
B27: ガラス工事業 | D27: 75.2 | E27: 30 | F27: 296.33333 | G27: 275.75 | H27: 1433.75 | L27: 188.18787
B28: 塗装工事業 | C28: 37.6 | D28: 68.5625 | E28: 153.27778 | F28: 362.45312 | G28: 601.47541 | H28: 1311.1944 | I28: 3680.5556 | J28: 4004 | L28: 141.19602
B29: 防水工事業 | C29: 24.5 | D29: 91.774194 | E29: 137.3913 | F29: 576.64286 | G29: 705.60714 | H29: 928.22727 | I29: 3452 | L29: 233.76012
B30: 内装仕上工事業 | C30: 51.333333 | D30: 108.125 | E30: 112.94118 | F30: 410.4125 | G30: 1273.8214 | H30: 1684.0294 | I30: 10783 | J30: 24422 | K30: 71920 | L30: 192.01481
B31: 建具工事業 | C31: 33 | D31: 82.125 | E31: 290.42857 | F31: 503.84906 | G31: 917.65116 | H31: 1407.4167 | I31: 4614.6667 | L31: 256.59318
B32: 仕上関係計 | C32: 30.139535 | D32: 99.662162 | E32: 139.49785 | F32: 401.75314 | G32: 842.48679 | H32: 1381.0846 | I32: 5908.6774 | J32: 17616 | K32: 71920 | L32: 180.64436
A33: 小 計 | C33: 30.835938 | D33: 114.086 | E33: 144.62028 | F33: 477.94643 | G33: 824.91577 | H33: 1707.8365 | I33: 5392.4242 | J33: 19157 | K33: 50905.833 | L33: 213.67443
A34: 設備 | B34: 電気工事業 | C34: 26.666667 | D34: 75.54 | E34: 87.686275 | F34: 391.80208 | G34: 639.51685 | H34: 1613.5556 | I34: 7803.2083 | J34: 8932 | K34: 120735 | L34: 274.41882
B35: 管工事業 | C35: 32.583333 | D35: 85.885246 | E35: 104.13115 | F35: 429.17949 | G35: 928.91892 | H35: 1790.9118 | I35: 5519 | J35: 21136.667 | K35: 63560.2 | L35: 274.04255
B36: 機械器具設置工事業 | C36: 22.857143 | D36: 80.111111 | E36: 126.85185 | F36: 455.1 | G36: 842.43902 | H36: 2254.6875 | I36: 14414.714 | J36: 23477 | K36: 34380 | L36: 512.28023
B37: 熱絶縁工事業 | C37: 40.333333 | D37: 108.64286 | E37: 186.5 | F37: 531.51852 | G37: 3009.0833 | H37: 2852.8 | J37: 9252 | L37: 241.02541
B38: 電気通信工事業 | C38: 24.444444 | D38: 83.189189 | E38: 183.53846 | F38: 561.63636 | G38: 903.88095 | H38: 2623.4865 | I38: 8415.8333 | J38: 26354 | K38: 31094 | L38: 405.69257
B39: さく井工事業 | C39: 25.571429 | D39: 66.95 | E39: 91.16 | F39: 183.80488 | G39: 498.2 | H39: 105 | L39: 134.27339
B40: 消防施設工事業 | C40: 33 | D40: 115.33333 | E40: 61 | F40: 1357.7778 | G40: 1564.8333 | H40: 1100.3333 | I40: 1498 | L40: 606.68391
A41: 小 計 | C41: 28.561644 | D41: 82.472906 | E41: 109.20652 | F41: 444.76543 | G41: 915.05204 | H41: 1948.8394 | I41: 7657.541 | J41: 17777.905 | K41: 69416.111 | L41: 305.59376
...

Sheet 2-1-2
A1: 表2－1－2 1社あたりの平均完成工事高（経年変化）
V3: （単位：百万円）
B4: 資本金 | C4: 個 人 | E4: 法 人 | U4: 合 計
A5: 年度 | E5: 500万円未満 | G5: 500万円以上 1000万円未満 | I5: 1000万円以上 3000万円未満 | K5: 3000万円以上 5000万円未満 | M5: 5000万円以上 1億円未満 | O5: 1億円以上 3億円未満 | Q5: 3億円以上 10億円未満 | S5: 10億円以上
A6: R06年度 | C6: ='2-1-1'!C42 -> 30.324219 | E6: ='2-1-1'!D42 -> 107.38721 | G6: ='2-1-1'!E42 -> 133.41302 | I6: ='2-1-1'!F42 -> 449.79297 | K6: ='2-1-1'!G42 -> 796.58943 | M6: ='2-1-1'!H42 -> 1708.4237 | O6: ='2-1-1'!I42 -> 7617.6142 | Q6: ='2-1-1'!J42 -> 20914.466 | S6: ='2-1-1'!K42 -> 90802.186 | U6: ='2-1-1'!L42 -> 344.03339
B7: 増減 | D7: =(C6/C8)*100-100 -> -24.037155 | F7: =(E6/E8)*100-100 -> 13.910932 | H7: =(G6/G8)*100-100 -> 5.6635371 | J7: =(I6/I8)*100-100 -> -8.4787307 | L7: =(K6/K8)*100-100 -> -23.213582 | N7: =(M6/M8)*100-100 -> -27.285744 | P7: =(O6/O8)*100-100 -> -31.583087 | R7: =(Q6/Q8)*100-100 -> 9.906367 | T7: =(S6/S8)*100-100 -> -28.315665 | V7: =(U6/U8)*100-100 -> -36.205021
A8: R01年度 | C8: 39.919804 | E8: 94.272962 | G8: 126.26211 | I8: 491.46278 | K8: 1037.4093 | M8: 2349.5031 | O8: 11134.11 | Q8: 19029.348 | S8: 126669.5 | U8: 539.27974
B9: 増減 | D9: =(C8/C10)*100-100 -> -57.757305 | F9: =(E8/E10)*100-100 -> 4.2971799 | H9: =(G8/G10)*100-100 -> 8.4494048 | J9: =(I8/I10)*100-100 -> 5.848158 | L9: =(K8/K10)*100-100 -> -8.6457226 | N9: =(M8/M10)*100-100 -> 29.98429 | P9: =(O8/O10)*100-100 -> -63.558542 | R9: =(Q8/Q10)*100-100 -> 18.177829 | T9: =(S8/S10)*100-100 -> -7.655395 | V9: =(U8/U10)*100-100 -> -7.7897518
A10: H26年度 | C10: 94.501081 | E10: 90.388792 | G10: 116.4249 | I10: 464.30924 | K10: 1135.5892 | M10: 1807.5285 | O10: 30553.414 | Q10: 16102.3 | S10: 137170.43 | U10: 584.8371
B11: 増減 | D11: =(C10/C12)*100-100 -> 187.23733 | F11: =(E10/E12)*100-100 -> 8.2500509 | H11: =(G10/G12)*100-100 -> 35.220561 | J11: =(I10/I12)*100-100 -> 40.274695 | L11: =(K10/K12)*100-100 -> 95.555224 | N11: =(M10/M12)*100-100 -> 13.531092 | P11: =(O10/O12)*100-100 -> 524.67368 | R11: =(Q10/Q12)*100-100 -> -2.5986127 | T11: =(S10/S12)*100-100 -> 66.34462 | V11: =(U10/U12)*100-100 -> 70.109685
A12: H23年度 | C12: 32.9 | E12: 83.5 | G12: 86.1 | I12: 331 | K12: 580.7 | M12: 1592.1 | O12: 4891.1 | Q12: 16531.9 | S12: 82461.6 | U12: 343.8
B13: 増減 | D13: =(C12/C14)*100-100 -> -4.3604651 | F13: =(E12/E14)*100-100 -> -7.2222222 | H13: =(G12/G14)*100-100 -> -17.211538 | J13: =(I12/I14)*100-100 -> -20.851267 | L13: =(K12/K14)*100-100 -> -10.302749 | N13: =(M12/M14)*100-100 -> -1.8615546 | P13: =(O12/O14)*100-100 -> -18.383727 | R13: =(Q12/Q14)*100-100 -> 5.3571087 | T13: =(S12/S14)*100-100 -> -34.960473 | V13: =(U12/U14)*100-100 -> -23.532028
A14: H20年度 | C14: 34.4 | E14: 90 | G14: 104 | I14: 418.2 | K14: 647.4 | M14: 1622.3 | O14: 5992.8 | Q14: 15691.3 | S14: 126786.9 | U14: 449.6
B15: 増減 | D15: =(C14/C16)*100-100 -> -2.8248588 | F15: =(E14/E16)*100-100 -> 7.9136691 | H15: =(G14/G16)*100-100 -> 13.537118 | J15: =(I14/I16)*100-100 -> 1.0388983 | L15: =(K14/K16)*100-100 -> -5.5028463 | N15: =(M14/M16)*100-100 -> -8.7672928 | P15: =(O14/O16)*100-100 -> 13.399058 | R15: =(Q14/Q16)*100-100 -> 9.1447213 | T15: =(S14/S16)*100-100 -> -4.1505295 | V15: =(U14/U16)*100-100 -> 2.0658343
A16: H17年度 | C16: 35.4 | E16: 83.4 | G16: 91.6 | I16: 413.9 | K16: 685.1 | M16: 1778.2 | O16: 5284.7 | Q16: 14376.6 | S16: 132277.1 | U16: 440.5
X19: （単位： 百万円）
G20: 年度 | H20: R06年度 | K20: R01年度 | N20: H26年度 | Q20: H23年度 | T20: H20年度 | W20: H17年度
A21: 業種 | J21: 増減 | M21: 増減 | P21: 増減 | S21: 増減 | V21: 増減
A22: 一般土木建築 | C22: 一般土木建築工事業 | H22: ='2-1-1'!L6 -> 1786.861 | J22: =(H22/K22)*100-100 -> -47.341819 | K22: 3393.3208 | M22: =(K22/N22)*100-100 -> 20.781004 | N22: 2809.4822 | P22: =(N22/Q22)*100-100 -> 4.5816773 | Q22: 2686.4 | S22: =(Q22/T22)*100-100 -> 17.233253 | T22: 2291.5 | V22: -5.4505694 | W22: 2423.6
A23: 土木 | C23: 土木工事業 | H23: ='2-1-1'!L7 -> 344.74472 | J23: =(H23/K23)*100-100 -> -32.020908 | K23: 507.13345 | M23: =(K23/N23)*100-100 -> 43.55077 | N23: 353.27811 | P23: =(N23/Q23)*100-100 -> 31.232583 | Q23: 269.2 | S23: =(Q23/T23)*100-100 -> -9.9665552 | T23: 299 | V23: -5.6484695 | W23: 316.9
C24: ほ装工事業 | H24: ='2-1-1'!L8 -> 376.31055 | J24: =(H24/K24)*100-100 -> -9.9151611 | K24: 417.72906 | M24: =(K24/N24)*100-100 -> -10.080425 | N24: 464.55854 | P24: =(N24/Q24)*100-100 -> 1.1228854 | Q24: 459.4 | S24: =(Q24/T24)*100-100 -> 9.328891 | T24: 420.2 | V24: -22.486626 | W24: 542.1
C25: しゅんせつ工事業 | H25: ='2-1-1'!L9 -> 336.64222 | J25: =(H25/K25)*100-100 -> -28.74167 | K25: 472.42508 | M25: =(K25/N25)*100-100 -> 66.893512 | N25: 283.06977 | P25: =(N25/Q25)*100-100 -> 7.877198 | Q25: 262.4 | S25: =(Q25/T25)*100-100 -> 2.8616229 | T25: 255.1 | V25: 7.1848739 | W25: 238
C26: 造園工事業 | H26: ='2-1-1'!L10 -> 134.65793 | J26: =(H26/K26)*100-100 -> -15.623227 | K26: 159.59123 | M26: =(K26/N26)*100-100 -> 34.536349 | N26: 118.62313 | P26: =(N26/Q26)*100-100 -> 6.6754754 | Q26: 111.2 | S26: =(Q26/T26)*100-100 -> 1.9248396 | T26: 109.1 | V26: -22.788393 | W26: 141.3
C27: 水道施設工事業 | H27: ='2-1-1'!L11 -> 226.88602 | J27: =(H27/K27)*100-100 -> -25.930211 | K27: 306.31385 | M27: =(K27/N27)*100-100 -> 57.061897 | N27: 195.02747 | P27: =(N27/Q27)*100-100 -> 23.669926 | Q27: 157.7 | S27: =(Q27/T27)*100-100 -> 8.8336784 | T27: 144.9 | V27: -29.00539 | W27: 204.1
A28: 小 計 | H28: ='2-1-1'!L12 -> 315.51219 | J28: =(H28/K28)*100-100 -> -33.054858 | K28: 471.2996 | M28: =(K28/N28)*100-100 -> 39.490877 | N28: 337.87127 | P28: =(N28/Q28)*100-100 -> 26.307018 | Q28: 267.5 | S28: =(Q28/T28)*100-100 -> -5.6770099 | T28: 283.6 | V28: -8.0415045 | W28: 308.4
A29: 建築 | C29: 建築工事業 | H29: ='2-1-1'!L13 -> 489.05858 | J29: =(H29/K29)*100-100 -> -35.73155 | K29: 760.96215 | M29: =(K29/N29)*100-100 -> -4.1270735 | N29: 793.71953 | P29: =(N29/Q29)*100-100 -> 125.1048 | Q29: 352.6 | S29: =(Q29/T29)*100-100 -> -53.254673 | T29: 754.3 | V29: 6.1945657 | W29: 710.3
C30: 木造建築工事業 | H30: ='2-1-1'!L14 -> 263.66371 | J30: =(H30/K30)*100-100 -> 11.716392 | K30: 236.01165 | M30: =(K30/N30)*100-100 -> -17.716648 | N30: 286.82795 | P30: =(N30/Q30)*100-100 -> 76.400955 | Q30: 162.6 | S30: =(Q30/T30)*100-100 -> 2.7163613 | T30: 158.3 | V30: 0.18987342 | W30: 158
A31: 小 計 | H31: ='2-1-1'!L15 -> 444.42273 | J31: =(H31/K31)*100-100 -> -28.242357 | K31: 619.33853 | M31: =(K31/N31)*100-100 -> -0.60655461 | N31: 623.11808 | P31: =(N31/Q31)*100-100 -> 108.67987 | Q31: 298.6 | S31: =(Q31/T31)*100-100 -> -47.103632 | T31: 564.5 | V31: 4.0361224 | W31: 542.6
A32: 職別 | C32: 大工工事業 | H32: ='2-1-1'!L16 -> 172.18906 | J32: =(H32/K32)*100-100 -> 13.887665 | K32: 151.19202 | M32: =(K32/N32)*100-100 -> 1.2152458 | N32: 149.37673 | P32: =(N32/Q32)*100-100 -> 21.54331 | Q32: 122.9 | S32: =(Q32/T32)*100-100 -> -13.144876 | T32: 141.5 | V32: 16.460905 | W32: 121.5
C33: とび・土工・コンクリート工事業 | H33: ='2-1-1'!L17 -> 229.69805 | J33: =(H33/K33)*100-100 -> -16.162082 | K33: 273.97872 | M33: =(K33/N33)*100-100 -> 7.7901572 | N33: 254.17786 | P33: =(N33/Q33)*100-100 -> 10.512114 | Q33: 230 | S33: =(Q33/T33)*100-100 -> 17.107943 | T33: 196.4 | V33: -4.5675413 | W33: 205.8
C34: 鋼構造物工事業 | H34: ='2-1-1'!L18 -> 647.76025 | J34: =(H34/K34)*100-100 -> 40.428455 | K34: 461.27421 | M34: =(K34/N34)*100-100 -> 20.705456 | N34: 382.1486 | P34: =(N34/Q34)*100-100 -> 8.3802048 | Q34: 352.6 | S34: =(Q34/T34)*100-100 -> -36.730666 | T34: 557.3 | V34: 34.906802 | W34: 413.1
C35: 鉄筋工事業 | H35: ='2-1-1'!L19 -> 137.66962 | J35: =(H35/K35)*100-100 -> -43.88509 | K35: 245.33519 | M35: =(K35/N35)*100-100 -> 40.48358 | N35: 174.6362 | P35: =(N35/Q35)*100-100 -> 38.052332 | Q35: 126.5 | S35: =(Q35/T35)*100-100 -> -36.27204 | T35: 198.5 | V35: 8.8864509 | W35: 182.3
C36: 解体工事業 | H36: ='2-1-1'!L20 -> 382.1602 | J36: =(H36/K36)*100-100 -> 338.76028 | K36: 87.1 | M36: - | N36: - | P36: - | Q36: - | S36: - | T36: - | V36: - | W36: -
G37: 躯体関係計 | H37: ='2-1-1'!L21 -> 265.79226 | J37: =(H37/K37)*100-100 -> 1.8409937 | K37: 260.98749 | M37: =(K37/N37)*100-100 -> 4.7560901 | N37: 249.13826 | P37: =(N37/Q37)*100-100 -> 14.388547 | Q37: 217.8 | S37: =(Q37/T37)*100-100 -> -15.679443 | T37: 258.3 | V37: 10.29035 | W37: 234.2
C38: 左官工事業 | H38: ='2-1-1'!L22 -> 118.77578 | J38: =(H38/K38)*100-100 -> -17.334414 | K38: 143.68226 | M38: =(K38/N38)*100-100 -> 31.740211 | N38: 109.06485 | P38: =(N38/Q38)*100-100 -> -12.327295 | Q38: 124.4 | S38: =(Q38/T38)*100-100 -> 16.917293 | T38: 106.4 | V38: -11.259383 | W38: 119.9
C39: 石工事業 | H39: ='2-1-1'!L23 -> 167.83731 | J39: =(H39/K39)*100-100 -> 8.4855322 | K39: 154.7094 | M39: =(K39/N39)*100-100 -> -4.4915233 | N39: 161.98499 | P39: =(N39/Q39)*100-100 -> 28.86634 | Q39: 125.7 | S39: =(Q39/T39)*100-100 -> -46.09777 | T39: 233.2 | V39: 69.476744 | W39: 137.6
C40: 屋根工事業 | H40: ='2-1-1'!L24 -> 145.436 | J40: =(H40/K40)*100-100 -> -3.7427851 | K40: 151.09101 | M40: =(K40/N40)*100-100 -> -15.220887 | N40: 178.21726 | P40: =(N40/Q40)*100-100 -> 32.503537 | Q40: 134.5 | S40: =(Q40/T40)*100-100 -> 3.3820138 | T40: 130.1 | V40: -21.861862 | W40: 166.5
C41: タイル・れんが・ブロック工事業 | H41: ='2-1-1'!L25 -> 320.56099 | J41: =(H41/K41)*100-100 -> -23.009202 | K41: 416.36273 | M41: =(K41/N41)*100-100 -> 55.828514 | N41: 267.1929 | P41: =(N41/Q41)*100-100 -> 3.8852662 | Q41: 257.2 | S41: =(Q41/T41)*100-100 -> -58.696001 | T41: 622.7 | V41: 92.013568 | W41: 324.3
C42: 板金工事業 | H42: ='2-1-1'!L26 -> 141.9701 | J42: =(H42/K42)*100-100 -> 9.7607071 | K42: 129.3451 | M42: =(K42/N42)*100-100 -> 36.555714 | N42: 94.719654 | P42: =(N42/Q42)*100-100 -> 13.030614 | Q42: 83.8 | S42: =(Q42/T42)*100-100 -> -27.820844 | T42: 116.1 | V42: -2.6823135 | W42: 119.3
C43: ガラス工事業 | H43: ='2-1-1'!L27 -> 188.18787 | J43: =(H43/K43)*100-100 -> 4.8229208 | K43: 179.52931 | M43: =(K43/N43)*100-100 -> 61.978362 | N43: 110.83537 | P43: =(N43/Q43)*100-100 -> 4.6604039 | Q43: 105.9 | S43: =(Q43/T43)*100-100 -> -39.965986 | T43: 176.4 | V43: 18.867925 | W43: 148.4
...

Sheet 2-1-3
A1: 表2－1－3 1社あたりの平均完成工事高（下請比率、次数別集計）
M3: （単位：百万円）
C4: 資本金 | D4: 個人 | E4: 法 人 | M4: 合 計
B5: 下請比率 | C5: 下請次数 | E5: 500万円未満 | F5: 500万円以上 1000万円未満 | G5: 1000万円以上 3000万円未満 | H5: 3000万円以上 5000万円未満 | I5: 5000万円以上 1億円未満 | J5: 1億円以上 3億円未満 | K5: 3億円以上 10億円未満 | L5: 10億円以上
A6: ０％ | D6: 24.896552 | E6: 71.825581 | F6: 97.744681 | G6: 356.5 | H6: 655.53543 | I6: 1462 | J6: 7997.4898 | K6: 26524.143 | L6: 143366.8 | M6: 329.12432
B7: ０％超 | C7: 一次下請 | D7: 47.8 | E7: 112.35 | F7: 125.47059 | G7: 442.0297 | H7: 740.19512 | I7: 1764.5833 | J7: 10324.396 | K7: 18367.471 | L7: 109731.6 | M7: 1190.974
B8: １０％未満 | C8: 二次下請 | E8: 157.5 | G8: 433.5 | I8: 4005 | J8: 6264.5 | M8: 461.25376
C9: 三次以下下請 | G9: 143.5 | M9: 143.5
B10: 小 計 | D10: 47.8 | E10: 116.45455 | F10: 125.47059 | G10: 436.13084 | H10: 740.19512 | I10: 1790.9412 | J10: 10162 | K10: 18367.471 | L10: 109731.6 | M10: 1169.6226
B11: １０％以上 | C11: 一次下請 | D11: 37.666667 | E11: 70.210526 | F11: 92.041667 | G11: 460.06579 | H11: 506.78333 | I11: 1643.7843 | J11: 6128.3043 | K11: 21792.875 | L11: 59383.429 | M11: 478.52219
B12: ２０％未満 | C12: 二次下請 | E12: 82.5 | F12: 110 | H12: 769 | I12: 934 | M12: 187.85484
C13: 三次以下下請 | E13: 85 | H13: 285 | M13: 108.86606
B14: 小 計 | D14: 37.666667 | E14: 72 | F14: 94.037037 | G14: 460.06579 | H14: 519.50769 | I14: 1630.1346 | J14: 6128.3043 | K14: 21792.875 | L14: 59383.429 | M14: 466.1888
B15: ２０％以上 | C15: 一次下請 | D15: 24.454545 | E15: 104.05263 | F15: 101.5 | G15: 430.85333 | H15: 595.31579 | I15: 2064 | J15: 7869.6667 | K15: 25021.833 | L15: 99229 | M15: 440.71248
B16: ３０％未満 | C16: 二次下請 | G16: 185.2 | H16: 655.8 | I16: 541.66667 | J16: 6790 | M16: 365.60818
C17: 三次以下下請
B18: 小 計 | D18: 24.454545 | E18: 104.05263 | F18: 101.5 | G18: 415.5 | H18: 600.19355 | I18: 1970.7959 | J18: 7812.8421 | K18: 25021.833 | L18: 99229 | M18: 442.00989
B19: ３０％以上 | C19: 一次下請 | D19: 39.5 | E19: 104.57895 | F19: 82.041667 | G19: 376.84848 | H19: 564.13793 | I19: 1293.2308 | J19: 13914.333 | K19: 34577 | L19: 99673.333 | M19: 405.28122
B20: ４０％未満 | C20: 二次下請 | E20: 92.166667 | F20: 162 | G20: 337.5 | H20: 691.83333 | I20: 4950 | J20: 5933 | M20: 265.25763
C21: 三次以下下請 | D21: 21 | E21: 56.5 | M21: 39.767485
B22: 小 計 | D22: 37.818182 | E22: 98.259259 | F22: 85.24 | G22: 373.56944 | H22: 576.10938 | I22: 1384.65 | J22: 13116.2 | K22: 34577 | L22: 99673.333 | M22: 388.77255
B23: ４０％以上 | C23: 一次下請 | D23: 44 | E23: 92 | F23: 97.913043 | G23: 324.66667 | H23: 658.67857 | I23: 2076.6667 | J23: 6862.1333 | K23: 9252 | L23: 150788.5 | M23: 417.00588
B24: ５０％未満 | C24: 二次下請 | E24: 56.75 | F24: 95.5 | G24: 162.6 | H24: 451 | I24: 351.66667 | M24: 120.89176
C25: 三次以下下請
B26: 小 計 | D26: 44 | E26: 86.777778 | F26: 97.72 | G26: 314.90361 | H26: 648.11864 | I26: 1961.6667 | J26: 6862.1333 | K26: 9252 | L26: 150788.5 | M26: 395.79823
A27: ０％超５０％未満 | C27: 一次下請 | D27: 36.452381 | E27: 96.61 | F27: 101.80315 | G27: 409.39394 | H27: 621.85942 | I27: 1773.5038 | J27: 8905.6372 | K27: 21420.114 | L27: 101487.92 | M27: 612.26718
C28: 二次下請 | E28: 90 | F28: 113.83333 | G28: 274.9 | H28: 658.83333 | I28: 1396.5556 | J28: 6313 | M28: 251.75541
C29: 三次以下下請 | D29: 21 | E29: 66 | G29: 143.5 | H29: 285 | M29: 70.755648
B30: 小 計 | D30: 36.093023 | E30: 95.034188 | F30: 102.34586 | G30: 401.6866 | H30: 622.8494 | I30: 1760.9852 | J30: 8817 | K30: 21420.114 | L30: 101487.92 | M30: 591.78997
B31: ５０％以上 | C31: 一次下請 | D31: 23.769231 | E31: 98.409091 | F31: 177.45161 | G31: 402.5 | H31: 687.89796 | I31: 1919.75 | J31: 6990.5556 | K31: 19041 | L31: 53807.667 | M31: 333.89099
B32: ６０％未満 | C32: 二次下請 | E32: 84.666667 | F32: 33 | G32: 287.25 | H32: 1033.3333 | I32: 1935 | M32: 196.31772
C33: 三次以下下請
B34: 小 計 | D34: 23.769231 | E34: 95.464286 | F34: 172.9375 | G34: 393.96296 | H34: 707.82692 | I34: 1920.4762 | J34: 6990.5556 | K34: 19041 | L34: 53807.667 | M34: 324.0521
B35: ６０％以上 | C35: 一次下請 | D35: 30.363636 | E35: 122.21875 | F35: 101.42308 | G35: 408.10938 | H35: 1008.2419 | I35: 1331.4688 | J35: 5344.2143 | K35: 23563.167 | L35: 39582.4 | M35: 421.06103
B36: ７０％未満 | C36: 二次下請 | D36: 38 | E36: 90.666667 | F36: 72.8 | G36: 391.66667 | H36: 445 | I36: 1646.75 | M36: 203.45976
C37: 三次以下下請 | E37: 85 | G37: 64 | H37: 130 | I37: 159 | M37: 85.507777
B38: 小 計 | D38: 31 | E38: 116.41026 | F38: 96.806452 | G38: 401.45946 | H38: 961.50746 | I38: 1333.8649 | J38: 5344.2143 | K38: 23563.167 | L38: 39582.4 | M38: 393.94898
B39: ７０％以上 | C39: 一次下請 | D39: 26 | E39: 147.32258 | F39: 351.35294 | G39: 467.71186 | H39: 1454.5714 | I39: 1826.1389 | J39: 5844.9 | K39: 10136 | L39: 104840 | M39: 394.64702
B40: ８０％未満 | C40: 二次下請 | D40: 38 | E40: 131.8 | F40: 137.25 | G40: 315.07692 | H40: 648.85714 | I40: 613.77778 | M40: 237.19771
C41: 三次以下下請 | F41: 218 | M41: 218
...
