Workbook
Name ______________________ＴＢＬ１: [1]CSS編集画面!$B$10:$F$22
Name ______________________ＴＢＬ２: [1]CSS編集画面!$B$24:$I$35
Name _____________________ＴＢＬ１: [1]CSS編集画面!$B$10:$F$22
Name _____________________ＴＢＬ２: [1]CSS編集画面!$B$24:$I$35
Name ____________________ＴＢＬ１: [1]CSS編集画面!$B$10:$F$22
Name ____________________ＴＢＬ２: [1]CSS編集画面!$B$24:$I$35
Name ___________________ＴＢＬ１: [1]CSS編集画面!$B$10:$F$22
Name ___________________ＴＢＬ２: [1]CSS編集画面!$B$24:$I$35
Name __________________ＴＢＬ１: [1]CSS編集画面!$B$10:$F$22
Name __________________ＴＢＬ２: [1]CSS編集画面!$B$24:$I$35
Name _________________ＴＢＬ１: [1]CSS編集画面!$B$10:$F$22
Name _________________ＴＢＬ２: [1]CSS編集画面!$B$24:$I$35
Name ________________ＴＢＬ１: [1]CSS編集画面!$B$10:$F$22
Name ________________ＴＢＬ２: [1]CSS編集画面!$B$24:$I$35
Name _______________ＴＢＬ１: [1]CSS編集画面!$B$10:$F$22
Name _______________ＴＢＬ２: [1]CSS編集画面!$B$24:$I$35
Name ______________ＴＢＬ１: [1]CSS編集画面!$B$10:$F$22
Name ______________ＴＢＬ２: [1]CSS編集画面!$B$24:$I$35
Name _____________ＴＢＬ１: [1]CSS編集画面!$B$10:$F$22
Name _____________ＴＢＬ２: [1]CSS編集画面!$B$24:$I$35
Name ____________ＴＢＬ１: [1]CSS編集画面!$B$10:$F$22
Name ____________ＴＢＬ２: [1]CSS編集画面!$B$24:$I$35
Name ___________ＴＢＬ１: [1]CSS編集画面!$B$10:$F$22
Name ___________ＴＢＬ２: [1]CSS編集画面!$B$24:$I$35
Name __________ＴＢＬ１: [1]CSS編集画面!$B$10:$F$22
Name __________ＴＢＬ２: [1]CSS編集画面!$B$24:$I$35
Name _________ＴＢＬ１: [1]CSS編集画面!$B$10:$F$22
Name _________ＴＢＬ２: [1]CSS編集画面!$B$24:$I$35
Name ________ＴＢＬ１: [1]CSS編集画面!$B$10:$F$22
Name ________ＴＢＬ２: [1]CSS編集画面!$B$24:$I$35
Name _______ＴＢＬ１: [1]CSS編集画面!$B$10:$F$22
Name _______ＴＢＬ２: [1]CSS編集画面!$B$24:$I$35
Name ______ＴＢＬ１: [1]CSS編集画面!$B$10:$F$22
Name ______ＴＢＬ２: [1]CSS編集画面!$B$24:$I$35
Name _____ＴＢＬ１: [1]CSS編集画面!$B$10:$F$22
Name _____ＴＢＬ２: [1]CSS編集画面!$B$24:$I$35
Name ____ＴＢＬ１: [1]CSS編集画面!$B$10:$F$22
Name ____ＴＢＬ２: [1]CSS編集画面!$B$24:$I$35
Name ___ＴＢＬ１: [1]CSS編集画面!$B$10:$F$22
Name ___ＴＢＬ２: [1]CSS編集画面!$B$24:$I$35
Name __ＴＢＬ１: [1]CSS編集画面!$B$10:$F$22
Name __ＴＢＬ２: [1]CSS編集画面!$B$24:$I$35
Name _ＴＢＬ１: [1]CSS編集画面!$B$10:$F$22
Name _ＴＢＬ２: [1]CSS編集画面!$B$24:$I$35
Name PAGE1: #REF!
Name PAGE10: #REF!
Name PAGE100: #REF!
Name PAGE1000: #REF!
Name PAGE1001: #REF!
Name PAGE1002: #REF!
Name PAGE1003: #REF!
Name PAGE1004: #REF!
Name PAGE1005: #REF!
Name PAGE1006: #REF!
Name PAGE1007: #REF!
Name PAGE1008: #REF!
Name PAGE1009: #REF!
Name PAGE101: #REF!
Name PAGE1010: #REF!
Name PAGE1011: #REF!

Sheet 2-3-1
A1: 表2－3－1 総資本回転率
L3: （単位：回）
B4: 資本金 | C4: 個 人 | D4: 法 人 | L4: 合 計
A5: 業種 | D5: 500万円未満 | E5: 500万円以上 1000万円未満 | F5: 1000万円以上 3000万円未満 | G5: 3000万円以上 5000万円未満 | H5: 5000万円以上 1億円未満 | I5: 1億円以上 3億円未満 | J5: 3億円以上 10億円未満 | K5: 10億円以上
A6: 一般土木建築 | B6: 一般土木建築工事業 | D6: 2.1069182 | E6: 0.89194578 | F6: 1.1633163 | G6: 1.0908608 | H6: 1.1681297 | I6: 0.98036822 | J6: 0.99443009 | K6: 1.1073431 | L6: 1.2094671
A7: 土木 | B7: 土木工事業 | D7: 1.587766 | E7: 1.3317955 | F7: 0.96287233 | G7: 0.99796647 | H7: 0.7870369 | I7: 0.97046612 | J7: 0.76463236 | K7: 1.0769049 | L7: 1.1707449
B8: ほ装工事業 | D8: 2.1489015 | E8: 1.5153066 | F8: 1.157264 | G8: 1.1285637 | H8: 1.1402119 | I8: 1.0564128 | K8: 0.91198243 | L8: 1.4800935
B9: しゅんせつ工事業 | E9: 0.61764706 | F9: 1.1584071 | G9: 1.0123077 | H9: 0.86829499 | L9: 0.86788694
B10: 造園工事業 | D10: 1.3655738 | E10: 1.3248778 | F10: 1.2820609 | G10: 1.3885206 | H10: 0.96244869 | L10: 1.3212754
B11: 水道施設工事業 | D11: 1.6243996 | E11: 1.4072476 | F11: 1.1678165 | G11: 0.78724544 | H11: 0.65172406 | I11: 8.2149342 | L11: 1.2958529
A12: 小 計 | D12: 1.6858628 | E12: 1.3755499 | F12: 1.0858621 | G12: 1.0269 | H12: 0.87972026 | I12: 0.98521749 | J12: 0.76463236 | K12: 1.063528 | L12: 1.2660105
A13: 建築 | B13: 建築工事業 | D13: 2.2933582 | E13: 1.7677516 | F13: 1.2027898 | G13: 1.127494 | H13: 0.86371059 | I13: 1.3701 | J13: 1.3741444 | K13: 1.2553382 | L13: 1.6359527
B14: 木造建築工事業 | D14: 1.7390418 | E14: 2.2814017 | F14: 1.3285715 | G14: 1.255037 | H14: 1.135882 | I14: 1.6608488 | J14: 1.305655 | K14: 2.3670029 | L14: 1.737707
A15: 小 計 | D15: 2.0023256 | E15: 2.0549907 | F15: 1.2420874 | G15: 1.1700943 | H15: 0.90955465 | I15: 1.4315572 | J15: 1.3736501 | K15: 1.4360108 | L15: 1.6497351
A16: 職別 | B16: 大工工事業 | D16: 2.0187705 | E16: 1.5048422 | F16: 1.360881 | G16: 0.806762 | H16: 1.5363963 | I16: 1.7386366 | L16: 1.6820726
B17: とび・土工・コンクリート工事業 | D17: 1.5808775 | E17: 1.5077082 | F17: 1.3666102 | G17: 1.1303413 | H17: 0.83567381 | I17: 1.2741957 | J17: 1.4888422 | K17: 0.96724046 | L17: 1.4975375
B18: 鋼構造物工事業 | D18: 1.7141278 | E18: 1.3981684 | F18: 0.85969387 | G18: 1.0839164 | H18: 0.92349211 | I18: 1.0545136 | J18: 1.0966035 | K18: 0.6441464 | L18: 1.2614418
B19: 鉄筋工事業 | D19: 1.5274634 | E19: 1.6132793 | F19: 1.1286158 | G19: 1.0170444 | H19: 0.97479409 | L19: 1.4350816
B20: 解体工事業 | D20: 1.281766 | E20: 1.0265981 | F20: 0.92587171 | G20: 1.209667 | H20: 1.1687306 | I20: 0.31042568 | L20: 1.1275012
B21: 躯体関係計 | D21: 1.637493 | E21: 1.4414219 | F21: 1.0500296 | G21: 1.0731754 | H21: 0.93448529 | I21: 1.2530686 | J21: 1.27172 | K21: 0.78586586 | L21: 1.4133792
B22: 左官工事業 | D22: 4.3025637 | E22: 1.3493151 | F22: 1.1990589 | G22: 0.99590054 | H22: 1.1042017 | L22: 2.9923649
B23: 石工事業 | D23: 1.1247155 | E23: 0.76270418 | F23: 0.79536068 | G23: 0.39852517 | H23: 1.0759619 | L23: 0.93219793
B24: 屋根工事業 | D24: 1.6355491 | E24: 1.6167839 | F24: 0.88038204 | G24: 1.0581424 | H24: 1.4987264 | L24: 1.4248681
B25: タイル・れんが・ブロック工事業 | D25: 1.3248166 | E25: 1.4094708 | F25: 1.0801447 | G25: 1.2807179 | H25: 0.68080878 | I25: 3.2104377 | L25: 1.2154244
B26: 板金工事業 | D26: 1.5445384 | E26: 1.5413893 | F26: 1.0953723 | G26: 0.86517616 | H26: 1.0891883 | I26: 1.0129705 | L26: 1.3981694
B27: ガラス工事業 | D27: 2.2787879 | E27: 1.7647059 | F27: 1.0498414 | G27: 1.4925575 | H27: 1.113376 | L27: 1.5055573
B28: 塗装工事業 | D28: 1.6276262 | E28: 1.5397033 | F28: 1.1852582 | G28: 0.95807296 | H28: 1.0307348 | I28: 1.6311411 | J28: 1.153251 | L28: 1.4842276
B29: 防水工事業 | D29: 1.8426666 | E29: 2.0153593 | F29: 1.3759644 | G29: 1.0682451 | H29: 1.4907103 | I29: 1.7079576 | L29: 1.7561476
B30: 内装仕上工事業 | D30: 1.8965379 | E30: 1.6653449 | F30: 1.4203213 | G30: 1.4116288 | H30: 1.3997035 | I30: 1.7475446 | J30: 1.5783131 | K30: 1.3813818 | L30: 1.6901432
B31: 建具工事業 | D31: 1.4170036 | E31: 5.9135024 | F31: 1.1625346 | G31: 1.1299418 | H31: 1.3062174 | I31: 1.9679046 | L31: 2.4770547
B32: 仕上関係計 | D32: 1.7210037 | E32: 1.9792035 | F32: 1.161211 | G32: 1.1412042 | H32: 1.1676234 | I32: 1.6759357 | J32: 1.5354352 | K32: 1.3813818 | L32: 1.6155482
A33: 小 計 | D33: 1.679643 | E33: 1.6839589 | F33: 1.1041391 | G33: 1.111921 | H33: 1.0154696 | I33: 1.4404929 | J33: 1.380756 | K33: 0.87416866 | L33: 1.5077582
A34: 設備 | B34: 電気工事業 | D34: 1.3366429 | E34: 1.2188947 | F34: 0.97312204 | G34: 0.86913773 | H34: 0.8656013 | I34: 0.78994251 | J34: 0.42467103 | K34: 0.18485564 | L34: 1.1633651
B35: 管工事業 | D35: 1.4553713 | E35: 1.350395 | F35: 1.1752784 | G35: 1.1690771 | H35: 0.84627441 | I35: 0.89029686 | J35: 1.1576805 | K35: 1.0764177 | L35: 1.3241639
B36: 機械器具設置工事 | D36: 1.4364052 | E36: 1.1592028 | F36: 0.94644484 | G36: 0.88132148 | H36: 0.90713045 | I36: 1.2309065 | J36: 0.79653767 | K36: 0.93837374 | L36: 1.1306477
B37: 熱絶縁工事 | D37: 1.3101062 | E37: 1.3646341 | F37: 1.2195135 | G37: 0.57812793 | H37: 1.4491552 | J37: 1.3143912 | L37: 1.2907811
B38: 電気通信工事 | D38: 1.1996825 | E38: 1.8242916 | F38: 1.2725318 | G38: 1.1275791 | H38: 1.3569205 | I38: 1.3586182 | J38: 1.0935757 | K38: 0.64655518 | L38: 1.3381414
B39: さく井工事業 | D39: 1.5237412 | E39: 1.6130315 | F39: 0.96035816 | G39: 1.1465086 | H39: 2.2826087 | L39: 1.3080336
B40: 消防施設工事業 | D40: 1.6714976 | E40: 2.1785714 | F40: 3.8332221 | G40: 1.1917999 | H40: 0.81952722 | I40: 0.77256318 | L40: 2.6056778
A41: 小 計 | D41: 1.3676082 | E41: 1.3489437 | F41: 1.1454615 | G41: 0.91284357 | H41: 0.95877314 | I41: 0.93287143 | J41: 0.84933002 | K41: 0.37550286 | L41: 1.2642127
A42: 合 計 | D42: 1.6331911 | E42: 1.58885 | F42: 1.1254683 | G42: 1.0410286 | H42: 0.97917297 | I42: 1.1008408 | J42: 1.0825911 | K42: 0.77470819 | L42: 1.4023672
E43: （注） | F43: 1. 総資本回転率＝総売上高（国内・海外完工高＋兼業売上高）／総資本額
F44: 2. 個人経営企業は集計に含まれていない。

Sheet 2-3-2
A1: 表2－3－2 総資本回転率（経年変化）
V3: （単位：回）
B4: 資本金 | C4: 個 人 | E4: 法 人 | U4: 合 計
A5: 年度 | E5: 500万円未満 | G5: 500万円以上 1000万円未満 | I5: 1000万円以上 3000万円未満 | K5: 3000万円以上 5000万円未満 | M5: 5000万円以上 1億円未満 | O5: 1億円以上 3億円未満 | Q5: 3億円以上 10億円未満 | S5: 10億円以上
A6: R06年度 | E6: ='2-3-1'!D42 -> 1.6331911 | G6: ='2-3-1'!$E$42 -> 1.58885 | I6: ='2-3-1'!$F$42 -> 1.1254683 | K6: ='2-3-1'!$G$42 -> 1.0410286 | M6: ='2-3-1'!$H$42 -> 0.97917297 | O6: ='2-3-1'!$I$42 -> 1.1008408 | Q6: ='2-3-1'!$J$42 -> 1.0825911 | S6: ='2-3-1'!$K$42 -> 0.77470819 | U6: ='2-3-1'!$L$42 -> 1.4023672
B7: 増減 | F7: =E6-E8 -> -0.078938726 | H7: =G6-G8 -> -0.32936996 | J7: =I6-I8 -> 0.0053630441 | L7: =K6-K8 -> -0.42423399 | N7: =M6-M8 -> -0.18157069 | P7: =O6-O8 -> -0.2602767 | R7: =Q6-Q8 -> -0.19583715 | T7: =S6-S8 -> -0.055007502 | V7: =U6-U8 -> 0.28867318
A8: R01年度 | E8: 1.7121298 | G8: 1.91822 | I8: 1.1201053 | K8: 1.4652626 | M8: 1.1607437 | O8: 1.3611175 | Q8: 1.2784283 | S8: 0.82971569 | U8: 1.1136941
B9: 増減 | F9: =E8-E10 -> -0.46510405 | H9: =G8-G10 -> 0.56967046 | J9: =I8-I10 -> 1.0767436 | L9: =K8-K10 -> 0.22993714 | N9: =M8-M10 -> -0.13206126 | P9: =O8-O10 -> -4.6421409 | R9: =Q8-Q10 -> -0.51744651 | T9: =S8-S10 -> -0.17189435 | V9: =U8-U10 -> 0.95512273
A10: H26年度 | E10: 2.1772339 | G10: 1.3485495 | I10: 0.0433617 | K10: 1.2353255 | M10: 1.2928049 | O10: 6.0032584 | Q10: 1.7958748 | S10: 1.00161 | U10: 0.15857134
B11: 増減 | F11: =E10-E12 -> 0.097992146 | H11: =G10-G12 -> -0.60013945 | J11: =I10-I12 -> -1.1931503 | L11: =K10-K12 -> -0.013190842 | N11: =M10-M12 -> 0.10447983 | P11: =O10-O12 -> 4.8222279 | R11: =Q10-Q12 -> 0.40985196 | T11: =S10-S12 -> -0.059735239 | V11: =U10-U12 -> -1.0600781
A12: H23年度 | E12: 2.0792417 | G12: 1.948689 | I12: 1.236512 | K12: 1.2485163 | M12: 1.1883251 | O12: 1.1810306 | Q12: 1.3860228 | S12: 1.0613453 | U12: 1.2186494
B13: 増減 | F13: =E12-E14 -> -0.12075826 | H13: =G12-G14 -> -0.051311016 | J13: =I12-I14 -> -0.26348804 | L13: =K12-K14 -> -0.15148365 | N13: =M12-M14 -> -0.11167492 | P13: =O12-O14 -> -0.21896943 | R13: =Q12-Q14 -> -0.013977159 | T13: =S12-S14 -> -0.038654715 | V13: =U12-U14 -> -0.081350597
A14: H20年度 | E14: 2.2 | G14: 2 | I14: 1.5 | K14: 1.4 | M14: 1.3 | O14: 1.4 | Q14: 1.4 | S14: 1.1 | U14: 1.3
B15: 増減 | F15: =E14-E16 -> -0.4 | H15: =G14-G16 -> -0.6 | J15: =I14-I16 -> -1.1 | L15: =K14-K16 -> -0.8 | N15: =M14-M16 -> -0.7 | P15: =O14-O16 -> -0.6 | R15: =Q14-Q16 -> -0.1 | T15: =S14-S16 -> -0.1 | V15: =U14-U16 -> -1.2
A16: H17年度 | E16: 2.6 | G16: 2.6 | I16: 2.6 | K16: 2.2 | M16: 2 | O16: 2 | Q16: 1.5 | S16: 1.2 | U16: 2.5
J17: （注） | K17: 1．総資本回転率＝総売上高（国内・海外完工高＋兼業売上高）／総資本額
K18: =SUBSTITUTE('2-3-1'!F45,"3．","2．")
X20: （単位：回）
G21: 年度 | H21: R06年度 | K21: R01年度 | N21: H26年度 | Q21: H23年度 | T21: H20年度 | W21: H17年度
A22: 業種 | J22: 増減 | M22: 増減 | P22: 増減 | S22: 増減 | V22: 増減
A23: 一般土木建築 | C23: 一般土木建築工事業 | H23: ='2-3-1'!L6 -> 1.2094671 | J23: =H23-K23 -> 0.29710801 | K23: 0.91235905 | M23: =K23-N23 -> -0.23025734 | N23: 1.1426164 | P23: =N23-Q23 -> 0.098279097 | Q23: 1.0443373 | S23: =Q23-T23 -> -0.1556627 | T23: 1.2 | V23: =T23-W23 -> -1 | W23: 2.2
A24: 土木 | C24: 土木工事業 | H24: ='2-3-1'!L7 -> 1.1707449 | J24: =H24-K24 -> 0.17635483 | K24: 0.99439008 | M24: =K24-N24 -> -0.13755561 | N24: 1.1319457 | P24: =N24-Q24 -> -0.13801008 | Q24: 1.2699558 | S24: =Q24-T24 -> -0.030044232 | T24: 1.3 | V24: =T24-W24 -> -0.9 | W24: 2.2
C25: ほ装工事業 | H25: ='2-3-1'!L8 -> 1.4800935 | J25: =H25-K25 -> 0.053903038 | K25: 1.4261905 | M25: =K25-N25 -> -0.04940706 | N25: 1.4755976 | P25: =N25-Q25 -> 0.097722987 | Q25: 1.3778746 | S25: =Q25-T25 -> -0.12212542 | T25: 1.5 | V25: =T25-W25 -> -1.1 | W25: 2.6
C26: しゅんせつ工事業 | H26: ='2-3-1'!L9 -> 0.86788694 | J26: =H26-K26 -> -0.098653418 | K26: 0.96654035 | M26: =K26-N26 -> 0.10721228 | N26: 0.85932807 | P26: =N26-Q26 -> -0.28937853 | Q26: 1.1487066 | S26: =Q26-T26 -> 0.048706599 | T26: 1.1 | V26: =T26-W26 -> -1 | W26: 2.1
C27: 造園工事業 | H27: ='2-3-1'!L10 -> 1.3212754 | J27: =H27-K27 -> 0.059335906 | K27: 1.2619395 | M27: =K27-N27 -> -0.26505727 | N27: 1.5269968 | P27: =N27-Q27 -> 0.133502 | Q27: 1.3934948 | S27: =Q27-T27 -> -0.006505241 | T27: 1.4 | V27: =T27-W27 -> -0.7 | W27: 2.1
C28: 水道施設工事業 | H28: ='2-3-1'!L11 -> 1.2958529 | J28: =H28-K28 -> 0.77094801 | K28: 0.52490493 | M28: =K28-N28 -> -0.98938316 | N28: 1.5142881 | P28: =N28-Q28 -> -0.16225277 | Q28: 1.6765409 | S28: =Q28-T28 -> 0.47654086 | T28: 1.2 | V28: =T28-W28 -> -1.1 | W28: 2.3
A29: 小 計 | H29: ='2-3-1'!L12 -> 1.2660105 | J29: =H29-K29 -> 0.27168362 | K29: 0.99432684 | M29: =K29-N29 -> -0.18347926 | N29: 1.1778061 | P29: =N29-Q29 -> -0.11463291 | Q29: 1.292439 | S29: =Q29-T29 -> -0.007560994 | T29: 1.3 | V29: =T29-W29 -> -0.9 | W29: 2.2
A30: 建築 | C30: 建築工事業 | H30: ='2-3-1'!L13 -> 1.6359527 | J30: =H30-K30 -> 0.4079731 | K30: 1.2279796 | M30: =K30-N30 -> 1.1822752 | N30: 0.045704414 | P30: =N30-Q30 -> -1.3797243 | Q30: 1.4254287 | S30: =Q30-T30 -> 0.22542869 | T30: 1.2 | V30: =T30-W30 -> -1.6 | W30: 2.8
C31: 木造建築工事業 | H31: ='2-3-1'!L14 -> 1.737707 | J31: =H31-K31 -> 0.22877512 | K31: 1.5089319 | M31: =K31-N31 -> -0.17339636 | N31: 1.6823282 | P31: =N31-Q31 -> 0.17754401 | Q31: 1.5047842 | S31: =Q31-T31 -> -0.19521578 | T31: 1.7 | V31: =T31-W31 -> -1.1 | W31: 2.8
A32: 小 計 | H32: ='2-3-1'!L15 -> 1.6497351 | J32: =H32-K32 -> 0.39860238 | K32: 1.2511327 | M32: =K32-N32 -> 1.1995616 | N32: 0.051571124 | P32: =N32-Q32 -> -1.3845863 | Q32: 1.4361575 | S32: =Q32-T32 -> 0.13615746 | T32: 1.3 | V32: =T32-W32 -> -1.5 | W32: 2.8
A33: 職別 | C33: 大工工事業 | H33: ='2-3-1'!L16 -> 1.6820726 | J33: =H33-K33 -> 0.080521401 | K33: 1.6015512 | M33: =K33-N33 -> -0.20125043 | N33: 1.8028017 | P33: =N33-Q33 -> 0.48845041 | Q33: 1.3143513 | S33: =Q33-T33 -> -0.48564873 | T33: 1.8 | V33: =T33-W33 -> -0.9 | W33: 2.7
C34: とび・土工・コンクリート工事業 | H34: ='2-3-1'!L17 -> 1.4975375 | J34: =H34-K34 -> 0.20029627 | K34: 1.2972413 | M34: =K34-N34 -> -0.39142244 | N34: 1.6886637 | P34: =N34-Q34 -> 0.027361873 | Q34: 1.6613018 | S34: =Q34-T34 -> -0.038698174 | T34: 1.7 | V34: =T34-W34 -> -1 | W34: 2.7
C35: 鋼構造物工事業 | H35: ='2-3-1'!L18 -> 1.2614418 | J35: =H35-K35 -> 0.17184593 | K35: 1.0895958 | M35: =K35-N35 -> -0.16612414 | N35: 1.25572 | P35: =N35-Q35 -> -0.0092159406 | Q35: 1.2649359 | S35: =Q35-T35 -> -0.1350641 | T35: 1.4 | V35: =T35-W35 -> -1.8 | W35: 3.2
C36: 鉄筋工事業 | H36: ='2-3-1'!L19 -> 1.4350816 | J36: =H36-K36 -> 0.084168089 | K36: 1.3509136 | M36: =K36-N36 -> -0.23368442 | N36: 1.584598 | P36: =N36-Q36 -> 0.17055895 | Q36: 1.414039 | S36: =Q36-T36 -> -0.18596098 | T36: 1.6 | V36: =T36-W36 -> -1.2 | W36: 2.8
C37: 解体工事業 | H37: ='2-3-1'!L20 -> 1.1275012 | J37: =H37-K37 -> 0.75666031 | K37: 0.37084092 | M37: - | N37: - | P37: - | Q37: - | S37: - | T37: - | V37: - | W37: -
G38: 躯体関係計 | H38: ='2-3-1'!L21 -> 1.4133792 | J38: =H38-K38 -> 0.2380809 | K38: 1.1752983 | M38: =K38-N38 -> -0.36075904 | N38: 1.5360573 | P38: =N38-Q38 -> 0.085740847 | Q38: 1.4503165 | S38: =Q38-T38 -> -0.14968355 | T38: 1.6 | V38: =T38-W38 -> -1.2 | W38: 2.8
C39: 左官工事業 | H39: ='2-3-1'!L22 -> 2.9923649 | J39: =H39-K39 -> 1.6527016 | K39: 1.3396633 | M39: =K39-N39 -> -0.34098709 | N39: 1.6806504 | P39: =N39-Q39 -> 0.31629145 | Q39: 1.364359 | S39: =Q39-T39 -> -0.33564103 | T39: 1.7 | V39: =T39-W39 -> -1 | W39: 2.7
C40: 石工事業 | H40: ='2-3-1'!L23 -> 0.93219793 | J40: =H40-K40 -> 0.16994563 | K40: 0.76225229 | M40: =K40-N40 -> -0.23480783 | N40: 0.99706012 | P40: =N40-Q40 -> 0.064110599 | Q40: 0.93294952 | S40: =Q40-T40 -> -0.26705048 | T40: 1.2 | V40: =T40-W40 -> -1.2 | W40: 2.4
C41: 屋根工事業 | H41: ='2-3-1'!L24 -> 1.4248681 | J41: =H41-K41 -> -0.012858902 | K41: 1.437727 | M41: =K41-N41 -> -0.42118476 | N41: 1.8589118 | P41: =N41-Q41 -> 0.88418655 | Q41: 0.97472521 | S41: =Q41-T41 -> -0.52527479 | T41: 1.5 | V41: =T41-W41 -> -1.9 | W41: 3.4
C42: タイル・れんが・ブロック工事業 | H42: ='2-3-1'!L25 -> 1.2154244 | J42: =H42-K42 -> -0.59165406 | K42: 1.8070784 | M42: =K42-N42 -> 0.1285263 | N42: 1.6785521 | P42: =N42-Q42 -> 1.4528894 | Q42: 0.22566271 | S42: =Q42-T42 -> -2.2743373 | T42: 2.5 | V42: =T42-W42 -> 0.1 | W42: 2.4
C43: 板金工事業 | H43: ='2-3-1'!L26 -> 1.3981694 | J43: =H43-K43 -> 0.015220772 | K43: 1.3829486 | M43: =K43-N43 -> -0.2733998 | N43: 1.6563484 | P43: =N43-Q43 -> 0.27960355 | Q43: 1.3767448 | S43: =Q43-T43 -> -0.22325515 | T43: 1.6 | V43: =T43-W43 -> -1.1 | W43: 2.7
C44: ガラス工事業 | H44: ='2-3-1'!L27 -> 1.5055573 | J44: =H44-K44 -> 0.13092376 | K44: 1.3746335 | M44: =K44-N44 -> 0.16894241 | N44: 1.2056911 | P44: =N44-Q44 -> 0.010125527 | Q44: 1.1955656 | S44: =Q44-T44 -> 0.29556558 | T44: 0.9 | V44: =T44-W44 -> -0.5 | W44: 1.4
C45: 塗装工事業 | H45: ='2-3-1'!L28 -> 1.4842276 | J45: =H45-K45 -> -0.072048586 | K45: 1.5562762 | M45: =K45-N45 -> -0.047245792 | N45: 1.603522 | P45: =N45-Q45 -> 0.050278247 | Q45: 1.5532437 | S45: =Q45-T45 -> -0.046756294 | T45: 1.6 | V45: =T45-W45 -> -1.3 | W45: 2.9
C46: 防水工事業 | H46: ='2-3-1'!L29 -> 1.7561476 | J46: =H46-K46 -> 0.31762575 | K46: 1.4385219 | M46: =K46-N46 -> -0.41169415 | N46: 1.850216 | P46: =N46-Q46 -> 0.46174593 | Q46: 1.3884701 | S46: =Q46-T46 -> -0.3115299 | T46: 1.7 | V46: =T46-W46 -> -1.4 | W46: 3.1
C47: 内装仕上工事業 | H47: ='2-3-1'!L30 -> 1.6901432 | J47: =H47-K47 -> 0.90001816 | K47: 0.79012504 | M47: =K47-N47 -> -1.1064284 | N47: 1.8965535 | P47: =N47-Q47 -> 0.033921157 | Q47: 1.8626323 | S47: =Q47-T47 -> -0.037367705 | T47: 1.9 | V47: =T47-W47 -> -0.8 | W47: 2.7
C48: 建具工事業 | H48: ='2-3-1'!L31 -> 2.4770547 | J48: =H48-K48 -> 1.0041765 | K48: 1.4728782 | M48: =K48-N48 -> 0.044805189 | N48: 1.428073 | P48: =N48-Q48 -> 0.25105362 | Q48: 1.1770194 | S48: =Q48-T48 -> -0.12298061 | T48: 1.3 | V48: =T48-W48 -> -1.7 | W48: 3
G49: 仕上関係計 | H49: ='2-3-1'!L32 -> 1.6155482 | J49: =H49-K49 -> 0.49115093 | K49: 1.1243973 | M49: =K49-N49 -> -0.5596055 | N49: 1.6840028 | P49: =N49-Q49 -> 0.55362586 | Q49: 1.1303769 | S49: =Q49-T49 -> -0.56962309 | T49: 1.7 | V49: =T49-W49 -> -1.1 | W49: 2.8
A50: 小 計 | H50: ='2-3-1'!L33 -> 1.5077582 | J50: =H50-K50 -> 0.36460969 | K50: 1.1431485 | M50: =K50-N50 -> -0.46822361 | N50: 1.6113721 | P50: =N50-Q50 -> 0.37357997 | Q50: 1.2377921 | S50: =Q50-T50 -> -0.46220788 | T50: 1.7 | V50: =T50-W50 -> -1.1 | W50: 2.8
A51: 設備 | C51: 電気工事業 | H51: ='2-3-1'!L34 -> 1.1633651 | J51: =H51-K51 -> 0.15333453 | K51: 1.0100305 | M51: =K51-N51 -> -0.39433588 | N51: 1.4043664 | P51: =N51-Q51 -> 0.26060488 | Q51: 1.1437615 | S51: =Q51-T51 -> -0.15623845 | T51: 1.3 | V51: =T51-W51 -> -0.9 | W51: 2.2
C52: 管工事業 | H52: ='2-3-1'!L35 -> 1.3241639 | J52: =H52-K52 -> -0.37820894 | K52: 1.7023729 | M52: =K52-N52 -> 0.46113595 | N52: 1.2412369 | P52: =N52-Q52 -> -0.16245606 | Q52: 1.403693 | S52: =Q52-T52 -> 0.003692992 | T52: 1.4 | V52: =T52-W52 -> -0.8 | W52: 2.2
C53: 機械器具設置工事 | H53: ='2-3-1'!L36 -> 1.1306477 | J53: =H53-K53 -> 0.16452099 | K53: 0.9661267 | M53: =K53-N53 -> 0.012247311 | N53: 0.95387938 | P53: =N53-Q53 -> 0.099057982 | Q53: 0.8548214 | S53: =Q53-T53 -> -0.7451786 | T53: 1.6 | V53: =T53-W53 -> -1.6 | W53: 3.2
C54: 熱絶縁工事 | H54: ='2-3-1'!L37 -> 1.2907811 | J54: =H54-K54 -> 0.21419311 | K54: 1.076588 | M54: =K54-N54 -> -0.16342145 | N54: 1.2400094 | P54: =N54-Q54 -> 0.16918671 | Q54: 1.0708227 | S54: =Q54-T54 -> -0.029177295 | T54: 1.1 | V54: =T54-W54 -> -1.8 | W54: 2.9
C55: 電気通信工事 | H55: ='2-3-1'!L38 -> 1.3381414 | J55: =H55-K55 -> -0.30018275 | K55: 1.6383242 | M55: =K55-N55 -> -15.520492 | N55: 17.158817 | P55: =N55-Q55 -> 15.46125 | Q55: 1.6975661 | S55: =Q55-T55 -> -0.10243387 | T55: 1.8 | V55: =T55-W55 -> -1.4 | W55: 3.2
C56: さく井工事業 | H56: ='2-3-1'!L39 -> 1.3080336 | J56: =H56-K56 -> 0.098970162 | K56: 1.2090634 | M56: =K56-N56 -> 0.025674622 | N56: 1.1833888 | P56: =N56-Q56 -> 0.18694814 | Q56: 0.99644064 | S56: =Q56-T56 -> -0.30355936 | T56: 1.3 | V56: =T56-W56 -> -0.2 | W56: 1.5
C57: 消防施設工事業 | H57: ='2-3-1'!L40 -> 2.6056778 | J57: =H57-K57 -> 1.0299029 | K57: 1.5757748 | M57: =K57-N57 -> -0.053298241 | N57: 1.6290731 | P57: =N57-Q57 -> 0.088131024 | Q57: 1.540942 | S57: =Q57-T57 -> 0.34094205 | T57: 1.2 | V57: =T57-W57 -> -1.5 | W57: 2.7
A58: 小 計 | H58: ='2-3-1'!L41 -> 1.2642127 | J58: =H58-K58 -> 0.044375516 | K58: 1.2198372 | M58: =K58-N58 -> -1.0612418 | N58: 2.281079 | P58: =N58-Q58 -> 1.130666 | Q58: 1.150413 | S58: =Q58-T58 -> -0.24958698 | T58: 1.4 | V58: =T58-W58 -> -1 | W58: 2.4
A59: 合 計 | H59: ='2-3-1'!L42 -> 1.4023672 | J59: =H59-K59 -> 0.28867318 | K59: 1.1136941 | M59: =K59-N59 -> 0.95512273 | N59: 0.15857134 | P59: =N59-Q59 -> -1.0600781 | Q59: 1.2186494 | S59: =Q59-T59 -> -0.081350597 | T59: 1.3 | V59: =T59-W59 -> -1.2 | W59: 2.5
T60: =SUBSTITUTE('2-3-1'!F45,"3．","（注）")
