Workbook
Name ______________________ＴＢＬ１: [1]CSS編集画面!$B$10:$F$22
Name ______________________ＴＢＬ２: [1]CSS編集画面!$B$24:$I$35
Name _____________________ＴＢＬ１: [1]CSS編集画面!$B$10:$F$22
Name _____________________ＴＢＬ２: [1]CSS編集画面!$B$24:$I$35
Name ____________________ＴＢＬ１: [1]CSS編集画面!$B$10:$F$22
Name ____________________ＴＢＬ２: [1]CSS編集画面!$B$24:$I$35
Name ___________________ＴＢＬ１: [1]CSS編集画面!$B$10:$F$22
Name ___________________ＴＢＬ２: [1]CSS編集画面!$B$24:$I$35
Name __________________ＴＢＬ１: [1]CSS編集画面!$B$10:$F$22
Name __________________ＴＢＬ２: [1]CSS編集画面!$B$24:$I$35
Name _________________ＴＢＬ１: [1]CSS編集画面!$B$10:$F$22
Name _________________ＴＢＬ２: [1]CSS編集画面!$B$24:$I$35
Name ________________ＴＢＬ１: [1]CSS編集画面!$B$10:$F$22
Name ________________ＴＢＬ２: [1]CSS編集画面!$B$24:$I$35
Name _______________ＴＢＬ１: [1]CSS編集画面!$B$10:$F$22
Name _______________ＴＢＬ２: [1]CSS編集画面!$B$24:$I$35
Name ______________ＴＢＬ１: [1]CSS編集画面!$B$10:$F$22
Name ______________ＴＢＬ２: [1]CSS編集画面!$B$24:$I$35
Name _____________ＴＢＬ１: [1]CSS編集画面!$B$10:$F$22
Name _____________ＴＢＬ２: [1]CSS編集画面!$B$24:$I$35
Name ____________ＴＢＬ１: [1]CSS編集画面!$B$10:$F$22
Name ____________ＴＢＬ２: [1]CSS編集画面!$B$24:$I$35
Name ___________ＴＢＬ１: [1]CSS編集画面!$B$10:$F$22
Name ___________ＴＢＬ２: [1]CSS編集画面!$B$24:$I$35
Name __________ＴＢＬ１: [1]CSS編集画面!$B$10:$F$22
Name __________ＴＢＬ２: [1]CSS編集画面!$B$24:$I$35
Name _________ＴＢＬ１: [1]CSS編集画面!$B$10:$F$22
Name _________ＴＢＬ２: [1]CSS編集画面!$B$24:$I$35
Name ________ＴＢＬ１: [1]CSS編集画面!$B$10:$F$22
Name ________ＴＢＬ２: [1]CSS編集画面!$B$24:$I$35
Name _______ＴＢＬ１: [1]CSS編集画面!$B$10:$F$22
Name _______ＴＢＬ２: [1]CSS編集画面!$B$24:$I$35
Name ______ＴＢＬ１: [1]CSS編集画面!$B$10:$F$22
Name ______ＴＢＬ２: [1]CSS編集画面!$B$24:$I$35
Name _____ＴＢＬ１: [1]CSS編集画面!$B$10:$F$22
Name _____ＴＢＬ２: [1]CSS編集画面!$B$24:$I$35
Name ____ＴＢＬ１: [1]CSS編集画面!$B$10:$F$22
Name ____ＴＢＬ２: [1]CSS編集画面!$B$24:$I$35
Name ___ＴＢＬ１: [1]CSS編集画面!$B$10:$F$22
Name ___ＴＢＬ２: [1]CSS編集画面!$B$24:$I$35
Name __ＴＢＬ１: [1]CSS編集画面!$B$10:$F$22
Name __ＴＢＬ２: [1]CSS編集画面!$B$24:$I$35
Name _ＴＢＬ１: [1]CSS編集画面!$B$10:$F$22
Name _ＴＢＬ２: [1]CSS編集画面!$B$24:$I$35
Name PAGE1: #REF!
Name PAGE10: #REF!
Name PAGE100: #REF!
Name PAGE1000: #REF!
Name PAGE1001: #REF!
Name PAGE1002: #REF!
Name PAGE1003: #REF!
Name PAGE1004: #REF!
Name PAGE1005: #REF!
Name PAGE1006: #REF!
Name PAGE1007: #REF!
Name PAGE1008: #REF!
Name PAGE1009: #REF!
Name PAGE101: #REF!
Name PAGE1010: #REF!
Name PAGE1011: #REF!

Sheet 2-4-1
A1: 表2－4－1 営業地域
W3: （単位：社、％）
C4: 資本金 | D4: 個 人 | F4: 法 人 | V4: 合 計
A5: 業種 | C5: 営業地域 | F5: 500万円未満 | H5: 500万円以上 1000万円未満 | J5: 1000万円以上 3000万円未満 | L5: 3000万円以上 5000万円未満 | N5: 5000万円以上 1億円未満 | P5: 1億円以上 3億円未満 | R5: 3億円以上 10億円未満 | T5: 10億円以上
A6: 一般土木建築 | B6: 一般土木 建築工事業 | C6: １つの都道府県 | D6: 297 | E6: 75 | F6: 616 | G6: 80 | H6: 947 | I6: 100 | J6: 2299.92 | K6: 84 | L6: 1404.6053 | M6: 92.105263 | N6: 702.03636 | O6: 89.090909 | P6: 98.857143 | Q6: 57.142857 | R6: 4.3333333 | S6: 16.666667 | T6: 0 | U6: 0 | V6: 6369.7521 | W6: 85.903602
C7: ２～３の都道府県 | D7: 99 | E7: 25 | F7: 154 | G7: 20 | H7: 0 | I7: 0 | J7: 328.56 | K7: 12 | L7: 120.39474 | M7: 7.8947368 | N7: 57.309091 | O7: 7.2727273 | P7: 53.547619 | Q7: 30.952381 | R7: 4.3333333 | S7: 16.666667 | T7: 0 | U7: 0 | V7: 817.14478 | W7: 11.020159
C8: ４～９の都道府県 | D8: 0 | E8: 0 | F8: 0 | G8: 0 | H8: 0 | I8: 0 | J8: 109.52 | K8: 4 | L8: 0 | M8: 0 | N8: 14.327273 | O8: 1.8181818 | P8: 16.47619 | Q8: 9.5238095 | R8: 8.6666667 | S8: 33.333333 | T8: 10.4 | U8: 20 | V8: 159.39013 | W8: 2.1495635
C9: １０以上の都道府県 | D9: 0 | E9: 0 | F9: 0 | G9: 0 | H9: 0 | I9: 0 | J9: 0 | K9: 0 | L9: 0 | M9: 0 | N9: 14.327273 | O9: 1.8181818 | P9: 4.1190476 | Q9: 2.3809524 | R9: 8.6666667 | S9: 33.333333 | T9: 41.6 | U9: 80 | V9: 68.712987 | W9: 0.92667548
C10: 小 計 | D10: 396 | E10: 100 | F10: 770 | G10: 100 | H10: 947 | I10: 100 | J10: 2738 | K10: 100 | L10: 1525 | M10: 100 | N10: 788 | O10: 100 | P10: 173 | Q10: 100 | R10: 26 | S10: 100 | T10: 52 | U10: 100 | V10: 7415 | W10: 100
A11: 土木 | B11: 土木工事業 | C11: １つの都道府県 | D11: 1852.5833 | E11: 91.666667 | F11: 5043.1875 | G11: 81.25 | H11: 4713.0508 | I11: 77.966102 | J11: 9654.0526 | K11: 81.578947 | L11: 3278.6341 | M11: 87.804878 | N11: 848.89831 | O11: 76.271186 | P11: 54.71875 | Q11: 53.125 | R11: 3.6 | S11: 20 | T11: 0 | U11: 0 | V11: 25448.726 | W11: 81.841857
C12: ２～３の都道府県 | D12: 168.41667 | E12: 8.3333333 | F12: 905.1875 | G12: 14.583333 | H12: 819.66102 | I12: 13.559322 | J12: 1401.3947 | K12: 11.842105 | L12: 364.29268 | M12: 9.7560976 | N12: 169.77966 | O12: 15.254237 | P12: 12.875 | Q12: 12.5 | R12: 3.6 | S12: 20 | T12: 0 | U12: 0 | V12: 3845.2073 | W12: 12.365999
C13: ４～９の都道府県 | D13: 0 | E13: 0 | F13: 258.625 | G13: 4.1666667 | H13: 409.83051 | I13: 6.779661 | J13: 778.55263 | K13: 6.5789474 | L13: 91.073171 | M13: 2.4390244 | N13: 94.322034 | O13: 8.4745763 | P13: 16.09375 | Q13: 15.625 | R13: 3.6 | S13: 20 | T13: 2.5 | U13: 12.5 | V13: 1654.5971 | W13: 5.3211034
C14: １０以上の都道府県 | D14: 0 | E14: 0 | F14: 0 | G14: 0 | H14: 102.45763 | I14: 1.6949153 | J14: 0 | K14: 0 | L14: 0 | M14: 0 | N14: 0 | O14: 0 | P14: 19.3125 | Q14: 18.75 | R14: 7.2 | S14: 40 | T14: 17.5 | U14: 87.5 | V14: 146.47013 | W14: 0.47104077
C15: 小 計 | D15: 2021 | E15: 100 | F15: 6207 | G15: 100 | H15: 6045 | I15: 100 | J15: 11834 | K15: 100 | L15: 3734 | M15: 100 | N15: 1113 | O15: 100 | P15: 103 | Q15: 100 | R15: 18 | S15: 100 | T15: 20 | U15: 100 | V15: 31095 | W15: 100
B16: ほ装工事業 | C16: １つの都道府県 | D16: 24.166667 | E16: 83.333333 | F16: 672.13793 | G16: 75.862069 | H16: 564.45833 | I16: 79.166667 | J16: 1161.6667 | K16: 83.333333 | L16: 290.80435 | M16: 84.782609 | N16: 86.064516 | O16: 74.193548 | P16: 4 | Q16: 40 | R16: 0 | T16: 0 | U16: 0 | V16: 2803.2985 | W16: 80.162953
C17: ２～３の都道府県 | D17: 4.8333333 | E17: 16.666667 | F17: 183.31034 | G17: 20.689655 | H17: 148.54167 | I17: 20.833333 | J17: 199.14286 | K17: 14.285714 | L17: 44.73913 | M17: 13.043478 | N17: 26.193548 | O17: 22.580645 | P17: 0 | Q17: 0 | R17: 0 | T17: 0 | U17: 0 | V17: 606.76088 | W17: 17.350897
C18: ４～９の都道府県 | D18: 0 | E18: 0 | F18: 30.551724 | G18: 3.4482759 | H18: 0 | I18: 0 | J18: 33.190476 | K18: 2.3809524 | L18: 7.4565217 | M18: 2.173913 | N18: 3.7419355 | O18: 3.2258065 | P18: 2 | Q18: 20 | R18: 0 | T18: 0 | U18: 0 | V18: 76.940658 | W18: 2.2001904
C19: １０以上の都道府県 | D19: 0 | E19: 0 | F19: 0 | G19: 0 | H19: 0 | I19: 0 | J19: 0 | K19: 0 | L19: 0 | M19: 0 | N19: 0 | O19: 0 | P19: 4 | Q19: 40 | R19: 0 | T19: 6 | U19: 100 | V19: 10 | W19: 0.28595939
C20: 小 計 | D20: 29 | E20: 100 | F20: 886 | G20: 100 | H20: 713 | I20: 100 | J20: 1394 | K20: 100 | L20: 343 | M20: 100 | N20: 116 | O20: 100 | P20: 10 | Q20: 100 | R20: 0 | T20: 6 | U20: 100 | V20: 3497 | W20: 100
B21: しゅんせつ 工事業 | C21: １つの都道府県 | D21: 0 | F21: 0 | H21: 0 | I21: 0 | J21: 15.333333 | K21: 33.333333 | L21: 18 | M21: 66.666667 | N21: 0 | O21: 0 | P21: 0 | R21: 0 | T21: 0 | V21: 33.333333 | W21: 22.222222
C22: ２～３の都道府県 | D22: 0 | F22: 0 | H22: 69 | I22: 100 | J22: 0 | K22: 0 | L22: 0 | M22: 0 | N22: 8 | O22: 100 | P22: 0 | R22: 0 | T22: 0 | V22: 77 | W22: 51.333333
C23: ４～９の都道府県 | D23: 0 | F23: 0 | H23: 0 | I23: 0 | J23: 15.333333 | K23: 33.333333 | L23: 9 | M23: 33.333333 | N23: 0 | O23: 0 | P23: 0 | R23: 0 | T23: 0 | V23: 24.333333 | W23: 16.222222
C24: １０以上の都道府県 | D24: 0 | F24: 0 | H24: 0 | I24: 0 | J24: 15.333333 | K24: 33.333333 | L24: 0 | M24: 0 | N24: 0 | O24: 0 | P24: 0 | R24: 0 | T24: 0 | V24: 15.333333 | W24: 10.222222
C25: 小 計 | H25: 69 | I25: 100 | J25: 46 | K25: 100 | L25: 27 | M25: 100 | N25: 8 | O25: 100 | V25: 150 | W25: 100
B26: 造園工事業 | C26: １つの都道府県 | D26: 203 | E26: 50 | F26: 259.6 | G26: 40 | H26: 307.5 | I26: 83.333333 | J26: 617.61702 | K26: 87.234043 | L26: 96.957447 | M26: 65.957447 | N26: 26 | O26: 76.470588 | P26: 0 | R26: 0 | T26: 0 | V26: 1510.6745 | W26: 65.312342
C27: ２～３の都道府県 | D27: 203 | E27: 50 | F27: 259.6 | G27: 40 | H27: 61.5 | I27: 16.666667 | J27: 60.255319 | K27: 8.5106383 | L27: 34.404255 | M27: 23.404255 | N27: 4 | O27: 11.764706 | P27: 0 | R27: 0 | T27: 0 | V27: 622.75957 | W27: 26.924322
C28: ４～９の都道府県 | D28: 0 | E28: 0 | F28: 129.8 | G28: 20 | H28: 0 | I28: 0 | J28: 30.12766 | K28: 4.2553191 | L28: 12.510638 | M28: 8.5106383 | N28: 4 | O28: 11.764706 | P28: 0 | R28: 0 | T28: 0 | V28: 176.4383 | W28: 7.6281149
C29: １０以上の都道府県 | D29: 0 | E29: 0 | F29: 0 | G29: 0 | H29: 0 | I29: 0 | J29: 0 | K29: 0 | L29: 3.1276596 | M29: 2.1276596 | N29: 0 | O29: 0 | P29: 0 | R29: 0 | T29: 0 | V29: 3.1276596 | W29: 0.13522091
C30: 小 計 | D30: 406 | E30: 100 | F30: 649 | G30: 100 | H30: 369 | I30: 100 | J30: 708 | K30: 100 | L30: 147 | M30: 100 | N30: 34 | O30: 100 | V30: 2313 | W30: 100
B31: 水道施設 工事業 | C31: １つの都道府県 | D31: 65 | E31: 100 | F31: 328.30769 | G31: 84.615385 | H31: 380.44444 | I31: 88.888889 | J31: 625.27027 | K31: 94.594595 | L31: 133.3125 | M31: 84.375 | N31: 48 | O31: 100 | P31: 3 | Q31: 100 | R31: 0 | T31: 0 | V31: 1583.3349 | W31: 90.424609
C32: ２～３の都道府県 | D32: 0 | E32: 0 | F32: 59.692308 | G32: 15.384615 | H32: 47.555556 | I32: 11.111111 | J32: 17.864865 | K32: 2.7027027 | L32: 14.8125 | M32: 9.375 | N32: 0 | O32: 0 | P32: 0 | Q32: 0 | R32: 0 | T32: 0 | V32: 139.92523 | W32: 7.9911609
C33: ４～９の都道府県 | D33: 0 | E33: 0 | F33: 0 | G33: 0 | H33: 0 | I33: 0 | J33: 0 | K33: 0 | L33: 4.9375 | M33: 3.125 | N33: 0 | O33: 0 | P33: 0 | Q33: 0 | R33: 0 | T33: 0 | V33: 4.9375 | W33: 0.28198172
C34: １０以上の都道府県 | D34: 0 | E34: 0 | F34: 0 | G34: 0 | H34: 0 | I34: 0 | J34: 17.864865 | K34: 2.7027027 | L34: 4.9375 | M34: 3.125 | N34: 0 | O34: 0 | P34: 0 | Q34: 0 | R34: 0 | T34: 0 | V34: 22.802365 | W34: 1.3022481
C35: 小 計 | D35: 65 | E35: 100 | F35: 388 | G35: 100 | H35: 428 | I35: 100 | J35: 661 | K35: 100 | L35: 158 | M35: 100 | N35: 48 | O35: 100 | P35: 3 | Q35: 100 | V35: 1751 | W35: 100
B36: 小 計 | C36: １つの都道府県 | D36: 2144.75 | E36: 85.075367 | F36: 6303.2331 | G36: 77.530543 | H36: 5965.4536 | I36: 78.245719 | J36: 12073.94 | K36: 82.455371 | L36: 3817.7084 | M36: 86.588987 | N36: 1008.9628 | O36: 76.494528 | P36: 61.71875 | Q36: 53.205819 | R36: 3.6 | S36: 20 | T36: 0 | U36: 0 | V36: 31379.367 | W36: 80.862152
C37: ２～３の都道府県 | D37: 376.25 | E37: 14.924633 | F37: 1407.7902 | G37: 17.315992 | H37: 1146.2582 | I37: 15.034867 | J37: 1678.6578 | K37: 11.463892 | L37: 458.24857 | M37: 10.393481 | N37: 207.97321 | O37: 15.767491 | P37: 12.875 | Q37: 11.099138 | R37: 3.6 | S37: 20 | T37: 0 | U37: 0 | V37: 5291.6529 | W37: 13.636172
C38: ４～９の都道府県 | D38: 0 | E38: 0 | F38: 418.97672 | G38: 5.1534652 | H38: 409.83051 | I38: 5.3755313 | J38: 857.2041 | K38: 5.8540197 | L38: 124.97783 | M38: 2.8346072 | N38: 102.06397 | O38: 7.737981 | P38: 18.09375 | Q38: 15.59806 | R38: 3.6 | S38: 20 | T38: 2.5 | U38: 9.6153846 | V38: 1937.2469 | W38: 4.9921324
C39: １０以上の都道府県 | D39: 0 | E39: 0 | F39: 0 | G39: 0 | H39: 102.45763 | I39: 1.3438828 | J39: 33.198198 | K39: 0.22671719 | L39: 8.0651596 | M39: 0.18292492 | N39: 0 | O39: 0 | P39: 23.3125 | Q39: 20.096983 | R39: 7.2 | S39: 40 | T39: 23.5 | U39: 90.384615 | V39: 197.73348 | W39: 0.50954359
C40: 小 計 | D40: 2521 | E40: 100 | F40: 8130 | G40: 100 | H40: 7624 | I40: 100 | J40: 14643 | K40: 100 | L40: 4409 | M40: 100 | N40: 1319 | O40: 100 | P40: 116 | Q40: 100 | R40: 18 | S40: 100 | T40: 26 | U40: 100 | V40: 38806 | W40: 100
A41: 建築 | B41: 建築工事業 | C41: １つの都道府県 | D41: 9791 | E41: 100 | F41: 16992.857 | G41: 89.285714 | H41: 10603.444 | I41: 77.777778 | J41: 16665 | K41: 72.368421 | L41: 4169.2308 | M41: 76.923077 | N41: 1272.8793 | O41: 67.241379 | P41: 139.28571 | Q41: 42.857143 | R41: 5.1578947 | S41: 10.526316 | T41: 0 | U41: 0 | V41: 59638.855 | W41: 81.457154
...

Sheet 2-4-2
A1: 表2－4－2 営業地域（経年変化）
V3: （単位：社、％）
B4: 資本金 | C4: 個 人 | E4: 法 人 | U4: 合 計
A5: 年度 | B5: 営業地域 | E5: 500万円未満 | G5: 500万円以上 1000万円未満 | I5: 1000万円以上 3000万円未満 | K5: 3000万円以上 5000万円未満 | M5: 5000万円以上 1億円未満 | O5: 1億円以上 3億円未満 | Q5: 3億円以上 10億円未満 | S5: 10億円以上
A6: R06年度 | B6: １つの都道府県 | C6: ='2-4-1'!D186 -> 42507.847 | D6: ='2-4-1'!E186 -> 87.45211 | E6: ='2-4-1'!F186 -> 68705.656 | F6: ='2-4-1'!G186 -> 75.02747 | G6: ='2-4-1'!H186 -> 43859.157 | H6: ='2-4-1'!I186 -> 75.621843 | I6: ='2-4-1'!J186 -> 59015.358 | J6: ='2-4-1'!K186 -> 69.665878 | ... V6: ='2-4-1'!W186 -> 75.188187
B7: ２～３の都道府県 | C7: ='2-4-1'!D187 -> 5635.3595 | D7: ='2-4-1'!E187 -> 11.59372 | E7: ='2-4-1'!F187 -> 18618.83 | F7: ='2-4-1'!G187 -> 20.332005 | G7: ='2-4-1'!H187 -> 11241.567 | H7: ='2-4-1'!I187 -> 19.38268 | I7: ='2-4-1'!J187 -> 17183.688 | J7: ='2-4-1'!K187 -> 20.284834 | ... V7: ='2-4-1'!W187 -> 18.659289
B8: ４～９の都道府県 | C8: ='2-4-1'!D188 -> 463.79353 | D8: ='2-4-1'!E188 -> 0.95417025 | E8: ='2-4-1'!F188 -> 3858.4083 | F8: ='2-4-1'!G188 -> 4.213432 | G8: ='2-4-1'!H188 -> 2471.8585 | H8: ='2-4-1'!I188 -> 4.261972 | I8: ='2-4-1'!J188 -> 7571.0848 | J8: ='2-4-1'!K188 -> 8.9374407 | ... V8: ='2-4-1'!W188 -> 5.3115485
B9: １０以上の都道府県 | C9: ='2-4-1'!D189 -> 0 | D9: ='2-4-1'!E189 -> 0 | E9: ='2-4-1'!F189 -> 391.10589 | F9: ='2-4-1'!G189 -> 0.42709272 | G9: ='2-4-1'!H189 -> 425.41796 | H9: ='2-4-1'!I189 -> 0.73350453 | I9: ='2-4-1'!J189 -> 941.8685 | J9: ='2-4-1'!K189 -> 1.1118478 | ... V9: ='2-4-1'!W189 -> 0.84097555
C10: ='2-4-1'!D190 -> 48607 | D10: ='2-4-1'!E190 -> 100 | E10: ='2-4-1'!F190 -> 91574 | F10: ='2-4-1'!G190 -> 100 | G10: ='2-4-1'!H190 -> 57998 | H10: ='2-4-1'!I190 -> 100 | I10: ='2-4-1'!J190 -> 84712 | J10: ='2-4-1'!K190 -> 100 | ... V10: ='2-4-1'!W190 -> 100
A11: 増減 | B11: １つの都道府県 | C11: - | D11: =IF(OR(D6=" ",D16=" "),"",D6-D16) -> -1.6145329 | E11: - | F11: =IF(OR(F6=" ",F16=" "),"",F6-F16) -> 3.7001273 | G11: - | H11: =IF(OR(H6=" ",H16=" "),"",H6-H16) -> -2.5441181 | I11: - | J11: =IF(OR(J6=" ",J16=" "),"",J6-J16) -> -1.598366 | K11: - | L11: =IF(OR(L6=" ",L16=" "),"",L6-L16) -> 3.6306954 | M11: - | N11: =IF(OR(N6=" ",N16=" "),"",N6-N16) -> 1.3810954 | O11: - | P11: =IF(OR(P6=" ",P16=" "),"",P6-P16) -> 3.1966165 | Q11: - | R11: =IF(OR(R6=" ",R16=" "),"",R6-R16) -> 0.38773753 | S11: - | T11: =IF(OR(T6=" ",T16=" "),"",T6-T16) -> -7.3534913 | U11: - | V11: =IF(OR(V6=" ",V16=" "),"",V6-V16) -> 1.1002116
B12: ２～３の都道府県 | C12: - | D12: =IF(OR(D7=" ",D17=" "),"",D7-D17) -> 1.3284107 | E12: - | F12: =IF(OR(F7=" ",F17=" "),"",F7-F17) -> -2.2298391 | G12: - | H12: =IF(OR(H7=" ",H17=" "),"",H7-H17) -> 2.4622444 | I12: - | J12: =IF(OR(J7=" ",J17=" "),"",J7-J17) -> 0.96274844 | K12: - | L12: =IF(OR(L7=" ",L17=" "),"",L7-L17) -> -2.0160171 | M12: - | N12: =IF(OR(N7=" ",N17=" "),"",N7-N17) -> 1.2207719 | O12: - | P12: =IF(OR(P7=" ",P17=" "),"",P7-P17) -> -0.76007574 | Q12: - | R12: =IF(OR(R7=" ",R17=" "),"",R7-R17) -> -7.3490908 | S12: - | T12: =IF(OR(T7=" ",T17=" "),"",T7-T17) -> -8.5097375 | U12: - | V12: =IF(OR(V7=" ",V17=" "),"",V7-V17) -> -0.07305733
B13: ４～９の都道府県 | C13: - | D13: =IF(OR(D8=" ",D18=" "),"",D8-D18) -> 0.28612218 | E13: - | F13: =IF(OR(F8=" ",F18=" "),"",F8-F18) -> -1.7820814 | G13: - | H13: =IF(OR(H8=" ",H18=" "),"",H8-H18) -> -0.183389 | I13: - | J13: =IF(OR(J8=" ",J18=" "),"",J8-J18) -> 0.94807445 | K13: - | L13: =IF(OR(L8=" ",L18=" "),"",L8-L18) -> -1.9786888 | M13: - | N13: =IF(OR(N8=" ",N18=" "),"",N8-N18) -> -3.439187 | O13: - | P13: =IF(OR(P8=" ",P18=" "),"",P8-P18) -> 0.60121367 | Q13: - | R13: =IF(OR(R8=" ",R18=" "),"",R8-R18) -> 10.84845 | S13: - | T13: =IF(OR(T8=" ",T18=" "),"",T8-T18) -> 17.166067 | U13: - | V13: =IF(OR(V8=" ",V18=" "),"",V8-V18) -> -0.9030935
B14: １０以上の都道府県 | C14: - | D14: =IF(OR(D9=" ",D19=" "),"",D9-D19) -> 0 | E14: - | F14: =IF(OR(F9=" ",F19=" "),"",F9-F19) -> 0.31179319 | G14: - | H14: =IF(OR(H9=" ",H19=" "),"",H9-H19) -> 0.26526273 | I14: - | J14: =IF(OR(J9=" ",J19=" "),"",J9-J19) -> -0.3124569 | K14: - | L14: =IF(OR(L9=" ",L19=" "),"",L9-L19) -> 0.36401048 | M14: - | N14: =IF(OR(N9=" ",N19=" "),"",N9-N19) -> 0.83731977 | O14: - | P14: =IF(OR(P9=" ",P19=" "),"",P9-P19) -> -3.0377545 | Q14: - | R14: =IF(OR(R9=" ",R19=" "),"",R9-R19) -> -3.8870965 | S14: - | T14: =IF(OR(T9=" ",T19=" "),"",T9-T19) -> -1.3028383 | U14: - | V14: =IF(OR(V9=" ",V19=" "),"",V9-V19) -> -0.12406073
C15: - | D15: - | E15: - | F15: - | G15: - | H15: - | I15: - | J15: - | K15: - | L15: - | M15: - | N15: - | O15: - | P15: - | Q15: - | R15: - | S15: - | T15: - | U15: - | V15: -
A16: R01年度 | B16: １つの都道府県 | C16: 16084.931 | D16: 89.066643 | E16: 27182.074 | F16: 71.327343 | G16: 20818.763 | H16: 78.165961 | I16: 38326.495 | J16: 71.264244 | K16: 7290.0556 | L16: 70.640935 | M16: 2313.4553 | N16: 61.906472 | O16: 202.18087 | P16: 35.264925 | Q16: 15.955571 | R16: 12.46529 | S16: 11.912656 | T16: 7.3534913 | U16: 112245.82 | V16: 74.087975
B17: ２～３の都道府県 | C17: 1853.8567 | D17: 10.265309 | E17: 8598.0731 | F17: 22.561844 | G17: 4506.5978 | H17: 16.920436 | I17: 10391.576 | J17: 19.322085 | K17: 2058.7341 | L17: 19.949217 | M17: 757.86041 | N17: 20.279823 | O17: 162.21749 | P17: 28.294406 | Q17: 32.669856 | R17: 25.523325 | S17: 18.561497 | T17: 11.457714 | U17: 28380.147 | V17: 18.732346
B18: ４～９の都道府県 | C18: 120.64569 | D18: 0.66804806 | E18: 2284.8249 | F18: 5.9955134 | G18: 1183.9798 | H18: 4.445361 | I18: 4296.7468 | J18: 7.9893663 | K18: 821.89911 | L18: 7.9642358 | M18: 528.34586 | N18: 14.138172 | O18: 124.53193 | P18: 21.721191 | Q18: 31.242846 | R18: 24.408473 | S18: 23.178832 | T18: 14.307921 | U18: 9415.3957 | V18: 6.214642
B19: １０以上の都道府県 | C19: 0 | D19: 0 | E19: 43.939394 | F19: 0.11529953 | G19: 124.71176 | H19: 0.46824179 | I19: 766.00276 | J19: 1.4243047 | K19: 149.18539 | L19: 1.4456125 | M19: 137.3553 | N19: 3.6755332 | O19: 84.38971 | P19: 14.719478 | Q19: 48.131727 | R19: 37.602912 | S19: 108.34701 | T19: 66.880873 | U19: 1462.063 | V19: 0.96503628
C20: 18059.433 | D20: 100 | E20: 38108.911 | F20: 100 | G20: 26634.052 | H20: 100 | I20: 53780.821 | J20: 100 | K20: 10319.874 | L20: 100 | M20: 3737.0169 | N20: 100 | O20: 573.32 | P20: 100 | Q20: 128 | R20: 100 | S20: 162 | T20: 100 | U20: 151503.43 | V20: 100
A21: 増減 | B21: １つの都道府県 | C21: - | D21: =IF(OR(D16=" ",D26=" "),"",D16-D26) -> -3.3548771 | E21: - | F21: =IF(OR(F16=" ",F26=" "),"",F16-F26) -> -7.9082466 | G21: - | H21: =IF(OR(H16=" ",H26=" "),"",H16-H26) -> -0.94658489 | I21: - | J21: =IF(OR(J16=" ",J26=" "),"",J16-J26) -> 0.1902358 | K21: - | L21: =IF(OR(L16=" ",L26=" "),"",L16-L26) -> -5.080607 | M21: - | N21: =IF(OR(N16=" ",N26=" "),"",N16-N26) -> 0.4551492 | O21: - | P21: =IF(OR(P16=" ",P26=" "),"",P16-P26) -> -0.42318025 | Q21: - | R21: =IF(OR(R16=" ",R26=" "),"",R16-R26) -> -15.55092 | S21: - | T21: =IF(OR(T16=" ",T26=" "),"",T16-T26) -> 2.1867691 | U21: - | V21: =V16-V26 -> -3.4172188
B22: ２～３の都道府県 | C22: - | D22: =IF(OR(D17=" ",D27=" "),"",D17-D27) -> 3.923315 | E22: - | F22: =IF(OR(F17=" ",F27=" "),"",F17-F27) -> 5.4375472 | G22: - | H22: =IF(OR(H17=" ",H27=" "),"",H17-H27) -> -0.25323293 | I22: - | J22: =IF(OR(J17=" ",J27=" "),"",J17-J27) -> -1.0576603 | K22: - | L22: =IF(OR(L17=" ",L27=" "),"",L17-L27) -> 4.5679877 | M22: - | N22: =IF(OR(N17=" ",N27=" "),"",N17-N27) -> -1.0183972 | O22: - | P22: =IF(OR(P17=" ",P27=" "),"",P17-P27) -> 2.4428571 | Q22: - | R22: =IF(OR(R17=" ",R27=" "),"",R17-R27) -> 12.074035 | S22: - | T22: =IF(OR(T17=" ",T27=" "),"",T17-T27) -> 4.173592 | U22: - | V22: =V17-V27 -> 2.1624298
B23: ４～９の都道府県 | C23: - | D23: =IF(OR(D18=" ",D28=" "),"",D18-D28) -> -0.56843795 | E23: - | F23: =IF(OR(F18=" ",F28=" "),"",F18-F28) -> 2.6964989 | G23: - | H23: =IF(OR(H18=" ",H28=" "),"",H18-H28) -> 1.8768157 | I23: - | J23: =IF(OR(J18=" ",J28=" "),"",J18-J28) -> 1.4325073 | K23: - | L23: =IF(OR(L18=" ",L28=" "),"",L18-L28) -> 0.83326839 | M23: - | N23: =IF(OR(N18=" ",N28=" "),"",N18-N28) -> 2.3499689 | O23: - | P23: =IF(OR(P18=" ",P28=" "),"",P18-P28) -> -4.577308 | Q23: - | R23: =IF(OR(R18=" ",R28=" "),"",R18-R28) -> -4.3980593 | S23: - | T23: =IF(OR(T18=" ",T28=" "),"",T18-T28) -> -4.0287962 | U23: - | V23: =V18-V28 -> 1.6264865
B24: １０以上の都道府県 | C24: - | D24: =IF(OR(D19=" ",D29=" "),"",D19-D29) -> 0 | E24: - | F24: =IF(OR(F19=" ",F29=" "),"",F19-F29) -> -0.22579942 | G24: - | H24: =IF(OR(H19=" ",H29=" "),"",H19-H29) -> -0.6769979 | I24: - | J24: =IF(OR(J19=" ",J29=" "),"",J19-J29) -> -0.56508276 | K24: - | L24: =IF(OR(L19=" ",L29=" "),"",L19-L29) -> -0.32064914 | M24: - | N24: =IF(OR(N19=" ",N29=" "),"",N19-N29) -> -1.7867209 | O24: - | P24: =IF(OR(P19=" ",P29=" "),"",P19-P29) -> 2.5576311 | Q24: - | R24: =IF(OR(R19=" ",R29=" "),"",R19-R29) -> 7.8749447 | S24: - | T24: =IF(OR(T19=" ",T29=" "),"",T19-T29) -> -2.3315649 | U24: - | V24: =V19-V29 -> -0.37169756
C25: - | D25: - | E25: - | F25: - | G25: - | H25: - | I25: - | J25: - | K25: - | L25: - | M25: - | N25: - | O25: - | P25: - | Q25: - | R25: - | S25: - | T25: - | U25: - | V25: -
A26: H26年度 | B26: １つの都道府県 | C26: 26080.515 | D26: 92.42152 | E26: 33599.336 | F26: 79.23559 | G26: 19714.58 | H26: 79.112546 | I26: 45068.72 | J26: 71.074008 | K26: 8367.0067 | L26: 75.721542 | M26: 2350.8668 | N26: 61.451323 | O26: 216.90686 | P26: 35.688106 | Q26: 39.666284 | R26: 28.01621 | S26: 9.2863222 | T26: 5.1667223 | U26: 135446.88 | V26: 77.505194
B27: ２～３の都道府県 | C27: 1789.6533 | D27: 6.3419943 | E27: 7261.4465 | F27: 17.124297 | G27: 4279.6206 | H27: 17.173669 | I27: 12922.995 | J27: 20.379746 | K27: 1699.5804 | L27: 15.381229 | M27: 814.77951 | N27: 21.29822 | O27: 157.12177 | P27: 25.851549 | Q27: 19.041954 | R27: 13.449291 | S27: 13.091996 | T27: 7.2841224 | U27: 28957.331 | V27: 16.569917
B28: ４～９の都道府県 | C28: 348.92514 | D28: 1.236486 | E28: 1398.9256 | F28: 3.2990145 | G28: 640.07284 | H28: 2.5685453 | I28: 4157.7681 | J28: 6.556859 | K28: 787.95084 | L28: 7.1309674 | M28: 450.9666 | N28: 11.788203 | O28: 159.83827 | P28: 26.298499 | Q28: 40.785249 | R28: 28.806533 | S28: 32.957194 | T28: 18.336717 | U28: 8018.1899 | V28: 4.5881555
B29: １０以上の都道府県 | C29: 0 | D29: 0 | E29: 144.64078 | F29: 0.34109894 | G29: 285.38988 | H29: 1.1452397 | I29: 1261.49 | J29: 1.9893875 | K29: 195.16669 | L29: 1.7662616 | M29: 208.96266 | N29: 5.4622542 | O29: 73.917849 | P29: 12.161847 | Q29: 42.089847 | R29: 29.727967 | S29: 124.39782 | T29: 69.212438 | U29: 2336.0555 | V29: 1.3367338
C30: 28219.093 | D30: 100 | E30: 42404.349 | F30: 100 | G30: 24919.664 | H30: 100 | I30: 63410.973 | J30: 100 | K30: 11049.705 | L30: 100 | M30: 3825.5756 | N30: 100 | O30: 607.78475 | P30: 100 | Q30: 141.58333 | R30: 100 | S30: 179.73333 | T30: 100 | U30: 174758.46 | V30: 100
A31: 増減 | B31: １つの都道府県 | C31: - | D31: =IF(OR(D26=" ",D36=" "),"",D26-D36) -> 7.2215197 | E31: - | F31: =IF(OR(F26=" ",F36=" "),"",F26-F36) -> 1.2355897 | G31: - | H31: =IF(OR(H26=" ",H36=" "),"",H26-H36) -> 2.312546 | I31: - | J31: =IF(OR(J26=" ",J36=" "),"",J26-J36) -> 2.4740078 | K31: - | L31: =IF(OR(L26=" ",L36=" "),"",L26-L36) -> 3.4215418 | M31: - | N31: =IF(OR(N26=" ",N36=" "),"",N26-N36) -> 7.7513228 | O31: - | P31: =IF(OR(P26=" ",P36=" "),"",P26-P36) -> 7.8881055 | Q31: - | R31: =IF(OR(R26=" ",R36=" "),"",R26-R36) -> 19.91621 | S31: - | T31: =IF(OR(T26=" ",T36=" "),"",T26-T36) -> 4.7667223 | U31: - | V31: =V26-V36 -> 3.1051941
B32: ２～３の都道府県 | C32: - | D32: =IF(OR(D27=" ",D37=" "),"",D27-D37) -> -7.3580057 | E32: - | F32: =IF(OR(F27=" ",F37=" "),"",F27-F37) -> -0.17570321 | G32: - | H32: =IF(OR(H27=" ",H37=" "),"",H27-H37) -> -1.526331 | I32: - | J32: =IF(OR(J27=" ",J37=" "),"",J27-J37) -> -0.5202543 | K32: - | L32: =IF(OR(L27=" ",L37=" "),"",L27-L37) -> -1.9187708 | M32: - | N32: =IF(OR(N27=" ",N37=" "),"",N27-N37) -> -1.7017797 | O32: - | P32: =IF(OR(P27=" ",P37=" "),"",P27-P37) -> -7.5484512 | Q32: - | R32: =IF(OR(R27=" ",R37=" "),"",R27-R37) -> 1.7492907 | S32: - | T32: =IF(OR(T27=" ",T37=" "),"",T27-T37) -> 2.2841224 | U32: - | V32: =V27-V37 -> -1.8300834
B33: ４～９の都道府県 | C33: - | D33: =IF(OR(D28=" ",D38=" "),"",D28-D38) -> 0.33648602 | E33: - | F33: =IF(OR(F28=" ",F38=" "),"",F28-F38) -> -1.1009855 | G33: - | H33: =IF(OR(H28=" ",H38=" "),"",H28-H38) -> -1.5314547 | I33: - | J33: =IF(OR(J28=" ",J38=" "),"",J28-J38) -> -1.443141 | K33: - | L33: =IF(OR(L28=" ",L38=" "),"",L28-L38) -> -0.86903256 | M33: - | N33: =IF(OR(N28=" ",N38=" "),"",N28-N38) -> -6.8117972 | O33: - | P33: =IF(OR(P28=" ",P38=" "),"",P28-P38) -> 1.598499 | Q33: - | R33: =IF(OR(R28=" ",R38=" "),"",R28-R38) -> -6.0934674 | S33: - | T33: =IF(OR(T28=" ",T38=" "),"",T28-T38) -> -1.4632825 | U33: - | V33: =V28-V38 -> -1.2118445
B34: １０以上の都道府県 | C34: - | D34: =IF(OR(D29=" ",D39=" "),"",D29-D39) -> -0.2 | E34: - | F34: =IF(OR(F29=" ",F39=" "),"",F29-F39) -> 0.14109894 | G34: - | H34: =IF(OR(H29=" ",H39=" "),"",H29-H39) -> 0.84523969 | I34: - | J34: =IF(OR(J29=" ",J39=" "),"",J29-J39) -> -0.41061255 | K34: - | L34: =IF(OR(L29=" ",L39=" "),"",L29-L39) -> -0.6337384 | M34: - | N34: =IF(OR(N29=" ",N39=" "),"",N29-N39) -> 0.76225416 | O34: - | P34: =IF(OR(P29=" ",P39=" "),"",P29-P39) -> -1.8381533 | Q34: - | R34: =IF(OR(R29=" ",R39=" "),"",R29-R39) -> -15.472033 | S34: - | T34: =IF(OR(T29=" ",T39=" "),"",T29-T39) -> -5.5875621 | U34: - | V34: =V29-V39 -> -0.063266158
C35: - | D35: - | E35: - | F35: - | G35: - | H35: - | I35: - | J35: - | K35: - | L35: - | M35: - | N35: - | O35: - | P35: - | Q35: - | R35: - | S35: - | T35: - | U35: - | V35: -
A36: H23年度 | B36: １つの都道府県 | C36: 23884.92 | D36: 85.2 | E36: 31751.23 | F36: 78 | G36: 17235.8 | H36: 76.8 | I36: 41881.7 | J36: 68.6 | K36: 7704.61 | L36: 72.3 | M36: 1956.22 | N36: 53.7 | O36: 166.96 | P36: 27.8 | Q36: 12.59 | R36: 8.1 | S36: 0.67 | T36: 0.4 | U36: 124594.68 | V36: 74.4
B37: ２～３の都道府県 | C37: 3830.19 | D37: 13.7 | E37: 7057.52 | F37: 17.3 | G37: 4187.58 | H37: 18.7 | I37: 12782.61 | J37: 20.9 | K37: 1846.24 | L37: 17.3 | M37: 839.73 | N37: 23 | O37: 200.53 | P37: 33.4 | Q37: 18.17 | R37: 11.7 | S37: 9.3 | T37: 5 | U37: 30771.87 | V37: 18.4
B38: ４～９の都道府県 | C38: 255.9 | D38: 0.9 | E38: 1787.8 | F38: 4.4 | G38: 930.37 | H38: 4.1 | I38: 4895.46 | J38: 8 | K38: 851.89 | L38: 8 | M38: 676.77 | N38: 18.6 | O38: 148.18 | P38: 24.7 | Q38: 54.2 | R38: 34.9 | S38: 36.54 | T38: 19.8 | U38: 9637.12 | V38: 5.8
B39: １０以上の都道府県 | C39: 51.6 | D39: 0.2 | E39: 98.3 | F39: 0.2 | G39: 78.36 | H39: 0.3 | I39: 1475.15 | J39: 2.4 | K39: 254.61 | L39: 2.4 | M39: 170.65 | N39: 4.7 | O39: 83.92 | P39: 14 | Q39: 70.14 | R39: 45.2 | S39: 137.95 | T39: 74.8 | U39: 2420.68 | V39: 1.4
C40: 28022.61 | D40: 100 | E40: 40694.85 | F40: 100 | G40: 22432.11 | H40: 100 | I40: 61034.91 | J40: 100 | K40: 10657.35 | L40: 100 | M40: 3643.37 | N40: 100 | O40: 599.59 | P40: 100 | Q40: 155.1 | R40: 100 | S40: 184.45 | T40: 100 | U40: 167424.34 | V40: 100
A41: 増減 | B41: １つの都道府県 | C41: - | D41: =IF(OR(D36=" ",D46=" "),"",D36-D46) -> -2 | E41: - | F41: =IF(OR(F36=" ",F46=" "),"",F36-F46) -> 4.7 | G41: - | H41: =IF(OR(H36=" ",H46=" "),"",H36-H46) -> 1 | I41: - | J41: =IF(OR(J36=" ",J46=" "),"",J36-J46) -> 0.6 | K41: - | L41: =IF(OR(L36=" ",L46=" "),"",L36-L46) -> -3.4 | M41: - | N41: =IF(OR(N36=" ",N46=" "),"",N36-N46) -> -3.8 | O41: - | P41: =IF(OR(P36=" ",P46=" "),"",P36-P46) -> 1 | Q41: - | R41: =IF(OR(R36=" ",R46=" "),"",R36-R46) -> -9.3 | S41: - | T41: =IF(OR(T36=" ",T46=" "),"",T36-T46) | U41: - | V41: =V36-V46 -> 0.8
...

Sheet 2-4-3
A1: 表2－4－3 営業地域（下請比率、次数別集計）
W3: （単位：社、％）
C4: 資本金 | D4: 個 人 | F4: 法 人 | V4: 合 計
A5: 下請比率 | B5: 次数 | C5: 営業地域 | F5: 500万円未満 | H5: 500万円以上 1000万円未満 | J5: 1000万円以上 3000万円未満 | L5: 3000万円以上 5000万円未満 | N5: 5000万円以上 1億円未満 | P5: 1億円以上 3億円未満 | R5: 3億円以上 10億円未満 | T5: 10億円以上
A6: ０％ | C6: １つの都道府県 | D6: 5126.5195 | E6: 93.103448 | F6: 8305.5488 | G6: 90.697674 | H6: 6097.4118 | I6: 89.361702 | J6: 7199.1668 | K6: 81.097561 | L6: 1428.3892 | M6: 77.952756 | N6: 509.72752 | O6: 67.708333 | P6: 99.814961 | Q6: 55.102041 | R6: 4.6896552 | S6: 28.571429 | T6: 0 | U6: 0 | V6: 28771.268 | W6: 86.760925
C7: ２～３の都道府県 | D7: 379.74219 | E7: 6.8965517 | F7: 851.85116 | G7: 9.3023256 | H7: 580.70588 | I7: 8.5106383 | J7: 1190.8396 | K7: 13.414634 | L7: 302.99166 | M7: 16.535433 | N7: 117.62943 | O7: 15.625 | P7: 48.059055 | Q7: 26.530612 | R7: 4.6896552 | S7: 28.571429 | T7: 0 | U7: 0 | V7: 3476.5086 | W7: 10.483553
C8: ４～９の都道府県 | D8: 0 | E8: 0 | F8: 0 | G8: 0 | H8: 145.17647 | I8: 2.1276596 | J8: 433.03259 | K8: 4.8780488 | L8: 72.140871 | M8: 3.9370079 | N8: 62.735695 | O8: 8.3333333 | P8: 29.574803 | Q8: 16.326531 | R8: 4.6896552 | S8: 28.571429 | T8: 5.8644068 | U8: 40 | V8: 753.21449 | W8: 2.2713488
C9: １０以上の都道府県 | D9: 0 | E9: 0 | F9: 0 | G9: 0 | H9: 0 | I9: 0 | J9: 54.129073 | K9: 0.6097561 | L9: 28.856348 | M9: 1.5748031 | N9: 62.735695 | O9: 8.3333333 | P9: 3.6968504 | Q9: 2.0408163 | R9: 2.3448276 | S9: 14.285714 | T9: 8.7966102 | U9: 60 | V9: 160.5594 | W9: 0.48417339
C10: 小 計 | D10: 5506.2617 | E10: 100 | F10: 9157.4 | G10: 100 | H10: 6823.2941 | I10: 100 | J10: 8877.1681 | K10: 100 | L10: 1832.3781 | M10: 100 | N10: 752.82834 | O10: 100 | P10: 181.14567 | Q10: 100 | R10: 16.413793 | S10: 100 | T10: 14.661017 | U10: 100 | V10: 33161.551 | W10: 100
A11: ０％超 | C11: １つの都道府県 | D11: 7974.5859 | E11: 97.674419 | F11: 10648.14 | G11: 85.470085 | H11: 8565.4118 | I11: 88.721805 | J11: 18024.981 | K11: 79.665072 | L11: 3693.6126 | M11: 77.108434 | N11: 1356.6594 | O11: 63.837638 | P11: 147.87402 | Q11: 34.188034 | R11: 7.0344828 | S11: 8.5714286 | T11: 0 | U11: 0 | V11: 50418.299 | W11: 83.408756
A12: ５０％未満 | C12: ２～３の都道府県 | D12: 189.87109 | E12: 2.3255814 | F12: 1703.7023 | G12: 13.675214 | H12: 871.05882 | I12: 9.0225564 | J12: 3410.1316 | K12: 15.07177 | L12: 721.40871 | M12: 15.060241 | N12: 415.62398 | O12: 19.557196 | P12: 121.99606 | Q12: 28.205128 | R12: 14.068966 | S12: 17.142857 | T12: 0 | U12: 0 | V12: 7447.8616 | W12: 12.321258
C13: ４～９の都道府県 | D13: 0 | E13: 0 | F13: 106.4814 | G13: 0.85470085 | H13: 145.17647 | I13: 1.5037594 | J13: 974.32332 | K13: 4.3062201 | L13: 302.99166 | M13: 6.3253012 | N13: 243.10082 | O13: 11.439114 | P13: 99.814961 | Q13: 23.076923 | R13: 32.827586 | S13: 40 | T13: 26.389831 | U13: 23.076923 | V13: 1931.106 | W13: 3.1946963
C14: １０以上の都道府県 | D14: 0 | E14: 0 | F14: 0 | G14: 0 | H14: 72.588235 | I14: 0.7518797 | J14: 216.51629 | K14: 0.9569378 | L14: 72.140871 | M14: 1.5060241 | N14: 109.78747 | O14: 5.1660517 | P14: 62.846457 | Q14: 14.529915 | R14: 28.137931 | S14: 34.285714 | T14: 87.966102 | U14: 76.923077 | V14: 649.98336 | W14: 1.0752902
C15: 小 計 | D15: 8164.457 | E15: 100 | F15: 12458.323 | G15: 100 | H15: 9654.2353 | I15: 100 | J15: 22625.953 | K15: 100 | L15: 4790.1538 | M15: 100 | N15: 2125.1717 | O15: 100 | P15: 432.5315 | Q15: 100 | R15: 82.068966 | S15: 100 | T15: 114.35593 | U15: 100 | V15: 60447.25 | W15: 100
A16: ５０％以上 | B16: 一次下請 | C16: １つの都道府県 | D16: 20695.949 | E16: 85.826772 | F16: 32050.9 | G16: 73.058252 | H16: 20905.412 | I16: 74.03599 | J16: 22788.34 | K16: 57.278912 | L16: 3029.9166 | M16: 42.084168 | N16: 768.51226 | O16: 32.996633 | P16: 55.452756 | Q16: 18.292683 | R16: 4.6896552 | S16: 12.5 | T16: 0 | U16: 0 | V16: 100299.17 | W16: 68.736188
A17: １００％以下 | C17: ２～３の都道府県 | D17: 3037.9375 | E17: 12.598425 | F17: 9370.3628 | G17: 21.359223 | H17: 6097.4118 | I17: 21.59383 | J17: 11637.751 | K17: 29.251701 | L17: 2597.0714 | M17: 36.072144 | N17: 854.77384 | O17: 36.700337 | P17: 73.937008 | Q17: 24.390244 | R17: 4.6896552 | S17: 12.5 | T17: 8.7966102 | U17: 20 | V17: 33682.731 | W17: 23.083167
C18: ４～９の都道府県 | D18: 379.74219 | E18: 1.5748031 | F18: 2129.6279 | G18: 4.8543689 | H18: 1016.2353 | I18: 3.5989717 | J18: 4438.584 | K18: 11.156463 | L18: 1240.823 | M18: 17.234469 | N18: 501.88556 | O18: 21.548822 | P18: 96.11811 | Q18: 31.707317 | R18: 14.068966 | S18: 37.5 | T18: 11.728814 | U18: 26.666667 | V18: 9828.8138 | W18: 6.7358003
C19: １０以上の都道府県 | D19: 0 | E19: 0 | F19: 319.44419 | G19: 0.72815534 | H19: 217.76471 | I19: 0.77120823 | J19: 920.19425 | K19: 2.3129252 | L19: 331.84801 | M19: 4.6092184 | N19: 203.89101 | O19: 8.7542088 | P19: 77.633858 | Q19: 25.609756 | R19: 14.068966 | S19: 37.5 | T19: 23.457627 | U19: 53.333333 | V19: 2108.3026 | W19: 1.4448443
C20: 小 計 | D20: 24113.629 | E20: 100 | F20: 43870.335 | G20: 100 | H20: 28236.824 | I20: 100 | J20: 39784.869 | K20: 100 | L20: 7199.6589 | M20: 100 | N20: 2329.0627 | O20: 100 | P20: 303.14173 | Q20: 100 | R20: 37.517241 | S20: 100 | T20: 43.983051 | U20: 100 | V20: 145919.02 | W20: 100
B21: 二次下請 | C21: １つの都道府県 | D21: 6075.875 | E21: 78.04878 | F21: 11819.435 | G21: 57.216495 | H21: 6097.4118 | I21: 54.193548 | J21: 5521.1655 | K21: 45.535714 | L21: 562.6988 | M21: 34.821429 | N21: 148.99728 | O21: 30.645161 | P21: 3.6968504 | Q21: 16.666667 | R21: 0 | T21: 0 | V21: 30229.28 | W21: 56.039786
C22: ２～３の都道府県 | D22: 1329.0977 | E22: 17.073171 | F22: 7027.7721 | G22: 34.020619 | H22: 3339.0588 | I22: 29.677419 | J22: 3789.0351 | K22: 31.25 | L22: 476.12975 | M22: 29.464286 | N22: 101.9455 | O22: 20.967742 | P22: 7.3937008 | Q22: 33.333333 | R22: 0 | T22: 0 | V22: 16070.433 | W22: 29.791765
C23: ４～９の都道府県 | D23: 379.74219 | E23: 4.8780488 | F23: 1597.2209 | G23: 7.7319588 | H23: 1669.5294 | I23: 14.83871 | J23: 2219.292 | K23: 18.303571 | L23: 403.98888 | M23: 25 | N23: 180.36512 | O23: 37.096774 | P23: 11.090551 | Q23: 50 | R23: 0 | T23: 0 | V23: 6461.2291 | W23: 11.977986
C24: １０以上の都道府県 | D24: 0 | E24: 0 | F24: 212.96279 | G24: 1.0309278 | H24: 145.17647 | I24: 1.2903226 | J24: 595.41981 | K24: 4.9107143 | L24: 173.13809 | M24: 10.714286 | N24: 54.893733 | O24: 11.290323 | P24: 0 | Q24: 0 | R24: 0 | T24: 0 | V24: 1181.5909 | W24: 2.1904624
C25: 小 計 | D25: 7784.7148 | E25: 100 | F25: 20657.391 | G25: 100 | H25: 11251.176 | I25: 100 | J25: 12124.912 | K25: 100 | L25: 1615.9555 | M25: 100 | N25: 486.20163 | O25: 100 | P25: 22.181102 | Q25: 100 | R25: 0 | T25: 0 | V25: 53942.533 | W25: 100
B26: 三次以下下請 | C26: １つの都道府県 | D26: 2088.582 | E26: 68.75 | F26: 2129.6279 | G26: 39.215686 | H26: 1016.2353 | I26: 50 | J26: 378.90351 | K26: 29.166667 | L26: 43.284523 | M26: 33.333333 | N26: 0 | O26: 0 | P26: 0 | R26: 0 | T26: 0 | V26: 5656.6333 | W26: 47.167515
C27: ２～３の都道府県 | D27: 949.35547 | E27: 31.25 | F27: 2236.1093 | G27: 41.176471 | H27: 871.05882 | I27: 42.857143 | J27: 703.67796 | K27: 54.166667 | L27: 57.712697 | M27: 44.444444 | N27: 31.367847 | O27: 50 | P27: 0 | R27: 0 | T27: 0 | V27: 4849.2821 | W27: 40.435463
C28: ４～９の都道府県 | D28: 0 | E28: 0 | F28: 851.85116 | G28: 15.686275 | H28: 145.17647 | I28: 7.1428571 | J28: 216.51629 | K28: 16.666667 | L28: 14.428174 | M28: 11.111111 | N28: 15.683924 | O28: 25 | P28: 0 | R28: 0 | T28: 0 | V28: 1243.656 | W28: 10.370155
C29: １０以上の都道府県 | D29: 0 | E29: 0 | F29: 212.96279 | G29: 3.9215686 | H29: 0 | I29: 0 | J29: 0 | K29: 0 | L29: 14.428174 | M29: 11.111111 | N29: 15.683924 | O29: 25 | P29: 0 | R29: 0 | T29: 0 | V29: 243.07489 | W29: 2.0268662
C30: 小 計 | D30: 3037.9375 | E30: 100 | F30: 5430.5512 | G30: 100 | H30: 2032.4706 | I30: 100 | J30: 1299.0978 | K30: 100 | L30: 129.85357 | M30: 100 | N30: 62.735695 | O30: 100 | P30: 0 | R30: 0 | T30: 0 | V30: 11992.646 | W30: 100
B31: 小 計 | C31: １つの都道府県 | D31: 28860.406 | E31: 82.608696 | F31: 45999.963 | G31: 65.753425 | H31: 28019.059 | I31: 67.482517 | J31: 28688.409 | K31: 53.916582 | L31: 3635.8999 | M31: 40.645161 | N31: 917.50954 | O31: 31.880109 | P31: 59.149606 | Q31: 18.181818 | R31: 4.6896552 | S31: 12.5 | T31: 0 | U31: 0 | V31: 136185.09 | W31: 64.282458
C32: ２～３の都道府県 | D32: 5316.3906 | E32: 15.217391 | F32: 18634.244 | G32: 26.636225 | H32: 10307.529 | I32: 24.825175 | J32: 16130.464 | K32: 30.315361 | L32: 3130.9138 | M32: 35 | N32: 988.08719 | O32: 34.332425 | P32: 81.330709 | Q32: 25 | R32: 4.6896552 | S32: 12.5 | T32: 8.7966102 | U32: 20 | V32: 54602.446 | W32: 25.773596
C33: ４～９の都道府県 | D33: 759.48438 | E33: 2.173913 | F33: 4578.7 | G33: 6.5449011 | H33: 2830.9412 | I33: 6.8181818 | J33: 6874.3923 | K33: 12.919634 | L33: 1659.24 | M33: 18.548387 | N33: 697.9346 | O33: 24.250681 | P33: 107.20866 | Q33: 32.954545 | R33: 14.068966 | S33: 37.5 | T33: 11.728814 | U33: 26.666667 | V33: 17533.699 | W33: 8.2763047
C34: １０以上の都道府県 | D34: 0 | E34: 0 | F34: 745.36977 | G34: 1.065449 | H34: 362.94118 | I34: 0.87412587 | J34: 1515.6141 | K34: 2.8484232 | L34: 519.41427 | M34: 5.8064516 | N34: 274.46866 | O34: 9.5367847 | P34: 77.633858 | Q34: 23.863636 | R34: 14.068966 | S34: 37.5 | T34: 23.457627 | U34: 53.333333 | V34: 3532.9684 | W34: 1.6676414
C35: 小 計 | D35: 34936.281 | E35: 100 | F35: 69958.277 | G35: 100 | H35: 41520.471 | I35: 100 | J35: 53208.879 | K35: 100 | L35: 8945.468 | M35: 100 | N35: 2878 | O35: 100 | P35: 325.32283 | Q35: 100 | R35: 37.517241 | S35: 100 | T35: 43.983051 | U35: 100 | V35: 211854.2 | W35: 100
A36: 合 計 | C36: １つの都道府県 | D36: 41961.512 | E36: 86.328125 | F36: 64953.651 | G36: 70.930233 | H36: 42681.882 | I36: 73.59199 | J36: 53912.557 | K36: 63.642173 | L36: 8757.9018 | M36: 56.255792 | N36: 2783.8965 | O36: 48.365123 | P36: 306.83858 | Q36: 32.677165 | R36: 16.413793 | S36: 12.068966 | T36: 0 | U36: 0 | V36: 215374.65 | W36: 73.966152
C37: ２～３の都道府県 | D37: 5886.0039 | E37: 12.109375 | F37: 21189.798 | G37: 23.139535 | H37: 11759.294 | I37: 20.275344 | J37: 20731.435 | K37: 24.472843 | L37: 4155.3142 | M37: 26.691381 | N37: 1521.3406 | O37: 26.430518 | P37: 251.38583 | Q37: 26.771654 | R37: 23.448276 | S37: 17.241379 | T37: 8.7966102 | U37: 5.0847458 | V37: 65526.816 | W37: 18.679025
C38: ４～９の都道府県 | D38: 759.48438 | E38: 1.5625 | F38: 4685.1814 | G38: 5.1162791 | H38: 3121.2941 | I38: 5.3817272 | J38: 8281.7482 | K38: 9.7763578 | L38: 2034.3726 | M38: 13.067655 | N38: 1003.7711 | O38: 17.438692 | P38: 236.59843 | Q38: 25.19685 | R38: 51.586207 | S38: 37.931034 | T38: 43.983051 | U38: 25.423729 | V38: 20218.019 | W38: 6.3385544
C39: １０以上の都道府県 | D39: 0 | E39: 0 | F39: 745.36977 | G39: 0.81395349 | H39: 435.52941 | I39: 0.75093867 | J39: 1786.2594 | K39: 2.1086262 | L39: 620.41149 | M39: 3.9851715 | N39: 446.99183 | O39: 7.7656676 | P39: 144.17717 | Q39: 15.354331 | R39: 44.551724 | S39: 32.758621 | T39: 120.22034 | U39: 69.491525 | V39: 4343.5112 | W39: 1.0162692
D40: 48607 | E40: 100 | F40: 91574 | G40: 100 | H40: 57998 | I40: 100 | J40: 84712 | K40: 100 | L40: 15568 | M40: 100 | N40: 5756 | O40: 100 | P40: 939 | Q40: 100 | R40: 136 | S40: 100 | T40: 173 | U40: 100 | V40: 305463 | W40: 100
P41: （注） | Q41: 1. ( )の数値は各合計を100とした場合の構成比
