Workbook
Name ______________________ＴＢＬ１: [1]CSS編集画面!$B$10:$F$22
Name ______________________ＴＢＬ２: [1]CSS編集画面!$B$24:$I$35
Name _____________________ＴＢＬ１: [1]CSS編集画面!$B$10:$F$22
Name _____________________ＴＢＬ２: [1]CSS編集画面!$B$24:$I$35
Name ____________________ＴＢＬ１: [1]CSS編集画面!$B$10:$F$22
Name ____________________ＴＢＬ２: [1]CSS編集画面!$B$24:$I$35
Name ___________________ＴＢＬ１: [1]CSS編集画面!$B$10:$F$22
Name ___________________ＴＢＬ２: [1]CSS編集画面!$B$24:$I$35
Name __________________ＴＢＬ１: [1]CSS編集画面!$B$10:$F$22
Name __________________ＴＢＬ２: [1]CSS編集画面!$B$24:$I$35
Name _________________ＴＢＬ１: [1]CSS編集画面!$B$10:$F$22
Name _________________ＴＢＬ２: [1]CSS編集画面!$B$24:$I$35
Name ________________ＴＢＬ１: [1]CSS編集画面!$B$10:$F$22
Name ________________ＴＢＬ２: [1]CSS編集画面!$B$24:$I$35
Name _______________ＴＢＬ１: [1]CSS編集画面!$B$10:$F$22
Name _______________ＴＢＬ２: [1]CSS編集画面!$B$24:$I$35
Name ______________ＴＢＬ１: [1]CSS編集画面!$B$10:$F$22
Name ______________ＴＢＬ２: [1]CSS編集画面!$B$24:$I$35
Name _____________ＴＢＬ１: [1]CSS編集画面!$B$10:$F$22
Name _____________ＴＢＬ２: [1]CSS編集画面!$B$24:$I$35
Name ____________ＴＢＬ１: [1]CSS編集画面!$B$10:$F$22
Name ____________ＴＢＬ２: [1]CSS編集画面!$B$24:$I$35
Name ___________ＴＢＬ１: [1]CSS編集画面!$B$10:$F$22
Name ___________ＴＢＬ２: [1]CSS編集画面!$B$24:$I$35
Name __________ＴＢＬ１: [1]CSS編集画面!$B$10:$F$22
Name __________ＴＢＬ２: [1]CSS編集画面!$B$24:$I$35
Name _________ＴＢＬ１: [1]CSS編集画面!$B$10:$F$22
Name _________ＴＢＬ２: [1]CSS編集画面!$B$24:$I$35
Name ________ＴＢＬ１: [1]CSS編集画面!$B$10:$F$22
Name ________ＴＢＬ２: [1]CSS編集画面!$B$24:$I$35
Name _______ＴＢＬ１: [1]CSS編集画面!$B$10:$F$22
Name _______ＴＢＬ２: [1]CSS編集画面!$B$24:$I$35
Name ______ＴＢＬ１: [1]CSS編集画面!$B$10:$F$22
Name ______ＴＢＬ２: [1]CSS編集画面!$B$24:$I$35
Name _____ＴＢＬ１: [1]CSS編集画面!$B$10:$F$22
Name _____ＴＢＬ２: [1]CSS編集画面!$B$24:$I$35
Name ____ＴＢＬ１: [1]CSS編集画面!$B$10:$F$22
Name ____ＴＢＬ２: [1]CSS編集画面!$B$24:$I$35
Name ___ＴＢＬ１: [1]CSS編集画面!$B$10:$F$22
Name ___ＴＢＬ２: [1]CSS編集画面!$B$24:$I$35
Name __ＴＢＬ１: [1]CSS編集画面!$B$10:$F$22
Name __ＴＢＬ２: [1]CSS編集画面!$B$24:$I$35
Name _ＴＢＬ１: [1]CSS編集画面!$B$10:$F$22
Name _ＴＢＬ２: [1]CSS編集画面!$B$24:$I$35
Name PAGE1: #REF!
Name PAGE10: #REF!
Name PAGE100: #REF!
Name PAGE1000: #REF!
Name PAGE1001: #REF!
Name PAGE1002: #REF!
Name PAGE1003: #REF!
Name PAGE1004: #REF!
Name PAGE1005: #REF!
Name PAGE1006: #REF!
Name PAGE1007: #REF!
Name PAGE1008: #REF!
Name PAGE1009: #REF!
Name PAGE101: #REF!
Name PAGE1010: #REF!
Name PAGE1011: #REF!

Sheet 2-4-1
A1: 表2－4－1 営業地域
W3: （単位：社、％）
C4: 資本金 | D4: 個 人 | F4: 法 人 | V4: 合 計
A5: 業種 | C5: 営業地域 | F5: 500万円未満 | H5: 500万円以上 1000万円未満 | J5: 1000万円以上 3000万円未満 | L5: 3000万円以上 5000万円未満 | N5: 5000万円以上 1億円未満 | P5: 1億円以上 3億円未満 | R5: 3億円以上 10億円未満 | T5: 10億円以上
A6: 一般土木建築 | B6: 一般土木 建築工事業 | C6: １つの都道府県 | D6: 297 | E6: 75 | F6: 616 | G6: 80 | H6: 947 | I6: 100 | J6: 2299.92 | K6: 84 | L6: 1404.6053 | M6: 92.105263 | N6: 702.03636 | O6: 89.090909 | P6: 98.857143 | Q6: 57.142857 | R6: 4.3333333 | S6: 16.666667 | T6: 0 | U6: 0 | V6: 6369.7521 | W6: 85.903602
C7: ２～３の都道府県 | D7: 99 | E7: 25 | F7: 154 | G7: 20 | H7: 0 | I7: 0 | J7: 328.56 | K7: 12 | L7: 120.39474 | M7: 7.8947368 | N7: 57.309091 | O7: 7.2727273 | P7: 53.547619 | Q7: 30.952381 | R7: 4.3333333 | S7: 16.666667 | T7: 0 | U7: 0 | V7: 817.14478 | W7: 11.020159
C8: ４～９の都道府県 | D8: 0 | E8: 0 | F8: 0 | G8: 0 | H8: 0 | I8: 0 | J8: 109.52 | K8: 4 | L8: 0 | M8: 0 | N8: 14.327273 | O8: 1.8181818 | P8: 16.47619 | Q8: 9.5238095 | R8: 8.6666667 | S8: 33.333333 | T8: 10.4 | U8: 20 | V8: 159.39013 | W8: 2.1495635
C9: １０以上の都道府県 | D9: 0 | E9: 0 | F9: 0 | G9: 0 | H9: 0 | I9: 0 | J9: 0 | K9: 0 | L9: 0 | M9: 0 | N9: 14.327273 | O9: 1.8181818 | P9: 4.1190476 | Q9: 2.3809524 | R9: 8.6666667 | S9: 33.333333 | T9: 41.6 | U9: 80 | V9: 68.712987 | W9: 0.92667548
C10: 小 計 | D10: 396 | E10: 100 | F10: 770 | G10: 100 | H10: 947 | I10: 100 | J10: 2738 | K10: 100 | L10: 1525 | M10: 100 | N10: 788 | O10: 100 | P10: 173 | Q10: 100 | R10: 26 | S10: 100 | T10: 52 | U10: 100 | V10: 7415 | W10: 100
A11: 土木 | B11: 土木工事業 | C11: １つの都道府県 | D11: 1852.5833 | E11: 91.666667 | F11: 5043.1875 | G11: 81.25 | H11: 4713.0508 | I11: 77.966102 | J11: 9654.0526 | K11: 81.578947 | L11: 3278.6341 | M11: 87.804878 | N11: 848.89831 | O11: 76.271186 | P11: 54.71875 | Q11: 53.125 | R11: 3.6 | S11: 20 | T11: 0 | U11: 0 | V11: 25448.726 | W11: 81.841857
C12: ２～３の都道府県 | D12: 168.41667 | E12: 8.3333333 | F12: 905.1875 | G12: 14.583333 | H12: 819.66102 | I12: 13.559322 | J12: 1401.3947 | K12: 11.842105 | L12: 364.29268 | M12: 9.7560976 | N12: 169.77966 | O12: 15.254237 | P12: 12.875 | Q12: 12.5 | R12: 3.6 | S12: 20 | T12: 0 | U12: 0 | V12: 3845.2073 | W12: 12.365999
C13: ４～９の都道府県 | D13: 0 | E13: 0 | F13: 258.625 | G13: 4.1666667 | H13: 409.83051 | I13: 6.779661 | J13: 778.55263 | K13: 6.5789474 | L13: 91.073171 | M13: 2.4390244 | N13: 94.322034 | O13: 8.4745763 | P13: 16.09375 | Q13: 15.625 | R13: 3.6 | S13: 20 | T13: 2.5 | U13: 12.5 | V13: 1654.5971 | W13: 5.3211034
C14: １０以上の都道府県 | D14: 0 | E14: 0 | F14: 0 | G14: 0 | H14: 102.45763 | I14: 1.6949153 | J14: 0 | K14: 0 | L14: 0 | M14: 0 | N14: 0 | O14: 0 | P14: 19.3125 | Q14: 18.75 | R14: 7.2 | S14: 40 | T14: 17.5 | U14: 87.5 | V14: 146.47013 | W14: 0.47104077
C15: 小 計 | D15: 2021 | E15: 100 | F15: 6207 | G15: 100 | H15: 6045 | I15: 100 | J15: 11834 | K15: 100 | L15: 3734 | M15: 100 | N15: 1113 | O15: 100 | P15: 103 | Q15: 100 | R15: 18 | S15: 100 | T15: 20 | U15: 100 | V15: 31095 | W15: 100
B16: ほ装工事業 | C16: １つの都道府県 | D16: 24.166667 | E16: 83.333333 | F16: 672.13793 | G16: 75.862069 | H16: 564.45833 | I16: 79.166667 | J16: 1161.6667 | K16: 83.333333 | L16: 290.80435 | M16: 84.782609 | N16: 86.064516 | O16: 74.193548 | P16: 4 | Q16: 40 | R16: 0 | T16: 0 | U16: 0 | V16: 2803.2985 | W16: 80.162953
C17: ２～３の都道府県 | D17: 4.8333333 | E17: 16.666667 | F17: 183.31034 | G17: 20.689655 | H17: 148.54167 | I17: 20.833333 | J17: 199.14286 | K17: 14.285714 | L17: 44.73913 | M17: 13.043478 | N17: 26.193548 | O17: 22.580645 | P17: 0 | Q17: 0 | R17: 0 | T17: 0 | U17: 0 | V17: 606.76088 | W17: 17.350897
C18: ４～９の都道府県 | D18: 0 | E18: 0 | F18: 30.551724 | G18: 3.4482759 | H18: 0 | I18: 0 | J18: 33.190476 | K18: 2.3809524 | L18: 7.4565217 | M18: 2.173913 | N18: 3.7419355 | O18: 3.2258065 | P18: 2 | Q18: 20 | R18: 0 | T18: 0 | U18: 0 | V18: 76.940658 | W18: 2.2001904
C19: １０以上の都道府県 | D19: 0 | E19: 0 | F19: 0 | G19: 0 | H19: 0 | I19: 0 | J19: 0 | K19: 0 | L19: 0 | M19: 0 | N19: 0 | O19: 0 | P19: 4 | Q19: 40 | R19: 0 | T19: 6 | U19: 100 | V19: 10 | W19: 0.28595939
C20: 小 計 | D20: 29 | E20: 100 | F20: 886 | G20: 100 | H20: 713 | I20: 100 | J20: 1394 | K20: 100 | L20: 343 | M20: 100 | N20: 116 | O20: 100 | P20: 10 | Q20: 100 | R20: 0 | T20: 6 | U20: 100 | V20: 3497 | W20: 100
B21: しゅんせつ 工事業 | C21: １つの都道府県 | D21: 0 | F21: 0 | H21: 0 | I21: 0 | J21: 15.333333 | K21: 33.333333 | L21: 18 | M21: 66.666667 | N21: 0 | O21: 0 | P21: 0 | R21: 0 | T21: 0 | V21: 33.333333 | W21: 22.222222
C22: ２～３の都道府県 | D22: 0 | F22: 0 | H22: 69 | I22: 100 | J22: 0 | K22: 0 | L22: 0 | M22: 0 | N22: 8 | O22: 100 | P22: 0 | R22: 0 | T22: 0 | V22: 77 | W22: 51.333333
C23: ４～９の都道府県 | D23: 0 | F23: 0 | H23: 0 | I23: 0 | J23: 15.333333 | K23: 33.333333 | L23: 9 | M23: 33.333333 | N23: 0 | O23: 0 | P23: 0 | R23: 0 | T23: 0 | V23: 24.333333 | W23: 16.222222
C24: １０以上の都道府県 | D24: 0 | F24: 0 | H24: 0 | I24: 0 | J24: 15.333333 | K24: 33.333333 | L24: 0 | M24: 0 | N24: 0 | O24: 0 | P24: 0 | R24: 0 | T24: 0 | V24: 15.333333 | W24: 10.222222
C25: 小 計 | H25: 69 | I25: 100 | J25: 46 | K25: 100 | L25: 27 | M25: 100 | N25: 8 | O25: 100 | V25: 150 | W25: 100
B26: 造園工事業 | C26: １つの都道府県 | D26: 203 | E26: 50 | F26: 259.6 | G26: 40 | H26: 307.5 | I26: 83.333333 | J26: 617.61702 | K26: 87.234043 | L26: 96.957447 | M26: 65.957447 | N26: 26 | O26: 76.470588 | P26: 0 | R26: 0 | T26: 0 | V26: 1510.6745 | W26: 65.312342
C27: ２～３の都道府県 | D27: 203 | E27: 50 | F27: 259.6 | G27: 40 | H27: 61.5 | I27: 16.666667 | J27: 60.255319 | K27: 8.5106383 | L27: 34.404255 | M27: 23.404255 | N27: 4 | O27: 11.764706 | P27: 0 | R27: 0 | T27: 0 | V27: 622.75957 | W27: 26.924322
C28: ４～９の都道府県 | D28: 0 | E28: 0 | F28: 129.8 | G28: 20 | H28: 0 | I28: 0 | J28: 30.12766 | K28: 4.2553191 | L28: 12.510638 | M28: 8.5106383 | N28: 4 | O28: 11.764706 | P28: 0 | R28: 0 | T28: 0 | V28: 176.4383 | W28: 7.6281149
C29: １０以上の都道府県 | D29: 0 | E29: 0 | F29: 0 | G29: 0 | H29: 0 | I29: 0 | J29: 0 | K29: 0 | L29: 3.1276596 | M29: 2.1276596 | N29: 0 | O29: 0 | P29: 0 | R29: 0 | T29: 0 | V29: 3.1276596 | W29: 0.13522091
C30: 小 計 | D30: 406 | E30: 100 | F30: 649 | G30: 100 | H30: 369 | I30: 100 | J30: 708 | K30: 100 | L30: 147 | M30: 100 | N30: 34 | O30: 100 | V30: 2313 | W30: 100
B31: 水道施設 工事業 | C31: １つの都道府県 | D31: 65 | E31: 100 | F31: 328.30769 | G31: 84.615385 | H31: 380.44444 | I31: 88.888889 | J31: 625.27027 | K31: 94.594595 | L31: 133.3125 | M31: 84.375 | N31: 48 | O31: 100 | P31: 3 | Q31: 100 | R31: 0 | T31: 0 | V31: 1583.3349 | W31: 90.424609
C32: ２～３の都道府県 | D32: 0 | E32: 0 | F32: 59.692308 | G32: 15.384615 | H32: 47.555556 | I32: 11.111111 | J32: 17.864865 | K32: 2.7027027 | L32: 14.8125 | M32: 9.375 | N32: 0 | O32: 0 | P32: 0 | Q32: 0 | R32: 0 | T32: 0 | V32: 139.92523 | W32: 7.9911609
C33: ４～９の都道府県 | D33: 0 | E33: 0 | F33: 0 | G33: 0 | H33: 0 | I33: 0 | J33: 0 | K33: 0 | L33: 4.9375 | M33: 3.125 | N33: 0 | O33: 0 | P33: 0 | Q33: 0 | R33: 0 | T33: 0 | V33: 4.9375 | W33: 0.28198172
C34: １０以上の都道府県 | D34: 0 | E34: 0 | F34: 0 | G34: 0 | H34: 0 | I34: 0 | J34: 17.864865 | K34: 2.7027027 | L34: 4.9375 | M34: 3.125 | N34: 0 | O34: 0 | P34: 0 | Q34: 0 | R34: 0 | T34: 0 | V34: 22.802365 | W34: 1.3022481
C35: 小 計 | D35: 65 | E35: 100 | F35: 388 | G35: 100 | H35: 428 | I35: 100 | J35: 661 | K35: 100 | L35: 158 | M35: 100 | N35: 48 | O35: 100 | P35: 3 | Q35: 100 | V35: 1751 | W35: 100
B36: 小 計 | C36: １つの都道府県 | D36: 2144.75 | E36: 85.075367 | F36: 6303.2331 | G36: 77.530543 | H36: 5965.4536 | I36: 78.245719 | J36: 12073.94 | K36: 82.455371 | L36: 3817.7084 | M36: 86.588987 | N36: 1008.9628 | O36: 76.494528 | P36: 61.71875 | Q36: 53.205819 | R36: 3.6 | S36: 20 | T36: 0 | U36: 0 | V36: 31379.367 | W36: 80.862152
C37: ２～３の都道府県 | D37: 376.25 | E37: 14.924633 | F37: 1407.7902 | G37: 17.315992 | H37: 1146.2582 | I37: 15.034867 | J37: 1678.6578 | K37: 11.463892 | L37: 458.24857 | M37: 10.393481 | N37: 207.97321 | O37: 15.767491 | P37: 12.875 | Q37: 11.099138 | R37: 3.6 | S37: 20 | T37: 0 | U37: 0 | V37: 5291.6529 | W37: 13.636172
C38: ４～９の都道府県 | D38: 0 | E38: 0 | F38: 418.97672 | G38: 5.1534652 | H38: 409.83051 | I38: 5.3755313 | J38: 857.2041 | K38: 5.8540197 | L38: 124.97783 | M38: 2.8346072 | N38: 102.06397 | O38: 7.737981 | P38: 18.09375 | Q38: 15.59806 | R38: 3.6 | S38: 20 | T38: 2.5 | U38: 9.6153846 | V38: 1937.2469 | W38: 4.9921324
C39: １０以上の都道府県 | D39: 0 | E39: 0 | F39: 0 | G39: 0 | H39: 102.45763 | I39: 1.3438828 | J39: 33.198198 | K39: 0.22671719 | L39: 8.0651596 | M39: 0.18292492 | N39: 0 | O39: 0 | P39: 23.3125 | Q39: 20.096983 | R39: 7.2 | S39: 40 | T39: 23.5 | U39: 90.384615 | V39: 197.73348 | W39: 0.50954359
C40: 小 計 | D40: 2521 | E40: 100 | F40: 8130 | G40: 100 | H40: 7624 | I40: 100 | J40: 14643 | K40: 100 | L40: 4409 | M40: 100 | N40: 1319 | O40: 100 | P40: 116 | Q40: 100 | R40: 18 | S40: 100 | T40: 26 | U40: 100 | V40: 38806 | W40: 100
A41: 建築 | B41: 建築工事業 | C41: １つの都道府県 | D41: 9791 | E41: 100 | F41: 16992.857 | G41: 89.285714 | H41: 10603.444 | I41: 77.777778 | J41: 16665 | K41: 72.368421 | L41: 4169.2308 | M41: 76.923077 | N41: 1272.8793 | O41: 67.241379 | P41: 139.28571 | Q41: 42.857143 | R41: 5.1578947 | S41: 10.526316 | T41: 0 | U41: 0 | V41: 59638.855 | W41: 81.457154
C42: ２～３の都道府県 | D42: 0 | E42: 0 | F42: 2039.1429 | G42: 10.714286 | H42: 3029.5556 | I42: 22.222222 | J42: 3939 | K42: 17.105263 | L42: 917.23077 | M42: 16.923077 | N42: 424.2931 | O42: 22.413793 | P42: 102.14286 | Q42: 31.428571 | R42: 12.894737 | S42: 26.315789 | T42: 0 | U42: 0 | V42: 10464.26 | W42: 14.292508
C43: ４～９の都道府県 | D43: 0 | E43: 0 | F43: 0 | G43: 0 | H43: 0 | I43: 0 | J43: 2424 | K43: 10.526316 | L43: 250.15385 | M43: 4.6153846 | N43: 130.55172 | O43: 6.8965517 | P43: 65 | Q43: 20 | R43: 23.210526 | S43: 47.368421 | T43: 26.4 | U43: 60 | V43: 2919.3161 | W43: 3.9873197
C44: １０以上の都道府県 | D44: 0 | E44: 0 | F44: 0 | G44: 0 | H44: 0 | I44: 0 | J44: 0 | K44: 0 | L44: 83.384615 | M44: 1.5384615 | N44: 65.275862 | O44: 3.4482759 | P44: 18.571429 | Q44: 5.7142857 | R44: 7.7368421 | S44: 15.789474 | T44: 17.6 | U44: 40 | V44: 192.56875 | W44: 0.26301816
C45: 小 計 | D45: 9791 | E45: 100 | F45: 19032 | G45: 100 | H45: 13633 | I45: 100 | J45: 23028 | K45: 100 | L45: 5420 | M45: 100 | N45: 1893 | O45: 100 | P45: 325 | Q45: 100 | R45: 49 | S45: 100 | T45: 44 | U45: 100 | V45: 73215 | W45: 100
B46: 木造建築 工事業 | C46: １つの都道府県 | D46: 5226 | E46: 100 | F46: 4414.0345 | G46: 93.103448 | H46: 2756.5349 | I46: 95.348837 | J46: 2804.4 | K46: 84.444444 | L46: 240.11765 | M46: 76.470588 | N46: 76.521739 | O46: 69.565217 | P46: 17.916667 | Q46: 41.666667 | R46: 0 | S46: 0 | T46: 0 | U46: 0 | V46: 15535.525 | W46: 93.295252
C47: ２～３の都道府県 | D47: 0 | E47: 0 | F47: 326.96552 | G47: 6.8965517 | H47: 134.46512 | I47: 4.6511628 | J47: 442.8 | K47: 13.333333 | L47: 64.647059 | M47: 20.588235 | N47: 23.913043 | O47: 21.73913 | P47: 14.333333 | Q47: 33.333333 | R47: 0 | S47: 0 | T47: 0 | U47: 0 | V47: 1007.1241 | W47: 6.0480667
C48: ４～９の都道府県 | D48: 0 | E48: 0 | F48: 0 | G48: 0 | H48: 0 | I48: 0 | J48: 73.8 | K48: 2.2222222 | L48: 9.2352941 | M48: 2.9411765 | N48: 9.5652174 | O48: 8.6956522 | P48: 7.1666667 | Q48: 16.666667 | R48: 0 | S48: 0 | T48: 0 | U48: 0 | V48: 99.767178 | W48: 0.5991303
C49: １０以上の都道府県 | D49: 0 | E49: 0 | F49: 0 | G49: 0 | H49: 0 | I49: 0 | J49: 0 | K49: 0 | L49: 0 | M49: 0 | N49: 0 | O49: 0 | P49: 3.5833333 | Q49: 8.3333333 | R49: 2 | S49: 100 | T49: 4 | U49: 100 | V49: 9.5833333 | W49: 0.057550645
C50: 小 計 | D50: 5226 | E50: 100 | F50: 4741 | G50: 100 | H50: 2891 | I50: 100 | J50: 3321 | K50: 100 | L50: 314 | M50: 100 | N50: 110 | O50: 100 | P50: 43 | Q50: 100 | R50: 2 | S50: 100 | T50: 4 | U50: 100 | V50: 16652 | W50: 100
A51: 建築 | B51: 小 計 | C51: １つの都道府県 | D51: 15017 | E51: 100 | F51: 21406.892 | G51: 90.047077 | H51: 13359.979 | I51: 80.851969 | J51: 19469.4 | K51: 73.89047 | L51: 4409.3484 | M51: 76.898298 | N51: 1349.401 | O51: 67.368999 | P51: 157.20238 | Q51: 42.718038 | R51: 5.1578947 | S51: 10.113519 | T51: 0 | U51: 0 | V51: 75174.381 | W51: 83.650707
C52: ２～３の都道府県 | D52: 0 | E52: 0 | F52: 2366.1084 | G52: 9.952923 | H52: 3164.0207 | I52: 19.148031 | J52: 4381.8 | K52: 16.629853 | L52: 981.87783 | M52: 17.123785 | N52: 448.20615 | O52: 22.376742 | P52: 116.47619 | Q52: 31.651139 | R52: 12.894737 | S52: 25.283798 | T52: 0 | U52: 0 | V52: 11471.384 | W52: 12.764846
C53: ４～９の都道府県 | D53: 0 | E53: 0 | F53: 0 | G53: 0 | H53: 0 | I53: 0 | J53: 2497.8 | K53: 9.4796766 | L53: 259.38914 | M53: 4.5237032 | N53: 140.11694 | O53: 6.995354 | P53: 72.166667 | Q53: 19.610507 | R53: 23.210526 | S53: 45.510836 | T53: 26.4 | U53: 55 | V53: 3019.0833 | W53: 3.3595016
C54: １０以上の都道府県 | D54: 0 | E54: 0 | F54: 0 | G54: 0 | H54: 0 | I54: 0 | J54: 0 | K54: 0 | L54: 83.384615 | M54: 1.4542137 | N54: 65.275862 | O54: 3.2589047 | P54: 22.154762 | Q54: 6.0203157 | R54: 9.7368421 | S54: 19.091847 | T54: 21.6 | U54: 45 | V54: 202.15208 | W54: 0.22494584
C55: 小 計 | D55: 15017 | E55: 100 | F55: 23773 | G55: 100 | H55: 16524 | I55: 100 | J55: 26349 | K55: 100 | L55: 5734 | M55: 100 | N55: 2003 | O55: 100 | P55: 368 | Q55: 100 | R55: 51 | S55: 100 | T55: 48 | U55: 100 | V55: 89867 | W55: 100
A56: 職別 | B56: 大工工事業 | C56: １つの都道府県 | D56: 1970.8 | E56: 86.666667 | F56: 2125.2195 | G56: 92.682927 | H56: 1261.5238 | I56: 88.095238 | J56: 984.55319 | K56: 72.340426 | L56: 48.16 | M56: 56 | N56: 7.875 | O56: 18.75 | P56: 3.3333333 | Q56: 66.666667 | R56: 0 | T56: 0 | V56: 6401.4648 | W56: 85.432602
C57: ２～３の都道府県 | D57: 303.2 | E57: 13.333333 | F57: 167.78049 | G57: 7.3170732 | H57: 170.47619 | I57: 11.904762 | J57: 376.44681 | K57: 27.659574 | L57: 30.96 | M57: 36 | N57: 26.25 | O57: 62.5 | P57: 1.6666667 | Q57: 33.333333 | R57: 0 | T57: 0 | V57: 1076.7802 | W57: 14.370481
C58: ４～９の都道府県 | D58: 0 | E58: 0 | F58: 0 | G58: 0 | H58: 0 | I58: 0 | J58: 0 | K58: 0 | L58: 6.88 | M58: 8 | N58: 7.875 | O58: 18.75 | P58: 0 | Q58: 0 | R58: 0 | T58: 0 | V58: 14.755 | W58: 0.19691712
C59: １０以上の都道府県 | D59: 0 | E59: 0 | F59: 0 | G59: 0 | H59: 0 | I59: 0 | J59: 0 | K59: 0 | L59: 0 | M59: 0 | N59: 0 | O59: 0 | P59: 0 | Q59: 0 | R59: 0 | T59: 0 | V59: 0 | W59: 0
C60: 小 計 | D60: 2274 | E60: 100 | F60: 2293 | G60: 100 | H60: 1432 | I60: 100 | J60: 1361 | K60: 100 | L60: 86 | M60: 100 | N60: 42 | O60: 100 | P60: 5 | Q60: 100 | R60: 0 | T60: 0 | V60: 7493 | W60: 100
B61: とび・土工・ コンクリート 工事業 | C61: １つの都道府県 | D61: 1224.3846 | E61: 84.615385 | F61: 5202 | G61: 66.666667 | H61: 2770.4651 | I61: 63.953488 | J61: 2311.416 | K61: 64.8 | L61: 195.23077 | M61: 59.340659 | N61: 38.451613 | O61: 25.806452 | P61: 6.1111111 | Q61: 18.518519 | R61: 0 | S61: 0 | T61: 0 | U61: 0 | V61: 11748.059 | W61: 66.512253
C62: ２～３の都道府県 | D62: 222.61538 | E62: 15.384615 | F62: 2080.8 | G62: 26.666667 | H62: 1259.3023 | I62: 29.069767 | J62: 770.472 | K62: 21.6 | L62: 83.153846 | M62: 25.274725 | N62: 31.241935 | O62: 20.967742 | P62: 7.3333333 | Q62: 22.222222 | R62: 0 | S62: 0 | T62: 0 | U62: 0 | V62: 4454.9188 | W62: 25.221756
C63: ４～９の都道府県 | D63: 0 | E63: 0 | F63: 433.5 | G63: 5.5555556 | H63: 251.86047 | I63: 5.8139535 | J63: 428.04 | K63: 12 | L63: 36.153846 | M63: 10.989011 | N63: 55.274194 | O63: 37.096774 | P63: 12.222222 | Q63: 37.037037 | R63: 2 | S63: 100 | T63: 0 | U63: 0 | V63: 1219.0507 | W63: 6.9017196
C64: １０以上の都道府県 | D64: 0 | E64: 0 | F64: 86.7 | G64: 1.1111111 | H64: 50.372093 | I64: 1.1627907 | J64: 57.072 | K64: 1.6 | L64: 14.461538 | M64: 4.3956044 | N64: 24.032258 | O64: 16.129032 | P64: 7.3333333 | Q64: 22.222222 | R64: 0 | S64: 0 | T64: 1 | U64: 100 | V64: 240.97122 | W64: 1.3642712
C65: 小 計 | D65: 1447 | E65: 100 | F65: 7803 | G65: 100 | H65: 4332 | I65: 100 | J65: 3567 | K65: 100 | L65: 329 | M65: 100 | N65: 149 | O65: 100 | P65: 33 | Q65: 100 | R65: 2 | S65: 100 | T65: 1 | U65: 100 | V65: 17663 | W65: 100
B66: 鋼構造物 工事業 | C66: １つの都道府県 | D66: 189.875 | E66: 87.5 | F66: 1062.6429 | G66: 67.857143 | H66: 474.17857 | I66: 60.714286 | J66: 625 | K66: 33.333333 | L66: 58.604651 | M66: 34.883721 | N66: 14.525 | O66: 17.5 | P66: 2.25 | Q66: 25 | R66: 0 | S66: 0 | T66: 0 | U66: 0 | V66: 2427.0761 | W66: 51.56312
C67: ２～３の都道府県 | D67: 27.125 | E67: 12.5 | F67: 447.42857 | G67: 28.571429 | H67: 251.03571 | I67: 32.142857 | J67: 723.68421 | K67: 38.596491 | L67: 66.418605 | M67: 39.534884 | N67: 26.975 | O67: 32.5 | P67: 2.25 | Q67: 25 | R67: 0 | S67: 0 | T67: 0 | U67: 0 | V67: 1544.9171 | W67: 32.821693
C68: ４～９の都道府県 | D68: 0 | E68: 0 | F68: 0 | G68: 0 | H68: 55.785714 | I68: 7.1428571 | J68: 394.73684 | K68: 21.052632 | L68: 39.069767 | M68: 23.255814 | N68: 24.9 | O68: 30 | P68: 2.25 | Q68: 25 | R68: 0 | S68: 0 | T68: 1 | U68: 33.333333 | V68: 517.74232 | W68: 10.999412
C69: １０以上の都道府県 | D69: 0 | E69: 0 | F69: 55.928571 | G69: 3.5714286 | H69: 0 | I69: 0 | J69: 131.57895 | K69: 7.0175439 | L69: 3.9069767 | M69: 2.3255814 | N69: 16.6 | O69: 20 | P69: 2.25 | Q69: 25 | R69: 5 | S69: 100 | T69: 2 | U69: 66.666667 | V69: 217.2645 | W69: 4.6157743
C70: 小 計 | D70: 217 | E70: 100 | F70: 1566 | G70: 100 | H70: 781 | I70: 100 | J70: 1875 | K70: 100 | L70: 168 | M70: 100 | N70: 83 | O70: 100 | P70: 9 | Q70: 100 | R70: 5 | S70: 100 | T70: 3 | U70: 100 | V70: 4707 | W70: 100
B71: 鉄筋工事業 | C71: １つの都道府県 | D71: 876.8 | E71: 40 | F71: 767.96774 | G71: 61.290323 | H71: 621.45833 | I71: 79.166667 | J71: 524.08889 | K71: 71.111111 | L71: 23.5 | M71: 50 | N71: 13.2 | O71: 60 | P71: 0 | R71: 0 | T71: 0 | V71: 2827.015 | W71: 56.136119
C72: ２～３の都道府県 | D72: 876.8 | E72: 40 | F72: 404.19355 | G72: 32.258065 | H72: 163.54167 | I72: 20.833333 | J72: 163.77778 | K72: 22.222222 | L72: 13.428571 | M72: 28.571429 | N72: 4.4 | O72: 20 | P72: 0 | R72: 0 | T72: 0 | V72: 1626.1416 | W72: 32.290341
C73: ４～９の都道府県 | D73: 438.4 | E73: 20 | F73: 80.83871 | G73: 6.4516129 | H73: 0 | I73: 0 | J73: 49.133333 | K73: 6.6666667 | L73: 10.071429 | M73: 21.428571 | N73: 4.4 | O73: 20 | P73: 0 | R73: 0 | T73: 0 | V73: 582.84347 | W73: 11.57354
C74: １０以上の都道府県 | D74: 0 | E74: 0 | F74: 0 | G74: 0 | H74: 0 | I74: 0 | J74: 0 | K74: 0 | L74: 0 | M74: 0 | N74: 0 | O74: 0 | P74: 0 | R74: 0 | T74: 0 | V74: 0 | W74: 0
C75: 小 計 | D75: 2192 | E75: 100 | F75: 1253 | G75: 100 | H75: 785 | I75: 100 | J75: 737 | K75: 100 | L75: 47 | M75: 100 | N75: 22 | O75: 100 | P75: 0 | R75: 0 | T75: 0 | V75: 5036 | W75: 100
B76: 解体工事業 | C76: １つの都道府県 | D76: 0 | E76: 0 | F76: 1063.5714 | G76: 71.428571 | H76: 672.54545 | I76: 81.818182 | J76: 504.65625 | K76: 65.625 | L76: 72.96 | M76: 48 | N76: 7.4 | O76: 20 | P76: 7 | Q76: 100 | R76: 0 | T76: 0 | V76: 2328.1331 | W76: 63.889493
C77: ２～３の都道府県 | D77: 368 | E77: 100 | F77: 425.42857 | G77: 28.571429 | H77: 74.727273 | I77: 9.0909091 | J77: 192.25 | K77: 25 | L77: 48.64 | M77: 32 | N77: 22.2 | O77: 60 | P77: 0 | Q77: 0 | R77: 0 | T77: 0 | V77: 1131.2458 | W77: 31.044068
C78: ４～９の都道府県 | D78: 0 | E78: 0 | F78: 0 | G78: 0 | H78: 74.727273 | I78: 9.0909091 | J78: 72.09375 | K78: 9.375 | L78: 24.32 | M78: 16 | N78: 7.4 | O78: 20 | P78: 0 | Q78: 0 | R78: 0 | T78: 0 | V78: 178.54102 | W78: 4.899589
C79: １０以上の都道府県 | D79: 0 | E79: 0 | F79: 0 | G79: 0 | H79: 0 | I79: 0 | J79: 0 | K79: 0 | L79: 6.08 | M79: 4 | N79: 0 | O79: 0 | P79: 0 | Q79: 0 | R79: 0 | T79: 0 | V79: 6.08 | W79: 0.16684962
C80: 小 計 | D80: 368 | E80: 100 | F80: 1489 | G80: 100 | H80: 822 | I80: 100 | J80: 769 | K80: 100 | L80: 152 | M80: 100 | N80: 37 | O80: 100 | P80: 7 | Q80: 100 | R80: 0 | T80: 0 | V80: 3644 | W80: 100
B81: 躯体関係計 | C81: １つの都道府県 | D81: 4261.8596 | E81: 65.587252 | F81: 10221.402 | G81: 70.962243 | H81: 5800.1713 | I81: 71.150286 | J81: 4949.7143 | K81: 59.570518 | L81: 398.45542 | M81: 50.953379 | N81: 81.451613 | O81: 24.459944 | P81: 18.694444 | Q81: 34.619342 | R81: 0 | S81: 0 | T81: 0 | U81: 0 | V81: 25731.748 | W81: 66.761145
C82: ２～３の都道府県 | D82: 1797.7404 | E82: 27.666057 | F82: 3525.6312 | G82: 24.476751 | H82: 1919.0832 | I82: 23.541256 | J82: 2226.6308 | K82: 26.797819 | L82: 242.60102 | M82: 31.023149 | N82: 111.06694 | O82: 33.353434 | P82: 11.25 | Q82: 20.833333 | R82: 0 | S82: 0 | T82: 0 | U82: 0 | V82: 9834.0035 | W82: 25.51437
C83: ４～９の都道府県 | D83: 438.4 | E83: 6.7466913 | F83: 514.33871 | G83: 3.5708047 | H83: 382.37345 | I83: 4.6905477 | J83: 944.00393 | K83: 11.361222 | L83: 116.49504 | M83: 14.897064 | N83: 99.849194 | O83: 29.984743 | P83: 14.472222 | Q83: 26.800412 | R83: 2 | S83: 28.571429 | T83: 1 | U83: 25 | V83: 2512.9325 | W83: 6.5198156
C84: １０以上の都道府県 | D84: 0 | E84: 0 | F84: 142.62857 | G84: 0.99020113 | H84: 50.372093 | I84: 0.61791086 | J84: 188.65095 | K84: 2.2704411 | L84: 24.448515 | M84: 3.1264086 | N84: 40.632258 | O84: 12.201879 | P84: 9.5833333 | Q84: 17.746914 | R84: 5 | S84: 71.428571 | T84: 3 | U84: 75 | V84: 464.31572 | W84: 1.2046694
C85: 小 計 | D85: 6498 | E85: 100 | F85: 14404 | G85: 100 | H85: 8152 | I85: 100 | J85: 8309 | K85: 100 | L85: 782 | M85: 100 | N85: 333 | O85: 100 | P85: 54 | Q85: 100 | R85: 7 | S85: 100 | T85: 4 | U85: 100 | V85: 38543 | W85: 100
B86: 左官工事業 | C86: １つの都道府県 | D86: 995 | E86: 100 | F86: 1150.8 | G86: 84 | H86: 383.72727 | I86: 81.818182 | J86: 300.9 | K86: 56.666667 | L86: 3.8181818 | M86: 18.181818 | N86: 0 | O86: 0 | P86: 0 | R86: 0 | T86: 0 | V86: 2834.2455 | W86: 83.311154
C87: ２～３の都道府県 | D87: 0 | E87: 0 | F87: 164.4 | G87: 12 | H87: 85.272727 | I87: 18.181818 | J87: 141.6 | K87: 26.666667 | L87: 7.6363636 | M87: 36.363636 | N87: 8 | O87: 50 | P87: 0 | R87: 0 | T87: 0 | V87: 406.90909 | W87: 11.960879
C88: ４～９の都道府県 | D88: 0 | E88: 0 | F88: 0 | G88: 0 | H88: 0 | I88: 0 | J88: 88.5 | K88: 16.666667 | L88: 7.6363636 | M88: 36.363636 | N88: 0 | O88: 0 | P88: 0 | R88: 0 | T88: 0 | V88: 96.136364 | W88: 2.8258778
C89: １０以上の都道府県 | D89: 0 | E89: 0 | F89: 54.8 | G89: 4 | H89: 0 | I89: 0 | J89: 0 | K89: 0 | L89: 1.9090909 | M89: 9.0909091 | N89: 8 | O89: 50 | P89: 0 | R89: 0 | T89: 0 | V89: 64.709091 | W89: 1.9020897
C90: 小 計 | D90: 995 | E90: 100 | F90: 1370 | G90: 100 | H90: 469 | I90: 100 | J90: 531 | K90: 100 | L90: 21 | M90: 100 | N90: 16 | O90: 100 | P90: 0 | R90: 0 | T90: 0 | V90: 3402 | W90: 100
B91: 石工事業 | C91: １つの都道府県 | D91: 0 | F91: 271.5 | G91: 50 | H91: 144.75 | I91: 75 | J91: 170.05882 | K91: 41.176471 | L91: 6.6 | M91: 20 | N91: 0 | O91: 0 | P91: 0 | R91: 0 | T91: 0 | V91: 592.90882 | W91: 49.491555
C92: ２～３の都道府県 | D92: 0 | F92: 181 | G92: 33.333333 | H92: 48.25 | I92: 25 | J92: 97.176471 | K92: 23.529412 | L92: 19.8 | M92: 60 | N92: 16 | O92: 100 | P92: 0 | R92: 0 | T92: 0 | V92: 362.22647 | W92: 30.235932
C93: ４～９の都道府県 | D93: 0 | F93: 90.5 | G93: 16.666667 | H93: 0 | I93: 0 | J93: 97.176471 | K93: 23.529412 | L93: 6.6 | M93: 20 | N93: 0 | O93: 0 | P93: 0 | R93: 0 | T93: 0 | V93: 194.27647 | W93: 16.216734
C94: １０以上の都道府県 | D94: 0 | F94: 0 | G94: 0 | H94: 0 | I94: 0 | J94: 48.588235 | K94: 11.764706 | L94: 0 | M94: 0 | N94: 0 | O94: 0 | P94: 0 | R94: 0 | T94: 0 | V94: 48.588235 | W94: 4.0557792
C95: 小 計 | D95: 0 | F95: 543 | G95: 100 | H95: 193 | I95: 100 | J95: 413 | K95: 100 | L95: 33 | M95: 100 | N95: 16 | O95: 100 | P95: 0 | R95: 0 | T95: 0 | V95: 1198 | W95: 100
B96: 屋根工事業 | C96: １つの都道府県 | D96: 682.66667 | E96: 88.888889 | F96: 1107.8125 | G96: 78.125 | H96: 770.43478 | I96: 86.956522 | J96: 512.69565 | K96: 63.768116 | L96: 42.24 | M96: 48 | N96: 4.8571429 | O96: 28.571429 | P96: 0 | R96: 0 | T96: 0 | V96: 3120.7067 | W96: 78.390021
C97: ２～３の都道府県 | D97: 85.333333 | E97: 11.111111 | F97: 310.1875 | G97: 21.875 | H97: 77.043478 | I97: 8.6956522 | J97: 221.3913 | K97: 27.536232 | L97: 21.12 | M97: 24 | N97: 7.2857143 | O97: 42.857143 | P97: 0 | R97: 0 | T97: 0 | V97: 722.36133 | W97: 18.145223
C98: ４～９の都道府県 | D98: 0 | E98: 0 | F98: 0 | G98: 0 | H98: 38.521739 | I98: 4.3478261 | J98: 69.913043 | K98: 8.6956522 | L98: 21.12 | M98: 24 | N98: 4.8571429 | O98: 28.571429 | P98: 0 | R98: 0 | T98: 0 | V98: 134.41193 | W98: 3.3763357
C99: １０以上の都道府県 | D99: 0 | E99: 0 | F99: 0 | G99: 0 | H99: 0 | I99: 0 | J99: 0 | K99: 0 | L99: 3.52 | M99: 4 | N99: 0 | O99: 0 | P99: 0 | R99: 0 | T99: 0 | V99: 3.52 | W99: 0.088419995
C100: 小 計 | D100: 768 | E100: 100 | F100: 1418 | G100: 100 | H100: 886 | I100: 100 | J100: 804 | K100: 100 | L100: 88 | M100: 100 | N100: 17 | O100: 100 | P100: 0 | R100: 0 | T100: 0 | V100: 3981 | W100: 100
A101: 職別 | B101: ﾀｲﾙ・れんが・ﾌﾞﾛｯｸ工事業 | C101: １つの都道府県 | D101: 38 | E101: 100 | F101: 435.27273 | G101: 54.545455 | H101: 124.44444 | I101: 44.444444 | J101: 238.54545 | K101: 36.363636 | L101: 2.1578947 | M101: 5.2631579 | N101: 3.125 | O101: 12.5 | P101: 0 | Q101: 0 | R101: 0 | T101: 0 | V101: 841.54552 | W101: 45.73617
...

Sheet 2-4-2
A1: 表2－4－2 営業地域（経年変化）
V3: （単位：社、％）
B4: 資本金 | C4: 個 人 | E4: 法 人 | U4: 合 計
A5: 年度 | B5: 営業地域 | E5: 500万円未満 | G5: 500万円以上 1000万円未満 | I5: 1000万円以上 3000万円未満 | K5: 3000万円以上 5000万円未満 | M5: 5000万円以上 1億円未満 | O5: 1億円以上 3億円未満 | Q5: 3億円以上 10億円未満 | S5: 10億円以上
A6: R06年度 | B6: １つの都道府県 | C6: ='2-4-1'!D186 -> 42507.847 | D6: ='2-4-1'!E186 -> 87.45211 | E6: ='2-4-1'!F186 -> 68705.656 | F6: ='2-4-1'!G186 -> 75.02747 | G6: ='2-4-1'!H186 -> 43859.157 | H6: ='2-4-1'!I186 -> 75.621843 | I6: ='2-4-1'!J186 -> 59015.358 | J6: ='2-4-1'!K186 -> 69.665878 | ... V6: ='2-4-1'!W186 -> 75.188187
B7: ２～３の都道府県 | C7: ='2-4-1'!D187 -> 5635.3595 | D7: ='2-4-1'!E187 -> 11.59372 | E7: ='2-4-1'!F187 -> 18618.83 | F7: ='2-4-1'!G187 -> 20.332005 | G7: ='2-4-1'!H187 -> 11241.567 | H7: ='2-4-1'!I187 -> 19.38268 | I7: ='2-4-1'!J187 -> 17183.688 | J7: ='2-4-1'!K187 -> 20.284834 | ... V7: ='2-4-1'!W187 -> 18.659289
B8: ４～９の都道府県 | C8: ='2-4-1'!D188 -> 463.79353 | D8: ='2-4-1'!E188 -> 0.95417025 | E8: ='2-4-1'!F188 -> 3858.4083 | F8: ='2-4-1'!G188 -> 4.213432 | G8: ='2-4-1'!H188 -> 2471.8585 | H8: ='2-4-1'!I188 -> 4.261972 | I8: ='2-4-1'!J188 -> 7571.0848 | J8: ='2-4-1'!K188 -> 8.9374407 | ... V8: ='2-4-1'!W188 -> 5.3115485
B9: １０以上の都道府県 | C9: ='2-4-1'!D189 -> 0 | D9: ='2-4-1'!E189 -> 0 | E9: ='2-4-1'!F189 -> 391.10589 | F9: ='2-4-1'!G189 -> 0.42709272 | G9: ='2-4-1'!H189 -> 425.41796 | H9: ='2-4-1'!I189 -> 0.73350453 | I9: ='2-4-1'!J189 -> 941.8685 | J9: ='2-4-1'!K189 -> 1.1118478 | ... V9: ='2-4-1'!W189 -> 0.84097555
C10: ='2-4-1'!D190 -> 48607 | D10: ='2-4-1'!E190 -> 100 | E10: ='2-4-1'!F190 -> 91574 | F10: ='2-4-1'!G190 -> 100 | G10: ='2-4-1'!H190 -> 57998 | H10: ='2-4-1'!I190 -> 100 | I10: ='2-4-1'!J190 -> 84712 | J10: ='2-4-1'!K190 -> 100 | ... V10: ='2-4-1'!W190 -> 100
A11: 増減 | B11: １つの都道府県 | C11: - | D11: =IF(OR(D6=" ",D16=" "),"",D6-D16) -> -1.6145329 | E11: - | F11: =IF(OR(F6=" ",F16=" "),"",F6-F16) -> 3.7001273 | G11: - | H11: =IF(OR(H6=" ",H16=" "),"",H6-H16) -> -2.5441181 | I11: - | J11: =IF(OR(J6=" ",J16=" "),"",J6-J16) -> -1.598366 | K11: - | L11: =IF(OR(L6=" ",L16=" "),"",L6-L16) -> 3.6306954 | M11: - | N11: =IF(OR(N6=" ",N16=" "),"",N6-N16) -> 1.3810954 | O11: - | P11: =IF(OR(P6=" ",P16=" "),"",P6-P16) -> 3.1966165 | Q11: - | R11: =IF(OR(R6=" ",R16=" "),"",R6-R16) -> 0.38773753 | S11: - | T11: =IF(OR(T6=" ",T16=" "),"",T6-T16) -> -7.3534913 | U11: - | V11: =IF(OR(V6=" ",V16=" "),"",V6-V16) -> 1.1002116
B12: ２～３の都道府県 | C12: - | D12: =IF(OR(D7=" ",D17=" "),"",D7-D17) -> 1.3284107 | E12: - | F12: =IF(OR(F7=" ",F17=" "),"",F7-F17) -> -2.2298391 | G12: - | H12: =IF(OR(H7=" ",H17=" "),"",H7-H17) -> 2.4622444 | I12: - | J12: =IF(OR(J7=" ",J17=" "),"",J7-J17) -> 0.96274844 | K12: - | L12: =IF(OR(L7=" ",L17=" "),"",L7-L17) -> -2.0160171 | M12: - | N12: =IF(OR(N7=" ",N17=" "),"",N7-N17) -> 1.2207719 | O12: - | P12: =IF(OR(P7=" ",P17=" "),"",P7-P17) -> -0.76007574 | Q12: - | R12: =IF(OR(R7=" ",R17=" "),"",R7-R17) -> -7.3490908 | S12: - | T12: =IF(OR(T7=" ",T17=" "),"",T7-T17) -> -8.5097375 | U12: - | V12: =IF(OR(V7=" ",V17=" "),"",V7-V17) -> -0.07305733
B13: ４～９の都道府県 | C13: - | D13: =IF(OR(D8=" ",D18=" "),"",D8-D18) -> 0.28612218 | E13: - | F13: =IF(OR(F8=" ",F18=" "),"",F8-F18) -> -1.7820814 | G13: - | H13: =IF(OR(H8=" ",H18=" "),"",H8-H18) -> -0.183389 | I13: - | J13: =IF(OR(J8=" ",J18=" "),"",J8-J18) -> 0.94807445 | K13: - | L13: =IF(OR(L8=" ",L18=" "),"",L8-L18) -> -1.9786888 | M13: - | N13: =IF(OR(N8=" ",N18=" "),"",N8-N18) -> -3.439187 | O13: - | P13: =IF(OR(P8=" ",P18=" "),"",P8-P18) -> 0.60121367 | Q13: - | R13: =IF(OR(R8=" ",R18=" "),"",R8-R18) -> 10.84845 | S13: - | T13: =IF(OR(T8=" ",T18=" "),"",T8-T18) -> 17.166067 | U13: - | V13: =IF(OR(V8=" ",V18=" "),"",V8-V18) -> -0.9030935
B14: １０以上の都道府県 | C14: - | D14: =IF(OR(D9=" ",D19=" "),"",D9-D19) -> 0 | E14: - | F14: =IF(OR(F9=" ",F19=" "),"",F9-F19) -> 0.31179319 | G14: - | H14: =IF(OR(H9=" ",H19=" "),"",H9-H19) -> 0.26526273 | I14: - | J14: =IF(OR(J9=" ",J19=" "),"",J9-J19) -> -0.3124569 | K14: - | L14: =IF(OR(L9=" ",L19=" "),"",L9-L19) -> 0.36401048 | M14: - | N14: =IF(OR(N9=" ",N19=" "),"",N9-N19) -> 0.83731977 | O14: - | P14: =IF(OR(P9=" ",P19=" "),"",P9-P19) -> -3.0377545 | Q14: - | R14: =IF(OR(R9=" ",R19=" "),"",R9-R19) -> -3.8870965 | S14: - | T14: =IF(OR(T9=" ",T19=" "),"",T9-T19) -> -1.3028383 | U14: - | V14: =IF(OR(V9=" ",V19=" "),"",V9-V19) -> -0.12406073
C15: - | D15: - | E15: - | F15: - | G15: - | H15: - | I15: - | J15: - | K15: - | L15: - | M15: - | N15: - | O15: - | P15: - | Q15: - | R15: - | S15: - | T15: - | U15: - | V15: -
A16: R01年度 | B16: １つの都道府県 | C16: 16084.931 | D16: 89.066643 | E16: 27182.074 | F16: 71.327343 | G16: 20818.763 | H16: 78.165961 | I16: 38326.495 | J16: 71.264244 | K16: 7290.0556 | L16: 70.640935 | M16: 2313.4553 | N16: 61.906472 | O16: 202.18087 | P16: 35.264925 | Q16: 15.955571 | R16: 12.46529 | S16: 11.912656 | T16: 7.3534913 | U16: 112245.82 | V16: 74.087975
B17: ２～３の都道府県 | C17: 1853.8567 | D17: 10.265309 | E17: 8598.0731 | F17: 22.561844 | G17: 4506.5978 | H17: 16.920436 | I17: 10391.576 | J17: 19.322085 | K17: 2058.7341 | L17: 19.949217 | M17: 757.86041 | N17: 20.279823 | O17: 162.21749 | P17: 28.294406 | Q17: 32.669856 | R17: 25.523325 | S17: 18.561497 | T17: 11.457714 | U17: 28380.147 | V17: 18.732346
B18: ４～９の都道府県 | C18: 120.64569 | D18: 0.66804806 | E18: 2284.8249 | F18: 5.9955134 | G18: 1183.9798 | H18: 4.445361 | I18: 4296.7468 | J18: 7.9893663 | K18: 821.89911 | L18: 7.9642358 | M18: 528.34586 | N18: 14.138172 | O18: 124.53193 | P18: 21.721191 | Q18: 31.242846 | R18: 24.408473 | S18: 23.178832 | T18: 14.307921 | U18: 9415.3957 | V18: 6.214642
B19: １０以上の都道府県 | C19: 0 | D19: 0 | E19: 43.939394 | F19: 0.11529953 | G19: 124.71176 | H19: 0.46824179 | I19: 766.00276 | J19: 1.4243047 | K19: 149.18539 | L19: 1.4456125 | M19: 137.3553 | N19: 3.6755332 | O19: 84.38971 | P19: 14.719478 | Q19: 48.131727 | R19: 37.602912 | S19: 108.34701 | T19: 66.880873 | U19: 1462.063 | V19: 0.96503628
C20: 18059.433 | D20: 100 | E20: 38108.911 | F20: 100 | G20: 26634.052 | H20: 100 | I20: 53780.821 | J20: 100 | K20: 10319.874 | L20: 100 | M20: 3737.0169 | N20: 100 | O20: 573.32 | P20: 100 | Q20: 128 | R20: 100 | S20: 162 | T20: 100 | U20: 151503.43 | V20: 100
A21: 増減 | B21: １つの都道府県 | C21: - | D21: =IF(OR(D16=" ",D26=" "),"",D16-D26) -> -3.3548771 | E21: - | F21: =IF(OR(F16=" ",F26=" "),"",F16-F26) -> -7.9082466 | G21: - | H21: =IF(OR(H16=" ",H26=" "),"",H16-H26) -> -0.94658489 | I21: - | J21: =IF(OR(J16=" ",J26=" "),"",J16-J26) -> 0.1902358 | K21: - | L21: =IF(OR(L16=" ",L26=" "),"",L16-L26) -> -5.080607 | M21: - | N21: =IF(OR(N16=" ",N26=" "),"",N16-N26) -> 0.4551492 | O21: - | P21: =IF(OR(P16=" ",P26=" "),"",P16-P26) -> -0.42318025 | Q21: - | R21: =IF(OR(R16=" ",R26=" "),"",R16-R26) -> -15.55092 | S21: - | T21: =IF(OR(T16=" ",T26=" "),"",T16-T26) -> 2.1867691 | U21: - | V21: =V16-V26 -> -3.4172188
B22: ２～３の都道府県 | C22: - | D22: =IF(OR(D17=" ",D27=" "),"",D17-D27) -> 3.923315 | E22: - | F22: =IF(OR(F17=" ",F27=" "),"",F17-F27) -> 5.4375472 | G22: - | H22: =IF(OR(H17=" ",H27=" "),"",H17-H27) -> -0.25323293 | I22: - | J22: =IF(OR(J17=" ",J27=" "),"",J17-J27) -> -1.0576603 | K22: - | L22: =IF(OR(L17=" ",L27=" "),"",L17-L27) -> 4.5679877 | M22: - | N22: =IF(OR(N17=" ",N27=" "),"",N17-N27) -> -1.0183972 | O22: - | P22: =IF(OR(P17=" ",P27=" "),"",P17-P27) -> 2.4428571 | Q22: - | R22: =IF(OR(R17=" ",R27=" "),"",R17-R27) -> 12.074035 | S22: - | T22: =IF(OR(T17=" ",T27=" "),"",T17-T27) -> 4.173592 | U22: - | V22: =V17-V27 -> 2.1624298
B23: ４～９の都道府県 | C23: - | D23: =IF(OR(D18=" ",D28=" "),"",D18-D28) -> -0.56843795 | E23: - | F23: =IF(OR(F18=" ",F28=" "),"",F18-F28) -> 2.6964989 | G23: - | H23: =IF(OR(H18=" ",H28=" "),"",H18-H28) -> 1.8768157 | I23: - | J23: =IF(OR(J18=" ",J28=" "),"",J18-J28) -> 1.4325073 | K23: - | L23: =IF(OR(L18=" ",L28=" "),"",L18-L28) -> 0.83326839 | M23: - | N23: =IF(OR(N18=" ",N28=" "),"",N18-N28) -> 2.3499689 | O23: - | P23: =IF(OR(P18=" ",P28=" "),"",P18-P28) -> -4.577308 | Q23: - | R23: =IF(OR(R18=" ",R28=" "),"",R18-R28) -> -4.3980593 | S23: - | T23: =IF(OR(T18=" ",T28=" "),"",T18-T28) -> -4.0287962 | U23: - | V23: =V18-V28 -> 1.6264865
B24: １０以上の都道府県 | C24: - | D24: =IF(OR(D19=" ",D29=" "),"",D19-D29) -> 0 | E24: - | F24: =IF(OR(F19=" ",F29=" "),"",F19-F29) -> -0.22579942 | G24: - | H24: =IF(OR(H19=" ",H29=" "),"",H19-H29) -> -0.6769979 | I24: - | J24: =IF(OR(J19=" ",J29=" "),"",J19-J29) -> -0.56508276 | K24: - | L24: =IF(OR(L19=" ",L29=" "),"",L19-L29) -> -0.32064914 | M24: - | N24: =IF(OR(N19=" ",N29=" "),"",N19-N29) -> -1.7867209 | O24: - | P24: =IF(OR(P19=" ",P29=" "),"",P19-P29) -> 2.5576311 | Q24: - | R24: =IF(OR(R19=" ",R29=" "),"",R19-R29) -> 7.8749447 | S24: - | T24: =IF(OR(T19=" ",T29=" "),"",T19-T29) -> -2.3315649 | U24: - | V24: =V19-V29 -> -0.37169756
C25: - | D25: - | E25: - | F25: - | G25: - | H25: - | I25: - | J25: - | K25: - | L25: - | M25: - | N25: - | O25: - | P25: - | Q25: - | R25: - | S25: - | T25: - | U25: - | V25: -
A26: H26年度 | B26: １つの都道府県 | C26: 26080.515 | D26: 92.42152 | E26: 33599.336 | F26: 79.23559 | G26: 19714.58 | H26: 79.112546 | I26: 45068.72 | J26: 71.074008 | K26: 8367.0067 | L26: 75.721542 | M26: 2350.8668 | N26: 61.451323 | O26: 216.90686 | P26: 35.688106 | Q26: 39.666284 | R26: 28.01621 | S26: 9.2863222 | T26: 5.1667223 | U26: 135446.88 | V26: 77.505194
B27: ２～３の都道府県 | C27: 1789.6533 | D27: 6.3419943 | E27: 7261.4465 | F27: 17.124297 | G27: 4279.6206 | H27: 17.173669 | I27: 12922.995 | J27: 20.379746 | K27: 1699.5804 | L27: 15.381229 | M27: 814.77951 | N27: 21.29822 | O27: 157.12177 | P27: 25.851549 | Q27: 19.041954 | R27: 13.449291 | S27: 13.091996 | T27: 7.2841224 | U27: 28957.331 | V27: 16.569917
B28: ４～９の都道府県 | C28: 348.92514 | D28: 1.236486 | E28: 1398.9256 | F28: 3.2990145 | G28: 640.07284 | H28: 2.5685453 | I28: 4157.7681 | J28: 6.556859 | K28: 787.95084 | L28: 7.1309674 | M28: 450.9666 | N28: 11.788203 | O28: 159.83827 | P28: 26.298499 | Q28: 40.785249 | R28: 28.806533 | S28: 32.957194 | T28: 18.336717 | U28: 8018.1899 | V28: 4.5881555
B29: １０以上の都道府県 | C29: 0 | D29: 0 | E29: 144.64078 | F29: 0.34109894 | G29: 285.38988 | H29: 1.1452397 | I29: 1261.49 | J29: 1.9893875 | K29: 195.16669 | L29: 1.7662616 | M29: 208.96266 | N29: 5.4622542 | O29: 73.917849 | P29: 12.161847 | Q29: 42.089847 | R29: 29.727967 | S29: 124.39782 | T29: 69.212438 | U29: 2336.0555 | V29: 1.3367338
C30: 28219.093 | D30: 100 | E30: 42404.349 | F30: 100 | G30: 24919.664 | H30: 100 | I30: 63410.973 | J30: 100 | K30: 11049.705 | L30: 100 | M30: 3825.5756 | N30: 100 | O30: 607.78475 | P30: 100 | Q30: 141.58333 | R30: 100 | S30: 179.73333 | T30: 100 | U30: 174758.46 | V30: 100
A31: 増減 | B31: １つの都道府県 | C31: - | D31: =IF(OR(D26=" ",D36=" "),"",D26-D36) -> 7.2215197 | E31: - | F31: =IF(OR(F26=" ",F36=" "),"",F26-F36) -> 1.2355897 | G31: - | H31: =IF(OR(H26=" ",H36=" "),"",H26-H36) -> 2.312546 | I31: - | J31: =IF(OR(J26=" ",J36=" "),"",J26-J36) -> 2.4740078 | K31: - | L31: =IF(OR(L26=" ",L36=" "),"",L26-L36) -> 3.4215418 | M31: - | N31: =IF(OR(N26=" ",N36=" "),"",N26-N36) -> 7.7513228 | O31: - | P31: =IF(OR(P26=" ",P36=" "),"",P26-P36) -> 7.8881055 | Q31: - | R31: =IF(OR(R26=" ",R36=" "),"",R26-R36) -> 19.91621 | S31: - | T31: =IF(OR(T26=" ",T36=" "),"",T26-T36) -> 4.7667223 | U31: - | V31: =V26-V36 -> 3.1051941
B32: ２～３の都道府県 | C32: - | D32: =IF(OR(D27=" ",D37=" "),"",D27-D37) -> -7.3580057 | E32: - | F32: =IF(OR(F27=" ",F37=" "),"",F27-F37) -> -0.17570321 | G32: - | H32: =IF(OR(H27=" ",H37=" "),"",H27-H37) -> -1.526331 | I32: - | J32: =IF(OR(J27=" ",J37=" "),"",J27-J37) -> -0.5202543 | K32: - | L32: =IF(OR(L27=" ",L37=" "),"",L27-L37) -> -1.9187708 | M32: - | N32: =IF(OR(N27=" ",N37=" "),"",N27-N37) -> -1.7017797 | O32: - | P32: =IF(OR(P27=" ",P37=" "),"",P27-P37) -> -7.5484512 | Q32: - | R32: =IF(OR(R27=" ",R37=" "),"",R27-R37) -> 1.7492907 | S32: - | T32: =IF(OR(T27=" ",T37=" "),"",T27-T37) -> 2.2841224 | U32: - | V32: =V27-V37 -> -1.8300834
B33: ４～９の都道府県 | C33: - | D33: =IF(OR(D28=" ",D38=" "),"",D28-D38) -> 0.33648602 | E33: - | F33: =IF(OR(F28=" ",F38=" "),"",F28-F38) -> -1.1009855 | G33: - | H33: =IF(OR(H28=" ",H38=" "),"",H28-H38) -> -1.5314547 | I33: - | J33: =IF(OR(J28=" ",J38=" "),"",J28-J38) -> -1.443141 | K33: - | L33: =IF(OR(L28=" ",L38=" "),"",L28-L38) -> -0.86903256 | M33: - | N33: =IF(OR(N28=" ",N38=" "),"",N28-N38) -> -6.8117972 | O33: - | P33: =IF(OR(P28=" ",P38=" "),"",P28-P38) -> 1.598499 | Q33: - | R33: =IF(OR(R28=" ",R38=" "),"",R28-R38) -> -6.0934674 | S33: - | T33: =IF(OR(T28=" ",T38=" "),"",T28-T38) -> -1.4632825 | U33: - | V33: =V28-V38 -> -1.2118445
B34: １０以上の都道府県 | C34: - | D34: =IF(OR(D29=" ",D39=" "),"",D29-D39) -> -0.2 | E34: - | F34: =IF(OR(F29=" ",F39=" "),"",F29-F39) -> 0.14109894 | G34: - | H34: =IF(OR(H29=" ",H39=" "),"",H29-H39) -> 0.84523969 | I34: - | J34: =IF(OR(J29=" ",J39=" "),"",J29-J39) -> -0.41061255 | K34: - | L34: =IF(OR(L29=" ",L39=" "),"",L29-L39) -> -0.6337384 | M34: - | N34: =IF(OR(N29=" ",N39=" "),"",N29-N39) -> 0.76225416 | O34: - | P34: =IF(OR(P29=" ",P39=" "),"",P29-P39) -> -1.8381533 | Q34: - | R34: =IF(OR(R29=" ",R39=" "),"",R29-R39) -> -15.472033 | S34: - | T34: =IF(OR(T29=" ",T39=" "),"",T29-T39) -> -5.5875621 | U34: - | V34: =V29-V39 -> -0.063266158
C35: - | D35: - | E35: - | F35: - | G35: - | H35: - | I35: - | J35: - | K35: - | L35: - | M35: - | N35: - | O35: - | P35: - | Q35: - | R35: - | S35: - | T35: - | U35: - | V35: -
A36: H23年度 | B36: １つの都道府県 | C36: 23884.92 | D36: 85.2 | E36: 31751.23 | F36: 78 | G36: 17235.8 | H36: 76.8 | I36: 41881.7 | J36: 68.6 | K36: 7704.61 | L36: 72.3 | M36: 1956.22 | N36: 53.7 | O36: 166.96 | P36: 27.8 | Q36: 12.59 | R36: 8.1 | S36: 0.67 | T36: 0.4 | U36: 124594.68 | V36: 74.4
B37: ２～３の都道府県 | C37: 3830.19 | D37: 13.7 | E37: 7057.52 | F37: 17.3 | G37: 4187.58 | H37: 18.7 | I37: 12782.61 | J37: 20.9 | K37: 1846.24 | L37: 17.3 | M37: 839.73 | N37: 23 | O37: 200.53 | P37: 33.4 | Q37: 18.17 | R37: 11.7 | S37: 9.3 | T37: 5 | U37: 30771.87 | V37: 18.4
B38: ４～９の都道府県 | C38: 255.9 | D38: 0.9 | E38: 1787.8 | F38: 4.4 | G38: 930.37 | H38: 4.1 | I38: 4895.46 | J38: 8 | K38: 851.89 | L38: 8 | M38: 676.77 | N38: 18.6 | O38: 148.18 | P38: 24.7 | Q38: 54.2 | R38: 34.9 | S38: 36.54 | T38: 19.8 | U38: 9637.12 | V38: 5.8
B39: １０以上の都道府県 | C39: 51.6 | D39: 0.2 | E39: 98.3 | F39: 0.2 | G39: 78.36 | H39: 0.3 | I39: 1475.15 | J39: 2.4 | K39: 254.61 | L39: 2.4 | M39: 170.65 | N39: 4.7 | O39: 83.92 | P39: 14 | Q39: 70.14 | R39: 45.2 | S39: 137.95 | T39: 74.8 | U39: 2420.68 | V39: 1.4
C40: 28022.61 | D40: 100 | E40: 40694.85 | F40: 100 | G40: 22432.11 | H40: 100 | I40: 61034.91 | J40: 100 | K40: 10657.35 | L40: 100 | M40: 3643.37 | N40: 100 | O40: 599.59 | P40: 100 | Q40: 155.1 | R40: 100 | S40: 184.45 | T40: 100 | U40: 167424.34 | V40: 100
A41: 増減 | B41: １つの都道府県 | C41: - | D41: =IF(OR(D36=" ",D46=" "),"",D36-D46) -> -2 | E41: - | F41: =IF(OR(F36=" ",F46=" "),"",F36-F46) -> 4.7 | G41: - | H41: =IF(OR(H36=" ",H46=" "),"",H36-H46) -> 1 | I41: - | J41: =IF(OR(J36=" ",J46=" "),"",J36-J46) -> 0.6 | K41: - | L41: =IF(OR(L36=" ",L46=" "),"",L36-L46) -> -3.4 | M41: - | N41: =IF(OR(N36=" ",N46=" "),"",N36-N46) -> -3.8 | O41: - | P41: =IF(OR(P36=" ",P46=" "),"",P36-P46) -> 1 | Q41: - | R41: =IF(OR(R36=" ",R46=" "),"",R36-R46) -> -9.3 | S41: - | T41: =IF(OR(T36=" ",T46=" "),"",T36-T46) | U41: - | V41: =V36-V46 -> 0.8
B42: ２～３の都道府県 | C42: - | D42: =IF(OR(D37=" ",D47=" "),"",D37-D47) -> 1.8 | E42: - | F42: =IF(OR(F37=" ",F47=" "),"",F37-F47) -> -3.3 | G42: - | H42: =IF(OR(H37=" ",H47=" "),"",H37-H47) -> -2.1 | I42: - | J42: =IF(OR(J37=" ",J47=" "),"",J37-J47) -> -0.6 | K42: - | L42: =IF(OR(L37=" ",L47=" "),"",L37-L47) -> 1 | M42: - | N42: =IF(OR(N37=" ",N47=" "),"",N37-N47) -> -2 | O42: - | P42: =IF(OR(P37=" ",P47=" "),"",P37-P47) -> -2.5 | Q42: - | R42: =IF(OR(R37=" ",R47=" "),"",R37-R47) -> -8.2 | S42: - | T42: =IF(OR(T37=" ",T47=" "),"",T37-T47) -> -1.1 | U42: - | V42: =V37-V47 -> -0.9
B43: ４～９の都道府県 | C43: - | D43: =IF(OR(D38=" ",D48=" "),"",D38-D48) -> 0 | E43: - | F43: =IF(OR(F38=" ",F48=" "),"",F38-F48) -> -1.4 | G43: - | H43: =IF(OR(H38=" ",H48=" "),"",H38-H48) -> 1.5 | I43: - | J43: =IF(OR(J38=" ",J48=" "),"",J38-J48) -> -0.4 | K43: - | L43: =IF(OR(L38=" ",L48=" "),"",L38-L48) -> 1.7 | M43: - | N43: =IF(OR(N38=" ",N48=" "),"",N38-N48) -> 6.8 | O43: - | P43: =IF(OR(P38=" ",P48=" "),"",P38-P48) -> 4 | Q43: - | R43: =IF(OR(R38=" ",R48=" "),"",R38-R48) -> 9 | S43: - | T43: =IF(OR(T38=" ",T48=" "),"",T38-T48) -> 5.8 | U43: - | V43: =V38-V48 -> 0
B44: １０以上の都道府県 | C44: - | D44: =IF(OR(D39=" ",D49=" "),"",D39-D49) | E44: - | F44: =IF(OR(F39=" ",F49=" "),"",F39-F49) -> 0 | G44: - | H44: =IF(OR(H39=" ",H49=" "),"",H39-H49) -> -0.6 | I44: - | J44: =IF(OR(J39=" ",J49=" "),"",J39-J49) -> 0.3 | K44: - | L44: =IF(OR(L39=" ",L49=" "),"",L39-L49) -> 0.6 | M44: - | N44: =IF(OR(N39=" ",N49=" "),"",N39-N49) -> -1.1 | O44: - | P44: =IF(OR(P39=" ",P49=" "),"",P39-P49) -> -2.6 | Q44: - | R44: =IF(OR(R39=" ",R49=" "),"",R39-R49) -> 8.5 | S44: - | T44: =IF(OR(T39=" ",T49=" "),"",T39-T49) -> -5 | U44: - | V44: =V39-V49 -> 0
C45: - | D45: - | E45: - | F45: - | G45: - | H45: - | I45: - | J45: - | K45: - | L45: - | M45: - | N45: - | O45: - | P45: - | Q45: - | R45: - | S45: - | T45: - | U45: - | V45: -
A46: H20年度 | B46: １つの都道府県 | C46: 28644.25 | D46: 87.2 | E46: 29561.76 | F46: 73.3 | G46: 16190.68 | H46: 75.8 | I46: 47480.93 | J46: 68 | K46: 9185.36 | L46: 75.7 | M46: 2250.62 | N46: 57.5 | O46: 181.62 | P46: 26.8 | Q46: 31.75 | R46: 17.4 | U46: 133526.98 | V46: 73.6
B47: ２～３の都道府県 | C47: 3913.24 | D47: 11.9 | E47: 8323.22 | F47: 20.6 | G47: 4438.11 | H47: 20.8 | I47: 15014.27 | J47: 21.5 | K47: 1978.66 | L47: 16.3 | M47: 978.47 | N47: 25 | O47: 243.24 | P47: 35.9 | Q47: 36.26 | R47: 19.9 | S47: 12.72 | T47: 6.1 | U47: 34938.19 | V47: 19.3
B48: ４～９の都道府県 | C48: 308.28 | D48: 0.9 | E48: 2342.72 | F48: 5.8 | G48: 545.87 | H48: 2.6 | I48: 5856.37 | J48: 8.4 | K48: 758.61 | L48: 6.3 | M48: 461.18 | N48: 11.8 | O48: 140.04 | P48: 20.7 | Q48: 47.17 | R48: 25.9 | S48: 29.13 | T48: 14 | U48: 10489.38 | V48: 5.8
B49: １０以上の都道府県 | E49: 88.24 | F49: 0.2 | G49: 190.28 | H49: 0.9 | I49: 1441.42 | J49: 2.1 | K49: 214.14 | L49: 1.8 | M49: 226.42 | N49: 5.8 | O49: 112.55 | P49: 16.6 | Q49: 66.92 | R49: 36.7 | S49: 165.66 | T49: 79.8 | U49: 2505.63 | V49: 1.4
C50: 32865.77 | D50: 100 | E50: 40315.94 | F50: 100 | G50: 21364.94 | H50: 100 | I50: 69792.99 | J50: 100 | K50: 12136.77 | L50: 100 | M50: 3916.68 | N50: 100 | O50: 677.46 | P50: 100 | Q50: 182.1 | R50: 100 | S50: 207.51 | T50: 100 | U50: 181460.18 | V50: 100
A51: 増減 | B51: １つの都道府県 | C51: - | D51: =IF(OR(D46=" ",D56=" "),"",D46-D56) -> -2.4 | E51: - | F51: =IF(OR(F46=" ",F56=" "),"",F46-F56) -> -7.9 | G51: - | H51: =IF(OR(H46=" ",H56=" "),"",H46-H56) -> -4.3 | I51: - | J51: =IF(OR(J46=" ",J56=" "),"",J46-J56) -> -3.9 | K51: - | L51: =IF(OR(L46=" ",L56=" "),"",L46-L56) -> -0.2 | M51: - | N51: =IF(OR(N46=" ",N56=" "),"",N46-N56) -> 1.1 | O51: - | P51: =IF(OR(P46=" ",P56=" "),"",P46-P56) -> -7.5 | Q51: - | R51: =IF(OR(R46=" ",R56=" "),"",R46-R56) -> 6.5 | S51: - | T51: =IF(OR(T46=" ",T56=" "),"",T46-T56) | U51: - | V51: =V46-V56 -> -4.6
B52: ２～３の都道府県 | C52: - | D52: =IF(OR(D47=" ",D57=" "),"",D47-D57) -> 2.2 | E52: - | F52: =IF(OR(F47=" ",F57=" "),"",F47-F57) -> 4.5 | G52: - | H52: =IF(OR(H47=" ",H57=" "),"",H47-H57) -> 4.7 | I52: - | J52: =IF(OR(J47=" ",J57=" "),"",J47-J57) -> 1.5 | K52: - | L52: =IF(OR(L47=" ",L57=" "),"",L47-L57) -> -0.2 | M52: - | N52: =IF(OR(N47=" ",N57=" "),"",N47-N57) -> -1 | O52: - | P52: =IF(OR(P47=" ",P57=" "),"",P47-P57) -> 6.9 | Q52: - | R52: =IF(OR(R47=" ",R57=" "),"",R47-R57) -> -2.8 | S52: - | T52: =IF(OR(T47=" ",T57=" "),"",T47-T57) -> -2 | U52: - | V52: =V47-V57 -> 2.8
B53: ４～９の都道府県 | C53: - | D53: =IF(OR(D48=" ",D58=" "),"",D48-D58) -> 0.2 | E53: - | F53: =IF(OR(F48=" ",F58=" "),"",F48-F58) -> 3.7 | G53: - | H53: =IF(OR(H48=" ",H58=" "),"",H48-H58) -> -0.9 | I53: - | J53: =IF(OR(J48=" ",J58=" "),"",J48-J58) -> 2 | K53: - | L53: =IF(OR(L48=" ",L58=" "),"",L48-L58) -> 0.4 | M53: - | N53: =IF(OR(N48=" ",N58=" "),"",N48-N58) -> -0.6 | O53: - | P53: =IF(OR(P48=" ",P58=" "),"",P48-P58) -> -0.1 | Q53: - | R53: =IF(OR(R48=" ",R58=" "),"",R48-R58) -> -2.1 | S53: - | T53: =IF(OR(T48=" ",T58=" "),"",T48-T58) -> -0.9 | U53: - | V53: =V48-V58 -> 1.7
B54: １０以上の都道府県 | C54: - | D54: =IF(OR(D49=" ",D59=" "),"",D49-D59) | E54: - | F54: =IF(OR(F49=" ",F59=" "),"",F49-F59) -> -0.4 | G54: - | H54: =IF(OR(H49=" ",H59=" "),"",H49-H59) -> 0.6 | I54: - | J54: =IF(OR(J49=" ",J59=" "),"",J49-J59) -> 0.4 | K54: - | L54: =IF(OR(L49=" ",L59=" "),"",L49-L59) -> 0.1 | M54: - | N54: =IF(OR(N49=" ",N59=" "),"",N49-N59) -> 0.6 | O54: - | P54: =IF(OR(P49=" ",P59=" "),"",P49-P59) -> 0.8 | Q54: - | R54: =IF(OR(R49=" ",R59=" "),"",R49-R59) -> -1.7 | S54: - | T54: =IF(OR(T49=" ",T59=" "),"",T49-T59) -> 7.1 | U54: - | V54: =V49-V59 -> 0.2
C55: - | D55: - | E55: - | F55: - | G55: - | H55: - | I55: - | J55: - | K55: - | L55: - | M55: - | N55: - | O55: - | P55: - | Q55: - | R55: - | S55: - | T55: - | U55: - | V55: -
A56: H17年度 | B56: １つの都道府県 | C56: 39097 | D56: 89.6 | E56: 39097 | F56: 81.2 | G56: 22014 | H56: 80.1 | I56: 57124 | J56: 71.9 | K56: 10574 | L56: 75.9 | M56: 2411 | N56: 56.4 | O56: 281 | P56: 34.3 | Q56: 23 | R56: 10.9 | S56: 11 | T56: 4.3 | U56: 170632 | V56: 78.2
B57: ２～３の都道府県 | C57: 4231 | D57: 9.7 | E57: 7730 | F57: 16.1 | G57: 4416 | H57: 16.1 | I57: 15873 | J57: 20 | K57: 2305 | L57: 16.5 | M57: 1109 | N57: 26 | O57: 237 | P57: 29 | Q57: 49 | R57: 22.7 | S57: 20 | T57: 8.1 | U57: 35971 | V57: 16.5
B58: ４～９の都道府県 | C58: 290 | D58: 0.7 | E58: 1023 | F58: 2.1 | G58: 957 | H58: 3.5 | I58: 5111 | J58: 6.4 | K58: 825 | L58: 5.9 | M58: 527 | N58: 12.4 | O58: 170 | P58: 20.8 | Q58: 60 | R58: 28 | S58: 37 | T58: 14.9 | U58: 9001 | V58: 4.1
B59: １０以上の都道府県 | C59: 6 | D59: 0 | E59: 270 | F59: 0.6 | G59: 85 | H59: 0.3 | I59: 1349 | J59: 1.7 | K59: 235 | L59: 1.7 | M59: 223 | N59: 5.2 | O59: 130 | P59: 15.8 | Q59: 82 | R59: 38.4 | S59: 180 | T59: 72.7 | U59: 2560 | V59: 1.2
C60: 43624 | D60: 100 | E60: 48121 | F60: 100 | G60: 27472 | H60: 100 | I60: 79456 | J60: 100 | K60: 13939 | L60: 100 | M60: 4271 | N60: 100 | O60: 818 | P60: 100 | Q60: 215 | R60: 100 | S60: 248 | T60: 100 | U60: 218164 | V60: 100
R61: =SUBSTITUTE('2-4-1'!P192,"2．","")
S64: （単位：社、％）
A65: 業種 | B65: 年度 | C65: R06年度 | F65: R01年度 | I65: H26年度 | L65: H23年度 | O65: H20年度 | R65: H17年度
B66: 営業地域 | E66: 増減 | H66: 増減 | K66: 増減 | N66: 増減 | Q66: 増減
A67: 一般土木建築 | B67: １つの都道府県 | C67: ='2-4-1'!V6 -> 6369.7521 | D67: ='2-4-1'!W6 -> 85.903602 | E67: =D67-G67 -> 0.16651066 | F67: 2937.9965 | G67: 85.737092 | H67: =G67-J67 -> -0.98245566 | I67: 3641.5933 | J67: 86.719547 | K67: =J67-M67 -> 7.1195472 | L67: 3415.72 | M67: 79.6 | N67: =M67-P67 -> -3.1 | O67: 4058.25 | P67: 82.7 | Q67: =P67-S67 -> -0.2 | R67: 4837 | S67: 82.9
B68: ２～３の都道府県 | C68: ='2-4-1'!V7 -> 817.14478 | D68: ='2-4-1'!W7 -> 11.020159 | E68: =D68-G68 -> 0.1856275 | F68: 371.27239 | G68: 10.834531 | H68: =G68-J68 -> -0.21399607 | I68: 463.95818 | J68: 11.048527 | K68: =J68-M68 -> -5.1514726 | L68: 695.53 | M68: 16.2 | N68: =M68-P68 -> 4 | O68: 596.59 | P68: 12.2 | Q68: =P68-S68 -> -1.2 | R68: 783 | S68: 13.4
B69: ４～９の都道府県 | C69: ='2-4-1'!V8 -> 159.39013 | D69: ='2-4-1'!W8 -> 2.1495635 | E69: =D69-G69 -> -0.21804656 | F69: 81.132096 | G69: 2.36761 | H69: =G69-J69 -> 1.2482545 | I69: 47.004831 | J69: 1.1193556 | K69: =J69-M69 -> -1.6806444 | L69: 119.06 | M69: 2.8 | N69: =M69-P69 -> -0.7 | O69: 171.69 | P69: 3.5 | Q69: =P69-S69 -> 1.3 | R69: 131 | S69: 2.2
B70: １０以上の都道府県 | C70: ='2-4-1'!V9 -> 68.712987 | D70: ='2-4-1'!W9 -> 0.92667548 | E70: =D70-G70 -> -0.13409161 | F70: 36.349845 | G70: 1.0607671 | H70: =G70-J70 -> -0.051802721 | I70: 46.719879 | J70: 1.1125698 | K70: =J70-M70 -> -0.28743019 | L70: 58.53 | M70: 1.4 | N70: =M70-P70 -> -0.2 | O70: 77.89 | P70: 1.6 | Q70: =P70-S70 -> 0.2 | R70: 82 | S70: 1.4
B71: 小 計 | C71: ='2-4-1'!V10 -> 7415 | D71: ='2-4-1'!W10 -> 100 | E71: - | F71: 3426.7508 | G71: 100 | H71: - | I71: 4199.2762 | J71: 100 | K71: - | L71: 4288.84 | M71: 100 | N71: - | O71: 4904.43 | P71: 100 | Q71: - | R71: 5833 | S71: 100
A72: 土木 | B72: １つの都道府県 | C72: ='2-4-1'!V36 -> 31379.367 | D72: ='2-4-1'!W36 -> 80.862152 | E72: =D72-G72 -> 0.95340076 | F72: 25622.099 | G72: 79.908751 | H72: =G72-J72 -> -5.9426652 | I72: 32192.545 | J72: 85.851416 | K72: =J72-M72 -> 3.0514164 | L72: 30870.48 | M72: 82.8 | N72: =M72-P72 -> -2.6 | O72: 38800.14 | P72: 85.4 | Q72: =P72-S72 -> -2.9 | R72: 49478 | S72: 88.3
B73: ２～３の都道府県 | C73: ='2-4-1'!V37 -> 5291.6529 | D73: ='2-4-1'!W37 -> 13.636172 | E73: =D73-G73 -> -1.8395521 | F73: 4962.1667 | G73: 15.475724 | H73: =G73-J73 -> 4.8966231 | I73: 3966.949 | J73: 10.579101 | K73: =J73-M73 -> -0.52089891 | L73: 4136.21 | M73: 11.1 | N73: =M73-P73 -> 0.2 | O73: 4939.94 | P73: 10.9 | Q73: =P73-S73 -> 1.6 | R73: 5202 | S73: 9.3
B74: ４～９の都道府県 | C74: ='2-4-1'!V38 -> 1937.2469 | D74: ='2-4-1'!W38 -> 4.9921324 | E74: =D74-G74 -> 0.98934887 | F74: 1283.4604 | G74: 4.0027835 | H74: =G74-J74 -> 1.5982817 | I74: 901.63953 | J74: 2.4045017 | K74: =J74-M74 -> -1.7954983 | L74: 1581.91 | M74: 4.2 | N74: =M74-P74 -> 1.4 | O74: 1279.4 | P74: 2.8 | Q74: =P74-S74 -> 1.1 | R74: 965 | S74: 1.7
B75: １０以上の都道府県 | C75: ='2-4-1'!V39 -> 197.73348 | D75: ='2-4-1'!W39 -> 0.50954359 | E75: =D75-G75 -> -0.10319756 | F75: 196.47053 | G75: 0.61274115 | H75: =G75-J75 -> -0.5522396 | I75: 436.84422 | J75: 1.1649807 | K75: =J75-M75 -> -0.73501925 | L75: 708.31 | M75: 1.9 | N75: =M75-P75 -> 1 | O75: 415.18 | P75: 0.9 | Q75: =P75-S75 -> 0.2 | R75: 401 | S75: 0.7
B76: 小 計 | C76: ='2-4-1'!V40 -> 38806 | D76: ='2-4-1'!W40 -> 100 | E76: - | F76: 32064.197 | G76: 100 | H76: - | I76: 37497.978 | J76: 100 | K76: - | L76: 37296.91 | M76: 100 | N76: - | O76: 45434.65 | P76: 100 | Q76: - | R76: 56046 | S76: 100
A77: 建築 | B77: １つの都道府県 | C77: ='2-4-1'!V41 -> 59638.855 | D77: ='2-4-1'!W41 -> 81.457154 | E77: =D77-G77 -> 1.2218969 | F77: 22246.433 | G77: 80.235257 | H77: =G77-J77 -> 1.4596654 | I77: 25281.718 | J77: 78.775592 | K77: =J77-M77 -> -1.9244083 | L77: 26444.82 | M77: 80.7 | N77: =M77-P77 -> 5.1 | O77: 25761.79 | P77: 75.6 | Q77: =P77-S77 -> -5.1 | R77: 37035 | S77: 80.7
B78: ２～３の都道府県 | C78: ='2-4-1'!V42 -> 10464.26 | D78: ='2-4-1'!W42 -> 14.292508 | E78: =D78-G78 -> 1.1816011 | F78: 3635.1963 | G78: 13.110907 | H78: =G78-J78 -> -3.3862252 | I78: 5294.4806 | J78: 16.497132 | K78: =J78-M78 -> 1.0971323 | L78: 5055.72 | M78: 15.4 | N78: =M78-P78 -> -4.8 | O78: 6880.25 | P78: 20.2 | Q78: =P78-S78 -> 3.8 | R78: 7512 | S78: 16.4
B79: ４～９の都道府県 | C79: ='2-4-1'!V43 -> 2919.3161 | D79: ='2-4-1'!W43 -> 3.9873197 | E79: =D79-G79 -> -2.1802395 | F79: 1710.0486 | G79: 6.1675592 | H79: =G79-J79 -> 2.5727419 | I79: 1153.6969 | J79: 3.5948173 | K79: =J79-M79 -> -0.10518273 | L79: 1209.71 | M79: 3.7 | N79: =M79-P79 -> 0.3 | O79: 1164.44 | P79: 3.4 | Q79: =P79-S79 -> 0.8 | R79: 1181 | S79: 2.6
B80: １０以上の都道府県 | C80: ='2-4-1'!V44 -> 192.56875 | D80: ='2-4-1'!W44 -> 0.26301816 | E80: =D80-G80 -> -0.22325853 | F80: 134.82753 | G80: 0.48627669 | H80: =G80-J80 -> -0.64618208 | I80: 363.44384 | J80: 1.1324588 | K80: =J80-M80 -> 1.0324588 | L80: 48.17 | M80: 0.1 | N80: =M80-P80 -> -0.7 | O80: 275.88 | P80: 0.8 | Q80: =P80-S80 -> 0.4 | R80: 169 | S80: 0.4
B81: 小 計 | C81: ='2-4-1'!V45 -> 73215 | D81: ='2-4-1'!W45 -> 100 | E81: - | F81: 27726.505 | G81: 100 | H81: - | I81: 32093.339 | J81: 100 | K81: - | L81: 32758.42 | M81: 100 | N81: - | O81: 34082.35 | P81: 100 | Q81: - | R81: 45898 | S81: 100
A82: 木造建築 | B82: １つの都道府県 | C82: ='2-4-1'!V46 -> 15535.525 | D82: ='2-4-1'!W46 -> 93.295252 | E82: =D82-G82 -> 5.5020025 | F82: 9125.2867 | G82: 87.79325 | H82: =G82-J82 -> -5.4297241 | I82: 14992.516 | J82: 93.222974 | K82: =J82-M82 -> 6.6229739 | L82: 11846.05 | M82: 86.6 | N82: =M82-P82 -> -4.1 | O82: 14782.56 | P82: 90.7 | Q82: =P82-S82 -> -1.3 | R82: 18256 | S82: 92
B83: ２～３の都道府県 | C83: ='2-4-1'!V47 -> 1007.1241 | D83: ='2-4-1'!W47 -> 6.0480667 | E83: =D83-G83 -> -5.0219214 | F83: 1150.6217 | G83: 11.069988 | H83: =G83-J83 -> 4.7653576 | I83: 1013.9375 | J83: 6.3046305 | K83: =J83-M83 -> -5.9953695 | L83: 1675.61 | M83: 12.3 | N83: =M83-P83 -> 4.7 | O83: 1242.34 | P83: 7.6 | Q83: =P83-S83 -> 0 | R83: 1506 | S83: 7.6
B84: ４～９の都道府県 | C84: ='2-4-1'!V48 -> 99.767178 | D84: ='2-4-1'!W48 -> 0.5991303 | E84: =D84-G84 -> -0.43901774 | F84: 107.90577 | G84: 1.038148 | H84: =G84-J84 -> 0.87689029 | I84: 25.934159 | J84: 0.16125775 | K84: =J84-M84 -> -0.93874225 | L84: 151.49 | M84: 1.1 | N84: =M84-P84 -> -0.4 | O84: 250.68 | P84: 1.5 | Q84: =P84-S84 -> 1.2 | R84: 69 | S84: 0.3
B85: １０以上の都道府県 | C85: ='2-4-1'!V49 -> 9.5833333 | D85: ='2-4-1'!W49 -> 0.057550645 | E85: =D85-G85 -> -0.041063332 | F85: 10.25 | G85: 0.098613977 | H85: =G85-J85 -> -0.21252383 | I85: 50.038508 | J85: 0.31113781 | K85: =J85-M85 -> 0.31113781 | L85: 0.5 | M85: 0 | N85: =M85-P85 -> -0.1 | O85: 19.26 | P85: 0.1 | Q85: =P85-S85 -> 0 | R85: 11 | S85: 0.1
B86: 小 計 | C86: ='2-4-1'!V50 -> 16652 | D86: ='2-4-1'!W50 -> 100 | E86: - | F86: 10394.064 | G86: 100 | H86: - | I86: 16082.426 | J86: 100 | K86: - | L86: 13673.65 | M86: 100 | N86: - | O86: 16294.84 | P86: 100 | Q86: - | R86: 19842 | S86: 100
A87: 職別 | B87: １つの都道府県 | C87: ='2-4-1'!V141 -> 68797.143 | D87: ='2-4-1'!W141 -> 67.665771 | E87: =D87-G87 -> 2.569495 | F87: 28675.009 | G87: 65.096276 | H87: =G87-J87 -> -4.4248344 | I87: 32618.093 | J87: 69.52111 | K87: =J87-M87 -> 7.5211105 | L87: 26964.58 | M87: 62 | N87: =M87-P87 -> 0.6 | O87: 27023.93 | P87: 61.4 | Q87: =P87-S87 -> -3.4 | R87: 31873 | S87: 64.8
B88: ２～３の都道府県 | C88: ='2-4-1'!V142 -> 25434.074 | D88: ='2-4-1'!W142 -> 25.015809 | E88: =D88-G88 -> -0.95735881 | F88: 11441.22 | G88: 25.973168 | H88: =G88-J88 -> 3.2942503 | I88: 10640.553 | J88: 22.678918 | K88: =J88-M88 -> -5.021082 | L88: 12067.38 | M88: 27.7 | N88: =M88-P88 -> 0.3 | O88: 12081.1 | P88: 27.4 | Q88: =P88-S88 -> 2 | R88: 12483 | S88: 25.4
B89: ４～９の都道府県 | C89: ='2-4-1'!V143 -> 6362.2655 | D89: ='2-4-1'!W143 -> 6.2576378 | E89: =D89-G89 -> -1.6109544 | F89: 3466.1269 | G89: 7.8685922 | H89: =G89-J89 -> 1.59898 | I89: 2941.5928 | J89: 6.2696122 | K89: =J89-M89 -> -2.4303878 | L89: 3777.66 | M89: 8.7 | N89: =M89-P89 -> -0.8 | O89: 4170.22 | P89: 9.5 | Q89: =P89-S89 -> 1.7 | R89: 3841 | S89: 7.8
B90: １０以上の都道府県 | C90: ='2-4-1'!V144 -> 1078.5179 | D90: ='2-4-1'!W144 -> 1.0607816 | E90: =D90-G90 -> -0.0011818036 | F90: 467.79652 | G90: 1.0619634 | H90: =G90-J90 -> -0.46839587 | I90: 718.01791 | J90: 1.5303593 | K90: =J90-M90 -> -0.069640703 | L90: 688.72 | M90: 1.6 | N90: =M90-P90 -> -0.1 | O90: 765.96 | P90: 1.7 | Q90: =P90-S90 -> -0.3 | R90: 1004 | S90: 2
B91: 小 計 | C91: ='2-4-1'!V145 -> 101672 | D91: ='2-4-1'!W145 -> 100 | E91: - | F91: 44050.153 | G91: 100 | H91: - | I91: 46918.257 | J91: 100 | K91: - | L91: 43498.34 | M91: 100 | N91: - | O91: 44041.21 | P91: 100 | Q91: - | R91: 49201 | S91: 100
A92: 設備 | B92: １つの都道府県 | C92: ='2-4-1'!V181 -> 47951.449 | D92: ='2-4-1'!W181 -> 70.826181 | E92: =D92-G92 -> 0.97461435 | F92: 23638.998 | G92: 69.851566 | H92: =G92-J92 -> -0.52610111 | I92: 26720.418 | J92: 70.377667 | K92: =J92-M92 -> 0.57766732 | L92: 25053.02 | M92: 69.8 | N92: =M92-P92 -> 6.9 | O92: 23100.31 | P92: 62.9 | Q92: =P92-S92 -> -7.6 | R92: 29154 | S92: 70.5
B93: ２～３の都道府県 | C93: ='2-4-1'!V182 -> 13982.969 | D93: ='2-4-1'!W182 -> 20.653396 | E93: =D93-G93 -> 0.50175526 | F93: 6819.6696 | G93: 20.151641 | H93: =G93-J93 -> 0.19374042 | I93: 7577.4527 | J93: 19.9579 | K93: =J93-M93 -> 0.057900282 | L93: 7141.42 | M93: 19.9 | N93: =M93-P93 -> -5.2 | O93: 9197.98 | P93: 25.1 | Q93: =P93-S93 -> 4.6 | R93: 8484 | S93: 20.5
B94: ４～９の都道府県 | C94: ='2-4-1'!V183 -> 4746.8296 | D94: ='2-4-1'!W183 -> 7.0112545 | E94: =D94-G94 -> -1.164213 | F94: 2766.7219 | G94: 8.1754674 | H94: =G94-J94 -> 0.41002004 | I94: 2948.3217 | J94: 7.7654474 | K94: =J94-M94 -> -0.034552601 | L94: 2797.29 | M94: 7.8 | N94: =M94-P94 -> -1.6 | O94: 3452.94 | P94: 9.4 | Q94: =P94-S94 -> 2.6 | R94: 2814 | S94: 6.8
B95: １０以上の都道府県 | C95: ='2-4-1'!V184 -> 1021.7527 | D95: ='2-4-1'!W184 -> 1.509169 | E95: =D95-G95 -> -0.31215662 | F95: 616.36863 | G95: 1.8213257 | H95: =G95-J95 -> -0.07765935 | I95: 720.99112 | J95: 1.898985 | K95: =J95-M95 -> -0.701015 | L95: 916.45 | M95: 2.6 | N95: =M95-P95 -> 0 | O95: 951.46 | P95: 2.6 | Q95: =P95-S95 -> 0.4 | R95: 893 | S95: 2.2
B96: 小 計 | C96: ='2-4-1'!V185 -> 67703 | D96: ='2-4-1'!W185 -> 100 | E96: - | F96: 33841.758 | G96: 100 | H96: - | I96: 37967.184 | J96: 100 | K96: - | L96: 35908.19 | M96: 100 | N96: - | O96: 36702.7 | P96: 100 | Q96: - | R96: 41344 | S96: 100
A97: 合 計 | B97: １つの都道府県 | C97: ='2-4-1'!V186 -> 229672.09 | D97: ='2-4-1'!W186 -> 75.188187 | E97: =D97-G97 -> 1.1002116 | F97: 112245.82 | G97: 74.087975 | H97: =G97-J97 -> -3.4172188 | I97: 135446.88 | J97: 77.505194 | K97: =J97-M97 -> 3.1051941 | L97: 124594.68 | M97: 74.4 | N97: =M97-P97 -> 0.8 | O97: 133526.98 | P97: 73.6 | Q97: =P97-S97 -> -4.6 | R97: 170632 | S97: 78.2
B98: ２～３の都道府県 | C98: ='2-4-1'!V187 -> 56997.224 | D98: ='2-4-1'!W187 -> 18.659289 | E98: =D98-G98 -> -0.07305733 | F98: 28380.147 | G98: 18.732346 | H98: =G98-J98 -> 2.1624298 | I98: 28957.331 | J98: 16.569917 | K98: =J98-M98 -> -1.8300834 | L98: 30771.87 | M98: 18.4 | N98: =M98-P98 -> -0.9 | O98: 34938.19 | P98: 19.3 | Q98: =P98-S98 -> 2.8 | R98: 35971 | S98: 16.5
B99: ４～９の都道府県 | C99: ='2-4-1'!V188 -> 16224.815 | D99: ='2-4-1'!W188 -> 5.3115485 | E99: =D99-G99 -> -0.9030935 | F99: 9415.3957 | G99: 6.214642 | H99: =G99-J99 -> 1.6264865 | I99: 8018.1899 | J99: 4.5881555 | K99: =J99-M99 -> -1.2118445 | L99: 9637.12 | M99: 5.8 | N99: =M99-P99 -> 0 | O99: 10489.38 | P99: 5.8 | Q99: =P99-S99 -> 1.7 | R99: 9001 | S99: 4.1
B100: １０以上の都道府県 | C100: ='2-4-1'!V189 -> 2568.8692 | D100: ='2-4-1'!W189 -> 0.84097555 | E100: =D100-G100 -> -0.12406073 | F100: 1462.063 | G100: 0.96503628 | H100: =G100-J100 -> -0.37169756 | I100: 2336.0555 | J100: 1.3367338 | K100: =J100-M100 -> -0.063266158 | L100: 2420.68 | M100: 1.4 | N100: =M100-P100 -> 0 | O100: 2505.63 | P100: 1.4 | Q100: =P100-S100 -> 0.2 | R100: 2560 | S100: 1.2
C101: ='2-4-1'!V190 -> 305463 | D101: ='2-4-1'!W190 -> 100 | E101: - | F101: 151503.43 | G101: 100 | H101: - | I101: 174758.46 | J101: 100 | K101: - | L101: 167424.34 | M101: 100 | N101: - | O101: 181460.18 | P101: 100 | Q101: - | R101: 218164 | S101: 100
P102: =SUBSTITUTE('2-4-1'!P192,"2．","（注）")

Sheet 2-4-3
A1: 表2－4－3 営業地域（下請比率、次数別集計）
W3: （単位：社、％）
C4: 資本金 | D4: 個 人 | F4: 法 人 | V4: 合 計
A5: 下請比率 | B5: 次数 | C5: 営業地域 | F5: 500万円未満 | H5: 500万円以上 1000万円未満 | J5: 1000万円以上 3000万円未満 | L5: 3000万円以上 5000万円未満 | N5: 5000万円以上 1億円未満 | P5: 1億円以上 3億円未満 | R5: 3億円以上 10億円未満 | T5: 10億円以上
A6: ０％ | C6: １つの都道府県 | D6: 5126.5195 | E6: 93.103448 | F6: 8305.5488 | G6: 90.697674 | H6: 6097.4118 | I6: 89.361702 | J6: 7199.1668 | K6: 81.097561 | L6: 1428.3892 | M6: 77.952756 | N6: 509.72752 | O6: 67.708333 | P6: 99.814961 | Q6: 55.102041 | R6: 4.6896552 | S6: 28.571429 | T6: 0 | U6: 0 | V6: 28771.268 | W6: 86.760925
C7: ２～３の都道府県 | D7: 379.74219 | E7: 6.8965517 | F7: 851.85116 | G7: 9.3023256 | H7: 580.70588 | I7: 8.5106383 | J7: 1190.8396 | K7: 13.414634 | L7: 302.99166 | M7: 16.535433 | N7: 117.62943 | O7: 15.625 | P7: 48.059055 | Q7: 26.530612 | R7: 4.6896552 | S7: 28.571429 | T7: 0 | U7: 0 | V7: 3476.5086 | W7: 10.483553
C8: ４～９の都道府県 | D8: 0 | E8: 0 | F8: 0 | G8: 0 | H8: 145.17647 | I8: 2.1276596 | J8: 433.03259 | K8: 4.8780488 | L8: 72.140871 | M8: 3.9370079 | N8: 62.735695 | O8: 8.3333333 | P8: 29.574803 | Q8: 16.326531 | R8: 4.6896552 | S8: 28.571429 | T8: 5.8644068 | U8: 40 | V8: 753.21449 | W8: 2.2713488
C9: １０以上の都道府県 | D9: 0 | E9: 0 | F9: 0 | G9: 0 | H9: 0 | I9: 0 | J9: 54.129073 | K9: 0.6097561 | L9: 28.856348 | M9: 1.5748031 | N9: 62.735695 | O9: 8.3333333 | P9: 3.6968504 | Q9: 2.0408163 | R9: 2.3448276 | S9: 14.285714 | T9: 8.7966102 | U9: 60 | V9: 160.5594 | W9: 0.48417339
C10: 小 計 | D10: 5506.2617 | E10: 100 | F10: 9157.4 | G10: 100 | H10: 6823.2941 | I10: 100 | J10: 8877.1681 | K10: 100 | L10: 1832.3781 | M10: 100 | N10: 752.82834 | O10: 100 | P10: 181.14567 | Q10: 100 | R10: 16.413793 | S10: 100 | T10: 14.661017 | U10: 100 | V10: 33161.551 | W10: 100
A11: ０％超 | C11: １つの都道府県 | D11: 7974.5859 | E11: 97.674419 | F11: 10648.14 | G11: 85.470085 | H11: 8565.4118 | I11: 88.721805 | J11: 18024.981 | K11: 79.665072 | L11: 3693.6126 | M11: 77.108434 | N11: 1356.6594 | O11: 63.837638 | P11: 147.87402 | Q11: 34.188034 | R11: 7.0344828 | S11: 8.5714286 | T11: 0 | U11: 0 | V11: 50418.299 | W11: 83.408756
A12: ５０％未満 | C12: ２～３の都道府県 | D12: 189.87109 | E12: 2.3255814 | F12: 1703.7023 | G12: 13.675214 | H12: 871.05882 | I12: 9.0225564 | J12: 3410.1316 | K12: 15.07177 | L12: 721.40871 | M12: 15.060241 | N12: 415.62398 | O12: 19.557196 | P12: 121.99606 | Q12: 28.205128 | R12: 14.068966 | S12: 17.142857 | T12: 0 | U12: 0 | V12: 7447.8616 | W12: 12.321258
C13: ４～９の都道府県 | D13: 0 | E13: 0 | F13: 106.4814 | G13: 0.85470085 | H13: 145.17647 | I13: 1.5037594 | J13: 974.32332 | K13: 4.3062201 | L13: 302.99166 | M13: 6.3253012 | N13: 243.10082 | O13: 11.439114 | P13: 99.814961 | Q13: 23.076923 | R13: 32.827586 | S13: 40 | T13: 26.389831 | U13: 23.076923 | V13: 1931.106 | W13: 3.1946963
C14: １０以上の都道府県 | D14: 0 | E14: 0 | F14: 0 | G14: 0 | H14: 72.588235 | I14: 0.7518797 | J14: 216.51629 | K14: 0.9569378 | L14: 72.140871 | M14: 1.5060241 | N14: 109.78747 | O14: 5.1660517 | P14: 62.846457 | Q14: 14.529915 | R14: 28.137931 | S14: 34.285714 | T14: 87.966102 | U14: 76.923077 | V14: 649.98336 | W14: 1.0752902
C15: 小 計 | D15: 8164.457 | E15: 100 | F15: 12458.323 | G15: 100 | H15: 9654.2353 | I15: 100 | J15: 22625.953 | K15: 100 | L15: 4790.1538 | M15: 100 | N15: 2125.1717 | O15: 100 | P15: 432.5315 | Q15: 100 | R15: 82.068966 | S15: 100 | T15: 114.35593 | U15: 100 | V15: 60447.25 | W15: 100
A16: ５０％以上 | B16: 一次下請 | C16: １つの都道府県 | D16: 20695.949 | E16: 85.826772 | F16: 32050.9 | G16: 73.058252 | H16: 20905.412 | I16: 74.03599 | J16: 22788.34 | K16: 57.278912 | L16: 3029.9166 | M16: 42.084168 | N16: 768.51226 | O16: 32.996633 | P16: 55.452756 | Q16: 18.292683 | R16: 4.6896552 | S16: 12.5 | T16: 0 | U16: 0 | V16: 100299.17 | W16: 68.736188
A17: １００％以下 | C17: ２～３の都道府県 | D17: 3037.9375 | E17: 12.598425 | F17: 9370.3628 | G17: 21.359223 | H17: 6097.4118 | I17: 21.59383 | J17: 11637.751 | K17: 29.251701 | L17: 2597.0714 | M17: 36.072144 | N17: 854.77384 | O17: 36.700337 | P17: 73.937008 | Q17: 24.390244 | R17: 4.6896552 | S17: 12.5 | T17: 8.7966102 | U17: 20 | V17: 33682.731 | W17: 23.083167
C18: ４～９の都道府県 | D18: 379.74219 | E18: 1.5748031 | F18: 2129.6279 | G18: 4.8543689 | H18: 1016.2353 | I18: 3.5989717 | J18: 4438.584 | K18: 11.156463 | L18: 1240.823 | M18: 17.234469 | N18: 501.88556 | O18: 21.548822 | P18: 96.11811 | Q18: 31.707317 | R18: 14.068966 | S18: 37.5 | T18: 11.728814 | U18: 26.666667 | V18: 9828.8138 | W18: 6.7358003
C19: １０以上の都道府県 | D19: 0 | E19: 0 | F19: 319.44419 | G19: 0.72815534 | H19: 217.76471 | I19: 0.77120823 | J19: 920.19425 | K19: 2.3129252 | L19: 331.84801 | M19: 4.6092184 | N19: 203.89101 | O19: 8.7542088 | P19: 77.633858 | Q19: 25.609756 | R19: 14.068966 | S19: 37.5 | T19: 23.457627 | U19: 53.333333 | V19: 2108.3026 | W19: 1.4448443
C20: 小 計 | D20: 24113.629 | E20: 100 | F20: 43870.335 | G20: 100 | H20: 28236.824 | I20: 100 | J20: 39784.869 | K20: 100 | L20: 7199.6589 | M20: 100 | N20: 2329.0627 | O20: 100 | P20: 303.14173 | Q20: 100 | R20: 37.517241 | S20: 100 | T20: 43.983051 | U20: 100 | V20: 145919.02 | W20: 100
B21: 二次下請 | C21: １つの都道府県 | D21: 6075.875 | E21: 78.04878 | F21: 11819.435 | G21: 57.216495 | H21: 6097.4118 | I21: 54.193548 | J21: 5521.1655 | K21: 45.535714 | L21: 562.6988 | M21: 34.821429 | N21: 148.99728 | O21: 30.645161 | P21: 3.6968504 | Q21: 16.666667 | R21: 0 | T21: 0 | V21: 30229.28 | W21: 56.039786
C22: ２～３の都道府県 | D22: 1329.0977 | E22: 17.073171 | F22: 7027.7721 | G22: 34.020619 | H22: 3339.0588 | I22: 29.677419 | J22: 3789.0351 | K22: 31.25 | L22: 476.12975 | M22: 29.464286 | N22: 101.9455 | O22: 20.967742 | P22: 7.3937008 | Q22: 33.333333 | R22: 0 | T22: 0 | V22: 16070.433 | W22: 29.791765
C23: ４～９の都道府県 | D23: 379.74219 | E23: 4.8780488 | F23: 1597.2209 | G23: 7.7319588 | H23: 1669.5294 | I23: 14.83871 | J23: 2219.292 | K23: 18.303571 | L23: 403.98888 | M23: 25 | N23: 180.36512 | O23: 37.096774 | P23: 11.090551 | Q23: 50 | R23: 0 | T23: 0 | V23: 6461.2291 | W23: 11.977986
C24: １０以上の都道府県 | D24: 0 | E24: 0 | F24: 212.96279 | G24: 1.0309278 | H24: 145.17647 | I24: 1.2903226 | J24: 595.41981 | K24: 4.9107143 | L24: 173.13809 | M24: 10.714286 | N24: 54.893733 | O24: 11.290323 | P24: 0 | Q24: 0 | R24: 0 | T24: 0 | V24: 1181.5909 | W24: 2.1904624
C25: 小 計 | D25: 7784.7148 | E25: 100 | F25: 20657.391 | G25: 100 | H25: 11251.176 | I25: 100 | J25: 12124.912 | K25: 100 | L25: 1615.9555 | M25: 100 | N25: 486.20163 | O25: 100 | P25: 22.181102 | Q25: 100 | R25: 0 | T25: 0 | V25: 53942.533 | W25: 100
B26: 三次以下下請 | C26: １つの都道府県 | D26: 2088.582 | E26: 68.75 | F26: 2129.6279 | G26: 39.215686 | H26: 1016.2353 | I26: 50 | J26: 378.90351 | K26: 29.166667 | L26: 43.284523 | M26: 33.333333 | N26: 0 | O26: 0 | P26: 0 | R26: 0 | T26: 0 | V26: 5656.6333 | W26: 47.167515
C27: ２～３の都道府県 | D27: 949.35547 | E27: 31.25 | F27: 2236.1093 | G27: 41.176471 | H27: 871.05882 | I27: 42.857143 | J27: 703.67796 | K27: 54.166667 | L27: 57.712697 | M27: 44.444444 | N27: 31.367847 | O27: 50 | P27: 0 | R27: 0 | T27: 0 | V27: 4849.2821 | W27: 40.435463
C28: ４～９の都道府県 | D28: 0 | E28: 0 | F28: 851.85116 | G28: 15.686275 | H28: 145.17647 | I28: 7.1428571 | J28: 216.51629 | K28: 16.666667 | L28: 14.428174 | M28: 11.111111 | N28: 15.683924 | O28: 25 | P28: 0 | R28: 0 | T28: 0 | V28: 1243.656 | W28: 10.370155
C29: １０以上の都道府県 | D29: 0 | E29: 0 | F29: 212.96279 | G29: 3.9215686 | H29: 0 | I29: 0 | J29: 0 | K29: 0 | L29: 14.428174 | M29: 11.111111 | N29: 15.683924 | O29: 25 | P29: 0 | R29: 0 | T29: 0 | V29: 243.07489 | W29: 2.0268662
C30: 小 計 | D30: 3037.9375 | E30: 100 | F30: 5430.5512 | G30: 100 | H30: 2032.4706 | I30: 100 | J30: 1299.0978 | K30: 100 | L30: 129.85357 | M30: 100 | N30: 62.735695 | O30: 100 | P30: 0 | R30: 0 | T30: 0 | V30: 11992.646 | W30: 100
B31: 小 計 | C31: １つの都道府県 | D31: 28860.406 | E31: 82.608696 | F31: 45999.963 | G31: 65.753425 | H31: 28019.059 | I31: 67.482517 | J31: 28688.409 | K31: 53.916582 | L31: 3635.8999 | M31: 40.645161 | N31: 917.50954 | O31: 31.880109 | P31: 59.149606 | Q31: 18.181818 | R31: 4.6896552 | S31: 12.5 | T31: 0 | U31: 0 | V31: 136185.09 | W31: 64.282458
C32: ２～３の都道府県 | D32: 5316.3906 | E32: 15.217391 | F32: 18634.244 | G32: 26.636225 | H32: 10307.529 | I32: 24.825175 | J32: 16130.464 | K32: 30.315361 | L32: 3130.9138 | M32: 35 | N32: 988.08719 | O32: 34.332425 | P32: 81.330709 | Q32: 25 | R32: 4.6896552 | S32: 12.5 | T32: 8.7966102 | U32: 20 | V32: 54602.446 | W32: 25.773596
C33: ４～９の都道府県 | D33: 759.48438 | E33: 2.173913 | F33: 4578.7 | G33: 6.5449011 | H33: 2830.9412 | I33: 6.8181818 | J33: 6874.3923 | K33: 12.919634 | L33: 1659.24 | M33: 18.548387 | N33: 697.9346 | O33: 24.250681 | P33: 107.20866 | Q33: 32.954545 | R33: 14.068966 | S33: 37.5 | T33: 11.728814 | U33: 26.666667 | V33: 17533.699 | W33: 8.2763047
C34: １０以上の都道府県 | D34: 0 | E34: 0 | F34: 745.36977 | G34: 1.065449 | H34: 362.94118 | I34: 0.87412587 | J34: 1515.6141 | K34: 2.8484232 | L34: 519.41427 | M34: 5.8064516 | N34: 274.46866 | O34: 9.5367847 | P34: 77.633858 | Q34: 23.863636 | R34: 14.068966 | S34: 37.5 | T34: 23.457627 | U34: 53.333333 | V34: 3532.9684 | W34: 1.6676414
C35: 小 計 | D35: 34936.281 | E35: 100 | F35: 69958.277 | G35: 100 | H35: 41520.471 | I35: 100 | J35: 53208.879 | K35: 100 | L35: 8945.468 | M35: 100 | N35: 2878 | O35: 100 | P35: 325.32283 | Q35: 100 | R35: 37.517241 | S35: 100 | T35: 43.983051 | U35: 100 | V35: 211854.2 | W35: 100
A36: 合 計 | C36: １つの都道府県 | D36: 41961.512 | E36: 86.328125 | F36: 64953.651 | G36: 70.930233 | H36: 42681.882 | I36: 73.59199 | J36: 53912.557 | K36: 63.642173 | L36: 8757.9018 | M36: 56.255792 | N36: 2783.8965 | O36: 48.365123 | P36: 306.83858 | Q36: 32.677165 | R36: 16.413793 | S36: 12.068966 | T36: 0 | U36: 0 | V36: 215374.65 | W36: 73.966152
C37: ２～３の都道府県 | D37: 5886.0039 | E37: 12.109375 | F37: 21189.798 | G37: 23.139535 | H37: 11759.294 | I37: 20.275344 | J37: 20731.435 | K37: 24.472843 | L37: 4155.3142 | M37: 26.691381 | N37: 1521.3406 | O37: 26.430518 | P37: 251.38583 | Q37: 26.771654 | R37: 23.448276 | S37: 17.241379 | T37: 8.7966102 | U37: 5.0847458 | V37: 65526.816 | W37: 18.679025
C38: ４～９の都道府県 | D38: 759.48438 | E38: 1.5625 | F38: 4685.1814 | G38: 5.1162791 | H38: 3121.2941 | I38: 5.3817272 | J38: 8281.7482 | K38: 9.7763578 | L38: 2034.3726 | M38: 13.067655 | N38: 1003.7711 | O38: 17.438692 | P38: 236.59843 | Q38: 25.19685 | R38: 51.586207 | S38: 37.931034 | T38: 43.983051 | U38: 25.423729 | V38: 20218.019 | W38: 6.3385544
C39: １０以上の都道府県 | D39: 0 | E39: 0 | F39: 745.36977 | G39: 0.81395349 | H39: 435.52941 | I39: 0.75093867 | J39: 1786.2594 | K39: 2.1086262 | L39: 620.41149 | M39: 3.9851715 | N39: 446.99183 | O39: 7.7656676 | P39: 144.17717 | Q39: 15.354331 | R39: 44.551724 | S39: 32.758621 | T39: 120.22034 | U39: 69.491525 | V39: 4343.5112 | W39: 1.0162692
D40: 48607 | E40: 100 | F40: 91574 | G40: 100 | H40: 57998 | I40: 100 | J40: 84712 | K40: 100 | L40: 15568 | M40: 100 | N40: 5756 | O40: 100 | P40: 939 | Q40: 100 | R40: 136 | S40: 100 | T40: 173 | U40: 100 | V40: 305463 | W40: 100
P41: （注） | Q41: 1. ( )の数値は各合計を100とした場合の構成比
