Workbook
Name ______________________ＴＢＬ１: [1]CSS編集画面!$B$10:$F$22
Name ______________________ＴＢＬ２: [1]CSS編集画面!$B$24:$I$35
Name _____________________ＴＢＬ１: [1]CSS編集画面!$B$10:$F$22
Name _____________________ＴＢＬ２: [1]CSS編集画面!$B$24:$I$35
Name ____________________ＴＢＬ１: [1]CSS編集画面!$B$10:$F$22
Name ____________________ＴＢＬ２: [1]CSS編集画面!$B$24:$I$35
Name ___________________ＴＢＬ１: [1]CSS編集画面!$B$10:$F$22
Name ___________________ＴＢＬ２: [1]CSS編集画面!$B$24:$I$35
Name __________________ＴＢＬ１: [1]CSS編集画面!$B$10:$F$22
Name __________________ＴＢＬ２: [1]CSS編集画面!$B$24:$I$35
Name _________________ＴＢＬ１: [1]CSS編集画面!$B$10:$F$22
Name _________________ＴＢＬ２: [1]CSS編集画面!$B$24:$I$35
Name ________________ＴＢＬ１: [1]CSS編集画面!$B$10:$F$22
Name ________________ＴＢＬ２: [1]CSS編集画面!$B$24:$I$35
Name _______________ＴＢＬ１: [1]CSS編集画面!$B$10:$F$22
Name _______________ＴＢＬ２: [1]CSS編集画面!$B$24:$I$35
Name ______________ＴＢＬ１: [1]CSS編集画面!$B$10:$F$22
Name ______________ＴＢＬ２: [1]CSS編集画面!$B$24:$I$35
Name _____________ＴＢＬ１: [1]CSS編集画面!$B$10:$F$22
Name _____________ＴＢＬ２: [1]CSS編集画面!$B$24:$I$35
Name ____________ＴＢＬ１: [1]CSS編集画面!$B$10:$F$22
Name ____________ＴＢＬ２: [1]CSS編集画面!$B$24:$I$35
Name ___________ＴＢＬ１: [1]CSS編集画面!$B$10:$F$22
Name ___________ＴＢＬ２: [1]CSS編集画面!$B$24:$I$35
Name __________ＴＢＬ１: [1]CSS編集画面!$B$10:$F$22
Name __________ＴＢＬ２: [1]CSS編集画面!$B$24:$I$35
Name _________ＴＢＬ１: [1]CSS編集画面!$B$10:$F$22
Name _________ＴＢＬ２: [1]CSS編集画面!$B$24:$I$35
Name ________ＴＢＬ１: [1]CSS編集画面!$B$10:$F$22
Name ________ＴＢＬ２: [1]CSS編集画面!$B$24:$I$35
Name _______ＴＢＬ１: [1]CSS編集画面!$B$10:$F$22
Name _______ＴＢＬ２: [1]CSS編集画面!$B$24:$I$35
Name ______ＴＢＬ１: [1]CSS編集画面!$B$10:$F$22
Name ______ＴＢＬ２: [1]CSS編集画面!$B$24:$I$35
Name _____ＴＢＬ１: [1]CSS編集画面!$B$10:$F$22
Name _____ＴＢＬ２: [1]CSS編集画面!$B$24:$I$35
Name ____ＴＢＬ１: [1]CSS編集画面!$B$10:$F$22
Name ____ＴＢＬ２: [1]CSS編集画面!$B$24:$I$35
Name ___ＴＢＬ１: [1]CSS編集画面!$B$10:$F$22
Name ___ＴＢＬ２: [1]CSS編集画面!$B$24:$I$35
Name __ＴＢＬ１: [1]CSS編集画面!$B$10:$F$22
Name __ＴＢＬ２: [1]CSS編集画面!$B$24:$I$35
Name _ＴＢＬ１: [1]CSS編集画面!$B$10:$F$22
Name _ＴＢＬ２: [1]CSS編集画面!$B$24:$I$35
Name PAGE1: #REF!
Name PAGE10: #REF!
Name PAGE100: #REF!
Name PAGE1000: #REF!
Name PAGE1001: #REF!
Name PAGE1002: #REF!
Name PAGE1003: #REF!
Name PAGE1004: #REF!
Name PAGE1005: #REF!
Name PAGE1006: #REF!
Name PAGE1007: #REF!
Name PAGE1008: #REF!
Name PAGE1009: #REF!
Name PAGE101: #REF!
Name PAGE1010: #REF!
Name PAGE1011: #REF!

Sheet 2-5-1
A1: 表2－5－1 建設業部門における多角化＜平均完成工事高＞
AF3: （単位：百万円）
A4: 工事種類 | B4: 土木 一式 工事 | C4: 建築 一式 工事 | D4: 木造 建築 一式 工事 | E4: 大工 工事 | F4: 左官 工事 | G4: とび・ 土工・ ｺﾝｸﾘｰﾄ 工事 | H4: 石 工事 | I4: 屋根 工事 | J4: 電気 工事 | K4: 管 工事 | L4: ﾀｲﾙ・ れんが・ ﾌﾞﾛｯｸ 工事 | M4: 鋼構 造物 工事 | N4: 鉄筋 工事 | O4: ほ装 工事 | P4: しゅん せつ 工事 | Q4: 板金 工事 | R4: ガラス 工事 | S4: 塗装 工事 | T4: 防水 工事 | U4: 内装 仕上 工事 | V4: 機械 器具 設置 工事 | W4: 熱絶縁 工事 | X4: 電気 通信 工事 | Y4: 造園 工事 | Z4: さく井 工事 | AA4: 建具 工事 | AB4: 水道 施設 工事 | AC4: 消防 施設 工事 | AD4: 清掃 施設 工事 | AE4: 解体 工事業 | AF4: 合 計
A5: 業種
A6: 一般土木建築工事業 | B6: 709.8811 | C6: 907.59461 | D6: 7.4506314 | E6: 0.90947464 | F6: 0.55196088 | G6: 76.496735 | H6: 0.22638802 | I6: 0.26561366 | J6: 0.53290843 | K6: 4.3366754 | L6: 0.07116653 | M6: 5.2668836 | N6: 0.013448793 | O6: 22.20788 | P6: 19.717051 | Q6: 0.030259785 | R6: 0.01400916 | S6: 2.3008644 | T6: 0.80020319 | U6: 2.6594988 | V6: 0.14121233 | W6: 0.0050432974 | X6: 0.0056036638 | Y6: 0.29923565 | Z6: 0.17987761 | AA6: 0.41411076 | AB6: 14.75893 | AC6: 0.0016810991 | AD6: 0.0072847629 | AE6: 9.7206756 | AF6: 1786.861
A7: 土木工事業 | B7: 317.01172 | C7: 10.659935 | D7: 0.017245099 | E7: 0.075549957 | F7: 0.0086225494 | G7: 6.130222 | H7: 0.025046453 | I7: 0.0032847807 | J7: 0.16711322 | K7: 0.36173648 | L7: 0.054198882 | M7: 4.4122817 | N7: 0.021761672 | O7: 1.2921506 | P7: 1.7364172 | Q7: 0.00082119518 | R7: 0.00082119518 | S7: 0.20981537 | T7: 0.083761909 | U7: 0.29152429 | V7: 0.136729 | W7: 0 | X7: 0.026278246 | Y7: 0.082530116 | Z7: 0.045576333 | AA7: 0.062821431 | AB7: 0.63149909 | AC7: 0.065695615 | AD7: 0.15684828 | AE7: 0.97270569 | AF7: 344.74472
A8: ほ装工事業 | B8: 40.69211 | C8: 5.8013447 | D8: 0.010023922 | E8: 0.2180203 | F8: 0.51122001 | G8: 28.756125 | H8: 0 | I8: 0.015035883 | J8: 0 | K8: 3.3028822 | L8: 1.6815129 | M8: 0.077685393 | N8: 0 | O8: 285.14048 | P8: 0 | Q8: 0.015035883 | R8: 0 | S8: 0.56384559 | T8: 0.0075179413 | U8: 0.95728452 | V8: 0.010023922 | W8: 0 | X8: 0 | Y8: 2.3581276 | Z8: 0 | AA8: 0.045107648 | AB8: 0.7041805 | AC8: 0 | AD8: 0 | AE8: 5.4429895 | AF8: 376.31055
A9: しゅんせつ工事業 | B9: 65.923277 | C9: 0 | D9: 0 | E9: 0 | F9: 0 | G9: 33.634325 | H9: 8.5206957 | I9: 0 | J9: 0 | K9: 0 | L9: 0 | M9: 0 | N9: 0 | O9: 0 | P9: 228.56392 | Q9: 0 | R9: 0 | S9: 0 | T9: 0 | U9: 0 | V9: 0 | W9: 0 | X9: 0 | Y9: 0 | Z9: 0 | AA9: 0 | AB9: 0 | AC9: 0 | AD9: 0 | AE9: 0 | AF9: 336.64222
A10: 造園工事業 | B10: 8.6686414 | C10: 0.85208626 | D10: 0 | E10: 0 | F10: 0 | G10: 4.4931043 | H10: 0.025153838 | I10: 0 | J10: 0 | K10: 0.0094326893 | L10: 0.0031442298 | M10: 0.028298068 | N10: 0 | O10: 1.7859225 | P10: 0.050307676 | Q10: 0 | R10: 0 | S10: 0.018865379 | T10: 0 | U10: 0.11004804 | V10: 0.1163365 | W10: 0 | X10: 0 | Y10: 118.25448 | Z10: 0 | AA10: 0 | AB10: 0.15406726 | AC10: 0 | AD10: 0 | AE10: 0.088038433 | AF10: 134.65793
A11: 水道施設工事業 | B11: 15.060219 | C11: 0.20656161 | D11: 0 | E11: 0.018778328 | F11: 0 | G11: 8.1748322 | H11: 0 | I11: 0 | J11: 0.075113313 | K11: 19.967622 | L11: 1.0265486 | M11: 0.18778328 | N11: 0 | O11: 6.3220372 | P11: 0.031297214 | Q11: 0 | R11: 0.025037771 | S11: 0.043816099 | T11: 0 | U11: 0.093891641 | V11: 3.0796458 | W11: 0 | X11: 0 | Y11: 0.25663715 | Z11: 0.28793437 | AA11: 0 | AB11: 170.72004 | AC11: 0 | AD11: 0 | AE11: 1.3082235 | AF11: 226.88602
A12: 建築工事業 | B12: 10.010525 | C12: 447.78106 | D12: 1.7028475 | E12: 1.5016351 | F12: 0.043056629 | G12: 4.2006948 | H12: 0.00028141587 | I12: 0.25496278 | J12: 0.72211313 | K12: 3.8387939 | L12: 0.15562298 | M12: 0.25749552 | N12: 0.19867961 | O12: 0.42521939 | P12: 0.0036584064 | Q12: 0.038553975 | R12: 0.027578756 | S12: 8.2401382 | T12: 2.4663287 | U12: 3.8199391 | V12: 0.047277867 | W12: 0.00028141587 | X12: 0.037991143 | Y12: 0.0095681397 | Z12: 0.00028141587 | AA12: 0.41818399 | AB12: 0.10524954 | AC12: 0.054313264 | AD12: 0.0084424762 | AE12: 2.687803 | AF12: 489.05858
A13: 木造建築工事業 | B13: 0.050948249 | C13: 0.39514514 | D13: 260.94271 | E13: 0.78555091 | F13: 0.0041469505 | G13: 0.083531431 | H13: 0 | I13: 0.20971721 | J13: 0.019549909 | K13: 0.093602597 | L13: 0.013625694 | M13: 0.0005924215 | N13: 0.0041469505 | O13: 0.0017772645 | P13: 0 | Q13: 0.029028653 | R13: 0.0077014795 | S13: 0.2203808 | T13: 0.1569917 | U13: 0.34538173 | V13: 0.032583182 | W13: 0.002369686 | X13: 0.0005924215 | Y13: 0.024289281 | Z13: 0.0005924215 | AA13: 0.056280042 | AB13: 0.005924215 | AC13: 0 | AD13: 0.026658967 | AE13: 0.14988264 | AF13: 263.66371
A14: 大工工事業 | B14: 0.48008493 | C14: 4.7148952 | D14: 3.981141 | E14: 145.25609 | F14: 0.023060848 | G14: 7.3228675 | H14: 0.096436274 | I14: 0.22431916 | J14: 0.23480136 | K14: 0.63941443 | L14: 0.11949712 | M14: 0.13207577 | N14: 0.52201374 | O14: 0.19916187 | P14: 0 | Q14: 0.031446611 | R14: 0.071278985 | S14: 0.35849137 | T14: 0.25157289 | U14: 1.2327072 | V14: 0.020964407 | W14: 0 | X14: 0.033543052 | Y14: 0.0020964407 | Z14: 0 | AA14: 0.47379561 | AB14: 0.025157289 | AC14: 0.0020964407 | AD14: 0 | AE14: 5.7400547 | AF14: 172.18906
A15: とび・土工・ｺﾝｸﾘｰﾄ工事業 | B15: 12.275603 | C15: 12.394734 | D15: 0.55190996 | E15: 1.8740722 | F15: 0.10467931 | G15: 182.79781 | H15: 0.0074212946 | I15: 0.68119673 | J15: 0.25154283 | K15: 1.5448011 | L15: 0.43980936 | M15: 1.5518318 | N15: 0.0050777279 | O15: 2.3263806 | P15: 2.4533238 | Q15: 0.05351144 | R15: 0.0054683224 | S15: 1.7205686 | T15: 1.0589016 | U15: 1.1522536 | V15: 1.608468 | W15: 0.072650569 | X15: 0.013280211 | Y15: 2.4892585 | Z15: 0.13592687 | AA15: 0.040621823 | AB15: 0.16131551 | AC15: 0 | AD15: 0.016404967 | AE15: 1.9092257 | AF15: 229.69805
A16: 鋼構造物工事業 | B16: 2.8259096 | C16: 9.591078 | D16: 0.17384522 | E16: 0.053633101 | F16: 0 | G16: 11.041021 | H16: 0 | I16: 0.27556317 | J16: 8.8309675 | K16: 2.7186434 | L16: 0.0018494173 | M16: 596.41303 | N16: 0.035138928 | O16: 0.11651329 | P16: 0 | Q16: 0.1072662 | R16: 0.26261725 | S16: 2.5799371 | T16: 0.0036988346 | U16: 2.6428173 | V16: 7.388422 | W16: 0.2885091 | X16: 1.0874574 | Y16: 0.0018494173 | Z16: 0.024042425 | AA16: 0.35508812 | AB16: 0.21638182 | AC16: 0.064729605 | AD16: 0.24042425 | AE16: 0.41981772 | AF16: 647.76025
A17: 鉄筋工事業 | B17: 0.034543803 | C17: 0 | D17: 0 | E17: 0 | F17: 0 | G17: 1.2875418 | H17: 0 | I17: 0 | J17: 0 | K17: 0 | L17: 0 | M17: 0 | N17: 136.34753 | O17: 0 | P17: 0 | Q17: 0 | R17: 0 | S17: 0 | T17: 0 | U17: 0 | V17: 0 | W17: 0 | X17: 0 | Y17: 0 | Z17: 0 | AA17: 0 | AB17: 0 | AC17: 0 | AD17: 0 | AE17: 0 | AF17: 137.66962
... A36: 合 計 | B36: 64.128386 | C36: 99.198452 | D36: 13.873642 | E36: 2.7181881 | F36: 0.8593536 | G36: 20.94404 | H36: 0.36434277 | I36: 1.5771775 | J36: 26.45597 | K36: 37.360323 | L36: 1.8367531 | M36: 10.869768 | N36: 1.3495602 | O36: 5.0555917 | P36: 1.4599075 | Q36: 1.3942601 | R36: 0.42718519 | S36: 5.6457016 | T36: 3.1553695 | U36: 11.041078 | V36: 9.7892129 | W36: 2.1050418 | X36: 10.871768 | Y36: 1.3783257 | Z36: 0.43461527 | AA36: 3.2232847 | AB36: 1.9411324 | AC36: 1.302503 | AD36: 0.05221948 | AE36: 3.2202411 | AF36: 344.03339
Y37: （注） | Z37: 1.各数値は、業種別完工高を工事種別に分けたもの

Sheet 2-5-2
A1: 表2－5－2 建設業部門における多角化＜構成比＞
AF3: （単位：％）
A4: 工事種類 | B4: 土木 一式 工事 | C4: 建築 一式 工事 | D4: 木造 建築 一式 工事 | E4: 大工 工事 | F4: 左官 工事 | G4: とび・ 土工・ ｺﾝｸﾘｰﾄ 工事 | H4: 石 工事 | I4: 屋根 工事 | J4: 電気 工事 | K4: 管 工事 | L4: ﾀｲﾙ・ れんが・ ﾌﾞﾛｯｸ 工事 | M4: 鋼構 造物 工事 | N4: 鉄筋 工事 | O4: ほ装 工事 | P4: しゅん せつ 工事 | Q4: 板金 工事 | R4: ガラス 工事 | S4: 塗装 工事 | T4: 防水 工事 | U4: 内装 仕上 工事 | V4: 機械 器具 設置 工事 | W4: 熱絶縁 工事 | X4: 電気 通信 工事 | Y4: 造園 工事 | Z4: さく井 工事 | AA4: 建具 工事 | AB4: 水道 施設 工事 | AC4: 消防 施設 工事 | AD4: 清掃 施設 工事 | AE4: 解体 工事業 | AF4: 合 計
A5: 業種
A6: 一般土木建築工事業 | B6: =IF('2-5-1'!B6<>"",'2-5-1'!B6/'2-5-1'!$AF6*100,"") -> 39.72783 | C6: =IF('2-5-1'!C6<>"",'2-5-1'!C6/'2-5-1'!$AF6*100,"") -> 50.792681 | D6: =IF('2-5-1'!D6<>"",'2-5-1'!D6/'2-5-1'!$AF6*100,"") -> 0.4169676 | E6: =IF('2-5-1'!E6<>"",'2-5-1'!E6/'2-5-1'!$AF6*100,"") -> 0.050897895 | F6: =IF('2-5-1'!F6<>"",'2-5-1'!F6/'2-5-1'!$AF6*100,"") -> 0.030889973 | G6: =IF('2-5-1'!G6<>"",'2-5-1'!G6/'2-5-1'!$AF6*100,"") -> 4.281068 | H6: =IF('2-5-1'!H6<>"",'2-5-1'!H6/'2-5-1'!$AF6*100,"") -> 0.012669593 | I6: =IF('2-5-1'!I6<>"",'2-5-1'!I6/'2-5-1'!$AF6*100,"") -> 0.01486482 | ... AF6: =IF('2-5-1'!AF6<>"",'2-5-1'!AF6/'2-5-1'!$AF6*100,"") -> 100
A7: 土木工事業 | B7: =IF('2-5-1'!B7<>"",'2-5-1'!B7/'2-5-1'!$AF7*100,"") -> 91.955499 | C7: =IF('2-5-1'!C7<>"",'2-5-1'!C7/'2-5-1'!$AF7*100,"") -> 3.0921241 | D7: =IF('2-5-1'!D7<>"",'2-5-1'!D7/'2-5-1'!$AF7*100,"") -> 0.0050022808 | E7: =IF('2-5-1'!E7<>"",'2-5-1'!E7/'2-5-1'!$AF7*100,"") -> 0.021914754 | F7: =IF('2-5-1'!F7<>"",'2-5-1'!F7/'2-5-1'!$AF7*100,"") -> 0.0025011404 | G7: =IF('2-5-1'!G7<>"",'2-5-1'!G7/'2-5-1'!$AF7*100,"") -> 1.7781917 | H7: =IF('2-5-1'!H7<>"",'2-5-1'!H7/'2-5-1'!$AF7*100,"") -> 0.0072652174 | I7: =IF('2-5-1'!I7<>"",'2-5-1'!I7/'2-5-1'!$AF7*100,"") -> 0.00095281539 | ... AF7: =IF('2-5-1'!AF7<>"",'2-5-1'!AF7/'2-5-1'!$AF7*100,"") -> 100
A8: ほ装工事業 | B8: =IF('2-5-1'!B8<>"",'2-5-1'!B8/'2-5-1'!$AF8*100,"") -> 10.813439 | C8: =IF('2-5-1'!C8<>"",'2-5-1'!C8/'2-5-1'!$AF8*100,"") -> 1.5416375 | D8: =IF('2-5-1'!D8<>"",'2-5-1'!D8/'2-5-1'!$AF8*100,"") -> 0.0026637366 | E8: =IF('2-5-1'!E8<>"",'2-5-1'!E8/'2-5-1'!$AF8*100,"") -> 0.05793627 | F8: =IF('2-5-1'!F8<>"",'2-5-1'!F8/'2-5-1'!$AF8*100,"") -> 0.13585056 | G8: =IF('2-5-1'!G8<>"",'2-5-1'!G8/'2-5-1'!$AF8*100,"") -> 7.6415942 | H8: =IF('2-5-1'!H8<>"",'2-5-1'!H8/'2-5-1'!$AF8*100,"") -> 0 | I8: =IF('2-5-1'!I8<>"",'2-5-1'!I8/'2-5-1'!$AF8*100,"") -> 0.0039956048 | ... AF8: =IF('2-5-1'!AF8<>"",'2-5-1'!AF8/'2-5-1'!$AF8*100,"") -> 100
A9: しゅんせつ工事業 | B9: =IF('2-5-1'!B9<>"",'2-5-1'!B9/'2-5-1'!$AF9*100,"") -> 19.582593 | C9: =IF('2-5-1'!C9<>"",'2-5-1'!C9/'2-5-1'!$AF9*100,"") -> 0 | D9: =IF('2-5-1'!D9<>"",'2-5-1'!D9/'2-5-1'!$AF9*100,"") -> 0 | E9: =IF('2-5-1'!E9<>"",'2-5-1'!E9/'2-5-1'!$AF9*100,"") -> 0 | F9: =IF('2-5-1'!F9<>"",'2-5-1'!F9/'2-5-1'!$AF9*100,"") -> 0 | G9: =IF('2-5-1'!G9<>"",'2-5-1'!G9/'2-5-1'!$AF9*100,"") -> 9.991119 | H9: =IF('2-5-1'!H9<>"",'2-5-1'!H9/'2-5-1'!$AF9*100,"") -> 2.5310835 | I9: =IF('2-5-1'!I9<>"",'2-5-1'!I9/'2-5-1'!$AF9*100,"") -> 0 | ... AF9: =IF('2-5-1'!AF9<>"",'2-5-1'!AF9/'2-5-1'!$AF9*100,"") -> 100
A10: 造園工事業 | B10: =IF('2-5-1'!B10<>"",'2-5-1'!B10/'2-5-1'!$AF10*100,"") -> 6.4375277 | C10: =IF('2-5-1'!C10<>"",'2-5-1'!C10/'2-5-1'!$AF10*100,"") -> 0.63277839 | D10: =IF('2-5-1'!D10<>"",'2-5-1'!D10/'2-5-1'!$AF10*100,"") -> 0 | E10: =IF('2-5-1'!E10<>"",'2-5-1'!E10/'2-5-1'!$AF10*100,"") -> 0 | F10: =IF('2-5-1'!F10<>"",'2-5-1'!F10/'2-5-1'!$AF10*100,"") -> 0 | G10: =IF('2-5-1'!G10<>"",'2-5-1'!G10/'2-5-1'!$AF10*100,"") -> 3.3366801 | H10: =IF('2-5-1'!H10<>"",'2-5-1'!H10/'2-5-1'!$AF10*100,"") -> 0.018679805 | I10: =IF('2-5-1'!I10<>"",'2-5-1'!I10/'2-5-1'!$AF10*100,"") -> 0 | ... AF10: =IF('2-5-1'!AF10<>"",'2-5-1'!AF10/'2-5-1'!$AF10*100,"") -> 100
A11: 水道施設工事業 | B11: =IF('2-5-1'!B11<>"",'2-5-1'!B11/'2-5-1'!$AF11*100,"") -> 6.6377907 | C11: =IF('2-5-1'!C11<>"",'2-5-1'!C11/'2-5-1'!$AF11*100,"") -> 0.091042017 | D11: =IF('2-5-1'!D11<>"",'2-5-1'!D11/'2-5-1'!$AF11*100,"") -> 0 | E11: =IF('2-5-1'!E11<>"",'2-5-1'!E11/'2-5-1'!$AF11*100,"") -> 0.008276547 | F11: =IF('2-5-1'!F11<>"",'2-5-1'!F11/'2-5-1'!$AF11*100,"") -> 0 | G11: =IF('2-5-1'!G11<>"",'2-5-1'!G11/'2-5-1'!$AF11*100,"") -> 3.6030568 | H11: =IF('2-5-1'!H11<>"",'2-5-1'!H11/'2-5-1'!$AF11*100,"") -> 0 | I11: =IF('2-5-1'!I11<>"",'2-5-1'!I11/'2-5-1'!$AF11*100,"") -> 0 | ... AF11: =IF('2-5-1'!AF11<>"",'2-5-1'!AF11/'2-5-1'!$AF11*100,"") -> 100
A12: 建築工事業 | B12: =IF('2-5-1'!B12<>"",'2-5-1'!B12/'2-5-1'!$AF12*100,"") -> 2.046897 | C12: =IF('2-5-1'!C12<>"",'2-5-1'!C12/'2-5-1'!$AF12*100,"") -> 91.559801 | D12: =IF('2-5-1'!D12<>"",'2-5-1'!D12/'2-5-1'!$AF12*100,"") -> 0.34818885 | E12: =IF('2-5-1'!E12<>"",'2-5-1'!E12/'2-5-1'!$AF12*100,"") -> 0.30704606 | F12: =IF('2-5-1'!F12<>"",'2-5-1'!F12/'2-5-1'!$AF12*100,"") -> 0.0088039819 | G12: =IF('2-5-1'!G12<>"",'2-5-1'!G12/'2-5-1'!$AF12*100,"") -> 0.85893489 | H12: =IF('2-5-1'!H12<>"",'2-5-1'!H12/'2-5-1'!$AF12*100,"") -> 5.7542366e-05 | I12: =IF('2-5-1'!I12<>"",'2-5-1'!I12/'2-5-1'!$AF12*100,"") -> 0.052133383 | ... AF12: =IF('2-5-1'!AF12<>"",'2-5-1'!AF12/'2-5-1'!$AF12*100,"") -> 100
A13: 木造建築工事業 | B13: =IF('2-5-1'!B13<>"",'2-5-1'!B13/'2-5-1'!$AF13*100,"") -> 0.019323194 | C13: =IF('2-5-1'!C13<>"",'2-5-1'!C13/'2-5-1'!$AF13*100,"") -> 0.1498671 | D13: =IF('2-5-1'!D13<>"",'2-5-1'!D13/'2-5-1'!$AF13*100,"") -> 98.968007 | E13: =IF('2-5-1'!E13<>"",'2-5-1'!E13/'2-5-1'!$AF13*100,"") -> 0.29793669 | F13: =IF('2-5-1'!F13<>"",'2-5-1'!F13/'2-5-1'!$AF13*100,"") -> 0.0015728181 | G13: =IF('2-5-1'!G13<>"",'2-5-1'!G13/'2-5-1'!$AF13*100,"") -> 0.03168105 | H13: =IF('2-5-1'!H13<>"",'2-5-1'!H13/'2-5-1'!$AF13*100,"") -> 0 | I13: =IF('2-5-1'!I13<>"",'2-5-1'!I13/'2-5-1'!$AF13*100,"") -> 0.079539659 | ... AF13: =IF('2-5-1'!AF13<>"",'2-5-1'!AF13/'2-5-1'!$AF13*100,"") -> 100
A14: 大工工事業 | B14: =IF('2-5-1'!B14<>"",'2-5-1'!B14/'2-5-1'!$AF14*100,"") -> 0.27881267 | C14: =IF('2-5-1'!C14<>"",'2-5-1'!C14/'2-5-1'!$AF14*100,"") -> 2.7382083 | D14: =IF('2-5-1'!D14<>"",'2-5-1'!D14/'2-5-1'!$AF14*100,"") -> 2.3120754 | E14: =IF('2-5-1'!E14<>"",'2-5-1'!E14/'2-5-1'!$AF14*100,"") -> 84.358487 | F14: =IF('2-5-1'!F14<>"",'2-5-1'!F14/'2-5-1'!$AF14*100,"") -> 0.013392748 | G14: =IF('2-5-1'!G14<>"",'2-5-1'!G14/'2-5-1'!$AF14*100,"") -> 4.2528064 | H14: =IF('2-5-1'!H14<>"",'2-5-1'!H14/'2-5-1'!$AF14*100,"") -> 0.056006039 | I14: =IF('2-5-1'!I14<>"",'2-5-1'!I14/'2-5-1'!$AF14*100,"") -> 0.13027492 | ... AF14: =IF('2-5-1'!AF14<>"",'2-5-1'!AF14/'2-5-1'!$AF14*100,"") -> 100
A15: とび・土工・ｺﾝｸﾘｰﾄ工事業 | B15: =IF('2-5-1'!B15<>"",'2-5-1'!B15/'2-5-1'!$AF15*100,"") -> 5.3442345 | C15: =IF('2-5-1'!C15<>"",'2-5-1'!C15/'2-5-1'!$AF15*100,"") -> 5.3960988 | D15: =IF('2-5-1'!D15<>"",'2-5-1'!D15/'2-5-1'!$AF15*100,"") -> 0.24027629 | E15: =IF('2-5-1'!E15<>"",'2-5-1'!E15/'2-5-1'!$AF15*100,"") -> 0.8158851 | F15: =IF('2-5-1'!F15<>"",'2-5-1'!F15/'2-5-1'!$AF15*100,"") -> 0.045572573 | G15: =IF('2-5-1'!G15<>"",'2-5-1'!G15/'2-5-1'!$AF15*100,"") -> 79.581787 | H15: =IF('2-5-1'!H15<>"",'2-5-1'!H15/'2-5-1'!$AF15*100,"") -> 0.0032308914 | I15: =IF('2-5-1'!I15<>"",'2-5-1'!I15/'2-5-1'!$AF15*100,"") -> 0.29656182 | ... AF15: =IF('2-5-1'!AF15<>"",'2-5-1'!AF15/'2-5-1'!$AF15*100,"") -> 100
A16: 鋼構造物工事業 | B16: =IF('2-5-1'!B16<>"",'2-5-1'!B16/'2-5-1'!$AF16*100,"") -> 0.43625857 | C16: =IF('2-5-1'!C16<>"",'2-5-1'!C16/'2-5-1'!$AF16*100,"") -> 1.4806524 | D16: =IF('2-5-1'!D16<>"",'2-5-1'!D16/'2-5-1'!$AF16*100,"") -> 0.026837896 | E16: =IF('2-5-1'!E16<>"",'2-5-1'!E16/'2-5-1'!$AF16*100,"") -> 0.0082797765 | F16: =IF('2-5-1'!F16<>"",'2-5-1'!F16/'2-5-1'!$AF16*100,"") -> 0 | G16: =IF('2-5-1'!G16<>"",'2-5-1'!G16/'2-5-1'!$AF16*100,"") -> 1.7044919 | H16: =IF('2-5-1'!H16<>"",'2-5-1'!H16/'2-5-1'!$AF16*100,"") -> 0 | I16: =IF('2-5-1'!I16<>"",'2-5-1'!I16/'2-5-1'!$AF16*100,"") -> 0.042540921 | ... AF16: =IF('2-5-1'!AF16<>"",'2-5-1'!AF16/'2-5-1'!$AF16*100,"") -> 100
A17: 鉄筋工事業 | B17: =IF('2-5-1'!B17<>"",'2-5-1'!B17/'2-5-1'!$AF17*100,"") -> 0.025091813 | C17: =IF('2-5-1'!C17<>"",'2-5-1'!C17/'2-5-1'!$AF17*100,"") -> 0 | D17: =IF('2-5-1'!D17<>"",'2-5-1'!D17/'2-5-1'!$AF17*100,"") -> 0 | E17: =IF('2-5-1'!E17<>"",'2-5-1'!E17/'2-5-1'!$AF17*100,"") -> 0 | F17: =IF('2-5-1'!F17<>"",'2-5-1'!F17/'2-5-1'!$AF17*100,"") -> 0 | G17: =IF('2-5-1'!G17<>"",'2-5-1'!G17/'2-5-1'!$AF17*100,"") -> 0.93524031 | H17: =IF('2-5-1'!H17<>"",'2-5-1'!H17/'2-5-1'!$AF17*100,"") -> 0 | I17: =IF('2-5-1'!I17<>"",'2-5-1'!I17/'2-5-1'!$AF17*100,"") -> 0 | ... AF17: =IF('2-5-1'!AF17<>"",'2-5-1'!AF17/'2-5-1'!$AF17*100,"") -> 100
... A36: 合 計 | B36: =IF('2-5-1'!B36<>"",'2-5-1'!B36/'2-5-1'!$AF36*100,"") -> 18.640163 | C36: =IF('2-5-1'!C36<>"",'2-5-1'!C36/'2-5-1'!$AF36*100,"") -> 28.83396 | D36: =IF('2-5-1'!D36<>"",'2-5-1'!D36/'2-5-1'!$AF36*100,"") -> 4.0326439 | E36: =IF('2-5-1'!E36<>"",'2-5-1'!E36/'2-5-1'!$AF36*100,"") -> 0.79009425 | F36: =IF('2-5-1'!F36<>"",'2-5-1'!F36/'2-5-1'!$AF36*100,"") -> 0.24978785 | G36: =IF('2-5-1'!G36<>"",'2-5-1'!G36/'2-5-1'!$AF36*100,"") -> 6.0877927 | H36: =IF('2-5-1'!H36<>"",'2-5-1'!H36/'2-5-1'!$AF36*100,"") -> 0.10590332 | I36: =IF('2-5-1'!I36<>"",'2-5-1'!I36/'2-5-1'!$AF36*100,"") -> 0.45843733 | ... AF36: =IF('2-5-1'!AF36<>"",'2-5-1'!AF36/'2-5-1'!$AF36*100,"") -> 100
X37: （注） | Y37: 各数値は業種別完工高の合計を100とした場合の構成比
