Workbook
Name ______________________ＴＢＬ１: [1]CSS編集画面!$B$10:$F$22
Name ______________________ＴＢＬ２: [1]CSS編集画面!$B$24:$I$35
Name _____________________ＴＢＬ１: [1]CSS編集画面!$B$10:$F$22
Name _____________________ＴＢＬ２: [1]CSS編集画面!$B$24:$I$35
Name ____________________ＴＢＬ１: [1]CSS編集画面!$B$10:$F$22
Name ____________________ＴＢＬ２: [1]CSS編集画面!$B$24:$I$35
Name ___________________ＴＢＬ１: [1]CSS編集画面!$B$10:$F$22
Name ___________________ＴＢＬ２: [1]CSS編集画面!$B$24:$I$35
Name __________________ＴＢＬ１: [1]CSS編集画面!$B$10:$F$22
Name __________________ＴＢＬ２: [1]CSS編集画面!$B$24:$I$35
Name _________________ＴＢＬ１: [1]CSS編集画面!$B$10:$F$22
Name _________________ＴＢＬ２: [1]CSS編集画面!$B$24:$I$35
Name ________________ＴＢＬ１: [1]CSS編集画面!$B$10:$F$22
Name ________________ＴＢＬ２: [1]CSS編集画面!$B$24:$I$35
Name _______________ＴＢＬ１: [1]CSS編集画面!$B$10:$F$22
Name _______________ＴＢＬ２: [1]CSS編集画面!$B$24:$I$35
Name ______________ＴＢＬ１: [1]CSS編集画面!$B$10:$F$22
Name ______________ＴＢＬ２: [1]CSS編集画面!$B$24:$I$35
Name _____________ＴＢＬ１: [1]CSS編集画面!$B$10:$F$22
Name _____________ＴＢＬ２: [1]CSS編集画面!$B$24:$I$35
Name ____________ＴＢＬ１: [1]CSS編集画面!$B$10:$F$22
Name ____________ＴＢＬ２: [1]CSS編集画面!$B$24:$I$35
Name ___________ＴＢＬ１: [1]CSS編集画面!$B$10:$F$22
Name ___________ＴＢＬ２: [1]CSS編集画面!$B$24:$I$35
Name __________ＴＢＬ１: [1]CSS編集画面!$B$10:$F$22
Name __________ＴＢＬ２: [1]CSS編集画面!$B$24:$I$35
Name _________ＴＢＬ１: [1]CSS編集画面!$B$10:$F$22
Name _________ＴＢＬ２: [1]CSS編集画面!$B$24:$I$35
Name ________ＴＢＬ１: [1]CSS編集画面!$B$10:$F$22
Name ________ＴＢＬ２: [1]CSS編集画面!$B$24:$I$35
Name _______ＴＢＬ１: [1]CSS編集画面!$B$10:$F$22
Name _______ＴＢＬ２: [1]CSS編集画面!$B$24:$I$35
Name ______ＴＢＬ１: [1]CSS編集画面!$B$10:$F$22
Name ______ＴＢＬ２: [1]CSS編集画面!$B$24:$I$35
Name _____ＴＢＬ１: [1]CSS編集画面!$B$10:$F$22
Name _____ＴＢＬ２: [1]CSS編集画面!$B$24:$I$35
Name ____ＴＢＬ１: [1]CSS編集画面!$B$10:$F$22
Name ____ＴＢＬ２: [1]CSS編集画面!$B$24:$I$35
Name ___ＴＢＬ１: [1]CSS編集画面!$B$10:$F$22
Name ___ＴＢＬ２: [1]CSS編集画面!$B$24:$I$35
Name __ＴＢＬ１: [1]CSS編集画面!$B$10:$F$22
Name __ＴＢＬ２: [1]CSS編集画面!$B$24:$I$35
Name _ＴＢＬ１: [1]CSS編集画面!$B$10:$F$22
Name _ＴＢＬ２: [1]CSS編集画面!$B$24:$I$35
Name PAGE1: #REF!
Name PAGE10: #REF!
Name PAGE100: #REF!
Name PAGE1000: #REF!
Name PAGE1001: #REF!
Name PAGE1002: #REF!
Name PAGE1003: #REF!
Name PAGE1004: #REF!
Name PAGE1005: #REF!
Name PAGE1006: #REF!
Name PAGE1007: #REF!
Name PAGE1008: #REF!
Name PAGE1009: #REF!
Name PAGE101: #REF!
Name PAGE1010: #REF!
Name PAGE1011: #REF!

Sheet 2-8-1
A1: 表2－8－1 特定業者への専属状況（下請比率上位１社）（下請完工高のある企業のみ対象）
W3: （単位：社、％）
C4: 資本金 | D4: 個 人 | F4: 法 人 | V4: 合 計
A5: 業種 | C5: 専属比率 | F5: 500万円未満 | H5: 500万円以上 1000万円未満 | J5: 1000万円以上 3000万円未満 | L5: 3000万円以上 5000万円未満 | N5: 5000万円以上 1億円未満 | P5: 1億円以上 3億円未満 | R5: 3億円以上 10億円未満 | T5: 10億円以上
A6: 一般土木建築 | B6: 一般土木建築工事業 | C6: 10%未満 | D6: 99 | E6: 100 | J6: 273.8 | K6: 11.627907 | L6: 321.05263 | M6: 28.571429 | N6: 143.27273 | O6: 25 | P6: 49.428571 | Q6: 35.294118 | R6: 13 | S6: 50 | T6: 10.4 | U6: 23.529412 | V6: 909.95393 | W6: 15.771245
C7: 10%以上30%未満 | F7: 462 | G7: 100 | H7: 405.85714 | I7: 42.857143 | J7: 821.4 | K7: 34.883721 | L7: 361.18421 | M7: 32.142857 | N7: 171.92727 | O7: 30 | P7: 20.595238 | Q7: 14.705882 | R7: 4.3333333 | S7: 16.666667 | T7: 7.8 | U7: 17.647059 | V7: 2255.0972 | W7: 39.085154
C8: 30%以上50%未満 | H8: 270.57143 | I8: 28.571429 | J8: 547.6 | K8: 23.255814 | L8: 160.52632 | M8: 14.285714 | N8: 85.963636 | O8: 15 | P8: 12.357143 | Q8: 8.8235294 | T8: 13 | U8: 29.411765 | V8: 1090.0185 | W8: 18.892109
C9: 50%以上70%未満 | H9: 135.28571 | I9: 14.285714 | J9: 219.04 | K9: 9.3023256 | L9: 120.39474 | M9: 10.714286 | N9: 42.981818 | O9: 7.5 | P9: 45.309524 | Q9: 32.352941 | R9: 4.3333333 | S9: 16.666667 | T9: 10.4 | U9: 23.529412 | V9: 577.74513 | W9: 10.01343
C10: 70%以上 | H10: 135.28571 | I10: 14.285714 | J10: 492.84 | K10: 20.930233 | L10: 160.52632 | M10: 14.285714 | N10: 128.94545 | O10: 22.5 | P10: 12.357143 | Q10: 8.8235294 | R10: 4.3333333 | S10: 16.666667 | T10: 2.6 | U10: 5.8823529 | V10: 936.88796 | W10: 16.238063
B11: 小 計 | D11: 99 | E11: 100 | F11: 462 | G11: 100 | H11: 947 | I11: 100 | J11: 2354.68 | K11: 100 | L11: 1123.6842 | M11: 100 | N11: 573.09091 | O11: 100 | P11: 140.04762 | Q11: 100 | R11: 26 | S11: 100 | T11: 44.2 | U11: 100 | V11: 5769.7027 | W11: 100
A12: 土 木 | B12: 土木工事業 | C12: 10%未満 | F12: 387.9375 | G12: 6.6666667 | H12: 819.66102 | I12: 17.021277 | J12: 2335.6579 | K12: 25.862069 | L12: 455.36585 | M12: 15.625 | N12: 169.77966 | O12: 20 | P12: 12.875 | Q12: 20 | T12: 10 | U12: 50 | V12: 4191.2769 | W12: 16.404988
C13: 10%以上30%未満 | F13: 1551.75 | G13: 26.666667 | H13: 1024.5763 | I13: 21.276596 | J13: 2024.2368 | K13: 22.413793 | L13: 819.65854 | M13: 28.125 | N13: 320.69492 | O13: 37.777778 | P13: 16.09375 | Q13: 25 | R13: 10.8 | S13: 75 | T13: 2.5 | U13: 12.5 | V13: 5770.3103 | W13: 22.585449
C14: 30%以上50%未満 | D14: 336.83333 | E14: 16.666667 | F14: 517.25 | G14: 8.8888889 | H14: 922.11864 | I14: 19.148936 | J14: 1557.1053 | K14: 17.241379 | L14: 591.97561 | M14: 20.3125 | N14: 150.91525 | O14: 17.777778 | P14: 6.4375 | Q14: 10 | R14: 3.6 | S14: 25 | T14: 2.5 | U14: 12.5 | V14: 4088.7356 | W14: 16.003633
C15: 50%以上70%未満 | D15: 336.83333 | E15: 16.666667 | F15: 905.1875 | G15: 15.555556 | H15: 717.20339 | I15: 14.893617 | J15: 778.55263 | K15: 8.6206897 | L15: 455.36585 | M15: 15.625 | N15: 94.322034 | O15: 11.111111 | P15: 12.875 | Q15: 20 | T15: 2.5 | U15: 12.5 | V15: 3302.8397 | W15: 12.927575
C16: 70%以上 | D16: 1347.3333 | E16: 66.666667 | F16: 2456.9375 | G16: 42.222222 | H16: 1331.9492 | I16: 27.659574 | J16: 2335.6579 | K16: 25.862069 | L16: 591.97561 | M16: 20.3125 | N16: 113.18644 | O16: 13.333333 | P16: 16.09375 | Q16: 25 | T16: 2.5 | U16: 12.5 | V16: 8195.6337 | W16: 32.078355
B17: 小 計 | D17: 2021 | E17: 100 | F17: 5819.0625 | G17: 100 | H17: 4815.5085 | I17: 100 | J17: 9031.2105 | K17: 100 | L17: 2914.3415 | M17: 100 | N17: 848.89831 | O17: 100 | P17: 64.375 | Q17: 100 | R17: 14.4 | S17: 100 | T17: 20 | U17: 100 | V17: 25548.796 | W17: 100
B18: ほ装工事業 | C18: 10%未満 | D18: 4.8333333 | E18: 16.666667 | F18: 30.551724 | G18: 3.7037037 | H18: 29.708333 | I18: 4.3478261 | J18: 199.14286 | K18: 15 | L18: 59.652174 | M18: 19.512195 | N18: 29.935484 | O18: 25.806452 | P18: 2 | Q18: 20 | T18: 6 | U18: 100 | V18: 361.82391 | W18: 10.955979
C19: 10%以上30%未満 | F19: 122.2069 | G19: 14.814815 | H19: 237.66667 | I19: 34.782609 | J19: 697 | K19: 52.5 | L19: 126.76087 | M19: 41.463415 | N19: 59.870968 | O19: 51.612903 | P19: 4 | Q19: 40 | V19: 1247.5054 | W19: 37.774295
C20: 30%以上50%未満 | D20: 4.8333333 | E20: 16.666667 | F20: 122.2069 | G20: 14.814815 | H20: 89.125 | I20: 13.043478 | J20: 232.33333 | K20: 17.5 | L20: 82.021739 | M20: 26.829268 | N20: 18.709677 | O20: 16.129032 | P20: 4 | Q20: 40 | V20: 553.22998 | W20: 16.751729
C21: 50%以上70%未満 | D21: 4.8333333 | E21: 16.666667 | F21: 183.31034 | G21: 22.222222 | H21: 89.125 | I21: 13.043478 | J21: 99.571429 | K21: 7.5 | L21: 14.913043 | M21: 4.8780488 | V21: 391.75315 | W21: 11.862232
C22: 70%以上 | D22: 14.5 | E22: 50 | F22: 366.62069 | G22: 44.444444 | H22: 237.66667 | I22: 34.782609 | J22: 99.571429 | K22: 7.5 | L22: 22.369565 | M22: 7.3170732 | N22: 7.483871 | O22: 6.4516129 | V22: 748.21222 | W22: 22.655765
B23: 小 計 | D23: 29 | E23: 100 | F23: 824.89655 | G23: 100 | H23: 683.29167 | I23: 100 | J23: 1327.619 | K23: 100 | L23: 305.71739 | M23: 100 | N23: 116 | O23: 100 | P23: 10 | Q23: 100 | T23: 6 | U23: 100 | V23: 3302.5247 | W23: 100
B24: しゅんせつ工事業 | C24: 10%未満
C25: 10%以上30%未満 | J25: 30.666667 | K25: 100 | L25: 9 | M25: 33.333333 | V25: 39.666667 | W25: 29.455446
C26: 30%以上50%未満
C27: 50%以上70%未満 | H27: 69 | I27: 100 | L27: 9 | M27: 33.333333 | V27: 78 | W27: 57.920792
C28: 70%以上 | L28: 9 | M28: 33.333333 | N28: 8 | O28: 100 | V28: 17 | W28: 12.623762
B29: 小 計 | H29: 69 | I29: 100 | J29: 30.666667 | K29: 100 | L29: 27 | M29: 100 | N29: 8 | O29: 100 | V29: 134.66667 | W29: 100
B30: 造園工事業 | C30: 10%未満 | D30: 203 | E30: 100 | H30: 61.5 | I30: 22.222222 | J30: 120.51064 | K30: 20.512821 | L30: 37.531915 | M30: 28.571429 | N30: 10 | O30: 29.411765 | V30: 432.54255 | W30: 26.667218
C31: 10%以上30%未満 | F31: 129.8 | G31: 33.333333 | H31: 123 | I31: 44.444444 | J31: 195.82979 | K31: 33.333333 | L31: 53.170213 | M31: 40.47619 | N31: 20 | O31: 58.823529 | V31: 521.8 | W31: 32.170139
C32: 30%以上50%未満 | F32: 129.8 | G32: 33.333333 | H32: 61.5 | I32: 22.222222 | J32: 105.44681 | K32: 17.948718 | L32: 18.765957 | M32: 14.285714 | N32: 2 | O32: 5.8823529 | V32: 317.51277 | W32: 19.575373
C33: 50%以上70%未満 | F33: 129.8 | G33: 33.333333 | J33: 15.06383 | K33: 2.5641026 | L33: 12.510638 | M33: 9.5238095 | N33: 2 | O33: 5.8823529 | V33: 159.37447 | W33: 9.8257931
C34: 70%以上 | H34: 30.75 | I34: 11.111111 | J34: 150.6383 | K34: 25.641026 | L34: 9.3829787 | M34: 7.1428571 | V34: 190.77128 | W34: 11.761477
B35: 小 計 | D35: 203 | E35: 100 | F35: 389.4 | G35: 100 | H35: 276.75 | I35: 100 | J35: 587.48936 | K35: 100 | L35: 131.3617 | M35: 100 | N35: 34 | O35: 100 | V35: 1622.0011 | W35: 100
B36: 水道施設工事業 | C36: 10%未満 | F36: 29.846154 | G36: 9.0909091 | J36: 71.459459 | K36: 12.5 | L36: 24.6875 | M36: 18.518519 | N36: 16 | O36: 50 | V36: 141.99311 | W36: 10.155533
C37: 10%以上30%未満 | F37: 149.23077 | G37: 45.454545 | H37: 95.111111 | I37: 28.571429 | J37: 196.51351 | K37: 34.375 | L37: 29.625 | M37: 22.222222 | N37: 5.3333333 | O37: 16.666667 | V37: 475.81373 | W37: 34.030819
C38: 30%以上50%未満 | F38: 89.538462 | G38: 27.272727 | H38: 95.111111 | I38: 28.571429 | J38: 142.91892 | K38: 25 | L38: 29.625 | M38: 22.222222 | N38: 5.3333333 | O38: 16.666667 | V38: 362.52682 | W38: 25.928392
C39: 50%以上70%未満 | F39: 29.846154 | G39: 9.0909091 | H39: 95.111111 | I39: 28.571429 | J39: 71.459459 | K39: 12.5 | L39: 4.9375 | M39: 3.7037037 | V39: 201.35422 | W39: 14.401117
C40: 70%以上 | F40: 29.846154 | G40: 9.0909091 | H40: 47.555556 | I40: 14.285714 | J40: 89.324324 | K40: 15.625 | L40: 44.4375 | M40: 33.333333 | N40: 5.3333333 | O40: 16.666667 | V40: 216.49687 | W40: 15.484139
B41: 小 計 | F41: 328.30769 | G41: 100 | H41: 332.88889 | I41: 100 | J41: 571.67568 | K41: 100 | L41: 133.3125 | M41: 100 | N41: 32 | O41: 100 | V41: 1398.1848 | W41: 100
...

Sheet 2-8-2
A1: 表2－8－2 特定業者への専属状況（下請比率上位1社）（経年変化）（下請完工高のある企業のみ対象）
S3: （単位：社、％）
B4: 年度 | C4: R06年度 | F4: R01年度 | I4: H26年度 | L4: H23年度 | O4: H20年度 | R4: H17年度
A6: 業種 | B6: 専属比率 | E6: 増減 | H6: 増減 | K6: 増減 | N6: 増減 | Q6: 増減
A7: 一般土木建築 | B7: １０％未満 | C7: ='2-8-1'!V6 -> 909.95393 | D7: ='2-8-1'!W6 -> 15.771245 | E7: =D7-G7 -> -25.114888 | F7: 1101.3854 | G7: 40.886132 | H7: =G7-J7 -> 3.3786919 | I7: 1310.5788 | J7: 37.50744 | K7: =J7-M7 -> 6.3074404 | L7: 1106.59 | M7: 31.2 | N7: =M7-P7 -> 1.1 | O7: 1321.41 | P7: 30.1 | Q7: =P7-S7 -> -2.5 | R7: 1673 | S7: 32.6
B8: １０％以上３０％未満 | C8: ='2-8-1'!V7 -> 2255.0972 | D8: ='2-8-1'!W7 -> 39.085154 | E8: =D8-G8 -> 18.758499 | F8: 547.55682 | G8: 20.326655 | H8: =G8-J8 -> -9.9494956 | I8: 1057.9043 | J8: 30.27615 | K8: =J8-M8 -> 5.2761501 | L8: 888.91 | M8: 25 | N8: =M8-P8 -> -6.1 | O8: 1365.89 | P8: 31.1 | Q8: =P8-S8 -> -1.2 | R8: 1658 | S8: 32.3
B9: ３０％以上５０％未満 | C9: ='2-8-1'!V8 -> 1090.0185 | D9: ='2-8-1'!W8 -> 18.892109 | E9: =D9-G9 -> -0.094853831 | F9: 511.46838 | G9: 18.986963 | H9: =G9-J9 -> 5.8313887 | I9: 459.6799 | J9: 13.155574 | K9: =J9-M9 -> -7.044426 | L9: 718.43 | M9: 20.2 | N9: =M9-P9 -> 1 | O9: 844.71 | P9: 19.2 | Q9: =P9-S9 -> 3.1 | R9: 825 | S9: 16.1
B10: ５０％以上７０％未満 | C10: ='2-8-1'!V9 -> 577.74513 | D10: ='2-8-1'!W9 -> 10.01343 | E10: =D10-G10 -> 0.85978158 | F10: 246.5798 | G10: 9.1536481 | H10: =G10-J10 -> -1.6184386 | I10: 376.39648 | J10: 10.772087 | K10: =J10-M10 -> -0.027913294 | L10: 384.27 | M10: 10.8 | N10: =M10-P10 -> 1 | O10: 430.28 | P10: 9.8 | Q10: =P10-S10 -> 0.4 | R10: 483 | S10: 9.4
B11: ７０％以上 | C11: ='2-8-1'!V10 -> 936.88796 | D11: ='2-8-1'!W10 -> 16.238063 | E11: =D11-G11 -> 5.5914606 | F11: 286.79681 | G11: 10.646602 | H11: =G11-J11 -> 2.3578536 | I11: 289.62409 | J11: 8.2887487 | K11: =J11-M11 -> -4.4112513 | L11: 452.3 | M11: 12.7 | N11: =M11-P11 -> 2.8 | O11: 434.01 | P11: 9.9 | Q11: =P11-S11 -> 0.3 | R11: 493 | S11: 9.6
B12: 小 計 | C12: ='2-8-1'!V11 -> 5769.7027 | D12: ='2-8-1'!W11 -> 100 | E12: - | F12: 2693.7872 | G12: 100 | H12: - | I12: 3494.1835 | J12: 100 | K12: - | L12: 3550.49 | M12: 100 | N12: - | O12: 4396.31 | P12: 100 | Q12: - | R12: 5133 | S12: 100
A13: 土 木 | B13: １０％未満 | C13: ='2-8-1'!V42 -> 5127.6365 | D13: ='2-8-1'!W42 -> 16.020773 | E13: =D13-G13 -> -3.815208 | F13: 4968.8524 | G13: 19.835981 | H13: =G13-J13 -> -1.8410567 | I13: 7160.6846 | J13: 21.677038 | K13: =J13-M13 -> 3.8770379 | L13: 5915.16 | M13: 17.8 | N13: =M13-P13 -> -2.6 | O13: 7865.75 | P13: 20.4 | Q13: =P13-S13 -> -0.7 | R13: 9895 | S13: 21.1
B14: １０％以上３０％未満 | C14: ='2-8-1'!V43 -> 8055.0961 | D14: ='2-8-1'!W43 -> 25.16732 | E14: =D14-G14 -> -2.3588537 | F14: 6895.222 | G14: 27.526174 | H14: =G14-J14 -> -0.69619526 | I14: 9322.8366 | J14: 28.222369 | K14: =J14-M14 -> -4.077631 | L14: 10700 | M14: 32.3 | N14: =M14-P14 -> 2.5 | O14: 11451.13 | P14: 29.8 | Q14: =P14-S14 -> -3 | R14: 15416 | S14: 32.8
B15: ３０％以上５０％未満 | C15: ='2-8-1'!V44 -> 5322.0052 | D15: ='2-8-1'!W44 -> 16.628058 | E15: =D15-G15 -> -3.0632319 | F15: 4932.6077 | G15: 19.69129 | H15: =G15-J15 -> 1.0143295 | I15: 6169.6541 | J15: 18.676961 | K15: =J15-M15 -> -0.12303928 | L15: 6219.63 | M15: 18.8 | N15: =M15-P15 -> -0.6 | O15: 7452.48 | P15: 19.4 | Q15: =P15-S15 -> 0.3 | R15: 8955 | S15: 19.1
B16: ５０％以上７０％未満 | C16: ='2-8-1'!V45 -> 4133.3216 | D16: ='2-8-1'!W45 -> 12.914139 | E16: =D16-G16 -> 0.42062579 | F16: 3129.5866 | G16: 12.493513 | H16: =G16-J16 -> 2.9154959 | I16: 3163.9543 | J16: 9.5780169 | K16: =J16-M16 -> -2.3219831 | L16: 3943.41 | M16: 11.9 | N16: =M16-P16 -> -1 | O16: 4966.43 | P16: 12.9 | Q16: =P16-S16 -> 1.2 | R16: 5503 | S16: 11.7
B17: ７０％以上 | C17: ='2-8-1'!V46 -> 9368.114 | D17: ='2-8-1'!W46 -> 29.26971 | E17: =D17-G17 -> 8.8166677 | F17: 5123.4242 | G17: 20.453042 | H17: =G17-J17 -> -1.3925735 | I17: 7216.3716 | J17: 21.845615 | K17: =J17-M17 -> 2.6456154 | L17: 6366.54 | M17: 19.2 | N17: =M17-P17 -> 1.7 | O17: 6728.93 | P17: 17.5 | Q17: =P17-S17 -> 2.1 | R17: 7228 | S17: 15.4
B18: 小 計 | C18: ='2-8-1'!V47 -> 32006.173 | D18: ='2-8-1'!W47 -> 100 | E18: - | F18: 25049.693 | G18: 100 | H18: - | I18: 33033.501 | J18: 100 | K18: - | L18: 33144.74 | M18: 100 | N18: - | O18: 38464.72 | P18: 100 | Q18: - | R18: 46997 | S18: 100
A19: 建 築 | B19: １０％未満 | C19: ='2-8-1'!V48 -> 6509.0595 | D19: ='2-8-1'!W48 -> 17.641743 | E19: =D19-G19 -> -9.5640352 | F19: 4169.4199 | G19: 27.205779 | H19: =G19-J19 -> -5.016027 | I19: 6670.8134 | J19: 32.221806 | K19: =J19-M19 -> 6.3218056 | L19: 5422.43 | M19: 25.9 | N19: =M19-P19 -> -4.6 | O19: 6654.54 | P19: 30.5 | Q19: =P19-S19 -> 3.3 | R19: 6880 | S19: 27.2
B20: １０％以上３０％未満 | C20: ='2-8-1'!V49 -> 9154.4754 | D20: ='2-8-1'!W49 -> 24.811711 | E20: =D20-G20 -> -6.2464076 | F20: 4759.8101 | G20: 31.058119 | H20: =G20-J20 -> 10.138968 | I20: 4330.8484 | J20: 20.919151 | K20: =J20-M20 -> -1.9808487 | L20: 4787.1 | M20: 22.9 | N20: =M20-P20 -> 2.9 | O20: 4373.43 | P20: 20 | Q20: =P20-S20 -> -4.5 | R20: 6181 | S20: 24.5
B21: ３０％以上５０％未満 | C21: ='2-8-1'!V50 -> 5381.8629 | D21: ='2-8-1'!W50 -> 14.586661 | E21: =D21-G21 -> -2.1952374 | F21: 2571.9088 | G21: 16.781898 | H21: =G21-J21 -> 2.8438598 | I21: 2885.5632 | J21: 13.938039 | K21: =J21-M21 -> -4.4619613 | L21: 3856.43 | M21: 18.4 | N21: =M21-P21 -> 3.8 | O21: 3185.44 | P21: 14.6 | Q21: =P21-S21 -> -0.3 | R21: 3766 | S21: 14.9
B22: ５０％以上７０％未満 | C22: ='2-8-1'!V51 -> 3399.8064 | D22: ='2-8-1'!W51 -> 9.2146204 | E22: =D22-G22 -> 1.7651576 | F22: 1141.6669 | G22: 7.4494628 | H22: =G22-J22 -> -5.7201478 | I22: 2726.4771 | J22: 13.169611 | K22: =J22-M22 -> -0.33038949 | L22: 2831.23 | M22: 13.5 | N22: =M22-P22 -> 0.3 | O22: 2891.23 | P22: 13.2 | Q22: =P22-S22 -> 2 | R22: 2842 | S22: 11.2
B23: ７０％以上 | C23: ='2-8-1'!V52 -> 12450.58 | D23: ='2-8-1'!W52 -> 33.745264 | E23: =D23-G23 -> 16.240523 | F23: 2682.688 | G23: 17.504741 | H23: =G23-J23 -> -2.2466528 | I23: 4089.09 | J23: 19.751394 | K23: =J23-M23 -> 0.5513939 | L23: 4026.3 | M23: 19.2 | N23: =M23-P23 -> -2.4 | O23: 4716.22 | P23: 21.6 | Q23: =P23-S23 -> -0.5 | R23: 5594 | S23: 22.1
B24: 小 計 | C24: ='2-8-1'!V53 -> 36895.784 | D24: ='2-8-1'!W53 -> 100 | E24: - | F24: 15325.494 | G24: 100 | H24: - | I24: 20702.792 | J24: 100 | K24: - | L24: 20923.49 | M24: 100 | N24: - | O24: 21820.86 | P24: 100 | Q24: - | R24: 25263 | S24: 100
A25: 木造建築 | B25: １０％未満 | C25: ='2-8-1'!V54 -> 1900.5265 | D25: ='2-8-1'!W54 -> 30.294624 | E25: =D25-G25 -> 21.472846 | F25: 289.29748 | G25: 8.8217782 | H25: =G25-J25 -> -30.417635 | I25: 2537.0654 | J25: 39.239413 | K25: =J25-M25 -> 9.5394133 | L25: 1404.84 | M25: 29.7 | N25: =M25-P25 -> -4.8 | O25: 1879.12 | P25: 34.5 | Q25: =P25-S25 -> 3.1 | R25: 2378 | S25: 31.4
B26: １０％以上３０％未満 | C26: ='2-8-1'!V55 -> 567.71912 | D26: ='2-8-1'!W55 -> 9.0495121 | E26: =D26-G26 -> -18.20813 | F26: 893.87502 | G26: 27.257642 | H26: =G26-J26 -> 5.3995335 | I26: 1413.2589 | J26: 21.858108 | K26: =J26-M26 -> 8.1581083 | L26: 646.36 | M26: 13.7 | N26: =M26-P26 -> -8.3 | O26: 1196.82 | P26: 22 | Q26: =P26-S26 -> 0.6 | R26: 1622 | S26: 21.4
B27: ３０％以上５０％未満 | C27: ='2-8-1'!V56 -> 1090.1773 | D27: ='2-8-1'!W56 -> 17.377558 | E27: =D27-G27 -> -5.2304314 | F27: 741.3964 | G27: 22.60799 | H27: =G27-J27 -> 10.195598 | I27: 802.53619 | J27: 12.412391 | K27: =J27-M27 -> -3.3876085 | L27: 748.18 | M27: 15.8 | N27: =M27-P27 -> -1.9 | O27: 963.23 | P27: 17.7 | Q27: =P27-S27 -> 2.8 | R27: 1130 | S27: 14.9
B28: ５０％以上７０％未満 | C28: ='2-8-1'!V57 -> 741.63089 | D28: ='2-8-1'!W57 -> 11.821687 | E28: =D28-G28 -> -1.8680703 | F28: 448.93583 | G28: 13.689757 | H28: =G28-J28 -> 1.3661711 | I28: 796.79438 | J28: 12.323586 | K28: =J28-M28 -> -5.2764139 | L28: 830.18 | M28: 17.6 | N28: =M28-P28 -> 9.6 | O28: 437.57 | P28: 8 | Q28: =P28-S28 -> 2.2 | R28: 443 | S28: 5.8
B29: ７０％以上 | C29: ='2-8-1'!V58 -> 1973.424 | D29: ='2-8-1'!W58 -> 31.456619 | E29: =D29-G29 -> 3.8337858 | F29: 905.85094 | G29: 27.622833 | H29: =G29-J29 -> 13.456332 | I29: 915.94996 | J29: 14.166501 | K29: =J29-M29 -> -9.0334992 | L29: 1098.58 | M29: 23.2 | N29: =M29-P29 -> 5.5 | O29: 965.97 | P29: 17.7 | Q29: =P29-S29 -> -8.8 | R29: 2008 | S29: 26.5
B30: 小 計 | C30: ='2-8-1'!V59 -> 6273.4777 | D30: ='2-8-1'!W59 -> 100 | E30: - | F30: 3279.3557 | G30: 100 | H30: - | I30: 6465.6049 | J30: 100 | K30: - | L30: 4728.14 | M30: 100 | N30: - | O30: 5442.71 | P30: 100 | Q30: - | R30: 7582 | S30: 100
A31: 職 別 | B31: １０％未満 | C31: ='2-8-1'!V168 -> 7256.3405 | D31: ='2-8-1'!W168 -> 7.7621201 | E31: =D31-G31 -> -0.8459634 | F31: 3466.5483 | G31: 8.6080835 | H31: =G31-J31 -> -2.4264721 | I31: 4858.7156 | J31: 11.034556 | K31: =J31-M31 -> 0.33455561 | L31: 4499.56 | M31: 10.7 | N31: =M31-P31 -> 0.1 | O31: 4294.08 | P31: 10.6 | Q31: =P31-S31 -> -2.8 | R31: 5682 | S31: 13.4
B32: １０％以上３０％未満 | C32: ='2-8-1'!V169 -> 26951.687 | D32: ='2-8-1'!W169 -> 28.830267 | E32: =D32-G32 -> -4.7681432 | F32: 13530.365 | G32: 33.59841 | H32: =G32-J32 -> -0.85811183 | I32: 15171.833 | J32: 34.456522 | K32: =J32-M32 -> -0.3434782 | L32: 14607.02 | M32: 34.8 | N32: =M32-P32 -> -4.1 | O32: 15763.66 | P32: 38.9 | Q32: =P32-S32 -> 0.1 | R32: 16479 | S32: 38.8
B33: ３０％以上５０％未満 | C33: ='2-8-1'!V170 -> 26214.204 | D33: ='2-8-1'!W170 -> 28.04138 | E33: =D33-G33 -> 2.91347 | F33: 10119.223 | G33: 25.12791 | H33: =G33-J33 -> 1.6266922 | I33: 10348.014 | J33: 23.501218 | K33: =J33-M33 -> -0.59878234 | L33: 10097.67 | M33: 24.1 | N33: =M33-P33 -> 0.7 | O33: 9476.67 | P33: 23.4 | Q33: =P33-S33 -> 0.4 | R33: 9755 | S33: 23
B34: ５０％以上７０％未満 | C34: ='2-8-1'!V171 -> 14761.091 | D34: ='2-8-1'!W171 -> 15.789965 | E34: =D34-G34 -> 3.3023721 | F34: 5028.8596 | G34: 12.487593 | H34: =G34-J34 -> -1.2570761 | I34: 6052.0278 | J34: 13.744669 | K34: =J34-M34 -> -0.2553311 | L34: 5852.93 | M34: 14 | N34: =M34-P34 -> 1.7 | O34: 4993.99 | P34: 12.3 | Q34: =P34-S34 -> 0.8 | R34: 4884 | S34: 11.5
B35: ７０％以上 | C35: ='2-8-1'!V172 -> 18300.679 | D35: ='2-8-1'!W172 -> 19.576268 | E35: =D35-G35 -> -0.60173554 | F35: 8125.8535 | G35: 20.178004 | H35: =G35-J35 -> 2.9149679 | I35: 7601.2289 | J35: 17.263036 | K35: =J35-M35 -> 0.86303603 | L35: 6877.96 | M35: 16.4 | N35: =M35-P35 -> 1.6 | O35: 6018.2 | P35: 14.8 | Q35: =P35-S35 -> 1.5 | R35: 5650 | S35: 13.3
B36: 小 計 | C36: ='2-8-1'!V173 -> 93484.002 | D36: ='2-8-1'!W173 -> 100 | E36: - | F36: 40270.849 | G36: 100 | H36: - | I36: 44031.82 | J36: 100 | K36: - | L36: 41935.14 | M36: 100 | N36: - | O36: 40546.6 | P36: 100 | Q36: - | R36: 42450 | S36: 100
A37: 設 備 | B37: １０％未満 | C37: ='2-8-1'!V216 -> 7368.6218 | D37: ='2-8-1'!W216 -> 12.114355 | E37: =D37-G37 -> 0.43699452 | F37: 3605.2544 | G37: 11.677361 | H37: =G37-J37 -> -0.43548959 | I37: 4375.0073 | J37: 12.11285 | K37: =J37-M37 -> -4.1871498 | L37: 5657.17 | M37: 16.3 | N37: =M37-P37 -> 1.4 | O37: 5116.34 | P37: 14.9 | Q37: =P37-S37 -> -2.3 | R37: 6448 | S37: 17.2
B38: １０％以上３０％未満 | C38: ='2-8-1'!V217 -> 14884.015 | D38: ='2-8-1'!W217 -> 24.470009 | E38: =D38-G38 -> -1.3436606 | F38: 7969.6814 | G38: 25.813669 | H38: =G38-J38 -> -4.8654388 | I38: 11080.903 | J38: 30.679108 | K38: =J38-M38 -> 0.97910813 | L38: 10289.16 | M38: 29.7 | N38: =M38-P38 -> -4.9 | O38: 11876.91 | P38: 34.6 | Q38: =P38-S38 -> -2 | R38: 13766 | S38: 36.6
B39: ３０％以上５０％未満 | C39: ='2-8-1'!V218 -> 14934.547 | D39: ='2-8-1'!W218 -> 24.553087 | E39: =D39-G39 -> -1.3132084 | F39: 7985.929 | G39: 25.866295 | H39: =G39-J39 -> 3.466154 | I39: 8090.6459 | J39: 22.400141 | K39: =J39-M39 -> 1.6001412 | L39: 7221.24 | M39: 20.8 | N39: =M39-P39 -> 1.9 | O39: 6486.8 | P39: 18.9 | Q39: =P39-S39 -> -0.8 | R39: 7404 | S39: 19.7
B40: ５０％以上７０％未満 | C40: ='2-8-1'!V219 -> 9781.1928 | D40: ='2-8-1'!W219 -> 16.080734 | E40: =D40-G40 -> 3.3846519 | F40: 3919.773 | G40: 12.696082 | H40: =G40-J40 -> -2.8258491 | I40: 5606.3238 | J40: 15.521931 | K40: =J40-M40 -> 3.9219306 | L40: 4007.53 | M40: 11.6 | N40: =M40-P40 -> -1.1 | O40: 4381.11 | P40: 12.7 | Q40: =P40-S40 -> 2.5 | R40: 3836 | S40: 10.2
B41: ７０％以上 | C41: ='2-8-1'!V220 -> 13857.162 | D41: ='2-8-1'!W220 -> 22.781816 | E41: =D41-G41 -> -1.1647775 | F41: 7393.2426 | G41: 23.946593 | H41: =G41-J41 -> 4.6606235 | I41: 6965.8469 | J41: 19.28597 | K41: =J41-M41 -> -2.3140301 | L41: 7495.76 | M41: 21.6 | N41: =M41-P41 -> 2.7 | O41: 6505.45 | P41: 18.9 | Q41: =P41-S41 -> 2.6 | R41: 6111 | S41: 16.3
B42: 小 計 | C42: ='2-8-1'!V221 -> 60825.539 | D42: ='2-8-1'!W221 -> 100 | E42: - | F42: 30873.88 | G42: 100 | H42: - | I42: 36118.727 | J42: 100 | K42: - | L42: 34670.86 | M42: 100 | N42: - | O42: 34366.62 | P42: 100 | Q42: - | R42: 37564 | S42: 100
...

Sheet 2-8-3
A1: 表2－8－3 特定業者への専属状況（下請比率上位１社）（下請比率、次数別集計）（下請完工高のある企業のみ対象）
A3: （概要） | M3: （単位：社、％）
A4: 下請比率、次数 | B4: ０％超 ５０％未満 | D4: ５０％以上１００％以下 | L4: 合 計
A5: 専属比率 | F5: 一次下請 | H5: 二次下請 | J5: 三次以下下請
A6: １０％未満 | B6: =SUM(H18,P18,X18,H27,P27) -> 19810.41 | C6: =IF(ISNUMBER(B6),B6/B$11*100,"") -> 28.383067 | D6: =F6+H6+J6 -> 13513.703 | E6: =IF(ISNUMBER(D6),D6/D$11*100,"") -> 8.0893012 | F6: =SUM(R27,B36,J36,R36,B45,J45) -> 11624.691 | G6: =IF(ISNUMBER(F6),F6/F$11*100,"") -> 9.415457 | H6: =SUM(T27,D36,L36,T36,D45,L45) -> 1598.395 | I6: =IF(ISNUMBER(H6),H6/H$11*100,"") -> 4.3024772 | J6: =SUM(V27,F36,N36,V36,F45,N45) -> 290.61727 | K6: =IF(ISNUMBER(J6),J6/J$11*100,"") -> 4.5112782 | L6: =X45 -> 33324.113 | M6: =IF(ISNUMBER(L6),L6/L$11*100,"") -> 14.06953
A7: １０％以上３０％未満 | B7: =SUM(H19,P19,X19,H28,P28) -> 21166.624 | C7: =IF(ISNUMBER(B7),B7/B$11*100,"") -> 30.326162 | D7: =F7+H7+J7 -> 57057.857 | E7: =IF(ISNUMBER(D7),D7/D$11*100,"") -> 34.154827 | F7: =SUM(R28,B37,J37,R37,B46,J46) -> 44076.952 | G7: =IF(ISNUMBER(F7),F7/F$11*100,"") -> 35.700275 | H7: =SUM(T28,D37,L37,T37,D46,L46) -> 11818.436 | I7: =IF(ISNUMBER(H7),H7/H$11*100,"") -> 31.812256 | J7: =SUM(V28,F37,N37,V37,F46,N46) -> 1162.4691 | K7: =IF(ISNUMBER(J7),J7/J$11*100,"") -> 18.045113 | L7: =X46 -> 78224.481 | M7: =IF(ISNUMBER(L7),L7/L$11*100,"") -> 33.026585
A8: ３０％以上５０％未満 | B8: =SUM(H20,P20,X20,H29,P29) -> 11915.308 | C8: =IF(ISNUMBER(B8),B8/B$11*100,"") -> 17.071478 | D8: =F8+H8+J8 -> 38506.788 | E8: =IF(ISNUMBER(D8),D8/D$11*100,"") -> 23.050159 | F8: =SUM(R29,B38,J38,R38,B47,J47) -> 28722.673 | G8: =IF(ISNUMBER(F8),F8/F$11*100,"") -> 23.264025 | H8: =SUM(T29,D38,L38,T38,D47,L47) -> 8185.7197 | I8: =IF(ISNUMBER(H8),H8/H$11*100,"") -> 22.033898 | J8: =SUM(V29,F38,N38,V38,F47,N47) -> 1598.395 | K8: =IF(ISNUMBER(J8),J8/J$11*100,"") -> 24.81203 | L8: =X47 -> 50422.096 | M8: =IF(ISNUMBER(L8),L8/L$11*100,"") -> 21.288344
A9: ５０％以上７０％未満 | B9: =SUM(H21,P21,X21,H30,P30) -> 7652.9214 | C9: =IF(ISNUMBER(B9),B9/B$11*100,"") -> 10.964608 | D9: =F9+H9+J9 -> 23491.562 | E9: =IF(ISNUMBER(D9),D9/D$11*100,"") -> 14.062047 | F9: =SUM(R30,B39,J39,R39,B48,J48) -> 16662.057 | G9: =IF(ISNUMBER(F9),F9/F$11*100,"") -> 13.495488 | H9: =SUM(T30,D39,L39,T39,D48,L48) -> 5618.6005 | I9: =IF(ISNUMBER(H9),H9/H$11*100,"") -> 15.123859 | J9: =SUM(V30,F39,N39,V39,F48,N48) -> 1210.9053 | K9: =IF(ISNUMBER(J9),J9/J$11*100,"") -> 18.796992 | L9: =X48 -> 31144.484 | M9: =IF(ISNUMBER(L9),L9/L$11*100,"") -> 13.149284
A10: ７０％以上 | B10: =SUM(H22,P22,X22,H31,P31) -> 9251.3164 | C10: =IF(ISNUMBER(B10),B10/B$11*100,"") -> 13.254684 | D10: =F10+H10+J10 -> 34486.582 | E10: =IF(ISNUMBER(D10),D10/D$11*100,"") -> 20.643665 | F10: =SUM(R31,B40,J40,R40,B49,J49) -> 22377.53 | G10: =IF(ISNUMBER(F10),F10/F$11*100,"") -> 18.124755 | H10: =SUM(T31,D40,L40,T40,D49,L49) -> 9929.4233 | I10: =IF(ISNUMBER(H10),H10/H$11*100,"") -> 26.72751 | J10: =SUM(V31,F40,N40,V40,F49,N49) -> 2179.6295 | K10: =IF(ISNUMBER(J10),J10/J$11*100,"") -> 33.834586 | L10: =X49 -> 43737.899 | M10: =IF(ISNUMBER(L10),L10/L$11*100,"") -> 18.466258
A11: 合 計 | B11: =IF(SUM(B6:B10)>0,SUM(B6:B10),"") -> 69796.58 | C11: =IF(ISNUMBER(B11),B11/B$11*100,"") -> 100 | D11: =F11+H11+J11 -> 167056.49 | E11: =IF(ISNUMBER(D11),D11/D$11*100,"") -> 100 | F11: =IF(SUM(F6:F10)>0,SUM(F6:F10),"") -> 123463.9 | G11: =IF(ISNUMBER(F11),F11/F$11*100,"") -> 100 | H11: =IF(SUM(H6:H10)>0,SUM(H6:H10),"") -> 37150.574 | I11: =IF(ISNUMBER(H11),H11/H$11*100,"") -> 100 | J11: =IF(SUM(J6:J10)>0,SUM(J6:J10),"") -> 6442.0161 | K11: =IF(ISNUMBER(J11),J11/J$11*100,"") -> 100 | L11: =IF(SUM(L6:L10)>0,SUM(L6:L10),"") -> 236853.07 | M11: =IF(ISNUMBER(L11),L11/L$11*100,"") -> 100
F12: （注） | G12: 1. ( )の数値は各合計を100とした場合の構成比
A15: （下請比率別詳細）
A16: 下請比率、次数 | B16: ０％超１０％未満 | J16: １０％以上２０％未満 | R16: ２０％以上３０％未満
A17: 専属比率 | B17: 一次下請 | D17: 二次下請 | F17: 三次以下下請 | H17: 小 計 | J17: 一次下請 | L17: 二次下請 | N17: 三次以下下請 | P17: 小 計 | R17: 一次下請 | T17: 二次下請 | V17: 三次以下下請 | X17: 小 計
A18: １０％未満 | B18: 8331.0283 | C18: =IF(ISNUMBER(B18),B18/B$23*100,"") -> 44.102564 | D18: 290.61727 | E18: =IF(ISNUMBER(D18),D18/D$23*100,"") -> 66.666667 | G18: =IF(ISNUMBER(F18),F18/F$23*100,"") | H18: =IF(ISNUMBER(B18),B18,0)+IF(ISNUMBER(D18),D18,0)+IF(ISNUMBER(F18),F18,0) -> 8621.6456 | I18: =IF(ISNUMBER(H18),H18/H$23*100,"") -> 44.389027 | J18: 3778.0245 | K18: =IF(ISNUMBER(J18),J18/J$23*100,"") -> 29.323308 | L18: 193.74485 | M18: =IF(ISNUMBER(L18),L18/L$23*100,"") -> 40 | O18: =IF(ISNUMBER(N18),N18/N$23*100,"") | P18: =IF(ISNUMBER(J18),J18,0)+IF(ISNUMBER(L18),L18,0)+IF(ISNUMBER(N18),N18,0) -> 3971.7693 | Q18: =IF(ISNUMBER(P18),P18/P$23*100,"") -> 29.496403 | R18: 3196.7899 | S18: =IF(ISNUMBER(R18),R18/R$23*100,"") -> 26.4 | T18: 48.436211 | U18: =IF(ISNUMBER(T18),T18/T$23*100,"") -> 7.1428571 | W18: =IF(ISNUMBER(V18),V18/V$23*100,"") | X18: =IF(ISNUMBER(R18),R18,0)+IF(ISNUMBER(T18),T18,0)+IF(ISNUMBER(V18),V18,0) -> 3245.2262 | Y18: =IF(ISNUMBER(X18),X18/X$23*100,"") -> 25.378788
A19: １０％以上３０％未満 | B19: 2131.1933 | C19: =IF(ISNUMBER(B19),B19/B$23*100,"") -> 11.282051 | D19: 48.436211 | E19: =IF(ISNUMBER(D19),D19/D$23*100,"") -> 11.111111 | G19: =IF(ISNUMBER(F19),F19/F$23*100,"") | H19: =IF(ISNUMBER(B19),B19,0)+IF(ISNUMBER(D19),D19,0)+IF(ISNUMBER(F19),F19,0) -> 2179.6295 | I19: =IF(ISNUMBER(H19),H19/H$23*100,"") -> 11.221945 | J19: 4020.2055 | K19: =IF(ISNUMBER(J19),J19/J$23*100,"") -> 31.203008 | L19: 96.872423 | M19: =IF(ISNUMBER(L19),L19/L$23*100,"") -> 20 | O19: =IF(ISNUMBER(N19),N19/N$23*100,"") | P19: =IF(ISNUMBER(J19),J19,0)+IF(ISNUMBER(L19),L19,0)+IF(ISNUMBER(N19),N19,0) -> 4117.078 | Q19: =IF(ISNUMBER(P19),P19/P$23*100,"") -> 30.57554 | R19: 4068.6417 | S19: =IF(ISNUMBER(R19),R19/R$23*100,"") -> 33.6 | T19: 242.18106 | U19: =IF(ISNUMBER(T19),T19/T$23*100,"") -> 35.714286 | W19: =IF(ISNUMBER(V19),V19/V$23*100,"") | X19: =IF(ISNUMBER(R19),R19,0)+IF(ISNUMBER(T19),T19,0)+IF(ISNUMBER(V19),V19,0) -> 4310.8228 | Y19: =IF(ISNUMBER(X19),X19/X$23*100,"") -> 33.712121
A20: ３０％以上５０％未満 | B20: 2131.1933 | C20: =IF(ISNUMBER(B20),B20/B$23*100,"") -> 11.282051 | D20: 48.436211 | E20: =IF(ISNUMBER(D20),D20/D$23*100,"") -> 11.111111 | G20: =IF(ISNUMBER(F20),F20/F$23*100,"") | H20: =IF(ISNUMBER(B20),B20,0)+IF(ISNUMBER(D20),D20,0)+IF(ISNUMBER(F20),F20,0) -> 2179.6295 | I20: =IF(ISNUMBER(H20),H20/H$23*100,"") -> 11.221945 | J20: 1937.4485 | K20: =IF(ISNUMBER(J20),J20/J$23*100,"") -> 15.037594 | L20: 48.436211 | M20: =IF(ISNUMBER(L20),L20/L$23*100,"") -> 10 | N20: 48.436211 | O20: =IF(ISNUMBER(N20),N20/N$23*100,"") -> 50 | P20: =IF(ISNUMBER(J20),J20,0)+IF(ISNUMBER(L20),L20,0)+IF(ISNUMBER(N20),N20,0) -> 2034.3209 | Q20: =IF(ISNUMBER(P20),P20/P$23*100,"") -> 15.107914 | R20: 2518.683 | S20: =IF(ISNUMBER(R20),R20/R$23*100,"") -> 20.8 | T20: 193.74485 | U20: =IF(ISNUMBER(T20),T20/T$23*100,"") -> 28.571429 | W20: =IF(ISNUMBER(V20),V20/V$23*100,"") | X20: =IF(ISNUMBER(R20),R20,0)+IF(ISNUMBER(T20),T20,0)+IF(ISNUMBER(V20),V20,0) -> 2712.4278 | Y20: =IF(ISNUMBER(X20),X20/X$23*100,"") -> 21.212121
A21: ５０％以上７０％未満 | B21: 2324.9381 | C21: =IF(ISNUMBER(B21),B21/B$23*100,"") -> 12.307692 | E21: =IF(ISNUMBER(D21),D21/D$23*100,"") | F21: 96.872423 | G21: =IF(ISNUMBER(F21),F21/F$23*100,"") -> 100 | H21: =IF(ISNUMBER(B21),B21,0)+IF(ISNUMBER(D21),D21,0)+IF(ISNUMBER(F21),F21,0) -> 2421.8106 | I21: =IF(ISNUMBER(H21),H21/H$23*100,"") -> 12.468828 | J21: 1501.5225 | K21: =IF(ISNUMBER(J21),J21/J$23*100,"") -> 11.654135 | L21: 48.436211 | M21: =IF(ISNUMBER(L21),L21/L$23*100,"") -> 10 | N21: 48.436211 | O21: =IF(ISNUMBER(N21),N21/N$23*100,"") -> 50 | P21: =IF(ISNUMBER(J21),J21,0)+IF(ISNUMBER(L21),L21,0)+IF(ISNUMBER(N21),N21,0) -> 1598.395 | Q21: =IF(ISNUMBER(P21),P21/P$23*100,"") -> 11.870504 | R21: 1114.0329 | S21: =IF(ISNUMBER(R21),R21/R$23*100,"") -> 9.2 | T21: 48.436211 | U21: =IF(ISNUMBER(T21),T21/T$23*100,"") -> 7.1428571 | W21: =IF(ISNUMBER(V21),V21/V$23*100,"") | X21: =IF(ISNUMBER(R21),R21,0)+IF(ISNUMBER(T21),T21,0)+IF(ISNUMBER(V21),V21,0) -> 1162.4691 | Y21: =IF(ISNUMBER(X21),X21/X$23*100,"") -> 9.0909091
A22: ７０％以上 | B22: 3971.7693 | C22: =IF(ISNUMBER(B22),B22/B$23*100,"") -> 21.025641 | D22: 48.436211 | E22: =IF(ISNUMBER(D22),D22/D$23*100,"") -> 11.111111 | G22: =IF(ISNUMBER(F22),F22/F$23*100,"") | H22: =IF(ISNUMBER(B22),B22,0)+IF(ISNUMBER(D22),D22,0)+IF(ISNUMBER(F22),F22,0) -> 4020.2055 | I22: =IF(ISNUMBER(H22),H22/H$23*100,"") -> 20.698254 | J22: 1646.8312 | K22: =IF(ISNUMBER(J22),J22/J$23*100,"") -> 12.781955 | L22: 96.872423 | M22: =IF(ISNUMBER(L22),L22/L$23*100,"") -> 20 | O22: =IF(ISNUMBER(N22),N22/N$23*100,"") | P22: =IF(ISNUMBER(J22),J22,0)+IF(ISNUMBER(L22),L22,0)+IF(ISNUMBER(N22),N22,0) -> 1743.7036 | Q22: =IF(ISNUMBER(P22),P22/P$23*100,"") -> 12.94964 | R22: 1210.9053 | S22: =IF(ISNUMBER(R22),R22/R$23*100,"") -> 10 | T22: 145.30863 | U22: =IF(ISNUMBER(T22),T22/T$23*100,"") -> 21.428571 | W22: =IF(ISNUMBER(V22),V22/V$23*100,"") | X22: =IF(ISNUMBER(R22),R22,0)+IF(ISNUMBER(T22),T22,0)+IF(ISNUMBER(V22),V22,0) -> 1356.2139 | Y22: =IF(ISNUMBER(X22),X22/X$23*100,"") -> 10.606061
A23: 合 計 | B23: =IF(SUM(B18:B22)>0,SUM(B18:B22),"") -> 18890.122 | C23: =IF(ISNUMBER(B23),B23/B$23*100,"") -> 100 | D23: =IF(SUM(D18:D22)>0,SUM(D18:D22),"") -> 435.9259 | E23: =IF(ISNUMBER(D23),D23/D$23*100,"") -> 100 | F23: =IF(SUM(F18:F22)>0,SUM(F18:F22),"") -> 96.872423 | G23: =IF(ISNUMBER(F23),F23/F$23*100,"") -> 100 | H23: =IF(SUM(H18:H22)>0,SUM(H18:H22),"") -> 19422.921 | I23: =IF(ISNUMBER(H23),H23/H$23*100,"") -> 100 | J23: =IF(SUM(J18:J22)>0,SUM(J18:J22),"") -> 12884.032 | K23: =IF(ISNUMBER(J23),J23/J$23*100,"") -> 100 | L23: =IF(SUM(L18:L22)>0,SUM(L18:L22),"") -> 484.36211 | M23: =IF(ISNUMBER(L23),L23/L$23*100,"") -> 100 | N23: =IF(SUM(N18:N22)>0,SUM(N18:N22),"") -> 96.872423 | O23: =IF(ISNUMBER(N23),N23/N$23*100,"") -> 100 | P23: =IF(SUM(P18:P22)>0,SUM(P18:P22),"") -> 13465.267 | Q23: =IF(ISNUMBER(P23),P23/P$23*100,"") -> 100 | R23: =IF(SUM(R18:R22)>0,SUM(R18:R22),"") -> 12109.053 | S23: =IF(ISNUMBER(R23),R23/R$23*100,"") -> 100 | T23: =IF(SUM(T18:T22)>0,SUM(T18:T22),"") -> 678.10696 | U23: =IF(ISNUMBER(T23),T23/T$23*100,"") -> 100 | V23: =IF(SUM(V18:V22)>0,SUM(V18:V22),"") | W23: =IF(ISNUMBER(V23),V23/V$23*100,"") | X23: =IF(SUM(X18:X22)>0,SUM(X18:X22),"") -> 12787.16 | Y23: =IF(ISNUMBER(X23),X23/X$23*100,"") -> 100
A25: 下請比率、次数 | B25: ３０％以上４０％未満 | J25: ４０％以上５０％未満 | R25: ５０％以上６０％未満
A26: 専属比率 | B26: 一次下請 | D26: 二次下請 | F26: 三次以下下請 | H26: 小 計 | J26: 一次下請 | L26: 二次下請 | N26: 三次以下下請 | P26: 小 計 | R26: 一次下請 | T26: 二次下請 | V26: 三次以下下請 | X26: 小 計
A27: １０％未満 | B27: 2324.9381 | C27: =IF(ISNUMBER(B27),B27/B$32*100,"") -> 21.719457 | D27: 96.872423 | E27: =IF(ISNUMBER(D27),D27/D$32*100,"") -> 10 | G27: =IF(ISNUMBER(F27),F27/F$32*100,"") | H27: =IF(ISNUMBER(B27),B27,0)+IF(ISNUMBER(D27),D27,0)+IF(ISNUMBER(F27),F27,0) -> 2421.8106 | I27: =IF(ISNUMBER(H27),H27/H$32*100,"") -> 20.491803 | J27: 1404.6501 | K27: =IF(ISNUMBER(J27),J27/J$32*100,"") -> 12.184874 | L27: 145.30863 | M27: =IF(ISNUMBER(L27),L27/L$32*100,"") -> 18.75 | O27: =IF(ISNUMBER(N27),N27/N$32*100,"") | P27: =IF(ISNUMBER(J27),J27,0)+IF(ISNUMBER(L27),L27,0)+IF(ISNUMBER(N27),N27,0) -> 1549.9588 | Q27: =IF(ISNUMBER(P27),P27/P$32*100,"") -> 12.598425 | R27: 3196.7899 | S27: =IF(ISNUMBER(R27),R27/R$23*100,"") -> 26.4 | T27: 48.436211 | U27: =IF(ISNUMBER(T27),T27/T$23*100,"") -> 7.1428571 | W27: =IF(ISNUMBER(V27),V27/V$23*100,"") | X27: =IF(ISNUMBER(R27),R27,0)+IF(ISNUMBER(T27),T27,0)+IF(ISNUMBER(V27),V27,0) -> 3245.2262 | Y27: =IF(ISNUMBER(X27),X27/X$32*100,"") -> 25.378788
A28: １０％以上３０％未満 | B28: 4310.8228 | C28: =IF(ISNUMBER(B28),B28/B$32*100,"") -> 40.271493 | D28: 581.23454 | E28: =IF(ISNUMBER(D28),D28/D$32*100,"") -> 60 | F28: 96.872423 | G28: =IF(ISNUMBER(F28),F28/F$32*100,"") -> 66.666667 | H28: =IF(ISNUMBER(B28),B28,0)+IF(ISNUMBER(D28),D28,0)+IF(ISNUMBER(F28),F28,0) -> 4988.9298 | I28: =IF(ISNUMBER(H28),H28/H$32*100,"") -> 42.213115 | J28: 5231.1108 | K28: =IF(ISNUMBER(J28),J28/J$32*100,"") -> 45.378151 | L28: 339.05348 | M28: =IF(ISNUMBER(L28),L28/L$32*100,"") -> 43.75 | O28: =IF(ISNUMBER(N28),N28/N$32*100,"") | P28: =IF(ISNUMBER(J28),J28,0)+IF(ISNUMBER(L28),L28,0)+IF(ISNUMBER(N28),N28,0) -> 5570.1643 | Q28: =IF(ISNUMBER(P28),P28/P$32*100,"") -> 45.275591 | R28: 4068.6417 | S28: =IF(ISNUMBER(R28),R28/R$23*100,"") -> 33.6 | T28: 242.18106 | U28: =IF(ISNUMBER(T28),T28/T$23*100,"") -> 35.714286 | W28: =IF(ISNUMBER(V28),V28/V$23*100,"") | X28: =IF(ISNUMBER(R28),R28,0)+IF(ISNUMBER(T28),T28,0)+IF(ISNUMBER(V28),V28,0) -> 4310.8228 | Y28: =IF(ISNUMBER(X28),X28/X$32*100,"") -> 33.712121
A29: ３０％以上５０％未満 | B29: 1889.0122 | C29: =IF(ISNUMBER(B29),B29/B$32*100,"") -> 17.647059 | D29: 193.74485 | E29: =IF(ISNUMBER(D29),D29/D$32*100,"") -> 20 | F29: 48.436211 | G29: =IF(ISNUMBER(F29),F29/F$32*100,"") -> 33.333333 | H29: =IF(ISNUMBER(B29),B29,0)+IF(ISNUMBER(D29),D29,0)+IF(ISNUMBER(F29),F29,0) -> 2131.1933 | I29: =IF(ISNUMBER(H29),H29/H$32*100,"") -> 18.032787 | J29: 2712.4278 | K29: =IF(ISNUMBER(J29),J29/J$32*100,"") -> 23.529412 | L29: 145.30863 | M29: =IF(ISNUMBER(L29),L29/L$32*100,"") -> 18.75 | O29: =IF(ISNUMBER(N29),N29/N$32*100,"") | P29: =IF(ISNUMBER(J29),J29,0)+IF(ISNUMBER(L29),L29,0)+IF(ISNUMBER(N29),N29,0) -> 2857.7365 | Q29: =IF(ISNUMBER(P29),P29/P$32*100,"") -> 23.228346 | R29: 2518.683 | S29: =IF(ISNUMBER(R29),R29/R$23*100,"") -> 20.8 | T29: 193.74485 | U29: =IF(ISNUMBER(T29),T29/T$23*100,"") -> 28.571429 | W29: =IF(ISNUMBER(V29),V29/V$23*100,"") | X29: =IF(ISNUMBER(R29),R29,0)+IF(ISNUMBER(T29),T29,0)+IF(ISNUMBER(V29),V29,0) -> 2712.4278 | Y29: =IF(ISNUMBER(X29),X29/X$32*100,"") -> 21.212121
A30: ５０％以上７０％未満 | B30: 1307.7777 | C30: =IF(ISNUMBER(B30),B30/B$32*100,"") -> 12.217195 | D30: 48.436211 | E30: =IF(ISNUMBER(D30),D30/D$32*100,"") -> 5 | G30: =IF(ISNUMBER(F30),F30/F$32*100,"") | H30: =IF(ISNUMBER(B30),B30,0)+IF(ISNUMBER(D30),D30,0)+IF(ISNUMBER(F30),F30,0) -> 1356.2139 | I30: =IF(ISNUMBER(H30),H30/H$32*100,"") -> 11.47541 | J30: 1065.5966 | K30: =IF(ISNUMBER(J30),J30/J$32*100,"") -> 9.2436975 | L30: 48.436211 | M30: =IF(ISNUMBER(L30),L30/L$32*100,"") -> 6.25 | O30: =IF(ISNUMBER(N30),N30/N$32*100,"") | P30: =IF(ISNUMBER(J30),J30,0)+IF(ISNUMBER(L30),L30,0)+IF(ISNUMBER(N30),N30,0) -> 1114.0329 | Q30: =IF(ISNUMBER(P30),P30/P$32*100,"") -> 9.0551181 | R30: 1114.0329 | S30: =IF(ISNUMBER(R30),R30/R$23*100,"") -> 9.2 | T30: 48.436211 | U30: =IF(ISNUMBER(T30),T30/T$23*100,"") -> 7.1428571 | W30: =IF(ISNUMBER(V30),V30/V$23*100,"") | X30: =IF(ISNUMBER(R30),R30,0)+IF(ISNUMBER(T30),T30,0)+IF(ISNUMBER(V30),V30,0) -> 1162.4691 | Y30: =IF(ISNUMBER(X30),X30/X$32*100,"") -> 9.0909091
A31: ７０％以上 | B31: 871.8518 | C31: =IF(ISNUMBER(B31),B31/B$32*100,"") -> 8.1447964 | D31: 48.436211 | E31: =IF(ISNUMBER(D31),D31/D$32*100,"") -> 5 | G31: =IF(ISNUMBER(F31),F31/F$32*100,"") | H31: =IF(ISNUMBER(B31),B31,0)+IF(ISNUMBER(D31),D31,0)+IF(ISNUMBER(F31),F31,0) -> 920.28801 | I31: =IF(ISNUMBER(H31),H31/H$32*100,"") -> 7.7868852 | J31: 1114.0329 | K31: =IF(ISNUMBER(J31),J31/J$32*100,"") -> 9.6638655 | L31: 96.872423 | M31: =IF(ISNUMBER(L31),L31/L$32*100,"") -> 12.5 | O31: =IF(ISNUMBER(N31),N31/N$32*100,"") | P31: =IF(ISNUMBER(J31),J31,0)+IF(ISNUMBER(L31),L31,0)+IF(ISNUMBER(N31),N31,0) -> 1210.9053 | Q31: =IF(ISNUMBER(P31),P31/P$32*100,"") -> 9.8425197 | R31: 1210.9053 | S31: =IF(ISNUMBER(R31),R31/R$23*100,"") -> 10 | T31: 145.30863 | U31: =IF(ISNUMBER(T31),T31/T$23*100,"") -> 21.428571 | W31: =IF(ISNUMBER(V31),V31/V$23*100,"") | X31: =IF(ISNUMBER(R31),R31,0)+IF(ISNUMBER(T31),T31,0)+IF(ISNUMBER(V31),V31,0) -> 1356.2139 | Y31: =IF(ISNUMBER(X31),X31/X$32*100,"") -> 10.606061
A32: 合 計 | B32: =IF(SUM(B27:B31)>0,SUM(B27:B31),"") -> 10704.403 | C32: =IF(ISNUMBER(B32),B32/B$32*100,"") -> 100 | D32: =IF(SUM(D27:D31)>0,SUM(D27:D31),"") -> 968.72423 | E32: =IF(ISNUMBER(D32),D32/D$32*100,"") -> 100 | F32: =IF(SUM(F27:F31)>0,SUM(F27:F31),"") -> 145.30863 | G32: =IF(ISNUMBER(F32),F32/F$32*100,"") -> 100 | H32: =IF(SUM(H27:H31)>0,SUM(H27:H31),"") -> 11818.436 | I32: =IF(ISNUMBER(H32),H32/H$32*100,"") -> 100 | J32: =IF(SUM(J27:J31)>0,SUM(J27:J31),"") -> 11527.818 | K32: =IF(ISNUMBER(J32),J32/J$32*100,"") -> 100 | L32: =IF(SUM(L27:L31)>0,SUM(L27:L31),"") -> 774.97938 | M32: =IF(ISNUMBER(L32),L32/L$32*100,"") -> 100 | N32: =IF(SUM(N27:N31)>0,SUM(N27:N31),"") | O32: =IF(ISNUMBER(N32),N32/N$32*100,"") | P32: =IF(SUM(P27:P31)>0,SUM(P27:P31),"") -> 12302.798 | Q32: =IF(ISNUMBER(P32),P32/P$32*100,"") -> 100 | R32: =IF(SUM(R27:R31)>0,SUM(R27:R31),"") -> 12109.053 | S32: =IF(ISNUMBER(R32),R32/R$32*100,"") -> 100 | T32: =IF(SUM(T27:T31)>0,SUM(T27:T31),"") -> 678.10696 | U32: =IF(ISNUMBER(T32),T32/T$32*100,"") -> 100 | V32: =IF(SUM(V27:V31)>0,SUM(V27:V31),"") | W32: =IF(ISNUMBER(V32),V32/V$32*100,"") | X32: =IF(SUM(X27:X31)>0,SUM(X27:X31),"") -> 12787.16 | Y32: =IF(ISNUMBER(X32),X32/X$32*100,"") -> 100
A34: 下請比率、次数 | B34: ６０％以上７０％未満 | J34: ７０％以上８０％未満 | R34: ８０％以上９０％未満
A35: 専属比率 | B35: 一次下請 | D35: 二次下請 | F35: 三次以下下請 | H35: 小 計 | J35: 一次下請 | L35: 二次下請 | N35: 三次以下下請 | P35: 小 計 | R35: 一次下請 | T35: 二次下請 | V35: 三次以下下請 | X35: 小 計
A36: １０％未満 | B36: 1792.1398 | C36: =IF(ISNUMBER(B36),B36/B$41*100,"") -> 14.68254 | D36: 48.436211 | E36: =IF(ISNUMBER(D36),D36/D$41*100,"") -> 3.4482759 | F36: 48.436211 | G36: =IF(ISNUMBER(F36),F36/F$41*100,"") -> 25 | H36: =IF(ISNUMBER(B36),B36,0)+IF(ISNUMBER(D36),D36,0)+IF(ISNUMBER(F36),F36,0) -> 1889.0122 | I36: =IF(ISNUMBER(H36),H36/H$41*100,"") -> 13.684211 | J36: 1259.3415 | K36: =IF(ISNUMBER(J36),J36/J$41*100,"") -> 11.659193 | L36: 145.30863 | M36: =IF(ISNUMBER(L36),L36/L$41*100,"") -> 7.8947368 | O36: =IF(ISNUMBER(N36),N36/N$41*100,"") | P36: =IF(ISNUMBER(J36),J36,0)+IF(ISNUMBER(L36),L36,0)+IF(ISNUMBER(N36),N36,0) -> 1404.6501 | Q36: =IF(ISNUMBER(P36),P36/P$41*100,"") -> 11.068702 | R36: 1162.4691 | S36: =IF(ISNUMBER(R36),R36/R$41*100,"") -> 7.9734219 | T36: 145.30863 | U36: =IF(ISNUMBER(T36),T36/T$41*100,"") -> 4.7619048 | W36: =IF(ISNUMBER(V36),V36/V$41*100,"") | X36: =IF(ISNUMBER(R36),R36,0)+IF(ISNUMBER(T36),T36,0)+IF(ISNUMBER(V36),V36,0) -> 1307.7777 | Y36: =IF(ISNUMBER(X36),X36/X$41*100,"") -> 7.2972973
A37: １０％以上３０％未満 | B37: 5279.547 | C37: =IF(ISNUMBER(B37),B37/B$41*100,"") -> 43.253968 | D37: 581.23454 | E37: =IF(ISNUMBER(D37),D37/D$41*100,"") -> 41.37931 | G37: =IF(ISNUMBER(F37),F37/F$41*100,"") | H37: =IF(ISNUMBER(B37),B37,0)+IF(ISNUMBER(D37),D37,0)+IF(ISNUMBER(F37),F37,0) -> 5860.7816 | I37: =IF(ISNUMBER(H37),H37/H$41*100,"") -> 42.45614 | J37: 4213.9504 | K37: =IF(ISNUMBER(J37),J37/J$41*100,"") -> 39.013453 | L37: 1017.1604 | M37: =IF(ISNUMBER(L37),L37/L$41*100,"") -> 55.263158 | N37: 48.436211 | O37: =IF(ISNUMBER(N37),N37/N$41*100,"") -> 100 | P37: =IF(ISNUMBER(J37),J37,0)+IF(ISNUMBER(L37),L37,0)+IF(ISNUMBER(N37),N37,0) -> 5279.547 | Q37: =IF(ISNUMBER(P37),P37/P$41*100,"") -> 41.603053 | R37: 6199.835 | S37: =IF(ISNUMBER(R37),R37/R$41*100,"") -> 42.524917 | T37: 1210.9053 | U37: =IF(ISNUMBER(T37),T37/T$41*100,"") -> 39.68254 | V37: 96.872423 | W37: =IF(ISNUMBER(V37),V37/V$41*100,"") -> 33.333333 | X37: =IF(ISNUMBER(R37),R37,0)+IF(ISNUMBER(T37),T37,0)+IF(ISNUMBER(V37),V37,0) -> 7507.6127 | Y37: =IF(ISNUMBER(X37),X37/X$41*100,"") -> 41.891892
A38: ３０％以上５０％未満 | B38: 3148.3537 | C38: =IF(ISNUMBER(B38),B38/B$41*100,"") -> 25.793651 | D38: 532.79832 | E38: =IF(ISNUMBER(D38),D38/D$41*100,"") -> 37.931034 | F38: 48.436211 | G38: =IF(ISNUMBER(F38),F38/F$41*100,"") -> 25 | H38: =IF(ISNUMBER(B38),B38,0)+IF(ISNUMBER(D38),D38,0)+IF(ISNUMBER(F38),F38,0) -> 3729.5883 | I38: =IF(ISNUMBER(H38),H38/H$41*100,"") -> 27.017544 | J38: 2857.7365 | K38: =IF(ISNUMBER(J38),J38/J$41*100,"") -> 26.457399 | L38: 435.9259 | M38: =IF(ISNUMBER(L38),L38/L$41*100,"") -> 23.684211 | O38: =IF(ISNUMBER(N38),N38/N$41*100,"") | P38: =IF(ISNUMBER(J38),J38,0)+IF(ISNUMBER(L38),L38,0)+IF(ISNUMBER(N38),N38,0) -> 3293.6624 | Q38: =IF(ISNUMBER(P38),P38/P$41*100,"") -> 25.954198 | R38: 3196.7899 | S38: =IF(ISNUMBER(R38),R38/R$41*100,"") -> 21.92691 | T38: 726.54317 | U38: =IF(ISNUMBER(T38),T38/T$41*100,"") -> 23.809524 | V38: 96.872423 | W38: =IF(ISNUMBER(V38),V38/V$41*100,"") -> 33.333333 | X38: =IF(ISNUMBER(R38),R38,0)+IF(ISNUMBER(T38),T38,0)+IF(ISNUMBER(V38),V38,0) -> 4020.2055 | Y38: =IF(ISNUMBER(X38),X38/X$41*100,"") -> 22.432432
A39: ５０％以上７０％未満 | B39: 1114.0329 | C39: =IF(ISNUMBER(B39),B39/B$41*100,"") -> 9.1269841 | D39: 193.74485 | E39: =IF(ISNUMBER(D39),D39/D$41*100,"") -> 13.793103 | G39: =IF(ISNUMBER(F39),F39/F$41*100,"") | H39: =IF(ISNUMBER(B39),B39,0)+IF(ISNUMBER(D39),D39,0)+IF(ISNUMBER(F39),F39,0) -> 1307.7777 | I39: =IF(ISNUMBER(H39),H39/H$41*100,"") -> 9.4736842 | J39: 1356.2139 | K39: =IF(ISNUMBER(J39),J39/J$41*100,"") -> 12.556054 | L39: 145.30863 | M39: =IF(ISNUMBER(L39),L39/L$41*100,"") -> 7.8947368 | O39: =IF(ISNUMBER(N39),N39/N$41*100,"") | P39: =IF(ISNUMBER(J39),J39,0)+IF(ISNUMBER(L39),L39,0)+IF(ISNUMBER(N39),N39,0) -> 1501.5225 | Q39: =IF(ISNUMBER(P39),P39/P$41*100,"") -> 11.832061 | R39: 2421.8106 | S39: =IF(ISNUMBER(R39),R39/R$41*100,"") -> 16.611296 | T39: 532.79832 | U39: =IF(ISNUMBER(T39),T39/T$41*100,"") -> 17.460317 | V39: 48.436211 | W39: =IF(ISNUMBER(V39),V39/V$41*100,"") -> 16.666667 | X39: =IF(ISNUMBER(R39),R39,0)+IF(ISNUMBER(T39),T39,0)+IF(ISNUMBER(V39),V39,0) -> 3003.0451 | Y39: =IF(ISNUMBER(X39),X39/X$41*100,"") -> 16.756757
A40: ７０％以上 | B40: 871.8518 | C40: =IF(ISNUMBER(B40),B40/B$41*100,"") -> 7.1428571 | D40: 48.436211 | E40: =IF(ISNUMBER(D40),D40/D$41*100,"") -> 3.4482759 | F40: 96.872423 | G40: =IF(ISNUMBER(F40),F40/F$41*100,"") -> 50 | H40: =IF(ISNUMBER(B40),B40,0)+IF(ISNUMBER(D40),D40,0)+IF(ISNUMBER(F40),F40,0) -> 1017.1604 | I40: =IF(ISNUMBER(H40),H40/H$41*100,"") -> 7.3684211 | J40: 1114.0329 | K40: =IF(ISNUMBER(J40),J40/J$41*100,"") -> 10.313901 | L40: 96.872423 | M40: =IF(ISNUMBER(L40),L40/L$41*100,"") -> 5.2631579 | O40: =IF(ISNUMBER(N40),N40/N$41*100,"") | P40: =IF(ISNUMBER(J40),J40,0)+IF(ISNUMBER(L40),L40,0)+IF(ISNUMBER(N40),N40,0) -> 1210.9053 | Q40: =IF(ISNUMBER(P40),P40/P$41*100,"") -> 9.5419847 | R40: 1598.395 | S40: =IF(ISNUMBER(R40),R40/R$41*100,"") -> 10.963455 | T40: 435.9259 | U40: =IF(ISNUMBER(T40),T40/T$41*100,"") -> 14.285714 | V40: 48.436211 | W40: =IF(ISNUMBER(V40),V40/V$41*100,"") -> 16.666667 | X40: =IF(ISNUMBER(R40),R40,0)+IF(ISNUMBER(T40),T40,0)+IF(ISNUMBER(V40),V40,0) -> 2082.7571 | Y40: =IF(ISNUMBER(X40),X40/X$41*100,"") -> 11.621622
A41: 合 計 | B41: =IF(SUM(B36:B40)>0,SUM(B36:B40),"") -> 12205.925 | C41: =IF(ISNUMBER(B41),B41/B$41*100,"") -> 100 | D41: =IF(SUM(D36:D40)>0,SUM(D36:D40),"") -> 1404.6501 | E41: =IF(ISNUMBER(D41),D41/D$41*100,"") -> 100 | F41: =IF(SUM(F36:F40)>0,SUM(F36:F40),"") -> 193.74485 | G41: =IF(ISNUMBER(F41),F41/F$41*100,"") -> 100 | H41: =IF(SUM(H36:H40)>0,SUM(H36:H40),"") -> 13804.32 | I41: =IF(ISNUMBER(H41),H41/H$41*100,"") -> 100 | J41: =IF(SUM(J36:J40)>0,SUM(J36:J40),"") -> 10801.275 | K41: =IF(ISNUMBER(J41),J41/J$41*100,"") -> 100 | L41: =IF(SUM(L36:L40)>0,SUM(L36:L40),"") -> 1840.576 | M41: =IF(ISNUMBER(L41),L41/L$41*100,"") -> 100 | N41: =IF(SUM(N36:N40)>0,SUM(N36:N40),"") -> 48.436211 | O41: =IF(ISNUMBER(N41),N41/N$41*100,"") -> 100 | P41: =IF(SUM(P36:P40)>0,SUM(P36:P40),"") -> 12690.287 | Q41: =IF(ISNUMBER(P41),P41/P$41*100,"") -> 100 | R41: =IF(SUM(R36:R40)>0,SUM(R36:R40),"") -> 14579.3 | S41: =IF(ISNUMBER(R41),R41/R$41*100,"") -> 100 | T41: =IF(SUM(T36:T40)>0,SUM(T36:T40),"") -> 3051.4813 | U41: =IF(ISNUMBER(T41),T41/T$41*100,"") -> 100 | V41: =IF(SUM(V36:V40)>0,SUM(V36:V40),"") -> 290.61727 | W41: =IF(ISNUMBER(V41),V41/V$41*100,"") -> 100 | X41: =IF(SUM(X36:X40)>0,SUM(X36:X40),"") -> 17921.398 | Y41: =IF(ISNUMBER(X41),X41/X$41*100,"") -> 100
A43: 下請比率、次数 | B43: ９０％以上１００％未満 | J43: １００％ | R43: 合 計
A44: 専属比率 | B44: 一次下請 | D44: 二次下請 | F44: 三次以下下請 | H44: 小 計 | J44: 一次下請 | L44: 二次下請 | N44: 三次以下下請 | P44: 小 計 | R44: 一次下請 | T44: 二次下請 | V44: 三次以下下請
A45: １０％未満 | B45: 1356.2139 | C45: =IF(ISNUMBER(B45),B45/B$50*100,"") -> 6.1946903 | D45: 339.05348 | E45: =IF(ISNUMBER(D45),D45/D$50*100,"") -> 6.1946903 | G45: =IF(ISNUMBER(F45),F45/F$50*100,"") | H45: =IF(ISNUMBER(B45),B45,0)+IF(ISNUMBER(D45),D45,0)+IF(ISNUMBER(F45),F45,0) -> 1695.2674 | I45: =IF(ISNUMBER(H45),H45/H$50*100,"") -> 6.0553633 | J45: 2857.7365 | K45: =IF(ISNUMBER(J45),J45/J$50*100,"") -> 5.5088702 | L45: 871.8518 | M45: =IF(ISNUMBER(L45),L45/L$50*100,"") -> 3.5294118 | N45: 242.18106 | O45: =IF(ISNUMBER(N45),N45/N$50*100,"") -> 4.587156 | P45: =IF(ISNUMBER(J45),J45,0)+IF(ISNUMBER(L45),L45,0)+IF(ISNUMBER(N45),N45,0) -> 3971.7693 | Q45: =IF(ISNUMBER(P45),P45/P$50*100,"") -> 4.852071 | R45: =SUM(B18,J18,R18,B27,J27,R27,B36,J36,R36,B45,J45) -> 30660.122 | S45: =IF(ISNUMBER(R45),R45/R$50*100,"") -> 16.172713 | T45: =SUM(D18,L18,T18,D27,L27,T27,D36,L36,T36,D45,L45) -> 2373.3744 | U45: =IF(ISNUMBER(T45),T45/T$50*100,"") -> 5.861244 | V45: =SUM(F18,N18,V18,F27,N27,V27,F36,N36,V36,F45,N45) -> 290.61727 | W45: =IF(ISNUMBER(V45),V45/V$50*100,"") -> 4.2857143 | X45: =IF(ISNUMBER(R45),R45,0)+IF(ISNUMBER(T45),T45,0)+IF(ISNUMBER(V45),V45,0) -> 33324.113 | Y45: =IF(ISNUMBER(X45),X45/X$50*100,"") -> 14.06953
A46: １０％以上３０％未満 | B46: 7991.9749 | C46: =IF(ISNUMBER(B46),B46/B$50*100,"") -> 36.504425 | D46: 2470.2468 | E46: =IF(ISNUMBER(D46),D46/D$50*100,"") -> 45.132743 | F46: 290.61727 | G46: =IF(ISNUMBER(F46),F46/F$50*100,"") -> 46.153846 | H46: =IF(ISNUMBER(B46),B46,0)+IF(ISNUMBER(D46),D46,0)+IF(ISNUMBER(F46),F46,0) -> 10752.839 | I46: =IF(ISNUMBER(H46),H46/H$50*100,"") -> 38.408304 | J46: 16323.003 | K46: =IF(ISNUMBER(J46),J46/J$50*100,"") -> 31.46592 | L46: 6296.7075 | M46: =IF(ISNUMBER(L46),L46/L$50*100,"") -> 25.490196 | N46: 726.54317 | O46: =IF(ISNUMBER(N46),N46/N$50*100,"") -> 13.761468 | P46: =IF(ISNUMBER(J46),J46,0)+IF(ISNUMBER(L46),L46,0)+IF(ISNUMBER(N46),N46,0) -> 23346.254 | Q46: =IF(ISNUMBER(P46),P46/P$50*100,"") -> 28.52071 | R46: =SUM(B19,J19,R19,B28,J28,R28,B37,J37,R37,B46,J46) -> 63838.926 | S46: =IF(ISNUMBER(R46),R46/R$50*100,"") -> 33.673991 | T46: =SUM(D19,L19,T19,D28,L28,T28,D37,L37,T37,D46,L46) -> 13126.213 | U46: =IF(ISNUMBER(T46),T46/T$50*100,"") -> 32.416268 | V46: =SUM(F19,N19,V19,F28,N28,V28,F37,N37,V37,F46,N46) -> 1259.3415 | W46: =IF(ISNUMBER(V46),V46/V$50*100,"") -> 18.571429 | X46: =IF(ISNUMBER(R46),R46,0)+IF(ISNUMBER(T46),T46,0)+IF(ISNUMBER(V46),V46,0) -> 78224.481 | Y46: =IF(ISNUMBER(X46),X46/X$50*100,"") -> 33.026585
...

Sheet 2-8-4
A1: 表2－8－4 特定業者への専属状況（下請比率上位２社）（下請完工高のある企業のみ対象）
W3: （単位：社、％）
C4: 資本金 | D4: 個 人 | F4: 法 人 | V4: 合 計
A5: 業種 | C5: 専属比率 | F5: 500万円未満 | H5: 500万円以上 1000万円未満 | J5: 1000万円以上 3000万円未満 | L5: 3000万円以上 5000万円未満 | N5: 5000万円以上 1億円未満 | P5: 1億円以上 3億円未満 | R5: 3億円以上 10億円未満 | T5: 10億円以上
A6: 一般土木建築 | B6: 一般土木建築工事業 | C6: 10%未満 | J6: 273.8 | K6: 11.627907 | L6: 321.05263 | M6: 28.571429 | N6: 143.27273 | O6: 25 | P6: 41.190476 | Q6: 29.411765 | R6: 13 | S6: 50 | T6: 10.4 | U6: 23.529412 | V6: 802.71584 | W6: 13.912603
C7: 10%以上30%未満 | D7: 99 | E7: 100 | F7: 462 | G7: 100 | H7: 405.85714 | I7: 42.857143 | J7: 492.84 | K7: 20.930233 | L7: 321.05263 | M7: 28.571429 | N7: 128.94545 | O7: 22.5 | P7: 20.595238 | Q7: 14.705882 | R7: 4.3333333 | S7: 16.666667 | T7: 2.6 | U7: 5.8823529 | V7: 1937.2238 | W7: 33.575799
C8: 30%以上50%未満 | H8: 135.28571 | I8: 14.285714 | J8: 492.84 | K8: 20.930233 | L8: 120.39474 | M8: 10.714286 | N8: 71.636364 | O8: 12.5 | P8: 8.2380952 | Q8: 5.8823529 | T8: 2.6 | U8: 5.8823529 | V8: 830.99491 | W8: 14.402734
C9: 50%以上70%未満 | H9: 135.28571 | I9: 14.285714 | J9: 328.56 | K9: 13.953488 | L9: 80.263158 | M9: 7.1428571 | N9: 28.654545 | O9: 5 | P9: 12.357143 | Q9: 8.8235294 | T9: 18.2 | U9: 41.176471 | V9: 603.32056 | W9: 10.456701
C10: 70%以上 | H10: 270.57143 | I10: 28.571429 | J10: 766.64 | K10: 32.55814 | L10: 280.92105 | M10: 25 | N10: 200.58182 | O10: 35 | P10: 57.666667 | Q10: 41.176471 | R10: 8.6666667 | S10: 33.333333 | T10: 10.4 | U10: 23.529412 | V10: 1595.4476 | W10: 27.652163
B11: 小 計 | D11: 99 | E11: 100 | F11: 462 | G11: 100 | H11: 947 | I11: 100 | J11: 2354.68 | K11: 100 | L11: 1123.6842 | M11: 100 | N11: 573.09091 | O11: 100 | P11: 140.04762 | Q11: 100 | R11: 26 | S11: 100 | T11: 44.2 | U11: 100 | V11: 5769.7027 | W11: 100
A12: 土 木 | B12: 土木工事業 | C12: 10%未満 | F12: 387.9375 | G12: 6.6666667 | H12: 512.28814 | I12: 10.638298 | J12: 2335.6579 | K12: 25.423729 | L12: 364.29268 | M12: 12.307692 | N12: 132.05085 | O12: 15.555556 | P12: 6.4375 | Q12: 10 | T12: 10 | U12: 50 | V12: 3748.6646 | W12: 14.557896
C13: 10%以上30%未満 | F13: 1034.5 | G13: 17.777778 | H13: 717.20339 | I13: 14.893617 | J13: 1401.3947 | K13: 15.254237 | L13: 683.04878 | M13: 23.076923 | N13: 226.37288 | O13: 26.666667 | P13: 16.09375 | Q13: 25 | R13: 7.2 | S13: 50 | V13: 4085.8135 | W13: 15.86721
C14: 30%以上50%未満 | D14: 168.41667 | E14: 8.3333333 | F14: 517.25 | G14: 8.8888889 | H14: 1024.5763 | I14: 21.276596 | J14: 1245.6842 | K14: 13.559322 | L14: 546.43902 | M14: 18.461538 | N14: 169.77966 | O14: 20 | P14: 9.65625 | Q14: 15 | R14: 3.6 | S14: 25 | T14: 5 | U14: 25 | V14: 3690.4021 | W14: 14.331634
C15: 50%以上70%未満 | F15: 517.25 | G15: 8.8888889 | H15: 307.37288 | I15: 6.3829787 | J15: 934.26316 | K15: 10.169492 | L15: 409.82927 | M15: 13.846154 | N15: 94.322034 | O15: 11.111111 | R15: 3.6 | S15: 25 | T15: 2.5 | U15: 12.5 | V15: 2269.1373 | W15: 8.812169
C16: 70%以上 | D16: 1852.5833 | E16: 91.666667 | F16: 3362.125 | G16: 57.777778 | H16: 2254.0678 | I16: 46.808511 | J16: 3269.9211 | K16: 35.59322 | L16: 956.26829 | M16: 32.307692 | N16: 226.37288 | O16: 26.666667 | P16: 32.1875 | Q16: 50 | T16: 2.5 | U16: 12.5 | V16: 11956.026 | W16: 46.43109
B17: 小 計 | D17: 2021 | E17: 100 | F17: 5819.0625 | G17: 100 | H17: 4815.5085 | I17: 100 | J17: 9186.9211 | K17: 100 | L17: 2959.878 | M17: 100 | N17: 848.89831 | O17: 100 | P17: 64.375 | Q17: 100 | R17: 14.4 | S17: 100 | T17: 20 | U17: 100 | V17: 25750.043 | W17: 100
B18: ほ装工事業 | C18: 10%未満 | D18: 4.8333333 | E18: 16.666667 | H18: 29.708333 | I18: 4.3478261 | J18: 99.571429 | K18: 7.5 | L18: 29.826087 | M18: 9.7560976 | N18: 14.967742 | O18: 12.903226 | P18: 2 | Q18: 20 | T18: 6 | U18: 100 | V18: 186.90692 | W18: 5.60764
C19: 10%以上30%未満 | F19: 91.655172 | G19: 10.714286 | H19: 118.83333 | I19: 17.391304 | J19: 697 | K19: 52.5 | L19: 111.84783 | M19: 36.585366 | N19: 52.387097 | O19: 45.16129 | P19: 4 | Q19: 40 | V19: 1075.7234 | W19: 32.274191
C20: 30%以上50%未満 | F20: 122.2069 | G20: 14.285714 | H20: 178.25 | I20: 26.086957 | J20: 199.14286 | K20: 15 | L20: 67.108696 | M20: 21.95122 | N20: 22.451613 | O20: 19.354839 | P20: 2 | Q20: 20 | V20: 591.16006 | W20: 17.736169
C21: 50%以上70%未満 | D21: 4.8333333 | E21: 16.666667 | F21: 91.655172 | G21: 10.714286 | H21: 59.416667 | I21: 8.6956522 | J21: 99.571429 | K21: 7.5 | L21: 67.108696 | M21: 21.95122 | N21: 18.709677 | O21: 16.129032 | P21: 2 | Q21: 20 | V21: 343.29497 | W21: 10.299643
C22: 70%以上 | D22: 19.333333 | E22: 66.666667 | F22: 549.93103 | G22: 64.285714 | H22: 297.08333 | I22: 43.478261 | J22: 232.33333 | K22: 17.5 | L22: 29.826087 | M22: 9.7560976 | N22: 7.483871 | O22: 6.4516129 | V22: 1135.991 | W22: 34.082357
B23: 小 計 | D23: 29 | E23: 100 | F23: 855.44828 | G23: 100 | H23: 683.29167 | I23: 100 | J23: 1327.619 | K23: 100 | L23: 305.71739 | M23: 100 | N23: 116 | O23: 100 | P23: 10 | Q23: 100 | T23: 6 | U23: 100 | V23: 3333.0764 | W23: 100
B24: しゅんせつ工事業 | C24: 10%未満
C25: 10%以上30%未満 | J25: 30.666667 | K25: 100 | L25: 9 | M25: 33.333333 | V25: 39.666667 | W25: 29.455446
C26: 30%以上50%未満
C27: 50%以上70%未満
C28: 70%以上 | H28: 69 | I28: 100 | L28: 18 | M28: 66.666667 | N28: 8 | O28: 100 | V28: 95 | W28: 70.544554
B29: 小 計 | H29: 69 | I29: 100 | J29: 30.666667 | K29: 100 | L29: 27 | M29: 100 | N29: 8 | O29: 100 | V29: 134.66667 | W29: 100
B30: 造園工事業 | C30: 10%未満 | D30: 203 | E30: 100 | H30: 61.5 | I30: 22.222222 | J30: 90.382979 | K30: 15 | L30: 31.276596 | M30: 23.809524 | N30: 10 | O30: 29.411765 | V30: 396.15957 | W30: 24.199381
C31: 10%以上30%未満 | J31: 150.6383 | K31: 25 | L31: 37.531915 | M31: 28.571429 | N31: 14 | O31: 41.176471 | V31: 202.17021 | W31: 12.349554
C32: 30%以上50%未満 | F32: 129.8 | G32: 33.333333 | H32: 123 | I32: 44.444444 | J32: 120.51064 | K32: 20 | L32: 25.021277 | M32: 19.047619 | N32: 8 | O32: 23.529412 | V32: 406.33191 | W32: 24.820758
C33: 50%以上70%未満 | F33: 129.8 | G33: 33.333333 | H33: 30.75 | I33: 11.111111 | J33: 75.319149 | K33: 12.5 | L33: 25.021277 | M33: 19.047619 | V33: 260.89043 | W33: 15.936474
C34: 70%以上 | F34: 129.8 | G34: 33.333333 | H34: 61.5 | I34: 22.222222 | J34: 165.70213 | K34: 27.5 | L34: 12.510638 | M34: 9.5238095 | N34: 2 | O34: 5.8823529 | V34: 371.51277 | W34: 22.693833
B35: 小 計 | D35: 203 | E35: 100 | F35: 389.4 | G35: 100 | H35: 276.75 | I35: 100 | J35: 602.55319 | K35: 100 | L35: 131.3617 | M35: 100 | N35: 34 | O35: 100 | V35: 1637.0649 | W35: 100
B36: 水道施設工事業 | C36: 10%未満 | F36: 29.846154 | G36: 9.0909091 | J36: 53.594595 | K36: 9.0909091 | L36: 19.75 | M36: 14.814815 | N36: 10.666667 | O36: 33.333333 | V36: 113.85742 | W36: 8.0404961
C37: 10%以上30%未満 | F37: 59.692308 | G37: 18.181818 | H37: 47.555556 | I37: 14.285714 | J37: 125.05405 | K37: 21.212121 | L37: 34.5625 | M37: 25.925926 | N37: 5.3333333 | O37: 16.666667 | V37: 272.19775 | W37: 19.222331
C38: 30%以上50%未満 | F38: 119.38462 | G38: 36.363636 | H38: 47.555556 | I38: 14.285714 | J38: 142.91892 | K38: 24.242424 | L38: 19.75 | M38: 14.814815 | N38: 10.666667 | O38: 33.333333 | V38: 340.27576 | W38: 24.029932
C39: 50%以上70%未満 | F39: 89.538462 | G39: 27.272727 | H39: 95.111111 | I39: 28.571429 | J39: 89.324324 | K39: 15.151515 | L39: 14.8125 | M39: 11.111111 | V39: 288.7864 | W39: 20.393805
C40: 70%以上 | F40: 29.846154 | G40: 9.0909091 | H40: 142.66667 | I40: 42.857143 | J40: 178.64865 | K40: 30.30303 | L40: 44.4375 | M40: 33.333333 | N40: 5.3333333 | O40: 16.666667 | V40: 400.9323 | W40: 28.313436
B41: 小 計 | F41: 328.30769 | G41: 100 | H41: 332.88889 | I41: 100 | J41: 589.54054 | K41: 100 | L41: 133.3125 | M41: 100 | N41: 32 | O41: 100 | V41: 1416.0496 | W41: 100
...

Sheet 2-8-5
A1: 表2－8－5 特定業者への専属状況（下請比率上位２社）（下請比率、次数別集計）（下請完工高のある企業のみ対象）
A3: （概要） | M3: （単位：社、％）
A4: 下請比率、次数 | B4: ０％超 ５０％未満 | D4: ５０％以上１００％以下 | L4: 合 計
A5: 専属比率 | F5: 一次下請 | H5: 二次下請 | J5: 三次以下下請
A6: １０％未満 | B6: =SUM(H18,P18,X18,H27,P27) -> 16387.704 | C6: =IF(ISNUMBER(B6),B6/B$11*100,"") -> 23.266987 | D6: =F6+H6+J6 -> 6477.7354 | E6: =IF(ISNUMBER(D6),D6/D$11*100,"") -> 3.8851841 | F6: =SUM(R27,B36,J36,R36,B45,J45) -> 5462.5679 | G6: =IF(ISNUMBER(F6),F6/F$11*100,"") -> 4.4593528 | H6: =SUM(T27,D36,L36,T36,D45,L45) -> 918.48487 | I6: =IF(ISNUMBER(H6),H6/H$11*100,"") -> 2.4296675 | J6: =SUM(V27,F36,N36,V36,F45,N45) -> 96.682618 | K6: =IF(ISNUMBER(J6),J6/J$11*100,"") -> 1.5037594 | L6: =X45 -> 22865.439 | M6: =IF(ISNUMBER(L6),L6/L$11*100,"") -> 9.6412556
A7: １０％以上３０％未満 | B7: =SUM(H19,P19,X19,H28,P28) -> 18031.308 | C7: =IF(ISNUMBER(B7),B7/B$11*100,"") -> 25.600549 | D7: =F7+H7+J7 -> 37271.149 | E7: =IF(ISNUMBER(D7),D7/D$11*100,"") -> 22.354306 | F7: =SUM(R28,B37,J37,R37,B46,J46) -> 28956.444 | G7: =IF(ISNUMBER(F7),F7/F$11*100,"") -> 23.638516 | H7: =SUM(T28,D37,L37,T37,D46,L46) -> 7492.9029 | I7: =IF(ISNUMBER(H7),H7/H$11*100,"") -> 19.820972 | J7: =SUM(V28,F37,N37,V37,F46,N46) -> 821.80225 | K7: =IF(ISNUMBER(J7),J7/J$11*100,"") -> 12.781955 | L7: =X46 -> 55302.458 | M7: =IF(ISNUMBER(L7),L7/L$11*100,"") -> 23.318386
A8: ３０％以上５０％未満 | B8: =SUM(H20,P20,X20,H29,P29) -> 11408.549 | C8: =IF(ISNUMBER(B8),B8/B$11*100,"") -> 16.197666 | D8: =F8+H8+J8 -> 41428.502 | E8: =IF(ISNUMBER(D8),D8/D$11*100,"") -> 24.847782 | F8: =SUM(R29,B38,J38,R38,B47,J47) -> 31373.51 | G8: =IF(ISNUMBER(F8),F8/F$11*100,"") -> 25.611681 | H8: =SUM(T29,D38,L38,T38,D47,L47) -> 8749.7769 | I8: =IF(ISNUMBER(H8),H8/H$11*100,"") -> 23.14578 | J8: =SUM(V29,F38,N38,V38,F47,N47) -> 1305.2153 | K8: =IF(ISNUMBER(J8),J8/J$11*100,"") -> 20.300752 | L8: =X47 -> 52837.051 | M8: =IF(ISNUMBER(L8),L8/L$11*100,"") -> 22.278842
A9: ５０％以上７０％未満 | B9: =SUM(H21,P21,X21,H30,P30) -> 8459.7291 | C9: =IF(ISNUMBER(B9),B9/B$11*100,"") -> 12.010981 | D9: =F9+H9+J9 -> 29198.151 | E9: =IF(ISNUMBER(D9),D9/D$11*100,"") -> 17.512322 | F9: =SUM(R30,B39,J39,R39,B48,J48) -> 22623.733 | G9: =IF(ISNUMBER(F9),F9/F$11*100,"") -> 18.468824 | H9: =SUM(T30,D39,L39,T39,D48,L48) -> 5607.5918 | I9: =IF(ISNUMBER(H9),H9/H$11*100,"") -> 14.83376 | J9: =SUM(V30,F39,N39,V39,F48,N48) -> 966.82618 | K9: =IF(ISNUMBER(J9),J9/J$11*100,"") -> 15.037594 | L9: =X48 -> 37657.88 | M9: =IF(ISNUMBER(L9),L9/L$11*100,"") -> 15.878516
A10: ７０％以上 | B10: =SUM(H22,P22,X22,H31,P31) -> 16145.997 | C10: =IF(ISNUMBER(B10),B10/B$11*100,"") -> 22.923816 | D10: =F10+H10+J10 -> 52353.638 | E10: =IF(ISNUMBER(D10),D10/D$11*100,"") -> 31.400406 | F10: =SUM(R31,B40,J40,R40,B49,J49) -> 34080.623 | G10: =IF(ISNUMBER(F10),F10/F$11*100,"") -> 27.821626 | H10: =SUM(T31,D40,L40,T40,D49,L49) -> 15034.147 | I10: =IF(ISNUMBER(H10),H10/H$11*100,"") -> 39.769821 | J10: =SUM(V31,F40,N40,V40,F49,N49) -> 3238.8677 | K10: =IF(ISNUMBER(J10),J10/J$11*100,"") -> 50.37594 | L10: =X49 -> 68499.635 | M10: =IF(ISNUMBER(L10),L10/L$11*100,"") -> 28.883
