Workbook
Name ______________________ＴＢＬ１: [1]CSS編集画面!$B$10:$F$22
Name ______________________ＴＢＬ２: [1]CSS編集画面!$B$24:$I$35
Name _____________________ＴＢＬ１: [1]CSS編集画面!$B$10:$F$22
Name _____________________ＴＢＬ２: [1]CSS編集画面!$B$24:$I$35
Name ____________________ＴＢＬ１: [1]CSS編集画面!$B$10:$F$22
Name ____________________ＴＢＬ２: [1]CSS編集画面!$B$24:$I$35
Name ___________________ＴＢＬ１: [1]CSS編集画面!$B$10:$F$22
Name ___________________ＴＢＬ２: [1]CSS編集画面!$B$24:$I$35
Name __________________ＴＢＬ１: [1]CSS編集画面!$B$10:$F$22
Name __________________ＴＢＬ２: [1]CSS編集画面!$B$24:$I$35
Name _________________ＴＢＬ１: [1]CSS編集画面!$B$10:$F$22
Name _________________ＴＢＬ２: [1]CSS編集画面!$B$24:$I$35
Name ________________ＴＢＬ１: [1]CSS編集画面!$B$10:$F$22
Name ________________ＴＢＬ２: [1]CSS編集画面!$B$24:$I$35
Name _______________ＴＢＬ１: [1]CSS編集画面!$B$10:$F$22
Name _______________ＴＢＬ２: [1]CSS編集画面!$B$24:$I$35
Name ______________ＴＢＬ１: [1]CSS編集画面!$B$10:$F$22
Name ______________ＴＢＬ２: [1]CSS編集画面!$B$24:$I$35
Name _____________ＴＢＬ１: [1]CSS編集画面!$B$10:$F$22
Name _____________ＴＢＬ２: [1]CSS編集画面!$B$24:$I$35
Name ____________ＴＢＬ１: [1]CSS編集画面!$B$10:$F$22
Name ____________ＴＢＬ２: [1]CSS編集画面!$B$24:$I$35
Name ___________ＴＢＬ１: [1]CSS編集画面!$B$10:$F$22
Name ___________ＴＢＬ２: [1]CSS編集画面!$B$24:$I$35
Name __________ＴＢＬ１: [1]CSS編集画面!$B$10:$F$22
Name __________ＴＢＬ２: [1]CSS編集画面!$B$24:$I$35
Name _________ＴＢＬ１: [1]CSS編集画面!$B$10:$F$22
Name _________ＴＢＬ２: [1]CSS編集画面!$B$24:$I$35
Name ________ＴＢＬ１: [1]CSS編集画面!$B$10:$F$22
Name ________ＴＢＬ２: [1]CSS編集画面!$B$24:$I$35
Name _______ＴＢＬ１: [1]CSS編集画面!$B$10:$F$22
Name _______ＴＢＬ２: [1]CSS編集画面!$B$24:$I$35
Name ______ＴＢＬ１: [1]CSS編集画面!$B$10:$F$22
Name ______ＴＢＬ２: [1]CSS編集画面!$B$24:$I$35
Name _____ＴＢＬ１: [1]CSS編集画面!$B$10:$F$22
Name _____ＴＢＬ２: [1]CSS編集画面!$B$24:$I$35
Name ____ＴＢＬ１: [1]CSS編集画面!$B$10:$F$22
Name ____ＴＢＬ２: [1]CSS編集画面!$B$24:$I$35
Name ___ＴＢＬ１: [1]CSS編集画面!$B$10:$F$22
Name ___ＴＢＬ２: [1]CSS編集画面!$B$24:$I$35
Name __ＴＢＬ１: [1]CSS編集画面!$B$10:$F$22
Name __ＴＢＬ２: [1]CSS編集画面!$B$24:$I$35
Name _ＴＢＬ１: [1]CSS編集画面!$B$10:$F$22
Name _ＴＢＬ２: [1]CSS編集画面!$B$24:$I$35
Name PAGE1: #REF!
Name PAGE10: #REF!
Name PAGE100: #REF!
Name PAGE1000: #REF!
Name PAGE1001: #REF!
Name PAGE1002: #REF!
Name PAGE1003: #REF!
Name PAGE1004: #REF!
Name PAGE1005: #REF!
Name PAGE1006: #REF!
Name PAGE1007: #REF!
Name PAGE1008: #REF!
Name PAGE1009: #REF!
Name PAGE101: #REF!
Name PAGE1010: #REF!
Name PAGE1011: #REF!

Sheet 2-8-1
A1: 表2－8－1 特定業者への専属状況（下請比率上位１社）（下請完工高のある企業のみ対象）
W3: （単位：社、％）
C4: 資本金 | D4: 個 人 | F4: 法 人 | V4: 合 計
A5: 業種 | C5: 専属比率 | F5: 500万円未満 | H5: 500万円以上 1000万円未満 | J5: 1000万円以上 3000万円未満 | L5: 3000万円以上 5000万円未満 | N5: 5000万円以上 1億円未満 | P5: 1億円以上 3億円未満 | R5: 3億円以上 10億円未満 | T5: 10億円以上
A6: 一般土木建築 | B6: 一般土木建築工事業 | C6: 10%未満 | D6: 99 | E6: 100 | J6: 273.8 | K6: 11.627907 | L6: 321.05263 | M6: 28.571429 | N6: 143.27273 | O6: 25 | P6: 49.428571 | Q6: 35.294118 | R6: 13 | S6: 50 | T6: 10.4 | U6: 23.529412 | V6: 909.95393 | W6: 15.771245
C7: 10%以上30%未満 | F7: 462 | G7: 100 | H7: 405.85714 | I7: 42.857143 | J7: 821.4 | K7: 34.883721 | L7: 361.18421 | M7: 32.142857 | N7: 171.92727 | O7: 30 | P7: 20.595238 | Q7: 14.705882 | R7: 4.3333333 | S7: 16.666667 | T7: 7.8 | U7: 17.647059 | V7: 2255.0972 | W7: 39.085154
C8: 30%以上50%未満 | H8: 270.57143 | I8: 28.571429 | J8: 547.6 | K8: 23.255814 | L8: 160.52632 | M8: 14.285714 | N8: 85.963636 | O8: 15 | P8: 12.357143 | Q8: 8.8235294 | T8: 13 | U8: 29.411765 | V8: 1090.0185 | W8: 18.892109
C9: 50%以上70%未満 | H9: 135.28571 | I9: 14.285714 | J9: 219.04 | K9: 9.3023256 | L9: 120.39474 | M9: 10.714286 | N9: 42.981818 | O9: 7.5 | P9: 45.309524 | Q9: 32.352941 | R9: 4.3333333 | S9: 16.666667 | T9: 10.4 | U9: 23.529412 | V9: 577.74513 | W9: 10.01343
C10: 70%以上 | H10: 135.28571 | I10: 14.285714 | J10: 492.84 | K10: 20.930233 | L10: 160.52632 | M10: 14.285714 | N10: 128.94545 | O10: 22.5 | P10: 12.357143 | Q10: 8.8235294 | R10: 4.3333333 | S10: 16.666667 | T10: 2.6 | U10: 5.8823529 | V10: 936.88796 | W10: 16.238063
B11: 小 計 | D11: 99 | E11: 100 | F11: 462 | G11: 100 | H11: 947 | I11: 100 | J11: 2354.68 | K11: 100 | L11: 1123.6842 | M11: 100 | N11: 573.09091 | O11: 100 | P11: 140.04762 | Q11: 100 | R11: 26 | S11: 100 | T11: 44.2 | U11: 100 | V11: 5769.7027 | W11: 100
A12: 土 木 | B12: 土木工事業 | C12: 10%未満 | F12: 387.9375 | G12: 6.6666667 | H12: 819.66102 | I12: 17.021277 | J12: 2335.6579 | K12: 25.862069 | L12: 455.36585 | M12: 15.625 | N12: 169.77966 | O12: 20 | P12: 12.875 | Q12: 20 | T12: 10 | U12: 50 | V12: 4191.2769 | W12: 16.404988
C13: 10%以上30%未満 | F13: 1551.75 | G13: 26.666667 | H13: 1024.5763 | I13: 21.276596 | J13: 2024.2368 | K13: 22.413793 | L13: 819.65854 | M13: 28.125 | N13: 320.69492 | O13: 37.777778 | P13: 16.09375 | Q13: 25 | R13: 10.8 | S13: 75 | T13: 2.5 | U13: 12.5 | V13: 5770.3103 | W13: 22.585449
C14: 30%以上50%未満 | D14: 336.83333 | E14: 16.666667 | F14: 517.25 | G14: 8.8888889 | H14: 922.11864 | I14: 19.148936 | J14: 1557.1053 | K14: 17.241379 | L14: 591.97561 | M14: 20.3125 | N14: 150.91525 | O14: 17.777778 | P14: 6.4375 | Q14: 10 | R14: 3.6 | S14: 25 | T14: 2.5 | U14: 12.5 | V14: 4088.7356 | W14: 16.003633
C15: 50%以上70%未満 | D15: 336.83333 | E15: 16.666667 | F15: 905.1875 | G15: 15.555556 | H15: 717.20339 | I15: 14.893617 | J15: 778.55263 | K15: 8.6206897 | L15: 455.36585 | M15: 15.625 | N15: 94.322034 | O15: 11.111111 | P15: 12.875 | Q15: 20 | T15: 2.5 | U15: 12.5 | V15: 3302.8397 | W15: 12.927575
C16: 70%以上 | D16: 1347.3333 | E16: 66.666667 | F16: 2456.9375 | G16: 42.222222 | H16: 1331.9492 | I16: 27.659574 | J16: 2335.6579 | K16: 25.862069 | L16: 591.97561 | M16: 20.3125 | N16: 113.18644 | O16: 13.333333 | P16: 16.09375 | Q16: 25 | T16: 2.5 | U16: 12.5 | V16: 8195.6337 | W16: 32.078355
B17: 小 計 | D17: 2021 | E17: 100 | F17: 5819.0625 | G17: 100 | H17: 4815.5085 | I17: 100 | J17: 9031.2105 | K17: 100 | L17: 2914.3415 | M17: 100 | N17: 848.89831 | O17: 100 | P17: 64.375 | Q17: 100 | R17: 14.4 | S17: 100 | T17: 20 | U17: 100 | V17: 25548.796 | W17: 100
B18: ほ装工事業 | C18: 10%未満 | D18: 4.8333333 | E18: 16.666667 | F18: 30.551724 | G18: 3.7037037 | H18: 29.708333 | I18: 4.3478261 | J18: 199.14286 | K18: 15 | L18: 59.652174 | M18: 19.512195 | N18: 29.935484 | O18: 25.806452 | P18: 2 | Q18: 20 | T18: 6 | U18: 100 | V18: 361.82391 | W18: 10.955979
C19: 10%以上30%未満 | F19: 122.2069 | G19: 14.814815 | H19: 237.66667 | I19: 34.782609 | J19: 697 | K19: 52.5 | L19: 126.76087 | M19: 41.463415 | N19: 59.870968 | O19: 51.612903 | P19: 4 | Q19: 40 | V19: 1247.5054 | W19: 37.774295
C20: 30%以上50%未満 | D20: 4.8333333 | E20: 16.666667 | F20: 122.2069 | G20: 14.814815 | H20: 89.125 | I20: 13.043478 | J20: 232.33333 | K20: 17.5 | L20: 82.021739 | M20: 26.829268 | N20: 18.709677 | O20: 16.129032 | P20: 4 | Q20: 40 | V20: 553.22998 | W20: 16.751729
C21: 50%以上70%未満 | D21: 4.8333333 | E21: 16.666667 | F21: 183.31034 | G21: 22.222222 | H21: 89.125 | I21: 13.043478 | J21: 99.571429 | K21: 7.5 | L21: 14.913043 | M21: 4.8780488 | V21: 391.75315 | W21: 11.862232
C22: 70%以上 | D22: 14.5 | E22: 50 | F22: 366.62069 | G22: 44.444444 | H22: 237.66667 | I22: 34.782609 | J22: 99.571429 | K22: 7.5 | L22: 22.369565 | M22: 7.3170732 | N22: 7.483871 | O22: 6.4516129 | V22: 748.21222 | W22: 22.655765
B23: 小 計 | D23: 29 | E23: 100 | F23: 824.89655 | G23: 100 | H23: 683.29167 | I23: 100 | J23: 1327.619 | K23: 100 | L23: 305.71739 | M23: 100 | N23: 116 | O23: 100 | P23: 10 | Q23: 100 | T23: 6 | U23: 100 | V23: 3302.5247 | W23: 100
B24: しゅんせつ工事業 | C24: 10%未満
C25: 10%以上30%未満 | J25: 30.666667 | K25: 100 | L25: 9 | M25: 33.333333 | V25: 39.666667 | W25: 29.455446
C26: 30%以上50%未満
C27: 50%以上70%未満 | H27: 69 | I27: 100 | L27: 9 | M27: 33.333333 | V27: 78 | W27: 57.920792
C28: 70%以上 | L28: 9 | M28: 33.333333 | N28: 8 | O28: 100 | V28: 17 | W28: 12.623762
B29: 小 計 | H29: 69 | I29: 100 | J29: 30.666667 | K29: 100 | L29: 27 | M29: 100 | N29: 8 | O29: 100 | V29: 134.66667 | W29: 100
B30: 造園工事業 | C30: 10%未満 | D30: 203 | E30: 100 | H30: 61.5 | I30: 22.222222 | J30: 120.51064 | K30: 20.512821 | L30: 37.531915 | M30: 28.571429 | N30: 10 | O30: 29.411765 | V30: 432.54255 | W30: 26.667218
C31: 10%以上30%未満 | F31: 129.8 | G31: 33.333333 | H31: 123 | I31: 44.444444 | J31: 195.82979 | K31: 33.333333 | L31: 53.170213 | M31: 40.47619 | N31: 20 | O31: 58.823529 | V31: 521.8 | W31: 32.170139
C32: 30%以上50%未満 | F32: 129.8 | G32: 33.333333 | H32: 61.5 | I32: 22.222222 | J32: 105.44681 | K32: 17.948718 | L32: 18.765957 | M32: 14.285714 | N32: 2 | O32: 5.8823529 | V32: 317.51277 | W32: 19.575373
C33: 50%以上70%未満 | F33: 129.8 | G33: 33.333333 | J33: 15.06383 | K33: 2.5641026 | L33: 12.510638 | M33: 9.5238095 | N33: 2 | O33: 5.8823529 | V33: 159.37447 | W33: 9.8257931
C34: 70%以上 | H34: 30.75 | I34: 11.111111 | J34: 150.6383 | K34: 25.641026 | L34: 9.3829787 | M34: 7.1428571 | V34: 190.77128 | W34: 11.761477
B35: 小 計 | D35: 203 | E35: 100 | F35: 389.4 | G35: 100 | H35: 276.75 | I35: 100 | J35: 587.48936 | K35: 100 | L35: 131.3617 | M35: 100 | N35: 34 | O35: 100 | V35: 1622.0011 | W35: 100
B36: 水道施設工事業 | C36: 10%未満 | F36: 29.846154 | G36: 9.0909091 | J36: 71.459459 | K36: 12.5 | L36: 24.6875 | M36: 18.518519 | N36: 16 | O36: 50 | V36: 141.99311 | W36: 10.155533
C37: 10%以上30%未満 | F37: 149.23077 | G37: 45.454545 | H37: 95.111111 | I37: 28.571429 | J37: 196.51351 | K37: 34.375 | L37: 29.625 | M37: 22.222222 | N37: 5.3333333 | O37: 16.666667 | V37: 475.81373 | W37: 34.030819
C38: 30%以上50%未満 | F38: 89.538462 | G38: 27.272727 | H38: 95.111111 | I38: 28.571429 | J38: 142.91892 | K38: 25 | L38: 29.625 | M38: 22.222222 | N38: 5.3333333 | O38: 16.666667 | V38: 362.52682 | W38: 25.928392
C39: 50%以上70%未満 | F39: 29.846154 | G39: 9.0909091 | H39: 95.111111 | I39: 28.571429 | J39: 71.459459 | K39: 12.5 | L39: 4.9375 | M39: 3.7037037 | V39: 201.35422 | W39: 14.401117
C40: 70%以上 | F40: 29.846154 | G40: 9.0909091 | H40: 47.555556 | I40: 14.285714 | J40: 89.324324 | K40: 15.625 | L40: 44.4375 | M40: 33.333333 | N40: 5.3333333 | O40: 16.666667 | V40: 216.49687 | W40: 15.484139
B41: 小 計 | F41: 328.30769 | G41: 100 | H41: 332.88889 | I41: 100 | J41: 571.67568 | K41: 100 | L41: 133.3125 | M41: 100 | N41: 32 | O41: 100 | V41: 1398.1848 | W41: 100
A42: 小 計 | C42: 10%未満 | D42: 207.83333 | E42: 9.2247374 | F42: 448.33538 | G42: 6.0901341 | H42: 910.86935 | I42: 14.745097 | J42: 2726.7708 | K42: 23.611142 | L42: 577.23744 | M42: 16.437395 | N42: 225.71514 | O42: 21.726395 | P42: 14.875 | Q42: 20 | T42: 16 | U42: 61.538462 | V42: 5127.6365 | W42: 16.020773
C43: 10%以上30%未満 | F43: 1952.9877 | G43: 26.529151 | H43: 1480.354 | I43: 23.96388 | J43: 3144.2468 | K43: 27.226072 | L43: 1038.2146 | M43: 29.564167 | N43: 405.89922 | O43: 39.070159 | P43: 20.09375 | Q43: 27.016807 | R43: 10.8 | S43: 75 | T43: 2.5 | U43: 9.6153846 | V43: 8055.0961 | W43: 25.16732
C44: 30%以上50%未満 | D44: 341.66667 | E44: 15.164965 | F44: 858.79536 | G44: 11.665773 | H44: 1167.8548 | I44: 18.90516 | J44: 2037.8043 | K44: 17.645373 | L44: 722.38831 | M44: 20.570707 | N44: 176.95826 | O44: 17.033261 | P44: 10.4375 | Q44: 14.033613 | R44: 3.6 | S44: 25 | T44: 2.5 | U44: 9.6153846 | V44: 5322.0052 | W44: 16.628058
C45: 50%以上70%未満 | D45: 341.66667 | E45: 15.164965 | F45: 1248.144 | G45: 16.954639 | H45: 970.4395 | I45: 15.709414 | J45: 964.64735 | K45: 8.3528933 | L45: 496.72704 | M45: 14.144783 | N45: 96.322034 | O45: 9.2715556 | P45: 12.875 | Q45: 17.310924 | T45: 2.5 | U45: 9.6153846 | V45: 4133.3216 | W45: 12.914139
C46: 70%以上 | D46: 1361.8333 | E46: 60.445332 | F46: 2853.4043 | G46: 38.760303 | H46: 1647.9214 | I46: 26.676449 | J46: 2675.1919 | K46: 23.16452 | L46: 677.16565 | M46: 19.282948 | N46: 134.00364 | O46: 12.89863 | P46: 16.09375 | Q46: 21.638655 | T46: 2.5 | U46: 9.6153846 | V46: 9368.114 | W46: 29.26971
A47: 小 計 | D47: 2253 | E47: 100 | F47: 7361.6667 | G47: 100 | H47: 6177.439 | I47: 100 | J47: 11548.661 | K47: 100 | L47: 3511.7331 | M47: 100 | N47: 1038.8983 | O47: 100 | P47: 74.375 | Q47: 100 | R47: 14.4 | S47: 100 | T47: 26 | U47: 100 | V47: 32006.173 | W47: 100
A48: 建 築 | B48: 建築工事業 | C48: 10%未満 | D48: 1030.6316 | E48: 20 | F48: 679.71429 | G48: 9.0909091 | H48: 757.38889 | I48: 11.764706 | J48: 3030 | K48: 22.222222 | L48: 667.07692 | M48: 24.242424 | N48: 261.10345 | O48: 22.222222 | P48: 46.428571 | Q48: 23.809524 | R48: 10.315789 | S48: 28.571429 | T48: 26.4 | U48: 75 | V48: 6509.0595 | W48: 17.641743
C49: 10%以上30%未満 | D49: 1545.9474 | E49: 30 | F49: 1359.4286 | G49: 18.181818 | H49: 1136.0833 | I49: 17.647059 | J49: 3939 | K49: 28.888889 | L49: 833.84615 | M49: 30.30303 | N49: 293.74138 | O49: 25 | P49: 46.428571 | Q49: 23.809524 | V49: 9154.4754 | W49: 24.811711
C50: 30%以上50%未満 | F50: 1359.4286 | G50: 18.181818 | H50: 1136.0833 | I50: 17.647059 | J50: 2424 | K50: 17.777778 | L50: 250.15385 | M50: 9.0909091 | N50: 163.18966 | O50: 13.888889 | P50: 46.428571 | Q50: 23.809524 | R50: 2.5789474 | S50: 7.1428571 | V50: 5381.8629 | W50: 14.586661
C51: 50%以上70%未満 | D51: 1030.6316 | E51: 20 | H51: 757.38889 | I51: 11.764706 | J51: 909 | K51: 6.6666667 | L51: 416.92308 | M51: 15.151515 | N51: 261.10345 | O51: 22.222222 | P51: 9.2857143 | Q51: 4.7619048 | R51: 15.473684 | S51: 42.857143 | V51: 3399.8064 | W51: 9.2146204
C52: 70%以上 | D52: 1545.9474 | E52: 30 | F52: 4078.2857 | G52: 54.545455 | H52: 2650.8611 | I52: 41.176471 | J52: 3333 | K52: 24.444444 | L52: 583.69231 | M52: 21.212121 | N52: 195.82759 | O52: 16.666667 | P52: 46.428571 | Q52: 23.809524 | R52: 7.7368421 | S52: 21.428571 | T52: 8.8 | U52: 25 | V52: 12450.58 | W52: 33.745264
B53: 小 計 | D53: 5153.1579 | E53: 100 | F53: 7476.8571 | G53: 100 | H53: 6437.8056 | I53: 100 | J53: 13635 | K53: 100 | L53: 2751.6923 | M53: 100 | N53: 1174.9655 | O53: 100 | P53: 195 | Q53: 100 | R53: 36.105263 | S53: 100 | T53: 35.2 | U53: 100 | V53: 36895.784 | W53: 100
A54: 建 築 | B54: 木造建築工事業 | C54: 10%未満 | D54: 1425.2727 | E54: 60 | F54: 163.48276 | G54: 8.3333333 | H54: 134.46512 | I54: 12.5 | J54: 147.6 | K54: 20 | L54: 27.705882 | M54: 37.5 | R54: 2 | S54: 100 | V54: 1900.5265 | W54: 30.294624
C55: 10%以上30%未満 | F55: 326.96552 | G55: 16.666667 | H55: 134.46512 | I55: 12.5 | J55: 73.8 | K55: 10 | L55: 27.705882 | M55: 37.5 | N55: 4.7826087 | O55: 11.111111 | V55: 567.71912 | W55: 9.0495121
C56: 30%以上50%未満 | F56: 653.93103 | G56: 33.333333 | H56: 201.69767 | I56: 18.75 | J56: 221.4 | K56: 30 | N56: 9.5652174 | O56: 22.222222 | P56: 3.5833333 | Q56: 100 | V56: 1090.1773 | W56: 17.377558
C57: 50%以上70%未満 | F57: 163.48276 | G57: 8.3333333 | H57: 268.93023 | I57: 25 | J57: 295.2 | K57: 40 | L57: 9.2352941 | M57: 12.5 | N57: 4.7826087 | O57: 11.111111 | V57: 741.63089 | W57: 11.821687
C58: 70%以上 | D58: 950.18182 | E58: 40 | F58: 653.93103 | G58: 33.333333 | H58: 336.16279 | I58: 31.25 | L58: 9.2352941 | M58: 12.5 | N58: 23.913043 | O58: 55.555556 | V58: 1973.424 | W58: 31.456619
B59: 小 計 | D59: 2375.4545 | E59: 100 | F59: 1961.7931 | G59: 100 | H59: 1075.7209 | I59: 100 | J59: 738 | K59: 100 | L59: 73.882353 | M59: 100 | N59: 43.043478 | O59: 100 | P59: 3.5833333 | Q59: 100 | R59: 2 | S59: 100 | V59: 6273.4777 | W59: 100
A60: 小 計 | C60: 10%未満 | D60: 2455.9043 | E60: 32.620942 | F60: 843.19704 | G60: 8.9334494 | H60: 891.85401 | I60: 11.869979 | J60: 3177.6 | K60: 22.108119 | L60: 694.78281 | M60: 24.58908 | N60: 261.10345 | O60: 21.436906 | P60: 46.428571 | Q60: 23.379893 | R60: 12.315789 | S60: 32.320442 | T60: 26.4 | U60: 75 | V60: 8409.586 | W60: 19.480495
C61: 10%以上30%未満 | D61: 1545.9474 | E61: 20.534293 | F61: 1686.3941 | G61: 17.866899 | H61: 1270.5484 | I61: 16.910148 | J61: 4012.8 | K61: 27.919015 | L61: 861.55204 | M61: 30.491215 | N61: 298.52399 | O61: 24.509178 | P61: 46.428571 | Q61: 23.379893 | V61: 9722.1945 | W61: 22.521105
C62: 30%以上50%未満 | F62: 2013.3596 | G62: 21.331012 | H62: 1337.781 | I62: 17.804968 | J62: 2645.4 | K62: 18.405343 | L62: 250.15385 | M62: 8.8532025 | N62: 172.75487 | O62: 14.183382 | P62: 50.011905 | Q62: 25.184341 | R62: 2.5789474 | S62: 6.7679558 | V62: 6472.0402 | W62: 14.992242
C63: 50%以上70%未満 | D63: 1030.6316 | E63: 13.689529 | F63: 163.48276 | G63: 1.7320565 | H63: 1026.3191 | I63: 13.659619 | J63: 1204.2 | K63: 8.3782091 | L63: 426.15837 | M63: 15.082184 | N63: 265.88606 | O63: 21.829564 | P63: 9.2857143 | Q63: 4.6759787 | R63: 15.473684 | S63: 40.607735 | V63: 4141.4373 | W63: 9.5934865
C64: 70%以上 | D64: 2496.1292 | E64: 33.155236 | F64: 4732.2167 | G64: 50.136583 | H64: 2987.0239 | I64: 39.755285 | J64: 3333 | K64: 23.189313 | L64: 592.9276 | M64: 20.984319 | N64: 219.74063 | O64: 18.040969 | P64: 46.428571 | Q64: 23.379893 | R64: 7.7368421 | S64: 20.303867 | T64: 8.8 | U64: 25 | V64: 14424.003 | W64: 33.412671
A65: 小 計 | D65: 7528.6124 | E65: 100 | F65: 9438.6502 | G65: 100 | H65: 7513.5265 | I65: 100 | J65: 14373 | K65: 100 | L65: 2825.5747 | M65: 100 | N65: 1218.009 | O65: 100 | P65: 198.58333 | Q65: 100 | R65: 38.105263 | S65: 100 | T65: 35.2 | U65: 100 | V65: 43169.261 | W65: 100
A66: 職 別 | B66: 大工工事業 | C66: 10%未満 | H66: 34.095238 | I66: 2.5 | J66: 86.87234 | K66: 7.8947368 | N66: 5.25 | O66: 12.5 | V66: 126.21758 | W66: 2.1786376
C67: 10%以上30%未満 | D67: 303.2 | E67: 22.222222 | F67: 615.19512 | G67: 33.333333 | H67: 443.2381 | I67: 32.5 | J67: 318.53191 | K67: 28.947368 | L67: 20.64 | M67: 28.571429 | N67: 15.75 | O67: 37.5 | V67: 1716.5551 | W67: 29.629403
C68: 30%以上50%未満 | D68: 303.2 | E68: 22.222222 | F68: 447.41463 | G68: 24.242424 | H68: 238.66667 | I68: 17.5 | J68: 289.57447 | K68: 26.315789 | L68: 27.52 | M68: 38.095238 | N68: 10.5 | O68: 25 | V68: 1316.8758 | W68: 22.73055
C69: 50%以上70%未満 | F69: 167.78049 | G69: 9.0909091 | H69: 238.66667 | I69: 17.5 | J69: 144.78723 | K69: 13.157895 | L69: 20.64 | M69: 28.571429 | N69: 5.25 | O69: 12.5 | P69: 1.6666667 | Q69: 33.333333 | V69: 578.79106 | W69: 9.9904938
C70: 70%以上 | D70: 758 | E70: 55.555556 | F70: 615.19512 | G70: 33.333333 | H70: 409.14286 | I70: 30 | J70: 260.61702 | K70: 23.684211 | L70: 3.44 | M70: 4.7619048 | N70: 5.25 | O70: 12.5 | P70: 3.3333333 | Q70: 66.666667 | V70: 2054.9783 | W70: 35.470915
B71: 小 計 | D71: 1364.4 | E71: 100 | F71: 1845.5854 | G71: 100 | H71: 1363.8095 | I71: 100 | J71: 1100.383 | K71: 100 | L71: 72.24 | M71: 100 | N71: 42 | O71: 100 | P71: 5 | Q71: 100 | V71: 5793.4179 | W71: 100
B72: コンクリート工事業 とび・土工・ | C72: 10%未満 | D72: 111.30769 | E72: 8.3333333 | F72: 346.8 | G72: 4.7058824 | H72: 352.60465 | I72: 8.4337349 | J72: 627.792 | K72: 18.333333 | L72: 39.769231 | M72: 12.941176 | N72: 19.225806 | O72: 13.793103 | P72: 2.4444444 | Q72: 7.6923077 | R72: 1 | S72: 50 | T72: 0.5 | U72: 50 | V72: 1501.4438 | W72: 8.9414934
C73: 10%以上30%未満 | D73: 445.23077 | E73: 33.333333 | F73: 1647.3 | G73: 22.352941 | H73: 1309.6744 | I73: 31.325301 | J73: 1284.12 | K73: 37.5 | L73: 104.84615 | M73: 34.117647 | N73: 64.887097 | O73: 46.551724 | P73: 15.888889 | Q73: 50 | T73: 0.5 | U73: 50 | V73: 4872.4473 | W73: 29.016707
C74: 30%以上50%未満 | D74: 222.61538 | E74: 16.666667 | F74: 2514.3 | G74: 34.117647 | H74: 805.95349 | I74: 19.277108 | J74: 684.864 | K74: 20 | L74: 61.461538 | M74: 20 | N74: 26.435484 | O74: 18.965517 | P74: 1.2222222 | Q74: 3.8461538 | R74: 1 | S74: 50 | V74: 4317.8521 | W74: 25.713947
C75: 50%以上70%未満 | D75: 333.92308 | E75: 25 | F75: 1040.4 | G75: 14.117647 | H75: 705.2093 | I75: 16.86747 | J75: 399.504 | K75: 11.666667 | L75: 28.923077 | M75: 9.4117647 | N75: 14.419355 | O75: 10.344828 | P75: 3.6666667 | Q75: 11.538462 | V75: 2526.0455 | W75: 15.043266
C76: 70%以上 | D76: 222.61538 | E76: 16.666667 | F76: 1820.7 | G76: 24.705882 | H76: 1007.4419 | I76: 24.096386 | J76: 428.04 | K76: 12.5 | L76: 72.307692 | M76: 23.529412 | N76: 14.419355 | O76: 10.344828 | P76: 8.5555556 | Q76: 26.923077 | V76: 3574.0798 | W76: 21.284587
B77: 小 計 | D77: 1335.6923 | E77: 100 | F77: 7369.5 | G77: 100 | H77: 4180.8837 | I77: 100 | J77: 3424.32 | K77: 100 | L77: 307.30769 | M77: 100 | N77: 139.3871 | O77: 100 | P77: 31.777778 | Q77: 100 | R77: 2 | S77: 100 | T77: 1 | U77: 100 | V77: 16791.869 | W77: 100
B78: 鋼構造物工事業 | C78: 10%未満 | D78: 27.125 | E78: 12.5 | F78: 223.71429 | G78: 15.384615 | H78: 27.892857 | I78: 4 | J78: 65.789474 | K78: 3.8461538 | L78: 15.627907 | M78: 9.3023256 | N78: 10.375 | O78: 13.513514 | P78: 4.5 | Q78: 50 | T78: 1 | U78: 33.333333 | V78: 376.02452 | W78: 8.6626314
C79: 10%以上30%未満 | D79: 27.125 | E79: 12.5 | F79: 167.78571 | G79: 11.538462 | H79: 251.03571 | I79: 36 | J79: 427.63158 | K79: 25 | L79: 50.790698 | M79: 30.232558 | N79: 33.2 | O79: 43.243243 | T79: 1 | U79: 33.333333 | V79: 958.56871 | W79: 22.082941
C80: 30%以上50%未満 | D80: 81.375 | E80: 37.5 | F80: 447.42857 | G80: 30.769231 | H80: 167.35714 | I80: 24 | J80: 526.31579 | K80: 30.769231 | L80: 42.976744 | M80: 25.581395 | N80: 18.675 | O80: 24.324324 | V80: 1284.1282 | W80: 29.58299
C81: 50%以上70%未満 | F81: 279.64286 | G81: 19.230769 | H81: 83.678571 | I81: 12 | J81: 197.36842 | K81: 11.538462 | L81: 31.255814 | M81: 18.604651 | N81: 6.225 | O81: 8.1081081 | P81: 2.25 | Q81: 25 | T81: 1 | U81: 33.333333 | V81: 601.42066 | W81: 13.855175
C82: 70%以上 | D82: 81.375 | E82: 37.5 | F82: 335.57143 | G82: 23.076923 | H82: 167.35714 | I82: 24 | J82: 493.42105 | K82: 28.846154 | L82: 27.348837 | M82: 16.27907 | N82: 8.3 | O82: 10.810811 | P82: 2.25 | Q82: 25 | R82: 5 | S82: 100 | V82: 1120.6235 | W82: 25.816263
B83: 小 計 | D83: 217 | E83: 100 | F83: 1454.1429 | G83: 100 | H83: 697.32143 | I83: 100 | J83: 1710.5263 | K83: 100 | L83: 168 | M83: 100 | N83: 76.775 | O83: 100 | P83: 9 | Q83: 100 | R83: 5 | S83: 100 | T83: 3 | U83: 100 | V83: 4340.7656 | W83: 100
B84: 鉄筋工事業 | C84: 10%未満 | H84: 32.708333 | I84: 4.3478261 | J84: 49.133333 | K84: 7.1428571 | N84: 4.4 | O84: 20 | V84: 86.241667 | W84: 1.7857107
C85: 10%以上30%未満 | F85: 404.19355 | G85: 35.714286 | H85: 196.25 | I85: 26.086957 | J85: 294.8 | K85: 42.857143 | L85: 16.785714 | M85: 38.461538 | N85: 4.4 | O85: 20 | V85: 916.42926 | W85: 18.975486
C86: 30%以上50%未満 | D86: 1315.2 | E86: 60 | F86: 282.93548 | G86: 25 | H86: 130.83333 | I86: 17.391304 | J86: 229.28889 | K86: 33.333333 | L86: 16.785714 | M86: 38.461538 | V86: 1975.0434 | W86: 40.895036
C87: 50%以上70%未満 | D87: 438.4 | E87: 20 | F87: 202.09677 | G87: 17.857143 | H87: 163.54167 | I87: 21.73913 | J87: 65.511111 | K87: 9.5238095 | L87: 6.7142857 | M87: 15.384615 | N87: 13.2 | O87: 60 | V87: 889.46384 | W87: 18.417142
C88: 70%以上 | D88: 438.4 | E88: 20 | F88: 242.51613 | G88: 21.428571 | H88: 228.95833 | I88: 30.434783 | J88: 49.133333 | K88: 7.1428571 | L88: 3.3571429 | M88: 7.6923077 | V88: 962.36494 | W88: 19.926625
B89: 小 計 | D89: 2192 | E89: 100 | F89: 1131.7419 | G89: 100 | H89: 752.29167 | I89: 100 | J89: 687.86667 | K89: 100 | L89: 43.642857 | M89: 100 | N89: 22 | O89: 100 | V89: 4829.5431 | W89: 100
B90: 解体工事業 | C90: 10%未満 | F90: 106.35714 | G90: 7.6923077 | J90: 72.09375 | K90: 10 | N90: 3.7 | O90: 10 | V90: 182.15089 | W90: 5.5990635
C91: 10%以上30%未満 | F91: 531.78571 | G91: 38.461538 | H91: 373.63636 | I91: 62.5 | J91: 312.40625 | K91: 43.333333 | L91: 79.04 | M91: 56.521739 | N91: 22.2 | O91: 60 | V91: 1319.0683 | W91: 40.546314
C92: 30%以上50%未満 | F92: 106.35714 | G92: 7.6923077 | H92: 74.727273 | I92: 12.5 | J92: 288.375 | K92: 40 | L92: 36.48 | M92: 26.086957 | N92: 7.4 | O92: 20 | P92: 7 | Q92: 100 | V92: 520.33942 | W92: 15.994505
C93: 50%以上70%未満 | D93: 368 | E93: 100 | F93: 319.07143 | G93: 23.076923 | H93: 74.727273 | I93: 12.5 | J93: 24.03125 | K93: 3.3333333 | L93: 6.08 | M93: 4.3478261 | V93: 791.90995 | W93: 24.342204
C94: 70%以上 | F94: 319.07143 | G94: 23.076923 | H94: 74.727273 | I94: 12.5 | J94: 24.03125 | K94: 3.3333333 | L94: 18.24 | M94: 13.043478 | N94: 3.7 | O94: 10 | V94: 439.76995 | W94: 13.517913
B95: 小 計 | D95: 368 | E95: 100 | F95: 1382.6429 | G95: 100 | H95: 597.81818 | I95: 100 | J95: 720.9375 | K95: 100 | L95: 139.84 | M95: 100 | N95: 37 | O95: 100 | P95: 7 | Q95: 100 | V95: 3253.2385 | W95: 100
B96: 躯体関係計 | C96: 10%未満 | D96: 138.43269 | E96: 2.5274851 | F96: 676.87143 | G96: 5.1341876 | H96: 447.30108 | I96: 5.8916457 | J96: 901.6809 | K96: 11.795878 | L96: 55.397138 | M96: 7.5779511 | N96: 42.950806 | O96: 13.542226 | P96: 6.9444444 | Q96: 13.157895 | R96: 1 | S96: 14.285714 | T96: 1.5 | U96: 37.5 | V96: 2272.0785 | W96: 6.4900148
C97: 10%以上30%未満 | D97: 775.55577 | E97: 14.159991 | F97: 3366.2601 | G97: 25.533669 | H97: 2573.8346 | I97: 33.901375 | J97: 2637.4897 | K97: 34.503901 | L97: 272.10257 | M97: 37.221778 | N97: 140.4371 | O97: 44.279281 | P97: 15.888889 | Q97: 30.105263 | T97: 1.5 | U97: 37.5 | V97: 9783.0688 | W97: 27.944572
C98: 30%以上50%未満 | D98: 1922.3904 | E98: 35.09874 | F98: 3798.4358 | G98: 28.811797 | H98: 1417.5379 | I98: 18.671162 | J98: 2018.4181 | K98: 26.405145 | L98: 185.224 | M98: 25.337381 | N98: 63.010484 | O98: 19.866965 | P98: 8.2222222 | Q98: 15.578947 | R98: 1 | S98: 14.285714 | V98: 9414.239 | W98: 26.891039
C99: 50%以上70%未満 | D99: 1140.3231 | E99: 20.819862 | F99: 2008.9915 | G99: 15.238551 | H99: 1265.8235 | I99: 16.672849 | J99: 831.20202 | K99: 10.873867 | L99: 93.613177 | M99: 12.805645 | N99: 39.094355 | O99: 12.326301 | P99: 7.5833333 | Q99: 14.368421 | T99: 1 | U99: 25 | V99: 5387.631 | W99: 15.389347
C100: 70%以上 | D100: 1500.3904 | E100: 27.393922 | F100: 3333.0541 | G100: 25.281796 | H100: 1887.6275 | I100: 24.862968 | J100: 1255.2427 | K100: 16.421208 | L100: 124.69367 | M100: 17.057245 | N100: 31.669355 | O100: 9.9852268 | P100: 14.138889 | Q100: 26.789474 | R100: 5 | S100: 71.428571 | V100: 8151.8165 | W100: 23.285027
B101: 小 計 | D101: 5477.0923 | E101: 100 | F101: 13183.613 | G101: 100 | H101: 7592.1245 | I101: 100 | J101: 7644.0335 | K101: 100 | L101: 731.03055 | M101: 100 | N101: 317.1621 | O101: 100 | P101: 52.777778 | Q101: 100 | R101: 7 | S101: 100 | T101: 4 | U101: 100 | V101: 35008.834 | W101: 100
...

Sheet 2-8-2
A1: 表2－8－2 特定業者への専属状況（下請比率上位1社）（経年変化）（下請完工高のある企業のみ対象）
S3: （単位：社、％）
B4: 年度 | C4: R06年度 | F4: R01年度 | I4: H26年度 | L4: H23年度 | O4: H20年度 | R4: H17年度
A6: 業種 | B6: 専属比率 | E6: 増減 | H6: 増減 | K6: 増減 | N6: 増減 | Q6: 増減
A7: 一般土木建築 | B7: １０％未満 | C7: ='2-8-1'!V6 -> 909.95393 | D7: ='2-8-1'!W6 -> 15.771245 | E7: =D7-G7 -> -25.114888 | F7: 1101.3854 | G7: 40.886132 | H7: =G7-J7 -> 3.3786919 | I7: 1310.5788 | J7: 37.50744 | K7: =J7-M7 -> 6.3074404 | L7: 1106.59 | M7: 31.2 | N7: =M7-P7 -> 1.1 | O7: 1321.41 | P7: 30.1 | Q7: =P7-S7 -> -2.5 | R7: 1673 | S7: 32.6
B8: １０％以上３０％未満 | C8: ='2-8-1'!V7 -> 2255.0972 | D8: ='2-8-1'!W7 -> 39.085154 | E8: =D8-G8 -> 18.758499 | F8: 547.55682 | G8: 20.326655 | H8: =G8-J8 -> -9.9494956 | I8: 1057.9043 | J8: 30.27615 | K8: =J8-M8 -> 5.2761501 | L8: 888.91 | M8: 25 | N8: =M8-P8 -> -6.1 | O8: 1365.89 | P8: 31.1 | Q8: =P8-S8 -> -1.2 | R8: 1658 | S8: 32.3
B9: ３０％以上５０％未満 | C9: ='2-8-1'!V8 -> 1090.0185 | D9: ='2-8-1'!W8 -> 18.892109 | E9: =D9-G9 -> -0.094853831 | F9: 511.46838 | G9: 18.986963 | H9: =G9-J9 -> 5.8313887 | I9: 459.6799 | J9: 13.155574 | K9: =J9-M9 -> -7.044426 | L9: 718.43 | M9: 20.2 | N9: =M9-P9 -> 1 | O9: 844.71 | P9: 19.2 | Q9: =P9-S9 -> 3.1 | R9: 825 | S9: 16.1
B10: ５０％以上７０％未満 | C10: ='2-8-1'!V9 -> 577.74513 | D10: ='2-8-1'!W9 -> 10.01343 | E10: =D10-G10 -> 0.85978158 | F10: 246.5798 | G10: 9.1536481 | H10: =G10-J10 -> -1.6184386 | I10: 376.39648 | J10: 10.772087 | K10: =J10-M10 -> -0.027913294 | L10: 384.27 | M10: 10.8 | N10: =M10-P10 -> 1 | O10: 430.28 | P10: 9.8 | Q10: =P10-S10 -> 0.4 | R10: 483 | S10: 9.4
B11: ７０％以上 | C11: ='2-8-1'!V10 -> 936.88796 | D11: ='2-8-1'!W10 -> 16.238063 | E11: =D11-G11 -> 5.5914606 | F11: 286.79681 | G11: 10.646602 | H11: =G11-J11 -> 2.3578536 | I11: 289.62409 | J11: 8.2887487 | K11: =J11-M11 -> -4.4112513 | L11: 452.3 | M11: 12.7 | N11: =M11-P11 -> 2.8 | O11: 434.01 | P11: 9.9 | Q11: =P11-S11 -> 0.3 | R11: 493 | S11: 9.6
B12: 小 計 | C12: ='2-8-1'!V11 -> 5769.7027 | D12: ='2-8-1'!W11 -> 100 | E12: - | F12: 2693.7872 | G12: 100 | H12: - | I12: 3494.1835 | J12: 100 | K12: - | L12: 3550.49 | M12: 100 | N12: - | O12: 4396.31 | P12: 100 | Q12: - | R12: 5133 | S12: 100
A13: 土 木 | B13: １０％未満 | C13: ='2-8-1'!V42 -> 5127.6365 | D13: ='2-8-1'!W42 -> 16.020773 | E13: =D13-G13 -> -3.815208 | F13: 4968.8524 | G13: 19.835981 | H13: =G13-J13 -> -1.8410567 | I13: 7160.6846 | J13: 21.677038 | K13: =J13-M13 -> 3.8770379 | L13: 5915.16 | M13: 17.8 | N13: =M13-P13 -> -2.6 | O13: 7865.75 | P13: 20.4 | Q13: =P13-S13 -> -0.7 | R13: 9895 | S13: 21.1
B14: １０％以上３０％未満 | C14: ='2-8-1'!V43 -> 8055.0961 | D14: ='2-8-1'!W43 -> 25.16732 | E14: =D14-G14 -> -2.3588537 | F14: 6895.222 | G14: 27.526174 | H14: =G14-J14 -> -0.69619526 | I14: 9322.8366 | J14: 28.222369 | K14: =J14-M14 -> -4.077631 | L14: 10700 | M14: 32.3 | N14: =M14-P14 -> 2.5 | O14: 11451.13 | P14: 29.8 | Q14: =P14-S14 -> -3 | R14: 15416 | S14: 32.8
B15: ３０％以上５０％未満 | C15: ='2-8-1'!V44 -> 5322.0052 | D15: ='2-8-1'!W44 -> 16.628058 | E15: =D15-G15 -> -3.0632319 | F15: 4932.6077 | G15: 19.69129 | H15: =G15-J15 -> 1.0143295 | I15: 6169.6541 | J15: 18.676961 | K15: =J15-M15 -> -0.12303928 | L15: 6219.63 | M15: 18.8 | N15: =M15-P15 -> -0.6 | O15: 7452.48 | P15: 19.4 | Q15: =P15-S15 -> 0.3 | R15: 8955 | S15: 19.1
B16: ５０％以上７０％未満 | C16: ='2-8-1'!V45 -> 4133.3216 | D16: ='2-8-1'!W45 -> 12.914139 | E16: =D16-G16 -> 0.42062579 | F16: 3129.5866 | G16: 12.493513 | H16: =G16-J16 -> 2.9154959 | I16: 3163.9543 | J16: 9.5780169 | K16: =J16-M16 -> -2.3219831 | L16: 3943.41 | M16: 11.9 | N16: =M16-P16 -> -1 | O16: 4966.43 | P16: 12.9 | Q16: =P16-S16 -> 1.2 | R16: 5503 | S16: 11.7
B17: ７０％以上 | C17: ='2-8-1'!V46 -> 9368.114 | D17: ='2-8-1'!W46 -> 29.26971 | E17: =D17-G17 -> 8.8166677 | F17: 5123.4242 | G17: 20.453042 | H17: =G17-J17 -> -1.3925735 | I17: 7216.3716 | J17: 21.845615 | K17: =J17-M17 -> 2.6456154 | L17: 6366.54 | M17: 19.2 | N17: =M17-P17 -> 1.7 | O17: 6728.93 | P17: 17.5 | Q17: =P17-S17 -> 2.1 | R17: 7228 | S17: 15.4
B18: 小 計 | C18: ='2-8-1'!V47 -> 32006.173 | D18: ='2-8-1'!W47 -> 100 | E18: - | F18: 25049.693 | G18: 100 | H18: - | I18: 33033.501 | J18: 100 | K18: - | L18: 33144.74 | M18: 100 | N18: - | O18: 38464.72 | P18: 100 | Q18: - | R18: 46997 | S18: 100
A19: 建 築 | B19: １０％未満 | C19: ='2-8-1'!V48 -> 6509.0595 | D19: ='2-8-1'!W48 -> 17.641743 | E19: =D19-G19 -> -9.5640352 | F19: 4169.4199 | G19: 27.205779 | H19: =G19-J19 -> -5.016027 | I19: 6670.8134 | J19: 32.221806 | K19: =J19-M19 -> 6.3218056 | L19: 5422.43 | M19: 25.9 | N19: =M19-P19 -> -4.6 | O19: 6654.54 | P19: 30.5 | Q19: =P19-S19 -> 3.3 | R19: 6880 | S19: 27.2
B20: １０％以上３０％未満 | C20: ='2-8-1'!V49 -> 9154.4754 | D20: ='2-8-1'!W49 -> 24.811711 | E20: =D20-G20 -> -6.2464076 | F20: 4759.8101 | G20: 31.058119 | H20: =G20-J20 -> 10.138968 | I20: 4330.8484 | J20: 20.919151 | K20: =J20-M20 -> -1.9808487 | L20: 4787.1 | M20: 22.9 | N20: =M20-P20 -> 2.9 | O20: 4373.43 | P20: 20 | Q20: =P20-S20 -> -4.5 | R20: 6181 | S20: 24.5
B21: ３０％以上５０％未満 | C21: ='2-8-1'!V50 -> 5381.8629 | D21: ='2-8-1'!W50 -> 14.586661 | E21: =D21-G21 -> -2.1952374 | F21: 2571.9088 | G21: 16.781898 | H21: =G21-J21 -> 2.8438598 | I21: 2885.5632 | J21: 13.938039 | K21: =J21-M21 -> -4.4619613 | L21: 3856.43 | M21: 18.4 | N21: =M21-P21 -> 3.8 | O21: 3185.44 | P21: 14.6 | Q21: =P21-S21 -> -0.3 | R21: 3766 | S21: 14.9
B22: ５０％以上７０％未満 | C22: ='2-8-1'!V51 -> 3399.8064 | D22: ='2-8-1'!W51 -> 9.2146204 | E22: =D22-G22 -> 1.7651576 | F22: 1141.6669 | G22: 7.4494628 | H22: =G22-J22 -> -5.7201478 | I22: 2726.4771 | J22: 13.169611 | K22: =J22-M22 -> -0.33038949 | L22: 2831.23 | M22: 13.5 | N22: =M22-P22 -> 0.3 | O22: 2891.23 | P22: 13.2 | Q22: =P22-S22 -> 2 | R22: 2842 | S22: 11.2
B23: ７０％以上 | C23: ='2-8-1'!V52 -> 12450.58 | D23: ='2-8-1'!W52 -> 33.745264 | E23: =D23-G23 -> 16.240523 | F23: 2682.688 | G23: 17.504741 | H23: =G23-J23 -> -2.2466528 | I23: 4089.09 | J23: 19.751394 | K23: =J23-M23 -> 0.5513939 | L23: 4026.3 | M23: 19.2 | N23: =M23-P23 -> -2.4 | O23: 4716.22 | P23: 21.6 | Q23: =P23-S23 -> -0.5 | R23: 5594 | S23: 22.1
B24: 小 計 | C24: ='2-8-1'!V53 -> 36895.784 | D24: ='2-8-1'!W53 -> 100 | E24: - | F24: 15325.494 | G24: 100 | H24: - | I24: 20702.792 | J24: 100 | K24: - | L24: 20923.49 | M24: 100 | N24: - | O24: 21820.86 | P24: 100 | Q24: - | R24: 25263 | S24: 100
A25: 木造建築 | B25: １０％未満 | C25: ='2-8-1'!V54 -> 1900.5265 | D25: ='2-8-1'!W54 -> 30.294624 | E25: =D25-G25 -> 21.472846 | F25: 289.29748 | G25: 8.8217782 | H25: =G25-J25 -> -30.417635 | I25: 2537.0654 | J25: 39.239413 | K25: =J25-M25 -> 9.5394133 | L25: 1404.84 | M25: 29.7 | N25: =M25-P25 -> -4.8 | O25: 1879.12 | P25: 34.5 | Q25: =P25-S25 -> 3.1 | R25: 2378 | S25: 31.4
B26: １０％以上３０％未満 | C26: ='2-8-1'!V55 -> 567.71912 | D26: ='2-8-1'!W55 -> 9.0495121 | E26: =D26-G26 -> -18.20813 | F26: 893.87502 | G26: 27.257642 | H26: =G26-J26 -> 5.3995335 | I26: 1413.2589 | J26: 21.858108 | K26: =J26-M26 -> 8.1581083 | L26: 646.36 | M26: 13.7 | N26: =M26-P26 -> -8.3 | O26: 1196.82 | P26: 22 | Q26: =P26-S26 -> 0.6 | R26: 1622 | S26: 21.4
B27: ３０％以上５０％未満 | C27: ='2-8-1'!V56 -> 1090.1773 | D27: ='2-8-1'!W56 -> 17.377558 | E27: =D27-G27 -> -5.2304314 | F27: 741.3964 | G27: 22.60799 | H27: =G27-J27 -> 10.195598 | I27: 802.53619 | J27: 12.412391 | K27: =J27-M27 -> -3.3876085 | L27: 748.18 | M27: 15.8 | N27: =M27-P27 -> -1.9 | O27: 963.23 | P27: 17.7 | Q27: =P27-S27 -> 2.8 | R27: 1130 | S27: 14.9
B28: ５０％以上７０％未満 | C28: ='2-8-1'!V57 -> 741.63089 | D28: ='2-8-1'!W57 -> 11.821687 | E28: =D28-G28 -> -1.8680703 | F28: 448.93583 | G28: 13.689757 | H28: =G28-J28 -> 1.3661711 | I28: 796.79438 | J28: 12.323586 | K28: =J28-M28 -> -5.2764139 | L28: 830.18 | M28: 17.6 | N28: =M28-P28 -> 9.6 | O28: 437.57 | P28: 8 | Q28: =P28-S28 -> 2.2 | R28: 443 | S28: 5.8
B29: ７０％以上 | C29: ='2-8-1'!V58 -> 1973.424 | D29: ='2-8-1'!W58 -> 31.456619 | E29: =D29-G29 -> 3.8337858 | F29: 905.85094 | G29: 27.622833 | H29: =G29-J29 -> 13.456332 | I29: 915.94996 | J29: 14.166501 | K29: =J29-M29 -> -9.0334992 | L29: 1098.58 | M29: 23.2 | N29: =M29-P29 -> 5.5 | O29: 965.97 | P29: 17.7 | Q29: =P29-S29 -> -8.8 | R29: 2008 | S29: 26.5
B30: 小 計 | C30: ='2-8-1'!V59 -> 6273.4777 | D30: ='2-8-1'!W59 -> 100 | E30: - | F30: 3279.3557 | G30: 100 | H30: - | I30: 6465.6049 | J30: 100 | K30: - | L30: 4728.14 | M30: 100 | N30: - | O30: 5442.71 | P30: 100 | Q30: - | R30: 7582 | S30: 100
A31: 職 別 | B31: １０％未満 | C31: ='2-8-1'!V168 -> 7256.3405 | D31: ='2-8-1'!W168 -> 7.7621201 | E31: =D31-G31 -> -0.8459634 | F31: 3466.5483 | G31: 8.6080835 | H31: =G31-J31 -> -2.4264721 | I31: 4858.7156 | J31: 11.034556 | K31: =J31-M31 -> 0.33455561 | L31: 4499.56 | M31: 10.7 | N31: =M31-P31 -> 0.1 | O31: 4294.08 | P31: 10.6 | Q31: =P31-S31 -> -2.8 | R31: 5682 | S31: 13.4
B32: １０％以上３０％未満 | C32: ='2-8-1'!V169 -> 26951.687 | D32: ='2-8-1'!W169 -> 28.830267 | E32: =D32-G32 -> -4.7681432 | F32: 13530.365 | G32: 33.59841 | H32: =G32-J32 -> -0.85811183 | I32: 15171.833 | J32: 34.456522 | K32: =J32-M32 -> -0.3434782 | L32: 14607.02 | M32: 34.8 | N32: =M32-P32 -> -4.1 | O32: 15763.66 | P32: 38.9 | Q32: =P32-S32 -> 0.1 | R32: 16479 | S32: 38.8
B33: ３０％以上５０％未満 | C33: ='2-8-1'!V170 -> 26214.204 | D33: ='2-8-1'!W170 -> 28.04138 | E33: =D33-G33 -> 2.91347 | F33: 10119.223 | G33: 25.12791 | H33: =G33-J33 -> 1.6266922 | I33: 10348.014 | J33: 23.501218 | K33: =J33-M33 -> -0.59878234 | L33: 10097.67 | M33: 24.1 | N33: =M33-P33 -> 0.7 | O33: 9476.67 | P33: 23.4 | Q33: =P33-S33 -> 0.4 | R33: 9755 | S33: 23
B34: ５０％以上７０％未満 | C34: ='2-8-1'!V171 -> 14761.091 | D34: ='2-8-1'!W171 -> 15.789965 | E34: =D34-G34 -> 3.3023721 | F34: 5028.8596 | G34: 12.487593 | H34: =G34-J34 -> -1.2570761 | I34: 6052.0278 | J34: 13.744669 | K34: =J34-M34 -> -0.2553311 | L34: 5852.93 | M34: 14 | N34: =M34-P34 -> 1.7 | O34: 4993.99 | P34: 12.3 | Q34: =P34-S34 -> 0.8 | R34: 4884 | S34: 11.5
B35: ７０％以上 | C35: ='2-8-1'!V172 -> 18300.679 | D35: ='2-8-1'!W172 -> 19.576268 | E35: =D35-G35 -> -0.60173554 | F35: 8125.8535 | G35: 20.178004 | H35: =G35-J35 -> 2.9149679 | I35: 7601.2289 | J35: 17.263036 | K35: =J35-M35 -> 0.86303603 | L35: 6877.96 | M35: 16.4 | N35: =M35-P35 -> 1.6 | O35: 6018.2 | P35: 14.8 | Q35: =P35-S35 -> 1.5 | R35: 5650 | S35: 13.3
B36: 小 計 | C36: ='2-8-1'!V173 -> 93484.002 | D36: ='2-8-1'!W173 -> 100 | E36: - | F36: 40270.849 | G36: 100 | H36: - | I36: 44031.82 | J36: 100 | K36: - | L36: 41935.14 | M36: 100 | N36: - | O36: 40546.6 | P36: 100 | Q36: - | R36: 42450 | S36: 100
A37: 設 備 | B37: １０％未満 | C37: ='2-8-1'!V216 -> 7368.6218 | D37: ='2-8-1'!W216 -> 12.114355 | E37: =D37-G37 -> 0.43699452 | F37: 3605.2544 | G37: 11.677361 | H37: =G37-J37 -> -0.43548959 | I37: 4375.0073 | J37: 12.11285 | K37: =J37-M37 -> -4.1871498 | L37: 5657.17 | M37: 16.3 | N37: =M37-P37 -> 1.4 | O37: 5116.34 | P37: 14.9 | Q37: =P37-S37 -> -2.3 | R37: 6448 | S37: 17.2
B38: １０％以上３０％未満 | C38: ='2-8-1'!V217 -> 14884.015 | D38: ='2-8-1'!W217 -> 24.470009 | E38: =D38-G38 -> -1.3436606 | F38: 7969.6814 | G38: 25.813669 | H38: =G38-J38 -> -4.8654388 | I38: 11080.903 | J38: 30.679108 | K38: =J38-M38 -> 0.97910813 | L38: 10289.16 | M38: 29.7 | N38: =M38-P38 -> -4.9 | O38: 11876.91 | P38: 34.6 | Q38: =P38-S38 -> -2 | R38: 13766 | S38: 36.6
B39: ３０％以上５０％未満 | C39: ='2-8-1'!V218 -> 14934.547 | D39: ='2-8-1'!W218 -> 24.553087 | E39: =D39-G39 -> -1.3132084 | F39: 7985.929 | G39: 25.866295 | H39: =G39-J39 -> 3.466154 | I39: 8090.6459 | J39: 22.400141 | K39: =J39-M39 -> 1.6001412 | L39: 7221.24 | M39: 20.8 | N39: =M39-P39 -> 1.9 | O39: 6486.8 | P39: 18.9 | Q39: =P39-S39 -> -0.8 | R39: 7404 | S39: 19.7
B40: ５０％以上７０％未満 | C40: ='2-8-1'!V219 -> 9781.1928 | D40: ='2-8-1'!W219 -> 16.080734 | E40: =D40-G40 -> 3.3846519 | F40: 3919.773 | G40: 12.696082 | H40: =G40-J40 -> -2.8258491 | I40: 5606.3238 | J40: 15.521931 | K40: =J40-M40 -> 3.9219306 | L40: 4007.53 | M40: 11.6 | N40: =M40-P40 -> -1.1 | O40: 4381.11 | P40: 12.7 | Q40: =P40-S40 -> 2.5 | R40: 3836 | S40: 10.2
B41: ７０％以上 | C41: ='2-8-1'!V220 -> 13857.162 | D41: ='2-8-1'!W220 -> 22.781816 | E41: =D41-G41 -> -1.1647775 | F41: 7393.2426 | G41: 23.946593 | H41: =G41-J41 -> 4.6606235 | I41: 6965.8469 | J41: 19.28597 | K41: =J41-M41 -> -2.3140301 | L41: 7495.76 | M41: 21.6 | N41: =M41-P41 -> 2.7 | O41: 6505.45 | P41: 18.9 | Q41: =P41-S41 -> 2.6 | R41: 6111 | S41: 16.3
B42: 小 計 | C42: ='2-8-1'!V221 -> 60825.539 | D42: ='2-8-1'!W221 -> 100 | E42: - | F42: 30873.88 | G42: 100 | H42: - | I42: 36118.727 | J42: 100 | K42: - | L42: 34670.86 | M42: 100 | N42: - | O42: 34366.62 | P42: 100 | Q42: - | R42: 37564 | S42: 100
A43: 合 計 | B43: １０％未満 | C43: ='2-8-1'!V222 -> 29072.139 | D43: ='2-8-1'!W222 -> 12.35773 | E43: =D43-G43 -> -2.622523 | F43: 17600.758 | G43: 14.980253 | H43: =G43-J43 -> -3.7291634 | I43: 26912.865 | J43: 18.709417 | K43: =J43-M43 -> 1.4094167 | L43: 24005.74 | M43: 17.3 | N43: =M43-P43 -> -1.4 | O43: 27131.24 | P43: 18.7 | Q43: =P43-S43 -> -1.3 | R43: 32955 | S43: 20
B44: １０％以上３０％未満 | C44: ='2-8-1'!V223 -> 61868.09 | D44: ='2-8-1'!W223 -> 26.298346 | E44: =D44-G44 -> -3.1472318 | F44: 34596.51 | G44: 29.445578 | H44: =G44-J44 -> -0.014678081 | I44: 42377.585 | J44: 29.460256 | K44: =J44-M44 -> -0.73974395 | L44: 41918.55 | M44: 30.2 | N44: =M44-P44 -> -1.5 | O44: 46027.85 | P44: 31.7 | Q44: =P44-S44 -> -1.7 | R44: 55121 | S44: 33.4
B45: ３０％以上５０％未満 | C45: ='2-8-1'!V224 -> 54032.815 | D45: ='2-8-1'!W224 -> 22.967796 | E45: =D45-G45 -> 0.10471554 | F45: 26862.533 | G45: 22.863081 | H45: =G45-J45 -> 2.87228 | I45: 28756.093 | J45: 19.990801 | K45: =J45-M45 -> -0.8091992 | L45: 28861.58 | M45: 20.8 | N45: =M45-P45 -> 1.2 | O45: 28409.33 | P45: 19.6 | Q45: =P45-S45 -> 0.3 | R45: 31836 | S45: 19.3
B46: ５０％以上７０％未満 | C46: ='2-8-1'!V225 -> 33394.788 | D46: ='2-8-1'!W225 -> 14.195164 | E46: =D46-G46 -> 2.3515694 | F46: 13915.402 | G46: 11.843595 | H46: =G46-J46 -> -1.1716382 | I46: 18721.974 | J46: 13.015233 | K46: =J46-M46 -> 0.21523301 | L46: 17849.54 | M46: 12.8 | N46: =M46-P46 -> 0.3 | O46: 18100.61 | P46: 12.5 | Q46: =P46-S46 -> 1.6 | R46: 17991 | S46: 10.9
B47: ７０％以上 | C47: ='2-8-1'!V226 -> 56886.847 | D47: ='2-8-1'!W226 -> 24.180963 | E47: =D47-G47 -> 3.3134699 | F47: 24517.856 | G47: 20.867493 | H47: =G47-J47 -> 2.0431997 | I47: 27078.111 | J47: 18.824293 | K47: =J47-M47 -> -0.075706578 | L47: 26317.45 | M47: 18.9 | N47: =M47-P47 -> 1.4 | O47: 25368.78 | P47: 17.5 | Q47: =P47-S47 -> 1.1 | R47: 27085 | S47: 16.4
C48: ='2-8-1'!V227 -> 235254.68 | D48: ='2-8-1'!W227 -> 100 | E48: - | F48: 117493.06 | G48: 100 | H48: - | I48: 143846.63 | J48: 100 | K48: - | L48: 138952.85 | M48: 100 | N48: - | O48: 145037.82 | P48: 100 | Q48: - | R48: 164988 | S48: 100
P49: =SUBSTITUTE('2-8-1'!J254,"3．","（注）")

Sheet 2-8-3
A1: 表2－8－3 特定業者への専属状況（下請比率上位１社）（下請比率、次数別集計）（下請完工高のある企業のみ対象）
A3: （概要） | M3: （単位：社、％）
A4: 下請比率、次数 | B4: ０％超 ５０％未満 | D4: ５０％以上１００％以下 | L4: 合 計
A5: 専属比率 | F5: 一次下請 | H5: 二次下請 | J5: 三次以下下請
A6: １０％未満 | B6: =SUM(H18,P18,X18,H27,P27) -> 19810.41 | C6: =IF(ISNUMBER(B6),B6/B$11*100,"") -> 28.383067 | D6: =F6+H6+J6 -> 13513.703 | E6: =IF(ISNUMBER(D6),D6/D$11*100,"") -> 8.0893012 | F6: =SUM(R27,B36,J36,R36,B45,J45) -> 11624.691 | G6: =IF(ISNUMBER(F6),F6/F$11*100,"") -> 9.415457 | H6: =SUM(T27,D36,L36,T36,D45,L45) -> 1598.395 | I6: =IF(ISNUMBER(H6),H6/H$11*100,"") -> 4.3024772 | J6: =SUM(V27,F36,N36,V36,F45,N45) -> 290.61727 | K6: =IF(ISNUMBER(J6),J6/J$11*100,"") -> 4.5112782 | L6: =X45 -> 33324.113 | M6: =IF(ISNUMBER(L6),L6/L$11*100,"") -> 14.06953
A7: １０％以上３０％未満 | B7: =SUM(H19,P19,X19,H28,P28) -> 21166.624 | C7: =IF(ISNUMBER(B7),B7/B$11*100,"") -> 30.326162 | D7: =F7+H7+J7 -> 57057.857 | E7: =IF(ISNUMBER(D7),D7/D$11*100,"") -> 34.154827 | F7: =SUM(R28,B37,J37,R37,B46,J46) -> 44076.952 | G7: =IF(ISNUMBER(F7),F7/F$11*100,"") -> 35.700275 | H7: =SUM(T28,D37,L37,T37,D46,L46) -> 11818.436 | I7: =IF(ISNUMBER(H7),H7/H$11*100,"") -> 31.812256 | J7: =SUM(V28,F37,N37,V37,F46,N46) -> 1162.4691 | K7: =IF(ISNUMBER(J7),J7/J$11*100,"") -> 18.045113 | L7: =X46 -> 78224.481 | M7: =IF(ISNUMBER(L7),L7/L$11*100,"") -> 33.026585
A8: ３０％以上５０％未満 | B8: =SUM(H20,P20,X20,H29,P29) -> 11915.308 | C8: =IF(ISNUMBER(B8),B8/B$11*100,"") -> 17.071478 | D8: =F8+H8+J8 -> 38506.788 | E8: =IF(ISNUMBER(D8),D8/D$11*100,"") -> 23.050159 | F8: =SUM(R29,B38,J38,R38,B47,J47) -> 28722.673 | G8: =IF(ISNUMBER(F8),F8/F$11*100,"") -> 23.264025 | H8: =SUM(T29,D38,L38,T38,D47,L47) -> 8185.7197 | I8: =IF(ISNUMBER(H8),H8/H$11*100,"") -> 22.033898 | J8: =SUM(V29,F38,N38,V38,F47,N47) -> 1598.395 | K8: =IF(ISNUMBER(J8),J8/J$11*100,"") -> 24.81203 | L8: =X47 -> 50422.096 | M8: =IF(ISNUMBER(L8),L8/L$11*100,"") -> 21.288344
A9: ５０％以上７０％未満 | B9: =SUM(H21,P21,X21,H30,P30) -> 7652.9214 | C9: =IF(ISNUMBER(B9),B9/B$11*100,"") -> 10.964608 | D9: =F9+H9+J9 -> 23491.562 | E9: =IF(ISNUMBER(D9),D9/D$11*100,"") -> 14.062047 | F9: =SUM(R30,B39,J39,R39,B48,J48) -> 16662.057 | G9: =IF(ISNUMBER(F9),F9/F$11*100,"") -> 13.495488 | H9: =SUM(T30,D39,L39,T39,D48,L48) -> 5618.6005 | I9: =IF(ISNUMBER(H9),H9/H$11*100,"") -> 15.123859 | J9: =SUM(V30,F39,N39,V39,F48,N48) -> 1210.9053 | K9: =IF(ISNUMBER(J9),J9/J$11*100,"") -> 18.796992 | L9: =X48 -> 31144.484 | M9: =IF(ISNUMBER(L9),L9/L$11*100,"") -> 13.149284
A10: ７０％以上 | B10: =SUM(H22,P22,X22,H31,P31) -> 9251.3164 | C10: =IF(ISNUMBER(B10),B10/B$11*100,"") -> 13.254684 | D10: =F10+H10+J10 -> 34486.582 | E10: =IF(ISNUMBER(D10),D10/D$11*100,"") -> 20.643665 | F10: =SUM(R31,B40,J40,R40,B49,J49) -> 22377.53 | G10: =IF(ISNUMBER(F10),F10/F$11*100,"") -> 18.124755 | H10: =SUM(T31,D40,L40,T40,D49,L49) -> 9929.4233 | I10: =IF(ISNUMBER(H10),H10/H$11*100,"") -> 26.72751 | J10: =SUM(V31,F40,N40,V40,F49,N49) -> 2179.6295 | K10: =IF(ISNUMBER(J10),J10/J$11*100,"") -> 33.834586 | L10: =X49 -> 43737.899 | M10: =IF(ISNUMBER(L10),L10/L$11*100,"") -> 18.466258
A11: 合 計 | B11: =IF(SUM(B6:B10)>0,SUM(B6:B10),"") -> 69796.58 | C11: =IF(ISNUMBER(B11),B11/B$11*100,"") -> 100 | D11: =F11+H11+J11 -> 167056.49 | E11: =IF(ISNUMBER(D11),D11/D$11*100,"") -> 100 | F11: =IF(SUM(F6:F10)>0,SUM(F6:F10),"") -> 123463.9 | G11: =IF(ISNUMBER(F11),F11/F$11*100,"") -> 100 | H11: =IF(SUM(H6:H10)>0,SUM(H6:H10),"") -> 37150.574 | I11: =IF(ISNUMBER(H11),H11/H$11*100,"") -> 100 | J11: =IF(SUM(J6:J10)>0,SUM(J6:J10),"") -> 6442.0161 | K11: =IF(ISNUMBER(J11),J11/J$11*100,"") -> 100 | L11: =IF(SUM(L6:L10)>0,SUM(L6:L10),"") -> 236853.07 | M11: =IF(ISNUMBER(L11),L11/L$11*100,"") -> 100
F12: （注） | G12: 1. ( )の数値は各合計を100とした場合の構成比
A15: （下請比率別詳細）
A16: 下請比率、次数 | B16: ０％超１０％未満 | J16: １０％以上２０％未満 | R16: ２０％以上３０％未満
A17: 専属比率 | B17: 一次下請 | D17: 二次下請 | F17: 三次以下下請 | H17: 小 計 | J17: 一次下請 | L17: 二次下請 | N17: 三次以下下請 | P17: 小 計 | R17: 一次下請 | T17: 二次下請 | V17: 三次以下下請 | X17: 小 計
A18: １０％未満 | B18: 8331.0283 | C18: =IF(ISNUMBER(B18),B18/B$23*100,"") -> 44.102564 | D18: 290.61727 | E18: =IF(ISNUMBER(D18),D18/D$23*100,"") -> 66.666667 | G18: =IF(ISNUMBER(F18),F18/F$23*100,"") | H18: =IF(ISNUMBER(B18),B18,0)+IF(ISNUMBER(D18),D18,0)+IF(ISNUMBER(F18),F18,0) -> 8621.6456 | I18: =IF(ISNUMBER(H18),H18/H$23*100,"") -> 44.389027 | J18: 3778.0245 | K18: =IF(ISNUMBER(J18),J18/J$23*100,"") -> 29.323308 | L18: 193.74485 | M18: =IF(ISNUMBER(L18),L18/L$23*100,"") -> 40 | O18: =IF(ISNUMBER(N18),N18/N$23*100,"") | P18: =IF(ISNUMBER(J18),J18,0)+IF(ISNUMBER(L18),L18,0)+IF(ISNUMBER(N18),N18,0) -> 3971.7693 | Q18: =IF(ISNUMBER(P18),P18/P$23*100,"") -> 29.496403 | R18: 3196.7899 | S18: =IF(ISNUMBER(R18),R18/R$23*100,"") -> 26.4 | T18: 48.436211 | U18: =IF(ISNUMBER(T18),T18/T$23*100,"") -> 7.1428571 | W18: =IF(ISNUMBER(V18),V18/V$23*100,"") | X18: =IF(ISNUMBER(R18),R18,0)+IF(ISNUMBER(T18),T18,0)+IF(ISNUMBER(V18),V18,0) -> 3245.2262 | Y18: =IF(ISNUMBER(X18),X18/X$23*100,"") -> 25.378788
A19: １０％以上３０％未満 | B19: 2131.1933 | C19: =IF(ISNUMBER(B19),B19/B$23*100,"") -> 11.282051 | D19: 48.436211 | E19: =IF(ISNUMBER(D19),D19/D$23*100,"") -> 11.111111 | G19: =IF(ISNUMBER(F19),F19/F$23*100,"") | H19: =IF(ISNUMBER(B19),B19,0)+IF(ISNUMBER(D19),D19,0)+IF(ISNUMBER(F19),F19,0) -> 2179.6295 | I19: =IF(ISNUMBER(H19),H19/H$23*100,"") -> 11.221945 | J19: 4020.2055 | K19: =IF(ISNUMBER(J19),J19/J$23*100,"") -> 31.203008 | L19: 96.872423 | M19: =IF(ISNUMBER(L19),L19/L$23*100,"") -> 20 | O19: =IF(ISNUMBER(N19),N19/N$23*100,"") | P19: =IF(ISNUMBER(J19),J19,0)+IF(ISNUMBER(L19),L19,0)+IF(ISNUMBER(N19),N19,0) -> 4117.078 | Q19: =IF(ISNUMBER(P19),P19/P$23*100,"") -> 30.57554 | R19: 4068.6417 | S19: =IF(ISNUMBER(R19),R19/R$23*100,"") -> 33.6 | T19: 242.18106 | U19: =IF(ISNUMBER(T19),T19/T$23*100,"") -> 35.714286 | W19: =IF(ISNUMBER(V19),V19/V$23*100,"") | X19: =IF(ISNUMBER(R19),R19,0)+IF(ISNUMBER(T19),T19,0)+IF(ISNUMBER(V19),V19,0) -> 4310.8228 | Y19: =IF(ISNUMBER(X19),X19/X$23*100,"") -> 33.712121
A20: ３０％以上５０％未満 | B20: 2131.1933 | C20: =IF(ISNUMBER(B20),B20/B$23*100,"") -> 11.282051 | D20: 48.436211 | E20: =IF(ISNUMBER(D20),D20/D$23*100,"") -> 11.111111 | G20: =IF(ISNUMBER(F20),F20/F$23*100,"") | H20: =IF(ISNUMBER(B20),B20,0)+IF(ISNUMBER(D20),D20,0)+IF(ISNUMBER(F20),F20,0) -> 2179.6295 | I20: =IF(ISNUMBER(H20),H20/H$23*100,"") -> 11.221945 | J20: 1937.4485 | K20: =IF(ISNUMBER(J20),J20/J$23*100,"") -> 15.037594 | L20: 48.436211 | M20: =IF(ISNUMBER(L20),L20/L$23*100,"") -> 10 | N20: 48.436211 | O20: =IF(ISNUMBER(N20),N20/N$23*100,"") -> 50 | P20: =IF(ISNUMBER(J20),J20,0)+IF(ISNUMBER(L20),L20,0)+IF(ISNUMBER(N20),N20,0) -> 2034.3209 | Q20: =IF(ISNUMBER(P20),P20/P$23*100,"") -> 15.107914 | R20: 2518.683 | S20: =IF(ISNUMBER(R20),R20/R$23*100,"") -> 20.8 | T20: 193.74485 | U20: =IF(ISNUMBER(T20),T20/T$23*100,"") -> 28.571429 | W20: =IF(ISNUMBER(V20),V20/V$23*100,"") | X20: =IF(ISNUMBER(R20),R20,0)+IF(ISNUMBER(T20),T20,0)+IF(ISNUMBER(V20),V20,0) -> 2712.4278 | Y20: =IF(ISNUMBER(X20),X20/X$23*100,"") -> 21.212121
A21: ５０％以上７０％未満 | B21: 2324.9381 | C21: =IF(ISNUMBER(B21),B21/B$23*100,"") -> 12.307692 | E21: =IF(ISNUMBER(D21),D21/D$23*100,"") | F21: 96.872423 | G21: =IF(ISNUMBER(F21),F21/F$23*100,"") -> 100 | H21: =IF(ISNUMBER(B21),B21,0)+IF(ISNUMBER(D21),D21,0)+IF(ISNUMBER(F21),F21,0) -> 2421.8106 | I21: =IF(ISNUMBER(H21),H21/H$23*100,"") -> 12.468828 | J21: 1501.5225 | K21: =IF(ISNUMBER(J21),J21/J$23*100,"") -> 11.654135 | L21: 48.436211 | M21: =IF(ISNUMBER(L21),L21/L$23*100,"") -> 10 | N21: 48.436211 | O21: =IF(ISNUMBER(N21),N21/N$23*100,"") -> 50 | P21: =IF(ISNUMBER(J21),J21,0)+IF(ISNUMBER(L21),L21,0)+IF(ISNUMBER(N21),N21,0) -> 1598.395 | Q21: =IF(ISNUMBER(P21),P21/P$23*100,"") -> 11.870504 | R21: 1114.0329 | S21: =IF(ISNUMBER(R21),R21/R$23*100,"") -> 9.2 | T21: 48.436211 | U21: =IF(ISNUMBER(T21),T21/T$23*100,"") -> 7.1428571 | W21: =IF(ISNUMBER(V21),V21/V$23*100,"") | X21: =IF(ISNUMBER(R21),R21,0)+IF(ISNUMBER(T21),T21,0)+IF(ISNUMBER(V21),V21,0) -> 1162.4691 | Y21: =IF(ISNUMBER(X21),X21/X$23*100,"") -> 9.0909091
A22: ７０％以上 | B22: 3971.7693 | C22: =IF(ISNUMBER(B22),B22/B$23*100,"") -> 21.025641 | D22: 48.436211 | E22: =IF(ISNUMBER(D22),D22/D$23*100,"") -> 11.111111 | G22: =IF(ISNUMBER(F22),F22/F$23*100,"") | H22: =IF(ISNUMBER(B22),B22,0)+IF(ISNUMBER(D22),D22,0)+IF(ISNUMBER(F22),F22,0) -> 4020.2055 | I22: =IF(ISNUMBER(H22),H22/H$23*100,"") -> 20.698254 | J22: 1646.8312 | K22: =IF(ISNUMBER(J22),J22/J$23*100,"") -> 12.781955 | L22: 96.872423 | M22: =IF(ISNUMBER(L22),L22/L$23*100,"") -> 20 | O22: =IF(ISNUMBER(N22),N22/N$23*100,"") | P22: =IF(ISNUMBER(J22),J22,0)+IF(ISNUMBER(L22),L22,0)+IF(ISNUMBER(N22),N22,0) -> 1743.7036 | Q22: =IF(ISNUMBER(P22),P22/P$23*100,"") -> 12.94964 | R22: 1210.9053 | S22: =IF(ISNUMBER(R22),R22/R$23*100,"") -> 10 | T22: 145.30863 | U22: =IF(ISNUMBER(T22),T22/T$23*100,"") -> 21.428571 | W22: =IF(ISNUMBER(V22),V22/V$23*100,"") | X22: =IF(ISNUMBER(R22),R22,0)+IF(ISNUMBER(T22),T22,0)+IF(ISNUMBER(V22),V22,0) -> 1356.2139 | Y22: =IF(ISNUMBER(X22),X22/X$23*100,"") -> 10.606061
A23: 合 計 | B23: =IF(SUM(B18:B22)>0,SUM(B18:B22),"") -> 18890.122 | C23: =IF(ISNUMBER(B23),B23/B$23*100,"") -> 100 | D23: =IF(SUM(D18:D22)>0,SUM(D18:D22),"") -> 435.9259 | E23: =IF(ISNUMBER(D23),D23/D$23*100,"") -> 100 | F23: =IF(SUM(F18:F22)>0,SUM(F18:F22),"") -> 96.872423 | G23: =IF(ISNUMBER(F23),F23/F$23*100,"") -> 100 | H23: =IF(SUM(H18:H22)>0,SUM(H18:H22),"") -> 19422.921 | I23: =IF(ISNUMBER(H23),H23/H$23*100,"") -> 100 | J23: =IF(SUM(J18:J22)>0,SUM(J18:J22),"") -> 12884.032 | K23: =IF(ISNUMBER(J23),J23/J$23*100,"") -> 100 | L23: =IF(SUM(L18:L22)>0,SUM(L18:L22),"") -> 484.36211 | M23: =IF(ISNUMBER(L23),L23/L$23*100,"") -> 100 | N23: =IF(SUM(N18:N22)>0,SUM(N18:N22),"") -> 96.872423 | O23: =IF(ISNUMBER(N23),N23/N$23*100,"") -> 100 | P23: =IF(SUM(P18:P22)>0,SUM(P18:P22),"") -> 13465.267 | Q23: =IF(ISNUMBER(P23),P23/P$23*100,"") -> 100 | R23: =IF(SUM(R18:R22)>0,SUM(R18:R22),"") -> 12109.053 | S23: =IF(ISNUMBER(R23),R23/R$23*100,"") -> 100 | T23: =IF(SUM(T18:T22)>0,SUM(T18:T22),"") -> 678.10696 | U23: =IF(ISNUMBER(T23),T23/T$23*100,"") -> 100 | V23: =IF(SUM(V18:V22)>0,SUM(V18:V22),"") | W23: =IF(ISNUMBER(V23),V23/V$23*100,"") | X23: =IF(SUM(X18:X22)>0,SUM(X18:X22),"") -> 12787.16 | Y23: =IF(ISNUMBER(X23),X23/X$23*100,"") -> 100
A25: 下請比率、次数 | B25: ３０％以上４０％未満 | J25: ４０％以上５０％未満 | R25: ５０％以上６０％未満
A26: 専属比率 | B26: 一次下請 | D26: 二次下請 | F26: 三次以下下請 | H26: 小 計 | J26: 一次下請 | L26: 二次下請 | N26: 三次以下下請 | P26: 小 計 | R26: 一次下請 | T26: 二次下請 | V26: 三次以下下請 | X26: 小 計
A27: １０％未満 | B27: 2324.9381 | C27: =IF(ISNUMBER(B27),B27/B$32*100,"") -> 21.719457 | D27: 96.872423 | E27: =IF(ISNUMBER(D27),D27/D$32*100,"") -> 10 | G27: =IF(ISNUMBER(F27),F27/F$32*100,"") | H27: =IF(ISNUMBER(B27),B27,0)+IF(ISNUMBER(D27),D27,0)+IF(ISNUMBER(F27),F27,0) -> 2421.8106 | I27: =IF(ISNUMBER(H27),H27/H$32*100,"") -> 20.491803 | J27: 1404.6501 | K27: =IF(ISNUMBER(J27),J27/J$32*100,"") -> 12.184874 | L27: 145.30863 | M27: =IF(ISNUMBER(L27),L27/L$32*100,"") -> 18.75 | O27: =IF(ISNUMBER(N27),N27/N$32*100,"") | P27: =IF(ISNUMBER(J27),J27,0)+IF(ISNUMBER(L27),L27,0)+IF(ISNUMBER(N27),N27,0) -> 1549.9588 | Q27: =IF(ISNUMBER(P27),P27/P$32*100,"") -> 12.598425 | R27: 3196.7899 | S27: =IF(ISNUMBER(R27),R27/R$23*100,"") -> 26.4 | T27: 48.436211 | U27: =IF(ISNUMBER(T27),T27/T$23*100,"") -> 7.1428571 | W27: =IF(ISNUMBER(V27),V27/V$23*100,"") | X27: =IF(ISNUMBER(R27),R27,0)+IF(ISNUMBER(T27),T27,0)+IF(ISNUMBER(V27),V27,0) -> 3245.2262 | Y27: =IF(ISNUMBER(X27),X27/X$32*100,"") -> 25.378788
A28: １０％以上３０％未満 | B28: 4310.8228 | C28: =IF(ISNUMBER(B28),B28/B$32*100,"") -> 40.271493 | D28: 581.23454 | E28: =IF(ISNUMBER(D28),D28/D$32*100,"") -> 60 | F28: 96.872423 | G28: =IF(ISNUMBER(F28),F28/F$32*100,"") -> 66.666667 | H28: =IF(ISNUMBER(B28),B28,0)+IF(ISNUMBER(D28),D28,0)+IF(ISNUMBER(F28),F28,0) -> 4988.9298 | I28: =IF(ISNUMBER(H28),H28/H$32*100,"") -> 42.213115 | J28: 5231.1108 | K28: =IF(ISNUMBER(J28),J28/J$32*100,"") -> 45.378151 | L28: 339.05348 | M28: =IF(ISNUMBER(L28),L28/L$32*100,"") -> 43.75 | O28: =IF(ISNUMBER(N28),N28/N$32*100,"") | P28: =IF(ISNUMBER(J28),J28,0)+IF(ISNUMBER(L28),L28,0)+IF(ISNUMBER(N28),N28,0) -> 5570.1643 | Q28: =IF(ISNUMBER(P28),P28/P$32*100,"") -> 45.275591 | R28: 4068.6417 | S28: =IF(ISNUMBER(R28),R28/R$23*100,"") -> 33.6 | T28: 242.18106 | U28: =IF(ISNUMBER(T28),T28/T$23*100,"") -> 35.714286 | W28: =IF(ISNUMBER(V28),V28/V$23*100,"") | X28: =IF(ISNUMBER(R28),R28,0)+IF(ISNUMBER(T28),T28,0)+IF(ISNUMBER(V28),V28,0) -> 4310.8228 | Y28: =IF(ISNUMBER(X28),X28/X$32*100,"") -> 33.712121
A29: ３０％以上５０％未満 | B29: 1889.0122 | C29: =IF(ISNUMBER(B29),B29/B$32*100,"") -> 17.647059 | D29: 193.74485 | E29: =IF(ISNUMBER(D29),D29/D$32*100,"") -> 20 | F29: 48.436211 | G29: =IF(ISNUMBER(F29),F29/F$32*100,"") -> 33.333333 | H29: =IF(ISNUMBER(B29),B29,0)+IF(ISNUMBER(D29),D29,0)+IF(ISNUMBER(F29),F29,0) -> 2131.1933 | I29: =IF(ISNUMBER(H29),H29/H$32*100,"") -> 18.032787 | J29: 2712.4278 | K29: =IF(ISNUMBER(J29),J29/J$32*100,"") -> 23.529412 | L29: 145.30863 | M29: =IF(ISNUMBER(L29),L29/L$32*100,"") -> 18.75 | O29: =IF(ISNUMBER(N29),N29/N$32*100,"") | P29: =IF(ISNUMBER(J29),J29,0)+IF(ISNUMBER(L29),L29,0)+IF(ISNUMBER(N29),N29,0) -> 2857.7365 | Q29: =IF(ISNUMBER(P29),P29/P$32*100,"") -> 23.228346 | R29: 2518.683 | S29: =IF(ISNUMBER(R29),R29/R$23*100,"") -> 20.8 | T29: 193.74485 | U29: =IF(ISNUMBER(T29),T29/T$23*100,"") -> 28.571429 | W29: =IF(ISNUMBER(V29),V29/V$23*100,"") | X29: =IF(ISNUMBER(R29),R29,0)+IF(ISNUMBER(T29),T29,0)+IF(ISNUMBER(V29),V29,0) -> 2712.4278 | Y29: =IF(ISNUMBER(X29),X29/X$32*100,"") -> 21.212121
A30: ５０％以上７０％未満 | B30: 1307.7777 | C30: =IF(ISNUMBER(B30),B30/B$32*100,"") -> 12.217195 | D30: 48.436211 | E30: =IF(ISNUMBER(D30),D30/D$32*100,"") -> 5 | G30: =IF(ISNUMBER(F30),F30/F$32*100,"") | H30: =IF(ISNUMBER(B30),B30,0)+IF(ISNUMBER(D30),D30,0)+IF(ISNUMBER(F30),F30,0) -> 1356.2139 | I30: =IF(ISNUMBER(H30),H30/H$32*100,"") -> 11.47541 | J30: 1065.5966 | K30: =IF(ISNUMBER(J30),J30/J$32*100,"") -> 9.2436975 | L30: 48.436211 | M30: =IF(ISNUMBER(L30),L30/L$32*100,"") -> 6.25 | O30: =IF(ISNUMBER(N30),N30/N$32*100,"") | P30: =IF(ISNUMBER(J30),J30,0)+IF(ISNUMBER(L30),L30,0)+IF(ISNUMBER(N30),N30,0) -> 1114.0329 | Q30: =IF(ISNUMBER(P30),P30/P$32*100,"") -> 9.0551181 | R30: 1114.0329 | S30: =IF(ISNUMBER(R30),R30/R$23*100,"") -> 9.2 | T30: 48.436211 | U30: =IF(ISNUMBER(T30),T30/T$23*100,"") -> 7.1428571 | W30: =IF(ISNUMBER(V30),V30/V$23*100,"") | X30: =IF(ISNUMBER(R30),R30,0)+IF(ISNUMBER(T30),T30,0)+IF(ISNUMBER(V30),V30,0) -> 1162.4691 | Y30: =IF(ISNUMBER(X30),X30/X$32*100,"") -> 9.0909091
A31: ７０％以上 | B31: 871.8518 | C31: =IF(ISNUMBER(B31),B31/B$32*100,"") -> 8.1447964 | D31: 48.436211 | E31: =IF(ISNUMBER(D31),D31/D$32*100,"") -> 5 | G31: =IF(ISNUMBER(F31),F31/F$32*100,"") | H31: =IF(ISNUMBER(B31),B31,0)+IF(ISNUMBER(D31),D31,0)+IF(ISNUMBER(F31),F31,0) -> 920.28801 | I31: =IF(ISNUMBER(H31),H31/H$32*100,"") -> 7.7868852 | J31: 1114.0329 | K31: =IF(ISNUMBER(J31),J31/J$32*100,"") -> 9.6638655 | L31: 96.872423 | M31: =IF(ISNUMBER(L31),L31/L$32*100,"") -> 12.5 | O31: =IF(ISNUMBER(N31),N31/N$32*100,"") | P31: =IF(ISNUMBER(J31),J31,0)+IF(ISNUMBER(L31),L31,0)+IF(ISNUMBER(N31),N31,0) -> 1210.9053 | Q31: =IF(ISNUMBER(P31),P31/P$32*100,"") -> 9.8425197 | R31: 1210.9053 | S31: =IF(ISNUMBER(R31),R31/R$23*100,"") -> 10 | T31: 145.30863 | U31: =IF(ISNUMBER(T31),T31/T$23*100,"") -> 21.428571 | W31: =IF(ISNUMBER(V31),V31/V$23*100,"") | X31: =IF(ISNUMBER(R31),R31,0)+IF(ISNUMBER(T31),T31,0)+IF(ISNUMBER(V31),V31,0) -> 1356.2139 | Y31: =IF(ISNUMBER(X31),X31/X$32*100,"") -> 10.606061
A32: 合 計 | B32: =IF(SUM(B27:B31)>0,SUM(B27:B31),"") -> 10704.403 | C32: =IF(ISNUMBER(B32),B32/B$32*100,"") -> 100 | D32: =IF(SUM(D27:D31)>0,SUM(D27:D31),"") -> 968.72423 | E32: =IF(ISNUMBER(D32),D32/D$32*100,"") -> 100 | F32: =IF(SUM(F27:F31)>0,SUM(F27:F31),"") -> 145.30863 | G32: =IF(ISNUMBER(F32),F32/F$32*100,"") -> 100 | H32: =IF(SUM(H27:H31)>0,SUM(H27:H31),"") -> 11818.436 | I32: =IF(ISNUMBER(H32),H32/H$32*100,"") -> 100 | J32: =IF(SUM(J27:J31)>0,SUM(J27:J31),"") -> 11527.818 | K32: =IF(ISNUMBER(J32),J32/J$32*100,"") -> 100 | L32: =IF(SUM(L27:L31)>0,SUM(L27:L31),"") -> 774.97938 | M32: =IF(ISNUMBER(L32),L32/L$32*100,"") -> 100 | N32: =IF(SUM(N27:N31)>0,SUM(N27:N31),"") | O32: =IF(ISNUMBER(N32),N32/N$32*100,"") | P32: =IF(SUM(P27:P31)>0,SUM(P27:P31),"") -> 12302.798 | Q32: =IF(ISNUMBER(P32),P32/P$32*100,"") -> 100 | R32: =IF(SUM(R27:R31)>0,SUM(R27:R31),"") -> 12109.053 | S32: =IF(ISNUMBER(R32),R32/R$32*100,"") -> 100 | T32: =IF(SUM(T27:T31)>0,SUM(T27:T31),"") -> 678.10696 | U32: =IF(ISNUMBER(T32),T32/T$32*100,"") -> 100 | V32: =IF(SUM(V27:V31)>0,SUM(V27:V31),"") | W32: =IF(ISNUMBER(V32),V32/V$32*100,"") | X32: =IF(SUM(X27:X31)>0,SUM(X27:X31),"") -> 12787.16 | Y32: =IF(ISNUMBER(X32),X32/X$32*100,"") -> 100
A34: 下請比率、次数 | B34: ６０％以上７０％未満 | J34: ７０％以上８０％未満 | R34: ８０％以上９０％未満
A35: 専属比率 | B35: 一次下請 | D35: 二次下請 | F35: 三次以下下請 | H35: 小 計 | J35: 一次下請 | L35: 二次下請 | N35: 三次以下下請 | P35: 小 計 | R35: 一次下請 | T35: 二次下請 | V35: 三次以下下請 | X35: 小 計
A36: １０％未満 | B36: 1792.1398 | C36: =IF(ISNUMBER(B36),B36/B$41*100,"") -> 14.68254 | D36: 48.436211 | E36: =IF(ISNUMBER(D36),D36/D$41*100,"") -> 3.4482759 | F36: 48.436211 | G36: =IF(ISNUMBER(F36),F36/F$41*100,"") -> 25 | H36: =IF(ISNUMBER(B36),B36,0)+IF(ISNUMBER(D36),D36,0)+IF(ISNUMBER(F36),F36,0) -> 1889.0122 | I36: =IF(ISNUMBER(H36),H36/H$41*100,"") -> 13.684211 | J36: 1259.3415 | K36: =IF(ISNUMBER(J36),J36/J$41*100,"") -> 11.659193 | L36: 145.30863 | M36: =IF(ISNUMBER(L36),L36/L$41*100,"") -> 7.8947368 | O36: =IF(ISNUMBER(N36),N36/N$41*100,"") | P36: =IF(ISNUMBER(J36),J36,0)+IF(ISNUMBER(L36),L36,0)+IF(ISNUMBER(N36),N36,0) -> 1404.6501 | Q36: =IF(ISNUMBER(P36),P36/P$41*100,"") -> 11.068702 | R36: 1162.4691 | S36: =IF(ISNUMBER(R36),R36/R$41*100,"") -> 7.9734219 | T36: 145.30863 | U36: =IF(ISNUMBER(T36),T36/T$41*100,"") -> 4.7619048 | W36: =IF(ISNUMBER(V36),V36/V$41*100,"") | X36: =IF(ISNUMBER(R36),R36,0)+IF(ISNUMBER(T36),T36,0)+IF(ISNUMBER(V36),V36,0) -> 1307.7777 | Y36: =IF(ISNUMBER(X36),X36/X$41*100,"") -> 7.2972973
A37: １０％以上３０％未満 | B37: 5279.547 | C37: =IF(ISNUMBER(B37),B37/B$41*100,"") -> 43.253968 | D37: 581.23454 | E37: =IF(ISNUMBER(D37),D37/D$41*100,"") -> 41.37931 | G37: =IF(ISNUMBER(F37),F37/F$41*100,"") | H37: =IF(ISNUMBER(B37),B37,0)+IF(ISNUMBER(D37),D37,0)+IF(ISNUMBER(F37),F37,0) -> 5860.7816 | I37: =IF(ISNUMBER(H37),H37/H$41*100,"") -> 42.45614 | J37: 4213.9504 | K37: =IF(ISNUMBER(J37),J37/J$41*100,"") -> 39.013453 | L37: 1017.1604 | M37: =IF(ISNUMBER(L37),L37/L$41*100,"") -> 55.263158 | N37: 48.436211 | O37: =IF(ISNUMBER(N37),N37/N$41*100,"") -> 100 | P37: =IF(ISNUMBER(J37),J37,0)+IF(ISNUMBER(L37),L37,0)+IF(ISNUMBER(N37),N37,0) -> 5279.547 | Q37: =IF(ISNUMBER(P37),P37/P$41*100,"") -> 41.603053 | R37: 6199.835 | S37: =IF(ISNUMBER(R37),R37/R$41*100,"") -> 42.524917 | T37: 1210.9053 | U37: =IF(ISNUMBER(T37),T37/T$41*100,"") -> 39.68254 | V37: 96.872423 | W37: =IF(ISNUMBER(V37),V37/V$41*100,"") -> 33.333333 | X37: =IF(ISNUMBER(R37),R37,0)+IF(ISNUMBER(T37),T37,0)+IF(ISNUMBER(V37),V37,0) -> 7507.6127 | Y37: =IF(ISNUMBER(X37),X37/X$41*100,"") -> 41.891892
A38: ３０％以上５０％未満 | B38: 3148.3537 | C38: =IF(ISNUMBER(B38),B38/B$41*100,"") -> 25.793651 | D38: 532.79832 | E38: =IF(ISNUMBER(D38),D38/D$41*100,"") -> 37.931034 | F38: 48.436211 | G38: =IF(ISNUMBER(F38),F38/F$41*100,"") -> 25 | H38: =IF(ISNUMBER(B38),B38,0)+IF(ISNUMBER(D38),D38,0)+IF(ISNUMBER(F38),F38,0) -> 3729.5883 | I38: =IF(ISNUMBER(H38),H38/H$41*100,"") -> 27.017544 | J38: 2857.7365 | K38: =IF(ISNUMBER(J38),J38/J$41*100,"") -> 26.457399 | L38: 435.9259 | M38: =IF(ISNUMBER(L38),L38/L$41*100,"") -> 23.684211 | O38: =IF(ISNUMBER(N38),N38/N$41*100,"") | P38: =IF(ISNUMBER(J38),J38,0)+IF(ISNUMBER(L38),L38,0)+IF(ISNUMBER(N38),N38,0) -> 3293.6624 | Q38: =IF(ISNUMBER(P38),P38/P$41*100,"") -> 25.954198 | R38: 3196.7899 | S38: =IF(ISNUMBER(R38),R38/R$41*100,"") -> 21.92691 | T38: 726.54317 | U38: =IF(ISNUMBER(T38),T38/T$41*100,"") -> 23.809524 | V38: 96.872423 | W38: =IF(ISNUMBER(V38),V38/V$41*100,"") -> 33.333333 | X38: =IF(ISNUMBER(R38),R38,0)+IF(ISNUMBER(T38),T38,0)+IF(ISNUMBER(V38),V38,0) -> 4020.2055 | Y38: =IF(ISNUMBER(X38),X38/X$41*100,"") -> 22.432432
A39: ５０％以上７０％未満 | B39: 1114.0329 | C39: =IF(ISNUMBER(B39),B39/B$41*100,"") -> 9.1269841 | D39: 193.74485 | E39: =IF(ISNUMBER(D39),D39/D$41*100,"") -> 13.793103 | G39: =IF(ISNUMBER(F39),F39/F$41*100,"") | H39: =IF(ISNUMBER(B39),B39,0)+IF(ISNUMBER(D39),D39,0)+IF(ISNUMBER(F39),F39,0) -> 1307.7777 | I39: =IF(ISNUMBER(H39),H39/H$41*100,"") -> 9.4736842 | J39: 1356.2139 | K39: =IF(ISNUMBER(J39),J39/J$41*100,"") -> 12.556054 | L39: 145.30863 | M39: =IF(ISNUMBER(L39),L39/L$41*100,"") -> 7.8947368 | O39: =IF(ISNUMBER(N39),N39/N$41*100,"") | P39: =IF(ISNUMBER(J39),J39,0)+IF(ISNUMBER(L39),L39,0)+IF(ISNUMBER(N39),N39,0) -> 1501.5225 | Q39: =IF(ISNUMBER(P39),P39/P$41*100,"") -> 11.832061 | R39: 2421.8106 | S39: =IF(ISNUMBER(R39),R39/R$41*100,"") -> 16.611296 | T39: 532.79832 | U39: =IF(ISNUMBER(T39),T39/T$41*100,"") -> 17.460317 | V39: 48.436211 | W39: =IF(ISNUMBER(V39),V39/V$41*100,"") -> 16.666667 | X39: =IF(ISNUMBER(R39),R39,0)+IF(ISNUMBER(T39),T39,0)+IF(ISNUMBER(V39),V39,0) -> 3003.0451 | Y39: =IF(ISNUMBER(X39),X39/X$41*100,"") -> 16.756757
A40: ７０％以上 | B40: 871.8518 | C40: =IF(ISNUMBER(B40),B40/B$41*100,"") -> 7.1428571 | D40: 48.436211 | E40: =IF(ISNUMBER(D40),D40/D$41*100,"") -> 3.4482759 | F40: 96.872423 | G40: =IF(ISNUMBER(F40),F40/F$41*100,"") -> 50 | H40: =IF(ISNUMBER(B40),B40,0)+IF(ISNUMBER(D40),D40,0)+IF(ISNUMBER(F40),F40,0) -> 1017.1604 | I40: =IF(ISNUMBER(H40),H40/H$41*100,"") -> 7.3684211 | J40: 1114.0329 | K40: =IF(ISNUMBER(J40),J40/J$41*100,"") -> 10.313901 | L40: 96.872423 | M40: =IF(ISNUMBER(L40),L40/L$41*100,"") -> 5.2631579 | O40: =IF(ISNUMBER(N40),N40/N$41*100,"") | P40: =IF(ISNUMBER(J40),J40,0)+IF(ISNUMBER(L40),L40,0)+IF(ISNUMBER(N40),N40,0) -> 1210.9053 | Q40: =IF(ISNUMBER(P40),P40/P$41*100,"") -> 9.5419847 | R40: 1598.395 | S40: =IF(ISNUMBER(R40),R40/R$41*100,"") -> 10.963455 | T40: 435.9259 | U40: =IF(ISNUMBER(T40),T40/T$41*100,"") -> 14.285714 | V40: 48.436211 | W40: =IF(ISNUMBER(V40),V40/V$41*100,"") -> 16.666667 | X40: =IF(ISNUMBER(R40),R40,0)+IF(ISNUMBER(T40),T40,0)+IF(ISNUMBER(V40),V40,0) -> 2082.7571 | Y40: =IF(ISNUMBER(X40),X40/X$41*100,"") -> 11.621622
A41: 合 計 | B41: =IF(SUM(B36:B40)>0,SUM(B36:B40),"") -> 12205.925 | C41: =IF(ISNUMBER(B41),B41/B$41*100,"") -> 100 | D41: =IF(SUM(D36:D40)>0,SUM(D36:D40),"") -> 1404.6501 | E41: =IF(ISNUMBER(D41),D41/D$41*100,"") -> 100 | F41: =IF(SUM(F36:F40)>0,SUM(F36:F40),"") -> 193.74485 | G41: =IF(ISNUMBER(F41),F41/F$41*100,"") -> 100 | H41: =IF(SUM(H36:H40)>0,SUM(H36:H40),"") -> 13804.32 | I41: =IF(ISNUMBER(H41),H41/H$41*100,"") -> 100 | J41: =IF(SUM(J36:J40)>0,SUM(J36:J40),"") -> 10801.275 | K41: =IF(ISNUMBER(J41),J41/J$41*100,"") -> 100 | L41: =IF(SUM(L36:L40)>0,SUM(L36:L40),"") -> 1840.576 | M41: =IF(ISNUMBER(L41),L41/L$41*100,"") -> 100 | N41: =IF(SUM(N36:N40)>0,SUM(N36:N40),"") -> 48.436211 | O41: =IF(ISNUMBER(N41),N41/N$41*100,"") -> 100 | P41: =IF(SUM(P36:P40)>0,SUM(P36:P40),"") -> 12690.287 | Q41: =IF(ISNUMBER(P41),P41/P$41*100,"") -> 100 | R41: =IF(SUM(R36:R40)>0,SUM(R36:R40),"") -> 14579.3 | S41: =IF(ISNUMBER(R41),R41/R$41*100,"") -> 100 | T41: =IF(SUM(T36:T40)>0,SUM(T36:T40),"") -> 3051.4813 | U41: =IF(ISNUMBER(T41),T41/T$41*100,"") -> 100 | V41: =IF(SUM(V36:V40)>0,SUM(V36:V40),"") -> 290.61727 | W41: =IF(ISNUMBER(V41),V41/V$41*100,"") -> 100 | X41: =IF(SUM(X36:X40)>0,SUM(X36:X40),"") -> 17921.398 | Y41: =IF(ISNUMBER(X41),X41/X$41*100,"") -> 100
A43: 下請比率、次数 | B43: ９０％以上１００％未満 | J43: １００％ | R43: 合 計
A44: 専属比率 | B44: 一次下請 | D44: 二次下請 | F44: 三次以下下請 | H44: 小 計 | J44: 一次下請 | L44: 二次下請 | N44: 三次以下下請 | P44: 小 計 | R44: 一次下請 | T44: 二次下請 | V44: 三次以下下請
A45: １０％未満 | B45: 1356.2139 | C45: =IF(ISNUMBER(B45),B45/B$50*100,"") -> 6.1946903 | D45: 339.05348 | E45: =IF(ISNUMBER(D45),D45/D$50*100,"") -> 6.1946903 | G45: =IF(ISNUMBER(F45),F45/F$50*100,"") | H45: =IF(ISNUMBER(B45),B45,0)+IF(ISNUMBER(D45),D45,0)+IF(ISNUMBER(F45),F45,0) -> 1695.2674 | I45: =IF(ISNUMBER(H45),H45/H$50*100,"") -> 6.0553633 | J45: 2857.7365 | K45: =IF(ISNUMBER(J45),J45/J$50*100,"") -> 5.5088702 | L45: 871.8518 | M45: =IF(ISNUMBER(L45),L45/L$50*100,"") -> 3.5294118 | N45: 242.18106 | O45: =IF(ISNUMBER(N45),N45/N$50*100,"") -> 4.587156 | P45: =IF(ISNUMBER(J45),J45,0)+IF(ISNUMBER(L45),L45,0)+IF(ISNUMBER(N45),N45,0) -> 3971.7693 | Q45: =IF(ISNUMBER(P45),P45/P$50*100,"") -> 4.852071 | R45: =SUM(B18,J18,R18,B27,J27,R27,B36,J36,R36,B45,J45) -> 30660.122 | S45: =IF(ISNUMBER(R45),R45/R$50*100,"") -> 16.172713 | T45: =SUM(D18,L18,T18,D27,L27,T27,D36,L36,T36,D45,L45) -> 2373.3744 | U45: =IF(ISNUMBER(T45),T45/T$50*100,"") -> 5.861244 | V45: =SUM(F18,N18,V18,F27,N27,V27,F36,N36,V36,F45,N45) -> 290.61727 | W45: =IF(ISNUMBER(V45),V45/V$50*100,"") -> 4.2857143 | X45: =IF(ISNUMBER(R45),R45,0)+IF(ISNUMBER(T45),T45,0)+IF(ISNUMBER(V45),V45,0) -> 33324.113 | Y45: =IF(ISNUMBER(X45),X45/X$50*100,"") -> 14.06953
A46: １０％以上３０％未満 | B46: 7991.9749 | C46: =IF(ISNUMBER(B46),B46/B$50*100,"") -> 36.504425 | D46: 2470.2468 | E46: =IF(ISNUMBER(D46),D46/D$50*100,"") -> 45.132743 | F46: 290.61727 | G46: =IF(ISNUMBER(F46),F46/F$50*100,"") -> 46.153846 | H46: =IF(ISNUMBER(B46),B46,0)+IF(ISNUMBER(D46),D46,0)+IF(ISNUMBER(F46),F46,0) -> 10752.839 | I46: =IF(ISNUMBER(H46),H46/H$50*100,"") -> 38.408304 | J46: 16323.003 | K46: =IF(ISNUMBER(J46),J46/J$50*100,"") -> 31.46592 | L46: 6296.7075 | M46: =IF(ISNUMBER(L46),L46/L$50*100,"") -> 25.490196 | N46: 726.54317 | O46: =IF(ISNUMBER(N46),N46/N$50*100,"") -> 13.761468 | P46: =IF(ISNUMBER(J46),J46,0)+IF(ISNUMBER(L46),L46,0)+IF(ISNUMBER(N46),N46,0) -> 23346.254 | Q46: =IF(ISNUMBER(P46),P46/P$50*100,"") -> 28.52071 | R46: =SUM(B19,J19,R19,B28,J28,R28,B37,J37,R37,B46,J46) -> 63838.926 | S46: =IF(ISNUMBER(R46),R46/R$50*100,"") -> 33.673991 | T46: =SUM(D19,L19,T19,D28,L28,T28,D37,L37,T37,D46,L46) -> 13126.213 | U46: =IF(ISNUMBER(T46),T46/T$50*100,"") -> 32.416268 | V46: =SUM(F19,N19,V19,F28,N28,V28,F37,N37,V37,F46,N46) -> 1259.3415 | W46: =IF(ISNUMBER(V46),V46/V$50*100,"") -> 18.571429 | X46: =IF(ISNUMBER(R46),R46,0)+IF(ISNUMBER(T46),T46,0)+IF(ISNUMBER(V46),V46,0) -> 78224.481 | Y46: =IF(ISNUMBER(X46),X46/X$50*100,"") -> 33.026585
A47: ３０％以上５０％未満 | B47: 5473.2919 | C47: =IF(ISNUMBER(B47),B47/B$50*100,"") -> 25 | D47: 1065.5966 | E47: =IF(ISNUMBER(D47),D47/D$50*100,"") -> 19.469027 | F47: 48.436211 | G47: =IF(ISNUMBER(F47),F47/F$50*100,"") -> 7.6923077 | H47: =IF(ISNUMBER(B47),B47,0)+IF(ISNUMBER(D47),D47,0)+IF(ISNUMBER(F47),F47,0) -> 6587.3247 | I47: =IF(ISNUMBER(H47),H47/H$50*100,"") -> 23.529412 | J47: 11527.818 | K47: =IF(ISNUMBER(J47),J47/J$50*100,"") -> 22.222222 | L47: 5231.1108 | M47: =IF(ISNUMBER(L47),L47/L$50*100,"") -> 21.176471 | N47: 1404.6501 | O47: =IF(ISNUMBER(N47),N47/N$50*100,"") -> 26.605505 | P47: =IF(ISNUMBER(J47),J47,0)+IF(ISNUMBER(L47),L47,0)+IF(ISNUMBER(N47),N47,0) -> 18163.579 | Q47: =IF(ISNUMBER(P47),P47/P$50*100,"") -> 22.189349 | R47: =SUM(B20,J20,R20,B29,J29,R29,B38,J38,R38,B47,J47) -> 39911.438 | S47: =IF(ISNUMBER(R47),R47/R$50*100,"") -> 21.052632 | T47: =SUM(D20,L20,T20,D29,L29,T29,D38,L38,T38,D47,L47) -> 8815.3904 | U47: =IF(ISNUMBER(T47),T47/T$50*100,"") -> 21.770335 | V47: =SUM(F20,N20,V20,F29,N29,V29,F38,N38,V38,F47,N47) -> 1695.2674 | W47: =IF(ISNUMBER(V47),V47/V$50*100,"") -> 25 | X47: =IF(ISNUMBER(R47),R47,0)+IF(ISNUMBER(T47),T47,0)+IF(ISNUMBER(V47),V47,0) -> 50422.096 | Y47: =IF(ISNUMBER(X47),X47/X$50*100,"") -> 21.288344
A48: ５０％以上７０％未満 | B48: 3390.5348 | C48: =IF(ISNUMBER(B48),B48/B$50*100,"") -> 15.486726 | D48: 823.41559 | E48: =IF(ISNUMBER(D48),D48/D$50*100,"") -> 15.044248 | F48: 96.872423 | G48: =IF(ISNUMBER(F48),F48/F$50*100,"") -> 15.384615 | H48: =IF(ISNUMBER(B48),B48,0)+IF(ISNUMBER(D48),D48,0)+IF(ISNUMBER(F48),F48,0) -> 4310.8228 | I48: =IF(ISNUMBER(H48),H48/H$50*100,"") -> 15.397924 | J48: 7265.4317 | K48: =IF(ISNUMBER(J48),J48/J$50*100,"") -> 14.005602 | L48: 3874.8969 | M48: =IF(ISNUMBER(L48),L48/L$50*100,"") -> 15.686275 | N48: 1065.5966 | O48: =IF(ISNUMBER(N48),N48/N$50*100,"") -> 20.183486 | P48: =IF(ISNUMBER(J48),J48,0)+IF(ISNUMBER(L48),L48,0)+IF(ISNUMBER(N48),N48,0) -> 12205.925 | Q48: =IF(ISNUMBER(P48),P48/P$50*100,"") -> 14.911243 | R48: =SUM(B21,J21,R21,B30,J30,R30,B39,J39,R39,B48,J48) -> 23975.925 | S48: =IF(ISNUMBER(R48),R48/R$50*100,"") -> 12.646909 | T48: =SUM(D21,L21,T21,D30,L30,T30,D39,L39,T39,D48,L48) -> 5812.3454 | U48: =IF(ISNUMBER(T48),T48/T$50*100,"") -> 14.354067 | V48: =SUM(F21,N21,V21,F30,N30,V30,F39,N39,V39,F48,N48) -> 1356.2139 | W48: =IF(ISNUMBER(V48),V48/V$50*100,"") -> 20 | X48: =IF(ISNUMBER(R48),R48,0)+IF(ISNUMBER(T48),T48,0)+IF(ISNUMBER(V48),V48,0) -> 31144.484 | Y48: =IF(ISNUMBER(X48),X48/X$50*100,"") -> 13.149284
A49: ７０％以上 | B49: 3681.1521 | C49: =IF(ISNUMBER(B49),B49/B$50*100,"") -> 16.814159 | D49: 774.97938 | E49: =IF(ISNUMBER(D49),D49/D$50*100,"") -> 14.159292 | F49: 193.74485 | G49: =IF(ISNUMBER(F49),F49/F$50*100,"") -> 30.769231 | H49: =IF(ISNUMBER(B49),B49,0)+IF(ISNUMBER(D49),D49,0)+IF(ISNUMBER(F49),F49,0) -> 4649.8763 | I49: =IF(ISNUMBER(H49),H49/H$50*100,"") -> 16.608997 | J49: 13901.193 | K49: =IF(ISNUMBER(J49),J49/J$50*100,"") -> 26.797386 | L49: 8427.9008 | M49: =IF(ISNUMBER(L49),L49/L$50*100,"") -> 34.117647 | N49: 1840.576 | O49: =IF(ISNUMBER(N49),N49/N$50*100,"") -> 34.862385 | P49: =IF(ISNUMBER(J49),J49,0)+IF(ISNUMBER(L49),L49,0)+IF(ISNUMBER(N49),N49,0) -> 24169.669 | Q49: =IF(ISNUMBER(P49),P49/P$50*100,"") -> 29.526627 | R49: =SUM(B22,J22,R22,B31,J31,R31,B40,J40,R40,B49,J49) -> 31192.92 | S49: =IF(ISNUMBER(R49),R49/R$50*100,"") -> 16.453756 | T49: =SUM(D22,L22,T22,D31,L31,T31,D40,L40,T40,D49,L49) -> 10365.349 | U49: =IF(ISNUMBER(T49),T49/T$50*100,"") -> 25.598086 | V49: =SUM(F22,N22,V22,F31,N31,V31,F40,N40,V40,F49,N49) -> 2179.6295 | W49: =IF(ISNUMBER(V49),V49/V$50*100,"") -> 32.142857 | X49: =IF(ISNUMBER(R49),R49,0)+IF(ISNUMBER(T49),T49,0)+IF(ISNUMBER(V49),V49,0) -> 43737.899 | Y49: =IF(ISNUMBER(X49),X49/X$50*100,"") -> 18.466258
A50: 合 計 | B50: =IF(SUM(B45:B49)>0,SUM(B45:B49),"") -> 21893.167 | C50: =IF(ISNUMBER(B50),B50/B$50*100,"") -> 100 | D50: =IF(SUM(D45:D49)>0,SUM(D45:D49),"") -> 5473.2919 | E50: =IF(ISNUMBER(D50),D50/D$50*100,"") -> 100 | F50: =IF(SUM(F45:F49)>0,SUM(F45:F49),"") -> 629.67075 | G50: =IF(ISNUMBER(F50),F50/F$50*100,"") -> 100 | H50: =IF(SUM(H45:H49)>0,SUM(H45:H49),"") -> 27996.13 | I50: =IF(ISNUMBER(H50),H50/H$50*100,"") -> 100 | J50: =IF(SUM(J45:J49)>0,SUM(J45:J49),"") -> 51875.182 | K50: =IF(ISNUMBER(J50),J50/J$50*100,"") -> 100 | L50: =IF(SUM(L45:L49)>0,SUM(L45:L49),"") -> 24702.468 | M50: =IF(ISNUMBER(L50),L50/L$50*100,"") -> 100 | N50: =IF(SUM(N45:N49)>0,SUM(N45:N49),"") -> 5279.547 | O50: =IF(ISNUMBER(N50),N50/N$50*100,"") -> 100 | P50: =IF(SUM(P45:P49)>0,SUM(P45:P49),"") -> 81857.197 | Q50: =IF(ISNUMBER(P50),P50/P$50*100,"") -> 100 | R50: =IF(SUM(R45:R49)>0,SUM(R45:R49),"") -> 189579.33 | S50: =IF(ISNUMBER(R50),R50/R$50*100,"") -> 100 | T50: =IF(SUM(T45:T49)>0,SUM(T45:T49),"") -> 40492.673 | U50: =IF(ISNUMBER(T50),T50/T$50*100,"") -> 100 | V50: =IF(SUM(V45:V49)>0,SUM(V45:V49),"") -> 6781.0696 | W50: =IF(ISNUMBER(V50),V50/V$50*100,"") -> 100 | X50: =IF(SUM(X45:X49)>0,SUM(X45:X49),"") -> 236853.07 | Y50: =IF(ISNUMBER(X50),X50/X$50*100,"") -> 100
R51: （注） | S51: 1. ( )の数値は各合計を100とした場合の構成比

Sheet 2-8-4
A1: 表2－8－4 特定業者への専属状況（下請比率上位２社）（下請完工高のある企業のみ対象）
W3: （単位：社、％）
C4: 資本金 | D4: 個 人 | F4: 法 人 | V4: 合 計
A5: 業種 | C5: 専属比率 | F5: 500万円未満 | H5: 500万円以上 1000万円未満 | J5: 1000万円以上 3000万円未満 | L5: 3000万円以上 5000万円未満 | N5: 5000万円以上 1億円未満 | P5: 1億円以上 3億円未満 | R5: 3億円以上 10億円未満 | T5: 10億円以上
A6: 一般土木建築 | B6: 一般土木建築工事業 | C6: 10%未満 | J6: 273.8 | K6: 11.627907 | L6: 321.05263 | M6: 28.571429 | N6: 143.27273 | O6: 25 | P6: 41.190476 | Q6: 29.411765 | R6: 13 | S6: 50 | T6: 10.4 | U6: 23.529412 | V6: 802.71584 | W6: 13.912603
C7: 10%以上30%未満 | D7: 99 | E7: 100 | F7: 462 | G7: 100 | H7: 405.85714 | I7: 42.857143 | J7: 492.84 | K7: 20.930233 | L7: 321.05263 | M7: 28.571429 | N7: 128.94545 | O7: 22.5 | P7: 20.595238 | Q7: 14.705882 | R7: 4.3333333 | S7: 16.666667 | T7: 2.6 | U7: 5.8823529 | V7: 1937.2238 | W7: 33.575799
C8: 30%以上50%未満 | H8: 135.28571 | I8: 14.285714 | J8: 492.84 | K8: 20.930233 | L8: 120.39474 | M8: 10.714286 | N8: 71.636364 | O8: 12.5 | P8: 8.2380952 | Q8: 5.8823529 | T8: 2.6 | U8: 5.8823529 | V8: 830.99491 | W8: 14.402734
C9: 50%以上70%未満 | H9: 135.28571 | I9: 14.285714 | J9: 328.56 | K9: 13.953488 | L9: 80.263158 | M9: 7.1428571 | N9: 28.654545 | O9: 5 | P9: 12.357143 | Q9: 8.8235294 | T9: 18.2 | U9: 41.176471 | V9: 603.32056 | W9: 10.456701
C10: 70%以上 | H10: 270.57143 | I10: 28.571429 | J10: 766.64 | K10: 32.55814 | L10: 280.92105 | M10: 25 | N10: 200.58182 | O10: 35 | P10: 57.666667 | Q10: 41.176471 | R10: 8.6666667 | S10: 33.333333 | T10: 10.4 | U10: 23.529412 | V10: 1595.4476 | W10: 27.652163
B11: 小 計 | D11: 99 | E11: 100 | F11: 462 | G11: 100 | H11: 947 | I11: 100 | J11: 2354.68 | K11: 100 | L11: 1123.6842 | M11: 100 | N11: 573.09091 | O11: 100 | P11: 140.04762 | Q11: 100 | R11: 26 | S11: 100 | T11: 44.2 | U11: 100 | V11: 5769.7027 | W11: 100
A12: 土 木 | B12: 土木工事業 | C12: 10%未満 | F12: 387.9375 | G12: 6.6666667 | H12: 512.28814 | I12: 10.638298 | J12: 2335.6579 | K12: 25.423729 | L12: 364.29268 | M12: 12.307692 | N12: 132.05085 | O12: 15.555556 | P12: 6.4375 | Q12: 10 | T12: 10 | U12: 50 | V12: 3748.6646 | W12: 14.557896
C13: 10%以上30%未満 | F13: 1034.5 | G13: 17.777778 | H13: 717.20339 | I13: 14.893617 | J13: 1401.3947 | K13: 15.254237 | L13: 683.04878 | M13: 23.076923 | N13: 226.37288 | O13: 26.666667 | P13: 16.09375 | Q13: 25 | R13: 7.2 | S13: 50 | V13: 4085.8135 | W13: 15.86721
C14: 30%以上50%未満 | D14: 168.41667 | E14: 8.3333333 | F14: 517.25 | G14: 8.8888889 | H14: 1024.5763 | I14: 21.276596 | J14: 1245.6842 | K14: 13.559322 | L14: 546.43902 | M14: 18.461538 | N14: 169.77966 | O14: 20 | P14: 9.65625 | Q14: 15 | R14: 3.6 | S14: 25 | T14: 5 | U14: 25 | V14: 3690.4021 | W14: 14.331634
C15: 50%以上70%未満 | F15: 517.25 | G15: 8.8888889 | H15: 307.37288 | I15: 6.3829787 | J15: 934.26316 | K15: 10.169492 | L15: 409.82927 | M15: 13.846154 | N15: 94.322034 | O15: 11.111111 | R15: 3.6 | S15: 25 | T15: 2.5 | U15: 12.5 | V15: 2269.1373 | W15: 8.812169
C16: 70%以上 | D16: 1852.5833 | E16: 91.666667 | F16: 3362.125 | G16: 57.777778 | H16: 2254.0678 | I16: 46.808511 | J16: 3269.9211 | K16: 35.59322 | L16: 956.26829 | M16: 32.307692 | N16: 226.37288 | O16: 26.666667 | P16: 32.1875 | Q16: 50 | T16: 2.5 | U16: 12.5 | V16: 11956.026 | W16: 46.43109
B17: 小 計 | D17: 2021 | E17: 100 | F17: 5819.0625 | G17: 100 | H17: 4815.5085 | I17: 100 | J17: 9186.9211 | K17: 100 | L17: 2959.878 | M17: 100 | N17: 848.89831 | O17: 100 | P17: 64.375 | Q17: 100 | R17: 14.4 | S17: 100 | T17: 20 | U17: 100 | V17: 25750.043 | W17: 100
B18: ほ装工事業 | C18: 10%未満 | D18: 4.8333333 | E18: 16.666667 | H18: 29.708333 | I18: 4.3478261 | J18: 99.571429 | K18: 7.5 | L18: 29.826087 | M18: 9.7560976 | N18: 14.967742 | O18: 12.903226 | P18: 2 | Q18: 20 | T18: 6 | U18: 100 | V18: 186.90692 | W18: 5.60764
C19: 10%以上30%未満 | F19: 91.655172 | G19: 10.714286 | H19: 118.83333 | I19: 17.391304 | J19: 697 | K19: 52.5 | L19: 111.84783 | M19: 36.585366 | N19: 52.387097 | O19: 45.16129 | P19: 4 | Q19: 40 | V19: 1075.7234 | W19: 32.274191
C20: 30%以上50%未満 | F20: 122.2069 | G20: 14.285714 | H20: 178.25 | I20: 26.086957 | J20: 199.14286 | K20: 15 | L20: 67.108696 | M20: 21.95122 | N20: 22.451613 | O20: 19.354839 | P20: 2 | Q20: 20 | V20: 591.16006 | W20: 17.736169
C21: 50%以上70%未満 | D21: 4.8333333 | E21: 16.666667 | F21: 91.655172 | G21: 10.714286 | H21: 59.416667 | I21: 8.6956522 | J21: 99.571429 | K21: 7.5 | L21: 67.108696 | M21: 21.95122 | N21: 18.709677 | O21: 16.129032 | P21: 2 | Q21: 20 | V21: 343.29497 | W21: 10.299643
C22: 70%以上 | D22: 19.333333 | E22: 66.666667 | F22: 549.93103 | G22: 64.285714 | H22: 297.08333 | I22: 43.478261 | J22: 232.33333 | K22: 17.5 | L22: 29.826087 | M22: 9.7560976 | N22: 7.483871 | O22: 6.4516129 | V22: 1135.991 | W22: 34.082357
B23: 小 計 | D23: 29 | E23: 100 | F23: 855.44828 | G23: 100 | H23: 683.29167 | I23: 100 | J23: 1327.619 | K23: 100 | L23: 305.71739 | M23: 100 | N23: 116 | O23: 100 | P23: 10 | Q23: 100 | T23: 6 | U23: 100 | V23: 3333.0764 | W23: 100
B24: しゅんせつ工事業 | C24: 10%未満
C25: 10%以上30%未満 | J25: 30.666667 | K25: 100 | L25: 9 | M25: 33.333333 | V25: 39.666667 | W25: 29.455446
C26: 30%以上50%未満
C27: 50%以上70%未満
C28: 70%以上 | H28: 69 | I28: 100 | L28: 18 | M28: 66.666667 | N28: 8 | O28: 100 | V28: 95 | W28: 70.544554
B29: 小 計 | H29: 69 | I29: 100 | J29: 30.666667 | K29: 100 | L29: 27 | M29: 100 | N29: 8 | O29: 100 | V29: 134.66667 | W29: 100
B30: 造園工事業 | C30: 10%未満 | D30: 203 | E30: 100 | H30: 61.5 | I30: 22.222222 | J30: 90.382979 | K30: 15 | L30: 31.276596 | M30: 23.809524 | N30: 10 | O30: 29.411765 | V30: 396.15957 | W30: 24.199381
C31: 10%以上30%未満 | J31: 150.6383 | K31: 25 | L31: 37.531915 | M31: 28.571429 | N31: 14 | O31: 41.176471 | V31: 202.17021 | W31: 12.349554
C32: 30%以上50%未満 | F32: 129.8 | G32: 33.333333 | H32: 123 | I32: 44.444444 | J32: 120.51064 | K32: 20 | L32: 25.021277 | M32: 19.047619 | N32: 8 | O32: 23.529412 | V32: 406.33191 | W32: 24.820758
C33: 50%以上70%未満 | F33: 129.8 | G33: 33.333333 | H33: 30.75 | I33: 11.111111 | J33: 75.319149 | K33: 12.5 | L33: 25.021277 | M33: 19.047619 | V33: 260.89043 | W33: 15.936474
C34: 70%以上 | F34: 129.8 | G34: 33.333333 | H34: 61.5 | I34: 22.222222 | J34: 165.70213 | K34: 27.5 | L34: 12.510638 | M34: 9.5238095 | N34: 2 | O34: 5.8823529 | V34: 371.51277 | W34: 22.693833
B35: 小 計 | D35: 203 | E35: 100 | F35: 389.4 | G35: 100 | H35: 276.75 | I35: 100 | J35: 602.55319 | K35: 100 | L35: 131.3617 | M35: 100 | N35: 34 | O35: 100 | V35: 1637.0649 | W35: 100
B36: 水道施設工事業 | C36: 10%未満 | F36: 29.846154 | G36: 9.0909091 | J36: 53.594595 | K36: 9.0909091 | L36: 19.75 | M36: 14.814815 | N36: 10.666667 | O36: 33.333333 | V36: 113.85742 | W36: 8.0404961
C37: 10%以上30%未満 | F37: 59.692308 | G37: 18.181818 | H37: 47.555556 | I37: 14.285714 | J37: 125.05405 | K37: 21.212121 | L37: 34.5625 | M37: 25.925926 | N37: 5.3333333 | O37: 16.666667 | V37: 272.19775 | W37: 19.222331
C38: 30%以上50%未満 | F38: 119.38462 | G38: 36.363636 | H38: 47.555556 | I38: 14.285714 | J38: 142.91892 | K38: 24.242424 | L38: 19.75 | M38: 14.814815 | N38: 10.666667 | O38: 33.333333 | V38: 340.27576 | W38: 24.029932
C39: 50%以上70%未満 | F39: 89.538462 | G39: 27.272727 | H39: 95.111111 | I39: 28.571429 | J39: 89.324324 | K39: 15.151515 | L39: 14.8125 | M39: 11.111111 | V39: 288.7864 | W39: 20.393805
C40: 70%以上 | F40: 29.846154 | G40: 9.0909091 | H40: 142.66667 | I40: 42.857143 | J40: 178.64865 | K40: 30.30303 | L40: 44.4375 | M40: 33.333333 | N40: 5.3333333 | O40: 16.666667 | V40: 400.9323 | W40: 28.313436
B41: 小 計 | F41: 328.30769 | G41: 100 | H41: 332.88889 | I41: 100 | J41: 589.54054 | K41: 100 | L41: 133.3125 | M41: 100 | N41: 32 | O41: 100 | V41: 1416.0496 | W41: 100
A42: 小 計 | C42: 10%未満 | D42: 207.83333 | E42: 9.2247374 | F42: 417.78365 | G42: 5.6516681 | H42: 603.49647 | I42: 9.7693634 | J42: 2579.2069 | K42: 21.974447 | L42: 445.14537 | M42: 12.513681 | N42: 167.68526 | O42: 16.14068 | P42: 8.4375 | Q42: 11.344538 | T42: 16 | U42: 61.538462 | V42: 4445.5885 | W42: 13.775842
C43: 10%以上30%未満 | F43: 1185.8475 | G43: 16.041835 | H43: 883.59228 | I43: 14.303537 | J43: 2404.7538 | K43: 20.488133 | L43: 875.99102 | M43: 24.625376 | N43: 298.09331 | O43: 28.693214 | P43: 20.09375 | Q43: 27.016807 | R43: 7.2 | S43: 50 | V43: 5675.5716 | W43: 17.587273
C44: 30%以上50%未満 | D44: 168.41667 | E44: 7.4752182 | F44: 888.64151 | G44: 12.02131 | H44: 1373.3818 | I44: 22.23222 | J44: 1708.2566 | K44: 14.554084 | L44: 658.319 | M44: 18.5063 | N44: 210.89794 | O44: 20.300153 | P44: 11.65625 | Q44: 15.672269 | R44: 3.6 | S44: 25 | T44: 5 | U44: 19.230769 | V44: 5028.1698 | W44: 15.581126
C45: 50%以上70%未満 | D45: 4.8333333 | E45: 0.21452878 | F45: 828.24363 | G45: 11.204263 | H45: 492.65066 | I45: 7.9749983 | J45: 1198.4781 | K45: 10.210849 | L45: 516.77174 | M45: 14.527202 | N45: 113.03171 | O45: 10.879959 | P45: 2 | Q45: 2.6890756 | R45: 3.6 | S45: 25 | T45: 2.5 | U45: 9.6153846 | V45: 3162.1091 | W45: 9.7986392
C46: 70%以上 | D46: 1871.9167 | E46: 83.085516 | F46: 4071.7022 | G46: 55.080923 | H46: 2824.3178 | I46: 45.719881 | J46: 3846.6052 | K46: 32.772486 | L46: 1061.0425 | M46: 29.827441 | N46: 249.19009 | O46: 23.985994 | P46: 32.1875 | Q46: 43.277311 | T46: 2.5 | U46: 9.6153846 | V46: 13959.462 | W46: 43.257119
A47: 小 計 | D47: 2253 | E47: 100 | F47: 7392.2185 | G47: 100 | H47: 6177.439 | I47: 100 | J47: 11737.3 | K47: 100 | L47: 3557.2696 | M47: 100 | N47: 1038.8983 | O47: 100 | P47: 74.375 | Q47: 100 | R47: 14.4 | S47: 100 | T47: 26 | U47: 100 | V47: 32270.901 | W47: 100
A48: 建 築 | B48: 建築工事業 | C48: 10%未満 | D48: 1030.6316 | E48: 20 | F48: 679.71429 | G48: 9.0909091 | H48: 757.38889 | I48: 11.764706 | J48: 3030 | K48: 21.73913 | L48: 583.69231 | M48: 21.212121 | N48: 261.10345 | O48: 21.621622 | P48: 46.428571 | Q48: 23.809524 | R48: 5.1578947 | S48: 14.285714 | T48: 26.4 | U48: 75 | V48: 6420.517 | W48: 17.244888
C49: 10%以上30%未満 | D49: 1545.9474 | E49: 30 | F49: 1359.4286 | G49: 18.181818 | H49: 1136.0833 | I49: 17.647059 | J49: 2727 | K49: 19.565217 | L49: 416.92308 | M49: 15.151515 | N49: 228.46552 | O49: 18.918919 | P49: 27.857143 | Q49: 14.285714 | R49: 5.1578947 | S49: 14.285714 | V49: 7446.8629 | W49: 20.001554
C50: 30%以上50%未満 | F50: 679.71429 | G50: 9.0909091 | H50: 378.69444 | I50: 5.8823529 | J50: 2424 | K50: 17.391304 | L50: 500.30769 | M50: 18.181818 | N50: 195.82759 | O50: 16.216216 | P50: 46.428571 | Q50: 23.809524 | V50: 4224.9726 | W50: 11.347868
C51: 50%以上70%未満 | D51: 515.31579 | E51: 10 | F51: 679.71429 | G51: 9.0909091 | H51: 1514.7778 | I51: 23.529412 | J51: 1515 | K51: 10.869565 | L51: 333.53846 | M51: 12.121212 | N51: 163.18966 | O51: 13.513514 | P51: 9.2857143 | Q51: 4.7619048 | R51: 10.315789 | S51: 28.571429 | V51: 4741.1375 | W51: 12.734237
C52: 70%以上 | D52: 2061.2632 | E52: 40 | F52: 4078.2857 | G52: 54.545455 | H52: 2650.8611 | I52: 41.176471 | J52: 4242 | K52: 30.434783 | L52: 917.23077 | M52: 33.333333 | N52: 359.01724 | O52: 29.72973 | P52: 65 | Q52: 33.333333 | R52: 15.473684 | S52: 42.857143 | T52: 8.8 | U52: 25 | V52: 14397.932 | W52: 38.671453
B53: 小 計 | D53: 5153.1579 | E53: 100 | F53: 7476.8571 | G53: 100 | H53: 6437.8056 | I53: 100 | J53: 13938 | K53: 100 | L53: 2751.6923 | M53: 100 | N53: 1207.6034 | O53: 100 | P53: 195 | Q53: 100 | R53: 36.105263 | S53: 100 | T53: 35.2 | U53: 100 | V53: 37231.422 | W53: 100
A54: 建 築 | B54: 木造建築工事業 | C54: 10%未満 | D54: 950.18182 | E54: 40 | F54: 163.48276 | G54: 7.6923077 | H54: 134.46512 | I54: 12.5 | J54: 147.6 | K54: 20 | L54: 27.705882 | M54: 37.5 | R54: 2 | S54: 100 | V54: 1425.4356 | W54: 22.144544
C55: 10%以上30%未満 | D55: 475.09091 | E55: 20 | H55: 134.46512 | I55: 12.5 | J55: 73.8 | K55: 10 | L55: 27.705882 | M55: 37.5 | N55: 4.7826087 | O55: 11.111111 | V55: 715.84452 | W55: 11.120847
C56: 30%以上50%未満 | F56: 817.41379 | G56: 38.461538 | H56: 67.232558 | I56: 6.25 | J56: 73.8 | K56: 10 | N56: 4.7826087 | O56: 11.111111 | V56: 963.22896 | W56: 14.964034
C57: 50%以上70%未満 | H57: 201.69767 | I57: 18.75 | J57: 221.4 | K57: 30 | N57: 4.7826087 | O57: 11.111111 | P57: 3.5833333 | Q57: 100 | V57: 431.46362 | W57: 6.7029092
C58: 70%以上 | D58: 950.18182 | E58: 40 | F58: 1144.3793 | G58: 53.846154 | H58: 537.86047 | I58: 50 | J58: 221.4 | K58: 30 | L58: 18.470588 | M58: 25 | N58: 28.695652 | O58: 66.666667 | V58: 2900.9878 | W58: 45.067666
B59: 小 計 | D59: 2375.4545 | E59: 100 | F59: 2125.2759 | G59: 100 | H59: 1075.7209 | I59: 100 | J59: 738 | K59: 100 | L59: 73.882353 | M59: 100 | N59: 43.043478 | O59: 100 | P59: 3.5833333 | Q59: 100 | R59: 2 | S59: 100 | V59: 6436.9605 | W59: 100
B60: 小 計 | C60: 10%未満 | D60: 1980.8134 | E60: 26.310471 | F60: 843.19704 | G60: 8.7813514 | H60: 891.85401 | I60: 11.869979 | J60: 3177.6 | K60: 21.651676 | L60: 611.39819 | M60: 21.638012 | N60: 261.10345 | O60: 20.877471 | P60: 46.428571 | Q60: 23.379893 | R60: 7.1578947 | S60: 18.78453 | T60: 26.4 | U60: 75 | V60: 7845.9526 | W60: 17.967124
C61: 10%以上30%未満 | D61: 2021.0383 | E61: 26.844764 | F61: 1359.4286 | G61: 14.157569 | H61: 1270.5484 | I61: 16.910148 | J61: 2800.8 | K61: 19.084219 | L61: 444.62896 | M61: 15.735877 | N61: 233.24813 | O61: 18.650198 | P61: 27.857143 | Q61: 14.027936 | R61: 5.1578947 | S61: 13.535912 | V61: 8162.7074 | W61: 18.692489
C62: 30%以上50%未満 | F62: 1497.1281 | G62: 15.59162 | H62: 445.927 | I62: 5.9349894 | J62: 2497.8 | K62: 17.019624 | L62: 500.30769 | M62: 17.706405 | N62: 200.61019 | O62: 16.040514 | P62: 46.428571 | Q62: 23.379893 | V62: 5188.2015 | W62: 11.880911
C63: 50%以上70%未満 | D63: 515.31579 | E63: 6.8447645 | F63: 679.71429 | G63: 7.0787843 | H63: 1716.4755 | I63: 22.845137 | J63: 1736.4 | K63: 11.831562 | L63: 333.53846 | M63: 11.80427 | N63: 167.97226 | O63: 13.43083 | P63: 12.869048 | Q63: 6.4804268 | R63: 10.315789 | S63: 27.071823 | V63: 5172.6011 | W63: 11.845186
C64: 70%以上 | D64: 3011.445 | E64: 40 | F64: 5222.665 | G64: 54.390676 | H64: 3188.7216 | I64: 42.439746 | J64: 4463.4 | K64: 30.412919 | L64: 935.70136 | M64: 33.115436 | N64: 387.71289 | O64: 31.000987 | P64: 65 | Q64: 32.731851 | R64: 15.473684 | S64: 40.607735 | T64: 8.8 | U64: 25 | V64: 17298.92 | W64: 39.61429
A65: 小 計 | D65: 7528.6124 | E65: 100 | F65: 9602.133 | G65: 100 | H65: 7513.5265 | I65: 100 | J65: 14676 | K65: 100 | L65: 2825.5747 | M65: 100 | N65: 1250.6469 | O65: 100 | P65: 198.58333 | Q65: 100 | R65: 38.105263 | S65: 100 | T65: 35.2 | U65: 100 | V65: 43668.382 | W65: 100
A66: 職 別 | B66: 大工工事業 | C66: 10%未満 | J66: 86.87234 | K66: 7.6923077 | N66: 5.25 | O66: 12.5 | V66: 92.12234 | W66: 1.5822123
C67: 10%以上30%未満 | D67: 151.6 | E67: 11.111111 | F67: 167.78049 | G67: 9.0909091 | H67: 306.85714 | I67: 22.5 | J67: 144.78723 | K67: 12.820513 | N67: 2.625 | O67: 6.25 | V67: 773.64986 | W67: 13.28753
C68: 30%以上50%未満 | D68: 303.2 | E68: 22.222222 | F68: 503.34146 | G68: 27.272727 | H68: 272.7619 | I68: 20 | J68: 347.48936 | K68: 30.769231 | L68: 37.84 | M68: 52.380952 | N68: 18.375 | O68: 43.75 | V68: 1483.0077 | W68: 25.470837
C69: 50%以上70%未満 | D69: 151.6 | E69: 11.111111 | F69: 391.4878 | G69: 21.212121 | H69: 204.57143 | I69: 15 | J69: 144.78723 | K69: 12.820513 | L69: 13.76 | M69: 19.047619 | N69: 5.25 | O69: 12.5 | V69: 911.45647 | W69: 15.654375
C70: 70%以上 | D70: 758 | E70: 55.555556 | F70: 782.97561 | G70: 42.424242 | H70: 579.61905 | I70: 42.5 | J70: 405.40426 | K70: 35.897436 | L70: 20.64 | M70: 28.571429 | N70: 10.5 | O70: 25 | P70: 5 | Q70: 100 | V70: 2562.1389 | W70: 44.005046
B71: 小 計 | D71: 1364.4 | E71: 100 | F71: 1845.5854 | G71: 100 | H71: 1363.8095 | I71: 100 | J71: 1129.3404 | K71: 100 | L71: 72.24 | M71: 100 | N71: 42 | O71: 100 | P71: 5 | Q71: 100 | V71: 5822.3753 | W71: 100
B72: コンクリート工事業 とび・土工・ | C72: 10%未満 | F72: 260.1 | G72: 3.5294118 | H72: 251.86047 | I72: 5.952381 | J72: 428.04 | K72: 12.396694 | L72: 25.307692 | M72: 8.045977 | N72: 7.2096774 | O72: 5.0847458 | P72: 1.2222222 | Q72: 3.8461538 | R72: 1 | S72: 50 | V72: 974.74006 | W72: 5.7743859
C73: 10%以上30%未満 | D73: 222.61538 | E73: 16.666667 | F73: 1213.8 | G73: 16.470588 | H73: 856.32558 | I73: 20.238095 | J73: 913.152 | K73: 26.446281 | L73: 94 | M73: 29.885057 | N73: 69.693548 | O73: 49.152542 | P73: 13.444444 | Q73: 42.307692 | T73: 1 | U73: 100 | V73: 3384.031 | W73: 20.047089
C74: 30%以上50%未満 | D74: 556.53846 | E74: 41.666667 | F74: 1820.7 | G74: 24.705882 | H74: 755.5814 | I74: 17.857143 | J74: 741.936 | K74: 21.487603 | L74: 57.846154 | M74: 18.390805 | N74: 24.032258 | O74: 16.949153 | P74: 4.8888889 | Q74: 15.384615 | V74: 3961.5232 | W74: 23.468168
C75: 50%以上70%未満 | D75: 111.30769 | E75: 8.3333333 | F75: 1127.1 | G75: 15.294118 | H75: 805.95349 | I75: 19.047619 | J75: 656.328 | K75: 19.008264 | L75: 28.923077 | M75: 9.1954023 | N75: 19.225806 | O75: 13.559322 | P75: 1.2222222 | Q75: 3.8461538 | R75: 1 | S75: 50 | V75: 2751.0603 | W75: 16.297354
C76: 70%以上 | D76: 445.23077 | E76: 33.333333 | F76: 2947.8 | G76: 40 | H76: 1561.5349 | I76: 36.904762 | J76: 713.4 | K76: 20.661157 | L76: 108.46154 | M76: 34.482759 | N76: 21.629032 | O76: 15.254237 | P76: 11 | Q76: 34.615385 | V76: 5809.0562 | W76: 34.413003
B77: 小 計 | D77: 1335.6923 | E77: 100 | F77: 7369.5 | G77: 100 | H77: 4231.2558 | I77: 100 | J77: 3452.856 | K77: 100 | L77: 314.53846 | M77: 100 | N77: 141.79032 | O77: 100 | P77: 31.777778 | Q77: 100 | R77: 2 | S77: 100 | T77: 1 | U77: 100 | V77: 16880.411 | W77: 100
B78: 鋼構造物工事業 | C78: 10%未満 | D78: 27.125 | E78: 12.5 | F78: 167.78571 | G78: 11.111111 | H78: 27.892857 | I78: 3.8461538 | J78: 32.894737 | K78: 1.8867925 | L78: 7.8139535 | M78: 4.6511628 | N78: 6.225 | O78: 7.8947368 | P78: 4.5 | Q78: 50 | T78: 1 | U78: 33.333333 | V78: 275.23726 | W78: 6.1718524
C79: 10%以上30%未満 | F79: 111.85714 | G79: 7.4074074 | H79: 139.46429 | I79: 19.230769 | J79: 230.26316 | K79: 13.207547 | L79: 27.348837 | M79: 16.27907 | N79: 22.825 | O79: 28.947368 | T79: 1 | U79: 33.333333 | V79: 532.75842 | W79: 11.946443
C80: 30%以上50%未満 | D80: 81.375 | E80: 37.5 | F80: 391.5 | G80: 25.925926 | H80: 139.46429 | I80: 19.230769 | J80: 394.73684 | K80: 22.641509 | L80: 42.976744 | M80: 25.581395 | N80: 16.6 | O80: 21.052632 | V80: 1066.6529 | W80: 23.918361
C81: 50%以上70%未満 | D81: 27.125 | E81: 12.5 | F81: 279.64286 | G81: 18.518519 | H81: 167.35714 | I81: 23.076923 | J81: 427.63158 | K81: 24.528302 | L81: 39.069767 | M81: 23.255814 | N81: 18.675 | O81: 23.684211 | V81: 959.50135 | W81: 21.515621
C82: 70%以上 | D82: 81.375 | E82: 37.5 | F82: 559.28571 | G82: 37.037037 | H82: 251.03571 | I82: 34.615385 | J82: 657.89474 | K82: 37.735849 | L82: 50.790698 | M82: 30.232558 | N82: 14.525 | O82: 18.421053 | P82: 4.5 | Q82: 50 | R82: 5 | S82: 100 | T82: 1 | U82: 33.333333 | V82: 1625.4069 | W82: 36.447722
B83: 小 計 | D83: 217 | E83: 100 | F83: 1510.0714 | G83: 100 | H83: 725.21429 | I83: 100 | J83: 1743.4211 | K83: 100 | L83: 168 | M83: 100 | N83: 78.85 | O83: 100 | P83: 9 | Q83: 100 | R83: 5 | S83: 100 | T83: 3 | U83: 100 | V83: 4459.5568 | W83: 100
B84: 鉄筋工事業 | C84: 10%未満 | N84: 4.4 | O84: 20 | V84: 4.4 | W84: 0.090798015
C85: 10%以上30%未満 | F85: 242.51613 | G85: 21.428571 | H85: 130.83333 | I85: 17.391304 | J85: 278.42222 | K85: 39.534884 | L85: 10.071429 | M85: 23.076923 | N85: 4.4 | O85: 20 | V85: 666.24311 | W85: 13.748535
C86: 30%以上50%未満 | D86: 876.8 | E86: 40 | F86: 202.09677 | G86: 17.857143 | H86: 130.83333 | I86: 17.391304 | J86: 196.53333 | K86: 27.906977 | L86: 6.7142857 | M86: 15.384615 | V86: 1412.9777 | W86: 29.158085
C87: 50%以上70%未満 | D87: 876.8 | E87: 40 | F87: 363.77419 | G87: 32.142857 | H87: 196.25 | I87: 26.086957 | J87: 98.266667 | K87: 13.953488 | L87: 13.428571 | M87: 30.769231 | V87: 1548.5194 | W87: 31.955112
C88: 70%以上 | D88: 438.4 | E88: 20 | F88: 323.35484 | G88: 28.571429 | H88: 294.375 | I88: 39.130435 | J88: 131.02222 | K88: 18.604651 | L88: 13.428571 | M88: 30.769231 | N88: 13.2 | O88: 60 | V88: 1213.7806 | W88: 25.047471
B89: 小 計 | D89: 2192 | E89: 100 | F89: 1131.7419 | G89: 100 | H89: 752.29167 | I89: 100 | J89: 704.24444 | K89: 100 | L89: 43.642857 | M89: 100 | N89: 22 | O89: 100 | V89: 4845.9209 | W89: 100
B90: 解体工事業 | C90: 10%未満 | F90: 106.35714 | G90: 7.1428571 | J90: 24.03125 | K90: 3.3333333 | V90: 130.38839 | W90: 3.881074
C91: 10%以上30%未満 | F91: 319.07143 | G91: 21.428571 | H91: 224.18182 | I91: 37.5 | J91: 216.28125 | K91: 30 | L91: 54.72 | M91: 39.130435 | N91: 22.2 | O91: 60 | V91: 836.4545 | W91: 24.897475
C92: 30%以上50%未満 | F92: 425.42857 | G92: 28.571429 | H92: 224.18182 | I92: 37.5 | J92: 288.375 | K92: 40 | L92: 48.64 | M92: 34.782609 | N92: 7.4 | O92: 20 | V92: 994.02539 | W92: 29.587649
C93: 50%以上70%未満 | D93: 368 | E93: 100 | H93: 74.727273 | I93: 12.5 | J93: 120.15625 | K93: 16.666667 | L93: 6.08 | M93: 4.3478261 | N93: 3.7 | O93: 10 | P93: 7 | Q93: 100 | V93: 579.66352 | W93: 17.253967
C94: 70%以上 | F94: 638.14286 | G94: 42.857143 | H94: 74.727273 | I94: 12.5 | J94: 72.09375 | K94: 10 | L94: 30.4 | M94: 21.73913 | N94: 3.7 | O94: 10 | V94: 819.06388 | W94: 24.379835
B95: 小 計 | D95: 368 | E95: 100 | F95: 1489 | G95: 100 | H95: 597.81818 | I95: 100 | J95: 720.9375 | K95: 100 | L95: 139.84 | M95: 100 | N95: 37 | O95: 100 | P95: 7 | Q95: 100 | V95: 3359.5957 | W95: 100
B96: 躯体関係計 | C96: 10%未満 | D96: 27.125 | E96: 0.49524453 | F96: 534.24286 | G96: 4.0030489 | H96: 279.75332 | I96: 3.6471854 | J96: 571.83833 | K96: 7.377798 | L96: 33.121646 | M96: 4.4864393 | N96: 23.084677 | O96: 7.1771715 | P96: 5.7222222 | Q96: 10.842105 | R96: 1 | S96: 14.285714 | T96: 1 | U96: 25 | V96: 1476.8881 | W96: 4.1757915
C97: 10%以上30%未満 | D97: 374.21538 | E97: 6.8323732 | F97: 2055.0252 | G97: 15.398178 | H97: 1657.6622 | I97: 21.611186 | J97: 1782.9059 | K97: 23.002864 | L97: 186.14027 | M97: 25.21333 | N97: 121.74355 | O97: 37.850835 | P97: 13.444444 | Q97: 25.473684 | T97: 2 | U97: 50 | V97: 6193.1369 | W97: 17.510635
C98: 30%以上50%未満 | D98: 1817.9135 | E98: 33.191215 | F98: 3343.0668 | G98: 25.049394 | H98: 1522.8227 | I98: 19.853265 | J98: 1969.0705 | K98: 25.404741 | L98: 194.01718 | M98: 26.280286 | N98: 66.407258 | O98: 20.646434 | P98: 4.8888889 | Q98: 9.2631579 | V98: 8918.1869 | W98: 25.215512
C99: 50%以上70%未満 | D99: 1534.8327 | E99: 28.022765 | F99: 2162.0049 | G99: 16.19977 | H99: 1448.8593 | I99: 18.888993 | J99: 1447.1697 | K99: 18.671232 | L99: 101.26142 | M99: 13.716202 | N99: 46.850806 | O99: 14.566211 | P99: 8.2222222 | Q99: 15.578947 | R99: 1 | S99: 14.285714 | V99: 6750.2011 | W99: 19.085693
C100: 70%以上 | D100: 1723.0058 | E100: 31.458403 | F100: 5251.559 | G100: 39.349609 | H100: 2761.2919 | I100: 35.99937 | J100: 1979.815 | K100: 25.543365 | L100: 223.72081 | M100: 30.303742 | N100: 63.554032 | O100: 19.759349 | P100: 20.5 | Q100: 38.842105 | R100: 5 | S100: 71.428571 | T100: 1 | U100: 25 | V100: 12029.447 | W100: 34.012368
B101: 小 計 | D101: 5477.0923 | E101: 100 | F101: 13345.899 | G101: 100 | H101: 7670.3895 | I101: 100 | J101: 7750.7994 | K101: 100 | L101: 738.26132 | M101: 100 | N101: 321.64032 | O101: 100 | P101: 52.777778 | Q101: 100 | R101: 7 | S101: 100 | T101: 4 | U101: 100 | V101: 35367.859 | W101: 100
...

Sheet 2-8-5
A1: 表2－8－5 特定業者への専属状況（下請比率上位２社）（下請比率、次数別集計）（下請完工高のある企業のみ対象）
A3: （概要） | M3: （単位：社、％）
A4: 下請比率、次数 | B4: ０％超 ５０％未満 | D4: ５０％以上１００％以下 | L4: 合 計
A5: 専属比率 | F5: 一次下請 | H5: 二次下請 | J5: 三次以下下請
A6: １０％未満 | B6: =SUM(H18,P18,X18,H27,P27) -> 16387.704 | C6: =IF(ISNUMBER(B6),B6/B$11*100,"") -> 23.266987 | D6: =F6+H6+J6 -> 6477.7354 | E6: =IF(ISNUMBER(D6),D6/D$11*100,"") -> 3.8851841 | F6: =SUM(R27,B36,J36,R36,B45,J45) -> 5462.5679 | G6: =IF(ISNUMBER(F6),F6/F$11*100,"") -> 4.4593528 | H6: =SUM(T27,D36,L36,T36,D45,L45) -> 918.48487 | I6: =IF(ISNUMBER(H6),H6/H$11*100,"") -> 2.4296675 | J6: =SUM(V27,F36,N36,V36,F45,N45) -> 96.682618 | K6: =IF(ISNUMBER(J6),J6/J$11*100,"") -> 1.5037594 | L6: =X45 -> 22865.439 | M6: =IF(ISNUMBER(L6),L6/L$11*100,"") -> 9.6412556
A7: １０％以上３０％未満 | B7: =SUM(H19,P19,X19,H28,P28) -> 18031.308 | C7: =IF(ISNUMBER(B7),B7/B$11*100,"") -> 25.600549 | D7: =F7+H7+J7 -> 37271.149 | E7: =IF(ISNUMBER(D7),D7/D$11*100,"") -> 22.354306 | F7: =SUM(R28,B37,J37,R37,B46,J46) -> 28956.444 | G7: =IF(ISNUMBER(F7),F7/F$11*100,"") -> 23.638516 | H7: =SUM(T28,D37,L37,T37,D46,L46) -> 7492.9029 | I7: =IF(ISNUMBER(H7),H7/H$11*100,"") -> 19.820972 | J7: =SUM(V28,F37,N37,V37,F46,N46) -> 821.80225 | K7: =IF(ISNUMBER(J7),J7/J$11*100,"") -> 12.781955 | L7: =X46 -> 55302.458 | M7: =IF(ISNUMBER(L7),L7/L$11*100,"") -> 23.318386
A8: ３０％以上５０％未満 | B8: =SUM(H20,P20,X20,H29,P29) -> 11408.549 | C8: =IF(ISNUMBER(B8),B8/B$11*100,"") -> 16.197666 | D8: =F8+H8+J8 -> 41428.502 | E8: =IF(ISNUMBER(D8),D8/D$11*100,"") -> 24.847782 | F8: =SUM(R29,B38,J38,R38,B47,J47) -> 31373.51 | G8: =IF(ISNUMBER(F8),F8/F$11*100,"") -> 25.611681 | H8: =SUM(T29,D38,L38,T38,D47,L47) -> 8749.7769 | I8: =IF(ISNUMBER(H8),H8/H$11*100,"") -> 23.14578 | J8: =SUM(V29,F38,N38,V38,F47,N47) -> 1305.2153 | K8: =IF(ISNUMBER(J8),J8/J$11*100,"") -> 20.300752 | L8: =X47 -> 52837.051 | M8: =IF(ISNUMBER(L8),L8/L$11*100,"") -> 22.278842
A9: ５０％以上７０％未満 | B9: =SUM(H21,P21,X21,H30,P30) -> 8459.7291 | C9: =IF(ISNUMBER(B9),B9/B$11*100,"") -> 12.010981 | D9: =F9+H9+J9 -> 29198.151 | E9: =IF(ISNUMBER(D9),D9/D$11*100,"") -> 17.512322 | F9: =SUM(R30,B39,J39,R39,B48,J48) -> 22623.733 | G9: =IF(ISNUMBER(F9),F9/F$11*100,"") -> 18.468824 | H9: =SUM(T30,D39,L39,T39,D48,L48) -> 5607.5918 | I9: =IF(ISNUMBER(H9),H9/H$11*100,"") -> 14.83376 | J9: =SUM(V30,F39,N39,V39,F48,N48) -> 966.82618 | K9: =IF(ISNUMBER(J9),J9/J$11*100,"") -> 15.037594 | L9: =X48 -> 37657.88 | M9: =IF(ISNUMBER(L9),L9/L$11*100,"") -> 15.878516
A10: ７０％以上 | B10: =SUM(H22,P22,X22,H31,P31) -> 16145.997 | C10: =IF(ISNUMBER(B10),B10/B$11*100,"") -> 22.923816 | D10: =F10+H10+J10 -> 52353.638 | E10: =IF(ISNUMBER(D10),D10/D$11*100,"") -> 31.400406 | F10: =SUM(R31,B40,J40,R40,B49,J49) -> 34080.623 | G10: =IF(ISNUMBER(F10),F10/F$11*100,"") -> 27.821626 | H10: =SUM(T31,D40,L40,T40,D49,L49) -> 15034.147 | I10: =IF(ISNUMBER(H10),H10/H$11*100,"") -> 39.769821 | J10: =SUM(V31,F40,N40,V40,F49,N49) -> 3238.8677 | K10: =IF(ISNUMBER(J10),J10/J$11*100,"") -> 50.37594 | L10: =X49 -> 68499.635 | M10: =IF(ISNUMBER(L10),L10/L$11*100,"") -> 28.883
A11: 合 計 | B11: =IF(SUM(B6:B10)>0,SUM(B6:B10),"") -> 70433.287 | C11: =IF(ISNUMBER(B11),B11/B$11*100,"") -> 100 | D11: =F11+H11+J11 -> 166729.17 | E11: =IF(ISNUMBER(D11),D11/D$11*100,"") -> 100 | F11: =IF(SUM(F6:F10)>0,SUM(F6:F10),"") -> 122496.88 | G11: =IF(ISNUMBER(F11),F11/F$11*100,"") -> 100 | H11: =IF(SUM(H6:H10)>0,SUM(H6:H10),"") -> 37802.904 | I11: =IF(ISNUMBER(H11),H11/H$11*100,"") -> 100 | J11: =IF(SUM(J6:J10)>0,SUM(J6:J10),"") -> 6429.3941 | K11: =IF(ISNUMBER(J11),J11/J$11*100,"") -> 100 | L11: =IF(SUM(L6:L10)>0,SUM(L6:L10),"") -> 237162.46 | M11: =IF(ISNUMBER(L11),L11/L$11*100,"") -> 100
F12: （注） | G12: 1. ( )の数値は各合計を100とした場合の構成比
A15: （下請比率別詳細）
A16: 下請比率、次数 | B16: ０％超１０％未満 | J16: １０％以上２０％未満 | R16: ２０％以上３０％未満
A17: 専属比率 | B17: 一次下請 | D17: 二次下請 | F17: 三次以下下請 | H17: 小 計 | J17: 一次下請 | L17: 二次下請 | N17: 三次以下下請 | P17: 小 計 | R17: 一次下請 | T17: 二次下請 | V17: 三次以下下請 | X17: 小 計
A18: １０％未満 | B18: 7976.316 | C18: =IF(ISNUMBER(B18),B18/B$23*100,"") -> 41.878173 | D18: 290.04785 | E18: =IF(ISNUMBER(D18),D18/D$23*100,"") -> 66.666667 | G18: =IF(ISNUMBER(F18),F18/F$23*100,"") | H18: =IF(ISNUMBER(B18),B18,0)+IF(ISNUMBER(D18),D18,0)+IF(ISNUMBER(F18),F18,0) -> 8266.3638 | I18: =IF(ISNUMBER(H18),H18/H$23*100,"") -> 42.222222 | J18: 3093.8438 | K18: =IF(ISNUMBER(J18),J18/J$23*100,"") -> 23.616236 | L18: 96.682618 | M18: =IF(ISNUMBER(L18),L18/L$23*100,"") -> 20 | O18: =IF(ISNUMBER(N18),N18/N$23*100,"") | P18: =IF(ISNUMBER(J18),J18,0)+IF(ISNUMBER(L18),L18,0)+IF(ISNUMBER(N18),N18,0) -> 3190.5264 | Q18: =IF(ISNUMBER(P18),P18/P$23*100,"") -> 23.321555 | R18: 2417.0655 | S18: =IF(ISNUMBER(R18),R18/R$23*100,"") -> 20 | T18: 48.341309 | U18: =IF(ISNUMBER(T18),T18/T$23*100,"") -> 7.1428571 | W18: =IF(ISNUMBER(V18),V18/V$23*100,"") | X18: =IF(ISNUMBER(R18),R18,0)+IF(ISNUMBER(T18),T18,0)+IF(ISNUMBER(V18),V18,0) -> 2465.4068 | Y18: =IF(ISNUMBER(X18),X18/X$23*100,"") -> 19.318182
A19: １０％以上３０％未満 | B19: 1691.9458 | C19: =IF(ISNUMBER(B19),B19/B$23*100,"") -> 8.8832487 | E19: =IF(ISNUMBER(D19),D19/D$23*100,"") | G19: =IF(ISNUMBER(F19),F19/F$23*100,"") | H19: =IF(ISNUMBER(B19),B19,0)+IF(ISNUMBER(D19),D19,0)+IF(ISNUMBER(F19),F19,0) -> 1691.9458 | I19: =IF(ISNUMBER(H19),H19/H$23*100,"") -> 8.6419753 | J19: 3963.9873 | K19: =IF(ISNUMBER(J19),J19/J$23*100,"") -> 30.258303 | L19: 193.36524 | M19: =IF(ISNUMBER(L19),L19/L$23*100,"") -> 40 | O19: =IF(ISNUMBER(N19),N19/N$23*100,"") | P19: =IF(ISNUMBER(J19),J19,0)+IF(ISNUMBER(L19),L19,0)+IF(ISNUMBER(N19),N19,0) -> 4157.3526 | Q19: =IF(ISNUMBER(P19),P19/P$23*100,"") -> 30.388693 | R19: 3577.2569 | S19: =IF(ISNUMBER(R19),R19/R$23*100,"") -> 29.6 | T19: 145.02393 | U19: =IF(ISNUMBER(T19),T19/T$23*100,"") -> 21.428571 | W19: =IF(ISNUMBER(V19),V19/V$23*100,"") | X19: =IF(ISNUMBER(R19),R19,0)+IF(ISNUMBER(T19),T19,0)+IF(ISNUMBER(V19),V19,0) -> 3722.2808 | Y19: =IF(ISNUMBER(X19),X19/X$23*100,"") -> 29.166667
A20: ３０％以上５０％未満 | B20: 1160.1914 | C20: =IF(ISNUMBER(B20),B20/B$23*100,"") -> 6.0913706 | D20: 48.341309 | E20: =IF(ISNUMBER(D20),D20/D$23*100,"") -> 11.111111 | G20: =IF(ISNUMBER(F20),F20/F$23*100,"") | H20: =IF(ISNUMBER(B20),B20,0)+IF(ISNUMBER(D20),D20,0)+IF(ISNUMBER(F20),F20,0) -> 1208.5327 | I20: =IF(ISNUMBER(H20),H20/H$23*100,"") -> 6.1728395 | J20: 1740.2871 | K20: =IF(ISNUMBER(J20),J20/J$23*100,"") -> 13.284133 | M20: =IF(ISNUMBER(L20),L20/L$23*100,"") | O20: =IF(ISNUMBER(N20),N20/N$23*100,"") | P20: =IF(ISNUMBER(J20),J20,0)+IF(ISNUMBER(L20),L20,0)+IF(ISNUMBER(N20),N20,0) -> 1740.2871 | Q20: =IF(ISNUMBER(P20),P20/P$23*100,"") -> 12.720848 | R20: 1643.6045 | S20: =IF(ISNUMBER(R20),R20/R$23*100,"") -> 13.6 | T20: 241.70655 | U20: =IF(ISNUMBER(T20),T20/T$23*100,"") -> 35.714286 | W20: =IF(ISNUMBER(V20),V20/V$23*100,"") | X20: =IF(ISNUMBER(R20),R20,0)+IF(ISNUMBER(T20),T20,0)+IF(ISNUMBER(V20),V20,0) -> 1885.3111 | Y20: =IF(ISNUMBER(X20),X20/X$23*100,"") -> 14.772727
A21: ５０％以上７０％未満 | B21: 1788.6284 | C21: =IF(ISNUMBER(B21),B21/B$23*100,"") -> 9.3908629 | E21: =IF(ISNUMBER(D21),D21/D$23*100,"") | G21: =IF(ISNUMBER(F21),F21/F$23*100,"") | H21: =IF(ISNUMBER(B21),B21,0)+IF(ISNUMBER(D21),D21,0)+IF(ISNUMBER(F21),F21,0) -> 1788.6284 | I21: =IF(ISNUMBER(H21),H21/H$23*100,"") -> 9.1358025 | J21: 1546.9219 | K21: =IF(ISNUMBER(J21),J21/J$23*100,"") -> 11.808118 | M21: =IF(ISNUMBER(L21),L21/L$23*100,"") | O21: =IF(ISNUMBER(N21),N21/N$23*100,"") | P21: =IF(ISNUMBER(J21),J21,0)+IF(ISNUMBER(L21),L21,0)+IF(ISNUMBER(N21),N21,0) -> 1546.9219 | Q21: =IF(ISNUMBER(P21),P21/P$23*100,"") -> 11.30742 | R21: 2223.7002 | S21: =IF(ISNUMBER(R21),R21/R$23*100,"") -> 18.4 | T21: 48.341309 | U21: =IF(ISNUMBER(T21),T21/T$23*100,"") -> 7.1428571 | W21: =IF(ISNUMBER(V21),V21/V$23*100,"") | X21: =IF(ISNUMBER(R21),R21,0)+IF(ISNUMBER(T21),T21,0)+IF(ISNUMBER(V21),V21,0) -> 2272.0415 | Y21: =IF(ISNUMBER(X21),X21/X$23*100,"") -> 17.80303
A22: ７０％以上 | B22: 6429.3941 | C22: =IF(ISNUMBER(B22),B22/B$23*100,"") -> 33.756345 | D22: 96.682618 | E22: =IF(ISNUMBER(D22),D22/D$23*100,"") -> 22.222222 | F22: 96.682618 | G22: =IF(ISNUMBER(F22),F22/F$23*100,"") -> 100 | H22: =IF(ISNUMBER(B22),B22,0)+IF(ISNUMBER(D22),D22,0)+IF(ISNUMBER(F22),F22,0) -> 6622.7593 | I22: =IF(ISNUMBER(H22),H22/H$23*100,"") -> 33.82716 | J22: 2755.4546 | K22: =IF(ISNUMBER(J22),J22/J$23*100,"") -> 21.03321 | L22: 193.36524 | M22: =IF(ISNUMBER(L22),L22/L$23*100,"") -> 40 | N22: 96.682618 | O22: =IF(ISNUMBER(N22),N22/N$23*100,"") -> 100 | P22: =IF(ISNUMBER(J22),J22,0)+IF(ISNUMBER(L22),L22,0)+IF(ISNUMBER(N22),N22,0) -> 3045.5025 | Q22: =IF(ISNUMBER(P22),P22/P$23*100,"") -> 22.261484 | R22: 2223.7002 | S22: =IF(ISNUMBER(R22),R22/R$23*100,"") -> 18.4 | T22: 193.36524 | U22: =IF(ISNUMBER(T22),T22/T$23*100,"") -> 28.571429 | W22: =IF(ISNUMBER(V22),V22/V$23*100,"") | X22: =IF(ISNUMBER(R22),R22,0)+IF(ISNUMBER(T22),T22,0)+IF(ISNUMBER(V22),V22,0) -> 2417.0655 | Y22: =IF(ISNUMBER(X22),X22/X$23*100,"") -> 18.939394
A23: 合 計 | B23: =IF(SUM(B18:B22)>0,SUM(B18:B22),"") -> 19046.476 | C23: =IF(ISNUMBER(B23),B23/B$23*100,"") -> 100 | D23: =IF(SUM(D18:D22)>0,SUM(D18:D22),"") -> 435.07178 | E23: =IF(ISNUMBER(D23),D23/D$23*100,"") -> 100 | F23: =IF(SUM(F18:F22)>0,SUM(F18:F22),"") -> 96.682618 | G23: =IF(ISNUMBER(F23),F23/F$23*100,"") -> 100 | H23: =IF(SUM(H18:H22)>0,SUM(H18:H22),"") -> 19578.23 | I23: =IF(ISNUMBER(H23),H23/H$23*100,"") -> 100 | J23: =IF(SUM(J18:J22)>0,SUM(J18:J22),"") -> 13100.495 | K23: =IF(ISNUMBER(J23),J23/J$23*100,"") -> 100 | L23: =IF(SUM(L18:L22)>0,SUM(L18:L22),"") -> 483.41309 | M23: =IF(ISNUMBER(L23),L23/L$23*100,"") -> 100 | N23: =IF(SUM(N18:N22)>0,SUM(N18:N22),"") -> 96.682618 | O23: =IF(ISNUMBER(N23),N23/N$23*100,"") -> 100 | P23: =IF(SUM(P18:P22)>0,SUM(P18:P22),"") -> 13680.59 | Q23: =IF(ISNUMBER(P23),P23/P$23*100,"") -> 100 | R23: =IF(SUM(R18:R22)>0,SUM(R18:R22),"") -> 12085.327 | S23: =IF(ISNUMBER(R23),R23/R$23*100,"") -> 100 | T23: =IF(SUM(T18:T22)>0,SUM(T18:T22),"") -> 676.77833 | U23: =IF(ISNUMBER(T23),T23/T$23*100,"") -> 100 | V23: =IF(SUM(V18:V22)>0,SUM(V18:V22),"") | W23: =IF(ISNUMBER(V23),V23/V$23*100,"") | X23: =IF(SUM(X18:X22)>0,SUM(X18:X22),"") -> 12762.106 | Y23: =IF(ISNUMBER(X23),X23/X$23*100,"") -> 100
A25: 下請比率、次数 | B25: ３０％以上４０％未満 | J25: ４０％以上５０％未満 | R25: ５０％以上６０％未満
A26: 専属比率 | B26: 一次下請 | D26: 二次下請 | F26: 三次以下下請 | H26: 小 計 | J26: 一次下請 | L26: 二次下請 | N26: 三次以下下請 | P26: 小 計 | R26: 一次下請 | T26: 二次下請 | V26: 三次以下下請 | X26: 小 計
A27: １０％未満 | B27: 1788.6284 | C27: =IF(ISNUMBER(B27),B27/B$32*100,"") -> 16.444444 | E27: =IF(ISNUMBER(D27),D27/D$32*100,"") | G27: =IF(ISNUMBER(F27),F27/F$32*100,"") | H27: =IF(ISNUMBER(B27),B27,0)+IF(ISNUMBER(D27),D27,0)+IF(ISNUMBER(F27),F27,0) -> 1788.6284 | I27: =IF(ISNUMBER(H27),H27/H$32*100,"") -> 14.919355 | J27: 628.43702 | K27: =IF(ISNUMBER(J27),J27/J$32*100,"") -> 5.3941909 | L27: 48.341309 | M27: =IF(ISNUMBER(L27),L27/L$32*100,"") -> 6.25 | O27: =IF(ISNUMBER(N27),N27/N$32*100,"") | P27: =IF(ISNUMBER(J27),J27,0)+IF(ISNUMBER(L27),L27,0)+IF(ISNUMBER(N27),N27,0) -> 676.77833 | Q27: =IF(ISNUMBER(P27),P27/P$32*100,"") -> 5.4474708 | R27: 918.48487 | S27: =IF(ISNUMBER(R27),R27/R$32*100,"") -> 8.7962963 | T27: 48.341309 | U27: =IF(ISNUMBER(T27),T27/T$32*100,"") -> 6.25 | W27: =IF(ISNUMBER(V27),V27/V$32*100,"") | X27: =IF(ISNUMBER(R27),R27,0)+IF(ISNUMBER(T27),T27,0)+IF(ISNUMBER(V27),V27,0) -> 966.82618 | Y27: =IF(ISNUMBER(X27),X27/X$32*100,"") -> 8.6206897
A28: １０％以上３０％未満 | B28: 3722.2808 | C28: =IF(ISNUMBER(B28),B28/B$32*100,"") -> 34.222222 | D28: 531.7544 | E28: =IF(ISNUMBER(D28),D28/D$32*100,"") -> 55 | F28: 96.682618 | G28: =IF(ISNUMBER(F28),F28/F$32*100,"") -> 66.666667 | H28: =IF(ISNUMBER(B28),B28,0)+IF(ISNUMBER(D28),D28,0)+IF(ISNUMBER(F28),F28,0) -> 4350.7178 | I28: =IF(ISNUMBER(H28),H28/H$32*100,"") -> 36.290323 | J28: 3770.6221 | K28: =IF(ISNUMBER(J28),J28/J$32*100,"") -> 32.365145 | L28: 338.38916 | M28: =IF(ISNUMBER(L28),L28/L$32*100,"") -> 43.75 | O28: =IF(ISNUMBER(N28),N28/N$32*100,"") | P28: =IF(ISNUMBER(J28),J28,0)+IF(ISNUMBER(L28),L28,0)+IF(ISNUMBER(N28),N28,0) -> 4109.0113 | Q28: =IF(ISNUMBER(P28),P28/P$32*100,"") -> 33.07393 | R28: 3432.2329 | S28: =IF(ISNUMBER(R28),R28/R$32*100,"") -> 32.87037 | T28: 290.04785 | U28: =IF(ISNUMBER(T28),T28/T$32*100,"") -> 37.5 | W28: =IF(ISNUMBER(V28),V28/V$32*100,"") | X28: =IF(ISNUMBER(R28),R28,0)+IF(ISNUMBER(T28),T28,0)+IF(ISNUMBER(V28),V28,0) -> 3722.2808 | Y28: =IF(ISNUMBER(X28),X28/X$32*100,"") -> 33.189655
A29: ３０％以上５０％未満 | B29: 2175.3589 | C29: =IF(ISNUMBER(B29),B29/B$32*100,"") -> 20 | D29: 145.02393 | E29: =IF(ISNUMBER(D29),D29/D$32*100,"") -> 15 | F29: 48.341309 | G29: =IF(ISNUMBER(F29),F29/F$32*100,"") -> 33.333333 | H29: =IF(ISNUMBER(B29),B29,0)+IF(ISNUMBER(D29),D29,0)+IF(ISNUMBER(F29),F29,0) -> 2368.7241 | I29: =IF(ISNUMBER(H29),H29/H$32*100,"") -> 19.758065 | J29: 3963.9873 | K29: =IF(ISNUMBER(J29),J29/J$32*100,"") -> 34.024896 | L29: 241.70655 | M29: =IF(ISNUMBER(L29),L29/L$32*100,"") -> 31.25 | O29: =IF(ISNUMBER(N29),N29/N$32*100,"") | P29: =IF(ISNUMBER(J29),J29,0)+IF(ISNUMBER(L29),L29,0)+IF(ISNUMBER(N29),N29,0) -> 4205.6939 | Q29: =IF(ISNUMBER(P29),P29/P$32*100,"") -> 33.85214 | R29: 2755.4546 | S29: =IF(ISNUMBER(R29),R29/R$32*100,"") -> 26.388889 | T29: 193.36524 | U29: =IF(ISNUMBER(T29),T29/T$32*100,"") -> 25 | W29: =IF(ISNUMBER(V29),V29/V$32*100,"") | X29: =IF(ISNUMBER(R29),R29,0)+IF(ISNUMBER(T29),T29,0)+IF(ISNUMBER(V29),V29,0) -> 2948.8198 | Y29: =IF(ISNUMBER(X29),X29/X$32*100,"") -> 26.293103
A30: ５０％以上７０％未満 | B30: 1256.874 | C30: =IF(ISNUMBER(B30),B30/B$32*100,"") -> 11.555556 | D30: 241.70655 | E30: =IF(ISNUMBER(D30),D30/D$32*100,"") -> 25 | G30: =IF(ISNUMBER(F30),F30/F$32*100,"") | H30: =IF(ISNUMBER(B30),B30,0)+IF(ISNUMBER(D30),D30,0)+IF(ISNUMBER(F30),F30,0) -> 1498.5806 | I30: =IF(ISNUMBER(H30),H30/H$32*100,"") -> 12.5 | J30: 1305.2153 | K30: =IF(ISNUMBER(J30),J30/J$32*100,"") -> 11.20332 | L30: 48.341309 | M30: =IF(ISNUMBER(L30),L30/L$32*100,"") -> 6.25 | O30: =IF(ISNUMBER(N30),N30/N$32*100,"") | P30: =IF(ISNUMBER(J30),J30,0)+IF(ISNUMBER(L30),L30,0)+IF(ISNUMBER(N30),N30,0) -> 1353.5567 | Q30: =IF(ISNUMBER(P30),P30/P$32*100,"") -> 10.894942 | R30: 1353.5567 | S30: =IF(ISNUMBER(R30),R30/R$32*100,"") -> 12.962963 | T30: 145.02393 | U30: =IF(ISNUMBER(T30),T30/T$32*100,"") -> 18.75 | W30: =IF(ISNUMBER(V30),V30/V$32*100,"") | X30: =IF(ISNUMBER(R30),R30,0)+IF(ISNUMBER(T30),T30,0)+IF(ISNUMBER(V30),V30,0) -> 1498.5806 | Y30: =IF(ISNUMBER(X30),X30/X$32*100,"") -> 13.362069
A31: ７０％以上 | B31: 1933.6524 | C31: =IF(ISNUMBER(B31),B31/B$32*100,"") -> 17.777778 | D31: 48.341309 | E31: =IF(ISNUMBER(D31),D31/D$32*100,"") -> 5 | G31: =IF(ISNUMBER(F31),F31/F$32*100,"") | H31: =IF(ISNUMBER(B31),B31,0)+IF(ISNUMBER(D31),D31,0)+IF(ISNUMBER(F31),F31,0) -> 1981.9937 | I31: =IF(ISNUMBER(H31),H31/H$32*100,"") -> 16.532258 | J31: 1981.9937 | K31: =IF(ISNUMBER(J31),J31/J$32*100,"") -> 17.012448 | L31: 96.682618 | M31: =IF(ISNUMBER(L31),L31/L$32*100,"") -> 12.5 | O31: =IF(ISNUMBER(N31),N31/N$32*100,"") | P31: =IF(ISNUMBER(J31),J31,0)+IF(ISNUMBER(L31),L31,0)+IF(ISNUMBER(N31),N31,0) -> 2078.6763 | Q31: =IF(ISNUMBER(P31),P31/P$32*100,"") -> 16.731518 | R31: 1981.9937 | S31: =IF(ISNUMBER(R31),R31/R$32*100,"") -> 18.981481 | T31: 96.682618 | U31: =IF(ISNUMBER(T31),T31/T$32*100,"") -> 12.5 | W31: =IF(ISNUMBER(V31),V31/V$32*100,"") | X31: =IF(ISNUMBER(R31),R31,0)+IF(ISNUMBER(T31),T31,0)+IF(ISNUMBER(V31),V31,0) -> 2078.6763 | Y31: =IF(ISNUMBER(X31),X31/X$32*100,"") -> 18.534483
A32: 合 計 | B32: =IF(SUM(B27:B31)>0,SUM(B27:B31),"") -> 10876.795 | C32: =IF(ISNUMBER(B32),B32/B$32*100,"") -> 100 | D32: =IF(SUM(D27:D31)>0,SUM(D27:D31),"") -> 966.82618 | E32: =IF(ISNUMBER(D32),D32/D$32*100,"") -> 100 | F32: =IF(SUM(F27:F31)>0,SUM(F27:F31),"") -> 145.02393 | G32: =IF(ISNUMBER(F32),F32/F$32*100,"") -> 100 | H32: =IF(SUM(H27:H31)>0,SUM(H27:H31),"") -> 11988.645 | I32: =IF(ISNUMBER(H32),H32/H$32*100,"") -> 100 | J32: =IF(SUM(J27:J31)>0,SUM(J27:J31),"") -> 11650.255 | K32: =IF(ISNUMBER(J32),J32/J$32*100,"") -> 100 | L32: =IF(SUM(L27:L31)>0,SUM(L27:L31),"") -> 773.46094 | M32: =IF(ISNUMBER(L32),L32/L$32*100,"") -> 100 | N32: =IF(SUM(N27:N31)>0,SUM(N27:N31),"") | O32: =IF(ISNUMBER(N32),N32/N$32*100,"") | P32: =IF(SUM(P27:P31)>0,SUM(P27:P31),"") -> 12423.716 | Q32: =IF(ISNUMBER(P32),P32/P$32*100,"") -> 100 | R32: =IF(SUM(R27:R31)>0,SUM(R27:R31),"") -> 10441.723 | S32: =IF(ISNUMBER(R32),R32/R$32*100,"") -> 100 | T32: =IF(SUM(T27:T31)>0,SUM(T27:T31),"") -> 773.46094 | U32: =IF(ISNUMBER(T32),T32/T$32*100,"") -> 100 | V32: =IF(SUM(V27:V31)>0,SUM(V27:V31),"") | W32: =IF(ISNUMBER(V32),V32/V$32*100,"") | X32: =IF(SUM(X27:X31)>0,SUM(X27:X31),"") -> 11215.184 | Y32: =IF(ISNUMBER(X32),X32/X$32*100,"") -> 100
A34: 下請比率、次数 | B34: ６０％以上７０％未満 | J34: ７０％以上８０％未満 | R34: ８０％以上９０％未満
A35: 専属比率 | B35: 一次下請 | D35: 二次下請 | F35: 三次以下下請 | H35: 小 計 | J35: 一次下請 | L35: 二次下請 | N35: 三次以下下請 | P35: 小 計 | R35: 一次下請 | T35: 二次下請 | V35: 三次以下下請 | X35: 小 計
A36: １０％未満 | B36: 773.46094 | C36: =IF(ISNUMBER(B36),B36/B$41*100,"") -> 6.2745098 | D36: 48.341309 | E36: =IF(ISNUMBER(D36),D36/D$41*100,"") -> 3.4482759 | G36: =IF(ISNUMBER(F36),F36/F$41*100,"") | H36: =IF(ISNUMBER(B36),B36,0)+IF(ISNUMBER(D36),D36,0)+IF(ISNUMBER(F36),F36,0) -> 821.80225 | I36: =IF(ISNUMBER(H36),H36/H$41*100,"") -> 5.9027778 | J36: 773.46094 | K36: =IF(ISNUMBER(J36),J36/J$41*100,"") -> 7.1428571 | L36: 48.341309 | M36: =IF(ISNUMBER(L36),L36/L$41*100,"") -> 2.5641026 | O36: =IF(ISNUMBER(N36),N36/N$41*100,"") | P36: =IF(ISNUMBER(J36),J36,0)+IF(ISNUMBER(L36),L36,0)+IF(ISNUMBER(N36),N36,0) -> 821.80225 | Q36: =IF(ISNUMBER(P36),P36/P$41*100,"") -> 6.4393939 | R36: 628.43702 | S36: =IF(ISNUMBER(R36),R36/R$41*100,"") -> 4.2763158 | T36: 96.682618 | U36: =IF(ISNUMBER(T36),T36/T$41*100,"") -> 3.125 | W36: =IF(ISNUMBER(V36),V36/V$41*100,"") | X36: =IF(ISNUMBER(R36),R36,0)+IF(ISNUMBER(T36),T36,0)+IF(ISNUMBER(V36),V36,0) -> 725.11964 | Y36: =IF(ISNUMBER(X36),X36/X$41*100,"") -> 4.0106952
A37: １０％以上３０％未満 | B37: 3963.9873 | C37: =IF(ISNUMBER(B37),B37/B$41*100,"") -> 32.156863 | D37: 386.73047 | E37: =IF(ISNUMBER(D37),D37/D$41*100,"") -> 27.586207 | F37: 48.341309 | G37: =IF(ISNUMBER(F37),F37/F$41*100,"") -> 25 | H37: =IF(ISNUMBER(B37),B37,0)+IF(ISNUMBER(D37),D37,0)+IF(ISNUMBER(F37),F37,0) -> 4399.0591 | I37: =IF(ISNUMBER(H37),H37/H$41*100,"") -> 31.597222 | J37: 2803.7959 | K37: =IF(ISNUMBER(J37),J37/J$41*100,"") -> 25.892857 | L37: 821.80225 | M37: =IF(ISNUMBER(L37),L37/L$41*100,"") -> 43.589744 | N37: 48.341309 | O37: =IF(ISNUMBER(N37),N37/N$41*100,"") -> 100 | P37: =IF(ISNUMBER(J37),J37,0)+IF(ISNUMBER(L37),L37,0)+IF(ISNUMBER(N37),N37,0) -> 3673.9395 | Q37: =IF(ISNUMBER(P37),P37/P$41*100,"") -> 28.787879 | R37: 3915.646 | S37: =IF(ISNUMBER(R37),R37/R$41*100,"") -> 26.644737 | T37: 628.43702 | U37: =IF(ISNUMBER(T37),T37/T$41*100,"") -> 20.3125 | V37: 96.682618 | W37: =IF(ISNUMBER(V37),V37/V$41*100,"") -> 33.333333 | X37: =IF(ISNUMBER(R37),R37,0)+IF(ISNUMBER(T37),T37,0)+IF(ISNUMBER(V37),V37,0) -> 4640.7657 | Y37: =IF(ISNUMBER(X37),X37/X$41*100,"") -> 25.668449
A38: ３０％以上５０％未満 | B38: 3722.2808 | C38: =IF(ISNUMBER(B38),B38/B$41*100,"") -> 30.196078 | D38: 483.41309 | E38: =IF(ISNUMBER(D38),D38/D$41*100,"") -> 34.482759 | F38: 48.341309 | G38: =IF(ISNUMBER(F38),F38/F$41*100,"") -> 25 | H38: =IF(ISNUMBER(B38),B38,0)+IF(ISNUMBER(D38),D38,0)+IF(ISNUMBER(F38),F38,0) -> 4254.0352 | I38: =IF(ISNUMBER(H38),H38/H$41*100,"") -> 30.555556 | J38: 2755.4546 | K38: =IF(ISNUMBER(J38),J38/J$41*100,"") -> 25.446429 | L38: 580.09571 | M38: =IF(ISNUMBER(L38),L38/L$41*100,"") -> 30.769231 | O38: =IF(ISNUMBER(N38),N38/N$41*100,"") | P38: =IF(ISNUMBER(J38),J38,0)+IF(ISNUMBER(L38),L38,0)+IF(ISNUMBER(N38),N38,0) -> 3335.5503 | Q38: =IF(ISNUMBER(P38),P38/P$41*100,"") -> 26.136364 | R38: 4399.0591 | S38: =IF(ISNUMBER(R38),R38/R$41*100,"") -> 29.934211 | T38: 918.48487 | U38: =IF(ISNUMBER(T38),T38/T$41*100,"") -> 29.6875 | V38: 48.341309 | W38: =IF(ISNUMBER(V38),V38/V$41*100,"") -> 16.666667 | X38: =IF(ISNUMBER(R38),R38,0)+IF(ISNUMBER(T38),T38,0)+IF(ISNUMBER(V38),V38,0) -> 5365.8853 | Y38: =IF(ISNUMBER(X38),X38/X$41*100,"") -> 29.679144
A39: ５０％以上７０％未満 | B39: 2223.7002 | C39: =IF(ISNUMBER(B39),B39/B$41*100,"") -> 18.039216 | D39: 290.04785 | E39: =IF(ISNUMBER(D39),D39/D$41*100,"") -> 20.689655 | G39: =IF(ISNUMBER(F39),F39/F$41*100,"") | H39: =IF(ISNUMBER(B39),B39,0)+IF(ISNUMBER(D39),D39,0)+IF(ISNUMBER(F39),F39,0) -> 2513.7481 | I39: =IF(ISNUMBER(H39),H39/H$41*100,"") -> 18.055556 | J39: 2562.0894 | K39: =IF(ISNUMBER(J39),J39/J$41*100,"") -> 23.660714 | L39: 193.36524 | M39: =IF(ISNUMBER(L39),L39/L$41*100,"") -> 10.25641 | O39: =IF(ISNUMBER(N39),N39/N$41*100,"") | P39: =IF(ISNUMBER(J39),J39,0)+IF(ISNUMBER(L39),L39,0)+IF(ISNUMBER(N39),N39,0) -> 2755.4546 | Q39: =IF(ISNUMBER(P39),P39/P$41*100,"") -> 21.590909 | R39: 2900.4785 | S39: =IF(ISNUMBER(R39),R39/R$41*100,"") -> 19.736842 | T39: 580.09571 | U39: =IF(ISNUMBER(T39),T39/T$41*100,"") -> 18.75 | V39: 48.341309 | W39: =IF(ISNUMBER(V39),V39/V$41*100,"") -> 16.666667 | X39: =IF(ISNUMBER(R39),R39,0)+IF(ISNUMBER(T39),T39,0)+IF(ISNUMBER(V39),V39,0) -> 3528.9156 | Y39: =IF(ISNUMBER(X39),X39/X$41*100,"") -> 19.518717
A40: ７０％以上 | B40: 1643.6045 | C40: =IF(ISNUMBER(B40),B40/B$41*100,"") -> 13.333333 | D40: 193.36524 | E40: =IF(ISNUMBER(D40),D40/D$41*100,"") -> 13.793103 | F40: 96.682618 | G40: =IF(ISNUMBER(F40),F40/F$41*100,"") -> 50 | H40: =IF(ISNUMBER(B40),B40,0)+IF(ISNUMBER(D40),D40,0)+IF(ISNUMBER(F40),F40,0) -> 1933.6524 | I40: =IF(ISNUMBER(H40),H40/H$41*100,"") -> 13.888889 | J40: 1933.6524 | K40: =IF(ISNUMBER(J40),J40/J$41*100,"") -> 17.857143 | L40: 241.70655 | M40: =IF(ISNUMBER(L40),L40/L$41*100,"") -> 12.820513 | O40: =IF(ISNUMBER(N40),N40/N$41*100,"") | P40: =IF(ISNUMBER(J40),J40,0)+IF(ISNUMBER(L40),L40,0)+IF(ISNUMBER(N40),N40,0) -> 2175.3589 | Q40: =IF(ISNUMBER(P40),P40/P$41*100,"") -> 17.045455 | R40: 2852.1372 | S40: =IF(ISNUMBER(R40),R40/R$41*100,"") -> 19.407895 | T40: 870.14356 | U40: =IF(ISNUMBER(T40),T40/T$41*100,"") -> 28.125 | V40: 96.682618 | W40: =IF(ISNUMBER(V40),V40/V$41*100,"") -> 33.333333 | X40: =IF(ISNUMBER(R40),R40,0)+IF(ISNUMBER(T40),T40,0)+IF(ISNUMBER(V40),V40,0) -> 3818.9634 | Y40: =IF(ISNUMBER(X40),X40/X$41*100,"") -> 21.122995
A41: 合 計 | B41: =IF(SUM(B36:B40)>0,SUM(B36:B40),"") -> 12327.034 | C41: =IF(ISNUMBER(B41),B41/B$41*100,"") -> 100 | D41: =IF(SUM(D36:D40)>0,SUM(D36:D40),"") -> 1401.898 | E41: =IF(ISNUMBER(D41),D41/D$41*100,"") -> 100 | F41: =IF(SUM(F36:F40)>0,SUM(F36:F40),"") -> 193.36524 | G41: =IF(ISNUMBER(F41),F41/F$41*100,"") -> 100 | H41: =IF(SUM(H36:H40)>0,SUM(H36:H40),"") -> 13922.297 | I41: =IF(ISNUMBER(H41),H41/H$41*100,"") -> 100 | J41: =IF(SUM(J36:J40)>0,SUM(J36:J40),"") -> 10828.453 | K41: =IF(ISNUMBER(J41),J41/J$41*100,"") -> 100 | L41: =IF(SUM(L36:L40)>0,SUM(L36:L40),"") -> 1885.3111 | M41: =IF(ISNUMBER(L41),L41/L$41*100,"") -> 100 | N41: =IF(SUM(N36:N40)>0,SUM(N36:N40),"") -> 48.341309 | O41: =IF(ISNUMBER(N41),N41/N$41*100,"") -> 100 | P41: =IF(SUM(P36:P40)>0,SUM(P36:P40),"") -> 12762.106 | Q41: =IF(ISNUMBER(P41),P41/P$41*100,"") -> 100 | R41: =IF(SUM(R36:R40)>0,SUM(R36:R40),"") -> 14695.758 | S41: =IF(ISNUMBER(R41),R41/R$41*100,"") -> 100 | T41: =IF(SUM(T36:T40)>0,SUM(T36:T40),"") -> 3093.8438 | U41: =IF(ISNUMBER(T41),T41/T$41*100,"") -> 100 | V41: =IF(SUM(V36:V40)>0,SUM(V36:V40),"") -> 290.04785 | W41: =IF(ISNUMBER(V41),V41/V$41*100,"") -> 100 | X41: =IF(SUM(X36:X40)>0,SUM(X36:X40),"") -> 18079.65 | Y41: =IF(ISNUMBER(X41),X41/X$41*100,"") -> 100
A43: 下請比率、次数 | B43: ９０％以上１００％未満 | J43: １００％ | R43: 合 計
A44: 専属比率 | B44: 一次下請 | D44: 二次下請 | F44: 三次以下下請 | H44: 小 計 | J44: 一次下請 | L44: 二次下請 | N44: 三次以下下請 | P44: 小 計 | R44: 一次下請 | T44: 二次下請 | V44: 三次以下下請
A45: １０％未満 | B45: 628.43702 | C45: =IF(ISNUMBER(B45),B45/B$50*100,"") -> 2.8446389 | D45: 145.02393 | E45: =IF(ISNUMBER(D45),D45/D$50*100,"") -> 2.6315789 | G45: =IF(ISNUMBER(F45),F45/F$50*100,"") | H45: =IF(ISNUMBER(B45),B45,0)+IF(ISNUMBER(D45),D45,0)+IF(ISNUMBER(F45),F45,0) -> 773.46094 | I45: =IF(ISNUMBER(H45),H45/H$50*100,"") -> 2.739726 | J45: 1740.2871 | K45: =IF(ISNUMBER(J45),J45/J$50*100,"") -> 3.3395176 | L45: 531.7544 | M45: =IF(ISNUMBER(L45),L45/L$50*100,"") -> 2.1153846 | N45: 96.682618 | O45: =IF(ISNUMBER(N45),N45/N$50*100,"") -> 1.8348624 | P45: =IF(ISNUMBER(J45),J45,0)+IF(ISNUMBER(L45),L45,0)+IF(ISNUMBER(N45),N45,0) -> 2368.7241 | Q45: =IF(ISNUMBER(P45),P45/P$50*100,"") -> 2.8705331 | R45: =SUM(B18,J18,R18,B27,J27,R27,B36,J36,R36,B45,J45) -> 21366.859 | S45: =IF(ISNUMBER(R45),R45/R$50*100,"") -> 11.289911 | T45: =SUM(D18,L18,T18,D27,L27,T27,D36,L36,T36,D45,L45) -> 1401.898 | U45: =IF(ISNUMBER(T45),T45/T$50*100,"") -> 3.4077556 | V45: =SUM(F18,N18,V18,F27,N27,V27,F36,N36,V36,F45,N45) -> 96.682618 | W45: =IF(ISNUMBER(V45),V45/V$50*100,"") -> 1.4285714 | X45: =IF(ISNUMBER(R45),R45,0)+IF(ISNUMBER(T45),T45,0)+IF(ISNUMBER(V45),V45,0) -> 22865.439 | Y45: =IF(ISNUMBER(X45),X45/X$50*100,"") -> 9.6412556
A46: １０％以上３０％未満 | B46: 5172.5201 | C46: =IF(ISNUMBER(B46),B46/B$50*100,"") -> 23.413567 | D46: 1305.2153 | E46: =IF(ISNUMBER(D46),D46/D$50*100,"") -> 23.684211 | F46: 48.341309 | G46: =IF(ISNUMBER(F46),F46/F$50*100,"") -> 7.6923077 | H46: =IF(ISNUMBER(B46),B46,0)+IF(ISNUMBER(D46),D46,0)+IF(ISNUMBER(F46),F46,0) -> 6526.0767 | I46: =IF(ISNUMBER(H46),H46/H$50*100,"") -> 23.116438 | J46: 9668.2618 | K46: =IF(ISNUMBER(J46),J46/J$50*100,"") -> 18.552876 | L46: 4060.67 | M46: =IF(ISNUMBER(L46),L46/L$50*100,"") -> 16.153846 | N46: 580.09571 | O46: =IF(ISNUMBER(N46),N46/N$50*100,"") -> 11.009174 | P46: =IF(ISNUMBER(J46),J46,0)+IF(ISNUMBER(L46),L46,0)+IF(ISNUMBER(N46),N46,0) -> 14309.027 | Q46: =IF(ISNUMBER(P46),P46/P$50*100,"") -> 17.340363 | R46: =SUM(B19,J19,R19,B28,J28,R28,B37,J37,R37,B46,J46) -> 45682.537 | S46: =IF(ISNUMBER(R46),R46/R$50*100,"") -> 24.137931 | T46: =SUM(D19,L19,T19,D28,L28,T28,D37,L37,T37,D46,L46) -> 8701.4356 | U46: =IF(ISNUMBER(T46),T46/T$50*100,"") -> 21.151586 | V46: =SUM(F19,N19,V19,F28,N28,V28,F37,N37,V37,F46,N46) -> 918.48487 | W46: =IF(ISNUMBER(V46),V46/V$50*100,"") -> 13.571429 | X46: =IF(ISNUMBER(R46),R46,0)+IF(ISNUMBER(T46),T46,0)+IF(ISNUMBER(V46),V46,0) -> 55302.458 | Y46: =IF(ISNUMBER(X46),X46/X$50*100,"") -> 23.318386
A47: ３０％以上５０％未満 | B47: 5510.9092 | C47: =IF(ISNUMBER(B47),B47/B$50*100,"") -> 24.945295 | D47: 1788.6284 | E47: =IF(ISNUMBER(D47),D47/D$50*100,"") -> 32.45614 | F47: 193.36524 | G47: =IF(ISNUMBER(F47),F47/F$50*100,"") -> 30.769231 | H47: =IF(ISNUMBER(B47),B47,0)+IF(ISNUMBER(D47),D47,0)+IF(ISNUMBER(F47),F47,0) -> 7492.9029 | I47: =IF(ISNUMBER(H47),H47/H$50*100,"") -> 26.541096 | J47: 12230.351 | K47: =IF(ISNUMBER(J47),J47/J$50*100,"") -> 23.469388 | L47: 4785.7896 | M47: =IF(ISNUMBER(L47),L47/L$50*100,"") -> 19.038462 | N47: 1015.1675 | O47: =IF(ISNUMBER(N47),N47/N$50*100,"") -> 19.266055 | P47: =IF(ISNUMBER(J47),J47,0)+IF(ISNUMBER(L47),L47,0)+IF(ISNUMBER(N47),N47,0) -> 18031.308 | Q47: =IF(ISNUMBER(P47),P47/P$50*100,"") -> 21.851201 | R47: =SUM(B20,J20,R20,B29,J29,R29,B38,J38,R38,B47,J47) -> 42056.939 | S47: =IF(ISNUMBER(R47),R47/R$50*100,"") -> 22.222222 | T47: =SUM(D20,L20,T20,D29,L29,T29,D38,L38,T38,D47,L47) -> 9426.5553 | U47: =IF(ISNUMBER(T47),T47/T$50*100,"") -> 22.914219 | V47: =SUM(F20,N20,V20,F29,N29,V29,F38,N38,V38,F47,N47) -> 1353.5567 | W47: =IF(ISNUMBER(V47),V47/V$50*100,"") -> 20 | X47: =IF(ISNUMBER(R47),R47,0)+IF(ISNUMBER(T47),T47,0)+IF(ISNUMBER(V47),V47,0) -> 52837.051 | Y47: =IF(ISNUMBER(X47),X47/X$50*100,"") -> 22.278842
A48: ５０％以上７０％未満 | B48: 4592.4244 | C48: =IF(ISNUMBER(B48),B48/B$50*100,"") -> 20.787746 | D48: 725.11964 | E48: =IF(ISNUMBER(D48),D48/D$50*100,"") -> 13.157895 | F48: 96.682618 | G48: =IF(ISNUMBER(F48),F48/F$50*100,"") -> 15.384615 | H48: =IF(ISNUMBER(B48),B48,0)+IF(ISNUMBER(D48),D48,0)+IF(ISNUMBER(F48),F48,0) -> 5414.2266 | I48: =IF(ISNUMBER(H48),H48/H$50*100,"") -> 19.178082 | J48: 8991.4835 | K48: =IF(ISNUMBER(J48),J48/J$50*100,"") -> 17.254174 | L48: 3673.9395 | M48: =IF(ISNUMBER(L48),L48/L$50*100,"") -> 14.615385 | N48: 821.80225 | O48: =IF(ISNUMBER(N48),N48/N$50*100,"") -> 15.59633 | P48: =IF(ISNUMBER(J48),J48,0)+IF(ISNUMBER(L48),L48,0)+IF(ISNUMBER(N48),N48,0) -> 13487.225 | Q48: =IF(ISNUMBER(P48),P48/P$50*100,"") -> 16.344464 | R48: =SUM(B21,J21,R21,B30,J30,R30,B39,J39,R39,B48,J48) -> 30745.073 | S48: =IF(ISNUMBER(R48),R48/R$50*100,"") -> 16.245211 | T48: =SUM(D21,L21,T21,D30,L30,T30,D39,L39,T39,D48,L48) -> 5945.981 | U48: =IF(ISNUMBER(T48),T48/T$50*100,"") -> 14.453584 | V48: =SUM(F21,N21,V21,F30,N30,V30,F39,N39,V39,F48,N48) -> 966.82618 | W48: =IF(ISNUMBER(V48),V48/V$50*100,"") -> 14.285714 | X48: =IF(ISNUMBER(R48),R48,0)+IF(ISNUMBER(T48),T48,0)+IF(ISNUMBER(V48),V48,0) -> 37657.88 | Y48: =IF(ISNUMBER(X48),X48/X$50*100,"") -> 15.878516
A49: ７０％以上 | B49: 6187.6876 | C49: =IF(ISNUMBER(B49),B49/B$50*100,"") -> 28.008753 | D49: 1546.9219 | E49: =IF(ISNUMBER(D49),D49/D$50*100,"") -> 28.070175 | F49: 290.04785 | G49: =IF(ISNUMBER(F49),F49/F$50*100,"") -> 46.153846 | H49: =IF(ISNUMBER(B49),B49,0)+IF(ISNUMBER(D49),D49,0)+IF(ISNUMBER(F49),F49,0) -> 8024.6573 | I49: =IF(ISNUMBER(H49),H49/H$50*100,"") -> 28.424658 | J49: 19481.548 | K49: =IF(ISNUMBER(J49),J49/J$50*100,"") -> 37.384045 | L49: 12085.327 | M49: =IF(ISNUMBER(L49),L49/L$50*100,"") -> 48.076923 | N49: 2755.4546 | O49: =IF(ISNUMBER(N49),N49/N$50*100,"") -> 52.293578 | P49: =IF(ISNUMBER(J49),J49,0)+IF(ISNUMBER(L49),L49,0)+IF(ISNUMBER(N49),N49,0) -> 34322.329 | Q49: =IF(ISNUMBER(P49),P49/P$50*100,"") -> 41.593439 | R49: =SUM(B22,J22,R22,B31,J31,R31,B40,J40,R40,B49,J49) -> 49404.818 | S49: =IF(ISNUMBER(R49),R49/R$50*100,"") -> 26.104725 | T49: =SUM(D22,L22,T22,D31,L31,T31,D40,L40,T40,D49,L49) -> 15662.584 | U49: =IF(ISNUMBER(T49),T49/T$50*100,"") -> 38.072855 | V49: =SUM(F22,N22,V22,F31,N31,V31,F40,N40,V40,F49,N49) -> 3432.2329 | W49: =IF(ISNUMBER(V49),V49/V$50*100,"") -> 50.714286 | X49: =IF(ISNUMBER(R49),R49,0)+IF(ISNUMBER(T49),T49,0)+IF(ISNUMBER(V49),V49,0) -> 68499.635 | Y49: =IF(ISNUMBER(X49),X49/X$50*100,"") -> 28.883
A50: 合 計 | B50: =IF(SUM(B45:B49)>0,SUM(B45:B49),"") -> 22091.978 | C50: =IF(ISNUMBER(B50),B50/B$50*100,"") -> 100 | D50: =IF(SUM(D45:D49)>0,SUM(D45:D49),"") -> 5510.9092 | E50: =IF(ISNUMBER(D50),D50/D$50*100,"") -> 100 | F50: =IF(SUM(F45:F49)>0,SUM(F45:F49),"") -> 628.43702 | G50: =IF(ISNUMBER(F50),F50/F$50*100,"") -> 100 | H50: =IF(SUM(H45:H49)>0,SUM(H45:H49),"") -> 28231.324 | I50: =IF(ISNUMBER(H50),H50/H$50*100,"") -> 100 | J50: =IF(SUM(J45:J49)>0,SUM(J45:J49),"") -> 52111.931 | K50: =IF(ISNUMBER(J50),J50/J$50*100,"") -> 100 | L50: =IF(SUM(L45:L49)>0,SUM(L45:L49),"") -> 25137.481 | M50: =IF(ISNUMBER(L50),L50/L$50*100,"") -> 100 | N50: =IF(SUM(N45:N49)>0,SUM(N45:N49),"") -> 5269.2027 | O50: =IF(ISNUMBER(N50),N50/N$50*100,"") -> 100 | P50: =IF(SUM(P45:P49)>0,SUM(P45:P49),"") -> 82518.614 | Q50: =IF(ISNUMBER(P50),P50/P$50*100,"") -> 100 | R50: =IF(SUM(R45:R49)>0,SUM(R45:R49),"") -> 189256.22 | S50: =IF(ISNUMBER(R50),R50/R$50*100,"") -> 100 | T50: =IF(SUM(T45:T49)>0,SUM(T45:T49),"") -> 41138.454 | U50: =IF(ISNUMBER(T50),T50/T$50*100,"") -> 100 | V50: =IF(SUM(V45:V49)>0,SUM(V45:V49),"") -> 6767.7833 | W50: =IF(ISNUMBER(V50),V50/V$50*100,"") -> 100 | X50: =IF(SUM(X45:X49)>0,SUM(X45:X49),"") -> 237162.46 | Y50: =IF(ISNUMBER(X50),X50/X$50*100,"") -> 100
R51: （注） | S51: 1. ( )の数値は各合計を100とした場合の構成比
