Workbook
Name ______________________ＴＢＬ１: [1]CSS編集画面!$B$10:$F$22
Name ______________________ＴＢＬ２: [1]CSS編集画面!$B$24:$I$35
Name _____________________ＴＢＬ１: [1]CSS編集画面!$B$10:$F$22
Name _____________________ＴＢＬ２: [1]CSS編集画面!$B$24:$I$35
Name ____________________ＴＢＬ１: [1]CSS編集画面!$B$10:$F$22
Name ____________________ＴＢＬ２: [1]CSS編集画面!$B$24:$I$35
Name ___________________ＴＢＬ１: [1]CSS編集画面!$B$10:$F$22
Name ___________________ＴＢＬ２: [1]CSS編集画面!$B$24:$I$35
Name __________________ＴＢＬ１: [1]CSS編集画面!$B$10:$F$22
Name __________________ＴＢＬ２: [1]CSS編集画面!$B$24:$I$35
Name _________________ＴＢＬ１: [1]CSS編集画面!$B$10:$F$22
Name _________________ＴＢＬ２: [1]CSS編集画面!$B$24:$I$35
Name ________________ＴＢＬ１: [1]CSS編集画面!$B$10:$F$22
Name ________________ＴＢＬ２: [1]CSS編集画面!$B$24:$I$35
Name _______________ＴＢＬ１: [1]CSS編集画面!$B$10:$F$22
Name _______________ＴＢＬ２: [1]CSS編集画面!$B$24:$I$35
Name ______________ＴＢＬ１: [1]CSS編集画面!$B$10:$F$22
Name ______________ＴＢＬ２: [1]CSS編集画面!$B$24:$I$35
Name _____________ＴＢＬ１: [1]CSS編集画面!$B$10:$F$22
Name _____________ＴＢＬ２: [1]CSS編集画面!$B$24:$I$35
Name ____________ＴＢＬ１: [1]CSS編集画面!$B$10:$F$22
Name ____________ＴＢＬ２: [1]CSS編集画面!$B$24:$I$35
Name ___________ＴＢＬ１: [1]CSS編集画面!$B$10:$F$22
Name ___________ＴＢＬ２: [1]CSS編集画面!$B$24:$I$35
Name __________ＴＢＬ１: [1]CSS編集画面!$B$10:$F$22
Name __________ＴＢＬ２: [1]CSS編集画面!$B$24:$I$35
Name _________ＴＢＬ１: [1]CSS編集画面!$B$10:$F$22
Name _________ＴＢＬ２: [1]CSS編集画面!$B$24:$I$35
Name ________ＴＢＬ１: [1]CSS編集画面!$B$10:$F$22
Name ________ＴＢＬ２: [1]CSS編集画面!$B$24:$I$35
Name _______ＴＢＬ１: [1]CSS編集画面!$B$10:$F$22
Name _______ＴＢＬ２: [1]CSS編集画面!$B$24:$I$35
Name ______ＴＢＬ１: [1]CSS編集画面!$B$10:$F$22
Name ______ＴＢＬ２: [1]CSS編集画面!$B$24:$I$35
Name _____ＴＢＬ１: [1]CSS編集画面!$B$10:$F$22
Name _____ＴＢＬ２: [1]CSS編集画面!$B$24:$I$35
Name ____ＴＢＬ１: [1]CSS編集画面!$B$10:$F$22
Name ____ＴＢＬ２: [1]CSS編集画面!$B$24:$I$35
Name ___ＴＢＬ１: [1]CSS編集画面!$B$10:$F$22
Name ___ＴＢＬ２: [1]CSS編集画面!$B$24:$I$35
Name __ＴＢＬ１: [1]CSS編集画面!$B$10:$F$22
Name __ＴＢＬ２: [1]CSS編集画面!$B$24:$I$35
Name _ＴＢＬ１: [1]CSS編集画面!$B$10:$F$22
Name _ＴＢＬ２: [1]CSS編集画面!$B$24:$I$35
Name PAGE1: #REF!
Name PAGE10: #REF!
Name PAGE100: #REF!
Name PAGE1000: #REF!
Name PAGE1001: #REF!
Name PAGE1002: #REF!
Name PAGE1003: #REF!
Name PAGE1004: #REF!
Name PAGE1005: #REF!
Name PAGE1006: #REF!
Name PAGE1007: #REF!
Name PAGE1008: #REF!
Name PAGE1009: #REF!
Name PAGE101: #REF!
Name PAGE1010: #REF!
Name PAGE1011: #REF!

Sheet 2-10-1
A1: 表2－10－1 公共工事受注比率
L3: （単位：％）
B4: 資本金 | C4: 個 人 | D4: 法 人 | L4: 合計
A5: 業種 | D5: 500万円未満 | E5: 500万円以上 1000万円未満 | F5: 1000万円以上 3000万円未満 | G5: 3000万円以上 5000万円未満 | H5: 5000万円以上 1億円未満 | I5: 1億円以上 3億円未満 | J5: 3億円以上 10億円未満 | K5: 10億円以上
A6: 一般土木建築 | B6: 一般土木建築工事業 | C6: 46.230492 | D6: 45.738268 | E6: 76.131132 | F6: 48.138159 | G6: 74.573548 | H6: 67.432448 | I6: 52.329115 | J6: 51.45097 | K6: 38.913019 | L6: 58.894103
A7: 土木 | B7: 土木工事業 | C7: 49.715729 | D7: 48.898731 | E7: 45.455691 | F7: 67.442677 | G7: 72.234834 | H7: 76.226829 | I7: 49.760041 | J7: 65.418053 | K7: 61.613587 | L7: 59.140911
B8: ほ装工事業 | C8: 43.4375 | D8: 19.983127 | E8: 44.391492 | F8: 63.348603 | G8: 67.008846 | H8: 76.272783 | I8: 70.749007 | K8: 58.924401 | L8: 49.132553
B9: しゅんせつ工事業 | E9: 100 | F9: 81.457801 | G9: 46.751368 | H9: 83.176471 | L9: 83.831717
B10: 造園工事業 | C10: 0 | D10: 41.527387 | E10: 33.778278 | F10: 40.562218 | G10: 47.01659 | H10: 50.142122 | L10: 33.18192
B11: 水道施設工事業 | C11: 0 | D11: 47.471068 | E11: 65.334081 | F11: 74.599178 | G11: 79.518713 | H11: 89.777694 | I11: 89.738431 | L11: 64.439931
A12: 小 計 | C12: 40.819702 | D12: 39.488533 | E12: 46.101216 | F12: 61.937815 | G12: 66.191886 | H12: 73.550692 | I12: 53.57381 | J12: 65.418053 | K12: 61.314788 | L12: 53.605602
A13: 建築 | B13: 建築工事業 | C13: 20.491133 | D13: 1.4515906 | E13: 10.245649 | F13: 18.577234 | G13: 18.764168 | H13: 23.943519 | I13: 13.321201 | J13: 12.293949 | K13: 8.1593662 | L13: 12.948829
B14: 木造建築工事業 | C14: 0 | D14: 1.817689 | E14: 4.4168014 | F14: 2.0794787 | G14: 2.0783214 | H14: 1.5774125 | I14: 0.041137753 | J14: 4.4407895 | K14: 0 | L14: 1.7493
A15: 小 計 | C15: 12.977718 | D15: 1.6378512 | E15: 7.0729849 | F15: 12.441705 | G15: 13.033675 | H15: 17.592649 | I15: 9.9305465 | J15: 11.901291 | K15: 6.7994719 | L15: 8.8250912
A16: 職別 | B16: 大工工事業 | C16: 0.76190476 | D16: 20.363774 | E16: 20.330862 | F16: 15.244294 | G16: 13.690794 | H16: 9.6660724 | I16: 0 | L16: 13.328622
B17: とび・土工・コンクリート工事業 | C17: 54.068604 | D17: 24.53769 | E17: 34.050888 | F17: 34.102922 | G17: 40.208894 | H17: 41.041093 | I17: 48.46032 | J17: 32.361427 | K17: 57.006679 | L17: 31.700346
B18: 鋼構造物工事業 | C18: 1.6666667 | D18: 8.8975771 | E18: 7.2524769 | F18: 14.768369 | G18: 19.150078 | H18: 16.633602 | I18: 55.893504 | J18: 20.192989 | K18: 43.25627 | L18: 11.255943
B19: 鉄筋工事業 | C19: 36.852476 | D19: 25.040842 | E19: 19.300572 | F19: 19.174578 | G19: 21.247317 | H19: 23.152339 | L19: 28.385106
B20: 解体工事業 | C20: 100 | D20: 14.483848 | E20: 0 | F20: 17.103669 | G20: 14.10304 | H20: 16.847993 | I20: 35.16129 | L20: 20.453441
B21: 躯体関係計 | C21: 24.093241 | D21: 20.938623 | E21: 23.290868 | F21: 23.631756 | G21: 27.650359 | H21: 27.434516 | I21: 44.776112 | J21: 28.305281 | K21: 48.756433 | L21: 22.77847
B22: 左官工事業 | C22: 25.057604 | D22: 17.147787 | E22: 24.516802 | F22: 17.141177 | G22: 2.5277325 | H22: 13.036304 | L22: 20.366488
B23: 石工事業 | D23: 16.666667 | E23: 0 | F23: 1.9169829 | G23: 0 | H23: 20.234531 | L23: 8.4853643
B24: 屋根工事業 | C24: 12.839506 | D24: 10.434083 | E24: 1.5453869 | F24: 8.1121914 | G24: 6.3038712 | H24: 0.034340659 | L24: 8.3152498
B25: タイル・れんが・ブロック工事業 | C25: 0 | D25: 5.6317896 | E25: 9.5056689 | F25: 12.251676 | G25: 7.2367036 | H25: 15.888629 | I25: 14.787625 | L25: 8.6501906
B26: 板金工事業 | C26: 1.8693947 | D26: 7.132796 | E26: 8.7040033 | F26: 6.8321115 | G26: 7.7108781 | H26: 26.308985 | I26: 0 | L26: 6.3473132
B27: ガラス工事業 | D27: 0 | E27: 0 | F27: 9.0920288 | G27: 0 | H27: 5.9000535 | L27: 4.5993603
B28: 塗装工事業 | C28: 17.06966 | D28: 21.068672 | E28: 23.64428 | F28: 38.747697 | G28: 38.522429 | H28: 36.113481 | I28: 11.508395 | J28: 0.14985015 | L28: 23.350974
B29: 防水工事業 | C29: 1.0869565 | D29: 14.91938 | E29: 24.614268 | F29: 22.092304 | G29: 17.924112 | H29: 13.419165 | I29: 15.893696 | L29: 17.987348
B30: 内装仕上工事業 | C30: 13.095238 | D30: 4.2583077 | E30: 4.7275542 | F30: 13.900904 | G30: 11.052595 | H30: 9.8213986 | I30: 0.070086171 | J30: 9.8904445 | K30: 16.165184 | L30: 9.2352499
B31: 建具工事業 | C31: 28.947368 | D31: 15.214907 | E31: 11.383994 | F31: 5.8098619 | G31: 8.3279513 | H31: 21.737571 | I31: 0 | L31: 14.210329
B32: 仕上関係計 | C32: 7.4745301 | D32: 10.730311 | E32: 11.99045 | F32: 15.189627 | G32: 16.045023 | H32: 19.126951 | I32: 6.404275 | J32: 6.6435797 | K32: 16.165184 | L32: 11.243216
A33: 小 計 | C33: 12.927545 | D33: 14.895302 | E33: 17.080968 | F33: 18.484642 | G33: 21.007996 | H33: 23.328115 | I33: 26.752977 | J33: 17.47443 | K33: 43.324558 | L33: 15.844942
A34: 設備 | B34: 電気工事業 | C34: 27.086122 | D34: 18.309768 | E34: 14.892526 | F34: 27.798609 | G34: 39.224263 | H34: 29.302113 | I34: 14.609755 | J34: 3.4740747 | K34: 9.7978142 | L34: 22.38204
B35: 管工事業 | C35: 21.710346 | D35: 10.138717 | E35: 15.121161 | F35: 29.597052 | G35: 30.110558 | H35: 30.08763 | I35: 11.214392 | J35: 9.1319681 | K35: 18.758814 | L35: 18.918143
B36: 機械器具設置工事 | C36: 0 | D36: 31.499423 | E36: 14.225797 | F36: 29.35667 | G36: 21.602295 | H36: 20.316113 | I36: 18.056433 | J36: 2.1509534 | K36: 0.1353937 | L36: 25.804498
B37: 熱絶縁工事 | C37: 2.6455026 | D37: 6.1735998 | E37: 16.666667 | F37: 6.4749274 | G37: 13.055561 | H37: 2.651511 | J37: 0 | L37: 7.4896185
B38: 電気通信工事 | C38: 9.5238095 | D38: 7.0599586 | E38: 12.511335 | F38: 19.192219 | G38: 20.410613 | H38: 13.150818 | I38: 5.3272198 | J38: 4.5799499 | K38: 9.1517398 | L38: 13.04662
B39: さく井工事業 | C39: 1.6483516 | D39: 13.404749 | E39: 21.410195 | F39: 26.922878 | G39: 15.910906 | H39: 99.047619 | L39: 20.950581
B40: 消防施設工事業 | C40: 0 | D40: 7.3565556 | E40: 0 | F40: 25.269212 | G40: 5.5987445 | H40: 17.420147 | I40: 0 | L40: 12.076626
A41: 小 計 | C41: 13.17717 | D41: 13.491395 | E41: 15.564719 | F41: 25.813772 | G41: 28.743102 | H41: 25.031984 | I41: 12.572516 | J41: 5.5340917 | K41: 13.630759 | L41: 18.043901
...

Sheet 2-10-2
A1: 表2－10－2 公共工事受注比率（経年変化）
V3: （単位：％）
B4: 資本金 | C4: 個 人 | E4: 法 人 | U4: 合 計
A5: 年度 | E5: 500万円未満 | G5: 500万円以上 1000万円未満 | I5: 1000万円以上 3000万円未満 | K5: 3000万円以上 5000万円未満 | M5: 5000万円以上 1億円未満 | O5: 1億円以上 3億円未満 | Q5: 3億円以上 10億円未満 | S5: 10億円以上
A6: R06年度 | C6: ='2-10-1'!C42 -> 15.812994 | E6: ='2-10-1'!D42 -> 16.581237 | G6: ='2-10-1'!E42 -> 20.073279 | I6: ='2-10-1'!F42 -> 26.553446 | K6: ='2-10-1'!G42 -> 32.885098 | M6: ='2-10-1'!H42 -> 34.511563 | O6: ='2-10-1'!I42 -> 28.476312 | Q6: ='2-10-1'!J42 -> 18.877317 | S6: ='2-10-1'!K42 -> 31.799853 | U6: ='2-10-1'!L42 -> 21.102555
B7: 増減 | D7: =C6-C8 -> 2.0644712 | F7: =E6-E8 -> -2.9414168 | H7: =G6-G8 -> -0.10823572 | J7: =I6-I8 -> 2.4379181 | L7: =K6-K8 -> 5.0557833 | N7: =M6-M8 -> 1.2698923 | P7: =O6-O8 -> 11.272045 | R7: =Q6-Q8 -> -2.2337895 | T7: =S6-S8 -> 10.790327 | V7: =U6-U8 -> -2.613993
A8: R01年度 | C8: 13.748523 | E8: 19.522654 | G8: 20.181515 | I8: 24.115528 | K8: 27.829315 | M8: 33.24167 | O8: 17.204267 | Q8: 21.111107 | S8: 21.009526 | U8: 23.716548
B9: 増減 | D9: =C8-C10 -> -9.4531566 | F9: =E8-E10 -> 0.37014282 | H9: =G8-G10 -> 1.094514 | J9: =I8-I10 -> -3.2670235 | L9: =K8-K10 -> -6.2006787 | N9: =M8-M10 -> 3.3305927 | P9: =O8-O10 -> 12.270549 | R9: =Q8-Q10 -> 2.7684317 | T9: =S8-S10 -> 1.7308256 | V9: =U8-U10 -> 2.112193
A10: H26年度 | C10: 23.201679 | E10: 19.152511 | G10: 19.087001 | I10: 27.382551 | K10: 34.029994 | M10: 29.911078 | O10: 4.9337181 | Q10: 18.342675 | S10: 19.278701 | U10: 21.604355
B11: 増減 | D11: =C10-C12 -> 12.162714 | F11: =E10-E12 -> -1.121108 | H11: =G10-G12 -> -7.1789482 | J11: =I10-I12 -> -4.0280592 | L11: =K10-K12 -> -12.108366 | N11: =M10-M12 -> -3.3641909 | P11: =O10-O12 -> -25.754632 | R11: =Q10-Q12 -> -8.1581924 | T11: =S10-S12 -> -6.6554765 | V11: =U10-U12 -> -8.7884765
A12: H23年度 | C12: 11.038965 | E12: 20.273619 | G12: 26.265949 | I12: 31.410611 | K12: 46.13836 | M12: 33.275269 | O12: 30.68835 | Q12: 26.500868 | S12: 25.934177 | U12: 30.392831
B13: 増減 | D13: =C12-C14 -> -13.061035 | F13: =E12-E14 -> 2.8736191 | H13: =G12-G14 -> 0.56594933 | J13: =I12-I14 -> 1.5106107 | L13: =K12-K14 -> 5.3383598 | N13: =M12-M14 -> 1.7752685 | P13: =O12-O14 -> 3.6883497 | R13: =Q12-Q14 -> 3.0008675 | T13: =S12-S14 -> 9.5341771 | V13: =U12-U14 -> 4.5928312
A14: H20年度 | C14: 24.1 | E14: 17.4 | G14: 25.7 | I14: 29.9 | K14: 40.8 | M14: 31.5 | O14: 27 | Q14: 23.5 | S14: 16.4 | U14: 25.8
B15: 増減 | D15: =C14-C16 -> 6.2 | F15: =E14-E16 -> -7.2 | H15: =G14-G16 -> -3.8 | J15: =I14-I16 -> -8.7 | L15: =K14-K16 -> -12.1 | N15: =M14-M16 -> -14.5 | P15: =O14-O16 -> -10.2 | R15: =Q14-Q16 -> -11.1 | T15: =S14-S16 -> -19.4 | V15: =U14-U16 -> -5.6
A16: H17年度 | C16: 17.9 | E16: 24.6 | G16: 29.5 | I16: 38.6 | K16: 52.9 | M16: 46 | O16: 37.2 | Q16: 34.6 | S16: 35.8 | U16: 31.4
Q17: =T60
X20: （単位：％）
G21: 年度 | H21: R06年度 | K21: R01年度 | N21: H26年度 | Q21: H23年度 | T21: H20年度 | W21: H17年度
A22: 業種 | J22: 増減 | M22: 増減 | P22: 増減 | S22: 増減 | V22: 増減
A23: 一般土木建築 | C23: 一般土木建築工事業 | H23: ='2-10-1'!L6 -> 58.894103 | J23: =H23-K23 -> 20.874937 | K23: 38.019166 | M23: =K23-N23 -> 0.31291199 | N23: 37.706254 | P23: =N23-Q23 -> -0.56174144 | Q23: 38.267996 | S23: =Q23-T23 -> 0.66799559 | T23: 37.6 | V23: =T23-W23 -> -18 | W23: 55.6
A24: 土木 | C24: 土木工事業 | H24: ='2-10-1'!L7 -> 59.140911 | J24: =H24-K24 -> 15.242367 | K24: 43.898543 | M24: =K24-N24 -> -14.670301 | N24: 58.568844 | P24: =N24-Q24 -> -9.3004153 | Q24: 67.86926 | S24: =Q24-T24 -> -3.5307405 | T24: 71.4 | V24: =T24-W24 -> 1.3 | W24: 70.1
C25: ほ装工事業 | H25: ='2-10-1'!L8 -> 49.132553 | J25: =H25-K25 -> -9.8171934 | K25: 58.949747 | M25: =K25-N25 -> 2.1615937 | N25: 56.788153 | P25: =N25-Q25 -> -9.9717235 | Q25: 66.759876 | S25: =Q25-T25 -> 0.25987646 | T25: 66.5 | V25: =T25-W25 -> 6.1 | W25: 60.4
C26: しゅんせつ工事業 | H26: ='2-10-1'!L9 -> 83.831717 | J26: =H26-K26 -> 5.5667945 | K26: 78.264922 | M26: =K26-N26 -> 5.8199667 | N26: 72.444956 | P26: =N26-Q26 -> -1.2355542 | Q26: 73.68051 | S26: =Q26-T26 -> -8.9194902 | T26: 82.6 | V26: =T26-W26 -> 19.4 | W26: 63.2
C27: 造園工事業 | H27: ='2-10-1'!L10 -> 33.18192 | J27: =H27-K27 -> -15.387474 | K27: 48.569394 | M27: =K27-N27 -> 13.045539 | N27: 35.523854 | P27: =N27-Q27 -> -10.067661 | Q27: 45.591515 | S27: =Q27-T27 -> 4.3915151 | T27: 41.2 | V27: =T27-W27 -> 0.5 | W27: 40.7
C28: 水道施設工事業 | H28: ='2-10-1'!L11 -> 64.439931 | J28: =H28-K28 -> -18.693883 | K28: 83.133814 | M28: =K28-N28 -> 16.945738 | N28: 66.188076 | P28: =N28-Q28 -> -0.14103338 | Q28: 66.32911 | S28: =Q28-T28 -> -9.2708903 | T28: 75.6 | V28: =T28-W28 -> 18.2 | W28: 57.4
A29: 小 計 | H29: ='2-10-1'!L12 -> 53.605602 | J29: =H29-K29 -> 7.0927709 | K29: 46.512831 | M29: =K29-N29 -> -11.469304 | N29: 57.982135 | P29: =N29-Q29 -> -9.0774754 | Q29: 67.05961 | S29: =Q29-T29 -> -3.0403895 | T29: 70.1 | V29: =T29-W29 -> 3.4 | W29: 66.7
A30: 建築 | C30: 建築工事業 | H30: ='2-10-1'!L13 -> 12.948829 | J30: =H30-K30 -> -2.4564331 | K30: 15.405262 | M30: =K30-N30 -> 2.1658597 | N30: 13.239402 | P30: =N30-Q30 -> -5.7080671 | Q30: 18.947469 | S30: =Q30-T30 -> 6.0474695 | T30: 12.9 | V30: =T30-W30 -> -1.2 | W30: 14.1
C31: 木造建築工事業 | H31: ='2-10-1'!L14 -> 1.7493 | J31: =H31-K31 -> -1.2082133 | K31: 2.9575133 | M31: =K31-N31 -> 0.68144015 | N31: 2.2760732 | P31: =N31-Q31 -> -0.91304453 | Q31: 3.1891177 | S31: =Q31-T31 -> -0.7108823 | T31: 3.9 | V31: =T31-W31 -> -2.9 | W31: 6.8
A32: 小 計 | H32: ='2-10-1'!L15 -> 8.8250912 | J32: =H32-K32 -> -5.3004553 | K32: 14.125546 | M32: =K32-N32 -> 2.5846271 | N32: 11.540919 | P32: =N32-Q32 -> -5.0728681 | Q32: 16.613787 | S32: =Q32-T32 -> 4.5137875 | T32: 12.1 | V32: =T32-W32 -> 0.1 | W32: 12
A33: 職別 | C33: 大工工事業 | H33: ='2-10-1'!L16 -> 13.328622 | J33: =H33-K33 -> 0.45453708 | K33: 12.874085 | M33: =K33-N33 -> 2.6491902 | N33: 10.224895 | P33: =N33-Q33 -> -5.849595 | Q33: 16.07449 | S33: =Q33-T33 -> -8.3255098 | T33: 24.4 | V33: =T33-W33 -> 1.4 | W33: 23
C34: とび・土工・コンクリート工事業 | H34: ='2-10-1'!L17 -> 31.700346 | J34: =H34-K34 -> 0.66864545 | K34: 31.0317 | M34: =K34-N34 -> -5.419687 | N34: 36.451387 | P34: =N34-Q34 -> 4.0847426 | Q34: 32.366645 | S34: =Q34-T34 -> -0.23335521 | T34: 32.6 | V34: =T34-W34 -> -3.8 | W34: 36.4
C35: 鋼構造物工事業 | H35: ='2-10-1'!L18 -> 11.255943 | J35: =H35-K35 -> -9.2779008 | K35: 20.533844 | M35: =K35-N35 -> -5.0375724 | N35: 25.571417 | P35: =N35-Q35 -> -4.9763538 | Q35: 30.54777 | S35: =Q35-T35 -> 6.9477705 | T35: 23.6 | V35: =T35-W35 -> 4.3 | W35: 19.3
C36: 鉄筋工事業 | H36: ='2-10-1'!L19 -> 28.385106 | J36: =H36-K36 -> 4.5588775 | K36: 23.826228 | M36: =K36-N36 -> -7.7567947 | N36: 31.583023 | P36: =N36-Q36 -> -0.72547992 | Q36: 32.308503 | S36: =Q36-T36 -> 15.108503 | T36: 17.2 | V36: =T36-W36 -> -13.8 | W36: 31
C37: 解体工事業 | H37: ='2-10-1'!L20 -> 20.453441 | J37: =H37-K37 -> -4.0011142 | K37: 24.454555 | M37: - | N37: - | P37: - | Q37: - | S37: - | T37: - | V37: - | W37: -
G38: 躯体関係計 | H38: ='2-10-1'!L21 -> 22.77847 | J38: =H38-K38 -> -1.8225933 | K38: 24.601063 | M38: =K38-N38 -> -5.1106571 | N38: 29.71172 | P38: =N38-Q38 -> -0.13040334 | Q38: 29.842124 | S38: =Q38-T38 -> 3.0421237 | T38: 26.8 | V38: =T38-W38 -> -2.4 | W38: 29.2
C39: 左官工事業 | H39: ='2-10-1'!L22 -> 20.366488 | J39: =H39-K39 -> 4.2958374 | K39: 16.070651 | M39: =K39-N39 -> -1.6292426 | N39: 17.699893 | P39: =N39-Q39 -> 2.0899791 | Q39: 15.609914 | S39: =Q39-T39 -> 4.3099141 | T39: 11.3 | V39: =T39-W39 -> -0.5 | W39: 11.8
C40: 石工事業 | H40: ='2-10-1'!L23 -> 8.4853643 | J40: =H40-K40 -> -3.5804476 | K40: 12.065812 | M40: =K40-N40 -> 5.2900547 | N40: 6.7757572 | P40: =N40-Q40 -> -7.2532716 | Q40: 14.029029 | S40: =Q40-T40 -> 7.0290288 | T40: 7 | V40: =T40-W40 -> -6.7 | W40: 13.7
C41: 屋根工事業 | H41: ='2-10-1'!L24 -> 8.3152498 | J41: =H41-K41 -> -3.4951699 | K41: 11.81042 | M41: =K41-N41 -> -1.2969191 | N41: 13.107339 | P41: =N41-Q41 -> 5.7910999 | Q41: 7.3162388 | S41: =Q41-T41 -> 0.4162388 | T41: 6.9 | V41: =T41-W41 -> -0.1 | W41: 7
C42: タイル・れんが・ブロック工事業 | H42: ='2-10-1'!L25 -> 8.6501906 | J42: =H42-K42 -> 4.2183906 | K42: 4.4318 | M42: =K42-N42 -> -5.8908341 | N42: 10.322634 | P42: =N42-Q42 -> -0.243065 | Q42: 10.565699 | S42: =Q42-T42 -> 6.8656991 | T42: 3.7 | V42: =T42-W42 -> -10.4 | W42: 14.1
C43: 板金工事業 | H43: ='2-10-1'!L26 -> 6.3473132 | J43: =H43-K43 -> -1.1551179 | K43: 7.5024311 | M43: =K43-N43 -> -3.1448628 | N43: 10.647294 | P43: =N43-Q43 -> 0.042311569 | Q43: 10.604982 | S43: =Q43-T43 -> 0.70498231 | T43: 9.9 | V43: =T43-W43 -> 2.3 | W43: 7.6
...
