Workbook
Name ______________________ＴＢＬ１: [1]CSS編集画面!$B$10:$F$22
Name ______________________ＴＢＬ２: [1]CSS編集画面!$B$24:$I$35
Name _____________________ＴＢＬ１: [1]CSS編集画面!$B$10:$F$22
Name _____________________ＴＢＬ２: [1]CSS編集画面!$B$24:$I$35
Name ____________________ＴＢＬ１: [1]CSS編集画面!$B$10:$F$22
Name ____________________ＴＢＬ２: [1]CSS編集画面!$B$24:$I$35
Name ___________________ＴＢＬ１: [1]CSS編集画面!$B$10:$F$22
Name ___________________ＴＢＬ２: [1]CSS編集画面!$B$24:$I$35
Name __________________ＴＢＬ１: [1]CSS編集画面!$B$10:$F$22
Name __________________ＴＢＬ２: [1]CSS編集画面!$B$24:$I$35
Name _________________ＴＢＬ１: [1]CSS編集画面!$B$10:$F$22
Name _________________ＴＢＬ２: [1]CSS編集画面!$B$24:$I$35
Name ________________ＴＢＬ１: [1]CSS編集画面!$B$10:$F$22
Name ________________ＴＢＬ２: [1]CSS編集画面!$B$24:$I$35
Name _______________ＴＢＬ１: [1]CSS編集画面!$B$10:$F$22
Name _______________ＴＢＬ２: [1]CSS編集画面!$B$24:$I$35
Name ______________ＴＢＬ１: [1]CSS編集画面!$B$10:$F$22
Name ______________ＴＢＬ２: [1]CSS編集画面!$B$24:$I$35
Name _____________ＴＢＬ１: [1]CSS編集画面!$B$10:$F$22
Name _____________ＴＢＬ２: [1]CSS編集画面!$B$24:$I$35
Name ____________ＴＢＬ１: [1]CSS編集画面!$B$10:$F$22
Name ____________ＴＢＬ２: [1]CSS編集画面!$B$24:$I$35
Name ___________ＴＢＬ１: [1]CSS編集画面!$B$10:$F$22
Name ___________ＴＢＬ２: [1]CSS編集画面!$B$24:$I$35
Name __________ＴＢＬ１: [1]CSS編集画面!$B$10:$F$22
Name __________ＴＢＬ２: [1]CSS編集画面!$B$24:$I$35
Name _________ＴＢＬ１: [1]CSS編集画面!$B$10:$F$22
Name _________ＴＢＬ２: [1]CSS編集画面!$B$24:$I$35
Name ________ＴＢＬ１: [1]CSS編集画面!$B$10:$F$22
Name ________ＴＢＬ２: [1]CSS編集画面!$B$24:$I$35
Name _______ＴＢＬ１: [1]CSS編集画面!$B$10:$F$22
Name _______ＴＢＬ２: [1]CSS編集画面!$B$24:$I$35
Name ______ＴＢＬ１: [1]CSS編集画面!$B$10:$F$22
Name ______ＴＢＬ２: [1]CSS編集画面!$B$24:$I$35
Name _____ＴＢＬ１: [1]CSS編集画面!$B$10:$F$22
Name _____ＴＢＬ２: [1]CSS編集画面!$B$24:$I$35
Name ____ＴＢＬ１: [1]CSS編集画面!$B$10:$F$22
Name ____ＴＢＬ２: [1]CSS編集画面!$B$24:$I$35
Name ___ＴＢＬ１: [1]CSS編集画面!$B$10:$F$22
Name ___ＴＢＬ２: [1]CSS編集画面!$B$24:$I$35
Name __ＴＢＬ１: [1]CSS編集画面!$B$10:$F$22
Name __ＴＢＬ２: [1]CSS編集画面!$B$24:$I$35
Name _ＴＢＬ１: [1]CSS編集画面!$B$10:$F$22
Name _ＴＢＬ２: [1]CSS編集画面!$B$24:$I$35
Name PAGE1: #REF!
Name PAGE10: #REF!
Name PAGE100: #REF!
Name PAGE1000: #REF!
Name PAGE1001: #REF!
Name PAGE1002: #REF!
Name PAGE1003: #REF!
Name PAGE1004: #REF!
Name PAGE1005: #REF!
Name PAGE1006: #REF!
Name PAGE1007: #REF!
Name PAGE1008: #REF!
Name PAGE1009: #REF!
Name PAGE101: #REF!
Name PAGE1010: #REF!
Name PAGE1011: #REF!

Sheet 2-13-1
A1: 表2－13－1 1社あたりの平均貸倒償却額
W3: （単位：百万円、％）
C4: 資本金 | D4: 個 人 | F4: 法 人 | V4: 合 計
A5: 業種 | F5: 500万円未満 | H5: 500万円以上 1000万円未満 | J5: 1000万円以上 3000万円未満 | L5: 3000万円以上 5000万円未満 | N5: 5000万円以上 1億円未満 | P5: 1億円以上 3億円未満 | R5: 3億円以上 10億円未満 | T5: 10億円以上
A6: 一般土木建築 | B6: 一般土木 建築工事業 | C6: 貸倒損失額 | D6: 0.75 | E6: 100 | F6: 0 | G6: - | H6: 0 | I6: - | J6: 0.16 | K6: 80 | L6: 0.39473684 | M6: 48.387097 | N6: 0.27272727 | O6: 1.905972 | P6: 0.23809524 | Q6: 1.1481056 | R6: 3 | S6: 50 | T6: 0 | U6: 0 | V6: 0.22537468 | W6: 6.6634145
C7: 貸倒引当金繰入額 | D7: 0 | E7: 0 | F7: 0 | G7: - | H7: 0 | I7: - | J7: 0.04 | K7: 20 | L7: 0.42105263 | M7: 51.612903 | N7: 14.036364 | O7: 98.094028 | P7: 20.5 | Q7: 98.851894 | R7: 3 | S7: 50 | T7: 153.3 | U7: 100 | V7: 3.1568955 | W7: 93.336585
C8: 小 計 | D8: 0.75 | E8: 100 | F8: 0 | G8: - | H8: 0 | I8: - | J8: 0.2 | K8: 100 | L8: 0.81578947 | M8: 100 | N8: 14.309091 | O8: 100 | P8: 20.738095 | Q8: 100 | R8: 6 | S8: 100 | T8: 153.3 | U8: 100 | V8: 3.3822701 | W8: 100
A9: 土木 | B9: 土木工事業 | C9: 貸倒損失額 | D9: 0 | E9: - | F9: 0.041666667 | G9: 5.4054054 | H9: 11.864407 | I9: 87.5 | J9: 0.013157895 | K9: 50 | L9: 0 | M9: 0 | N9: 0 | O9: 0 | P9: 0 | Q9: 0 | R9: 0 | S9: - | T9: 0 | U9: 0 | V9: 2.3198159 | W9: 78.613346
C10: 貸倒引当金繰入額 | D10: 0 | E10: - | F10: 0.72916667 | G10: 94.594595 | H10: 1.6949153 | I10: 12.5 | J10: 0.013157895 | K10: 50 | L10: 0.2195122 | M10: 100 | N10: 0.23728814 | O10: 100 | P10: 18.28125 | Q10: 100 | R10: 0 | S10: - | T10: 86.5 | U10: 100 | V10: 0.63110274 | W10: 21.386654
C11: 小 計 | D11: 0 | E11: - | F11: 0.77083333 | G11: 100 | H11: 13.559322 | I11: 100 | J11: 0.026315789 | K11: 100 | L11: 0.2195122 | M11: 100 | N11: 0.23728814 | O11: 100 | P11: 18.28125 | Q11: 100 | R11: 0 | S11: - | T11: 86.5 | U11: 100 | V11: 2.9509186 | W11: 100
B12: ほ装工事業 | C12: 貸倒損失額 | D12: 0 | E12: - | F12: 0.034482759 | G12: 100 | H12: 0 | I12: - | J12: 0.047619048 | K12: 40 | L12: 0 | M12: 0 | N12: 0.064516129 | O12: 33.333333 | P12: 6.4 | Q12: 46.376812 | T12: 0 | U12: - | V12: 0.048160294 | W12: 45.289243
C13: 貸倒引当金繰入額 | D13: 0 | E13: - | F13: 0 | G13: 0 | H13: 0 | I13: - | J13: 0.071428571 | K13: 60 | L13: 0.043478261 | M13: 100 | N13: 0.12903226 | O13: 66.666667 | P13: 7.4 | Q13: 53.623188 | T13: 0 | U13: - | V13: 0.058179072 | W13: 54.710757
C14: 小 計 | D14: 0 | E14: - | F14: 0.034482759 | G14: 100 | H14: 0 | I14: - | J14: 0.11904762 | K14: 100 | L14: 0.043478261 | M14: 100 | N14: 0.19354839 | O14: 100 | P14: 13.8 | Q14: 100 | T14: 0 | U14: - | V14: 0.10633937 | W14: 100
B15: しゅんせつ 工事業 | C15: 貸倒損失額 | H15: 0 | I15: - | J15: 0 | K15: - | L15: 0 | M15: 0 | N15: 0 | O15: - | V15: 0 | W15: 0
C16: 貸倒引当金繰入額 | H16: 0 | I16: - | J16: 0 | K16: - | L16: 0.33333333 | M16: 100 | N16: 0 | O16: - | V16: 0.06 | W16: 100
C17: 小 計 | H17: 0 | I17: - | J17: 0 | K17: - | L17: 0.33333333 | M17: 100 | N17: 0 | O17: - | V17: 0.06 | W17: 100
B18: 造園工事業 | C18: 貸倒損失額 | D18: 0 | E18: - | F18: 0 | G18: - | H18: 0 | I18: - | J18: 0.021276596 | K18: 50 | L18: 0 | M18: 0 | N18: 0 | O18: 0 | V18: 0.0065126804 | W18: 22.905209
C19: 貸倒引当金繰入額 | D19: 0 | E19: - | F19: 0 | G19: - | H19: 0 | I19: - | J19: 0.021276596 | K19: 50 | L19: 0.10638298 | M19: 100 | N19: 0.58823529 | O19: 100 | V19: 0.021920505 | W19: 77.094791
C20: 小 計 | D20: 0 | E20: - | F20: 0 | G20: - | H20: 0 | I20: - | J20: 0.042553191 | K20: 100 | L20: 0.10638298 | M20: 100 | N20: 0.58823529 | O20: 100 | V20: 0.028433185 | W20: 100
B21: 水道施設 工事業 | C21: 貸倒損失額 | D21: 0 | E21: - | F21: 0 | G21: 0 | H21: 11.111111 | I21: 100 | J21: 0 | K21: 0 | L21: 3.40625 | M21: 18.890815 | N21: 0 | O21: - | P21: 0 | Q21: - | V21: 3.0232684 | W21: 68.38111
C22: 貸倒引当金繰入額 | D22: 0 | E22: - | F22: 0.076923077 | G22: 100 | H22: 0 | I22: 0 | J22: 0.16216216 | K22: 100 | L22: 14.625 | M22: 81.109185 | N22: 0 | O22: - | P22: 0 | Q22: - | V22: 1.3979357 | W22: 31.61889
C23: 小 計 | D23: 0 | E23: - | F23: 0.076923077 | G23: 100 | H23: 11.111111 | I23: 100 | J23: 0.16216216 | K23: 100 | L23: 18.03125 | M23: 100 | N23: 0 | O23: - | P23: 0 | Q23: - | V23: 4.4212041 | W23: 100
B24: 小 計 | C24: 貸倒損失額 | D24: 0 | E24: - | F24: 0.031578947 | G24: 7.6923077 | H24: 0.076190476 | I24: 88.888889 | J24: 0.019512195 | K24: 26.666667 | L24: 0.51904762 | M24: 18.076285 | N24: 0.017094017 | O24: 6.6666667 | P24: 0.84210526 | Q24: 4.8929664 | R24: 0 | S24: - | T24: 0 | U24: 0 | V24: 0.091017943 | W24: 16.013706
C25: 貸倒引当金繰入額 | D25: 0 | E25: - | F25: 0.37894737 | G25: 92.307692 | H25: 0.0095238095 | I25: 11.111111 | J25: 0.053658537 | K25: 73.333333 | L25: 2.352381 | M25: 81.923715 | N25: 0.23931624 | O25: 93.333333 | P25: 16.368421 | Q25: 95.107034 | R25: 0 | S25: - | T25: 76.888889 | U25: 100 | V25: 0.4773573 | W25: 83.986294
C26: 小 計 | D26: 0 | E26: - | F26: 0.41052632 | G26: 100 | H26: 0.085714286 | I26: 100 | J26: 0.073170732 | K26: 100 | L26: 2.8714286 | M26: 100 | N26: 0.25641026 | O26: 100 | P26: 17.210526 | Q26: 100 | R26: 0 | S26: - | T26: 76.888889 | U26: 100 | V26: 0.56837524 | W26: 100
A27: 建築 | B27: 建築工事業 | C27: 貸倒損失額 | D27: 0 | E27: - | F27: 2.5357143 | G27: 100 | H27: 13.888889 | I27: 62.5 | J27: 0.039473684 | K27: 33.333333 | L27: 0.076923077 | M27: 27.777778 | N27: 0.20689655 | O27: 22.641509 | P27: 0.085714286 | Q27: 3.030303 | R27: 5.1052632 | S27: 64.238411 | T27: 3.2 | U27: 6.6666667 | V27: 3.2745111 | W27: 66.485721
C28: 貸倒引当金繰入額 | D28: 0 | E28: - | F28: 0 | G28: 0 | H28: 8.3333333 | I28: 37.5 | J28: 0.078947368 | K28: 66.666667 | L28: 0.2 | M28: 72.222222 | N28: 0.70689655 | O28: 77.358491 | P28: 2.7428571 | Q28: 96.969697 | R28: 2.8421053 | S28: 35.761589 | T28: 44.8 | U28: 93.333333 | V28: 1.6506232 | W28: 33.514279
C29: 小 計 | D29: 0 | E29: - | F29: 2.5357143 | G29: 100 | H29: 22.222222 | I29: 100 | J29: 0.11842105 | K29: 100 | L29: 0.27692308 | M29: 100 | N29: 0.9137931 | O29: 100 | P29: 2.8285714 | Q29: 100 | R29: 7.9473684 | S29: 100 | T29: 48 | U29: 100 | V29: 4.9251343 | W29: 100
B30: 木造建築 工事業 | C30: 貸倒損失額 | D30: 0 | E30: - | F30: 0 | G30: - | H30: 0 | I30: - | J30: 0 | K30: - | L30: 0.058823529 | M30: 33.333333 | N30: 0 | O30: - | P30: 0.16666667 | Q30: 5.4054054 | R30: 1 | S30: 50 | T30: 0 | U30: - | V30: 0.0016596958 | W30: 14.394771
C31: 貸倒引当金繰入額 | D31: 0 | E31: - | F31: 0 | G31: - | H31: 0 | I31: - | J31: 0 | K31: - | L31: 0.11764706 | M31: 66.666667 | N31: 0 | O31: - | P31: 2.9166667 | Q31: 94.594595 | R31: 1 | S31: 50 | T31: 0 | U31: - | V31: 0.0098701563 | W31: 85.605229
C32: 小 計 | D32: 0 | E32: - | F32: 0 | G32: - | H32: 0 | I32: - | J32: 0 | K32: - | L32: 0.17647059 | M32: 100 | N32: 0 | O32: - | P32: 3.0833333 | Q32: 100 | R32: 2 | S32: 100 | T32: 0 | U32: - | V32: 0.011529852 | W32: 100
B33: 小 計 | C33: 貸倒損失額 | D33: 0 | E33: - | F33: 1.245614 | G33: 100 | H33: 0.063291139 | I33: 62.5 | J33: 0.024793388 | K33: 33.333333 | L33: 0.070707071 | M33: 29.166667 | N33: 0.14814815 | O33: 22.641509 | P33: 0.10638298 | Q33: 3.6764706 | R33: 4.9 | S33: 64.052288 | T33: 2.6666667 | U33: 6.6666667 | V33: 0.36087007 | W33: 82.476204
C34: 貸倒引当金繰入額 | D34: 0 | E34: - | F34: 0 | G34: 0 | H34: 0.037974684 | I34: 37.5 | J34: 0.049586777 | K34: 66.666667 | L34: 0.17171717 | M34: 70.833333 | N34: 0.50617284 | O34: 77.358491 | P34: 2.787234 | Q34: 96.323529 | R34: 2.75 | S34: 35.947712 | T34: 37.333333 | U34: 93.333333 | V34: 0.076674399 | W34: 17.523796
C35: 小 計 | D35: 0 | E35: - | F35: 1.245614 | G35: 100 | H35: 0.10126582 | I35: 100 | J35: 0.074380165 | K35: 100 | L35: 0.24242424 | M35: 100 | N35: 0.65432099 | O35: 100 | P35: 2.893617 | Q35: 100 | R35: 7.65 | S35: 100 | T35: 40 | U35: 100 | V35: 0.43754447 | W35: 100
A36: 職別 | B36: 大工工事業 | C36: 貸倒損失額 | D36: 0 | E36: - | F36: 0 | G36: - | H36: 0 | I36: 0 | J36: 0.042553191 | K36: 50 | L36: 0 | M36: 0 | N36: 0 | O36: 0 | P36: 14 | Q36: 70 | V36: 0.017071252 | W36: 3.4957843
C37: 貸倒引当金繰入額 | D37: 0 | E37: - | F37: 0 | G37: - | H37: 2.3809524 | I37: 100 | J37: 0.042553191 | K37: 50 | L37: 0.24 | M37: 100 | N37: 0.3125 | O37: 100 | P37: 6 | Q37: 30 | V37: 0.47126701 | W37: 96.504216
C38: 小 計 | D38: 0 | E38: - | F38: 0 | G38: - | H38: 2.3809524 | I38: 100 | J38: 0.085106383 | K38: 100 | L38: 0.24 | M38: 100 | N38: 0.3125 | O38: 100 | P38: 20 | Q38: 100 | V38: 0.48833826 | W38: 100
B39: とび・土工・ コンクリート 工事業 | C39: 貸倒損失額 | D39: 0 | E39: 0 | F39: 0.022222222 | G39: 3.7735849 | H39: 0 | I39: 0 | J39: 0.04 | K39: 26.315789 | L39: 0.076923077 | M39: 29.166667 | N39: 0.080645161 | O39: 8.4745763 | P39: 1.8888889 | Q39: 47.222222 | R39: 0 | S39: - | T39: 0 | U39: - | V39: 0.023537177 | W39: 3.9049697
C40: 貸倒引当金繰入額 | D40: 0.076923077 | E40: 100 | F40: 0.56666667 | G40: 96.226415 | H40: 1.1627907 | I40: 100 | J40: 0.112 | K40: 73.684211 | L40: 0.18681319 | M40: 70.833333 | N40: 0.87096774 | O40: 91.525424 | P40: 2.1111111 | Q40: 52.777778 | R40: 0 | S40: - | T40: 0 | U40: - | V40: 0.5792121 | W40: 96.09503
C41: 小 計 | D41: 0.076923077 | E41: 100 | F41: 0.58888889 | G41: 100 | H41: 1.1627907 | I41: 100 | J41: 0.152 | K41: 100 | L41: 0.26373626 | M41: 100 | N41: 0.9516129 | O41: 100 | P41: 4 | Q41: 100 | R41: 0 | S41: - | T41: 0 | U41: - | V41: 0.60274928 | W41: 100
...

Sheet 2-13-2
A1: 表2－13－2 1社あたりの平均貸倒償却額（経年変化）
V3: （単位：百万円、％）
B4: 資本金 | C4: 個人 | E4: 法 人 | U4: 合 計
A5: 年度 | E5: 500万円未満 | G5: 500万円以上 1000万円未満 | I5: 1000万円以上 3000万円未満 | K5: 3000万円以上 5000万円未満 | M5: 5000万円以上 1億円未満 | O5: 1億円以上 3億円未満 | Q5: 3億円以上 10億円未満 | S5: 10億円以上
A6: R06 年度 | B6: 貸倒損失額 | C6: ='2-13-1'!D114 -> 0.01171875 | D6: ='2-13-1'!E114 -> 33.333333 | E6: ='2-13-1'!F114 -> 0.1127907 | F6: ='2-13-1'!G114 -> 28.034682 | G6: ='2-13-1'!H114 -> 0.19148936 | H6: ='2-13-1'!I114 -> 87.931034 | I6: ='2-13-1'!J114 -> 0.067731629 | J6: ='2-13-1'!K114 -> 15.634218 | ... V6: ='2-13-1'!W114 -> 20.579135
B7: 貸倒引当金繰入額 | C7: ='2-13-1'!D115 -> 0.0234375 | D7: ='2-13-1'!E115 -> 66.666667 | E7: ='2-13-1'!F115 -> 0.28953488 | F7: ='2-13-1'!G115 -> 71.965318 | G7: ='2-13-1'!H115 -> 0.026282854 | H7: ='2-13-1'!I115 -> 12.068966 | I7: ='2-13-1'!J115 -> 0.36549521 | J7: ='2-13-1'!K115 -> 84.365782 | ... V7: ='2-13-1'!W115 -> 79.420865
C8: ='2-13-1'!D116 -> 0.03515625 | D8: ='2-13-1'!E116 -> 100 | E8: ='2-13-1'!F116 -> 0.40232558 | F8: ='2-13-1'!G116 -> 100 | G8: ='2-13-1'!H116 -> 0.21777222 | H8: ='2-13-1'!I116 -> 100 | I8: ='2-13-1'!J116 -> 0.43322684 | J8: ='2-13-1'!K116 -> 100 | ... V8: ='2-13-1'!W116 -> 100
A9: 増減 | B9: 貸倒損失額 | C9: =C6-C12 -> -0.10657855 | E9: =E6-E12 -> -0.064754002 | G9: =G6-G12 -> -0.04911616 | I9: =I6-I12 -> -0.25303121 | K9: =K6-K12 -> -0.12646784 | M9: =M6-M12 -> -0.48369779 | O9: =O6-O12 -> -0.38433627 | Q9: =Q6-Q12 -> 1.147632 | S9: =S6-S12 -> -20.688493 | U9: =U6-U12 -> -0.19336598
B10: 貸倒引当金繰入額 | C10: =C7-C13 -> -0.16948458 | E10: =E7-E13 -> 0.15333222 | G10: =G7-G13 -> -0.019975034 | I10: =I7-I13 -> -0.93278953 | K10: =K7-K13 -> -2.7415658 | M10: =M7-M13 -> -2.6141681 | O10: =O7-O13 -> 15.598472 | Q10: =Q7-Q13 -> 95.680472 | S10: =S7-S13 -> -613.88344 | U10: =U7-U13 -> -1.4789824
C11: =C8-C14 -> -0.27606313 | E11: =E8-E14 -> 0.088578223 | G11: =G8-G14 -> -0.069091193 | I11: =I8-I14 -> -1.1858207 | K11: =K8-K14 -> -2.8680336 | M11: =M8-M14 -> -3.0978659 | O11: =O8-O14 -> 15.214136 | Q11: =Q8-Q14 -> 96.828104 | S11: =S8-S14 -> -634.57194 | U11: =U8-U14 -> -1.6723484
A12: R01 年度 | B12: 貸倒損失額 | C12: 0.1182973 | D12: 38.010903 | E12: 0.1775447 | F12: 56.588429 | G12: 0.24060552 | H12: 83.874595 | I12: 0.32076284 | J12: 19.811823 | K12: 0.50644931 | L12: 12.691791 | M12: 0.62266236 | N12: 11.740399 | O12: 1.0300056 | P12: 10.508532 | Q12: 1.0075404 | R12: 10.683831 | S12: 23.654595 | T12: 3.1947562 | U12: 0.3107941 | V12: 13.85639
B13: 貸倒引当金繰入額 | C13: 0.19292208 | D13: 61.989097 | E13: 0.13620266 | F13: 43.411571 | G13: 0.046257887 | H13: 16.125405 | I13: 1.2982847 | J13: 80.188177 | K13: 3.4839198 | L13: 87.308209 | M13: 4.6809256 | N13: 88.259601 | O13: 8.7716069 | P13: 89.491468 | Q13: 8.422976 | R13: 89.316169 | S13: 716.7648 | T13: 96.805244 | U13: 1.9321717 | V13: 86.14361
C14: 0.31121938 | D14: 100 | E14: 0.31374736 | F14: 100 | G14: 0.28686341 | H14: 100 | I14: 1.6190476 | J14: 100 | K14: 3.9903691 | L14: 100 | M14: 5.3035879 | N14: 100 | O14: 9.8016125 | P14: 100 | Q14: 9.4305164 | R14: 100 | S14: 740.41939 | T14: 100 | U14: 2.2429658 | V14: 100
A15: 増減 | B15: 貸倒損失額 | C15: =C12-C18 -> 0.057197649 | E15: =E12-E18 -> 0.044241777 | G15: =G12-G18 -> 0.05342164 | I15: =I12-I18 -> -0.17410147 | K15: =K12-K18 -> -2.0767976 | M15: =M12-M18 -> -0.17374293 | O15: =O12-O18 -> -2.0452557 | Q15: =Q12-Q18 -> -4.3318347 | S15: =S12-S18 -> -44.009442 | U15: =U12-U18 -> -0.19651507
B16: 貸倒引当金繰入額 | C16: =C13-C19 -> 0.14287073 | E16: =E13-E19 -> 0.050730256 | G16: =G13-G19 -> -0.26364942 | I16: =I13-I19 -> 0.46267109 | K16: =K13-K19 -> 1.1358593 | M16: =M13-M19 -> -2.1794652 | O16: =O13-O19 -> 2.790306 | Q16: =Q13-Q19 -> -5.8791234 | S16: =S13-S19 -> 595.89182 | U16: =U13-U19 -> 1.1119277
C17: =C14-C20 -> 0.20006838 | E17: =E14-E20 -> 0.094972033 | G17: =G14-G20 -> -0.21022778 | I17: =I14-I20 -> 0.28856962 | K17: =K14-K20 -> -0.94093833 | M17: =M14-M20 -> -2.3532081 | O17: =O14-O20 -> 0.74505033 | Q17: =Q14-Q20 -> -10.210958 | S17: =S14-S20 -> 551.88238 | U17: =U14-U20 -> 0.91541264
A18: H26 年度 | B18: 貸倒損失額 | C18: 0.06109965 | D18: 54.969946 | E18: 0.13330292 | F18: 60.931425 | G18: 0.18718388 | H18: 37.655844 | I18: 0.49486432 | J18: 37.194477 | K18: 2.583247 | L18: 52.384626 | M18: 0.79640529 | N18: 10.401286 | O18: 3.0752613 | P18: 33.956166 | Q18: 5.3393751 | R18: 27.184187 | S18: 67.664037 | T18: 35.888993 | U18: 0.50730917 | V18: 38.21385
B19: 貸倒引当金繰入額 | C19: 0.050051359 | D19: 45.030054 | E19: 0.085472403 | F19: 39.068575 | G19: 0.30990731 | H19: 62.344156 | I19: 0.83561365 | J19: 62.805523 | K19: 2.3480605 | L19: 47.615374 | M19: 6.8603907 | N19: 89.598714 | O19: 5.9813008 | P19: 66.043834 | Q19: 14.302099 | R19: 72.815813 | S19: 120.87298 | T19: 64.111007 | U19: 0.82024399 | V19: 61.78615
C20: 0.11115101 | D20: 100 | E20: 0.21877533 | F20: 100 | G20: 0.49709119 | H20: 100 | I20: 1.330478 | J20: 100 | K20: 4.9313074 | L20: 100 | M20: 7.656796 | N20: 100 | O20: 9.0565621 | P20: 100 | Q20: 19.641474 | R20: 100 | S20: 188.53702 | T20: 100 | U20: 1.3275532 | V20: 100
A21: 増減 | B21: 貸倒損失額 | C21: =C18-C24 -> -0.03890035 | E21: =E18-E24 -> -0.16669708 | G21: =G18-G24 -> -0.21281612 | I21: =I18-I24 -> -1.6051357 | K21: =K18-K24 -> 0.48324695 | M21: =M18-M24 -> -0.80359471 | O21: =O18-O24 -> -7.5247387 | Q21: =Q18-Q24 -> -12.460625 | S21: =S18-S24 -> -71.735963 | U21: =U18-U24 -> -0.89269083
B22: 貸倒引当金繰入額 | C22: =C19-C25 -> -0.049948641 | E22: =E19-E25 -> -0.1145276 | G22: =G19-G25 -> 0.0099073095 | I22: =I19-I25 -> -0.26438635 | K22: =K19-K25 -> 0.048060493 | M22: =M19-M25 -> 3.2603907 | O22: =O19-O25 -> -2.8186992 | Q22: =Q19-Q25 -> -31.397901 | S22: =S19-S25 -> -150.82702 | U22: =U19-U25 -> -0.47975601
C23: =C20-C26 -> -0.088848992 | E23: =E20-E26 -> -0.28122467 | G23: =G20-G26 -> -0.20290881 | I23: =I20-I26 -> -1.869522 | K23: =K20-K26 -> 0.53130745 | M23: =M20-M26 -> 2.456796 | O23: =O20-O26 -> -10.343438 | Q23: =Q20-Q26 -> -43.758526 | S23: =S20-S26 -> -222.56298 | U23: =U20-U26 -> -1.3724468
A24: H23 年度 | B24: 貸倒損失額 | C24: 0.1 | D24: 39.6 | E24: 0.3 | F24: 60 | G24: 0.4 | H24: 53.5 | I24: 2.1 | J24: 64.9 | K24: 2.1 | L24: 48.2 | M24: 1.6 | N24: 31.1 | O24: 10.6 | P24: 54.6 | Q24: 17.8 | R24: 28 | S24: 139.4 | T24: 33.9 | U24: 1.4 | V24: 52.2
B25: 貸倒引当金繰入額 | C25: 0.1 | D25: 60.4 | E25: 0.2 | F25: 40 | G25: 0.3 | H25: 46.5 | I25: 1.1 | J25: 35.1 | K25: 2.3 | L25: 51.8 | M25: 3.6 | N25: 68.9 | O25: 8.8 | P25: 45.4 | Q25: 45.7 | R25: 72 | S25: 271.7 | T25: 66.1 | U25: 1.3 | V25: 47.8
C26: 0.2 | D26: 100 | E26: 0.5 | F26: 100 | G26: 0.7 | H26: 100 | I26: 3.2 | J26: 100 | K26: 4.4 | L26: 100 | M26: 5.2 | N26: 100 | O26: 19.4 | P26: 100 | Q26: 63.4 | R26: 100 | S26: 411.1 | T26: 100 | U26: 2.7 | V26: 100
A27: 増減 | B27: 貸倒損失額 | C27: =C24-C30 -> 0 | E27: =E24-E30 -> 0 | G27: =G24-G30 -> -0.1 | I27: =I24-I30 -> 1.1 | K27: =K24-K30 -> 1.1 | M27: =M24-M30 -> -2 | O27: =O24-O30 -> 7.3 | Q27: =Q24-Q30 -> 14.3 | S27: =S24-S30 -> 119.2 | U27: =U24-U30 -> 0.7
B28: 貸倒引当金繰入額 | C28: =C25-C31 -> 0.1 | E28: =E25-E31 -> 0.1 | G28: =G25-G31 -> 0.1 | I28: =I25-I31 -> -0.2 | K28: =K25-K31 -> 0.9 | M28: =M25-M31 -> -0.3 | O28: =O25-O31 -> -2.6 | Q28: =Q25-Q31 -> -67.3 | S28: =S25-S31 -> 78 | U28: =U25-U31 -> 0.1
C29: =C26-C32 -> 0.1 | E29: =E26-E32 -> 0.1 | G29: =G26-G32 -> 0 | I29: =I26-I32 -> 1 | K29: =K26-K32 -> 2 | M29: =M26-M32 -> -2.3 | O29: =O26-O32 -> 4.7 | Q29: =Q26-Q32 -> -53.2 | S29: =S26-S32 -> 197.2 | U29: =U26-U32 -> 0.7
A30: H20 年度 | B30: 貸倒損失額 | C30: 0.1 | D30: 70.4 | E30: 0.3 | F30: 70 | G30: 0.5 | H30: 72.2 | I30: 1 | J30: 43.5 | K30: 1 | L30: 41.4 | M30: 3.6 | N30: 48 | O30: 3.3 | P30: 22.6 | Q30: 3.5 | R30: 3 | S30: 20.2 | T30: 9.4 | U30: 0.7 | V30: 37.3
B31: 貸倒引当金繰入額 | C31: 0 | D31: 29.6 | E31: 0.1 | F31: 30 | G31: 0.2 | H31: 27.8 | I31: 1.3 | J31: 56.5 | K31: 1.4 | L31: 58.6 | M31: 3.9 | N31: 52 | O31: 11.4 | P31: 77.4 | Q31: 113 | R31: 97 | S31: 193.7 | T31: 90.6 | U31: 1.2 | V31: 62.7
C32: 0.1 | D32: 100 | E32: 0.4 | F32: 100 | G32: 0.7 | H32: 100 | I32: 2.2 | J32: 100 | K32: 2.4 | L32: 100 | M32: 7.5 | N32: 100 | O32: 14.7 | P32: 100 | Q32: 116.6 | R32: 100 | S32: 213.9 | T32: 100 | U32: 2 | V32: 100
A33: 増減 | B33: 貸倒損失額 | C33: =C30-C36 -> 0 | E33: =E30-E36 -> -0.2 | G33: =G30-G36 -> -0.5 | I33: =I30-I36 -> -0.7 | K33: =K30-K36 -> -0.3 | M33: =M30-M36 -> -0.1 | O33: =O30-O36 -> -13 | Q33: =Q30-Q36 -> -52.5 | S33: =S30-S36 -> -54.7 | U33: =U30-U36 -> -0.7
B34: 貸倒引当金繰入額 | C34: =C31-C37 -> -0.1 | E34: =E31-E37 -> -0.2 | G34: =G31-G37 -> -0.1 | I34: =I31-I37 -> 0.2 | K34: =K31-K37 -> -0.6 | M34: =M31-M37 -> -4.4 | O34: =O31-O37 -> -5.6 | Q34: =Q31-Q37 -> 74.3 | S34: =S31-S37 -> -367.5 | U34: =U31-U37 -> -0.7
C35: =C32-C38 -> -0.1 | E35: =E32-E38 -> -0.5 | G35: =G32-G38 -> -0.6 | I35: =I32-I38 -> -0.7 | K35: =K32-K38 -> -0.9 | M35: =M32-M38 -> -4.5 | O35: =O32-O38 -> -18.6 | Q35: =Q32-Q38 -> 21.9 | S35: =S32-S38 -> -422.1 | U35: =U32-U38 -> -1.3
A36: H17 年度 | B36: 貸倒損失額 | C36: 0.1 | D36: 64.2 | E36: 0.5 | F36: 61 | G36: 1 | H36: 77.7 | I36: 1.7 | J36: 61.2 | K36: 1.3 | L36: 40.1 | M36: 3.7 | N36: 31.2 | O36: 16.3 | P36: 49 | Q36: 56 | R36: 59.1 | S36: 74.9 | T36: 11.8 | U36: 1.4 | V36: 42.4
B37: 貸倒引当金繰入額 | C37: 0.1 | D37: 35.8 | E37: 0.3 | F37: 39 | G37: 0.3 | H37: 22.3 | I37: 1.1 | J37: 38.8 | K37: 2 | L37: 59.9 | M37: 8.3 | N37: 68.8 | O37: 17 | P37: 51 | Q37: 38.7 | R37: 40.9 | S37: 561.2 | T37: 88.2 | U37: 1.9 | V37: 57.6
C38: 0.2 | D38: 100 | E38: 0.9 | F38: 100 | G38: 1.3 | H38: 100 | I38: 2.9 | J38: 100 | K38: 3.3 | L38: 100 | M38: 12 | N38: 100 | O38: 33.3 | P38: 100 | Q38: 94.7 | R38: 100 | S38: 636 | T38: 100 | U38: 3.3 | V38: 100
S39: =P66
S41: （単位：百万円、％）
B42: 年度 | C42: R06年度 | F42: R01年度 | I42: H26年度 | L42: H23年度 | O42: H20年度 | R42: H17年度
...

Sheet 2-13-3
A1: 表2－13－3 完工高に対する貸倒償却額の割合
L3: （単位：％）
B4: 資本金 | C4: 個 人 | D4: 法 人 | L4: 合 計
A5: 業種 | D5: 500万円未満 | E5: 500万円以上 1000万円未満 | F5: 1000万円以上 3000万円未満 | G5: 3000万円以上 5000万円未満 | H5: 5000万円以上 1億円未満 | I5: 1億円以上 3億円未満 | J5: 3億円以上 10億円未満 | K5: 10億円以上
A6: 一般土木建築 | B6: 一般土木建築工事業 | C6: 1.7045455 | D6: 0 | E6: 0 | F6: 0.038946876 | G6: 0.089790007 | H6: 0.7293385 | I6: 0.20158257 | J6: 0.025971215 | K6: 0.12520858 | L6: 0.20705933
A7: 土木 | B7: 土木工事業 | C7: 0 | D7: 0.54196572 | E7: 0.10960406 | F7: 0.0077537412 | G7: 0.040615551 | H7: 0.027272373 | I7: 0.23131215 | J7: 0 | K7: 0.17463149 | L7: 0.13917433
B8: ほ装工事業 | C8: 0 | D8: 0.037864445 | E8: 0 | F8: 0.028258167 | G8: 0.008595496 | H8: 0.020883366 | I8: 0.15531096 | K8: 0 | L8: 0.022837752
B9: しゅんせつ工事業 | E9: 0 | F9: 0 | G9: 0.043421624 | H9: 0 | L9: 0.0078158923
B10: 造園工事業 | C10: 0 | D10: 0 | E10: 0 | F10: 0.021188685 | G10: 0.02811516 | H10: 0.070368025 | L10: 0.0093069738
B11: 水道施設工事業 | C11: 0 | D11: 0.059136606 | E11: 0.085106383 | F11: 0.062201949 | G11: 3.2468629 | H11: 0 | I11: 0 | L11: 0.35036571
A12: 小 計 | C12: 0 | D12: 0.33871808 | E12: 0.070328983 | F12: 0.023480793 | G12: 0.57186753 | H12: 0.029978116 | I12: 0.21922327 | J12: 0 | K12: 0.16235099 | L12: 0.16039663
A13: 建築 | B13: 建築工事業 | C13: 0 | D13: 1.9425445 | E13: 0.18066847 | F13: 0.022707203 | G13: 0.03066544 | H13: 0.039023097 | I13: 0.034385507 | J13: 0.028591391 | K13: 0.035346305 | L13: 0.54921355
B14: 木造建築工事業 | C14: 0 | D14: 0 | E14: 0 | F14: 0 | G14: 0.018310547 | H14: 0 | I14: 0.039553156 | J14: 0.054824561 | K14: 0 | L14: 0.00045399631
A15: 小 計 | C15: 0 | D15: 1.0567049 | E15: 0.068504881 | F15: 0.015118936 | G15: 0.026239258 | H15: 0.03081467 | I15: 0.035652773 | J15: 0.028771351 | K15: 0.025877322 | L15: 0.29910196
A16: 職別 | B16: 大工工事業 | C16: 0 | D16: 0 | E16: 0.018301611 | F16: 0.023265282 | G16: 0.034236805 | H16: 0.017648512 | I16: 1.0067114 | L16: 0.00888711
B17: とび・土工・コンクリート工事業 | C17: 0.20080321 | D17: 0.55335143 | E17: 0.0065690074 | F17: 0.034643717 | G17: 0.032572848 | H17: 0.049776428 | I17: 0.068334968 | J17: 0 | K17: 0 | L17: 0.27066652
B18: 鋼構造物工事業 | C18: 0.330033 | D18: 0.26954178 | E18: 0.49035633 | F18: 0.05039245 | G18: 0.13055556 | H18: 0.068512348 | I18: 0.12827091 | J18: 0 | K18: 0 | L18: 0.2124385
B19: 鉄筋工事業 | C19: 0 | D19: 0.17106549 | E19: 0.24630542 | F19: 0.010719263 | G19: 0.054585153 | H19: 0.013342228 | L19: 0.083092523
B20: 解体工事業 | C20: 0 | D20: 0 | E20: 0 | F20: 0.075497339 | G20: 0.034181357 | H20: 0.068670435 | I20: 0.53763441 | L20: 0.019088163
B21: 躯体関係計 | C21: 0.14760148 | D21: 0.25051737 | E21: 0.079816768 | F21: 0.042699483 | G21: 0.056718995 | H21: 0.053408501 | I21: 0.10594508 | J21: 0 | K21: 0 | L21: 0.14635299
B22: 左官工事業 | C22: 0 | D22: 0 | E22: 0 | F22: 0.020443627 | G22: 0 | H22: 0 | L22: 0.0031909364
B23: 石工事業 | D23: 0 | E23: 0.07980846 | F23: 0.07513148 | G23: 0.48270314 | H23: 0.5806846 | L23: 0.059810093
B24: 屋根工事業 | C24: 0 | D24: 0.084961767 | E24: 0.43994721 | F24: 0.045636631 | G24: 0.050900299 | H24: 0.20654045 | L24: 0.13939997
B25: タイル・れんが・ブロック工事業 | C25: 0 | D25: 0 | E25: 0 | F25: 0.059714225 | G25: 0.13427492 | H25: 0.047961631 | I25: 0.052438385 | L25: 0.024990066
B26: 板金工事業 | C26: 0.20790021 | D26: 0.10992462 | E26: 0.021454623 | F26: 0.090947251 | G26: 0.014363689 | H26: 0.024154589 | I26: 0.097794198 | L26: 0.10595726
B27: ガラス工事業 | D27: 0 | E27: 0 | F27: 0.022497188 | G27: 0.36264733 | H27: 0.017436792 | L27: 0.015668832
B28: 塗装工事業 | C28: 0 | D28: 0.045578851 | E28: 0 | F28: 0.13363797 | G28: 0.092668302 | H28: 0.057199754 | I28: 0.027169811 | J28: 0.74925075 | L28: 0.035574511
B29: 防水工事業 | C29: 0 | D29: 0 | E29: 0.03164557 | F29: 0.061934845 | G29: 0.1720909 | H29: 0.058763038 | I29: 0.0057937428 | L29: 0.024609765
B30: 内装仕上工事業 | C30: 0 | D30: 2.2956235 | E30: 0.15625 | F30: 0.067005756 | G30: 0.20186727 | H30: 0.17639765 | I30: 0.016692943 | J30: 0.042994022 | K30: 0 | L30: 0.77067812
B31: 建具工事業 | C31: 0 | D31: 0 | E31: 0 | F31: 0.078639904 | G31: 0.1697965 | H31: 0.17763041 | I31: 0 | L31: 0.023855022
B32: 仕上関係計 | C32: 0.11574074 | D32: 0.50847458 | E32: 0.058456143 | F32: 0.071340047 | G32: 0.14557084 | H32: 0.12030678 | I32: 0.020745869 | J32: 0.096503179 | K32: 0 | L32: 0.23050032
A33: 小 計 | C33: 0.12667849 | D33: 0.3839209 | E33: 0.068494268 | F33: 0.057377705 | G33: 0.10865695 | H33: 0.080149434 | I33: 0.062096094 | J33: 0.044370204 | K33: 0 | L33: 0.1909782
A34: 設備 | B34: 電気工事業 | C34: 0 | D34: 0.15885624 | E34: 0.02236136 | F34: 0.1781299 | G34: 0.036895831 | H34: 0.10157003 | I34: 0.046989219 | J34: 0.072772056 | K34: 0.44974531 | L34: 0.11111729
B35: 管工事業 | C35: 0 | D35: 0.076350449 | E35: 1.7789673 | F35: 0.051778388 | G35: 0.068373582 | H35: 0.10182129 | I35: 0.42777126 | J35: 3.0925721 | K35: 0.011799837 | L35: 0.38781222
B36: 機械器具設置工事 | C36: 0 | D36: 0 | E36: 0.02919708 | F36: 1.1096462 | G36: 0.12159815 | H36: 0.10533611 | I36: 0.058471998 | J36: 0 | K36: 0 | L36: 0.48409184
B37: 熱絶縁工事 | C37: 0.27548209 | D37: 0.06574622 | E37: 0 | F37: 0.020904467 | G37: 0.019385749 | H37: 0.1121705 | J37: 0 | L37: 0.080026241
B38: 電気通信工事 | C38: 0 | D38: 0 | E38: 0 | F38: 0.03561023 | G38: 0.044780444 | H38: 0.056660726 | I38: 7.4898505 | J38: 0.0037944904 | K38: 0 | L38: 0.04041644
B39: さく井工事業 | C39: 0 | D39: 0.44809559 | E39: 0 | F39: 0.18577495 | G39: 0.04014452 | H39: 0 | L39: 0.21137861
B40: 消防施設工事業 | C40: 0 | D40: 0 | E40: 0 | F40: 0.04091653 | G40: 0.031952285 | H40: 0 | I40: 0 | L40: 0.015769502
A41: 小 計 | C41: 0.047961631 | D41: 0.10154103 | E41: 0.57231014 | F41: 0.23816133 | G41: 0.056063604 | H41: 0.091562374 | I41: 0.95737621 | J41: 1.5865065 | K41: 0.17983337 | L41: 0.22480131
...
