Workbook
Name ______________________ＴＢＬ１: [1]CSS編集画面!$B$10:$F$22
Name ______________________ＴＢＬ２: [1]CSS編集画面!$B$24:$I$35
Name _____________________ＴＢＬ１: [1]CSS編集画面!$B$10:$F$22
Name _____________________ＴＢＬ２: [1]CSS編集画面!$B$24:$I$35
Name ____________________ＴＢＬ１: [1]CSS編集画面!$B$10:$F$22
Name ____________________ＴＢＬ２: [1]CSS編集画面!$B$24:$I$35
Name ___________________ＴＢＬ１: [1]CSS編集画面!$B$10:$F$22
Name ___________________ＴＢＬ２: [1]CSS編集画面!$B$24:$I$35
Name __________________ＴＢＬ１: [1]CSS編集画面!$B$10:$F$22
Name __________________ＴＢＬ２: [1]CSS編集画面!$B$24:$I$35
Name _________________ＴＢＬ１: [1]CSS編集画面!$B$10:$F$22
Name _________________ＴＢＬ２: [1]CSS編集画面!$B$24:$I$35
Name ________________ＴＢＬ１: [1]CSS編集画面!$B$10:$F$22
Name ________________ＴＢＬ２: [1]CSS編集画面!$B$24:$I$35
Name _______________ＴＢＬ１: [1]CSS編集画面!$B$10:$F$22
Name _______________ＴＢＬ２: [1]CSS編集画面!$B$24:$I$35
Name ______________ＴＢＬ１: [1]CSS編集画面!$B$10:$F$22
Name ______________ＴＢＬ２: [1]CSS編集画面!$B$24:$I$35
Name _____________ＴＢＬ１: [1]CSS編集画面!$B$10:$F$22
Name _____________ＴＢＬ２: [1]CSS編集画面!$B$24:$I$35
Name ____________ＴＢＬ１: [1]CSS編集画面!$B$10:$F$22
Name ____________ＴＢＬ２: [1]CSS編集画面!$B$24:$I$35
Name ___________ＴＢＬ１: [1]CSS編集画面!$B$10:$F$22
Name ___________ＴＢＬ２: [1]CSS編集画面!$B$24:$I$35
Name __________ＴＢＬ１: [1]CSS編集画面!$B$10:$F$22
Name __________ＴＢＬ２: [1]CSS編集画面!$B$24:$I$35
Name _________ＴＢＬ１: [1]CSS編集画面!$B$10:$F$22
Name _________ＴＢＬ２: [1]CSS編集画面!$B$24:$I$35
Name ________ＴＢＬ１: [1]CSS編集画面!$B$10:$F$22
Name ________ＴＢＬ２: [1]CSS編集画面!$B$24:$I$35
Name _______ＴＢＬ１: [1]CSS編集画面!$B$10:$F$22
Name _______ＴＢＬ２: [1]CSS編集画面!$B$24:$I$35
Name ______ＴＢＬ１: [1]CSS編集画面!$B$10:$F$22
Name ______ＴＢＬ２: [1]CSS編集画面!$B$24:$I$35
Name _____ＴＢＬ１: [1]CSS編集画面!$B$10:$F$22
Name _____ＴＢＬ２: [1]CSS編集画面!$B$24:$I$35
Name ____ＴＢＬ１: [1]CSS編集画面!$B$10:$F$22
Name ____ＴＢＬ２: [1]CSS編集画面!$B$24:$I$35
Name ___ＴＢＬ１: [1]CSS編集画面!$B$10:$F$22
Name ___ＴＢＬ２: [1]CSS編集画面!$B$24:$I$35
Name __ＴＢＬ１: [1]CSS編集画面!$B$10:$F$22
Name __ＴＢＬ２: [1]CSS編集画面!$B$24:$I$35
Name _ＴＢＬ１: [1]CSS編集画面!$B$10:$F$22
Name _ＴＢＬ２: [1]CSS編集画面!$B$24:$I$35
Name PAGE1: #REF!
Name PAGE10: #REF!
Name PAGE100: #REF!
Name PAGE1000: #REF!
Name PAGE1001: #REF!
Name PAGE1002: #REF!
Name PAGE1003: #REF!
Name PAGE1004: #REF!
Name PAGE1005: #REF!
Name PAGE1006: #REF!
Name PAGE1007: #REF!
Name PAGE1008: #REF!
Name PAGE1009: #REF!
Name PAGE101: #REF!
Name PAGE1010: #REF!
Name PAGE1011: #REF!

Sheet 3-1-1
A1: 表3－1－1 工事代金の受取時期及び受取条件
N3: （単位：％）
D4: 資本金 | E4: 個 人 | F4: 法 人 | N4: 合 計
A5: 業種 | C5: 受取時期・受取条件 | F5: 500万円未満 | G5: 500万円以上 1000万円未満 | H5: 1000万円以上 3000万円未満 | I5: 3000万円以上 5000万円未満 | J5: 5000万円以上 1億円未満 | K5: 1億円以上 3億円未満 | L5: 3億円以上 10億円未満 | M5: 10億円以上
A6: 一 般 土 木 建 築 | B6: 一般土木 建築工事業 | C6: 工事施工前 | D6: 現金 | E6: 5 | F6: 6 | G6: 4.2857143 | H6: 14.86 | I6: 14.921053 | J6: 16.163636 | K6: 21.97619 | L6: 17.666667 | M6: 16 | N6: 12.397844
D7: 手形 | E7: 0 | F7: 0 | G7: 0 | H7: 0.02 | I7: 0 | J7: 0.018181818 | K7: 0.71428571 | L7: 0 | M7: 1 | N7: 0.032995105
D8: 小計 | E8: 5 | F8: 6 | G8: 4.2857143 | H8: 14.88 | I8: 14.921053 | J8: 16.181818 | K8: 22.690476 | L8: 17.666667 | M8: 17 | N8: 12.43084
C9: 工事施工中 | D9: 現金 | E9: 5 | F9: 14 | G9: 10 | H9: 17.5 | I9: 13.631579 | J9: 19.690909 | K9: 15.357143 | L9: 24.833333 | M9: 23.15 | N9: 14.963702
D10: 手形 | E10: 0 | F10: 0 | G10: 0 | H10: 1.64 | I10: 2.2368421 | J10: 1.1090909 | K10: 1.5714286 | L10: 2.1666667 | M10: 2.8 | N10: 1.2473713
D11: 小計 | E11: 5 | F11: 14 | G11: 10 | H11: 19.14 | I11: 15.868421 | J11: 20.8 | K11: 16.928571 | L11: 27 | M11: 25.95 | N11: 16.211073
C12: 工事施工後 | D12: 現金 | E12: 90 | F12: 80 | G12: 85.571429 | H12: 63.16 | I12: 66.315789 | J12: 58.672727 | K12: 55.595238 | L12: 53.166667 | M12: 51.05 | N12: 69.080084
D13: 手形 | E13: 0 | F13: 0 | G13: 0.14285714 | H13: 2.82 | I13: 2.8947368 | J13: 4.3454545 | K13: 4.7857143 | L13: 2.1666667 | M13: 6 | N13: 2.278004
D14: 小計 | E14: 90 | F14: 80 | G14: 85.714286 | H14: 65.98 | I14: 69.210526 | J14: 63.018182 | K14: 60.380952 | L14: 55.333333 | M14: 57.05 | N14: 71.358088
C15: 小 計 | D15: 現金 | E15: 100 | F15: 100 | G15: 99.857143 | H15: 95.52 | I15: 94.868421 | J15: 94.527273 | K15: 92.928571 | L15: 95.666667 | M15: 90.2 | N15: 96.44163
D16: 手形 | E16: 0 | F16: 0 | G16: 0.14285714 | H16: 4.48 | I16: 5.1315789 | J16: 5.4727273 | K16: 7.0714286 | L16: 4.3333333 | M16: 9.8 | N16: 3.5583704
D17: 小計 | E17: 100 | F17: 100 | G17: 100 | H17: 100 | I17: 100 | J17: 100 | K17: 100 | L17: 100 | M17: 100 | N17: 100
A18: 土 木 | B18: 土木工事業 | C18: 工事施工前 | D18: 現金 | E18: 4.75 | F18: 5.8125 | G18: 4.6271186 | H18: 13.486842 | I18: 17.902439 | J18: 16.169492 | K18: 13.375 | L18: 20 | M18: 17 | N18: 10.296644
D19: 手形 | E19: 0 | F19: 0 | G19: 0 | H19: 0.21052632 | I19: 0.46341463 | J19: 0 | K19: 0.78125 | L19: 0 | M19: 0 | N19: 0.13835753
D20: 小計 | E20: 4.75 | F20: 5.8125 | G20: 4.6271186 | H20: 13.697368 | I20: 18.365854 | J20: 16.169492 | K20: 14.15625 | L20: 20 | M20: 17 | N20: 10.435001
C21: 工事施工中 | D21: 現金 | E21: 20.833333 | F21: 20.020833 | G21: 18.016949 | H21: 16.302632 | I21: 15.219512 | J21: 18.338983 | K21: 20 | L21: 23.8 | M21: 32.375 | N21: 17.642326
D22: 手形 | E22: 0 | F22: 0.5 | G22: 0.25423729 | H22: 1.1973684 | I22: 2.4390244 | J22: 2.3728814 | K22: 4.8125 | L22: 4.2 | M22: 1.625 | N22: 1.0021593
D23: 小計 | E23: 20.833333 | F23: 20.520833 | G23: 18.271186 | H23: 17.5 | I23: 17.658537 | J23: 20.711864 | K23: 24.8125 | L23: 28 | M23: 34 | N23: 18.644485
C24: 工事施工後 | D24: 現金 | E24: 74.416667 | F24: 72.708333 | G24: 72.762712 | H24: 65.907895 | I24: 62.304878 | J24: 61.372881 | K24: 56.90625 | L24: 43.8 | M24: 47 | N24: 68.501222
D25: 手形 | E25: 0 | F25: 0.95833333 | G25: 4.3389831 | H25: 2.8947368 | I25: 1.6707317 | J25: 1.7457627 | K25: 4.125 | L25: 8.2 | M25: 2 | N25: 2.4192913
D26: 小計 | E26: 74.416667 | F26: 73.666667 | G26: 77.101695 | H26: 68.802632 | I26: 63.97561 | J26: 63.118644 | K26: 61.03125 | L26: 52 | M26: 49 | N26: 70.920514
C27: 小 計 | D27: 現金 | E27: 100 | F27: 98.541667 | G27: 95.40678 | H27: 95.697368 | I27: 95.426829 | J27: 95.881356 | K27: 90.28125 | L27: 87.6 | M27: 96.375 | N27: 96.440192
D28: 手形 | E28: 0 | F28: 1.4583333 | G28: 4.5932203 | H28: 4.3026316 | I28: 4.5731707 | J28: 4.1186441 | K28: 9.71875 | L28: 12.4 | M28: 3.625 | N28: 3.5598082
D29: 小計 | E29: 100 | F29: 100 | G29: 100 | H29: 100 | I29: 100 | J29: 100 | K29: 100 | L29: 100 | M29: 100 | N29: 100
B30: ほ装工事業 | C30: 工事施工前 | D30: 現金 | E30: 0 | F30: 2.5862069 | G30: 4.125 | H30: 5.1190476 | I30: 8.5869565 | J30: 9.0967742 | K30: 10.6 | M30: 40 | N30: 4.7798137
D31: 手形 | E31: 0 | F31: 0 | G31: 0 | H31: 0 | I31: 0.043478261 | J31: 0 | K31: 0 | M31: 0 | N31: 0.0042645249
D32: 小計 | E32: 0 | F32: 2.5862069 | G32: 4.125 | H32: 5.1190476 | I32: 8.6304348 | J32: 9.0967742 | K32: 10.6 | M32: 40 | N32: 4.7840782
C33: 工事施工中 | D33: 現金 | E33: 0 | F33: 6.7241379 | G33: 3.5416667 | H33: 11.095238 | I33: 11.543478 | J33: 10.064516 | K33: 22 | M33: 10 | N33: 8.3947536
D34: 手形 | E34: 0 | F34: 0 | G34: 0 | H34: 2.1428571 | I34: 0.86956522 | J34: 1.2903226 | K34: 9 | M34: 5 | N34: 1.0166088
D35: 小計 | E35: 0 | F35: 6.7241379 | G35: 3.5416667 | H35: 13.238095 | I35: 12.413043 | J35: 11.354839 | K35: 31 | M35: 15 | N35: 9.4113625
C36: 工事施工後 | D36: 現金 | E36: 100 | F36: 88.965517 | G36: 89.833333 | H36: 76.761905 | I36: 74.717391 | J36: 72.258065 | K36: 51.2 | M36: 40 | N36: 82.225539
D37: 手形 | E37: 0 | F37: 1.7241379 | G37: 2.5 | H37: 4.8809524 | I37: 4.2391304 | J37: 7.2903226 | K37: 7.2 | M37: 5 | N37: 3.57902
D38: 小計 | E38: 100 | F38: 90.689655 | G38: 92.333333 | H38: 81.642857 | I38: 78.956522 | J38: 79.548387 | K38: 58.4 | M38: 45 | N38: 85.804559
C39: 小 計 | D39: 現金 | E39: 100 | F39: 98.275862 | G39: 97.5 | H39: 92.97619 | I39: 94.847826 | J39: 91.419355 | K39: 83.8 | M39: 90 | N39: 95.400107
D40: 手形 | E40: 0 | F40: 1.7241379 | G40: 2.5 | H40: 7.0238095 | I40: 5.1521739 | J40: 8.5806452 | K40: 16.2 | M40: 10 | N40: 4.5998934
D41: 小計 | E41: 100 | F41: 100 | G41: 100 | H41: 100 | I41: 100 | J41: 100 | K41: 100 | M41: 100 | N41: 100
B42: しゅんせつ 工事業 | C42: 工事施工前 | D42: 現金 | G42: 0 | H42: 13.333333 | I42: 0 | J42: 30 | N42: 5.6888889
D43: 手形 | G43: 0 | H43: 0 | I43: 0 | J43: 0 | N43: 0
D44: 小計 | G44: 0 | H44: 13.333333 | I44: 0 | J44: 30 | N44: 5.6888889
C45: 工事施工中 | D45: 現金 | G45: 0 | H45: 33.333333 | I45: 37.333333 | J45: 0 | N45: 16.942222
D46: 手形 | G46: 0 | H46: 0 | I46: 17.333333 | J46: 0 | N46: 3.12
D47: 小計 | G47: 0 | H47: 33.333333 | I47: 54.666667 | J47: 0 | N47: 20.062222
C48: 工事施工後 | D48: 現金 | G48: 100 | H48: 52.666667 | I48: 43.666667 | J48: 0 | N48: 70.011111
D49: 手形 | G49: 0 | H49: 0.66666667 | I49: 1.6666667 | J49: 70 | N49: 4.2377778
D50: 小計 | G50: 100 | H50: 53.333333 | I50: 45.333333 | J50: 70 | N50: 74.248889
C51: 小 計 | D51: 現金 | G51: 100 | H51: 99.333333 | I51: 81 | J51: 30 | N51: 92.642222
D52: 手形 | G52: 0 | H52: 0.66666667 | I52: 19 | J52: 70 | N52: 7.3577778
D53: 小計 | G53: 100 | H53: 100 | I53: 100 | J53: 100 | N53: 100
B54: 造園工事業 | C54: 工事施工前 | D54: 現金 | E54: 10 | F54: 4 | G54: 7.0833333 | H54: 9.9574468 | I54: 6.106383 | J54: 10.764706 | N54: 7.6019285
D55: 手形 | E55: 0 | F55: 0 | G55: 0 | H55: 0 | I55: 0.021276596 | J55: 0 | N55: 0.0013522091
D56: 小計 | E56: 10 | F56: 4 | G56: 7.0833333 | H56: 9.9574468 | I56: 6.1276596 | J56: 10.764706 | N56: 7.6032807
C57: 工事施工中 | D57: 現金 | E57: 0 | F57: 4 | G57: 1.6666667 | H57: 6.8723404 | I57: 13.085106 | J57: 15.647059 | N57: 4.5534491
D58: 手形 | E58: 0 | F58: 0 | G58: 0 | H58: 0.21276596 | I58: 1.3617021 | J58: 0.23529412 | N58: 0.1551269
D59: 小計 | E59: 0 | F59: 4 | G59: 1.6666667 | H59: 7.0851064 | I59: 14.446809 | J59: 15.882353 | N59: 4.7085759
C60: 工事施工後 | D60: 現金 | E60: 90 | F60: 92 | G60: 91.166667 | H60: 79.638298 | I60: 75.93617 | J60: 69.823529 | N60: 86.385228
D61: 手形 | E61: 0 | F61: 0 | G61: 0.083333333 | H61: 3.3191489 | I61: 3.4893617 | J61: 3.5294118 | N61: 1.3029155
D62: 小計 | E62: 90 | F62: 92 | G62: 91.25 | H62: 82.957447 | I62: 79.425532 | J62: 73.352941 | N62: 87.688143
C63: 小 計 | D63: 現金 | E63: 100 | F63: 100 | G63: 99.916667 | H63: 96.468085 | I63: 95.12766 | J63: 96.235294 | N63: 98.540605
D64: 手形 | E64: 0 | F64: 0 | G64: 0.083333333 | H64: 3.5319149 | I64: 4.8723404 | J64: 3.7647059 | N64: 1.4593946
D65: 小計 | E65: 100 | F65: 100 | G65: 100 | H65: 100 | I65: 100 | J65: 100 | N65: 100
A66: 土 木 | B66: 水道施設 工事業 | C66: 工事施工前 | D66: 現金 | E66: 0 | F66: 3.0769231 | G66: 2.1111111 | H66: 13.783784 | I66: 11.28125 | J66: 19.333333 | K66: 40 | N66: 8.0176586
D67: 手形 | E67: 0 | F67: 0 | G67: 0 | H67: 0.81081081 | I67: 0 | J67: 0 | K67: 0 | N67: 0.30607992
D68: 小計 | E68: 0 | F68: 3.0769231 | G68: 2.1111111 | H68: 14.594595 | I68: 11.28125 | J68: 19.333333 | K68: 40 | N68: 8.3237386
C69: 工事施工中 | D69: 現金 | E69: 0 | F69: 22.307692 | G69: 25 | H69: 6.6486486 | I69: 26.78125 | J69: 23.111111 | K69: 0 | N69: 16.613885
D70: 手形 | E70: 0 | F70: 0 | G70: 0 | H70: 0.16216216 | I70: 0.625 | J70: 2.2222222 | K70: 0 | N70: 0.1785299
D71: 小計 | E71: 0 | F71: 22.307692 | G71: 25 | H71: 6.8108108 | I71: 27.40625 | J71: 25.333333 | K71: 0 | N71: 16.792415
C72: 工事施工後 | D72: 現金 | E72: 100 | F72: 70.692308 | G72: 64.555556 | H72: 76.081081 | I72: 60.53125 | J72: 55.444444 | K72: 60 | N72: 70.961313
D73: 手形 | E73: 0 | F73: 3.9230769 | G73: 8.3333333 | H73: 2.5135135 | I73: 0.78125 | J73: 0 | K73: 0 | N73: 3.9255799
D74: 小計 | E74: 100 | F74: 74.615385 | G74: 72.888889 | H74: 78.594595 | I74: 61.3125 | J74: 55.444444 | K74: 60 | N74: 74.886893
C75: 小 計 | D75: 現金 | E75: 100 | F75: 96.076923 | G75: 91.666667 | H75: 96.513514 | I75: 98.59375 | J75: 97.888889 | K75: 100 | N75: 95.592856
D76: 手形 | E76: 0 | F76: 3.9230769 | G76: 8.3333333 | H76: 3.4864865 | I76: 1.40625 | J76: 2.2222222 | K76: 0 | N76: 4.4101897
D77: 小計 | E77: 100 | F77: 100 | G77: 100 | H77: 100 | I77: 100 | J77: 100 | K77: 100 | N77: 100.00305
B78: 小 計 | C78: 工事施工前 | D78: 現金 | E78: 3.6666667 | F78: 4.3578947 | G78: 4.5333333 | H78: 11.014634 | I78: 11.957143 | J78: 13.871795 | K78: 13.710526 | L78: 20 | M78: 19.555556 | N78: 8.0914698
D79: 手形 | E79: 0 | F79: 0 | G79: 0 | H79: 0.22439024 | I79: 0.1952381 | J79: 0 | K79: 0.65789474 | L79: 0 | M79: 0 | N79: 0.10881995
D80: 小計 | E80: 3.6666667 | F80: 4.3578947 | G80: 4.5333333 | H80: 11.239024 | I80: 12.152381 | J80: 13.871795 | K80: 14.368421 | L80: 20 | M80: 19.555556 | N80: 8.2002898
C81: 工事施工中 | D81: 現金 | E81: 11.904762 | F81: 15.431579 | G81: 13.266667 | H81: 11.580488 | I81: 16.014286 | J81: 15.965812 | K81: 19.736842 | L81: 23.8 | M81: 29.888889 | N81: 13.43477
D82: 手形 | E82: 0 | F82: 0.25263158 | G82: 0.14285714 | H82: 0.96097561 | I82: 1.7904762 | J82: 1.7435897 | K82: 5.2368421 | L82: 4.2 | M82: 2 | N82: 0.72524047
D83: 小計 | E83: 11.904762 | F83: 15.684211 | G83: 13.409524 | H83: 12.541463 | I83: 17.804762 | J83: 17.709402 | K83: 24.973684 | L83: 28 | M83: 31.888889 | N83: 14.16001
C84: 工事施工後 | D84: 現金 | E84: 84.428571 | F84: 78.410526 | G84: 78.32381 | H84: 72.921951 | I84: 67.538095 | J84: 64.504274 | K84: 56.236842 | L84: 43.8 | M84: 46.222222 | N84: 74.901539
D85: 手形 | E85: 0 | F85: 1.5473684 | G85: 3.7333333 | H85: 3.297561 | I85: 2.5047619 | J85: 3.9230769 | K85: 4.4210526 | L85: 8.2 | M85: 2.3333333 | N85: 2.738452
D86: 小計 | E86: 84.428571 | F86: 79.957895 | G86: 82.057143 | H86: 76.219512 | I86: 70.042857 | J86: 68.42735 | K86: 60.657895 | L86: 52 | M86: 48.555556 | N86: 77.639991
C87: 小 計 | D87: 現金 | E87: 100 | F87: 98.2 | G87: 96.12381 | H87: 95.517073 | I87: 95.509524 | J87: 94.34188 | K87: 89.684211 | L87: 87.6 | M87: 95.666667 | N87: 96.427778
D88: 手形 | E88: 0 | F88: 1.8 | G88: 3.8761905 | H88: 4.4829268 | I88: 4.4904762 | J88: 5.6666667 | K88: 10.315789 | L88: 12.4 | M88: 4.3333333 | N88: 3.5725124
D89: 小計 | E89: 100 | F89: 100 | G89: 100 | H89: 100 | I89: 100 | J89: 100 | K89: 100 | L89: 100 | M89: 100 | N89: 100.00029
A90: 建 築 | B90: 建築工事業 | C90: 工事施工前 | D90: 現金 | E90: 1.9473684 | F90: 10.821429 | G90: 9.7777778 | H90: 10.671053 | I90: 15.184615 | J90: 14.293103 | K90: 15.514286 | L90: 13 | M90: 15.6 | N90: 9.8309986
D91: 手形 | E91: 0 | F91: 0 | G91: 0 | H91: 0.065789474 | I91: 0.092307692 | J91: 0.93103448 | K91: 0 | L91: 1.2105263 | M91: 0 | N91: 0.052408274
D92: 小計 | E92: 1.9473684 | F92: 10.821429 | G92: 9.7777778 | H92: 10.736842 | I92: 15.276923 | J92: 15.224138 | K92: 15.514286 | L92: 14.210526 | M92: 15.6 | N92: 9.8834068
C93: 工事施工中 | D93: 現金 | E93: 11.842105 | F93: 24.785714 | G93: 25.888889 | H93: 22.342105 | I93: 24.892308 | J93: 23.5 | K93: 33.4 | L93: 30.789474 | M93: 29.6 | N93: 22.51141
D94: 手形 | E94: 0 | F94: 0 | G94: 0.69444444 | H94: 1.9210526 | I94: 1.2153846 | J94: 4.3103448 | K94: 1.9142857 | L94: 0.73684211 | M94: 0.2 | N94: 0.94405896
D95: 小計 | E95: 11.842105 | F95: 24.785714 | G95: 26.583333 | H95: 24.263158 | I95: 26.107692 | J95: 27.810345 | K95: 35.314286 | L95: 31.526316 | M95: 29.8 | N95: 23.455469
C96: 工事施工後 | D96: 現金 | E96: 86.210526 | F96: 64.142857 | G96: 61.833333 | H96: 60.210526 | I96: 54.523077 | J96: 51.137931 | K96: 43.514286 | L96: 47 | M96: 53 | N96: 64.268965
D97: 手形 | E97: 0 | F97: 0.25 | G97: 1.8055556 | H97: 4.7894737 | I97: 4.0923077 | J97: 5.8275862 | K97: 5.6571429 | L97: 7.2631579 | M97: 1.6 | N97: 2.3921592
D98: 小計 | E98: 86.210526 | F98: 64.392857 | G98: 63.638889 | H98: 65 | I98: 58.615385 | J98: 56.965517 | K98: 49.171429 | L98: 54.263158 | M98: 54.6 | N98: 66.661124
C99: 小 計 | D99: 現金 | E99: 100 | F99: 99.75 | G99: 97.5 | H99: 93.223684 | I99: 94.6 | J99: 88.931034 | K99: 92.428571 | L99: 90.789474 | M99: 98.2 | N99: 96.611374
D100: 手形 | E100: 0 | F100: 0.25 | G100: 2.5 | H100: 6.7763158 | I100: 5.4 | J100: 11.068966 | K100: 7.5714286 | L100: 9.2105263 | M100: 1.8 | N100: 3.3886264
D101: 小計 | E101: 100 | F101: 100 | G101: 100 | H101: 100 | I101: 100 | J101: 100 | K101: 100 | L101: 100 | M101: 100 | N101: 100
...

Sheet 3-1-2
A1: 表3－1－2 工事代金の受取時期及び受取条件（経年変化①：資本金別）
M3: （単位：％）
C4: 資本金 | D4: 個 人 | E4: 法 人 | M4: 合 計
A5: 年度 | B5: 受取時期・受取条件 | E5: 500万円未満 | F5: 500万円以上1000万円未満 | G5: 1000万円以上3000万円未満 | H5: 3000万円以上5000万円未満 | I5: 5000万円以上 1億円未満 | J5: 1億円以上 3億円未満 | K5: 3億円以上 10億円未満 | L5: 10億円以上
A6: R06年度 | B6: 工事施工前 | C6: 現金 | D6: ='3-1-1'!E438 -> 2.09375 | E6: ='3-1-1'!F438 -> 2.3790698 | F6: ='3-1-1'!G438 -> 3.5156446 | G6: ='3-1-1'!H438 -> 5.1182109 | H6: ='3-1-1'!I438 -> 7.094532 | I6: ='3-1-1'!J438 -> 8.1689373 | J6: ='3-1-1'!K438 -> 12.188976 | K6: ='3-1-1'!L438 -> 10.310345 | ... M6: ='3-1-1'!N438 -> 3.6982631
C7: 手形 | D7: ='3-1-1'!E439 -> 0 | E7: ='3-1-1'!F439 -> 0.0011627907 | F7: ='3-1-1'!G439 -> 0.041301627 | G7: ='3-1-1'!H439 -> 0.07284345 | H7: ='3-1-1'!I439 -> 0.24374421 | I7: ='3-1-1'!J439 -> 0.29427793 | J7: ='3-1-1'!K439 -> 0.45275591 | K7: ='3-1-1'!L439 -> 1.0344828 | ... M7: ='3-1-1'!N439 -> 0.048758914
C8: 小計 | D8: ='3-1-1'!E440 -> 2.09375 | E8: ='3-1-1'!F440 -> 2.3802326 | F8: ='3-1-1'!G440 -> 3.5569462 | G8: ='3-1-1'!H440 -> 5.1910543 | H8: ='3-1-1'!I440 -> 7.3382762 | I8: ='3-1-1'!J440 -> 8.4632153 | J8: ='3-1-1'!K440 -> 12.641732 | K8: ='3-1-1'!L440 -> 11.344828 | ... M8: ='3-1-1'!N440 -> 3.747022
B9: 工事施工中 | C9: 現金 | D9: ='3-1-1'!E441 -> 9.90625 | E9: ='3-1-1'!F441 -> 15.504651 | F9: ='3-1-1'!G441 -> 15.360451 | G9: ='3-1-1'!H441 -> 17.684345 | H9: ='3-1-1'!I441 -> 20.776645 | I9: ='3-1-1'!J441 -> 22.19346 | J9: ='3-1-1'!K441 -> 23.476378 | K9: ='3-1-1'!L441 -> 29.637931 | ... M9: ='3-1-1'!N441 -> 15.620828
C10: 手形 | D10: ='3-1-1'!E442 -> 0.1171875 | E10: ='3-1-1'!F442 -> 1.4604651 | F10: ='3-1-1'!G442 -> 1.2740926 | G10: ='3-1-1'!H442 -> 3.1904153 | H10: ='3-1-1'!I442 -> 4.3901761 | I10: ='3-1-1'!J442 -> 4.8841962 | J10: ='3-1-1'!K442 -> 3.976378 | K10: ='3-1-1'!L442 -> 4.3793103 | ... M10: ='3-1-1'!N442 -> 1.9175925
C11: 小計 | D11: ='3-1-1'!E443 -> 10.023438 | E11: ='3-1-1'!F443 -> 16.965116 | F11: ='3-1-1'!G443 -> 16.634543 | G11: ='3-1-1'!H443 -> 20.87476 | H11: ='3-1-1'!I443 -> 25.166821 | I11: ='3-1-1'!J443 -> 27.077657 | J11: ='3-1-1'!K443 -> 27.452756 | K11: ='3-1-1'!L443 -> 34.017241 | ... M11: ='3-1-1'!N443 -> 17.538421
B12: 工事施工後 | C12: 現金 | D12: ='3-1-1'!E444 -> 86.050781 | E12: ='3-1-1'!F444 -> 76.568605 | F12: ='3-1-1'!G444 -> 74.493116 | G12: ='3-1-1'!H444 -> 66.054313 | H12: ='3-1-1'!I444 -> 60.294717 | I12: ='3-1-1'!J444 -> 57.303815 | J12: ='3-1-1'!K444 -> 52.948819 | K12: ='3-1-1'!L444 -> 47.017241 | ... M12: ='3-1-1'!N444 -> 73.472027
C13: 手形 | D13: ='3-1-1'!E445 -> 1.8320312 | E13: ='3-1-1'!F445 -> 4.0860465 | F13: ='3-1-1'!G445 -> 5.3153942 | G13: ='3-1-1'!H445 -> 7.8798722 | H13: ='3-1-1'!I445 -> 7.2001854 | I13: ='3-1-1'!J445 -> 7.1580381 | J13: ='3-1-1'!K445 -> 6.9566929 | K13: ='3-1-1'!L445 -> 7.6206897 | ... M13: ='3-1-1'!N445 -> 5.2425819
C14: 小計 | D14: ='3-1-1'!E446 -> 87.882812 | E14: ='3-1-1'!F446 -> 80.654651 | F14: ='3-1-1'!G446 -> 79.808511 | G14: ='3-1-1'!H446 -> 73.934185 | H14: ='3-1-1'!I446 -> 67.494903 | I14: ='3-1-1'!J446 -> 64.461853 | J14: ='3-1-1'!K446 -> 59.905512 | K14: ='3-1-1'!L446 -> 54.637931 | ... M14: ='3-1-1'!N446 -> 78.714609
C15: 現金 | D15: ='3-1-1'!E447 -> 98.050781 | E15: ='3-1-1'!F447 -> 94.452326 | F15: ='3-1-1'!G447 -> 93.369212 | G15: ='3-1-1'!H447 -> 88.856869 | H15: ='3-1-1'!I447 -> 88.165894 | I15: ='3-1-1'!J447 -> 87.666213 | J15: ='3-1-1'!K447 -> 88.614173 | K15: ='3-1-1'!L447 -> 86.965517 | ... M15: ='3-1-1'!N447 -> 92.791118
C16: 手形 | D16: ='3-1-1'!E448 -> 1.9492188 | E16: ='3-1-1'!F448 -> 5.5476744 | F16: ='3-1-1'!G448 -> 6.6307885 | G16: ='3-1-1'!H448 -> 11.143131 | H16: ='3-1-1'!I448 -> 11.834106 | I16: ='3-1-1'!J448 -> 12.336512 | J16: ='3-1-1'!K448 -> 11.385827 | K16: ='3-1-1'!L448 -> 13.034483 | ... M16: ='3-1-1'!N448 -> 7.2089333
D17: ='3-1-1'!E449 -> 100 | E17: ='3-1-1'!F449 -> 100 | F17: ='3-1-1'!G449 -> 100 | G17: ='3-1-1'!H449 -> 100 | H17: ='3-1-1'!I449 -> 100 | I17: ='3-1-1'!J449 -> 100 | J17: ='3-1-1'!K449 -> 100 | K17: ='3-1-1'!L449 -> 100 | ... M17: ='3-1-1'!N449 -> 100.00005
A18: 増減 | B18: 工事施工前 | C18: 現金 | D18: =D6-D30 -> -5.7643241 | E18: =E6-E30 -> -1.3196893 | F18: =F6-F30 -> -1.8386386 | G18: =G6-G30 -> -2.6882621 | H18: =H6-H30 -> -4.7488231 | I18: =I6-I30 -> -4.5117946 | J18: =J6-J30 -> -2.7293858 | K18: =K6-K30 -> -3.8211145 | ... M18: =M6-M30 -> -3.0749622
C19: 手形 | D19: =D7-D31 -> -0.0039510836 | E19: =E7-E31 -> -0.13255299 | F19: =F7-F31 -> -0.00011627676 | G19: =G7-G31 -> -0.19116439 | H19: =H7-H31 -> 0.0056397008 | I19: =I7-I31 -> 0.024716235 | J19: =J7-J31 -> -0.09436271 | K19: =K7-K31 -> 0.14625404 | ... M19: =M7-M31 -> -0.11202901
C20: 小計 | D20: =D8-D32 -> -5.7682752 | E20: =E8-E32 -> -1.4522423 | F20: =F8-F32 -> -1.8387549 | G20: =G8-G32 -> -2.8794265 | H20: =H8-H32 -> -4.7431834 | I20: =I8-I32 -> -4.4870784 | J20: =J8-J32 -> -2.8237485 | K20: =K8-K32 -> -3.6748605 | ... M20: =M8-M32 -> -3.1869912
B21: 工事施工中 | C21: 現金 | D21: =D9-D33 -> -7.5138354 | E21: =E9-E33 -> -0.80757834 | F21: =F9-F33 -> -3.1900894 | G21: =G9-G33 -> -0.29345606 | H21: =H9-H33 -> 0.68470232 | I21: =I9-I33 -> 0.50890101 | J21: =J9-J33 -> 0.80961997 | K21: =K9-K33 -> 7.404874 | ... M21: =M9-M33 -> -2.238059
C22: 手形 | D22: =D10-D34 -> -0.37490405 | E22: =E10-E34 -> -0.86327581 | F22: =F10-F34 -> -0.065302316 | G22: =G10-G34 -> -0.88567917 | H22: =H10-H34 -> 0.61611052 | I22: =I10-I34 -> -0.21705043 | J22: =J10-J34 -> -0.53653466 | K22: =K10-K34 -> -1.404472 | ... M22: =M10-M34 -> -0.81282663
C23: 小計 | D23: =D11-D35 -> -7.8887394 | E23: =E11-E35 -> -1.6708542 | F23: =F11-F35 -> -3.2553917 | G23: =G11-G35 -> -1.1791352 | H23: =H11-H35 -> 1.3008128 | I23: =I11-I35 -> 0.29185058 | J23: =J11-J35 -> 0.27308531 | K23: =K11-K35 -> 6.000402 | ... M23: =M11-M35 -> -3.0508857
B24: 工事施工後 | C24: 現金 | D24: =D12-D36 -> 14.12532 | E24: =E12-E36 -> 5.7407411 | F24: =F12-F36 -> 5.651479 | G24: =G12-G36 -> 5.7213695 | H24: =H12-H36 -> 4.6390683 | I24: =I12-I36 -> 4.4074305 | J24: =J12-J36 -> 2.8964288 | K24: =K12-K36 -> 1.402993 | ... M24: =M12-M36 -> 8.1683204
C25: 手形 | D25: =D13-D37 -> -0.46830529 | E25: =E13-E37 -> -2.6176447 | F25: =F13-F37 -> -0.55733231 | G25: =G13-G37 -> -1.6628078 | H25: =H13-H37 -> -1.1966977 | I25: =I13-I37 -> -0.20947785 | J25: =J13-J37 -> -0.3457656 | K25: =K13-K37 -> -3.7285345 | ... M25: =M13-M37 -> -1.9303922
C26: 小計 | D26: =D14-D38 -> 13.657015 | E26: =E14-E38 -> 3.1230964 | F26: =F14-F38 -> 5.0941466 | G26: =G14-G38 -> 4.0585617 | H26: =H14-H38 -> 3.4423706 | I26: =I14-I38 -> 4.1979526 | J26: =J14-J38 -> 2.5506632 | K26: =K14-K38 -> -2.3255415 | ... M26: =M14-M38 -> 6.2379282
C27: 現金 | D27: =D15-D39 -> 0.84716042 | E27: =E15-E39 -> 3.6134735 | F27: =F15-F39 -> 0.62275091 | G27: =G15-G39 -> 2.7396514 | H27: =H15-H39 -> 0.57494752 | I27: =I15-I39 -> 0.40453684 | J27: =J15-J39 -> 0.97666297 | K27: =K15-K39 -> 4.9867525 | ... M27: =M15-M39 -> 2.8552992
C28: 手形 | D28: =D16-D40 -> -0.84716042 | E28: =E16-E40 -> -3.6134735 | F28: =F16-F40 -> -0.62275091 | G28: =G16-G40 -> -2.7396514 | H28: =H16-H40 -> -0.57494752 | I28: =I16-I40 -> -0.40181204 | J28: =J16-J40 -> -0.97666297 | K28: =K16-K40 -> -4.9867525 | ... M28: =M16-M40 -> -2.8552478
D29: - | E29: - | F29: - | G29: - | H29: - | I29: - | J29: - | K29: - | L29: - | M29: -
A30: R01年度 | B30: 工事施工前 | C30: 現金 | D30: 7.8580741 | E30: 3.698759 | F30: 5.3542832 | G30: 7.8064729 | H30: 11.843355 | I30: 12.680732 | J30: 14.918362 | K30: 14.131459 | L30: 11.913524 | M30: 6.7732253
C31: 手形 | D31: 0.0039510836 | E31: 0.13371578 | F31: 0.041417904 | G31: 0.26400784 | H31: 0.23810451 | I31: 0.26956169 | J31: 0.54711862 | K31: 0.88822872 | L31: 0.58517918 | M31: 0.16078793
C32: 小計 | D32: 7.8620252 | E32: 3.8324748 | F32: 5.3957011 | G32: 8.0704808 | H32: 12.08146 | I32: 12.950294 | J32: 15.465481 | K32: 15.019688 | L32: 12.498703 | M32: 6.9340132
B33: 工事施工中 | C33: 現金 | D33: 17.420085 | E33: 16.31223 | F33: 18.55054 | G33: 17.977801 | H33: 20.091943 | I33: 21.684559 | J33: 22.666758 | K33: 22.233057 | L33: 24.898495 | M33: 17.858887
C34: 手形 | D34: 0.49209155 | E34: 2.3237409 | F34: 1.3393949 | G34: 4.0760945 | H34: 3.7740656 | I34: 5.1012466 | J34: 4.5129126 | K34: 5.7837824 | L34: 6.6978792 | M34: 2.7304191
C35: 小計 | D35: 17.912177 | E35: 18.63597 | F35: 19.889935 | G35: 22.053896 | H35: 23.866008 | I35: 26.785806 | J35: 27.179671 | K35: 28.016839 | L35: 31.596374 | M35: 20.589306
B36: 工事施工後 | C36: 現金 | D36: 71.925461 | E36: 70.827864 | F36: 68.841637 | G36: 60.332944 | H36: 55.655649 | I36: 52.896384 | J36: 50.05239 | K36: 45.614248 | L36: 45.421717 | M36: 65.303706
C37: 手形 | D37: 2.3003365 | E37: 6.7036912 | F37: 5.8727266 | G37: 9.54268 | H37: 8.3968831 | I37: 7.367516 | J37: 7.3024585 | K37: 11.349224 | L37: 10.483206 | M37: 7.172974
C38: 小計 | D38: 74.225798 | E38: 77.531555 | F38: 74.714364 | G38: 69.875624 | H38: 64.052532 | I38: 60.2639 | J38: 57.354849 | K38: 56.963473 | L38: 55.904923 | M38: 72.47668
C39: 現金 | D39: 97.203621 | E39: 90.838852 | F39: 92.746461 | G39: 86.117218 | H39: 87.590947 | I39: 87.261676 | J39: 87.63751 | K39: 81.978765 | L39: 82.233736 | M39: 89.935819
C40: 手形 | D40: 2.7963792 | E40: 9.1611479 | F40: 7.2535394 | G40: 13.882782 | H40: 12.409053 | I40: 12.738324 | J40: 12.36249 | K40: 18.021235 | L40: 17.766264 | M40: 10.064181
D41: 100 | E41: 100 | F41: 100 | G41: 100 | H41: 100 | I41: 100 | J41: 100 | K41: 100 | L41: 100 | M41: 100
A42: 増減 | B42: 工事施工前 | C42: 現金 | D42: =D30-D54 -> 2.76668 | E42: =E30-E54 -> 0.075922182 | F42: =F30-F54 -> -0.41835959 | G42: =G30-G54 -> 0.21428607 | H42: =H30-H54 -> 0.86420416 | I42: =I30-I54 -> 0.30480599 | J42: =J30-J54 -> 1.4909356 | K42: =K30-K54 -> 0.64017427 | ... M42: =M30-M54 -> 0.45266437
C43: 手形 | D43: =D31-D55 -> -0.19030211 | E43: =E31-E55 -> -0.41250953 | F43: =F31-F55 -> -0.68527884 | G43: =G31-G55 -> -1.2163487 | H43: =H31-H55 -> -1.4982664 | I43: =I31-I55 -> -1.7921071 | J43: =J31-J55 -> -2.0853692 | K43: =K31-K55 -> -1.966627 | ... M43: =M31-M55 -> -0.81987356
C44: 小計 | D44: =D32-D56 -> 2.5763779 | E44: =E32-E56 -> -0.33658735 | F44: =F32-F56 -> -1.1036384 | G44: =G32-G56 -> -1.0020626 | H44: =H32-H56 -> -0.63406225 | I44: =I32-I56 -> -1.4873011 | J44: =J32-J56 -> -0.59443362 | K44: =K32-K56 -> -1.3264528 | ... M44: =M32-M56 -> -0.36720919
B45: 工事施工中 | C45: 現金 | D45: =D33-D57 -> 2.3937883 | E45: =E33-E57 -> 3.1284415 | F45: =F33-F57 -> 6.636768 | G45: =G33-G57 -> 5.6753666 | H45: =H33-H57 -> 7.0853931 | I45: =I33-I57 -> 7.1961671 | J45: =J33-J57 -> 8.3538622 | K45: =K33-K57 -> 12.710534 | ... M45: =M33-M57 -> 4.8780024
C46: 手形 | D46: =D34-D58 -> -8.8465709 | E46: =E34-E58 -> -13.785656 | F46: =F34-F58 -> -14.652975 | G46: =G34-G58 -> -15.044187 | H46: =H34-H58 -> -15.417999 | I46: =I34-I58 -> -14.30668 | J46: =J34-J58 -> -19.103402 | K46: =K34-K58 -> -23.241648 | ... M46: =M34-M58 -> -13.739592
C47: 小計 | D47: =D35-D59 -> -6.4527826 | E47: =E35-E59 -> -10.657215 | F47: =F35-F59 -> -8.0162069 | G47: =G35-G59 -> -9.3688208 | H47: =H35-H59 -> -8.3326059 | I47: =I35-I59 -> -7.1105125 | J47: =J35-J59 -> -10.74954 | K47: =K35-K59 -> -10.531114 | ... M47: =M35-M59 -> -8.8615898
B48: 工事施工後 | C48: 現金 | D48: =D36-D60 -> 5.6659697 | E48: =E36-E60 -> 12.726055 | F48: =F36-F60 -> 11.758872 | G48: =G36-G60 -> 12.236326 | H48: =H36-H60 -> 10.376288 | I48: =I36-I60 -> 9.9540127 | J48: =J36-J60 -> 10.681056 | K48: =K36-K60 -> 11.320899 | ... M48: =M36-M60 -> 11.010921
C49: 手形 | D49: =D37-D61 -> -1.789565 | E49: =E37-E61 -> -1.7322529 | F49: =F37-F61 -> -2.6390262 | G49: =G37-G61 -> -1.8654428 | H49: =H37-H61 -> -1.4096202 | I49: =I37-I61 -> -1.3561991 | J49: =J37-J61 -> 0.66291793 | K49: =K37-K61 -> 0.53666755 | ... M49: =M37-M61 -> -1.782122
C50: 小計 | D50: =D38-D62 -> 3.8764047 | E50: =E38-E62 -> 10.993802 | F50: =F38-F62 -> 9.1198453 | G50: =G38-G62 -> 10.370883 | H50: =H38-H62 -> 8.9666682 | I50: =I38-I62 -> 8.5978136 | J50: =J38-J62 -> 11.343974 | K50: =K38-K62 -> 11.857566 | ... M50: =M38-M62 -> 9.228799
C51: 現金 | D51: =D39-D63 -> 10.826438 | E51: =E39-E63 -> 15.930419 | F51: =F39-F63 -> 17.97728 | G51: =G39-G63 -> 18.125979 | H51: =H39-H63 -> 18.325886 | I51: =I39-I63 -> 17.454986 | J51: =J39-J63 -> 20.525854 | K51: =K39-K63 -> 24.671607 | ... M51: =M39-M63 -> 16.341588
C52: 手形 | D52: =D40-D64 -> -10.826438 | E52: =E40-E64 -> -15.930419 | F52: =F40-F64 -> -17.97728 | G52: =G40-G64 -> -18.125979 | H52: =H40-H64 -> -18.325886 | I52: =I40-I64 -> -17.454986 | J52: =J40-J64 -> -20.525854 | K52: =K40-K64 -> -24.671607 | ... M52: =M40-M64 -> -16.341588
D53: - | E53: - | F53: - | G53: - | H53: - | I53: - | J53: - | K53: - | L53: - | M53: -
A54: H26年度 | B54: 工事施工前 | C54: 現金 | D54: 5.0913941 | E54: 3.6228369 | F54: 5.7726428 | G54: 7.5921869 | H54: 10.979151 | I54: 12.375926 | J54: 13.427427 | K54: 13.491285 | L54: 12.106721 | M54: 6.3205609
C55: 手形 | D55: 0.19425319 | E55: 0.54622531 | F55: 0.72669675 | G55: 1.4803565 | H55: 1.7363709 | I55: 2.0616688 | J55: 2.6324878 | K55: 2.8548558 | L55: 3.3709628 | M55: 0.98066149
C56: 小計 | D56: 5.2856473 | E56: 4.1690622 | F56: 6.4993395 | G56: 9.0725434 | H56: 12.715522 | I56: 14.437595 | J56: 16.059914 | K56: 16.346141 | L56: 15.477683 | M56: 7.3012224
B57: 工事施工中 | C57: 現金 | D57: 15.026297 | E57: 13.183788 | F57: 11.913772 | G57: 12.302434 | H57: 13.00655 | I57: 14.488392 | J57: 14.312896 | K57: 9.5225227 | L57: 9.6641617 | M57: 12.980885
C58: 手形 | D58: 9.3386625 | E58: 16.109397 | F58: 15.99237 | G58: 19.120282 | H58: 19.192065 | I58: 19.407926 | J58: 23.616315 | K58: 29.02543 | L58: 35.389082 | M58: 16.470011
C59: 小計 | D59: 24.36496 | E59: 29.293185 | F59: 27.906142 | G59: 31.422716 | H59: 32.198614 | I59: 33.896319 | J59: 37.929211 | K59: 38.547953 | L59: 45.053244 | M59: 29.450896
B60: 工事施工後 | C60: 現金 | D60: 66.259492 | E60: 58.101809 | F60: 57.082766 | G60: 48.096617 | H60: 45.279361 | I60: 42.942372 | J60: 39.371334 | K60: 34.29335 | L60: 30.00811 | M60: 54.292785
C61: 手形 | D61: 4.0899015 | E61: 8.4359441 | F61: 8.5117528 | G61: 11.408123 | H61: 9.8065033 | I61: 8.7237151 | J61: 6.6395406 | K61: 10.812557 | L61: 9.4609627 | M61: 8.9550961
C62: 小計 | D62: 70.349393 | E62: 66.537753 | F62: 65.594519 | G62: 59.50474 | H62: 55.085864 | I62: 51.666087 | J62: 46.010875 | K62: 45.105906 | L62: 39.469073 | M62: 63.247881
C63: 現金 | D63: 86.377183 | E63: 74.908433 | F63: 74.769181 | G63: 67.991239 | H63: 69.265061 | I63: 69.80669 | J63: 67.111657 | K63: 57.307157 | L63: 51.778992 | M63: 73.594231
C64: 手形 | D64: 13.622817 | E64: 25.091567 | F64: 25.230819 | G64: 32.008761 | H64: 30.734939 | I64: 30.19331 | J64: 32.888343 | K64: 42.692843 | L64: 48.221008 | M64: 26.405769
D65: 100 | E65: 100 | F65: 100 | G65: 100 | H65: 100 | I65: 100 | J65: 100 | K65: 100 | L65: 100 | M65: 100
A66: 増減 | B66: 工事施工前 | C66: 現金 | D66: =D54-D78 -> -0.80860591 | E66: =E54-E78 -> -0.077163133 | F66: =F54-F78 -> 0.47264276 | G66: =G54-G78 -> 0.39218686 | H66: =H54-H78 -> 0.079150916 | I66: =I54-I78 -> -0.32407403 | J66: =J54-J78 -> 0.72742662 | K66: =K54-K78 -> 2.4912851 | ... M66: =M54-M78 -> 0.0205609
C67: 手形 | D67: =D55-D79 -> 0.19425319 | E67: =E55-E79 -> 0.44622531 | F67: =F55-F79 -> 0.72669675 | G67: =G55-G79 -> 1.3803565 | H67: =H55-H79 -> 1.5363709 | I67: =I55-I79 -> 1.6616688 | J67: =J55-J79 -> 2.4324878 | K67: =K55-K79 -> 2.2548558 | ... M67: =M55-M79 -> 0.88066149
C68: 小計 | D68: =D56-D80 -> -0.61435272 | E68: =E56-E80 -> 0.36906218 | F68: =F56-F80 -> 1.0993395 | G68: =G56-G80 -> 1.7725434 | H68: =H56-H80 -> 1.6155218 | I68: =I56-I80 -> 1.3375947 | J68: =J56-J80 -> 3.2599144 | K68: =K56-K80 -> 4.8461409 | ... M68: =M56-M80 -> 1.0012224
B69: 工事施工中 | C69: 現金 | D69: =D57-D81 -> -3.3737029 | E69: =E57-E81 -> -2.816212 | F69: =F57-F81 -> -2.886228 | G69: =G57-G81 -> -4.1975655 | H69: =H57-H81 -> -4.6934504 | I69: =I57-I81 -> -5.8116076 | J69: =J57-J81 -> -7.9871042 | K69: =K57-K81 -> -11.477477 | ... M69: =M57-M81 -> -3.7191152
C70: 手形 | D70: =D58-D82 -> 7.4386625 | E70: =E58-E82 -> 13.709397 | F70: =F58-F82 -> 13.79237 | G70: =G58-G82 -> 15.720282 | H70: =H58-H82 -> 14.192065 | I70: =I58-I82 -> 13.507926 | J70: =J58-J82 -> 18.216315 | K70: =K58-K82 -> 19.82543 | ... M70: =M58-M82 -> 13.570011
C71: 小計 | D71: =D59-D83 -> 4.0649596 | E71: =E59-E83 -> 10.793185 | F71: =F59-F83 -> 10.806142 | G71: =G59-G83 -> 11.522716 | H71: =H59-H83 -> 9.5986142 | I71: =I59-I83 -> 7.7963186 | J71: =J59-J83 -> 10.229211 | K71: =K59-K83 -> 8.3479529 | ... M71: =M59-M83 -> 9.8508961
B72: 工事施工後 | C72: 現金 | D72: =D60-D84 -> -2.8405083 | E72: =E60-E84 -> -11.298191 | F72: =F60-F84 -> -11.617234 | G72: =G60-G84 -> -13.403383 | H72: =H60-H84 -> -11.020639 | I72: =I60-I84 -> -8.2576285 | J72: =J60-J84 -> -11.328666 | K72: =K60-K84 -> -14.80665 | ... M72: =M60-M84 -> -10.807215
C73: 手形 | D73: =D61-D85 -> -0.51009851 | E73: =E61-E85 -> 0.13594407 | F73: =F61-F85 -> -0.2882472 | G73: =G61-G85 -> 0.10812281 | H73: =H61-H85 -> -0.19349671 | I73: =I61-I85 -> -0.87628489 | J73: =J61-J85 -> -2.0604594 | K73: =K61-K85 -> 1.6125566 | ... M73: =M61-M85 -> -0.04490392
C74: 小計 | D74: =D62-D86 -> -3.3506068 | E74: =E62-E86 -> -11.162247 | F74: =F62-F86 -> -12.005481 | G74: =G62-G86 -> -13.29526 | H74: =H62-H86 -> -11.214136 | I74: =I62-I86 -> -9.1339134 | J74: =J62-J86 -> -13.489125 | K74: =K62-K86 -> -13.194094 | ... M74: =M62-M86 -> -10.852119
C75: 現金 | D75: =D63-D87 -> -7.0228172 | E75: =E63-E87 -> -14.191567 | F75: =F63-F87 -> -14.130819 | G75: =G63-G87 -> -17.208761 | H75: =H63-H87 -> -15.634939 | I75: =I63-I87 -> -14.39331 | J75: =J63-J87 -> -18.588343 | K75: =K63-K87 -> -23.692843 | ... M75: =M63-M87 -> -14.405769
C76: 手形 | D76: =D64-D88 -> 7.0228172 | E76: =E64-E88 -> 14.191567 | F76: =F64-F88 -> 14.130819 | G76: =G64-G88 -> 17.208761 | H76: =H64-H88 -> 15.634939 | I76: =I64-I88 -> 14.39331 | J76: =J64-J88 -> 18.588343 | K76: =K64-K88 -> 23.692843 | ... M76: =M64-M88 -> 14.405769
D77: - | E77: - | F77: - | G77: - | H77: - | I77: - | J77: - | K77: - | L77: - | M77: -
A78: H23年度 | B78: 工事施工前 | C78: 現金 | D78: 5.9 | E78: 3.7 | F78: 5.3 | G78: 7.2 | H78: 10.9 | I78: 12.7 | J78: 12.7 | K78: 11 | L78: 11 | M78: 6.3
C79: 手形 | D79: 0 | E79: 0.1 | F79: 0 | G79: 0.1 | H79: 0.2 | I79: 0.4 | J79: 0.2 | K79: 0.6 | L79: 0.6 | M79: 0.1
C80: 小計 | D80: 5.9 | E80: 3.8 | F80: 5.4 | G80: 7.3 | H80: 11.1 | I80: 13.1 | J80: 12.8 | K80: 11.5 | L80: 11.6 | M80: 6.3
B81: 工事施工中 | C81: 現金 | D81: 18.4 | E81: 16 | F81: 14.8 | G81: 16.5 | H81: 17.7 | I81: 20.3 | J81: 22.3 | K81: 21 | L81: 24.7 | M81: 16.7
C82: 手形 | D82: 1.9 | E82: 2.4 | F82: 2.2 | G82: 3.4 | H82: 5 | I82: 5.9 | J82: 5.4 | K82: 9.2 | L82: 9.2 | M82: 2.9
C83: 小計 | D83: 20.3 | E83: 18.5 | F83: 17.1 | G83: 19.9 | H83: 22.6 | I83: 26.1 | J83: 27.7 | K83: 30.2 | L83: 33.9 | M83: 19.6
B84: 工事施工後 | C84: 現金 | D84: 69.1 | E84: 69.4 | F84: 68.7 | G84: 61.5 | H84: 56.3 | I84: 51.2 | J84: 50.7 | K84: 49.1 | L84: 43.1 | M84: 65.1
C85: 手形 | D85: 4.6 | E85: 8.3 | F85: 8.8 | G85: 11.3 | H85: 10 | I85: 9.6 | J85: 8.7 | K85: 9.2 | L85: 11.4 | M85: 9
C86: 小計 | D86: 73.7 | E86: 77.7 | F86: 77.6 | G86: 72.8 | H86: 66.3 | I86: 60.8 | J86: 59.5 | K86: 58.3 | L86: 54.5 | M86: 74.1
C87: 現金 | D87: 93.4 | E87: 89.1 | F87: 88.9 | G87: 85.2 | H87: 84.9 | I87: 84.2 | J87: 85.7 | K87: 81 | L87: 78.8 | M87: 88
C88: 手形 | D88: 6.6 | E88: 10.9 | F88: 11.1 | G88: 14.8 | H88: 15.1 | I88: 15.8 | J88: 14.3 | K88: 19 | L88: 21.2 | M88: 12
D89: 100 | E89: 100 | F89: 100 | G89: 100 | H89: 100 | I89: 100 | J89: 100 | K89: 100 | L89: 100 | M89: 100
A90: 増減 | B90: 工事施工前 | C90: 現金 | D90: =D78-D102 -> 0.6 | E90: =E78-E102 -> 0.1 | F90: =F78-F102 -> -0.3 | G90: =G78-G102 -> -0.9 | H90: =H78-H102 -> -1.3 | I90: =I78-I102 -> 0.9 | J90: =J78-J102 -> 1.8 | K90: =K78-K102 -> -2.1 | ... M90: =M78-M102 -> -0.3
C91: 手形 | D91: =D79-D103 -> 0 | E91: =E79-E103 -> -0.2 | F91: =F79-F103 -> -0.1 | G91: =G79-G103 -> -0.1 | H91: =H79-H103 -> -0.1 | I91: =I79-I103 -> -0.1 | J91: =J79-J103 -> -0.5 | K91: =K79-K103 -> -0.3 | ... M91: =M79-M103 -> -0.1
C92: 小計 | D92: =D80-D104 -> 0.6 | E92: =E80-E104 -> -0.1 | F92: =F80-F104 -> -0.4 | G92: =G80-G104 -> -1 | H92: =H80-H104 -> -1.4 | I92: =I80-I104 -> 0.8 | J92: =J80-J104 -> 1.2 | K92: =K80-K104 -> -2.6 | ... M92: =M80-M104 -> -0.5
B93: 工事施工中 | C93: 現金 | D93: =D81-D105 -> 3.4 | E93: =E81-E105 -> 0.7 | F93: =F81-F105 -> -0.3 | G93: =G81-G105 -> -0.1 | H93: =H81-H105 -> -0.3 | I93: =I81-I105 -> 0.8 | J93: =J81-J105 -> 0.1 | K93: =K81-K105 -> -0.2 | ... M93: =M81-M105 -> 0.7
C94: 手形 | D94: =D82-D106 -> 0.1 | E94: =E82-E106 -> -0.5 | F94: =F82-F106 -> -0.4 | G94: =G82-G106 -> -1.6 | H94: =H82-H106 -> -0.4 | I94: =I82-I106 -> -0.8 | J94: =J82-J106 -> -1.2 | K94: =K82-K106 -> 2.1 | ... M94: =M82-M106 -> -0.8
C95: 小計 | D95: =D83-D107 -> 3.5 | E95: =E83-E107 -> 0.3 | F95: =F83-F107 -> -0.6 | G95: =G83-G107 -> -1.7 | H95: =H83-H107 -> -0.7 | I95: =I83-I107 -> -0.1 | J95: =J83-J107 -> -1.1 | K95: =K83-K107 -> 1.9 | ... M95: =M83-M107 -> -0.1
B96: 工事施工後 | C96: 現金 | D96: =D84-D108 -> -2.6 | E96: =E84-E108 -> 2.9 | F96: =F84-F108 -> 2.5 | G96: =G84-G108 -> 4.7 | H96: =H84-H108 -> 2.4 | I96: =I84-I108 -> 0.3 | J96: =J84-J108 -> 3.5 | K96: =K84-K108 -> 2.6 | ... M96: =M84-M108 -> 2.7
C97: 手形 | D97: =D85-D109 -> -1.6 | E97: =E85-E109 -> -3 | F97: =F85-F109 -> -1.5 | G97: =G85-G109 -> -2.1 | H97: =H85-H109 -> -0.3 | I97: =I85-I109 -> -1 | J97: =J85-J109 -> -3.7 | K97: =K85-K109 -> -1.9 | ... M97: =M85-M109 -> -2
C98: 小計 | D98: =D86-D110 -> -4.2 | E98: =E86-E110 -> -0.1 | F98: =F86-F110 -> 1.1 | G98: =G86-G110 -> 2.6 | H98: =H86-H110 -> 2.1 | I98: =I86-I110 -> -0.7 | J98: =J86-J110 -> -0.1 | K98: =K86-K110 -> 0.7 | ... M98: =M86-M110 -> 0.7
C99: 現金 | D99: =D87-D111 -> 1.4 | E99: =E87-E111 -> 3.7 | F99: =F87-F111 -> 2 | G99: =G87-G111 -> 3.7 | H99: =H87-H111 -> 0.8 | I99: =I87-I111 -> 1.9 | J99: =J87-J111 -> 5.4 | K99: =K87-K111 -> 0.2 | ... M99: =M87-M111 -> 2.9
C100: 手形 | D100: =D88-D112 -> -1.4 | E100: =E88-E112 -> -3.7 | F100: =F88-F112 -> -2 | G100: =G88-G112 -> -3.7 | H100: =H88-H112 -> -0.8 | I100: =I88-I112 -> -1.9 | J100: =J88-J112 -> -5.4 | K100: =K88-K112 -> -0.2 | ... M100: =M88-M112 -> -2.9
D101: - | E101: - | F101: - | G101: - | H101: - | I101: - | J101: - | K101: - | L101: - | M101: -
...

Sheet 3-1-3
A1: 表3－1－3 工事代金の受取時期及び受取条件（経年変化②：６業種別）
N3: （単位：％）
C4: 年度 | D4: R06年度 | F4: R01年度 | H4: H26年度 | J4: H23年度 | L4: H20年度 | N4: H17年度
A5: 業種 | B5: 受取時期・受取条件 | E5: 増減 | G5: 増減 | I5: 増減 | K5: 増減 | M5: 増減
A6: 一般土木建築 | B6: 工事施工前 | C6: 現金 | D6: ='3-1-1'!N6 -> 12.397844 | E6: =D6-F6 -> -4.3275055 | F6: 16.72535 | G6: =F6-H6 -> 1.0929577 | H6: 15.632392 | I6: =H6-J6 -> 1.8323922 | J6: 13.8 | K6: =J6-L6 -> 1.5 | L6: 12.3 | M6: =L6-N6 -> -1.6 | N6: 13.9
C7: 手形 | D7: ='3-1-1'!N7 -> 0.032995105 | E7: =D7-F7 -> -0.27584148 | F7: 0.30883659 | G7: =F7-H7 -> -0.85965429 | H7: 1.1684909 | I7: =H7-J7 -> 0.86849088 | J7: 0.3 | K7: =J7-L7 -> 0.1 | L7: 0.2 | M7: =L7-N7 -> -0.1 | N7: 0.3
C8: 小計 | D8: ='3-1-1'!N8 -> 12.43084 | E8: =D8-F8 -> -4.603347 | F8: 17.034186 | G8: =F8-H8 -> 0.2333034 | H8: 16.800883 | I8: =H8-J8 -> 2.6008831 | J8: 14.2 | K8: =J8-L8 -> 1.6 | L8: 12.6 | M8: =L8-N8 -> -1.7 | N8: 14.3
B9: 工事施工中 | C9: 現金 | D9: ='3-1-1'!N9 -> 14.963702 | E9: =D9-F9 -> -0.21362553 | F9: 15.177327 | G9: =F9-H9 -> 1.2667766 | H9: 13.91055 | I9: =H9-J9 -> -2.0894495 | J9: 16 | K9: =J9-L9 -> -0.7 | L9: 16.7 | M9: =L9-N9 -> 0.6 | N9: 16.1
C10: 手形 | D10: ='3-1-1'!N10 -> 1.2473713 | E10: =D10-F10 -> -0.60200533 | F10: 1.8493767 | G10: =F10-H10 -> -15.598464 | H10: 17.447841 | I10: =H10-J10 -> 14.547841 | J10: 2.9 | K10: =J10-L10 -> -1.1 | L10: 4 | M10: =L10-N10 -> -0.1 | N10: 4.1
C11: 小計 | D11: ='3-1-1'!N11 -> 16.211073 | E11: =D11-F11 -> -0.81563087 | F11: 17.026704 | G11: =F11-H11 -> -14.331687 | H11: 31.358391 | I11: =H11-J11 -> 12.458391 | J11: 18.9 | K11: =J11-L11 -> -1.7 | L11: 20.6 | M11: =L11-N11 -> 0.4 | N11: 20.2
B12: 工事施工後 | C12: 現金 | D12: ='3-1-1'!N12 -> 69.080084 | E12: =D12-F12 -> 8.466245 | F12: 60.613839 | G12: =F12-H12 -> 14.670447 | H12: 45.943392 | I12: =H12-J12 -> -14.856608 | J12: 60.8 | K12: =J12-L12 -> 2 | L12: 58.8 | M12: =L12-N12 -> 0.9 | N12: 57.9
C13: 手形 | D13: ='3-1-1'!N13 -> 2.278004 | E13: =D13-F13 -> -3.0472672 | F13: 5.3252712 | G13: =F13-H13 -> -0.57206284 | H13: 5.897334 | I13: =H13-J13 -> -0.30266599 | J13: 6.2 | K13: =J13-L13 -> -1.8 | L13: 8 | M13: =L13-N13 -> 0.3 | N13: 7.7
C14: 小計 | D14: ='3-1-1'!N14 -> 71.358088 | E14: =D14-F14 -> 5.4189778 | F14: 65.93911 | G14: =F14-H14 -> 14.098384 | H14: 51.840726 | I14: =H14-J14 -> -15.159274 | J14: 67 | K14: =J14-L14 -> 0.2 | L14: 66.8 | M14: =L14-N14 -> 1.3 | N14: 65.5
B15: 小 計 | C15: 現金 | D15: ='3-1-1'!N15 -> 96.44163 | E15: =D15-F15 -> 3.925114 | F15: 92.516516 | G15: =F15-H15 -> 17.030181 | H15: 75.486335 | I15: =H15-J15 -> -15.113665 | J15: 90.6 | K15: =J15-L15 -> 2.7 | L15: 87.9 | M15: =L15-N15 -> 0 | N15: 87.9
C16: 手形 | D16: ='3-1-1'!N16 -> 3.5583704 | E16: =D16-F16 -> -3.925114 | F16: 7.4834844 | G16: =F16-H16 -> -17.030181 | H16: 24.513665 | I16: =H16-J16 -> 15.113665 | J16: 9.4 | K16: =J16-L16 -> -2.7 | L16: 12.1 | M16: =L16-N16 -> 0 | N16: 12.1
D17: ='3-1-1'!N17 -> 100 | E17: =D17-F17 -> 0 | F17: 100 | G17: =F17-H17 -> 0 | H17: 100 | I17: =H17-J17 -> 0 | J17: 100 | K17: =J17-L17 -> 0 | L17: 100 | M17: =L17-N17 -> 0 | N17: 100
A18: 土木 | B18: 工事施工前 | C18: 現金 | D18: ='3-1-1'!N78 -> 8.0914698 | E18: =D18-F18 -> -1.5448247 | F18: 9.6362946 | G18: =F18-H18 -> -0.57950977 | H18: 10.215804 | I18: =H18-J18 -> 1.1158043 | J18: 9.1 | K18: =J18-L18 -> -1 | L18: 10.1 | M18: =L18-N18 -> -0.8 | N18: 10.9
C19: 手形 | D19: ='3-1-1'!N79 -> 0.10881995 | E19: =D19-F19 -> -0.15221219 | F19: 0.26103214 | G19: =F19-H19 -> -0.64028439 | H19: 0.90131653 | I19: =H19-J19 -> 0.90131653 | J19: 0 | K19: =J19-L19 -> -0.2 | L19: 0.2 | M19: =L19-N19 -> 0 | N19: 0.2
C20: 小計 | D20: ='3-1-1'!N80 -> 8.2002898 | E20: =D20-F20 -> -1.6970369 | F20: 9.8973267 | G20: =F20-H20 -> -1.2197942 | H20: 11.117121 | I20: =H20-J20 -> 2.0171209 | J20: 9.1 | K20: =J20-L20 -> -1.2 | L20: 10.3 | M20: =L20-N20 -> -0.8 | N20: 11.1
B21: 工事施工中 | C21: 現金 | D21: ='3-1-1'!N81 -> 13.43477 | E21: =D21-F21 -> -1.9596045 | F21: 15.394374 | G21: =F21-H21 -> 4.5507916 | H21: 10.843582 | I21: =H21-J21 -> -3.6564175 | J21: 14.5 | K21: =J21-L21 -> -0.8 | L21: 15.3 | M21: =L21-N21 -> 0.7 | N21: 14.6
C22: 手形 | D22: ='3-1-1'!N82 -> 0.72524047 | E22: =D22-F22 -> -0.9165642 | F22: 1.6418047 | G22: =F22-H22 -> -15.059535 | H22: 16.70134 | I22: =H22-J22 -> 14.20134 | J22: 2.5 | K22: =J22-L22 -> -1.3 | L22: 3.8 | M22: =L22-N22 -> 0.1 | N22: 3.7
C23: 小計 | D23: ='3-1-1'!N83 -> 14.16001 | E23: =D23-F23 -> -2.8761687 | F23: 17.036179 | G23: =F23-H23 -> -10.508743 | H23: 27.544922 | I23: =H23-J23 -> 10.544922 | J23: 17 | K23: =J23-L23 -> -2.1 | L23: 19.1 | M23: =L23-N23 -> 0.8 | N23: 18.3
B24: 工事施工後 | C24: 現金 | D24: ='3-1-1'!N84 -> 74.901539 | E24: =D24-F24 -> 7.6400636 | F24: 67.261475 | G24: =F24-H24 -> 11.705816 | H24: 55.555659 | I24: =H24-J24 -> -12.144341 | J24: 67.7 | K24: =J24-L24 -> 3.8 | L24: 63.9 | M24: =L24-N24 -> 0.4 | N24: 63.5
C25: 手形 | D25: ='3-1-1'!N85 -> 2.738452 | E25: =D25-F25 -> -3.0665675 | F25: 5.8050194 | G25: =F25-H25 -> 0.022721415 | H25: 5.782298 | I25: =H25-J25 -> -0.41770199 | J25: 6.2 | K25: =J25-L25 -> -0.5 | L25: 6.7 | M25: =L25-N25 -> -0.3 | N25: 7
C26: 小計 | D26: ='3-1-1'!N86 -> 77.639991 | E26: =D26-F26 -> 4.5734961 | F26: 73.066495 | G26: =F26-H26 -> 11.728538 | H26: 61.337957 | I26: =H26-J26 -> -12.562043 | J26: 73.9 | K26: =J26-L26 -> 3.3 | L26: 70.6 | M26: =L26-N26 -> 0 | N26: 70.6
B27: 小 計 | C27: 現金 | D27: ='3-1-1'!N87 -> 96.427778 | E27: =D27-F27 -> 4.1356344 | F27: 92.292144 | G27: =F27-H27 -> 15.677098 | H27: 76.615046 | I27: =H27-J27 -> -14.584954 | J27: 91.2 | K27: =J27-L27 -> 1.8 | L27: 89.4 | M27: =L27-N27 -> 0.4 | N27: 89
C28: 手形 | D28: ='3-1-1'!N88 -> 3.5725124 | E28: =D28-F28 -> -4.1353439 | F28: 7.7078562 | G28: =F28-H28 -> -15.677098 | H28: 23.384954 | I28: =H28-J28 -> 14.584954 | J28: 8.8 | K28: =J28-L28 -> -1.8 | L28: 10.6 | M28: =L28-N28 -> -0.4 | N28: 11
D29: ='3-1-1'!N89 -> 100.00029 | E29: =D29-F29 -> 0.00029050931 | F29: 100 | G29: =F29-H29 -> 0 | H29: 100 | I29: =H29-J29 -> 0 | J29: 100 | K29: =J29-L29 -> 0 | L29: 100 | M29: =L29-N29 -> 0 | N29: 100
A30: 建築 | B30: 工事施工前 | C30: 現金 | D30: ='3-1-1'!N90 -> 9.8309986 | E30: =D30-F30 -> -0.95073999 | F30: 10.781739 | G30: =F30-H30 -> 0.87406038 | H30: 9.9076782 | I30: =H30-J30 -> -0.49232181 | J30: 10.4 | K30: =J30-L30 -> 0.1 | L30: 10.3 | M30: =L30-N30 -> -1.3 | N30: 11.6
C31: 手形 | D31: ='3-1-1'!N91 -> 0.052408274 | E31: =D31-F31 -> -0.12040183 | F31: 0.1728101 | G31: =F31-H31 -> -0.6909833 | H31: 0.8637934 | I31: =H31-J31 -> 0.8637934 | J31: 0 | K31: =J31-L31 -> -0.2 | L31: 0.2 | M31: =L31-N31 -> -0.1 | N31: 0.3
C32: 小計 | D32: ='3-1-1'!N92 -> 9.8834068 | E32: =D32-F32 -> -1.0711418 | F32: 10.954549 | G32: =F32-H32 -> 0.18307707 | H32: 10.771472 | I32: =H32-J32 -> 0.37147159 | J32: 10.4 | K32: =J32-L32 -> -0.1 | L32: 10.5 | M32: =L32-N32 -> -1.4 | N32: 11.9
B33: 工事施工中 | C33: 現金 | D33: ='3-1-1'!N93 -> 22.51141 | E33: =D33-F33 -> -0.66939836 | F33: 23.180808 | G33: =F33-H33 -> 6.4857605 | H33: 16.695048 | I33: =H33-J33 -> -9.4049521 | J33: 26.1 | K33: =J33-L33 -> 4.6 | L33: 21.5 | M33: =L33-N33 -> -2.1 | N33: 23.6
C34: 手形 | D34: ='3-1-1'!N94 -> 0.94405896 | E34: =D34-F34 -> -0.96716779 | F34: 1.9112267 | G34: =F34-H34 -> -14.95489 | H34: 16.866117 | I34: =H34-J34 -> 14.766117 | J34: 2.1 | K34: =J34-L34 -> -0.1 | L34: 2.2 | M34: =L34-N34 -> 0.6 | N34: 1.6
C35: 小計 | D35: ='3-1-1'!N95 -> 23.455469 | E35: =D35-F35 -> -1.6365661 | F35: 25.092035 | G35: =F35-H35 -> -8.4691293 | H35: 33.561164 | I35: =H35-J35 -> 5.3611644 | J35: 28.2 | K35: =J35-L35 -> 4.5 | L35: 23.7 | M35: =L35-N35 -> -1.5 | N35: 25.2
B36: 工事施工後 | C36: 現金 | D36: ='3-1-1'!N96 -> 64.268965 | E36: =D36-F36 -> 4.6522948 | F36: 59.61667 | G36: =F36-H36 -> 10.423317 | H36: 49.193353 | I36: =H36-J36 -> -9.0066467 | J36: 58.2 | K36: =J36-L36 -> -1 | L36: 59.2 | M36: =L36-N36 -> 1.9 | N36: 57.3
C37: 手形 | D37: ='3-1-1'!N97 -> 2.3921592 | E37: =D37-F37 -> -1.9445868 | F37: 4.336746 | G37: =F37-H37 -> -2.1372648 | H37: 6.4740108 | I37: =H37-J37 -> 3.2740108 | J37: 3.2 | K37: =J37-L37 -> -3.4 | L37: 6.6 | M37: =L37-N37 -> 1 | N37: 5.6
C38: 小計 | D38: ='3-1-1'!N98 -> 66.661124 | E38: =D38-F38 -> 2.707708 | F38: 63.953416 | G38: =F38-H38 -> 8.2860522 | H38: 55.667364 | I38: =H38-J38 -> -5.732636 | J38: 61.4 | K38: =J38-L38 -> -4.4 | L38: 65.8 | M38: =L38-N38 -> 2.9 | N38: 62.9
B39: 小 計 | C39: 現金 | D39: ='3-1-1'!N99 -> 96.611374 | E39: =D39-F39 -> 3.0321565 | F39: 93.579217 | G39: =F39-H39 -> 17.783138 | H39: 75.796079 | I39: =H39-J39 -> -18.903921 | J39: 94.7 | K39: =J39-L39 -> 3.6 | L39: 91.1 | M39: =L39-N39 -> -1.4 | N39: 92.5
C40: 手形 | D40: ='3-1-1'!N100 -> 3.3886264 | E40: =D40-F40 -> -3.0321565 | F40: 6.4207829 | G40: =F40-H40 -> -17.783138 | H40: 24.203921 | I40: =H40-J40 -> 18.903921 | J40: 5.3 | K40: =J40-L40 -> -3.6 | L40: 8.9 | M40: =L40-N40 -> 1.4 | N40: 7.5
D41: ='3-1-1'!N101 -> 100 | E41: =D41-F41 -> 0 | F41: 100 | G41: =F41-H41 -> 0 | H41: 100 | I41: =H41-J41 -> 0 | J41: 100 | K41: =J41-L41 -> 0 | L41: 100 | M41: =L41-N41 -> 0 | N41: 100
A42: 木造建築 | B42: 工事施工前 | C42: 現金 | D42: ='3-1-1'!N102 -> 10.022715 | E42: =D42-F42 -> -5.7783057 | F42: 15.801021 | G42: =F42-H42 -> 5.02275 | H42: 10.778271 | I42: =H42-J42 -> -0.021729321 | J42: 10.8 | K42: =J42-L42 -> -0.6 | L42: 11.4 | M42: =L42-N42 -> -0.2 | N42: 11.6
C43: 手形 | D43: ='3-1-1'!N103 -> 0.024225039 | E43: =D43-F43 -> 0.024225039 | F43: 0 | G43: =F43-H43 -> -0.00079519432 | H43: 0.00079519432 | I43: =H43-J43 -> -0.19920481 | J43: 0.2 | K43: =J43-L43 -> 0.2 | L43: 0 | M43: =L43-N43 -> 0 | N43: 0
C44: 小計 | D44: ='3-1-1'!N104 -> 10.04694 | E44: =D44-F44 -> -5.7540806 | F44: 15.801021 | G44: =F44-H44 -> 5.0219548 | H44: 10.779066 | I44: =H44-J44 -> -0.22093413 | J44: 11 | K44: =J44-L44 -> -0.4 | L44: 11.4 | M44: =L44-N44 -> -0.2 | N44: 11.6
B45: 工事施工中 | C45: 現金 | D45: ='3-1-1'!N105 -> 19.629031 | E45: =D45-F45 -> -11.910899 | F45: 31.53993 | G45: =F45-H45 -> 7.3674967 | H45: 24.172433 | I45: =H45-J45 -> -6.6275668 | J45: 30.8 | K45: =J45-L45 -> 1.9 | L45: 28.9 | M45: =L45-N45 -> 0.8 | N45: 28.1
C46: 手形 | D46: ='3-1-1'!N106 -> 0.73242845 | E46: =D46-F46 -> 0.69823255 | F46: 0.0341959 | G46: =F46-H46 -> -8.4316876 | H46: 8.4658835 | I46: =H46-J46 -> 7.9658835 | J46: 0.5 | K46: =J46-L46 -> 0.4 | L46: 0.1 | M46: =L46-N46 -> -0.1 | N46: 0.2
C47: 小計 | D47: ='3-1-1'!N107 -> 20.361459 | E47: =D47-F47 -> -11.212667 | F47: 31.574126 | G47: =F47-H47 -> -1.0641909 | H47: 32.638317 | I47: =H47-J47 -> 1.3383166 | J47: 31.3 | K47: =J47-L47 -> 2.3 | L47: 29 | M47: =L47-N47 -> 0.7 | N47: 28.3
B48: 工事施工後 | C48: 現金 | D48: ='3-1-1'!N108 -> 68.450913 | E48: =D48-F48 -> 16.710652 | F48: 51.740262 | G48: =F48-H48 -> -3.8353336 | H48: 55.575595 | I48: =H48-J48 -> -0.42440485 | J48: 56 | K48: =J48-L48 -> -1.4 | L48: 57.4 | M48: =L48-N48 -> -0.2 | N48: 57.6
C49: 手形 | D49: ='3-1-1'!N109 -> 1.1406873 | E49: =D49-F49 -> 0.25609527 | F49: 0.88459207 | G49: =F49-H49 -> -0.12243025 | H49: 1.0070223 | I49: =H49-J49 -> -0.69297767 | J49: 1.7 | K49: =J49-L49 -> -0.5 | L49: 2.2 | M49: =L49-N49 -> -0.2 | N49: 2.4
C50: 小計 | D50: ='3-1-1'!N110 -> 69.591601 | E50: =D50-F50 -> 16.966747 | F50: 52.624854 | G50: =F50-H50 -> -3.9577639 | H50: 56.582617 | I50: =H50-J50 -> -1.1173825 | J50: 57.7 | K50: =J50-L50 -> -1.9 | L50: 59.6 | M50: =L50-N50 -> -0.4 | N50: 60
B51: 小 計 | C51: 現金 | D51: ='3-1-1'!N111 -> 98.102659 | E51: =D51-F51 -> -0.97855285 | F51: 99.081212 | G51: =F51-H51 -> 8.554913 | H51: 90.526299 | I51: =H51-J51 -> -7.073701 | J51: 97.6 | K51: =J51-L51 -> 0 | L51: 97.6 | M51: =L51-N51 -> 0.2 | N51: 97.4
C52: 手形 | D52: ='3-1-1'!N112 -> 1.8973408 | E52: =D52-F52 -> 0.97855285 | F52: 0.91878797 | G52: =F52-H52 -> -8.554913 | H52: 9.473701 | I52: =H52-J52 -> 7.073701 | J52: 2.4 | K52: =J52-L52 -> 0 | L52: 2.4 | M52: =L52-N52 -> -0.2 | N52: 2.6
D53: ='3-1-1'!N113 -> 100 | E53: =D53-F53 -> 0 | F53: 100 | G53: =F53-H53 -> 0 | H53: 100 | I53: =H53-J53 -> 0 | J53: 100 | K53: =J53-L53 -> 0 | L53: 100 | M53: =L53-N53 -> 0 | N53: 100
A54: 職別 | B54: 工事施工前 | C54: 現金 | D54: ='3-1-1'!N330 -> 1.9113292 | E54: =D54-F54 -> -0.26867036 | F54: 2.1799995 | G54: =F54-H54 -> 0.42849125 | H54: 1.7515083 | I54: =H54-J54 -> -0.24849173 | J54: 2 | K54: =J54-L54 -> 0.3 | L54: 1.7 | M54: =L54-N54 -> -0.1 | N54: 1.8
C55: 手形 | D55: ='3-1-1'!N331 -> 0.035144912 | E55: =D55-F55 -> -0.11563531 | F55: 0.15078022 | G55: =F55-H55 -> -0.89811121 | H55: 1.0488914 | I55: =H55-J55 -> 0.94889143 | J55: 0.1 | K55: =J55-L55 -> -0.1 | L55: 0.2 | M55: =L55-N55 -> 0.1 | N55: 0.1
C56: 小計 | D56: ='3-1-1'!N332 -> 1.9464741 | E56: =D56-F56 -> -0.38430567 | F56: 2.3307797 | G56: =F56-H56 -> -0.46961996 | H56: 2.8003997 | I56: =H56-J56 -> 0.7003997 | J56: 2.1 | K56: =J56-L56 -> 0.2 | L56: 1.9 | M56: =L56-N56 -> -0.1 | N56: 2
B57: 工事施工中 | C57: 現金 | D57: ='3-1-1'!N333 -> 15.753611 | E57: =D57-F57 -> -1.1444157 | F57: 16.898027 | G57: =F57-H57 -> 5.6304795 | H57: 11.267547 | I57: =H57-J57 -> -0.63245255 | J57: 11.9 | K57: =J57-L57 -> -0.5 | L57: 12.4 | M57: =L57-N57 -> 1.4 | N57: 11
C58: 手形 | D58: ='3-1-1'!N334 -> 2.1166136 | E58: =D58-F58 -> -1.8711571 | F58: 3.9877706 | G58: =F58-H58 -> -12.167415 | H58: 16.155186 | I58: =H58-J58 -> 11.655186 | J58: 4.5 | K58: =J58-L58 -> -0.1 | L58: 4.6 | M58: =L58-N58 -> -0.3 | N58: 4.9
C59: 小計 | D59: ='3-1-1'!N335 -> 17.870225 | E59: =D59-F59 -> -3.0155728 | F59: 20.885798 | G59: =F59-H59 -> -6.5369359 | H59: 27.422733 | I59: =H59-J59 -> 11.022733 | J59: 16.4 | K59: =J59-L59 -> -0.6 | L59: 17 | M59: =L59-N59 -> 1.1 | N59: 15.9
B60: 工事施工後 | C60: 現金 | D60: ='3-1-1'!N336 -> 74.545815 | E60: =D60-F60 -> 7.6919871 | F60: 66.853828 | G60: =F60-H60 -> 9.6963515 | H60: 57.157477 | I60: =H60-J60 -> -8.2425232 | J60: 65.4 | K60: =J60-L60 -> 2.6 | L60: 62.8 | M60: =L60-N60 -> 0.2 | N60: 62.6
C61: 手形 | D61: ='3-1-1'!N337 -> 5.6374857 | E61: =D61-F61 -> -4.2921086 | F61: 9.9295943 | G61: =F61-H61 -> -2.6897957 | H61: 12.61939 | I61: =H61-J61 -> -3.48061 | J61: 16.1 | K61: =J61-L61 -> -2.3 | L61: 18.4 | M61: =L61-N61 -> -1.1 | N61: 19.5
C62: 小計 | D62: ='3-1-1'!N338 -> 80.183301 | E62: =D62-F62 -> 3.3998784 | F62: 76.783423 | G62: =F62-H62 -> 7.0065558 | H62: 69.776867 | I62: =H62-J62 -> -11.723133 | J62: 81.5 | K62: =J62-L62 -> 0.3 | L62: 81.2 | M62: =L62-N62 -> -1 | N62: 82.2
B63: 小 計 | C63: 現金 | D63: ='3-1-1'!N339 -> 92.210756 | E63: =D63-F63 -> 6.278901 | F63: 85.931855 | G63: =F63-H63 -> 15.755322 | H63: 70.176533 | I63: =H63-J63 -> -9.1234675 | J63: 79.3 | K63: =J63-L63 -> 2.5 | L63: 76.8 | M63: =L63-N63 -> 1.4 | N63: 75.4
C64: 手形 | D64: ='3-1-1'!N340 -> 7.7892442 | E64: =D64-F64 -> -6.278901 | F64: 14.068145 | G64: =F64-H64 -> -15.755322 | H64: 29.823467 | I64: =H64-J64 -> 9.1234675 | J64: 20.7 | K64: =J64-L64 -> -2.5 | L64: 23.2 | M64: =L64-N64 -> -1.4 | N64: 24.6
D65: ='3-1-1'!N341 -> 100 | E65: =D65-F65 -> 0 | F65: 100 | G65: =F65-H65 -> 0 | H65: 100 | I65: =H65-J65 -> 0 | J65: 100 | K65: =J65-L65 -> 0 | L65: 100 | M65: =L65-N65 -> 0 | N65: 100
A66: 設備 | B66: 工事施工前 | C66: 現金 | D66: ='3-1-1'!N426 -> 2.5845568 | E66: =D66-F66 -> -0.46695596 | F66: 3.0515128 | G66: =F66-H66 -> 0.83879813 | H66: 2.2127146 | I66: =H66-J66 -> 0.41271464 | J66: 1.8 | K66: =J66-L66 -> -0.4 | L66: 2.2 | M66: =L66-N66 -> -0.3 | N66: 2.5
C67: 手形 | D67: ='3-1-1'!N427 -> 0.023332539 | E67: =D67-F67 -> -0.078941188 | F67: 0.10227373 | G67: =F67-H67 -> -1.3617666 | H67: 1.4640403 | I67: =H67-J67 -> 1.3640403 | J67: 0.1 | K67: =J67-L67 -> -0.2 | L67: 0.3 | M67: =L67-N67 -> 0.2 | N67: 0.1
C68: 小計 | D68: ='3-1-1'!N428 -> 2.6078894 | E68: =D68-F68 -> -0.54589715 | F68: 3.1537865 | G68: =F68-H68 -> -0.52296842 | H68: 3.6767549 | I68: =H68-J68 -> 1.7767549 | J68: 1.9 | K68: =J68-L68 -> -0.6 | L68: 2.5 | M68: =L68-N68 -> -0.1 | N68: 2.6
B69: 工事施工中 | C69: 現金 | D69: ='3-1-1'!N429 -> 11.96301 | E69: =D69-F69 -> -1.2534255 | F69: 13.216436 | G69: =F69-H69 -> 3.9051331 | H69: 9.3113028 | I69: =H69-J69 -> -0.88869716 | J69: 10.2 | K69: =J69-L69 -> -0.7 | L69: 10.9 | M69: =L69-N69 -> 0.7 | N69: 10.2
C70: 手形 | D70: ='3-1-1'!N430 -> 1.7398441 | E70: =D70-F70 -> -1.9384016 | F70: 3.6782456 | G70: =F70-H70 -> -15.876782 | H70: 19.555028 | I70: =H70-J70 -> 16.455028 | J70: 3.1 | K70: =J70-L70 -> -2.3 | L70: 5.4 | M70: =L70-N70 -> 0.9 | N70: 4.5
C71: 小計 | D71: ='3-1-1'!N431 -> 13.702854 | E71: =D71-F71 -> -3.1918271 | F71: 16.894682 | G71: =F71-H71 -> -11.971649 | H71: 28.866331 | I71: =H71-J71 -> 15.466331 | J71: 13.4 | K71: =J71-L71 -> -2.8 | L71: 16.2 | M71: =L71-N71 -> 1.5 | N71: 14.7
B72: 工事施工後 | C72: 現金 | D72: ='3-1-1'!N432 -> 77.746677 | E72: =D72-F72 -> 7.0634991 | F72: 70.683178 | G72: =F72-H72 -> 16.545254 | H72: 54.137924 | I72: =H72-J72 -> -18.562076 | J72: 72.7 | K72: =J72-L72 -> 7 | L72: 65.7 | M72: =L72-N72 -> 0.9 | N72: 64.8
C73: 手形 | D73: ='3-1-1'!N433 -> 5.9426378 | E73: =D73-F73 -> -3.3257165 | F73: 9.2683542 | G73: =F73-H73 -> -4.0506364 | H73: 13.318991 | I73: =H73-J73 -> 1.2189906 | J73: 12.1 | K73: =J73-L73 -> -3.4 | L73: 15.5 | M73: =L73-N73 -> -2.3 | N73: 17.8
C74: 小計 | D74: ='3-1-1'!N434 -> 83.689315 | E74: =D74-F74 -> 3.7377826 | F74: 79.951532 | G74: =F74-H74 -> 12.494617 | H74: 67.456915 | I74: =H74-J74 -> -17.343085 | J74: 84.8 | K74: =J74-L74 -> 3.6 | L74: 81.2 | M74: =L74-N74 -> -1.4 | N74: 82.6
B75: 小 計 | C75: 現金 | D75: ='3-1-1'!N435 -> 92.294244 | E75: =D75-F75 -> 5.3431176 | F75: 86.951126 | G75: =F75-H75 -> 21.289185 | H75: 65.661941 | I75: =H75-J75 -> -19.038059 | J75: 84.7 | K75: =J75-L75 -> 5.9 | L75: 78.8 | M75: =L75-N75 -> 1.2 | N75: 77.6
C76: 手形 | D76: ='3-1-1'!N436 -> 7.7058143 | E76: =D76-F76 -> -5.3430592 | F76: 13.048874 | G76: =F76-H76 -> -21.289185 | H76: 34.338059 | I76: =H76-J76 -> 19.038059 | J76: 15.3 | K76: =J76-L76 -> -5.9 | L76: 21.2 | M76: =L76-N76 -> -1.2 | N76: 22.4
D77: ='3-1-1'!N437 -> 100.00006 | E77: =D77-F77 -> 5.8404036e-05 | F77: 100 | G77: =F77-H77 -> 0 | H77: 100 | I77: =H77-J77 -> 0 | J77: 100 | K77: =J77-L77 -> 0 | L77: 100 | M77: =L77-N77 -> 0 | N77: 100
A78: 合計 | B78: 工事施工前 | C78: 現金 | D78: ='3-1-1'!N438 -> 3.6982631 | E78: =D78-F78 -> -3.0749622 | F78: 6.7732253 | G78: =F78-H78 -> 0.45266437 | H78: 6.3205609 | I78: =H78-J78 -> 0.0205609 | J78: 6.3 | K78: =J78-L78 -> -0.3 | L78: 6.6 | M78: =L78-N78 -> -1 | N78: 7.6
C79: 手形 | D79: ='3-1-1'!N439 -> 0.048758914 | E79: =D79-F79 -> -0.11202901 | F79: 0.16078793 | G79: =F79-H79 -> -0.81987356 | H79: 0.98066149 | I79: =H79-J79 -> 0.88066149 | J79: 0.1 | K79: =J79-L79 -> -0.1 | L79: 0.2 | M79: =L79-N79 -> 0 | N79: 0.2
C80: 小計 | D80: ='3-1-1'!N440 -> 3.747022 | E80: =D80-F80 -> -3.1869912 | F80: 6.9340132 | G80: =F80-H80 -> -0.36720919 | H80: 7.3012224 | I80: =H80-J80 -> 1.0012224 | J80: 6.3 | K80: =J80-L80 -> -0.5 | L80: 6.8 | M80: =L80-N80 -> -0.9 | N80: 7.7
B81: 工事施工中 | C81: 現金 | D81: ='3-1-1'!N441 -> 15.620828 | E81: =D81-F81 -> -2.238059 | F81: 17.858887 | G81: =F81-H81 -> 4.8780024 | H81: 12.980885 | I81: =H81-J81 -> -3.7191152 | J81: 16.7 | K81: =J81-L81 -> 0.7 | L81: 16 | M81: =L81-N81 -> -0.1 | N81: 16.1
C82: 手形 | D82: ='3-1-1'!N442 -> 1.9175925 | E82: =D82-F82 -> -0.81282663 | F82: 2.7304191 | G82: =F82-H82 -> -13.739592 | H82: 16.470011 | I82: =H82-J82 -> 13.570011 | J82: 2.9 | K82: =J82-L82 -> -0.8 | L82: 3.7 | M82: =L82-N82 -> 0.3 | N82: 3.4
C83: 小計 | D83: ='3-1-1'!N443 -> 17.538421 | E83: =D83-F83 -> -3.0508857 | F83: 20.589306 | G83: =F83-H83 -> -8.8615898 | H83: 29.450896 | I83: =H83-J83 -> 9.8508961 | J83: 19.6 | K83: =J83-L83 -> -0.1 | L83: 19.7 | M83: =L83-N83 -> 0.2 | N83: 19.5
B84: 工事施工後 | C84: 現金 | D84: ='3-1-1'!N444 -> 73.472027 | E84: =D84-F84 -> 8.1683204 | F84: 65.303706 | G84: =F84-H84 -> 11.010921 | H84: 54.292785 | I84: =H84-J84 -> -10.807215 | J84: 65.1 | K84: =J84-L84 -> 2.7 | L84: 62.4 | M84: =L84-N84 -> 0.8 | N84: 61.6
C85: 手形 | D85: ='3-1-1'!N445 -> 5.2425819 | E85: =D85-F85 -> -1.9303922 | F85: 7.172974 | G85: =F85-H85 -> -1.782122 | H85: 8.9550961 | I85: =H85-J85 -> -0.04490392 | J85: 9 | K85: =J85-L85 -> -2 | L85: 11 | M85: =L85-N85 -> -0.2 | N85: 11.2
C86: 小計 | D86: ='3-1-1'!N446 -> 78.714609 | E86: =D86-F86 -> 6.2379282 | F86: 72.47668 | G86: =F86-H86 -> 9.228799 | H86: 63.247881 | I86: =H86-J86 -> -10.852119 | J86: 74.1 | K86: =J86-L86 -> 0.7 | L86: 73.4 | M86: =L86-N86 -> 0.6 | N86: 72.8
C87: 現金 | D87: ='3-1-1'!N447 -> 92.791118 | E87: =D87-F87 -> 2.8552992 | F87: 89.935819 | G87: =F87-H87 -> 16.341588 | H87: 73.594231 | I87: =H87-J87 -> -14.405769 | J87: 88 | K87: =J87-L87 -> 2.9 | L87: 85.1 | M87: =L87-N87 -> -0.2 | N87: 85.3
C88: 手形 | D88: ='3-1-1'!N448 -> 7.2089333 | E88: =D88-F88 -> -2.8552478 | F88: 10.064181 | G88: =F88-H88 -> -16.341588 | H88: 26.405769 | I88: =H88-J88 -> 14.405769 | J88: 12 | K88: =J88-L88 -> -2.9 | L88: 14.9 | M88: =L88-N88 -> 0.2 | N88: 14.7
D89: ='3-1-1'!N449 -> 100.00005 | E89: =D89-F89 -> 5.1344758e-05 | F89: 100 | G89: =F89-H89 -> 0 | H89: 100 | I89: =H89-J89 -> 0 | J89: 100 | K89: =J89-L89 -> 0 | L89: 100 | M89: =L89-N89 -> 0 | N89: 100

Sheet 3-1-4
A1: 表3－1－4 工事代金の受取時期及び受取条件（下請比率、次数別集計）
A3: （概要） | H3: （単位：％）
B4: 下請比率別、次数 | C4: ０％超 ５０％未満 | D4: ５０％以上１００％以下 | H4: 合 計
A5: 受取時期・受取条件 | E5: 一次下請 | F5: 二次下請 | G5: 三次以下下請
A6: 工事施工前 | B6: 現金 | C6: 11.26642 | D6: 2.0442604 | E6: 2.3786936 | F6: 1.1536524 | G6: 0.91911765 | H6: 5.5624779
B7: 手形 | C7: 0.14708603 | D7: 0.15448315 | E7: 0.18856921 | F7: 0.070528967 | G7: 0 | H7: 0.15160607
B8: 小計 | C8: 11.413506 | D8: 2.1987436 | E8: 2.5672628 | F8: 1.2241814 | G8: 0.91911765 | H8: 5.714084
A9: 工事施工中 | B9: 現金 | C9: 13.914431 | D9: 20.987721 | E9: 21.527216 | F9: 19.896725 | G9: 17.154412 | H9: 18.281327
B10: 手形 | C10: 0.82053654 | D10: 4.4474586 | E10: 5.0132193 | F10: 3.2166247 | G10: 0.93382353 | H10: 3.0619485
B11: 小計 | C11: 14.734968 | D11: 25.43518 | E11: 26.540435 | F11: 23.11335 | G11: 18.088235 | H11: 21.343276
A12: 工事施工後 | B12: 現金 | C12: 70.120259 | D12: 64.300685 | E12: 62.832426 | F12: 67.22796 | G12: 74.977941 | H12: 66.498588
B13: 手形 | C13: 3.7321924 | D13: 8.0653912 | E13: 8.0598756 | F13: 8.4345088 | G13: 6.0147059 | H13: 6.409107
B14: 小計 | C14: 73.852451 | D14: 72.366077 | E14: 70.892302 | F14: 75.662469 | G14: 80.992647 | H14: 72.907695
A15: 合 計 | B15: 現金 | C15: 95.30111 | D15: 87.332667 | E15: 86.738336 | F15: 88.278338 | G15: 93.051471 | H15: 90.342393
B16: 手形 | C16: 4.699815 | D16: 12.667333 | E16: 13.261664 | F16: 11.721662 | G16: 6.9485294 | H16: 9.6226615
B17: 小計 | C17: 100.00093 | D17: 100 | E17: 100 | F17: 100 | G17: 100 | H17: 99.965055
A20: （下請比率別詳細）
B21: 下請比率別、次数 | C21: ０％超１０％未満 | G21: １０％以上２０％未満 | K21: ２０％以上３０％未満
A22: 受取時期・受取条件 | C22: 一次下請 | D22: 二次下請 | E22: 三次以下下請 | F22: 小 計 | G22: 一次下請 | H22: 二次下請 | I22: 三次以下下請 | J22: 小 計 | K22: 一次下請 | L22: 二次下請 | M22: 三次以下下請 | N22: 小 計
A23: 工事施工前 | B23: 現金 | C23: 13.391827 | D23: 25.666667 | E23: 5 | F23: 13.851476 | G23: 10.571429 | H23: 14.3 | I23: 15 | J23: 10.729452 | K23: 9.3359375 | L23: 12.5 | N23: 9.5
B24: 手形 | C24: 0.12259615 | D24: 0 | E24: 0 | F24: 0.14206642 | G24: 0.17142857 | H24: 0 | I24: 0 | J24: 0.16438356 | K24: 0.10546875 | L24: 1.0714286 | N24: 0.15555556
B25: 小計 | C25: 13.514423 | D25: 25.666667 | E25: 5 | F25: 13.993542 | G25: 10.742857 | H25: 14.3 | I25: 15 | J25: 10.893836 | K25: 9.4414062 | L25: 13.571429 | N25: 9.6555556
A26: 工事施工中 | B26: 現金 | C26: 13.298077 | D26: 12.444444 | E26: 5 | F26: 15.908672 | G26: 11.882143 | H26: 13.7 | I26: 14.5 | J26: 11.962329 | K26: 10.914062 | L26: 22.142857 | N26: 11.496296
B27: 手形 | C27: 0.30769231 | D27: 0.11111111 | E27: 0 | F27: 0.32841328 | G27: 0.86071429 | H27: 2.5 | I27: 0 | J27: 0.9109589 | K27: 1.0039062 | L27: 1.4285714 | N27: 1.0259259
B28: 小計 | C28: 13.605769 | D28: 12.555556 | E28: 5 | F28: 16.237085 | G28: 12.742857 | H28: 16.2 | I28: 14.5 | J28: 12.873288 | K28: 11.917969 | L28: 23.571429 | N28: 12.522222
A29: 工事施工後 | B29: 現金 | C29: 69.533654 | D29: 60.888889 | E29: 90 | F29: 67.20203 | G29: 72.882143 | H29: 68.1 | I29: 70.5 | J29: 72.702055 | K29: 74.164062 | L29: 61.071429 | N29: 73.485185
B30: 手形 | C30: 3.3485577 | D30: 0.88888889 | E30: 0 | F30: 2.5682657 | G30: 3.6321429 | H30: 1.4 | I30: 0 | J30: 3.5308219 | K30: 4.4765625 | L30: 1.7857143 | N30: 4.337037
B31: 小計 | C31: 72.882212 | D31: 61.777778 | E31: 90 | F31: 69.770295 | G31: 76.514286 | H31: 69.5 | I31: 70.5 | J31: 76.232877 | K31: 78.640625 | L31: 62.857143 | N31: 77.822222
A32: 合 計 | B32: 現金 | C32: 96.223558 | D32: 99 | E32: 100 | F32: 96.962177 | G32: 95.335714 | H32: 96.1 | I32: 100 | J32: 95.393836 | K32: 94.414062 | L32: 95.714286 | N32: 94.481481
B33: 手形 | C33: 3.7788462 | D33: 1 | E33: 0 | F33: 3.0387454 | G33: 4.6642857 | H33: 3.9 | I33: 0 | J33: 4.6061644 | K33: 5.5859375 | L33: 4.2857143 | N33: 5.5185185
B34: 小計 | C34: 100.0024 | D34: 100 | E34: 100 | F34: 100.00092 | G34: 100 | H34: 100 | I34: 100 | J34: 100 | K34: 100 | L34: 100 | N34: 100
B37: 下請比率別、次数 | C37: ３０％以上４０％未満 | G37: ４０％以上５０％未満 | K37: ５０％以上６０％未満
A38: 受取時期・受取条件 | C38: 一次下請 | D38: 二次下請 | E38: 三次以下下請 | F38: 小 計 | G38: 一次下請 | H38: 二次下請 | I38: 三次以下下請 | J38: 小 計 | K38: 一次下請 | L38: 二次下請 | M38: 三次以下下請 | N38: 小 計
A39: 工事施工前 | B39: 現金 | C39: 8.5714286 | D39: 4.1904762 | E39: 0 | F39: 8.1098039 | G39: 6.2172131 | H39: 3.5294118 | J39: 6.0421456 | K39: 5.1422018 | L39: 2.5 | N39: 4.9615385
B40: 手形 | C40: 0.11688312 | D40: 0 | E40: 0 | F40: 0.10588235 | G40: 0.19262295 | H40: 0 | J40: 0.18007663 | K40: 0.14220183 | L40: 0 | N40: 0.13247863
B41: 小計 | C41: 8.6883117 | D41: 4.1904762 | E41: 0 | F41: 8.2156863 | G41: 6.4098361 | H41: 3.5294118 | J41: 6.2222222 | K41: 5.2844037 | L41: 2.5 | N41: 5.0940171
A42: 工事施工中 | B42: 現金 | C42: 11.753247 | D42: 8.6666667 | E42: 16.666667 | F42: 11.556863 | G42: 13.090164 | H42: 5.8823529 | J42: 12.62069 | K42: 14.458716 | L42: 21.5625 | N42: 14.944444
B43: 手形 | C43: 1.8658009 | D43: 0.23809524 | E43: 0 | F43: 1.7098039 | G43: 1.7172131 | H43: 1.1764706 | J43: 1.6819923 | K43: 2.5366972 | L43: 1.875 | N43: 2.491453
B44: 小計 | C44: 13.619048 | D44: 8.9047619 | E44: 16.666667 | F44: 13.266667 | G44: 14.807377 | H44: 7.0588235 | J44: 14.302682 | K44: 16.995413 | L44: 23.4375 | N44: 17.435897
A45: 工事施工後 | B45: 現金 | C45: 72.619048 | D45: 83.095238 | E45: 72.666667 | F45: 73.482353 | G45: 72.262295 | H45: 77.235294 | J45: 72.586207 | K45: 71.270642 | L45: 68.625 | N45: 71.089744
B46: 手形 | C46: 5.0735931 | D46: 3.8095238 | E46: 10.666667 | F46: 5.0352941 | G46: 6.5245902 | H46: 12.176471 | J46: 6.8927203 | K46: 6.4495413 | L46: 5.4375 | N46: 6.3803419
B47: 小計 | C47: 77.692641 | D47: 86.904762 | E47: 83.333333 | F47: 78.517647 | G47: 78.786885 | H47: 89.411765 | J47: 79.478927 | K47: 77.720183 | L47: 74.0625 | N47: 77.470085
A48: 合 計 | B48: 現金 | C48: 92.943723 | D48: 95.952381 | E48: 89.333333 | F48: 93.14902 | G48: 91.569672 | H48: 86.647059 | J48: 91.249042 | K48: 90.87156 | L48: 92.6875 | N48: 90.995726
B49: 手形 | C49: 7.0562771 | D49: 4.047619 | E49: 10.666667 | F49: 6.8509804 | G49: 8.4344262 | H49: 13.352941 | J49: 8.7547893 | K49: 9.1284404 | L49: 7.3125 | N49: 9.0042735
B50: 小計 | C50: 100 | D50: 100 | E50: 100 | F50: 100 | G50: 100.0041 | H50: 100 | J50: 100.00383 | K50: 100 | L50: 100 | N50: 100
A52: 表3－1－4 工事代金の受取時期及び受取条件（下請比率、次数別集計）
B55: 下請比率別、次数 | C55: ６０％以上７０％未満 | G55: ７０％以上８０％未満 | K55: ８０％以上９０％未満
A56: 受取時期・受取条件 | C56: 一次下請 | D56: 二次下請 | E56: 三次以下下請 | F56: 小 計 | G56: 一次下請 | H56: 二次下請 | I56: 三次以下下請 | J56: 小 計 | K56: 一次下請 | L56: 二次下請 | M56: 三次以下下請 | N56: 小 計
A57: 工事施工前 | B57: 現金 | C57: 3.8404669 | D57: 1.7931034 | E57: 10.75 | F57: 3.7310345 | G57: 3.9429825 | H57: 2.6666667 | I57: 0 | J57: 3.7425373 | K57: 1.8078176 | L57: 1.3484848 | M57: 0 | N57: 1.6992084
B58: 手形 | C58: 0.3151751 | D58: 0 | E58: 0 | F58: 0.27931034 | G58: 0.15789474 | H58: 0.79487179 | I58: 0 | J58: 0.25 | K58: 0.15309446 | L58: 0.015151515 | M58: 0 | N58: 0.12664908
B59: 小計 | C59: 4.155642 | D59: 1.7931034 | E59: 10.75 | F59: 4.0103448 | G59: 4.1008772 | H59: 3.4615385 | I59: 0 | J59: 3.9925373 | K59: 1.9609121 | L59: 1.3636364 | M59: 0 | N59: 1.8258575
A60: 工事施工中 | B60: 現金 | C60: 16.400778 | D60: 12.103448 | E60: 19.5 | F60: 16.013793 | G60: 16.394737 | H60: 12 | I60: 0 | J60: 15.69403 | K60: 17.905537 | L60: 15.545455 | M60: 1.6666667 | N60: 17.237467
B61: 手形 | C61: 3.9066148 | D61: 1.4827586 | E61: 0 | F61: 3.6103448 | G61: 3.6008772 | H61: 1.974359 | I61: 0 | J61: 3.3507463 | K61: 5.2442997 | L61: 2.5757576 | M61: 0 | N61: 4.6965699
B62: 小計 | C62: 20.307393 | D62: 13.586207 | E62: 19.5 | F62: 19.624138 | G62: 19.995614 | H62: 13.974359 | I62: 0 | J62: 19.044776 | K62: 23.149837 | L62: 18.121212 | M62: 1.6666667 | N62: 21.934037
A63: 工事施工後 | B63: 現金 | C63: 68.583658 | D63: 77.689655 | E63: 62.25 | F63: 69.406897 | G63: 67.723684 | H63: 69.051282 | I63: 100 | J63: 68.037313 | K63: 65.736156 | L63: 71.984848 | M63: 88.333333 | N63: 67.182058
B64: 手形 | C64: 6.9533074 | D64: 6.9310345 | E64: 7.5 | F64: 6.9586207 | G64: 8.1798246 | H64: 13.512821 | I64: 0 | J64: 8.9253731 | K64: 9.1530945 | L64: 8.530303 | M64: 10 | N64: 9.0580475
B65: 小計 | C65: 75.536965 | D65: 84.62069 | E65: 69.75 | F65: 76.365517 | G65: 75.903509 | H65: 82.564103 | I65: 100 | J65: 76.962687 | K65: 74.889251 | L65: 80.515152 | M65: 98.333333 | N65: 76.240106
A66: 合 計 | B66: 現金 | C66: 88.824903 | D66: 91.586207 | E66: 92.5 | F66: 89.151724 | G66: 88.061404 | H66: 83.717949 | I66: 100 | J66: 87.473881 | K66: 85.449511 | L66: 88.878788 | M66: 90 | N66: 86.118734
B67: 手形 | C67: 11.175097 | D67: 8.4137931 | E67: 7.5 | F67: 10.848276 | G67: 11.938596 | H67: 16.282051 | I67: 0 | J67: 12.526119 | K67: 14.550489 | L67: 11.121212 | M67: 10 | N67: 13.881266
B68: 小計 | C68: 100 | D68: 100 | E68: 100 | F68: 100 | G68: 100 | H68: 100 | I68: 100 | J68: 100 | K68: 100 | L68: 100 | M68: 100 | N68: 100
B71: 下請比率別、次数 | C71: ９０％以上１００％未満 | G71: １００％ | K71: 合 計
A72: 受取時期・受取条件 | C72: 一次下請 | D72: 二次下請 | E72: 三次以下下請 | F72: 小 計 | G72: 一次下請 | H72: 二次下請 | I72: 三次以下下請 | J72: 小 計 | K72: 一次下請 | L72: 二次下請 | M72: 三次以下下請
A73: 工事施工前 | B73: 現金 | C73: 1.8652174 | D73: 0.68695652 | E73: 0.15384615 | F73: 1.5969388 | G73: 1.5408348 | H73: 1.0434783 | I73: 0.71428571 | J73: 1.3367757 | K73: 5.1352838 | L73: 1.8647399 | M73: 1.1538462 | N73: 5.5624779
B74: 手形 | C74: 0.18043478 | D74: 0.13043478 | E74: 0 | F74: 0.16666667 | G74: 0.18784029 | H74: 0.017013233 | I74: 0 | J74: 0.12392427 | K74: 0.17129282 | L74: 0.082080925 | M74: 0 | N74: 0.15160607
B75: 小計 | C75: 2.0456522 | D75: 0.8173913 | E75: 0.15384615 | F75: 1.7636054 | G75: 1.7286751 | H75: 1.0604915 | I75: 0.71428571 | J75: 1.4606999 | K75: 5.3065766 | L75: 1.9468208 | M75: 1.1538462 | N75: 5.714084
A76: 工事施工中 | B76: 現金 | C76: 23.243478 | D76: 15.469565 | E76: 13.230769 | F76: 21.501701 | G76: 25.475499 | H76: 22.361059 | I76: 18.508929 | J76: 24.082616 | K76: 18.237059 | L76: 19.235838 | M76: 16.937063 | N76: 18.281327
B77: 手形 | C77: 5.776087 | D77: 3.9826087 | E77: 4.6923077 | F77: 5.4013605 | G77: 5.6705989 | H77: 3.3572779 | I77: 0.58928571 | J77: 4.6419966 | K77: 3.5933983 | L77: 3.0346821 | M77: 0.88811189 | N77: 3.0619485
B78: 小計 | C78: 29.019565 | D78: 19.452174 | E78: 17.923077 | F78: 26.903061 | G78: 31.146098 | H78: 25.718336 | I78: 19.098214 | J78: 28.724613 | K78: 21.830458 | L78: 22.27052 | M78: 17.825175 | N78: 21.343276
A79: 工事施工後 | B79: 現金 | C79: 60.069565 | D79: 68.008696 | E79: 72.153846 | F79: 61.889456 | G79: 59.154265 | H79: 65.714556 | I79: 74.821429 | J79: 62.152037 | K79: 66.099275 | L79: 67.654335 | M79: 75.076923 | N79: 66.498588
B80: 手形 | C80: 8.8652174 | D80: 11.721739 | E80: 9.7692308 | F80: 9.4438776 | G80: 7.9709619 | H80: 7.5066163 | I80: 5.3660714 | J80: 7.6626506 | K80: 6.764191 | L80: 8.1283237 | M80: 5.9440559 | N80: 6.409107
B81: 小計 | C81: 68.934783 | D81: 79.730435 | E81: 81.923077 | F81: 71.333333 | G81: 67.125227 | H81: 73.221172 | I81: 80.1875 | J81: 69.814687 | K81: 72.863466 | L81: 75.782659 | M81: 81.020979 | N81: 72.907695
A82: 合 計 | B82: 現金 | C82: 85.178261 | D82: 84.165217 | E82: 85.538462 | F82: 84.988095 | G82: 86.170599 | H82: 89.119093 | I82: 94.044643 | J82: 87.571429 | K82: 89.471618 | L82: 88.754913 | M82: 93.167832 | N82: 90.342393
B83: 手形 | C83: 14.821739 | D83: 15.834783 | E83: 14.461538 | F83: 15.011905 | G83: 13.829401 | H83: 10.880907 | I83: 5.9553571 | J83: 12.428571 | K83: 10.528882 | L83: 11.245087 | M83: 6.8321678 | N83: 9.6226615
B84: 小計 | C84: 100 | D84: 100 | E84: 100 | F84: 100 | G84: 100 | H84: 100 | I84: 100 | J84: 100 | K84: 100.0005 | L84: 100 | M84: 100 | N84: 99.965055
