Workbook
Name ______________________ＴＢＬ１: [1]CSS編集画面!$B$10:$F$22
Name ______________________ＴＢＬ２: [1]CSS編集画面!$B$24:$I$35
Name _____________________ＴＢＬ１: [1]CSS編集画面!$B$10:$F$22
Name _____________________ＴＢＬ２: [1]CSS編集画面!$B$24:$I$35
Name ____________________ＴＢＬ１: [1]CSS編集画面!$B$10:$F$22
Name ____________________ＴＢＬ２: [1]CSS編集画面!$B$24:$I$35
Name ___________________ＴＢＬ１: [1]CSS編集画面!$B$10:$F$22
Name ___________________ＴＢＬ２: [1]CSS編集画面!$B$24:$I$35
Name __________________ＴＢＬ１: [1]CSS編集画面!$B$10:$F$22
Name __________________ＴＢＬ２: [1]CSS編集画面!$B$24:$I$35
Name _________________ＴＢＬ１: [1]CSS編集画面!$B$10:$F$22
Name _________________ＴＢＬ２: [1]CSS編集画面!$B$24:$I$35
Name ________________ＴＢＬ１: [1]CSS編集画面!$B$10:$F$22
Name ________________ＴＢＬ２: [1]CSS編集画面!$B$24:$I$35
Name _______________ＴＢＬ１: [1]CSS編集画面!$B$10:$F$22
Name _______________ＴＢＬ２: [1]CSS編集画面!$B$24:$I$35
Name ______________ＴＢＬ１: [1]CSS編集画面!$B$10:$F$22
Name ______________ＴＢＬ２: [1]CSS編集画面!$B$24:$I$35
Name _____________ＴＢＬ１: [1]CSS編集画面!$B$10:$F$22
Name _____________ＴＢＬ２: [1]CSS編集画面!$B$24:$I$35
Name ____________ＴＢＬ１: [1]CSS編集画面!$B$10:$F$22
Name ____________ＴＢＬ２: [1]CSS編集画面!$B$24:$I$35
Name ___________ＴＢＬ１: [1]CSS編集画面!$B$10:$F$22
Name ___________ＴＢＬ２: [1]CSS編集画面!$B$24:$I$35
Name __________ＴＢＬ１: [1]CSS編集画面!$B$10:$F$22
Name __________ＴＢＬ２: [1]CSS編集画面!$B$24:$I$35
Name _________ＴＢＬ１: [1]CSS編集画面!$B$10:$F$22
Name _________ＴＢＬ２: [1]CSS編集画面!$B$24:$I$35
Name ________ＴＢＬ１: [1]CSS編集画面!$B$10:$F$22
Name ________ＴＢＬ２: [1]CSS編集画面!$B$24:$I$35
Name _______ＴＢＬ１: [1]CSS編集画面!$B$10:$F$22
Name _______ＴＢＬ２: [1]CSS編集画面!$B$24:$I$35
Name ______ＴＢＬ１: [1]CSS編集画面!$B$10:$F$22
Name ______ＴＢＬ２: [1]CSS編集画面!$B$24:$I$35
Name _____ＴＢＬ１: [1]CSS編集画面!$B$10:$F$22
Name _____ＴＢＬ２: [1]CSS編集画面!$B$24:$I$35
Name ____ＴＢＬ１: [1]CSS編集画面!$B$10:$F$22
Name ____ＴＢＬ２: [1]CSS編集画面!$B$24:$I$35
Name ___ＴＢＬ１: [1]CSS編集画面!$B$10:$F$22
Name ___ＴＢＬ２: [1]CSS編集画面!$B$24:$I$35
Name __ＴＢＬ１: [1]CSS編集画面!$B$10:$F$22
Name __ＴＢＬ２: [1]CSS編集画面!$B$24:$I$35
Name _ＴＢＬ１: [1]CSS編集画面!$B$10:$F$22
Name _ＴＢＬ２: [1]CSS編集画面!$B$24:$I$35
Name PAGE1: #REF!
Name PAGE10: #REF!
Name PAGE100: #REF!
Name PAGE1000: #REF!
Name PAGE1001: #REF!
Name PAGE1002: #REF!
Name PAGE1003: #REF!
Name PAGE1004: #REF!
Name PAGE1005: #REF!
Name PAGE1006: #REF!
Name PAGE1007: #REF!
Name PAGE1008: #REF!
Name PAGE1009: #REF!
Name PAGE101: #REF!
Name PAGE1010: #REF!
Name PAGE1011: #REF!

Sheet 3-1-1
A1: 表3－1－1 工事代金の受取時期及び受取条件
N3: （単位：％）
D4: 資本金 | E4: 個 人 | F4: 法 人 | N4: 合 計
A5: 業種 | C5: 受取時期・受取条件 | F5: 500万円未満 | G5: 500万円以上 1000万円未満 | H5: 1000万円以上 3000万円未満 | I5: 3000万円以上 5000万円未満 | J5: 5000万円以上 1億円未満 | K5: 1億円以上 3億円未満 | L5: 3億円以上 10億円未満 | M5: 10億円以上
A6: 一 般 土 木 建 築 | B6: 一般土木 建築工事業 | C6: 工事施工前 | D6: 現金 | E6: 5 | F6: 6 | G6: 4.2857143 | H6: 14.86 | I6: 14.921053 | J6: 16.163636 | K6: 21.97619 | L6: 17.666667 | M6: 16 | N6: 12.397844
D7: 手形 | E7: 0 | F7: 0 | G7: 0 | H7: 0.02 | I7: 0 | J7: 0.018181818 | K7: 0.71428571 | L7: 0 | M7: 1 | N7: 0.032995105
D8: 小計 | E8: 5 | F8: 6 | G8: 4.2857143 | H8: 14.88 | I8: 14.921053 | J8: 16.181818 | K8: 22.690476 | L8: 17.666667 | M8: 17 | N8: 12.43084
C9: 工事施工中 | D9: 現金 | E9: 5 | F9: 14 | G9: 10 | H9: 17.5 | I9: 13.631579 | J9: 19.690909 | K9: 15.357143 | L9: 24.833333 | M9: 23.15 | N9: 14.963702
D10: 手形 | E10: 0 | F10: 0 | G10: 0 | H10: 1.64 | I10: 2.2368421 | J10: 1.1090909 | K10: 1.5714286 | L10: 2.1666667 | M10: 2.8 | N10: 1.2473713
D11: 小計 | E11: 5 | F11: 14 | G11: 10 | H11: 19.14 | I11: 15.868421 | J11: 20.8 | K11: 16.928571 | L11: 27 | M11: 25.95 | N11: 16.211073
C12: 工事施工後 | D12: 現金 | E12: 90 | F12: 80 | G12: 85.571429 | H12: 63.16 | I12: 66.315789 | J12: 58.672727 | K12: 55.595238 | L12: 53.166667 | M12: 51.05 | N12: 69.080084
D13: 手形 | E13: 0 | F13: 0 | G13: 0.14285714 | H13: 2.82 | I13: 2.8947368 | J13: 4.3454545 | K13: 4.7857143 | L13: 2.1666667 | M13: 6 | N13: 2.278004
D14: 小計 | E14: 90 | F14: 80 | G14: 85.714286 | H14: 65.98 | I14: 69.210526 | J14: 63.018182 | K14: 60.380952 | L14: 55.333333 | M14: 57.05 | N14: 71.358088
C15: 小 計 | D15: 現金 | E15: 100 | F15: 100 | G15: 99.857143 | H15: 95.52 | I15: 94.868421 | J15: 94.527273 | K15: 92.928571 | L15: 95.666667 | M15: 90.2 | N15: 96.44163
D16: 手形 | E16: 0 | F16: 0 | G16: 0.14285714 | H16: 4.48 | I16: 5.1315789 | J16: 5.4727273 | K16: 7.0714286 | L16: 4.3333333 | M16: 9.8 | N16: 3.5583704
D17: 小計 | E17: 100 | F17: 100 | G17: 100 | H17: 100 | I17: 100 | J17: 100 | K17: 100 | L17: 100 | M17: 100 | N17: 100
A18: 土 木 | B18: 土木工事業 | C18: 工事施工前 | D18: 現金 | E18: 4.75 | F18: 5.8125 | G18: 4.6271186 | H18: 13.486842 | I18: 17.902439 | J18: 16.169492 | K18: 13.375 | L18: 20 | M18: 17 | N18: 10.296644
D19: 手形 | E19: 0 | F19: 0 | G19: 0 | H19: 0.21052632 | I19: 0.46341463 | J19: 0 | K19: 0.78125 | L19: 0 | M19: 0 | N19: 0.13835753
D20: 小計 | E20: 4.75 | F20: 5.8125 | G20: 4.6271186 | H20: 13.697368 | I20: 18.365854 | J20: 16.169492 | K20: 14.15625 | L20: 20 | M20: 17 | N20: 10.435001
C21: 工事施工中 | D21: 現金 | E21: 20.833333 | F21: 20.020833 | G21: 18.016949 | H21: 16.302632 | I21: 15.219512 | J21: 18.338983 | K21: 20 | L21: 23.8 | M21: 32.375 | N21: 17.642326
D22: 手形 | E22: 0 | F22: 0.5 | G22: 0.25423729 | H22: 1.1973684 | I22: 2.4390244 | J22: 2.3728814 | K22: 4.8125 | L22: 4.2 | M22: 1.625 | N22: 1.0021593
D23: 小計 | E23: 20.833333 | F23: 20.520833 | G23: 18.271186 | H23: 17.5 | I23: 17.658537 | J23: 20.711864 | K23: 24.8125 | L23: 28 | M23: 34 | N23: 18.644485
C24: 工事施工後 | D24: 現金 | E24: 74.416667 | F24: 72.708333 | G24: 72.762712 | H24: 65.907895 | I24: 62.304878 | J24: 61.372881 | K24: 56.90625 | L24: 43.8 | M24: 47 | N24: 68.501222
D25: 手形 | E25: 0 | F25: 0.95833333 | G25: 4.3389831 | H25: 2.8947368 | I25: 1.6707317 | J25: 1.7457627 | K25: 4.125 | L25: 8.2 | M25: 2 | N25: 2.4192913
D26: 小計 | E26: 74.416667 | F26: 73.666667 | G26: 77.101695 | H26: 68.802632 | I26: 63.97561 | J26: 63.118644 | K26: 61.03125 | L26: 52 | M26: 49 | N26: 70.920514
C27: 小 計 | D27: 現金 | E27: 100 | F27: 98.541667 | G27: 95.40678 | H27: 95.697368 | I27: 95.426829 | J27: 95.881356 | K27: 90.28125 | L27: 87.6 | M27: 96.375 | N27: 96.440192
D28: 手形 | E28: 0 | F28: 1.4583333 | G28: 4.5932203 | H28: 4.3026316 | I28: 4.5731707 | J28: 4.1186441 | K28: 9.71875 | L28: 12.4 | M28: 3.625 | N28: 3.5598082
D29: 小計 | E29: 100 | F29: 100 | G29: 100 | H29: 100 | I29: 100 | J29: 100 | K29: 100 | L29: 100 | M29: 100 | N29: 100
B30: ほ装工事業 | C30: 工事施工前 | D30: 現金 | E30: 0 | F30: 2.5862069 | G30: 4.125 | H30: 5.1190476 | I30: 8.5869565 | J30: 9.0967742 | K30: 10.6 | M30: 40 | N30: 4.7798137
D31: 手形 | E31: 0 | F31: 0 | G31: 0 | H31: 0 | I31: 0.043478261 | J31: 0 | K31: 0 | M31: 0 | N31: 0.0042645249
D32: 小計 | E32: 0 | F32: 2.5862069 | G32: 4.125 | H32: 5.1190476 | I32: 8.6304348 | J32: 9.0967742 | K32: 10.6 | M32: 40 | N32: 4.7840782
C33: 工事施工中 | D33: 現金 | E33: 0 | F33: 6.7241379 | G33: 3.5416667 | H33: 11.095238 | I33: 11.543478 | J33: 10.064516 | K33: 22 | M33: 10 | N33: 8.3947536
D34: 手形 | E34: 0 | F34: 0 | G34: 0 | H34: 2.1428571 | I34: 0.86956522 | J34: 1.2903226 | K34: 9 | M34: 5 | N34: 1.0166088
D35: 小計 | E35: 0 | F35: 6.7241379 | G35: 3.5416667 | H35: 13.238095 | I35: 12.413043 | J35: 11.354839 | K35: 31 | M35: 15 | N35: 9.4113625
C36: 工事施工後 | D36: 現金 | E36: 100 | F36: 88.965517 | G36: 89.833333 | H36: 76.761905 | I36: 74.717391 | J36: 72.258065 | K36: 51.2 | M36: 40 | N36: 82.225539
D37: 手形 | E37: 0 | F37: 1.7241379 | G37: 2.5 | H37: 4.8809524 | I37: 4.2391304 | J37: 7.2903226 | K37: 7.2 | M37: 5 | N37: 3.57902
D38: 小計 | E38: 100 | F38: 90.689655 | G38: 92.333333 | H38: 81.642857 | I38: 78.956522 | J38: 79.548387 | K38: 58.4 | M38: 45 | N38: 85.804559
C39: 小 計 | D39: 現金 | E39: 100 | F39: 98.275862 | G39: 97.5 | H39: 92.97619 | I39: 94.847826 | J39: 91.419355 | K39: 83.8 | M39: 90 | N39: 95.400107
D40: 手形 | E40: 0 | F40: 1.7241379 | G40: 2.5 | H40: 7.0238095 | I40: 5.1521739 | J40: 8.5806452 | K40: 16.2 | M40: 10 | N40: 4.5998934
D41: 小計 | E41: 100 | F41: 100 | G41: 100 | H41: 100 | I41: 100 | J41: 100 | K41: 100 | M41: 100 | N41: 100
...

Sheet 3-1-2
A1: 表3－1－2 工事代金の受取時期及び受取条件（経年変化①：資本金別）
M3: （単位：％）
C4: 資本金 | D4: 個 人 | E4: 法 人 | M4: 合 計
A5: 年度 | B5: 受取時期・受取条件 | E5: 500万円未満 | F5: 500万円以上1000万円未満 | G5: 1000万円以上3000万円未満 | H5: 3000万円以上5000万円未満 | I5: 5000万円以上 1億円未満 | J5: 1億円以上 3億円未満 | K5: 3億円以上 10億円未満 | L5: 10億円以上
A6: R06年度 | B6: 工事施工前 | C6: 現金 | D6: ='3-1-1'!E438 -> 2.09375 | E6: ='3-1-1'!F438 -> 2.3790698 | F6: ='3-1-1'!G438 -> 3.5156446 | G6: ='3-1-1'!H438 -> 5.1182109 | H6: ='3-1-1'!I438 -> 7.094532 | I6: ='3-1-1'!J438 -> 8.1689373 | J6: ='3-1-1'!K438 -> 12.188976 | K6: ='3-1-1'!L438 -> 10.310345 | ... M6: ='3-1-1'!N438 -> 3.6982631
C7: 手形 | D7: ='3-1-1'!E439 -> 0 | E7: ='3-1-1'!F439 -> 0.0011627907 | F7: ='3-1-1'!G439 -> 0.041301627 | G7: ='3-1-1'!H439 -> 0.07284345 | H7: ='3-1-1'!I439 -> 0.24374421 | I7: ='3-1-1'!J439 -> 0.29427793 | J7: ='3-1-1'!K439 -> 0.45275591 | K7: ='3-1-1'!L439 -> 1.0344828 | ... M7: ='3-1-1'!N439 -> 0.048758914
C8: 小計 | D8: ='3-1-1'!E440 -> 2.09375 | E8: ='3-1-1'!F440 -> 2.3802326 | F8: ='3-1-1'!G440 -> 3.5569462 | G8: ='3-1-1'!H440 -> 5.1910543 | H8: ='3-1-1'!I440 -> 7.3382762 | I8: ='3-1-1'!J440 -> 8.4632153 | J8: ='3-1-1'!K440 -> 12.641732 | K8: ='3-1-1'!L440 -> 11.344828 | ... M8: ='3-1-1'!N440 -> 3.747022
B9: 工事施工中 | C9: 現金 | D9: ='3-1-1'!E441 -> 9.90625 | E9: ='3-1-1'!F441 -> 15.504651 | F9: ='3-1-1'!G441 -> 15.360451 | G9: ='3-1-1'!H441 -> 17.684345 | H9: ='3-1-1'!I441 -> 20.776645 | I9: ='3-1-1'!J441 -> 22.19346 | J9: ='3-1-1'!K441 -> 23.476378 | K9: ='3-1-1'!L441 -> 29.637931 | ... M9: ='3-1-1'!N441 -> 15.620828
C10: 手形 | D10: ='3-1-1'!E442 -> 0.1171875 | E10: ='3-1-1'!F442 -> 1.4604651 | F10: ='3-1-1'!G442 -> 1.2740926 | G10: ='3-1-1'!H442 -> 3.1904153 | H10: ='3-1-1'!I442 -> 4.3901761 | I10: ='3-1-1'!J442 -> 4.8841962 | J10: ='3-1-1'!K442 -> 3.976378 | K10: ='3-1-1'!L442 -> 4.3793103 | ... M10: ='3-1-1'!N442 -> 1.9175925
C11: 小計 | D11: ='3-1-1'!E443 -> 10.023438 | E11: ='3-1-1'!F443 -> 16.965116 | F11: ='3-1-1'!G443 -> 16.634543 | G11: ='3-1-1'!H443 -> 20.87476 | H11: ='3-1-1'!I443 -> 25.166821 | I11: ='3-1-1'!J443 -> 27.077657 | J11: ='3-1-1'!K443 -> 27.452756 | K11: ='3-1-1'!L443 -> 34.017241 | ... M11: ='3-1-1'!N443 -> 17.538421
B12: 工事施工後 | C12: 現金 | D12: ='3-1-1'!E444 -> 86.050781 | E12: ='3-1-1'!F444 -> 76.568605 | F12: ='3-1-1'!G444 -> 74.493116 | G12: ='3-1-1'!H444 -> 66.054313 | H12: ='3-1-1'!I444 -> 60.294717 | I12: ='3-1-1'!J444 -> 57.303815 | J12: ='3-1-1'!K444 -> 52.948819 | K12: ='3-1-1'!L444 -> 47.017241 | ... M12: ='3-1-1'!N444 -> 73.472027
C13: 手形 | D13: ='3-1-1'!E445 -> 1.8320312 | E13: ='3-1-1'!F445 -> 4.0860465 | F13: ='3-1-1'!G445 -> 5.3153942 | G13: ='3-1-1'!H445 -> 7.8798722 | H13: ='3-1-1'!I445 -> 7.2001854 | I13: ='3-1-1'!J445 -> 7.1580381 | J13: ='3-1-1'!K445 -> 6.9566929 | K13: ='3-1-1'!L445 -> 7.6206897 | ... M13: ='3-1-1'!N445 -> 5.2425819
C14: 小計 | D14: ='3-1-1'!E446 -> 87.882812 | E14: ='3-1-1'!F446 -> 80.654651 | F14: ='3-1-1'!G446 -> 79.808511 | G14: ='3-1-1'!H446 -> 73.934185 | H14: ='3-1-1'!I446 -> 67.494903 | I14: ='3-1-1'!J446 -> 64.461853 | J14: ='3-1-1'!K446 -> 59.905512 | K14: ='3-1-1'!L446 -> 54.637931 | ... M14: ='3-1-1'!N446 -> 78.714609
C15: 現金 | D15: ='3-1-1'!E447 -> 98.050781 | E15: ='3-1-1'!F447 -> 94.452326 | F15: ='3-1-1'!G447 -> 93.369212 | G15: ='3-1-1'!H447 -> 88.856869 | H15: ='3-1-1'!I447 -> 88.165894 | I15: ='3-1-1'!J447 -> 87.666213 | J15: ='3-1-1'!K447 -> 88.614173 | K15: ='3-1-1'!L447 -> 86.965517 | ... M15: ='3-1-1'!N447 -> 92.791118
C16: 手形 | D16: ='3-1-1'!E448 -> 1.9492188 | E16: ='3-1-1'!F448 -> 5.5476744 | F16: ='3-1-1'!G448 -> 6.6307885 | G16: ='3-1-1'!H448 -> 11.143131 | H16: ='3-1-1'!I448 -> 11.834106 | I16: ='3-1-1'!J448 -> 12.336512 | J16: ='3-1-1'!K448 -> 11.385827 | K16: ='3-1-1'!L448 -> 13.034483 | ... M16: ='3-1-1'!N448 -> 7.2089333
D17: ='3-1-1'!E449 -> 100 | E17: ='3-1-1'!F449 -> 100 | F17: ='3-1-1'!G449 -> 100 | G17: ='3-1-1'!H449 -> 100 | H17: ='3-1-1'!I449 -> 100 | I17: ='3-1-1'!J449 -> 100 | J17: ='3-1-1'!K449 -> 100 | K17: ='3-1-1'!L449 -> 100 | ... M17: ='3-1-1'!N449 -> 100.00005
A18: 増減 | B18: 工事施工前 | C18: 現金 | D18: =D6-D30 -> -5.7643241 | E18: =E6-E30 -> -1.3196893 | F18: =F6-F30 -> -1.8386386 | G18: =G6-G30 -> -2.6882621 | H18: =H6-H30 -> -4.7488231 | I18: =I6-I30 -> -4.5117946 | J18: =J6-J30 -> -2.7293858 | K18: =K6-K30 -> -3.8211145 | ... M18: =M6-M30 -> -3.0749622
C19: 手形 | D19: =D7-D31 -> -0.0039510836 | E19: =E7-E31 -> -0.13255299 | F19: =F7-F31 -> -0.00011627676 | G19: =G7-G31 -> -0.19116439 | H19: =H7-H31 -> 0.0056397008 | I19: =I7-I31 -> 0.024716235 | J19: =J7-J31 -> -0.09436271 | K19: =K7-K31 -> 0.14625404 | ... M19: =M7-M31 -> -0.11202901
C20: 小計 | D20: =D8-D32 -> -5.7682752 | E20: =E8-E32 -> -1.4522423 | F20: =F8-F32 -> -1.8387549 | G20: =G8-G32 -> -2.8794265 | H20: =H8-H32 -> -4.7431834 | I20: =I8-I32 -> -4.4870784 | J20: =J8-J32 -> -2.8237485 | K20: =K8-K32 -> -3.6748605 | ... M20: =M8-M32 -> -3.1869912
B21: 工事施工中 | C21: 現金 | D21: =D9-D33 -> -7.5138354 | E21: =E9-E33 -> -0.80757834 | F21: =F9-F33 -> -3.1900894 | G21: =G9-G33 -> -0.29345606 | H21: =H9-H33 -> 0.68470232 | I21: =I9-I33 -> 0.50890101 | J21: =J9-J33 -> 0.80961997 | K21: =K9-K33 -> 7.404874 | ... M21: =M9-M33 -> -2.238059
C22: 手形 | D22: =D10-D34 -> -0.37490405 | E22: =E10-E34 -> -0.86327581 | F22: =F10-F34 -> -0.065302316 | G22: =G10-G34 -> -0.88567917 | H22: =H10-H34 -> 0.61611052 | I22: =I10-I34 -> -0.21705043 | J22: =J10-J34 -> -0.53653466 | K22: =K10-K34 -> -1.404472 | ... M22: =M10-M34 -> -0.81282663
C23: 小計 | D23: =D11-D35 -> -7.8887394 | E23: =E11-E35 -> -1.6708542 | F23: =F11-F35 -> -3.2553917 | G23: =G11-G35 -> -1.1791352 | H23: =H11-H35 -> 1.3008128 | I23: =I11-I35 -> 0.29185058 | J23: =J11-J35 -> 0.27308531 | K23: =K11-K35 -> 6.000402 | ... M23: =M11-M35 -> -3.0508857
B24: 工事施工後 | C24: 現金 | D24: =D12-D36 -> 14.12532 | E24: =E12-E36 -> 5.7407411 | F24: =F12-F36 -> 5.651479 | G24: =G12-G36 -> 5.7213695 | H24: =H12-H36 -> 4.6390683 | I24: =I12-I36 -> 4.4074305 | J24: =J12-J36 -> 2.8964288 | K24: =K12-K36 -> 1.402993 | ... M24: =M12-M36 -> 8.1683204
C25: 手形 | D25: =D13-D37 -> -0.46830529 | E25: =E13-E37 -> -2.6176447 | F25: =F13-F37 -> -0.55733231 | G25: =G13-G37 -> -1.6628078 | H25: =H13-H37 -> -1.1966977 | I25: =I13-I37 -> -0.20947785 | J25: =J13-J37 -> -0.3457656 | K25: =K13-K37 -> -3.7285345 | ... M25: =M13-M37 -> -1.9303922
C26: 小計 | D26: =D14-D38 -> 13.657015 | E26: =E14-E38 -> 3.1230964 | F26: =F14-F38 -> 5.0941466 | G26: =G14-G38 -> 4.0585617 | H26: =H14-H38 -> 3.4423706 | I26: =I14-I38 -> 4.1979526 | J26: =J14-J38 -> 2.5506632 | K26: =K14-K38 -> -2.3255415 | ... M26: =M14-M38 -> 6.2379282
C27: 現金 | D27: =D15-D39 -> 0.84716042 | E27: =E15-E39 -> 3.6134735 | F27: =F15-F39 -> 0.62275091 | G27: =G15-G39 -> 2.7396514 | H27: =H15-H39 -> 0.57494752 | I27: =I15-I39 -> 0.40453684 | J27: =J15-J39 -> 0.97666297 | K27: =K15-K39 -> 4.9867525 | ... M27: =M15-M39 -> 2.8552992
C28: 手形 | D28: =D16-D40 -> -0.84716042 | E28: =E16-E40 -> -3.6134735 | F28: =F16-F40 -> -0.62275091 | G28: =G16-G40 -> -2.7396514 | H28: =H16-H40 -> -0.57494752 | I28: =I16-I40 -> -0.40181204 | J28: =J16-J40 -> -0.97666297 | K28: =K16-K40 -> -4.9867525 | ... M28: =M16-M40 -> -2.8552478
D29: - | E29: - | F29: - | G29: - | H29: - | I29: - | J29: - | K29: - | L29: - | M29: -
A30: R01年度 | B30: 工事施工前 | C30: 現金 | D30: 7.8580741 | E30: 3.698759 | F30: 5.3542832 | G30: 7.8064729 | H30: 11.843355 | I30: 12.680732 | J30: 14.918362 | K30: 14.131459 | L30: 11.913524 | M30: 6.7732253
C31: 手形 | D31: 0.0039510836 | E31: 0.13371578 | F31: 0.041417904 | G31: 0.26400784 | H31: 0.23810451 | I31: 0.26956169 | J31: 0.54711862 | K31: 0.88822872 | L31: 0.58517918 | M31: 0.16078793
C32: 小計 | D32: 7.8620252 | E32: 3.8324748 | F32: 5.3957011 | G32: 8.0704808 | H32: 12.08146 | I32: 12.950294 | J32: 15.465481 | K32: 15.019688 | L32: 12.498703 | M32: 6.9340132
B33: 工事施工中 | C33: 現金 | D33: 17.420085 | E33: 16.31223 | F33: 18.55054 | G33: 17.977801 | H33: 20.091943 | I33: 21.684559 | J33: 22.666758 | K33: 22.233057 | L33: 24.898495 | M33: 17.858887
C34: 手形 | D34: 0.49209155 | E34: 2.3237409 | F34: 1.3393949 | G34: 4.0760945 | H34: 3.7740656 | I34: 5.1012466 | J34: 4.5129126 | K34: 5.7837824 | L34: 6.6978792 | M34: 2.7304191
C35: 小計 | D35: 17.912177 | E35: 18.63597 | F35: 19.889935 | G35: 22.053896 | H35: 23.866008 | I35: 26.785806 | J35: 27.179671 | K35: 28.016839 | L35: 31.596374 | M35: 20.589306
B36: 工事施工後 | C36: 現金 | D36: 71.925461 | E36: 70.827864 | F36: 68.841637 | G36: 60.332944 | H36: 55.655649 | I36: 52.896384 | J36: 50.05239 | K36: 45.614248 | L36: 45.421717 | M36: 65.303706
C37: 手形 | D37: 2.3003365 | E37: 6.7036912 | F37: 5.8727266 | G37: 9.54268 | H37: 8.3968831 | I37: 7.367516 | J37: 7.3024585 | K37: 11.349224 | L37: 10.483206 | M37: 7.172974
C38: 小計 | D38: 74.225798 | E38: 77.531555 | F38: 74.714364 | G38: 69.875624 | H38: 64.052532 | I38: 60.2639 | J38: 57.354849 | K38: 56.963473 | L38: 55.904923 | M38: 72.47668
C39: 現金 | D39: 97.203621 | E39: 90.838852 | F39: 92.746461 | G39: 86.117218 | H39: 87.590947 | I39: 87.261676 | J39: 87.63751 | K39: 81.978765 | L39: 82.233736 | M39: 89.935819
C40: 手形 | D40: 2.7963792 | E40: 9.1611479 | F40: 7.2535394 | G40: 13.882782 | H40: 12.409053 | I40: 12.738324 | J40: 12.36249 | K40: 18.021235 | L40: 17.766264 | M40: 10.064181
D41: 100 | E41: 100 | F41: 100 | G41: 100 | H41: 100 | I41: 100 | J41: 100 | K41: 100 | L41: 100 | M41: 100
...

Sheet 3-1-3
A1: 表3－1－3 工事代金の受取時期及び受取条件（経年変化②：６業種別）
N3: （単位：％）
C4: 年度 | D4: R06年度 | F4: R01年度 | H4: H26年度 | J4: H23年度 | L4: H20年度 | N4: H17年度
A5: 業種 | B5: 受取時期・受取条件 | E5: 増減 | G5: 増減 | I5: 増減 | K5: 増減 | M5: 増減
A6: 一般土木建築 | B6: 工事施工前 | C6: 現金 | D6: ='3-1-1'!N6 -> 12.397844 | E6: =D6-F6 -> -4.3275055 | F6: 16.72535 | G6: =F6-H6 -> 1.0929577 | H6: 15.632392 | I6: =H6-J6 -> 1.8323922 | J6: 13.8 | K6: =J6-L6 -> 1.5 | L6: 12.3 | M6: =L6-N6 -> -1.6 | N6: 13.9
C7: 手形 | D7: ='3-1-1'!N7 -> 0.032995105 | E7: =D7-F7 -> -0.27584148 | F7: 0.30883659 | G7: =F7-H7 -> -0.85965429 | H7: 1.1684909 | I7: =H7-J7 -> 0.86849088 | J7: 0.3 | K7: =J7-L7 -> 0.1 | L7: 0.2 | M7: =L7-N7 -> -0.1 | N7: 0.3
C8: 小計 | D8: ='3-1-1'!N8 -> 12.43084 | E8: =D8-F8 -> -4.603347 | F8: 17.034186 | G8: =F8-H8 -> 0.2333034 | H8: 16.800883 | I8: =H8-J8 -> 2.6008831 | J8: 14.2 | K8: =J8-L8 -> 1.6 | L8: 12.6 | M8: =L8-N8 -> -1.7 | N8: 14.3
B9: 工事施工中 | C9: 現金 | D9: ='3-1-1'!N9 -> 14.963702 | E9: =D9-F9 -> -0.21362553 | F9: 15.177327 | G9: =F9-H9 -> 1.2667766 | H9: 13.91055 | I9: =H9-J9 -> -2.0894495 | J9: 16 | K9: =J9-L9 -> -0.7 | L9: 16.7 | M9: =L9-N9 -> 0.6 | N9: 16.1
C10: 手形 | D10: ='3-1-1'!N10 -> 1.2473713 | E10: =D10-F10 -> -0.60200533 | F10: 1.8493767 | G10: =F10-H10 -> -15.598464 | H10: 17.447841 | I10: =H10-J10 -> 14.547841 | J10: 2.9 | K10: =J10-L10 -> -1.1 | L10: 4 | M10: =L10-N10 -> -0.1 | N10: 4.1
C11: 小計 | D11: ='3-1-1'!N11 -> 16.211073 | E11: =D11-F11 -> -0.81563087 | F11: 17.026704 | G11: =F11-H11 -> -14.331687 | H11: 31.358391 | I11: =H11-J11 -> 12.458391 | J11: 18.9 | K11: =J11-L11 -> -1.7 | L11: 20.6 | M11: =L11-N11 -> 0.4 | N11: 20.2
B12: 工事施工後 | C12: 現金 | D12: ='3-1-1'!N12 -> 69.080084 | E12: =D12-F12 -> 8.466245 | F12: 60.613839 | G12: =F12-H12 -> 14.670447 | H12: 45.943392 | I12: =H12-J12 -> -14.856608 | J12: 60.8 | K12: =J12-L12 -> 2 | L12: 58.8 | M12: =L12-N12 -> 0.9 | N12: 57.9
C13: 手形 | D13: ='3-1-1'!N13 -> 2.278004 | E13: =D13-F13 -> -3.0472672 | F13: 5.3252712 | G13: =F13-H13 -> -0.57206284 | H13: 5.897334 | I13: =H13-J13 -> -0.30266599 | J13: 6.2 | K13: =J13-L13 -> -1.8 | L13: 8 | M13: =L13-N13 -> 0.3 | N13: 7.7
C14: 小計 | D14: ='3-1-1'!N14 -> 71.358088 | E14: =D14-F14 -> 5.4189778 | F14: 65.93911 | G14: =F14-H14 -> 14.098384 | H14: 51.840726 | I14: =H14-J14 -> -15.159274 | J14: 67 | K14: =J14-L14 -> 0.2 | L14: 66.8 | M14: =L14-N14 -> 1.3 | N14: 65.5
B15: 小 計 | C15: 現金 | D15: ='3-1-1'!N15 -> 96.44163 | E15: =D15-F15 -> 3.925114 | F15: 92.516516 | G15: =F15-H15 -> 17.030181 | H15: 75.486335 | I15: =H15-J15 -> -15.113665 | J15: 90.6 | K15: =J15-L15 -> 2.7 | L15: 87.9 | M15: =L15-N15 -> 0 | N15: 87.9
C16: 手形 | D16: ='3-1-1'!N16 -> 3.5583704 | E16: =D16-F16 -> -3.925114 | F16: 7.4834844 | G16: =F16-H16 -> -17.030181 | H16: 24.513665 | I16: =H16-J16 -> 15.113665 | J16: 9.4 | K16: =J16-L16 -> -2.7 | L16: 12.1 | M16: =L16-N16 -> 0 | N16: 12.1
D17: ='3-1-1'!N17 -> 100 | E17: =D17-F17 -> 0 | F17: 100 | G17: =F17-H17 -> 0 | H17: 100 | I17: =H17-J17 -> 0 | J17: 100 | K17: =J17-L17 -> 0 | L17: 100 | M17: =L17-N17 -> 0 | N17: 100
A18: 土木 | B18: 工事施工前 | C18: 現金 | D18: ='3-1-1'!N78 -> 8.0914698 | E18: =D18-F18 -> -1.5448247 | F18: 9.6362946 | G18: =F18-H18 -> -0.57950977 | H18: 10.215804 | I18: =H18-J18 -> 1.1158043 | J18: 9.1 | K18: =J18-L18 -> -1 | L18: 10.1 | M18: =L18-N18 -> -0.8 | N18: 10.9
C19: 手形 | D19: ='3-1-1'!N79 -> 0.10881995 | E19: =D19-F19 -> -0.15221219 | F19: 0.26103214 | G19: =F19-H19 -> -0.64028439 | H19: 0.90131653 | I19: =H19-J19 -> 0.90131653 | J19: 0 | K19: =J19-L19 -> -0.2 | L19: 0.2 | M19: =L19-N19 -> 0 | N19: 0.2
C20: 小計 | D20: ='3-1-1'!N80 -> 8.2002898 | E20: =D20-F20 -> -1.6970369 | F20: 9.8973267 | G20: =F20-H20 -> -1.2197942 | H20: 11.117121 | I20: =H20-J20 -> 2.0171209 | J20: 9.1 | K20: =J20-L20 -> -1.2 | L20: 10.3 | M20: =L20-N20 -> -0.8 | N20: 11.1
B21: 工事施工中 | C21: 現金 | D21: ='3-1-1'!N81 -> 13.43477 | E21: =D21-F21 -> -1.9596045 | F21: 15.394374 | G21: =F21-H21 -> 4.5507916 | H21: 10.843582 | I21: =H21-J21 -> -3.6564175 | J21: 14.5 | K21: =J21-L21 -> -0.8 | L21: 15.3 | M21: =L21-N21 -> 0.7 | N21: 14.6
C22: 手形 | D22: ='3-1-1'!N82 -> 0.72524047 | E22: =D22-F22 -> -0.9165642 | F22: 1.6418047 | G22: =F22-H22 -> -15.059535 | H22: 16.70134 | I22: =H22-J22 -> 14.20134 | J22: 2.5 | K22: =J22-L22 -> -1.3 | L22: 3.8 | M22: =L22-N22 -> 0.1 | N22: 3.7
C23: 小計 | D23: ='3-1-1'!N83 -> 14.16001 | E23: =D23-F23 -> -2.8761687 | F23: 17.036179 | G23: =F23-H23 -> -10.508743 | H23: 27.544922 | I23: =H23-J23 -> 10.544922 | J23: 17 | K23: =J23-L23 -> -2.1 | L23: 19.1 | M23: =L23-N23 -> 0.8 | N23: 18.3
B24: 工事施工後 | C24: 現金 | D24: ='3-1-1'!N84 -> 74.901539 | E24: =D24-F24 -> 7.6400636 | F24: 67.261475 | G24: =F24-H24 -> 11.705816 | H24: 55.555659 | I24: =H24-J24 -> -12.144341 | J24: 67.7 | K24: =J24-L24 -> 3.8 | L24: 63.9 | M24: =L24-N24 -> 0.4 | N24: 63.5
C25: 手形 | D25: ='3-1-1'!N85 -> 2.738452 | E25: =D25-F25 -> -3.0665675 | F25: 5.8050194 | G25: =F25-H25 -> 0.022721415 | H25: 5.782298 | I25: =H25-J25 -> -0.41770199 | J25: 6.2 | K25: =J25-L25 -> -0.5 | L25: 6.7 | M25: =L25-N25 -> -0.3 | N25: 7
C26: 小計 | D26: ='3-1-1'!N86 -> 77.639991 | E26: =D26-F26 -> 4.5734961 | F26: 73.066495 | G26: =F26-H26 -> 11.728538 | H26: 61.337957 | I26: =H26-J26 -> -12.562043 | J26: 73.9 | K26: =J26-L26 -> 3.3 | L26: 70.6 | M26: =L26-N26 -> 0 | N26: 70.6
B27: 小 計 | C27: 現金 | D27: ='3-1-1'!N87 -> 96.427778 | E27: =D27-F27 -> 4.1356344 | F27: 92.292144 | G27: =F27-H27 -> 15.677098 | H27: 76.615046 | I27: =H27-J27 -> -14.584954 | J27: 91.2 | K27: =J27-L27 -> 1.8 | L27: 89.4 | M27: =L27-N27 -> 0.4 | N27: 89
C28: 手形 | D28: ='3-1-1'!N88 -> 3.5725124 | E28: =D28-F28 -> -4.1353439 | F28: 7.7078562 | G28: =F28-H28 -> -15.677098 | H28: 23.384954 | I28: =H28-J28 -> 14.584954 | J28: 8.8 | K28: =J28-L28 -> -1.8 | L28: 10.6 | M28: =L28-N28 -> -0.4 | N28: 11
D29: ='3-1-1'!N89 -> 100.00029 | E29: =D29-F29 -> 0.00029050931 | F29: 100 | G29: =F29-H29 -> 0 | H29: 100 | I29: =H29-J29 -> 0 | J29: 100 | K29: =J29-L29 -> 0 | L29: 100 | M29: =L29-N29 -> 0 | N29: 100
A30: 建築 | B30: 工事施工前 | C30: 現金 | D30: ='3-1-1'!N90 -> 9.8309986 | E30: =D30-F30 -> -0.95073999 | F30: 10.781739 | G30: =F30-H30 -> 0.87406038 | H30: 9.9076782 | I30: =H30-J30 -> -0.49232181 | J30: 10.4 | K30: =J30-L30 -> 0.1 | L30: 10.3 | M30: =L30-N30 -> -1.3 | N30: 11.6
C31: 手形 | D31: ='3-1-1'!N91 -> 0.052408274 | E31: =D31-F31 -> -0.12040183 | F31: 0.1728101 | G31: =F31-H31 -> -0.6909833 | H31: 0.8637934 | I31: =H31-J31 -> 0.8637934 | J31: 0 | K31: =J31-L31 -> -0.2 | L31: 0.2 | M31: =L31-N31 -> -0.1 | N31: 0.3
C32: 小計 | D32: ='3-1-1'!N92 -> 9.8834068 | E32: =D32-F32 -> -1.0711418 | F32: 10.954549 | G32: =F32-H32 -> 0.18307707 | H32: 10.771472 | I32: =H32-J32 -> 0.37147159 | J32: 10.4 | K32: =J32-L32 -> -0.1 | L32: 10.5 | M32: =L32-N32 -> -1.4 | N32: 11.9
B33: 工事施工中 | C33: 現金 | D33: ='3-1-1'!N93 -> 22.51141 | E33: =D33-F33 -> -0.66939836 | F33: 23.180808 | G33: =F33-H33 -> 6.4857605 | H33: 16.695048 | I33: =H33-J33 -> -9.4049521 | J33: 26.1 | K33: =J33-L33 -> 4.6 | L33: 21.5 | M33: =L33-N33 -> -2.1 | N33: 23.6
C34: 手形 | D34: ='3-1-1'!N94 -> 0.94405896 | E34: =D34-F34 -> -0.96716779 | F34: 1.9112267 | G34: =F34-H34 -> -14.95489 | H34: 16.866117 | I34: =H34-J34 -> 14.766117 | J34: 2.1 | K34: =J34-L34 -> -0.1 | L34: 2.2 | M34: =L34-N34 -> 0.6 | N34: 1.6
C35: 小計 | D35: ='3-1-1'!N95 -> 23.455469 | E35: =D35-F35 -> -1.6365661 | F35: 25.092035 | G35: =F35-H35 -> -8.4691293 | H35: 33.561164 | I35: =H35-J35 -> 5.3611644 | J35: 28.2 | K35: =J35-L35 -> 4.5 | L35: 23.7 | M35: =L35-N35 -> -1.5 | N35: 25.2
B36: 工事施工後 | C36: 現金 | D36: ='3-1-1'!N96 -> 64.268965 | E36: =D36-F36 -> 4.6522948 | F36: 59.61667 | G36: =F36-H36 -> 10.423317 | H36: 49.193353 | I36: =H36-J36 -> -9.0066467 | J36: 58.2 | K36: =J36-L36 -> -1 | L36: 59.2 | M36: =L36-N36 -> 1.9 | N36: 57.3
C37: 手形 | D37: ='3-1-1'!N97 -> 2.3921592 | E37: =D37-F37 -> -1.9445868 | F37: 4.336746 | G37: =F37-H37 -> -2.1372648 | H37: 6.4740108 | I37: =H37-J37 -> 3.2740108 | J37: 3.2 | K37: =J37-L37 -> -3.4 | L37: 6.6 | M37: =L37-N37 -> 1 | N37: 5.6
C38: 小計 | D38: ='3-1-1'!N98 -> 66.661124 | E38: =D38-F38 -> 2.707708 | F38: 63.953416 | G38: =F38-H38 -> 8.2860522 | H38: 55.667364 | I38: =H38-J38 -> -5.732636 | J38: 61.4 | K38: =J38-L38 -> -4.4 | L38: 65.8 | M38: =L38-N38 -> 2.9 | N38: 62.9
B39: 小 計 | C39: 現金 | D39: ='3-1-1'!N99 -> 96.611374 | E39: =D39-F39 -> 3.0321565 | F39: 93.579217 | G39: =F39-H39 -> 17.783138 | H39: 75.796079 | I39: =H39-J39 -> -18.903921 | J39: 94.7 | K39: =J39-L39 -> 3.6 | L39: 91.1 | M39: =L39-N39 -> -1.4 | N39: 92.5
C40: 手形 | D40: ='3-1-1'!N100 -> 3.3886264 | E40: =D40-F40 -> -3.0321565 | F40: 6.4207829 | G40: =F40-H40 -> -17.783138 | H40: 24.203921 | I40: =H40-J40 -> 18.903921 | J40: 5.3 | K40: =J40-L40 -> -3.6 | L40: 8.9 | M40: =L40-N40 -> 1.4 | N40: 7.5
D41: ='3-1-1'!N101 -> 100 | E41: =D41-F41 -> 0 | F41: 100 | G41: =F41-H41 -> 0 | H41: 100 | I41: =H41-J41 -> 0 | J41: 100 | K41: =J41-L41 -> 0 | L41: 100 | M41: =L41-N41 -> 0 | N41: 100
...

Sheet 3-1-4
A1: 表3－1－4 工事代金の受取時期及び受取条件（下請比率、次数別集計）
A3: （概要） | H3: （単位：％）
B4: 下請比率別、次数 | C4: ０％超 ５０％未満 | D4: ５０％以上１００％以下 | H4: 合 計
A5: 受取時期・受取条件 | E5: 一次下請 | F5: 二次下請 | G5: 三次以下下請
A6: 工事施工前 | B6: 現金 | C6: 11.26642 | D6: 2.0442604 | E6: 2.3786936 | F6: 1.1536524 | G6: 0.91911765 | H6: 5.5624779
B7: 手形 | C7: 0.14708603 | D7: 0.15448315 | E7: 0.18856921 | F7: 0.070528967 | G7: 0 | H7: 0.15160607
B8: 小計 | C8: 11.413506 | D8: 2.1987436 | E8: 2.5672628 | F8: 1.2241814 | G8: 0.91911765 | H8: 5.714084
A9: 工事施工中 | B9: 現金 | C9: 13.914431 | D9: 20.987721 | E9: 21.527216 | F9: 19.896725 | G9: 17.154412 | H9: 18.281327
B10: 手形 | C10: 0.82053654 | D10: 4.4474586 | E10: 5.0132193 | F10: 3.2166247 | G10: 0.93382353 | H10: 3.0619485
B11: 小計 | C11: 14.734968 | D11: 25.43518 | E11: 26.540435 | F11: 23.11335 | G11: 18.088235 | H11: 21.343276
A12: 工事施工後 | B12: 現金 | C12: 70.120259 | D12: 64.300685 | E12: 62.832426 | F12: 67.22796 | G12: 74.977941 | H12: 66.498588
B13: 手形 | C13: 3.7321924 | D13: 8.0653912 | E13: 8.0598756 | F13: 8.4345088 | G13: 6.0147059 | H13: 6.409107
B14: 小計 | C14: 73.852451 | D14: 72.366077 | E14: 70.892302 | F14: 75.662469 | G14: 80.992647 | H14: 72.907695
A15: 合 計 | B15: 現金 | C15: 95.30111 | D15: 87.332667 | E15: 86.738336 | F15: 88.278338 | G15: 93.051471 | H15: 90.342393
B16: 手形 | C16: 4.699815 | D16: 12.667333 | E16: 13.261664 | F16: 11.721662 | G16: 6.9485294 | H16: 9.6226615
B17: 小計 | C17: 100.00093 | D17: 100 | E17: 100 | F17: 100 | G17: 100 | H17: 99.965055
A20: （下請比率別詳細）
B21: 下請比率別、次数 | C21: ０％超１０％未満 | G21: １０％以上２０％未満 | K21: ２０％以上３０％未満
A22: 受取時期・受取条件 | C22: 一次下請 | D22: 二次下請 | E22: 三次以下下請 | F22: 小 計 | G22: 一次下請 | H22: 二次下請 | I22: 三次以下下請 | J22: 小 計 | K22: 一次下請 | L22: 二次下請 | M22: 三次以下下請 | N22: 小 計
A23: 工事施工前 | B23: 現金 | C23: 13.391827 | D23: 25.666667 | E23: 5 | F23: 13.851476 | G23: 10.571429 | H23: 14.3 | I23: 15 | J23: 10.729452 | K23: 9.3359375 | L23: 12.5 | N23: 9.5
B24: 手形 | C24: 0.12259615 | D24: 0 | E24: 0 | F24: 0.14206642 | G24: 0.17142857 | H24: 0 | I24: 0 | J24: 0.16438356 | K24: 0.10546875 | L24: 1.0714286 | N24: 0.15555556
B25: 小計 | C25: 13.514423 | D25: 25.666667 | E25: 5 | F25: 13.993542 | G25: 10.742857 | H25: 14.3 | I25: 15 | J25: 10.893836 | K25: 9.4414062 | L25: 13.571429 | N25: 9.6555556
A26: 工事施工中 | B26: 現金 | C26: 13.298077 | D26: 12.444444 | E26: 5 | F26: 15.908672 | G26: 11.882143 | H26: 13.7 | I26: 14.5 | J26: 11.962329 | K26: 10.914062 | L26: 22.142857 | N26: 11.496296
B27: 手形 | C27: 0.30769231 | D27: 0.11111111 | E27: 0 | F27: 0.32841328 | G27: 0.86071429 | H27: 2.5 | I27: 0 | J27: 0.9109589 | K27: 1.0039062 | L27: 1.4285714 | N27: 1.0259259
B28: 小計 | C28: 13.605769 | D28: 12.555556 | E28: 5 | F28: 16.237085 | G28: 12.742857 | H28: 16.2 | I28: 14.5 | J28: 12.873288 | K28: 11.917969 | L28: 23.571429 | N28: 12.522222
A29: 工事施工後 | B29: 現金 | C29: 69.533654 | D29: 60.888889 | E29: 90 | F29: 67.20203 | G29: 72.882143 | H29: 68.1 | I29: 70.5 | J29: 72.702055 | K29: 74.164062 | L29: 61.071429 | N29: 73.485185
B30: 手形 | C30: 3.3485577 | D30: 0.88888889 | E30: 0 | F30: 2.5682657 | G30: 3.6321429 | H30: 1.4 | I30: 0 | J30: 3.5308219 | K30: 4.4765625 | L30: 1.7857143 | N30: 4.337037
B31: 小計 | C31: 72.882212 | D31: 61.777778 | E31: 90 | F31: 69.770295 | G31: 76.514286 | H31: 69.5 | I31: 70.5 | J31: 76.232877 | K31: 78.640625 | L31: 62.857143 | N31: 77.822222
A32: 合 計 | B32: 現金 | C32: 96.223558 | D32: 99 | E32: 100 | F32: 96.962177 | G32: 95.335714 | H32: 96.1 | I32: 100 | J32: 95.393836 | K32: 94.414062 | L32: 95.714286 | N32: 94.481481
B33: 手形 | C33: 3.7788462 | D33: 1 | E33: 0 | F33: 3.0387454 | G33: 4.6642857 | H33: 3.9 | I33: 0 | J33: 4.6061644 | K33: 5.5859375 | L33: 4.2857143 | N33: 5.5185185
B34: 小計 | C34: 100.0024 | D34: 100 | E34: 100 | F34: 100.00092 | G34: 100 | H34: 100 | I34: 100 | J34: 100 | K34: 100 | L34: 100 | N34: 100
B37: 下請比率別、次数 | C37: ３０％以上４０％未満 | G37: ４０％以上５０％未満 | K37: ５０％以上６０％未満
A38: 受取時期・受取条件 | C38: 一次下請 | D38: 二次下請 | E38: 三次以下下請 | F38: 小 計 | G38: 一次下請 | H38: 二次下請 | I38: 三次以下下請 | J38: 小 計 | K38: 一次下請 | L38: 二次下請 | M38: 三次以下下請 | N38: 小 計
A39: 工事施工前 | B39: 現金 | C39: 8.5714286 | D39: 4.1904762 | E39: 0 | F39: 8.1098039 | G39: 6.2172131 | H39: 3.5294118 | J39: 6.0421456 | K39: 5.1422018 | L39: 2.5 | N39: 4.9615385
B40: 手形 | C40: 0.11688312 | D40: 0 | E40: 0 | F40: 0.10588235 | G40: 0.19262295 | H40: 0 | J40: 0.18007663 | K40: 0.14220183 | L40: 0 | N40: 0.13247863
B41: 小計 | C41: 8.6883117 | D41: 4.1904762 | E41: 0 | F41: 8.2156863 | G41: 6.4098361 | H41: 3.5294118 | J41: 6.2222222 | K41: 5.2844037 | L41: 2.5 | N41: 5.0940171
A42: 工事施工中 | B42: 現金 | C42: 11.753247 | D42: 8.6666667 | E42: 16.666667 | F42: 11.556863 | G42: 13.090164 | H42: 5.8823529 | J42: 12.62069 | K42: 14.458716 | L42: 21.5625 | N42: 14.944444
B43: 手形 | C43: 1.8658009 | D43: 0.23809524 | E43: 0 | F43: 1.7098039 | G43: 1.7172131 | H43: 1.1764706 | J43: 1.6819923 | K43: 2.5366972 | L43: 1.875 | N43: 2.491453
B44: 小計 | C44: 13.619048 | D44: 8.9047619 | E44: 16.666667 | F44: 13.266667 | G44: 14.807377 | H44: 7.0588235 | J44: 14.302682 | K44: 16.995413 | L44: 23.4375 | N44: 17.435897
A45: 工事施工後 | B45: 現金 | C45: 72.619048 | D45: 83.095238 | E45: 72.666667 | F45: 73.482353 | G45: 72.262295 | H45: 77.235294 | J45: 72.586207 | K45: 71.270642 | L45: 68.625 | N45: 71.089744
...
