Workbook
Name ______________________ＴＢＬ１: [1]CSS編集画面!$B$10:$F$22
Name ______________________ＴＢＬ２: [1]CSS編集画面!$B$24:$I$35
Name _____________________ＴＢＬ１: [1]CSS編集画面!$B$10:$F$22
Name _____________________ＴＢＬ２: [1]CSS編集画面!$B$24:$I$35
Name ____________________ＴＢＬ１: [1]CSS編集画面!$B$10:$F$22
Name ____________________ＴＢＬ２: [1]CSS編集画面!$B$24:$I$35
Name ___________________ＴＢＬ１: [1]CSS編集画面!$B$10:$F$22
Name ___________________ＴＢＬ２: [1]CSS編集画面!$B$24:$I$35
Name __________________ＴＢＬ１: [1]CSS編集画面!$B$10:$F$22
Name __________________ＴＢＬ２: [1]CSS編集画面!$B$24:$I$35
Name _________________ＴＢＬ１: [1]CSS編集画面!$B$10:$F$22
Name _________________ＴＢＬ２: [1]CSS編集画面!$B$24:$I$35
Name ________________ＴＢＬ１: [1]CSS編集画面!$B$10:$F$22
Name ________________ＴＢＬ２: [1]CSS編集画面!$B$24:$I$35
Name _______________ＴＢＬ１: [1]CSS編集画面!$B$10:$F$22
Name _______________ＴＢＬ２: [1]CSS編集画面!$B$24:$I$35
Name ______________ＴＢＬ１: [1]CSS編集画面!$B$10:$F$22
Name ______________ＴＢＬ２: [1]CSS編集画面!$B$24:$I$35
Name _____________ＴＢＬ１: [1]CSS編集画面!$B$10:$F$22
Name _____________ＴＢＬ２: [1]CSS編集画面!$B$24:$I$35
Name ____________ＴＢＬ１: [1]CSS編集画面!$B$10:$F$22
Name ____________ＴＢＬ２: [1]CSS編集画面!$B$24:$I$35
Name ___________ＴＢＬ１: [1]CSS編集画面!$B$10:$F$22
Name ___________ＴＢＬ２: [1]CSS編集画面!$B$24:$I$35
Name __________ＴＢＬ１: [1]CSS編集画面!$B$10:$F$22
Name __________ＴＢＬ２: [1]CSS編集画面!$B$24:$I$35
Name _________ＴＢＬ１: [1]CSS編集画面!$B$10:$F$22
Name _________ＴＢＬ２: [1]CSS編集画面!$B$24:$I$35
Name ________ＴＢＬ１: [1]CSS編集画面!$B$10:$F$22
Name ________ＴＢＬ２: [1]CSS編集画面!$B$24:$I$35
Name _______ＴＢＬ１: [1]CSS編集画面!$B$10:$F$22
Name _______ＴＢＬ２: [1]CSS編集画面!$B$24:$I$35
Name ______ＴＢＬ１: [1]CSS編集画面!$B$10:$F$22
Name ______ＴＢＬ２: [1]CSS編集画面!$B$24:$I$35
Name _____ＴＢＬ１: [1]CSS編集画面!$B$10:$F$22
Name _____ＴＢＬ２: [1]CSS編集画面!$B$24:$I$35
Name ____ＴＢＬ１: [1]CSS編集画面!$B$10:$F$22
Name ____ＴＢＬ２: [1]CSS編集画面!$B$24:$I$35
Name ___ＴＢＬ１: [1]CSS編集画面!$B$10:$F$22
Name ___ＴＢＬ２: [1]CSS編集画面!$B$24:$I$35
Name __ＴＢＬ１: [1]CSS編集画面!$B$10:$F$22
Name __ＴＢＬ２: [1]CSS編集画面!$B$24:$I$35
Name _ＴＢＬ１: [1]CSS編集画面!$B$10:$F$22
Name _ＴＢＬ２: [1]CSS編集画面!$B$24:$I$35
Name PAGE1: #REF!
Name PAGE10: #REF!
Name PAGE100: #REF!
Name PAGE1000: #REF!
Name PAGE1001: #REF!
Name PAGE1002: #REF!
Name PAGE1003: #REF!
Name PAGE1004: #REF!
Name PAGE1005: #REF!
Name PAGE1006: #REF!
Name PAGE1007: #REF!
Name PAGE1008: #REF!
Name PAGE1009: #REF!
Name PAGE101: #REF!
Name PAGE1010: #REF!
Name PAGE1011: #REF!

Sheet 3-2-1
A1: 表3－2－1 手形期間
W3: （単位：社、％）
C4: 資本金 | D4: 個 人 | F4: 法 人 | V4: 合 計
A5: 業種 | C5: 手形期間 | F5: 500万円未満 | H5: 500万円以上 1000万円未満 | J5: 1000万円以上 3000万円未満 | L5: 3000万円以上 5000万円未満 | N5: 5000万円以上 1億円未満 | P5: 1億円以上 3億円未満 | R5: 3億円以上 10億円未満 | T5: 10億円以上
A6: 一般土木建築 | B6: 一般土木 建築工事業 | C6: ９０日以下 | D6: 99 | E6: 100 | F6: 154 | G6: 100 | H6: 270.57143 | I6: 66.666667 | J6: 876.16 | K6: 61.538462 | L6: 321.05263 | M6: 42.105263 | N6: 272.21818 | O6: 50 | P6: 70.02381 | Q6: 48.571429 | R6: 4.3333333 | S6: 20 | T6: 18.2 | U6: 38.888889 | V6: 2085.5594 | W6: 57.897035
C7: ９１日～１２０日 | D7: 0 | E7: 0 | F7: 0 | G7: 0 | H7: 135.28571 | I7: 33.333333 | J7: 328.56 | K7: 23.076923 | L7: 401.31579 | M7: 52.631579 | N7: 200.58182 | O7: 36.842105 | P7: 65.904762 | Q7: 45.714286 | R7: 8.6666667 | S7: 40 | T7: 20.8 | U7: 44.444444 | V7: 1161.1148 | W7: 32.233607
C8: １２１日～１５０日 | D8: 0 | E8: 0 | F8: 0 | G8: 0 | H8: 0 | I8: 0 | J8: 219.04 | K8: 15.384615 | L8: 40.131579 | M8: 5.2631579 | N8: 57.309091 | O8: 10.526316 | P8: 8.2380952 | Q8: 5.7142857 | R8: 4.3333333 | S8: 20 | T8: 7.8 | U8: 16.666667 | V8: 336.8521 | W8: 9.3513222
C9: １５１日～１８０日 | D9: 0 | E9: 0 | F9: 0 | G9: 0 | H9: 0 | I9: 0 | J9: 0 | K9: 0 | L9: 0 | M9: 0 | N9: 14.327273 | O9: 2.6315789 | P9: 0 | Q9: 0 | R9: 4.3333333 | S9: 20 | T9: 0 | U9: 0 | V9: 18.660606 | W9: 0.51803548
C10: １８０日超 | D10: 0 | E10: 0 | F10: 0 | G10: 0 | H10: 0 | I10: 0 | J10: 0 | K10: 0 | L10: 0 | M10: 0 | N10: 0 | O10: 0 | P10: 0 | Q10: 0 | R10: 0 | S10: 0 | T10: 0 | U10: 0 | V10: 0 | W10: 0
C11: 小 計 | D11: 99 | E11: 100 | F11: 154 | G11: 100 | H11: 405.85714 | I11: 100 | J11: 1423.76 | K11: 100 | L11: 762.5 | M11: 100 | N11: 544.43636 | O11: 100 | P11: 144.16667 | Q11: 100 | R11: 21.666667 | S11: 100 | T11: 46.8 | U11: 100 | V11: 3602.1868 | W11: 100
A12: 土 木 | B12: 土木工事業 | C12: ９０日以下 | D12: 505.25 | E12: 100 | F12: 1163.8125 | G12: 60 | H12: 1434.4068 | I12: 70 | J12: 3114.2105 | K12: 55.555556 | L12: 1366.0976 | M12: 73.170732 | N12: 471.61017 | O12: 75.757576 | P12: 45.0625 | Q12: 66.666667 | R12: 7.2 | S12: 50 | T12: 15 | U12: 75 | V12: 8122.65 | W12: 64.002282
C13: ９１日～１２０日 | D13: 0 | E13: 0 | F13: 646.5625 | G13: 33.333333 | H13: 512.28814 | I13: 25 | J13: 2335.6579 | K13: 41.666667 | L13: 500.90244 | M13: 26.829268 | N13: 150.91525 | O13: 24.242424 | P13: 19.3125 | Q13: 28.571429 | R13: 7.2 | S13: 50 | T13: 2.5 | U13: 12.5 | V13: 4175.3387 | W13: 32.89951
C14: １２１日～１５０日 | D14: 0 | E14: 0 | F14: 0 | G14: 0 | H14: 102.45763 | I14: 5 | J14: 155.71053 | K14: 2.7777778 | L14: 0 | M14: 0 | N14: 0 | O14: 0 | P14: 3.21875 | Q14: 4.7619048 | R14: 0 | S14: 0 | T14: 2.5 | U14: 12.5 | V14: 263.8869 | W14: 2.0792923
C15: １５１日～１８０日 | D15: 0 | E15: 0 | F15: 129.3125 | G15: 6.6666667 | H15: 0 | I15: 0 | J15: 0 | K15: 0 | L15: 0 | M15: 0 | N15: 0 | O15: 0 | P15: 0 | Q15: 0 | R15: 0 | S15: 0 | T15: 0 | U15: 0 | V15: 129.3125 | W15: 1.0189156
C16: １８０日超 | D16: 0 | E16: 0 | F16: 0 | G16: 0 | H16: 0 | I16: 0 | J16: 0 | K16: 0 | L16: 0 | M16: 0 | N16: 0 | O16: 0 | P16: 0 | Q16: 0 | R16: 0 | S16: 0 | T16: 0 | U16: 0 | V16: 0 | W16: 0
C17: 小 計 | D17: 505.25 | E17: 100 | F17: 1939.6875 | G17: 100 | H17: 2049.1525 | I17: 100 | J17: 5605.5789 | K17: 100 | L17: 1867 | M17: 100 | N17: 622.52542 | O17: 100 | P17: 67.59375 | Q17: 100 | R17: 14.4 | S17: 100 | T17: 20 | U17: 100 | V17: 12691.188 | W17: 100
B18: ほ装工事業 | C18: ９０日以下 | D18: 0 | F18: 122.2069 | G18: 80 | H18: 118.83333 | I18: 57.142857 | J18: 630.61905 | K18: 65.517241 | L18: 149.13043 | M18: 64.516129 | N18: 52.387097 | O18: 51.851852 | P18: 6 | Q18: 60 | R18: 0 | T18: 0 | U18: 0 | V18: 1079.1768 | W18: 64.566264
C19: ９１日～１２０日 | D19: 0 | F19: 30.551724 | G19: 20 | H19: 59.416667 | I19: 28.571429 | J19: 265.52381 | K19: 27.586207 | L19: 82.021739 | M19: 35.483871 | N19: 48.645161 | O19: 48.148148 | P19: 4 | Q19: 40 | R19: 0 | T19: 6 | U19: 100 | V19: 496.1591 | W19: 29.684792
C20: １２１日～１５０日 | D20: 0 | F20: 0 | G20: 0 | H20: 29.708333 | I20: 14.285714 | J20: 66.380952 | K20: 6.8965517 | L20: 0 | M20: 0 | N20: 0 | O20: 0 | P20: 0 | Q20: 0 | R20: 0 | T20: 0 | U20: 0 | V20: 96.089286 | W20: 5.7489432
C21: １５１日～１８０日 | D21: 0 | F21: 0 | G21: 0 | H21: 0 | I21: 0 | J21: 0 | K21: 0 | L21: 0 | M21: 0 | N21: 0 | O21: 0 | P21: 0 | Q21: 0 | R21: 0 | T21: 0 | U21: 0 | V21: 0 | W21: 0
C22: １８０日超 | D22: 0 | F22: 0 | G22: 0 | H22: 0 | I22: 0 | J22: 0 | K22: 0 | L22: 0 | M22: 0 | N22: 0 | O22: 0 | P22: 0 | Q22: 0 | R22: 0 | T22: 0 | U22: 0 | V22: 0 | W22: 0
C23: 小 計 | D23: 0 | F23: 152.75862 | G23: 100 | H23: 207.95833 | I23: 100 | J23: 962.52381 | K23: 100 | L23: 231.15217 | M23: 100 | N23: 101.03226 | O23: 100 | P23: 10 | Q23: 100 | R23: 0 | T23: 6 | U23: 100 | V23: 1671.4252 | W23: 100
B24: しゅんせつ 工事業 | C24: ９０日以下 | D24: 0 | F24: 0 | H24: 0 | J24: 30.666667 | K24: 66.666667 | L24: 18 | M24: 66.666667 | N24: 8 | O24: 100 | P24: 0 | R24: 0 | T24: 0 | V24: 56.666667 | W24: 69.958848
C25: ９１日～１２０日 | D25: 0 | F25: 0 | H25: 0 | J25: 15.333333 | K25: 33.333333 | L25: 9 | M25: 33.333333 | N25: 0 | O25: 0 | P25: 0 | R25: 0 | T25: 0 | V25: 24.333333 | W25: 30.041152
C26: １２１日～１５０日 | D26: 0 | F26: 0 | H26: 0 | J26: 0 | K26: 0 | L26: 0 | M26: 0 | N26: 0 | O26: 0 | P26: 0 | R26: 0 | T26: 0 | V26: 0 | W26: 0
C27: １５１日～１８０日 | D27: 0 | F27: 0 | H27: 0 | J27: 0 | K27: 0 | L27: 0 | M27: 0 | N27: 0 | O27: 0 | P27: 0 | R27: 0 | T27: 0 | V27: 0 | W27: 0
C28: １８０日超 | D28: 0 | F28: 0 | H28: 0 | J28: 0 | K28: 0 | L28: 0 | M28: 0 | N28: 0 | O28: 0 | P28: 0 | R28: 0 | T28: 0 | V28: 0 | W28: 0
C29: 小 計 | D29: 0 | F29: 0 | H29: 0 | J29: 46 | K29: 100 | L29: 27 | M29: 100 | N29: 8 | O29: 100 | P29: 0 | R29: 0 | T29: 0 | V29: 81 | W29: 100
B30: 造園工事業 | C30: ９０日以下 | D30: 203 | E30: 100 | F30: 259.6 | G30: 100 | H30: 153.75 | I30: 100 | J30: 165.70213 | K30: 55 | L30: 46.914894 | M30: 50 | N30: 6 | O30: 33.333333 | P30: 0 | R30: 0 | T30: 0 | V30: 834.96702 | W30: 81.107567
C31: ９１日～１２０日 | D31: 0 | E31: 0 | F31: 0 | G31: 0 | H31: 0 | I31: 0 | J31: 120.51064 | K31: 40 | L31: 46.914894 | M31: 50 | N31: 12 | O31: 66.666667 | P31: 0 | R31: 0 | T31: 0 | V31: 179.42553 | W31: 17.429153
C32: １２１日～１５０日 | D32: 0 | E32: 0 | F32: 0 | G32: 0 | H32: 0 | I32: 0 | J32: 15.06383 | K32: 5 | L32: 0 | M32: 0 | N32: 0 | O32: 0 | P32: 0 | R32: 0 | T32: 0 | V32: 15.06383 | W32: 1.46328
C33: １５１日～１８０日 | D33: 0 | E33: 0 | F33: 0 | G33: 0 | H33: 0 | I33: 0 | J33: 0 | K33: 0 | L33: 0 | M33: 0 | N33: 0 | O33: 0 | P33: 0 | R33: 0 | T33: 0 | V33: 0 | W33: 0
C34: １８０日超 | D34: 0 | E34: 0 | F34: 0 | G34: 0 | H34: 0 | I34: 0 | J34: 0 | K34: 0 | L34: 0 | M34: 0 | N34: 0 | O34: 0 | P34: 0 | R34: 0 | T34: 0 | V34: 0 | W34: 0
C35: 小 計 | D35: 203 | E35: 100 | F35: 259.6 | G35: 100 | H35: 153.75 | I35: 100 | J35: 301.2766 | K35: 100 | L35: 93.829787 | M35: 100 | N35: 18 | O35: 100 | P35: 0 | R35: 0 | T35: 0 | V35: 1029.4564 | W35: 100
B36: 水道施設 工事業 | C36: ９０日以下 | D36: 0 | F36: 29.846154 | G36: 50 | H36: 142.66667 | I36: 60 | J36: 125.05405 | K36: 38.888889 | L36: 44.4375 | M36: 75 | N36: 16 | O36: 42.857143 | P36: 0 | R36: 0 | T36: 0 | V36: 358.00437 | W36: 50.027093
C37: ９１日～１２０日 | D37: 0 | F37: 0 | G37: 0 | H37: 95.111111 | I37: 40 | J37: 160.78378 | K37: 50 | L37: 14.8125 | M37: 25 | N37: 21.333333 | O37: 57.142857 | P37: 0 | R37: 0 | T37: 0 | V37: 292.04073 | W37: 40.809414
C38: １２１日～１５０日 | D38: 0 | F38: 29.846154 | G38: 50 | H38: 0 | I38: 0 | J38: 35.72973 | K38: 11.111111 | L38: 0 | M38: 0 | N38: 0 | O38: 0 | P38: 0 | R38: 0 | T38: 0 | V38: 65.575884 | W38: 9.1634936
C39: １５１日～１８０日 | D39: 0 | F39: 0 | G39: 0 | H39: 0 | I39: 0 | J39: 0 | K39: 0 | L39: 0 | M39: 0 | N39: 0 | O39: 0 | P39: 0 | R39: 0 | T39: 0 | V39: 0 | W39: 0
C40: １８０日超 | D40: 0 | F40: 0 | G40: 0 | H40: 0 | I40: 0 | J40: 0 | K40: 0 | L40: 0 | M40: 0 | N40: 0 | O40: 0 | P40: 0 | R40: 0 | T40: 0 | V40: 0 | W40: 0
C41: 小 計 | D41: 0 | F41: 59.692308 | G41: 100 | H41: 237.77778 | I41: 100 | J41: 321.56757 | K41: 100 | L41: 59.25 | M41: 100 | N41: 37.333333 | O41: 100 | P41: 0 | R41: 0 | T41: 0 | V41: 715.62099 | W41: 100
B42: 小 計 | C42: ９０日以下 | D42: 708.25 | E42: 100 | F42: 1575.4656 | G42: 65.324893 | H42: 1849.6568 | I42: 69.834244 | J42: 4066.2524 | K42: 56.187401 | L42: 1624.5804 | M42: 71.308823 | N42: 553.99727 | O42: 70.403303 | P42: 51.0625 | Q42: 65.807491 | R42: 7.2 | S42: 50 | T42: 15 | U42: 57.692308 | V42: 10451.465 | W42: 64.560285
C43: ９１日～１２０日 | D43: 0 | E43: 0 | F43: 677.11422 | G43: 28.075774 | H43: 666.81591 | I43: 25.175798 | J43: 2897.8095 | K43: 40.041878 | L43: 653.65157 | M43: 28.691177 | N43: 232.89375 | O43: 29.596697 | P43: 23.3125 | Q43: 30.044301 | R43: 7.2 | S43: 50 | T43: 8.5 | U43: 32.692308 | V43: 5167.2974 | W43: 31.919181
C44: １２１日～１５０日 | D44: 0 | E44: 0 | F44: 29.846154 | G44: 1.2375369 | H44: 132.16596 | I44: 4.9899582 | J44: 272.88504 | K44: 3.7707205 | L44: 0 | M44: 0 | N44: 0 | O44: 0 | P44: 3.21875 | Q44: 4.1482078 | R44: 0 | S44: 0 | T44: 2.5 | U44: 9.6153846 | V44: 440.6159 | W44: 2.7217513
C45: １５１日～１８０日 | D45: 0 | E45: 0 | F45: 129.3125 | G45: 5.3617962 | H45: 0 | I45: 0 | J45: 0 | K45: 0 | L45: 0 | M45: 0 | N45: 0 | O45: 0 | P45: 0 | Q45: 0 | R45: 0 | S45: 0 | T45: 0 | U45: 0 | V45: 129.3125 | W45: 0.79878294
C46: １８０日超 | D46: 0 | E46: 0 | F46: 0 | G46: 0 | H46: 0 | I46: 0 | J46: 0 | K46: 0 | L46: 0 | M46: 0 | N46: 0 | O46: 0 | P46: 0 | Q46: 0 | R46: 0 | S46: 0 | T46: 0 | U46: 0 | V46: 0 | W46: 0
C47: 小 計 | D47: 708.25 | E47: 100 | F47: 2411.7384 | G47: 100 | H47: 2648.6387 | I47: 100 | J47: 7236.9469 | K47: 100 | L47: 2278.232 | M47: 100 | N47: 786.89102 | O47: 100 | P47: 77.59375 | Q47: 100 | R47: 14.4 | S47: 100 | T47: 26 | U47: 100 | V47: 16188.691 | W47: 100
A48: 建 築 | B48: 建築工事業 | C48: ９０日以下 | D48: 1545.9474 | E48: 100 | F48: 3398.5714 | G48: 62.5 | H48: 2650.8611 | I48: 63.636364 | J48: 6363 | K48: 51.219512 | L48: 1417.5385 | M48: 50 | N48: 522.2069 | O48: 45.714286 | P48: 65 | Q48: 36.842105 | R48: 5.1578947 | S48: 15.384615 | T48: 26.4 | U48: 75 | V48: 15994.683 | W48: 57.545471
C49: ９１日～１２０日 | D49: 0 | E49: 0 | F49: 679.71429 | G49: 12.5 | H49: 1136.0833 | I49: 27.272727 | J49: 5454 | K49: 43.902439 | L49: 1250.7692 | M49: 44.117647 | N49: 489.56897 | O49: 42.857143 | P49: 83.571429 | Q49: 47.368421 | R49: 20.631579 | S49: 61.538462 | T49: 0 | U49: 0 | V49: 9114.3388 | W49: 32.791454
C50: １２１日～１５０日 | D50: 0 | E50: 0 | F50: 1359.4286 | G50: 25 | H50: 378.69444 | I50: 9.0909091 | J50: 606 | K50: 4.8780488 | L50: 83.384615 | M50: 2.9411765 | N50: 97.913793 | O50: 8.5714286 | P50: 18.571429 | Q50: 10.526316 | R50: 5.1578947 | S50: 15.384615 | T50: 8.8 | U50: 25 | V50: 2557.9507 | W50: 9.2029633
C51: １５１日～１８０日 | D51: 0 | E51: 0 | F51: 0 | G51: 0 | H51: 0 | I51: 0 | J51: 0 | K51: 0 | L51: 83.384615 | M51: 2.9411765 | N51: 0 | O51: 0 | P51: 9.2857143 | Q51: 5.2631579 | R51: 2.5789474 | S51: 7.6923077 | T51: 0 | U51: 0 | V51: 95.249277 | W51: 0.34268666
C52: １８０日超 | D52: 0 | E52: 0 | F52: 0 | G52: 0 | H52: 0 | I52: 0 | J52: 0 | K52: 0 | L52: 0 | M52: 0 | N52: 32.637931 | O52: 2.8571429 | P52: 0 | Q52: 0 | R52: 0 | S52: 0 | T52: 0 | U52: 0 | V52: 32.637931 | W52: 0.11742434
C53: 小 計 | D53: 1545.9474 | E53: 100 | F53: 5437.7143 | G53: 100 | H53: 4165.6389 | I53: 100 | J53: 12423 | K53: 100 | L53: 2835.0769 | M53: 100 | N53: 1142.3276 | O53: 100 | P53: 176.42857 | Q53: 100 | R53: 33.526316 | S53: 100 | T53: 35.2 | U53: 100 | V53: 27794.86 | W53: 100
B54: 木造建築 工事業 | C54: ９０日以下 | D54: 0 | F54: 1307.8621 | G54: 88.888889 | H54: 268.93023 | I54: 100 | J54: 959.4 | K54: 86.666667 | L54: 73.882353 | M54: 66.666667 | N54: 28.695652 | O54: 100 | P54: 21.5 | Q54: 100 | R54: 2 | S54: 100 | T54: 0 | V54: 2662.2703 | W54: 88.438873
C55: ９１日～１２０日 | D55: 0 | F55: 163.48276 | G55: 11.111111 | H55: 0 | I55: 0 | J55: 73.8 | K55: 6.6666667 | L55: 36.941176 | M55: 33.333333 | N55: 0 | O55: 0 | P55: 0 | Q55: 0 | R55: 0 | S55: 0 | T55: 0 | V55: 274.22394 | W55: 9.1095392
C56: １２１日～１５０日 | D56: 0 | F56: 0 | G56: 0 | H56: 0 | I56: 0 | J56: 0 | K56: 0 | L56: 0 | M56: 0 | N56: 0 | O56: 0 | P56: 0 | Q56: 0 | R56: 0 | S56: 0 | T56: 0 | V56: 0 | W56: 0
C57: １５１日～１８０日 | D57: 0 | F57: 0 | G57: 0 | H57: 0 | I57: 0 | J57: 73.8 | K57: 6.6666667 | L57: 0 | M57: 0 | N57: 0 | O57: 0 | P57: 0 | Q57: 0 | R57: 0 | S57: 0 | T57: 0 | V57: 73.8 | W57: 2.4515876
C58: １８０日超 | D58: 0 | F58: 0 | G58: 0 | H58: 0 | I58: 0 | J58: 0 | K58: 0 | L58: 0 | M58: 0 | N58: 0 | O58: 0 | P58: 0 | Q58: 0 | R58: 0 | S58: 0 | T58: 0 | V58: 0 | W58: 0
C59: 小 計 | D59: 0 | F59: 1471.3448 | G59: 100 | H59: 268.93023 | I59: 100 | J59: 1107 | K59: 100 | L59: 110.82353 | M59: 100 | N59: 28.695652 | O59: 100 | P59: 21.5 | Q59: 100 | R59: 2 | S59: 100 | T59: 0 | V59: 3010.2942 | W59: 100
B60: 小 計 | C60: ９０日以下 | D60: 1545.9474 | E60: 100 | F60: 4706.4335 | G60: 68.119746 | H60: 2919.7913 | I60: 65.841602 | J60: 7322.4 | K60: 54.119734 | L60: 1491.4208 | M60: 50.626993 | N60: 550.90255 | O60: 47.044545 | P60: 86.5 | Q60: 43.702634 | R60: 7.1578947 | S60: 20.148148 | T60: 26.4 | U60: 75 | V60: 18656.953 | W60: 60.564389
C61: ９１日～１２０日 | D61: 0 | E61: 0 | F61: 843.19704 | G61: 12.204224 | H61: 1136.0833 | I61: 25.618799 | J61: 5527.8 | K61: 40.855876 | L61: 1287.7104 | M61: 43.711946 | N61: 489.56897 | O61: 41.806939 | P61: 83.571429 | Q61: 42.223024 | R61: 20.631579 | S61: 58.074074 | T61: 0 | U61: 0 | V61: 9388.5628 | W61: 30.477246
C62: １２１日～１５０日 | D62: 0 | E62: 0 | F62: 1359.4286 | G62: 19.67603 | H62: 378.69444 | I62: 8.5395995 | J62: 606 | K62: 4.4789357 | L62: 83.384615 | M62: 2.8305307 | N62: 97.913793 | O62: 8.3613877 | P62: 18.571429 | Q62: 9.3828943 | R62: 5.1578947 | S62: 14.518519 | T62: 8.8 | U62: 25 | V62: 2557.9507 | W62: 8.3036453
C63: １５１日～１８０日 | D63: 0 | E63: 0 | F63: 0 | G63: 0 | H63: 0 | I63: 0 | J63: 73.8 | K63: 0.54545455 | L63: 83.384615 | M63: 2.8305307 | N63: 0 | O63: 0 | P63: 9.2857143 | Q63: 4.6914471 | R63: 2.5789474 | S63: 7.2592593 | T63: 0 | U63: 0 | V63: 169.04928 | W63: 0.54876946
C64: １８０日超 | D64: 0 | E64: 0 | F64: 0 | G64: 0 | H64: 0 | I64: 0 | J64: 0 | K64: 0 | L64: 0 | M64: 0 | N64: 32.637931 | O64: 2.7871292 | P64: 0 | Q64: 0 | R64: 0 | S64: 0 | T64: 0 | U64: 0 | V64: 32.637931 | W64: 0.10594958
C65: 小 計 | D65: 1545.9474 | E65: 100 | F65: 6909.0591 | G65: 100 | H65: 4434.5691 | I65: 100 | J65: 13530 | K65: 100 | L65: 2945.9005 | M65: 100 | N65: 1171.0232 | O65: 100 | P65: 197.92857 | Q65: 100 | R65: 35.526316 | S65: 100 | T65: 35.2 | U65: 100 | V65: 30805.154 | W65: 100
A66: 職 別 | B66: 大工工事業 | C66: ９０日以下 | D66: 0 | F66: 559.26829 | G66: 90.909091 | H66: 306.85714 | I66: 69.230769 | J66: 434.3617 | K66: 48.387097 | L66: 41.28 | M66: 75 | N66: 5.25 | O66: 20 | P66: 0 | R66: 0 | T66: 0 | V66: 1347.0171 | W66: 66.114383
C67: ９１日～１２０日 | D67: 0 | F67: 55.926829 | G67: 9.0909091 | H67: 136.38095 | I67: 30.769231 | J67: 405.40426 | K67: 45.16129 | L67: 13.76 | M67: 25 | N67: 15.75 | O67: 60 | P67: 0 | R67: 0 | T67: 0 | V67: 627.22204 | W67: 30.785353
C68: １２１日～１５０日 | D68: 0 | F68: 0 | G68: 0 | H68: 0 | I68: 0 | J68: 57.914894 | K68: 6.4516129 | L68: 0 | M68: 0 | N68: 0 | O68: 0 | P68: 0 | R68: 0 | T68: 0 | V68: 57.914894 | W68: 2.8425826
C69: １５１日～１８０日 | D69: 0 | F69: 0 | G69: 0 | H69: 0 | I69: 0 | J69: 0 | K69: 0 | L69: 0 | M69: 0 | N69: 5.25 | O69: 20 | P69: 0 | R69: 0 | T69: 0 | V69: 5.25 | W69: 0.25768084
C70: １８０日超 | D70: 0 | F70: 0 | G70: 0 | H70: 0 | I70: 0 | J70: 0 | K70: 0 | L70: 0 | M70: 0 | N70: 0 | O70: 0 | P70: 0 | R70: 0 | T70: 0 | V70: 0 | W70: 0
C71: 小 計 | D71: 0 | F71: 615.19512 | G71: 100 | H71: 443.2381 | I71: 100 | J71: 897.68085 | K71: 100 | L71: 55.04 | M71: 100 | N71: 26.25 | O71: 100 | P71: 0 | R71: 0 | T71: 0 | V71: 2037.4041 | W71: 100
A72: 職 別 | B72: とび・土工・ コンクリート 工事業 | C72: ９０日以下 | D72: 111.30769 | E72: 50 | F72: 1994.1 | G72: 60.526316 | H72: 1460.7907 | I72: 70.731707 | J72: 1141.44 | K72: 50 | L72: 97.615385 | M72: 43.548387 | N72: 55.274194 | O72: 42.592593 | P72: 11 | Q72: 45 | R72: 2 | S72: 100 | T72: 1 | U72: 100 | V72: 4874.528 | W72: 59.108661
C73: ９１日～１２０日 | D73: 111.30769 | E73: 50 | F73: 1127.1 | G73: 34.210526 | H73: 503.72093 | I73: 24.390244 | J73: 1027.296 | K73: 45 | L73: 119.30769 | M73: 53.225806 | N73: 69.693548 | O73: 53.703704 | P73: 11 | Q73: 45 | R73: 0 | S73: 0 | T73: 0 | U73: 0 | V73: 2969.4259 | W73: 36.00734
C74: １２１日～１５０日 | D74: 0 | E74: 0 | F74: 86.7 | G74: 2.6315789 | H74: 50.372093 | I74: 2.4390244 | J74: 114.144 | K74: 5 | L74: 7.2307692 | M74: 3.2258065 | N74: 4.8064516 | O74: 3.7037037 | P74: 1.2222222 | Q74: 5 | R74: 0 | S74: 0 | T74: 0 | U74: 0 | V74: 264.47554 | W74: 3.2070377
C75: １５１日～１８０日 | D75: 0 | E75: 0 | F75: 86.7 | G75: 2.6315789 | H75: 50.372093 | I75: 2.4390244 | J75: 0 | K75: 0 | L75: 0 | M75: 0 | N75: 0 | O75: 0 | P75: 0 | Q75: 0 | R75: 0 | S75: 0 | T75: 0 | U75: 0 | V75: 137.07209 | W75: 1.66214
C76: １８０日超 | D76: 0 | E76: 0 | F76: 0 | G76: 0 | H76: 0 | I76: 0 | J76: 0 | K76: 0 | L76: 0 | M76: 0 | N76: 0 | O76: 0 | P76: 1.2222222 | Q76: 5 | R76: 0 | S76: 0 | T76: 0 | U76: 0 | V76: 1.2222222 | W76: 0.014820701
C77: 小 計 | D77: 222.61538 | E77: 100 | F77: 3294.6 | G77: 100 | H77: 2065.2558 | I77: 100 | J77: 2282.88 | K77: 100 | L77: 224.15385 | M77: 100 | N77: 129.77419 | O77: 100 | P77: 24.444444 | Q77: 100 | R77: 2 | S77: 100 | T77: 1 | U77: 100 | V77: 8246.7237 | W77: 100
B78: 鋼構造物 工事業 | C78: ９０日以下 | D78: 54.25 | E78: 66.666667 | F78: 391.5 | G78: 50 | H78: 278.92857 | I78: 52.631579 | J78: 592.10526 | K78: 39.130435 | L78: 46.883721 | M78: 36.363636 | N78: 39.425 | O78: 50 | P78: 4.5 | Q78: 50 | R78: 0 | S78: 0 | T78: 2 | U78: 66.666667 | V78: 1409.5926 | W78: 45.002162
C79: ９１日～１２０日 | D79: 27.125 | E79: 33.333333 | F79: 279.64286 | G79: 35.714286 | H79: 223.14286 | I79: 42.105263 | J79: 756.57895 | K79: 50 | L79: 78.139535 | M79: 60.606061 | N79: 35.275 | O79: 44.736842 | P79: 4.5 | Q79: 50 | R79: 5 | S79: 100 | T79: 1 | U79: 33.333333 | V79: 1410.4042 | W79: 45.028074
C80: １２１日～１５０日 | D80: 0 | E80: 0 | F80: 111.85714 | G80: 14.285714 | H80: 27.892857 | I80: 5.2631579 | J80: 164.47368 | K80: 10.869565 | L80: 3.9069767 | M80: 3.030303 | N80: 2.075 | O80: 2.6315789 | P80: 0 | Q80: 0 | R80: 0 | S80: 0 | T80: 0 | U80: 0 | V80: 310.20566 | W80: 9.9035181
C81: １５１日～１８０日 | D81: 0 | E81: 0 | F81: 0 | G81: 0 | H81: 0 | I81: 0 | J81: 0 | K81: 0 | L81: 0 | M81: 0 | N81: 2.075 | O81: 2.6315789 | P81: 0 | Q81: 0 | R81: 0 | S81: 0 | T81: 0 | U81: 0 | V81: 2.075 | W81: 0.066245729
C82: １８０日超 | D82: 0 | E82: 0 | F82: 0 | G82: 0 | H82: 0 | I82: 0 | J82: 0 | K82: 0 | L82: 0 | M82: 0 | N82: 0 | O82: 0 | P82: 0 | Q82: 0 | R82: 0 | S82: 0 | T82: 0 | U82: 0 | V82: 0 | W82: 0
C83: 小 計 | D83: 81.375 | E83: 100 | F83: 783 | G83: 100 | H83: 529.96429 | I83: 100 | J83: 1513.1579 | K83: 100 | L83: 128.93023 | M83: 100 | N83: 78.85 | O83: 100 | P83: 9 | Q83: 100 | R83: 5 | S83: 100 | T83: 3 | U83: 100 | V83: 3132.2774 | W83: 100
B84: 鉄筋工事業 | C84: ９０日以下 | D84: 876.8 | E84: 100 | F84: 363.77419 | G84: 64.285714 | H84: 163.54167 | I84: 50 | J84: 180.15556 | K84: 42.307692 | L84: 13.428571 | M84: 44.444444 | N84: 4.4 | O84: 33.333333 | P84: 0 | R84: 0 | T84: 0 | V84: 1602.1 | W84: 71.554558
C85: ９１日～１２０日 | D85: 0 | E85: 0 | F85: 121.25806 | G85: 21.428571 | H85: 130.83333 | I85: 40 | J85: 229.28889 | K85: 53.846154 | L85: 10.071429 | M85: 33.333333 | N85: 8.8 | O85: 66.666667 | P85: 0 | R85: 0 | T85: 0 | V85: 500.25172 | W85: 22.342732
C86: １２１日～１５０日 | D86: 0 | E86: 0 | F86: 80.83871 | G86: 14.285714 | H86: 32.708333 | I86: 10 | J86: 16.377778 | K86: 3.8461538 | L86: 3.3571429 | M86: 11.111111 | N86: 0 | O86: 0 | P86: 0 | R86: 0 | T86: 0 | V86: 133.28196 | W86: 5.9527696
C87: １５１日～１８０日 | D87: 0 | E87: 0 | F87: 0 | G87: 0 | H87: 0 | I87: 0 | J87: 0 | K87: 0 | L87: 3.3571429 | M87: 11.111111 | N87: 0 | O87: 0 | P87: 0 | R87: 0 | T87: 0 | V87: 3.3571429 | W87: 0.14994
C88: １８０日超 | D88: 0 | E88: 0 | F88: 0 | G88: 0 | H88: 0 | I88: 0 | J88: 0 | K88: 0 | L88: 0 | M88: 0 | N88: 0 | O88: 0 | P88: 0 | R88: 0 | T88: 0 | V88: 0 | W88: 0
C89: 小 計 | D89: 876.8 | E89: 100 | F89: 565.87097 | G89: 100 | H89: 327.08333 | I89: 100 | J89: 425.82222 | K89: 100 | L89: 30.214286 | M89: 100 | N89: 13.2 | O89: 100 | P89: 0 | R89: 0 | T89: 0 | V89: 2238.9908 | W89: 100
B90: 解体工事業 | C90: ９０日以下 | D90: 368 | E90: 100 | F90: 212.71429 | G90: 40 | H90: 149.45455 | I90: 100 | J90: 288.375 | K90: 50 | L90: 60.8 | M90: 62.5 | N90: 14.8 | O90: 50 | P90: 0 | R90: 0 | T90: 0 | V90: 1094.1438 | W90: 62.420126
C91: ９１日～１２０日 | D91: 0 | E91: 0 | F91: 319.07143 | G91: 60 | H91: 0 | I91: 0 | J91: 240.3125 | K91: 41.666667 | L91: 36.48 | M91: 37.5 | N91: 11.1 | O91: 37.5 | P91: 0 | R91: 0 | T91: 0 | V91: 606.96393 | W91: 34.62686
C92: １２１日～１５０日 | D92: 0 | E92: 0 | F92: 0 | G92: 0 | H92: 0 | I92: 0 | J92: 48.0625 | K92: 8.3333333 | L92: 0 | M92: 0 | N92: 3.7 | O92: 12.5 | P92: 0 | R92: 0 | T92: 0 | V92: 51.7625 | W92: 2.9530138
C93: １５１日～１８０日 | D93: 0 | E93: 0 | F93: 0 | G93: 0 | H93: 0 | I93: 0 | J93: 0 | K93: 0 | L93: 0 | M93: 0 | N93: 0 | O93: 0 | P93: 0 | R93: 0 | T93: 0 | V93: 0 | W93: 0
C94: １８０日超 | D94: 0 | E94: 0 | F94: 0 | G94: 0 | H94: 0 | I94: 0 | J94: 0 | K94: 0 | L94: 0 | M94: 0 | N94: 0 | O94: 0 | P94: 0 | R94: 0 | T94: 0 | V94: 0 | W94: 0
C95: 小 計 | D95: 368 | E95: 100 | F95: 531.78571 | G95: 100 | H95: 149.45455 | I95: 100 | J95: 576.75 | K95: 100 | L95: 97.28 | M95: 100 | N95: 29.6 | O95: 100 | P95: 0 | R95: 0 | T95: 0 | V95: 1752.8703 | W95: 100
B96: 躯体関係計 | C96: ９０日以下 | D96: 1410.3577 | E96: 91.061883 | F96: 3521.3568 | G96: 60.813161 | H96: 2359.5726 | I96: 67.128741 | J96: 2636.4375 | K96: 46.283407 | L96: 260.00768 | M96: 48.543458 | N96: 119.14919 | O96: 42.909711 | P96: 15.5 | Q96: 46.345515 | R96: 2 | S96: 28.571429 | T96: 3 | U96: 75 | V96: 10327.381 | W96: 59.324584
C97: ９１日～１２０日 | D97: 138.43269 | E97: 8.9381167 | F97: 1902.9992 | G97: 32.864433 | H97: 994.07807 | I97: 28.281058 | J97: 2658.8806 | K97: 46.677401 | L97: 257.75866 | M97: 48.123566 | N97: 140.61855 | O97: 50.641562 | P97: 15.5 | Q97: 46.345515 | R97: 5 | S97: 71.428571 | T97: 1 | U97: 25 | V97: 6114.2677 | W97: 35.122784
C98: １２１日～１５０日 | D98: 0 | E98: 0 | F98: 279.39585 | G98: 4.8251132 | H98: 110.97328 | I98: 3.1571382 | J98: 400.97286 | K98: 7.039192 | L98: 14.494889 | M98: 2.7061971 | N98: 10.581452 | O98: 3.8107436 | P98: 1.2222222 | Q98: 3.654485 | R98: 0 | S98: 0 | T98: 0 | U98: 0 | V98: 817.64055 | W98: 4.6968523
C99: １５１日～１８０日 | D99: 0 | E99: 0 | F99: 86.7 | G99: 1.4972925 | H99: 50.372093 | I99: 1.4330626 | J99: 0 | K99: 0 | L99: 3.3571429 | M99: 0.62677889 | N99: 7.325 | O99: 2.6379837 | P99: 0 | Q99: 0 | R99: 0 | S99: 0 | T99: 0 | U99: 0 | V99: 147.75424 | W99: 0.84875905
C100: １８０日超 | D100: 0 | E100: 0 | F100: 0 | G100: 0 | H100: 0 | I100: 0 | J100: 0 | K100: 0 | L100: 0 | M100: 0 | N100: 0 | O100: 0 | P100: 1.2222222 | Q100: 3.654485 | R100: 0 | S100: 0 | T100: 0 | U100: 0 | V100: 1.2222222 | W100: 0.0070209302
C101: 小 計 | D101: 1548.7904 | E101: 100 | F101: 5790.4518 | G101: 100 | H101: 3514.9961 | I101: 100 | J101: 5696.291 | K101: 100 | L101: 535.61836 | M101: 100 | N101: 277.67419 | O101: 100 | P101: 33.444444 | Q101: 100 | R101: 7 | S101: 100 | T101: 4 | U101: 100 | V101: 17408.266 | W101: 100
...

Sheet 3-2-2
A1: 表3－2－2 手形期間（経年変化）
V3: （単位：社、％）
B4: 資本金 | C4: 個 人 | E4: 法 人 | U4: 合 計
A5: 年度 | B5: 手形期間 | E5: 500万円未満 | G5: 500万円以上 1000万円未満 | I5: 1000万円以上 3000万円未満 | K5: 3000万円以上 5000万円未満 | M5: 5000万円以上 1億円未満 | O5: 1億円以上 3億円未満 | Q5: 3億円以上 10億円未満 | S5: 10億円以上
A6: R06年度 | B6: ９０日以下 | C6: =IF('3-2-1'!D222<>"",'3-2-1'!D222,"") -> 7447.0908 | D6: =IF('3-2-1'!E222<>"",'3-2-1'!E222,"") -> 80.55022 | E6: =IF('3-2-1'!F222<>"",'3-2-1'!F222,"") -> 21071.893 | F6: =IF('3-2-1'!G222<>"",'3-2-1'!G222,"") -> 57.673079 | G6: =IF('3-2-1'!H222<>"",'3-2-1'!H222,"") -> 12950.968 | H6: =IF('3-2-1'!I222<>"",'3-2-1'!I222,"") -> 56.240076 | I6: =IF('3-2-1'!J222<>"",'3-2-1'!J222,"") -> 24598.615 | J6: =IF('3-2-1'!K222<>"",'3-2-1'!K222,"") -> 48.167444 | ... V6: =IF('3-2-1'!W222<>"",'3-2-1'!W222,"") -> 54.757268
B7: ９１日～１２０日 | C7: =IF('3-2-1'!D223<>"",'3-2-1'!D223,"") -> 1114.78 | D7: =IF('3-2-1'!E223<>"",'3-2-1'!E223,"") -> 12.057832 | E7: =IF('3-2-1'!F223<>"",'3-2-1'!F223,"") -> 11942.269 | F7: =IF('3-2-1'!G223<>"",'3-2-1'!G223,"") -> 32.685598 | G7: =IF('3-2-1'!H223<>"",'3-2-1'!H223,"") -> 8694.7286 | H7: =IF('3-2-1'!I223<>"",'3-2-1'!I223,"") -> 37.757193 | I7: =IF('3-2-1'!J223<>"",'3-2-1'!J223,"") -> 23356.723 | J7: =IF('3-2-1'!K223<>"",'3-2-1'!K223,"") -> 45.735649 | ... V7: =IF('3-2-1'!W223<>"",'3-2-1'!W223,"") -> 38.108768
B8: １２１日～１５０日 | C8: =IF('3-2-1'!D224<>"",'3-2-1'!D224,"") -> 481.35849 | D8: =IF('3-2-1'!E224<>"",'3-2-1'!E224,"") -> 5.2065341 | E8: =IF('3-2-1'!F224<>"",'3-2-1'!F224,"") -> 2874.9517 | F8: =IF('3-2-1'!G224<>"",'3-2-1'!G224,"") -> 7.8686484 | G8: =IF('3-2-1'!H224<>"",'3-2-1'!H224,"") -> 1187.0266 | H8: =IF('3-2-1'!I224<>"",'3-2-1'!I224,"") -> 5.1547085 | I8: =IF('3-2-1'!J224<>"",'3-2-1'!J224,"") -> 2858.8359 | J8: =IF('3-2-1'!K224<>"",'3-2-1'!K224,"") -> 5.5979907 | ... V8: =IF('3-2-1'!W224<>"",'3-2-1'!W224,"") -> 6.0183977
B9: １５１日～１８０日 | C9: =IF('3-2-1'!D225<>"",'3-2-1'!D225,"") -> 0 | D9: =IF('3-2-1'!E225<>"",'3-2-1'!E225,"") -> 0 | E9: =IF('3-2-1'!F225<>"",'3-2-1'!F225,"") -> 647.67809 | F9: =IF('3-2-1'!G225<>"",'3-2-1'!G225,"") -> 1.7726737 | G9: =IF('3-2-1'!H225<>"",'3-2-1'!H225,"") -> 195.28272 | H9: =IF('3-2-1'!I225<>"",'3-2-1'!I225,"") -> 0.84802271 | I9: =IF('3-2-1'!J225<>"",'3-2-1'!J225,"") -> 239.88225 | J9: =IF('3-2-1'!K225<>"",'3-2-1'!K225,"") -> 0.46972217 | ... V9: =IF('3-2-1'!W225<>"",'3-2-1'!W225,"") -> 0.92247365
B10: １８０日超 | C10: =IF('3-2-1'!D226<>"",'3-2-1'!D226,"") -> 202.04762 | D10: =IF('3-2-1'!E226<>"",'3-2-1'!E226,"") -> 2.1854145 | E10: =IF('3-2-1'!F226<>"",'3-2-1'!F226,"") -> 0 | F10: =IF('3-2-1'!G226<>"",'3-2-1'!G226,"") -> 0 | G10: =IF('3-2-1'!H226<>"",'3-2-1'!H226,"") -> 0 | H10: =IF('3-2-1'!I226<>"",'3-2-1'!I226,"") -> 0 | I10: =IF('3-2-1'!J226<>"",'3-2-1'!J226,"") -> 14.909091 | J10: =IF('3-2-1'!K226<>"",'3-2-1'!K226,"") -> 0.029194034 | ... V10: =IF('3-2-1'!W226<>"",'3-2-1'!W226,"") -> 0.1930925
C11: =IF('3-2-1'!D227<>"",'3-2-1'!D227,"") -> 9245.2769 | D11: =IF('3-2-1'!E227<>"",'3-2-1'!E227,"") -> 100 | E11: =IF('3-2-1'!F227<>"",'3-2-1'!F227,"") -> 36536.792 | F11: =IF('3-2-1'!G227<>"",'3-2-1'!G227,"") -> 100 | G11: =IF('3-2-1'!H227<>"",'3-2-1'!H227,"") -> 23028.006 | H11: =IF('3-2-1'!I227<>"",'3-2-1'!I227,"") -> 100 | I11: =IF('3-2-1'!J227<>"",'3-2-1'!J227,"") -> 51068.965 | J11: =IF('3-2-1'!K227<>"",'3-2-1'!K227,"") -> 100 | ... V11: =IF('3-2-1'!W227<>"",'3-2-1'!W227,"") -> 100
A12: 増減 | B12: ９０日以下 | D12: =IF(AND(ISNUMBER(D6),ISNUMBER(D18)),D6-D18,"") -> 10.017774 | F12: =IF(AND(ISNUMBER(F6),ISNUMBER(F18)),F6-F18,"") -> 15.736725 | H12: =IF(AND(ISNUMBER(H6),ISNUMBER(H18)),H6-H18,"") -> 8.6947515 | J12: =IF(AND(ISNUMBER(J6),ISNUMBER(J18)),J6-J18,"") -> 13.645369 | L12: =IF(AND(ISNUMBER(L6),ISNUMBER(L18)),L6-L18,"") -> 20.788418 | N12: =IF(AND(ISNUMBER(N6),ISNUMBER(N18)),N6-N18,"") -> 16.450526 | P12: =IF(AND(ISNUMBER(P6),ISNUMBER(P18)),P6-P18,"") -> 22.871441 | R12: =IF(AND(ISNUMBER(R6),ISNUMBER(R18)),R6-R18,"") -> 0.93058744 | T12: =IF(AND(ISNUMBER(T6),ISNUMBER(T18)),T6-T18,"") -> 32.109098 | V12: =IF(AND(ISNUMBER(V6),ISNUMBER(V18)),V6-V18,"") -> 13.831636
B13: ９１日～１２０日 | D13: =IF(AND(ISNUMBER(D7),ISNUMBER(D19)),D7-D19,"") -> -6.9400402 | F13: =IF(AND(ISNUMBER(F7),ISNUMBER(F19)),F7-F19,"") -> -14.538457 | H13: =IF(AND(ISNUMBER(H7),ISNUMBER(H19)),H7-H19,"") -> -3.7028362 | J13: =IF(AND(ISNUMBER(J7),ISNUMBER(J19)),J7-J19,"") -> -10.245419 | L13: =IF(AND(ISNUMBER(L7),ISNUMBER(L19)),L7-L19,"") -> -19.695322 | N13: =IF(AND(ISNUMBER(N7),ISNUMBER(N19)),N7-N19,"") -> -15.828846 | P13: =IF(AND(ISNUMBER(P7),ISNUMBER(P19)),P7-P19,"") -> -15.57401 | R13: =IF(AND(ISNUMBER(R7),ISNUMBER(R19)),R7-R19,"") -> -4.1727989 | T13: =IF(AND(ISNUMBER(T7),ISNUMBER(T19)),T7-T19,"") -> -32.973856 | V13: =IF(AND(ISNUMBER(V7),ISNUMBER(V19)),V7-V19,"") -> -11.109809
B14: １２１日～１５０日 | D14: =IF(AND(ISNUMBER(D8),ISNUMBER(D20)),D8-D20,"") -> 0.11464699 | F14: =IF(AND(ISNUMBER(F8),ISNUMBER(F20)),F8-F20,"") -> -0.033190018 | H14: =IF(AND(ISNUMBER(H8),ISNUMBER(H20)),H8-H20,"") -> -1.2498272 | J14: =IF(AND(ISNUMBER(J8),ISNUMBER(J20)),J8-J20,"") -> -2.4618301 | L14: =IF(AND(ISNUMBER(L8),ISNUMBER(L20)),L8-L20,"") -> -0.72121511 | N14: =IF(AND(ISNUMBER(N8),ISNUMBER(N20)),N8-N20,"") -> -0.79070791 | P14: =IF(AND(ISNUMBER(P8),ISNUMBER(P20)),P8-P20,"") -> -4.11004 | R14: =IF(AND(ISNUMBER(R8),ISNUMBER(R20)),R8-R20,"") -> -0.29105087 | T14: =IF(AND(ISNUMBER(T8),ISNUMBER(T20)),T8-T20,"") -> 0.86475802 | V14: =IF(AND(ISNUMBER(V8),ISNUMBER(V20)),V8-V20,"") -> -1.1731732
B15: １５１日～１８０日 | D15: =IF(AND(ISNUMBER(D9),ISNUMBER(D21)),D9-D21,"") -> -5.3777954 | F15: =IF(AND(ISNUMBER(F9),ISNUMBER(F21)),F9-F21,"") -> -0.47615484 | H15: =IF(AND(ISNUMBER(H9),ISNUMBER(H21)),H9-H21,"") -> -3.5976577 | J15: =IF(AND(ISNUMBER(J9),ISNUMBER(J21)),J9-J21,"") -> -0.83474465 | L15: =IF(AND(ISNUMBER(L9),ISNUMBER(L21)),L9-L21,"") -> 0.066850327 | N15: =IF(AND(ISNUMBER(N9),ISNUMBER(N21)),N9-N21,"") -> -0.27661957 | P15: =IF(AND(ISNUMBER(P9),ISNUMBER(P21)),P9-P21,"") -> -0.40299979 | R15: =IF(AND(ISNUMBER(R9),ISNUMBER(R21)),R9-R21,"") -> 3.5332623 | T15: =IF(AND(ISNUMBER(T9),ISNUMBER(T21)),T9-T21,"") | V15: =IF(AND(ISNUMBER(V9),ISNUMBER(V21)),V9-V21,"") -> -1.4391116
B16: １８０日超 | D16: =IF(AND(ISNUMBER(D10),ISNUMBER(D22)),D10-D22,"") | F16: =IF(AND(ISNUMBER(F10),ISNUMBER(F22)),F10-F22,"") -> -0.68892278 | H16: =IF(AND(ISNUMBER(H10),ISNUMBER(H22)),H10-H22,"") -> -0.14443034 | J16: =IF(AND(ISNUMBER(J10),ISNUMBER(J22)),J10-J22,"") -> -0.10337528 | L16: =IF(AND(ISNUMBER(L10),ISNUMBER(L22)),L10-L22,"") -> -0.43873142 | N16: =IF(AND(ISNUMBER(N10),ISNUMBER(N22)),N10-N22,"") -> 0.44564824 | P16: =IF(AND(ISNUMBER(P10),ISNUMBER(P22)),P10-P22,"") -> -2.7843918 | R16: =IF(AND(ISNUMBER(R10),ISNUMBER(R22)),R10-R22,"") | T16: =IF(AND(ISNUMBER(T10),ISNUMBER(T22)),T10-T22,"") | V16: =IF(AND(ISNUMBER(V10),ISNUMBER(V22)),V10-V22,"") -> -0.10954197
C17: - | D17: - | E17: - | F17: - | G17: - | H17: - | I17: - | J17: - | K17: - | L17: - | M17: - | N17: - | O17: - | P17: - | Q17: - | R17: - | S17: - | T17: - | U17: - | V17: -
A18: R01年度 | B18: ９０日以下 | C18: 5174.829 | D18: 70.532445 | E18: 8797.7633 | F18: 41.936355 | G18: 8065.2061 | H18: 47.545325 | I18: 13231.685 | J18: 34.522075 | K18: 2390.1962 | L18: 31.029418 | M18: 1157.8331 | N18: 36.055025 | O18: 127.62971 | P18: 24.748263 | Q18: 35.985578 | R18: 29.850681 | S18: 27.239528 | T18: 17.277999 | U18: 39008.367 | V18: 40.925633
B19: ９１日～１２０日 | C19: 1393.8371 | D19: 18.997872 | E19: 9907.062 | F19: 47.224056 | G19: 7032.9456 | H19: 41.460029 | I19: 21456.527 | J19: 55.981068 | K19: 4831.758 | L19: 62.725661 | M19: 1802.7895 | N19: 56.139026 | O19: 312.43686 | P19: 60.583618 | Q19: 67.168501 | R19: 55.717474 | S19: 108.28262 | T19: 68.683533 | U19: 46912.808 | V19: 49.218577
B20: １２１日～１５０日 | C20: 373.5819 | D20: 5.0918871 | E20: 1657.7145 | F20: 7.9018384 | G20: 1086.4139 | H20: 6.4045357 | I20: 3089.183 | J20: 8.0598208 | K20: 364.37583 | L20: 4.7303104 | M20: 196.68878 | N20: 6.1249062 | O20: 50.605217 | P20: 9.8126936 | Q20: 13.968045 | R20: 11.586744 | S20: 22.132264 | T20: 14.038468 | U20: 6854.6634 | V20: 7.1915709
B21: １５１日～１８０日 | C21: 394.55844 | D21: 5.3777954 | E21: 471.77827 | F21: 2.2488285 | G21: 754.12943 | H21: 4.4456804 | I21: 499.97845 | J21: 1.3044668 | K21: 76.939802 | L21: 0.998829 | M21: 40.456525 | N21: 1.2598198 | O21: 9.68 | P21: 1.8770174 | Q21: 3.4298246 | R21: 2.8451009 | U21: 2250.9508 | V21: 2.3615852
B22: １８０日超 | E22: 144.52805 | F22: 0.68892278 | G22: 24.5 | H22: 0.14443034 | I22: 50.811412 | J22: 0.13256931 | K22: 39.730607 | L22: 0.51578092 | M22: 13.526715 | N22: 0.4212231 | O22: 15.36 | P22: 2.9784078 | U22: 288.45678 | V22: 0.30263446
C23: 7336.8065 | D23: 100 | E23: 20978.846 | F23: 100 | G23: 16963.195 | H23: 100 | I23: 38328.185 | J23: 100 | K23: 7703.0004 | L23: 100 | M23: 3211.2946 | N23: 100 | O23: 515.71179 | P23: 100 | Q23: 120.55195 | R23: 100 | S23: 157.65441 | T23: 100 | U23: 95315.246 | V23: 100
A24: 増減 | B24: ９０日以下 | D24: =IF(AND(ISNUMBER(D18),ISNUMBER(D30)),D18-D30,"") -> 32.843854 | F24: =IF(AND(ISNUMBER(F18),ISNUMBER(F30)),F18-F30,"") -> 17.766595 | H24: =IF(AND(ISNUMBER(H18),ISNUMBER(H30)),H18-H30,"") -> 18.844739 | J24: =IF(AND(ISNUMBER(J18),ISNUMBER(J30)),J18-J30,"") -> 17.922143 | L24: =IF(AND(ISNUMBER(L18),ISNUMBER(L30)),L18-L30,"") -> 14.772583 | N24: =IF(AND(ISNUMBER(N18),ISNUMBER(N30)),N18-N30,"") -> 19.334028 | P24: =IF(AND(ISNUMBER(P18),ISNUMBER(P30)),P18-P30,"") -> 15.637032 | R24: =IF(AND(ISNUMBER(R18),ISNUMBER(R30)),R18-R30,"") -> 21.103703 | T24: =IF(AND(ISNUMBER(T18),ISNUMBER(T30)),T18-T30,"") -> 7.3594274 | V24: =IF(AND(ISNUMBER(V18),ISNUMBER(V30)),V18-V30,"") -> 19.542099
B25: ９１日～１２０日 | D25: =IF(AND(ISNUMBER(D19),ISNUMBER(D31)),D19-D31,"") -> -31.752028 | F25: =IF(AND(ISNUMBER(F19),ISNUMBER(F31)),F19-F31,"") -> -14.037898 | H25: =IF(AND(ISNUMBER(H19),ISNUMBER(H31)),H19-H31,"") -> -16.51733 | J25: =IF(AND(ISNUMBER(J19),ISNUMBER(J31)),J19-J31,"") -> -13.110432 | L25: =IF(AND(ISNUMBER(L19),ISNUMBER(L31)),L19-L31,"") -> -5.7806748 | N25: =IF(AND(ISNUMBER(N19),ISNUMBER(N31)),N19-N31,"") -> -17.135376 | P25: =IF(AND(ISNUMBER(P19),ISNUMBER(P31)),P19-P31,"") -> -16.901924 | R25: =IF(AND(ISNUMBER(R19),ISNUMBER(R31)),R19-R31,"") -> -20.087575 | T25: =IF(AND(ISNUMBER(T19),ISNUMBER(T31)),T19-T31,"") -> -3.6549968 | V25: =IF(AND(ISNUMBER(V19),ISNUMBER(V31)),V19-V31,"") -> -15.423766
B26: １２１日～１５０日 | D26: =IF(AND(ISNUMBER(D20),ISNUMBER(D32)),D20-D32,"") -> -4.6769721 | F26: =IF(AND(ISNUMBER(F20),ISNUMBER(F32)),F20-F32,"") -> -5.1887197 | H26: =IF(AND(ISNUMBER(H20),ISNUMBER(H32)),H20-H32,"") -> -5.3901707 | J26: =IF(AND(ISNUMBER(J20),ISNUMBER(J32)),J20-J32,"") -> -5.1023165 | L26: =IF(AND(ISNUMBER(L20),ISNUMBER(L32)),L20-L32,"") -> -8.3076996 | N26: =IF(AND(ISNUMBER(N20),ISNUMBER(N32)),N20-N32,"") -> -3.2894036 | P26: =IF(AND(ISNUMBER(P20),ISNUMBER(P32)),P20-P32,"") -> -1.651931 | R26: =IF(AND(ISNUMBER(R20),ISNUMBER(R32)),R20-R32,"") -> 0.35644777 | T26: =IF(AND(ISNUMBER(T20),ISNUMBER(T32)),T20-T32,"") -> -3.1264252 | V26: =IF(AND(ISNUMBER(V20),ISNUMBER(V32)),V20-V32,"") -> -5.3913617
B27: １５１日～１８０日 | D27: =IF(AND(ISNUMBER(D21),ISNUMBER(D33)),D21-D33,"") -> 5.2665947 | F27: =IF(AND(ISNUMBER(F21),ISNUMBER(F33)),F21-F33,"") -> 0.94534539 | H27: =IF(AND(ISNUMBER(H21),ISNUMBER(H33)),H21-H33,"") -> 3.2207295 | J27: =IF(AND(ISNUMBER(J21),ISNUMBER(J33)),J21-J33,"") -> 0.26583511 | L27: =IF(AND(ISNUMBER(L21),ISNUMBER(L33)),L21-L33,"") -> -1.0395088 | N27: =IF(AND(ISNUMBER(N21),ISNUMBER(N33)),N21-N33,"") -> 0.72989437 | P27: =IF(AND(ISNUMBER(P21),ISNUMBER(P33)),P21-P33,"") -> -0.061584572 | R27: =IF(AND(ISNUMBER(R21),ISNUMBER(R33)),R21-R33,"") -> -1.3725751 | T27: =IF(AND(ISNUMBER(T21),ISNUMBER(T33)),T21-T33,"") | V27: =IF(AND(ISNUMBER(V21),ISNUMBER(V33)),V21-V33,"") -> 1.2404891
B28: １８０日超 | D28: =IF(AND(ISNUMBER(D22),ISNUMBER(D34)),D22-D34,"") | F28: =IF(AND(ISNUMBER(F22),ISNUMBER(F34)),F22-F34,"") -> 0.51467746 | H28: =IF(AND(ISNUMBER(H22),ISNUMBER(H34)),H22-H34,"") -> -0.15796852 | J28: =IF(AND(ISNUMBER(J22),ISNUMBER(J34)),J22-J34,"") -> 0.024770792 | L28: =IF(AND(ISNUMBER(L22),ISNUMBER(L34)),L22-L34,"") -> 0.35529962 | N28: =IF(AND(ISNUMBER(N22),ISNUMBER(N34)),N22-N34,"") -> 0.36085704 | P28: =IF(AND(ISNUMBER(P22),ISNUMBER(P34)),P22-P34,"") | R28: =IF(AND(ISNUMBER(R22),ISNUMBER(R34)),R22-R34,"") | T28: =IF(AND(ISNUMBER(T22),ISNUMBER(T34)),T22-T34,"") | V28: =IF(AND(ISNUMBER(V22),ISNUMBER(V34)),V22-V34,"") -> 0.032538956
C29: - | D29: - | E29: - | F29: - | G29: - | H29: - | I29: - | J29: - | K29: - | L29: - | M29: - | N29: - | O29: - | P29: - | Q29: - | R29: - | S29: - | T29: - | U29: - | V29: -
A30: H26年度 | B30: ９０日以下 | C30: 2583.682 | D30: 37.688592 | E30: 4853.58 | F30: 24.16976 | G30: 3419.6695 | H30: 28.700585 | I30: 6834.2366 | J30: 16.599932 | K30: 1155.8646 | L30: 16.256835 | M30: 459.55717 | N30: 16.720997 | O30: 39.944522 | P30: 9.1112309 | Q30: 9.8509579 | R30: 8.7469786 | S30: 16.429787 | T30: 9.9185716 | U30: 19372.815 | V30: 21.383533
B31: ９１日～１２０日 | C31: 3479.0794 | D31: 50.7499 | E31: 12302.141 | F31: 61.261954 | G31: 6907.9918 | H31: 57.977359 | I31: 28445.156 | J31: 69.0915 | K31: 4870.8158 | L31: 68.506336 | M31: 2013.8618 | N31: 73.274402 | O31: 339.70415 | P31: 77.485543 | Q31: 85.372605 | R31: 75.80505 | S31: 119.82639 | T31: 72.33853 | U31: 58563.949 | V31: 64.642343
B32: １２１日～１５０日 | C32: 669.68874 | D32: 9.7688591 | E32: 2628.7423 | F32: 13.090558 | G32: 1405.3371 | H32: 11.794706 | I32: 5418.8873 | J32: 13.162137 | K32: 927.00542 | L32: 13.03801 | M32: 258.74136 | N32: 9.4143099 | O32: 50.262029 | P32: 11.464625 | Q32: 12.647701 | R32: 11.230296 | S32: 28.43308 | T32: 17.164893 | U32: 11399.745 | V32: 12.582933
B33: １５１日～１８０日 | C33: 7.6231884 | D33: 0.1112007 | E33: 261.75517 | F33: 1.3034831 | G33: 145.95268 | H33: 1.2249509 | I33: 427.60746 | J33: 1.0386317 | K33: 144.92627 | L33: 2.0383378 | M33: 14.564384 | N33: 0.52992541 | O33: 8.4990196 | P33: 1.938602 | Q33: 4.75 | R33: 4.217676 | U33: 1015.6782 | V33: 1.1210961
B34: １８０日超 | C34: 115.26905 | D34: 1.6814484 | E34: 34.990566 | F34: 0.17424532 | G34: 36.030769 | H34: 0.30239886 | I34: 44.380941 | J34: 0.10779852 | K34: 11.410256 | L34: 0.1604813 | M34: 1.6590909 | N34: 0.060366057 | S34: 0.95744681 | T34: 0.57800534 | U34: 244.69812 | V34: 0.27009551
C35: 6855.3424 | D35: 100 | E35: 20081.209 | F35: 100 | G35: 11914.982 | H35: 100 | I35: 41170.269 | J35: 100 | K35: 7110.0224 | L35: 100 | M35: 2748.3838 | N35: 100 | O35: 438.40973 | P35: 100 | Q35: 112.62126 | R35: 100 | S35: 165.64671 | T35: 100 | U35: 90596.886 | V35: 100
A36: 増減 | B36: ９０日以下 | D36: =IF(AND(ISNUMBER(D30),ISNUMBER(D42)),D30-D42,"") -> 13.088592 | F36: =IF(AND(ISNUMBER(F30),ISNUMBER(F42)),F30-F42,"") -> 5.2697596 | H36: =IF(AND(ISNUMBER(H30),ISNUMBER(H42)),H30-H42,"") -> 12.500585 | J36: =IF(AND(ISNUMBER(J30),ISNUMBER(J42)),J30-J42,"") -> 3.899932 | L36: =IF(AND(ISNUMBER(L30),ISNUMBER(L42)),L30-L42,"") -> 1.5568349 | N36: =IF(AND(ISNUMBER(N30),ISNUMBER(N42)),N30-N42,"") -> 5.9209972 | P36: =IF(AND(ISNUMBER(P30),ISNUMBER(P42)),P30-P42,"") -> -0.68876914 | R36: =IF(AND(ISNUMBER(R30),ISNUMBER(R42)),R30-R42,"") -> 2.1469786 | T36: =IF(AND(ISNUMBER(T30),ISNUMBER(T42)),T30-T42,"") -> 6.8185716 | V36: =IF(AND(ISNUMBER(V30),ISNUMBER(V42)),V30-V42,"") -> 5.7835332
B37: ９１日～１２０日 | D37: =IF(AND(ISNUMBER(D31),ISNUMBER(D43)),D31-D43,"") -> -12.6501 | F37: =IF(AND(ISNUMBER(F31),ISNUMBER(F43)),F31-F43,"") -> 4.4619539 | H37: =IF(AND(ISNUMBER(H31),ISNUMBER(H43)),H31-H43,"") -> -2.8226412 | J37: =IF(AND(ISNUMBER(J31),ISNUMBER(J43)),J31-J43,"") -> 0.49150046 | L37: =IF(AND(ISNUMBER(L31),ISNUMBER(L43)),L31-L43,"") -> 0.80633612 | N37: =IF(AND(ISNUMBER(N31),ISNUMBER(N43)),N31-N43,"") -> 0.5744015 | P37: =IF(AND(ISNUMBER(P31),ISNUMBER(P43)),P31-P43,"") -> 1.4855426 | R37: =IF(AND(ISNUMBER(R31),ISNUMBER(R43)),R31-R43,"") -> -6.0949504 | T37: =IF(AND(ISNUMBER(T31),ISNUMBER(T43)),T31-T43,"") -> 4.2385301 | V37: =IF(AND(ISNUMBER(V31),ISNUMBER(V43)),V31-V43,"") -> 0.042342608
B38: １２１日～１５０日 | D38: =IF(AND(ISNUMBER(D32),ISNUMBER(D44)),D32-D44,"") -> 1.8688591 | F38: =IF(AND(ISNUMBER(F32),ISNUMBER(F44)),F32-F44,"") -> -8.0094419 | H38: =IF(AND(ISNUMBER(H32),ISNUMBER(H44)),H32-H44,"") -> -6.1052937 | J38: =IF(AND(ISNUMBER(J32),ISNUMBER(J44)),J32-J44,"") -> -3.6378627 | L38: =IF(AND(ISNUMBER(L32),ISNUMBER(L44)),L32-L44,"") -> -2.8619901 | N38: =IF(AND(ISNUMBER(N32),ISNUMBER(N44)),N32-N44,"") -> -5.4856901 | P38: =IF(AND(ISNUMBER(P32),ISNUMBER(P44)),P32-P44,"") -> -1.0353754 | R38: =IF(AND(ISNUMBER(R32),ISNUMBER(R44)),R32-R44,"") -> 2.0302958 | T38: =IF(AND(ISNUMBER(T32),ISNUMBER(T44)),T32-T44,"") -> -10.735107 | V38: =IF(AND(ISNUMBER(V32),ISNUMBER(V44)),V32-V44,"") -> -4.4170674
B39: １５１日～１８０日 | D39: =IF(AND(ISNUMBER(D33),ISNUMBER(D45)),D33-D45,"") -> -3.1887993 | F39: =IF(AND(ISNUMBER(F33),ISNUMBER(F45)),F33-F45,"") -> -1.2965169 | H39: =IF(AND(ISNUMBER(H33),ISNUMBER(H45)),H33-H45,"") -> -3.5750491 | J39: =IF(AND(ISNUMBER(J33),ISNUMBER(J45)),J33-J45,"") -> -0.4613683 | L39: =IF(AND(ISNUMBER(L33),ISNUMBER(L45)),L33-L45,"") -> 0.93833776 | N39: =IF(AND(ISNUMBER(N33),ISNUMBER(N45)),N33-N45,"") -> -1.0700746 | P39: =IF(AND(ISNUMBER(P33),ISNUMBER(P45)),P33-P45,"") -> 0.33860197 | R39: =IF(AND(ISNUMBER(R33),ISNUMBER(R45)),R33-R45,"") -> 1.917676 | T39: =IF(AND(ISNUMBER(T33),ISNUMBER(T45)),T33-T45,"") | V39: =IF(AND(ISNUMBER(V33),ISNUMBER(V45)),V33-V45,"") -> -1.1789039
B40: １８０日超 | D40: =IF(AND(ISNUMBER(D34),ISNUMBER(D46)),D34-D46,"") -> 0.78144844 | F40: =IF(AND(ISNUMBER(F34),ISNUMBER(F46)),F34-F46,"") -> -0.42575468 | H40: =IF(AND(ISNUMBER(H34),ISNUMBER(H46)),H34-H46,"") -> 0.0023988567 | J40: =IF(AND(ISNUMBER(J34),ISNUMBER(J46)),J34-J46,"") -> -0.29220148 | L40: =IF(AND(ISNUMBER(L34),ISNUMBER(L46)),L34-L46,"") -> -0.4395187 | N40: =IF(AND(ISNUMBER(N34),ISNUMBER(N46)),N34-N46,"") | P40: =IF(AND(ISNUMBER(P34),ISNUMBER(P46)),P34-P46,"") | R40: =IF(AND(ISNUMBER(R34),ISNUMBER(R46)),R34-R46,"") | T40: =IF(AND(ISNUMBER(T34),ISNUMBER(T46)),T34-T46,"") | V40: =IF(AND(ISNUMBER(V34),ISNUMBER(V46)),V34-V46,"") -> -0.22990449
C41: - | D41: - | E41: - | F41: - | G41: - | H41: - | I41: - | J41: - | K41: - | L41: - | M41: - | N41: - | O41: - | P41: - | Q41: - | R41: - | S41: - | T41: - | U41: - | V41: -
A42: H23年度 | B42: ９０日以下 | C42: 1905.32 | D42: 24.6 | E42: 3660.92 | F42: 18.9 | G42: 1832.55 | H42: 16.2 | I42: 4908.33 | J42: 12.7 | K42: 1031.25 | L42: 14.7 | M42: 265.92 | N42: 10.8 | O42: 42.44 | P42: 9.8 | Q42: 9.08 | R42: 6.6 | S42: 5.55 | T42: 3.1 | U42: 13661.36 | V42: 15.6
B43: ９１日～１２０日 | C43: 4917.68 | D43: 63.4 | E43: 11001.51 | F43: 56.8 | G43: 6895.63 | H43: 60.8 | I43: 26632.83 | J43: 68.6 | K43: 4754.6 | L43: 67.7 | M43: 1792.59 | N43: 72.7 | O43: 328.13 | P43: 76 | Q43: 112.94 | R43: 81.9 | S43: 120.79 | T43: 68.1 | U43: 56556.71 | V43: 64.6
B44: １２１日～１５０日 | C44: 609.83 | D44: 7.9 | E44: 4086.22 | F44: 21.1 | G44: 2031.72 | H44: 17.9 | I44: 6518.9 | J44: 16.8 | K44: 1117.39 | L44: 15.9 | M44: 366.81 | N44: 14.9 | O44: 54.14 | P44: 12.5 | Q44: 12.7 | R44: 9.2 | S44: 49.37 | T44: 27.9 | U44: 14847.08 | V44: 17
B45: １５１日～１８０日 | C45: 253.92 | D45: 3.3 | E45: 502.97 | F45: 2.6 | G45: 546.1 | H45: 4.8 | I45: 583.27 | J45: 1.5 | K45: 73.89 | L45: 1.1 | M45: 39.25 | N45: 1.6 | O45: 6.85 | P45: 1.6 | Q45: 3.17 | R45: 2.3 | S45: 1.55 | T45: 0.9 | U45: 2010.98 | V45: 2.3
B46: １８０日超 | C46: 70.57 | D46: 0.9 | E46: 114.35 | F46: 0.6 | G46: 36.15 | H46: 0.3 | I46: 156.27 | J46: 0.4 | K46: 41.08 | L46: 0.6 | U46: 418.41 | V46: 0.5
C47: 7757.34 | D47: 100 | E47: 19365.97 | F47: 100 | G47: 11342.15 | H47: 100 | I47: 38799.6 | J47: 100 | K47: 7018.21 | L47: 100 | M47: 2464.57 | N47: 100 | O47: 431.56 | P47: 100 | Q47: 137.89 | R47: 100 | S47: 177.25 | T47: 100 | U47: 87494.54 | V47: 100
A48: 増減 | B48: ９０日以下 | D48: =IF(AND(ISNUMBER(D42),ISNUMBER(D54)),D42-D54,"") -> -8.8 | F48: =IF(AND(ISNUMBER(F42),ISNUMBER(F54)),F42-F54,"") -> -5.8 | H48: =IF(AND(ISNUMBER(H42),ISNUMBER(H54)),H42-H54,"") -> -8.5 | J48: =IF(AND(ISNUMBER(J42),ISNUMBER(J54)),J42-J54,"") -> -6.1 | L48: =IF(AND(ISNUMBER(L42),ISNUMBER(L54)),L42-L54,"") -> -3.2 | N48: =IF(AND(ISNUMBER(N42),ISNUMBER(N54)),N42-N54,"") -> -3.7 | P48: =IF(AND(ISNUMBER(P42),ISNUMBER(P54)),P42-P54,"") -> -1.1 | R48: =IF(AND(ISNUMBER(R42),ISNUMBER(R54)),R42-R54,"") -> 0.7 | T48: =IF(AND(ISNUMBER(T42),ISNUMBER(T54)),T42-T54,"") -> -2.9 | V48: =IF(AND(ISNUMBER(V42),ISNUMBER(V54)),V42-V54,"") -> -6.3
B49: ９１日～１２０日 | D49: =IF(AND(ISNUMBER(D43),ISNUMBER(D55)),D43-D55,"") -> 10.7 | F49: =IF(AND(ISNUMBER(F43),ISNUMBER(F55)),F43-F55,"") -> 3.9 | H49: =IF(AND(ISNUMBER(H43),ISNUMBER(H55)),H43-H55,"") -> 7.4 | J49: =IF(AND(ISNUMBER(J43),ISNUMBER(J55)),J43-J55,"") -> 8 | L49: =IF(AND(ISNUMBER(L43),ISNUMBER(L55)),L43-L55,"") -> 6.4 | N49: =IF(AND(ISNUMBER(N43),ISNUMBER(N55)),N43-N55,"") -> 9.6 | P49: =IF(AND(ISNUMBER(P43),ISNUMBER(P55)),P43-P55,"") -> 8.8 | R49: =IF(AND(ISNUMBER(R43),ISNUMBER(R55)),R43-R55,"") -> 5.1 | T49: =IF(AND(ISNUMBER(T43),ISNUMBER(T55)),T43-T55,"") -> 2.8 | V49: =IF(AND(ISNUMBER(V43),ISNUMBER(V55)),V43-V55,"") -> 7.1
B50: １２１日～１５０日 | D50: =IF(AND(ISNUMBER(D44),ISNUMBER(D56)),D44-D56,"") -> -5.3 | F50: =IF(AND(ISNUMBER(F44),ISNUMBER(F56)),F44-F56,"") -> 1.4 | H50: =IF(AND(ISNUMBER(H44),ISNUMBER(H56)),H44-H56,"") -> 0.4 | J50: =IF(AND(ISNUMBER(J44),ISNUMBER(J56)),J44-J56,"") -> -2 | L50: =IF(AND(ISNUMBER(L44),ISNUMBER(L56)),L44-L56,"") -> -3.3 | N50: =IF(AND(ISNUMBER(N44),ISNUMBER(N56)),N44-N56,"") -> -5.5 | P50: =IF(AND(ISNUMBER(P44),ISNUMBER(P56)),P44-P56,"") -> -7.3 | R50: =IF(AND(ISNUMBER(R44),ISNUMBER(R56)),R44-R56,"") -> -3.1 | T50: =IF(AND(ISNUMBER(T44),ISNUMBER(T56)),T44-T56,"") -> 3.9 | V50: =IF(AND(ISNUMBER(V44),ISNUMBER(V56)),V44-V56,"") -> -1.4
B51: １５１日～１８０日 | D51: =IF(AND(ISNUMBER(D45),ISNUMBER(D57)),D45-D57,"") -> 3 | F51: =IF(AND(ISNUMBER(F45),ISNUMBER(F57)),F45-F57,"") -> 0.3 | H51: =IF(AND(ISNUMBER(H45),ISNUMBER(H57)),H45-H57,"") -> 0.9 | J51: =IF(AND(ISNUMBER(J45),ISNUMBER(J57)),J45-J57,"") -> 0 | L51: =IF(AND(ISNUMBER(L45),ISNUMBER(L57)),L45-L57,"") -> -0.4 | N51: =IF(AND(ISNUMBER(N45),ISNUMBER(N57)),N45-N57,"") -> 0 | P51: =IF(AND(ISNUMBER(P45),ISNUMBER(P57)),P45-P57,"") -> -0.5 | R51: =IF(AND(ISNUMBER(R45),ISNUMBER(R57)),R45-R57,"") -> -2.7 | T51: =IF(AND(ISNUMBER(T45),ISNUMBER(T57)),T45-T57,"") -> -3 | V51: =IF(AND(ISNUMBER(V45),ISNUMBER(V57)),V45-V57,"") -> 0.5
B52: １８０日超 | D52: =IF(AND(ISNUMBER(D46),ISNUMBER(D58)),D46-D58,"") -> 0.4 | F52: =IF(AND(ISNUMBER(F46),ISNUMBER(F58)),F46-F58,"") -> 0.2 | H52: =IF(AND(ISNUMBER(H46),ISNUMBER(H58)),H46-H58,"") -> -0.3 | J52: =IF(AND(ISNUMBER(J46),ISNUMBER(J58)),J46-J58,"") -> 0.1 | L52: =IF(AND(ISNUMBER(L46),ISNUMBER(L58)),L46-L58,"") -> 0.4 | N52: =IF(AND(ISNUMBER(N46),ISNUMBER(N58)),N46-N58,"") | P52: =IF(AND(ISNUMBER(P46),ISNUMBER(P58)),P46-P58,"") | R52: =IF(AND(ISNUMBER(R46),ISNUMBER(R58)),R46-R58,"") | T52: =IF(AND(ISNUMBER(T46),ISNUMBER(T58)),T46-T58,"") | V52: =IF(AND(ISNUMBER(V46),ISNUMBER(V58)),V46-V58,"") -> 0.1
C53: - | D53: - | E53: - | F53: - | G53: - | H53: - | I53: - | J53: - | K53: - | L53: - | M53: - | N53: - | O53: - | P53: - | Q53: - | R53: - | S53: - | T53: - | U53: - | V53: -
A54: H20年度 | B54: ９０日以下 | C54: 3838.35 | D54: 33.4 | E54: 5956.49 | F54: 24.7 | G54: 3170.8 | H54: 24.7 | I54: 9731.14 | J54: 18.8 | K54: 1640.58 | L54: 17.9 | M54: 444.97 | N54: 14.5 | O54: 65.1 | P54: 10.9 | Q54: 8.94 | R54: 5.9 | S54: 11.75 | T54: 6 | U54: 24868.13 | V54: 21.9
B55: ９１日～１２０日 | C55: 6058.91 | D55: 52.7 | E55: 12787.72 | F55: 52.9 | G55: 6868.96 | H55: 53.4 | I55: 31351.15 | J55: 60.6 | K55: 5621.06 | L55: 61.3 | M55: 1937.59 | N55: 63.1 | O55: 400.94 | P55: 67.2 | Q55: 116.63 | R55: 76.8 | S55: 128.13 | T55: 65.3 | U55: 65271.11 | V55: 57.5
B56: １２１日～１５０日 | C56: 1514.72 | D56: 13.2 | E56: 4765.28 | F56: 19.7 | G56: 2246.51 | H56: 17.5 | I56: 9744.74 | J56: 18.8 | K56: 1760.26 | L56: 19.2 | M56: 626.45 | N56: 20.4 | O56: 118.12 | P56: 19.8 | Q56: 18.71 | R56: 12.3 | S56: 47.09 | T56: 24 | U56: 20841.88 | V56: 18.4
B57: １５１日～１８０日 | C57: 36.27 | D57: 0.3 | E57: 553.47 | F57: 2.3 | G57: 496.84 | H57: 3.9 | I57: 793.91 | J57: 1.5 | K57: 136.01 | L57: 1.5 | M57: 49.71 | N57: 1.6 | O57: 12.62 | P57: 2.1 | Q57: 7.52 | R57: 5 | S57: 7.74 | T57: 3.9 | U57: 2094.09 | V57: 1.8
B58: １８０日超 | C58: 57.91 | D58: 0.5 | E58: 91.81 | F58: 0.4 | G58: 76.64 | H58: 0.6 | I58: 154.92 | J58: 0.3 | K58: 18.1 | L58: 0.2 | M58: 12.15 | N58: 0.4 | S58: 1.49 | T58: 0.8 | U58: 413.02 | V58: 0.4
C59: 11506.16 | D59: 100 | E59: 24154.77 | F59: 100 | G59: 12859.75 | H59: 100 | I59: 51775.87 | J59: 100 | K59: 9176.03 | L59: 100 | M59: 3070.87 | N59: 100 | O59: 596.78 | P59: 100 | Q59: 151.8 | R59: 100 | S59: 196.2 | T59: 100 | U59: 113488.23 | V59: 100
A60: 増減 | B60: ９０日以下 | D60: =IF(AND(ISNUMBER(D54),ISNUMBER(D66)),D54-D66,"") -> 11.4 | F60: =IF(AND(ISNUMBER(F54),ISNUMBER(F66)),F54-F66,"") -> 6.7 | H60: =IF(AND(ISNUMBER(H54),ISNUMBER(H66)),H54-H66,"") -> 6.8 | J60: =IF(AND(ISNUMBER(J54),ISNUMBER(J66)),J54-J66,"") -> 7.6 | L60: =IF(AND(ISNUMBER(L54),ISNUMBER(L66)),L54-L66,"") -> 6.3 | N60: =IF(AND(ISNUMBER(N54),ISNUMBER(N66)),N54-N66,"") -> 5.6 | P60: =IF(AND(ISNUMBER(P54),ISNUMBER(P66)),P54-P66,"") -> 4.7 | R60: =IF(AND(ISNUMBER(R54),ISNUMBER(R66)),R54-R66,"") -> -0.9 | T60: =IF(AND(ISNUMBER(T54),ISNUMBER(T66)),T54-T66,"") -> 3.5 | V60: =IF(AND(ISNUMBER(V54),ISNUMBER(V66)),V54-V66,"") -> 7.5
B61: ９１日～１２０日 | D61: =IF(AND(ISNUMBER(D55),ISNUMBER(D67)),D55-D67,"") -> -6.5 | F61: =IF(AND(ISNUMBER(F55),ISNUMBER(F67)),F55-F67,"") -> 0.3 | H61: =IF(AND(ISNUMBER(H55),ISNUMBER(H67)),H55-H67,"") -> -3.8 | J61: =IF(AND(ISNUMBER(J55),ISNUMBER(J67)),J55-J67,"") -> -2.6 | L61: =IF(AND(ISNUMBER(L55),ISNUMBER(L67)),L55-L67,"") -> -5.2 | N61: =IF(AND(ISNUMBER(N55),ISNUMBER(N67)),N55-N67,"") -> -3.2 | P61: =IF(AND(ISNUMBER(P55),ISNUMBER(P67)),P55-P67,"") -> -3.7 | R61: =IF(AND(ISNUMBER(R55),ISNUMBER(R67)),R55-R67,"") -> 5.9 | T61: =IF(AND(ISNUMBER(T55),ISNUMBER(T67)),T55-T67,"") -> 5.9 | V61: =IF(AND(ISNUMBER(V55),ISNUMBER(V67)),V55-V67,"") -> -2.7
B62: １２１日～１５０日 | D62: =IF(AND(ISNUMBER(D56),ISNUMBER(D68)),D56-D68,"") -> -0.9 | F62: =IF(AND(ISNUMBER(F56),ISNUMBER(F68)),F56-F68,"") -> -5.7 | H62: =IF(AND(ISNUMBER(H56),ISNUMBER(H68)),H56-H68,"") -> -3.8 | J62: =IF(AND(ISNUMBER(J56),ISNUMBER(J68)),J56-J68,"") -> -4.6 | L62: =IF(AND(ISNUMBER(L56),ISNUMBER(L68)),L56-L68,"") -> -1 | N62: =IF(AND(ISNUMBER(N56),ISNUMBER(N68)),N56-N68,"") -> -0.9 | P62: =IF(AND(ISNUMBER(P56),ISNUMBER(P68)),P56-P68,"") -> -1.5 | R62: =IF(AND(ISNUMBER(R56),ISNUMBER(R68)),R56-R68,"") -> -9.4 | T62: =IF(AND(ISNUMBER(T56),ISNUMBER(T68)),T56-T68,"") -> -11.8 | V62: =IF(AND(ISNUMBER(V56),ISNUMBER(V68)),V56-V68,"") -> -4
B63: １５１日～１８０日 | D63: =IF(AND(ISNUMBER(D57),ISNUMBER(D69)),D57-D69,"") -> -4.1 | F63: =IF(AND(ISNUMBER(F57),ISNUMBER(F69)),F57-F69,"") -> -0.2 | H63: =IF(AND(ISNUMBER(H57),ISNUMBER(H69)),H57-H69,"") -> 0.2 | J63: =IF(AND(ISNUMBER(J57),ISNUMBER(J69)),J57-J69,"") -> -0.4 | L63: =IF(AND(ISNUMBER(L57),ISNUMBER(L69)),L57-L69,"") -> -0.1 | N63: =IF(AND(ISNUMBER(N57),ISNUMBER(N69)),N57-N69,"") -> -1.3 | P63: =IF(AND(ISNUMBER(P57),ISNUMBER(P69)),P57-P69,"") -> 0.7 | R63: =IF(AND(ISNUMBER(R57),ISNUMBER(R69)),R57-R69,"") -> 4.3 | T63: =IF(AND(ISNUMBER(T57),ISNUMBER(T69)),T57-T69,"") -> 2.1 | V63: =IF(AND(ISNUMBER(V57),ISNUMBER(V69)),V57-V69,"") -> -0.7
B64: １８０日超 | D64: =IF(AND(ISNUMBER(D58),ISNUMBER(D70)),D58-D70,"") -> 0.2 | F64: =IF(AND(ISNUMBER(F58),ISNUMBER(F70)),F58-F70,"") -> -1.1 | H64: =IF(AND(ISNUMBER(H58),ISNUMBER(H70)),H58-H70,"") -> 0.6 | J64: =IF(AND(ISNUMBER(J58),ISNUMBER(J70)),J58-J70,"") -> -0.1 | L64: =IF(AND(ISNUMBER(L58),ISNUMBER(L70)),L58-L70,"") -> 0 | N64: =IF(AND(ISNUMBER(N58),ISNUMBER(N70)),N58-N70,"") -> -0.1 | P64: =IF(AND(ISNUMBER(P58),ISNUMBER(P70)),P58-P70,"") | R64: =IF(AND(ISNUMBER(R58),ISNUMBER(R70)),R58-R70,"") | T64: =IF(AND(ISNUMBER(T58),ISNUMBER(T70)),T58-T70,"") -> 0.3 | V64: =IF(AND(ISNUMBER(V58),ISNUMBER(V70)),V58-V70,"") -> -0.1
C65: - | D65: - | E65: - | F65: - | G65: - | H65: - | I65: - | J65: - | K65: - | L65: - | M65: - | N65: - | O65: - | P65: - | Q65: - | R65: - | S65: - | T65: - | U65: - | V65: -
A66: H17年度 | B66: ９０日以下 | C66: 2657 | D66: 22 | E66: 4725 | F66: 18 | G66: 2636 | H66: 17.9 | I66: 6195 | J66: 11.2 | K66: 1095 | L66: 11.6 | M66: 289 | N66: 8.9 | O66: 40 | P66: 6.2 | Q66: 13 | R66: 6.8 | S66: 6 | T66: 2.5 | U66: 17655 | V66: 14.4
B67: ９１日～１２０日 | C67: 7154 | D67: 59.2 | E67: 13768 | F67: 52.6 | G67: 8432 | H67: 57.2 | I67: 35068 | J67: 63.2 | K67: 6284 | L67: 66.5 | M67: 2150 | N67: 66.3 | O67: 454 | P67: 70.9 | Q67: 136 | R67: 70.9 | S67: 142 | T67: 59.4 | U67: 73589 | V67: 60.2
B68: １２１日～１５０日 | C68: 1705 | D68: 14.1 | E68: 6654 | F68: 25.4 | G68: 3135 | H68: 21.3 | I68: 12990 | J68: 23.4 | K68: 1910 | L68: 20.2 | M68: 689 | N68: 21.3 | O68: 136 | P68: 21.3 | Q68: 42 | R68: 21.7 | S68: 85 | T68: 35.8 | U68: 27347 | V68: 22.4
B69: １５１日～１８０日 | C69: 531 | D69: 4.4 | E69: 648 | F69: 2.5 | G69: 543 | H69: 3.7 | I69: 1055 | J69: 1.9 | K69: 149 | L69: 1.6 | M69: 96 | N69: 2.9 | O69: 9 | P69: 1.4 | Q69: 1 | R69: 0.7 | S69: 4 | T69: 1.8 | U69: 3035 | V69: 2.5
B70: １８０日超 | C70: 34 | D70: 0.3 | E70: 383 | F70: 1.5 | G70: 4 | H70: 0 | I70: 211 | J70: 0.4 | K70: 15 | L70: 0.2 | M70: 17 | N70: 0.5 | O70: 2 | P70: 0.2 | S70: 1 | T70: 0.5 | U70: 666 | V70: 0.5
C71: 12081 | D71: 100 | E71: 26177 | F71: 100 | G71: 14751 | H71: 100 | I71: 55518 | J71: 100 | K71: 9453 | L71: 100 | M71: 3241 | N71: 100 | O71: 641 | P71: 100 | Q71: 192 | R71: 100 | S71: 239 | T71: 100 | U71: 122292 | V71: 100
S74: （単位：社、％）
B75: 年度 | C75: R06年度 | F75: R01年度 | I75: H26年度 | L75: H23年度 | O75: H20年度 | R75: H17年度
A76: 業種 | B76: 手形期間 | E76: 増減 | H76: 増減 | K76: 増減 | N76: 増減 | Q76: 増減
A77: 一般土木建築 | B77: ９０日以下 | C77: =IF('3-2-1'!V6<>"",'3-2-1'!V6,"") -> 2085.5594 | D77: =IF('3-2-1'!W6<>"",'3-2-1'!W6,"") -> 57.897035 | E77: =IF(AND(ISNUMBER(D77),ISNUMBER(G77)),D77-G77,"") -> 17.996332 | F77: 955.3769 | G77: 39.900704 | H77: =IF(AND(ISNUMBER(G77),ISNUMBER(J77)),G77-J77,"") -> 15.443442 | I77: 666.95417 | J77: 24.457261 | K77: =IF(AND(ISNUMBER(J77),ISNUMBER(M77)),J77-M77,"") -> 11.657261 | L77: 351.45 | M77: 12.8 | N77: =IF(AND(ISNUMBER(M77),ISNUMBER(P77)),M77-P77,"") -> -4.8 | O77: 637.37 | P77: 17.6 | Q77: =IF(AND(ISNUMBER(P77),ISNUMBER(S77)),P77-S77,"") -> 5.1 | R77: 493 | S77: 12.5
B78: ９１日～１２０日 | C78: =IF('3-2-1'!V7<>"",'3-2-1'!V7,"") -> 1161.1148 | D78: =IF('3-2-1'!W7<>"",'3-2-1'!W7,"") -> 32.233607 | E78: =IF(AND(ISNUMBER(D78),ISNUMBER(G78)),D78-G78,"") -> -21.353366 | F78: 1283.079 | G78: 53.586973 | H78: =IF(AND(ISNUMBER(G78),ISNUMBER(J78)),G78-J78,"") -> -10.193334 | I78: 1739.3011 | J78: 63.780308 | K78: =IF(AND(ISNUMBER(J78),ISNUMBER(M78)),J78-M78,"") -> -2.8196922 | L78: 1834.84 | M78: 66.6 | N78: =IF(AND(ISNUMBER(M78),ISNUMBER(P78)),M78-P78,"") -> 3.8 | O78: 2270.68 | P78: 62.8 | Q78: =IF(AND(ISNUMBER(P78),ISNUMBER(S78)),P78-S78,"") -> -4.2 | R78: 2638 | S78: 67
B79: １２１日～１５０日 | C79: =IF('3-2-1'!V8<>"",'3-2-1'!V8,"") -> 336.8521 | D79: =IF('3-2-1'!W8<>"",'3-2-1'!W8,"") -> 9.3513222 | E79: =IF(AND(ISNUMBER(D79),ISNUMBER(G79)),D79-G79,"") -> 3.7223354 | F79: 134.77968 | G79: 5.6289868 | H79: =IF(AND(ISNUMBER(G79),ISNUMBER(J79)),G79-J79,"") -> -5.4439683 | I79: 301.96159 | J79: 11.072955 | K79: =IF(AND(ISNUMBER(J79),ISNUMBER(M79)),J79-M79,"") -> -8.7270449 | L79: 545.3 | M79: 19.8 | N79: =IF(AND(ISNUMBER(M79),ISNUMBER(P79)),M79-P79,"") -> 3.1 | O79: 602.57 | P79: 16.7 | Q79: =IF(AND(ISNUMBER(P79),ISNUMBER(S79)),P79-S79,"") -> -1.5 | R79: 716 | S79: 18.2
B80: １５１日～１８０日 | C80: =IF('3-2-1'!V9<>"",'3-2-1'!V9,"") -> 18.660606 | D80: =IF('3-2-1'!W9<>"",'3-2-1'!W9,"") -> 0.51803548 | E80: =IF(AND(ISNUMBER(D80),ISNUMBER(G80)),D80-G80,"") -> -0.36530082 | F80: 21.150482 | G80: 0.88333631 | H80: =IF(AND(ISNUMBER(G80),ISNUMBER(J80)),G80-J80,"") -> 0.22896992 | I80: 17.844696 | J80: 0.65436638 | K80: =IF(AND(ISNUMBER(J80),ISNUMBER(M80)),J80-M80,"") -> -0.14563362 | L80: 22.57 | M80: 0.8 | N80: =IF(AND(ISNUMBER(M80),ISNUMBER(P80)),M80-P80,"") -> -1.7 | O80: 90.17 | P80: 2.5 | Q80: =IF(AND(ISNUMBER(P80),ISNUMBER(S80)),P80-S80,"") -> 0.6 | R80: 75 | S80: 1.9
B81: １８０日超 | C81: =IF('3-2-1'!V10<>"",'3-2-1'!V10,"") -> 0 | D81: =IF('3-2-1'!W10<>"",'3-2-1'!W10,"") -> 0 | E81: =IF(AND(ISNUMBER(D81),ISNUMBER(G81)),D81-G81,"") | H81: =IF(AND(ISNUMBER(G81),ISNUMBER(J81)),G81-J81,"") | I81: 0.95744681 | J81: 0.035109649 | K81: =IF(AND(ISNUMBER(J81),ISNUMBER(M81)),J81-M81,"") | N81: =IF(AND(ISNUMBER(M81),ISNUMBER(P81)),M81-P81,"") | O81: 17.3 | P81: 0.5 | Q81: =IF(AND(ISNUMBER(P81),ISNUMBER(S81)),P81-S81,"") -> 0.2 | R81: 12 | S81: 0.3
B82: 小 計 | C82: =IF('3-2-1'!V11<>"",'3-2-1'!V11,"") -> 3602.1868 | D82: =IF('3-2-1'!W11<>"",'3-2-1'!W11,"") -> 100 | E82: - | F82: 2394.3861 | G82: 100 | H82: - | I82: 2727.019 | J82: 100 | K82: - | L82: 2754.17 | M82: 100 | N82: - | O82: 3618.08 | P82: 100 | Q82: - | R82: 3934 | S82: 100
A83: 土木 | B83: ９０日以下 | C83: =IF('3-2-1'!V42<>"",'3-2-1'!V42,"") -> 10451.465 | D83: =IF('3-2-1'!W42<>"",'3-2-1'!W42,"") -> 64.560285 | E83: =IF(AND(ISNUMBER(D83),ISNUMBER(G83)),D83-G83,"") -> 17.63157 | F83: 8720.5258 | G83: 46.928715 | H83: =IF(AND(ISNUMBER(G83),ISNUMBER(J83)),G83-J83,"") -> 18.814152 | I83: 5205.3813 | J83: 28.114563 | K83: =IF(AND(ISNUMBER(J83),ISNUMBER(M83)),J83-M83,"") -> 8.4145631 | L83: 3396.81 | M83: 19.7 | N83: =IF(AND(ISNUMBER(M83),ISNUMBER(P83)),M83-P83,"") -> -6.9 | O83: 7171.17 | P83: 26.6 | Q83: =IF(AND(ISNUMBER(P83),ISNUMBER(S83)),P83-S83,"") -> 8.5 | R83: 5325 | S83: 18.1
B84: ９１日～１２０日 | C84: =IF('3-2-1'!V43<>"",'3-2-1'!V43,"") -> 5167.2974 | D84: =IF('3-2-1'!W43<>"",'3-2-1'!W43,"") -> 31.919181 | E84: =IF(AND(ISNUMBER(D84),ISNUMBER(G84)),D84-G84,"") -> -13.249913 | F84: 8393.5443 | G84: 45.169094 | H84: =IF(AND(ISNUMBER(G84),ISNUMBER(J84)),G84-J84,"") -> -12.424009 | I84: 10663.301 | J84: 57.593103 | K84: =IF(AND(ISNUMBER(J84),ISNUMBER(M84)),J84-M84,"") -> -6.1068972 | L84: 10983.36 | M84: 63.7 | N84: =IF(AND(ISNUMBER(M84),ISNUMBER(P84)),M84-P84,"") -> 8.4 | O84: 14919.49 | P84: 55.3 | Q84: =IF(AND(ISNUMBER(P84),ISNUMBER(S84)),P84-S84,"") -> -6 | R84: 17992 | S84: 61.3
B85: １２１日～１５０日 | C85: =IF('3-2-1'!V44<>"",'3-2-1'!V44,"") -> 440.6159 | D85: =IF('3-2-1'!W44<>"",'3-2-1'!W44,"") -> 2.7217513 | E85: =IF(AND(ISNUMBER(D85),ISNUMBER(G85)),D85-G85,"") -> -4.1104062 | F85: 1269.5853 | G85: 6.8321575 | H85: =IF(AND(ISNUMBER(G85),ISNUMBER(J85)),G85-J85,"") -> -5.8132931 | I85: 2341.2916 | J85: 12.645451 | K85: =IF(AND(ISNUMBER(J85),ISNUMBER(M85)),J85-M85,"") -> -1.9545494 | L85: 2516.25 | M85: 14.6 | N85: =IF(AND(ISNUMBER(M85),ISNUMBER(P85)),M85-P85,"") -> -1.2 | O85: 4262.64 | P85: 15.8 | Q85: =IF(AND(ISNUMBER(P85),ISNUMBER(S85)),P85-S85,"") -> -2.2 | R85: 5291 | S85: 18
B86: １５１日～１８０日 | C86: =IF('3-2-1'!V45<>"",'3-2-1'!V45,"") -> 129.3125 | D86: =IF('3-2-1'!W45<>"",'3-2-1'!W45,"") -> 0.79878294 | E86: =IF(AND(ISNUMBER(D86),ISNUMBER(G86)),D86-G86,"") -> -0.11259893 | F86: 169.35749 | G86: 0.91138188 | H86: =IF(AND(ISNUMBER(G86),ISNUMBER(J86)),G86-J86,"") -> -0.70808077 | I86: 299.84178 | J86: 1.6194626 | K86: =IF(AND(ISNUMBER(J86),ISNUMBER(M86)),J86-M86,"") -> -0.28053735 | L86: 333.81 | M86: 1.9 | N86: =IF(AND(ISNUMBER(M86),ISNUMBER(P86)),M86-P86,"") -> 0.2 | O86: 460.64 | P86: 1.7 | Q86: =IF(AND(ISNUMBER(P86),ISNUMBER(S86)),P86-S86,"") -> -0.7 | R86: 691 | S86: 2.4
B87: １８０日超 | C87: =IF('3-2-1'!V46<>"",'3-2-1'!V46,"") -> 0 | D87: =IF('3-2-1'!W46<>"",'3-2-1'!W46,"") -> 0 | E87: =IF(AND(ISNUMBER(D87),ISNUMBER(G87)),D87-G87,"") -> -0.15865191 | F87: 29.481481 | G87: 0.15865191 | H87: =IF(AND(ISNUMBER(G87),ISNUMBER(J87)),G87-J87,"") -> 0.13123115 | I87: 5.0769231 | J87: 0.027420753 | K87: =IF(AND(ISNUMBER(J87),ISNUMBER(M87)),J87-M87,"") -> -0.072579247 | L87: 16 | M87: 0.1 | N87: =IF(AND(ISNUMBER(M87),ISNUMBER(P87)),M87-P87,"") -> -0.4 | O87: 142.72 | P87: 0.5 | Q87: =IF(AND(ISNUMBER(P87),ISNUMBER(S87)),P87-S87,"") -> 0.3 | R87: 54 | S87: 0.2
B88: 小 計 | C88: =IF('3-2-1'!V47<>"",'3-2-1'!V47,"") -> 16188.691 | D88: =IF('3-2-1'!W47<>"",'3-2-1'!W47,"") -> 100 | E88: - | F88: 18582.494 | G88: 100 | H88: - | I88: 18514.893 | J88: 100 | K88: - | L88: 17246.22 | M88: 100 | N88: - | O88: 26956.67 | P88: 100 | Q88: - | R88: 29353 | S88: 100
A89: 建築 | B89: ９０日以下 | C89: =IF('3-2-1'!V48<>"",'3-2-1'!V48,"") -> 15994.683 | D89: =IF('3-2-1'!W48<>"",'3-2-1'!W48,"") -> 57.545471 | E89: =IF(AND(ISNUMBER(D89),ISNUMBER(G89)),D89-G89,"") -> 9.0185996 | F89: 7825.7321 | G89: 48.526872 | H89: =IF(AND(ISNUMBER(G89),ISNUMBER(J89)),G89-J89,"") -> 23.14038 | I89: 3420.0202 | J89: 25.386491 | K89: =IF(AND(ISNUMBER(J89),ISNUMBER(M89)),J89-M89,"") -> -0.11350866 | L89: 3323.92 | M89: 25.5 | N89: =IF(AND(ISNUMBER(M89),ISNUMBER(P89)),M89-P89,"") -> -2.9 | O89: 5078.33 | P89: 28.4 | Q89: =IF(AND(ISNUMBER(P89),ISNUMBER(S89)),P89-S89,"") -> 5 | R89: 4657 | S89: 23.4
B90: ９１日～１２０日 | C90: =IF('3-2-1'!V49<>"",'3-2-1'!V49,"") -> 9114.3388 | D90: =IF('3-2-1'!W49<>"",'3-2-1'!W49,"") -> 32.791454 | E90: =IF(AND(ISNUMBER(D90),ISNUMBER(G90)),D90-G90,"") -> -7.5720844 | F90: 6509.2645 | G90: 40.363539 | H90: =IF(AND(ISNUMBER(G90),ISNUMBER(J90)),G90-J90,"") -> -19.835107 | I90: 8109.848 | J90: 60.198646 | K90: =IF(AND(ISNUMBER(J90),ISNUMBER(M90)),J90-M90,"") -> -2.401354 | L90: 8166.72 | M90: 62.6 | N90: =IF(AND(ISNUMBER(M90),ISNUMBER(P90)),M90-P90,"") -> 6.7 | O90: 10000 | P90: 55.9 | Q90: =IF(AND(ISNUMBER(P90),ISNUMBER(S90)),P90-S90,"") -> 1.3 | R90: 10858 | S90: 54.6
B91: １２１日～１５０日 | C91: =IF('3-2-1'!V50<>"",'3-2-1'!V50,"") -> 2557.9507 | D91: =IF('3-2-1'!W50<>"",'3-2-1'!W50,"") -> 9.2029633 | E91: =IF(AND(ISNUMBER(D91),ISNUMBER(G91)),D91-G91,"") -> 3.0628462 | F91: 990.19182 | G91: 6.1401171 | H91: =IF(AND(ISNUMBER(G91),ISNUMBER(J91)),G91-J91,"") -> -6.7748097 | I91: 1739.8746 | J91: 12.914927 | K91: =IF(AND(ISNUMBER(J91),ISNUMBER(M91)),J91-M91,"") -> 4.2149268 | L91: 1137.26 | M91: 8.7 | N91: =IF(AND(ISNUMBER(M91),ISNUMBER(P91)),M91-P91,"") -> -5 | O91: 2449.54 | P91: 13.7 | Q91: =IF(AND(ISNUMBER(P91),ISNUMBER(S91)),P91-S91,"") -> -6 | R91: 3918 | S91: 19.7
B92: １５１日～１８０日 | C92: =IF('3-2-1'!V51<>"",'3-2-1'!V51,"") -> 95.249277 | D92: =IF('3-2-1'!W51<>"",'3-2-1'!W51,"") -> 0.34268666 | E92: =IF(AND(ISNUMBER(D92),ISNUMBER(G92)),D92-G92,"") -> -4.3264778 | F92: 752.97725 | G92: 4.6691645 | H92: =IF(AND(ISNUMBER(G92),ISNUMBER(J92)),G92-J92,"") -> 3.1692286 | I92: 202.06853 | J92: 1.4999359 | K92: =IF(AND(ISNUMBER(J92),ISNUMBER(M92)),J92-M92,"") -> -0.20006414 | L92: 226.78 | M92: 1.7 | N92: =IF(AND(ISNUMBER(M92),ISNUMBER(P92)),M92-P92,"") -> -0.3 | O92: 353.88 | P92: 2 | Q92: =IF(AND(ISNUMBER(P92),ISNUMBER(S92)),P92-S92,"") -> 0.9 | R92: 215 | S92: 1.1
B93: １８０日超 | C93: =IF('3-2-1'!V52<>"",'3-2-1'!V52,"") -> 32.637931 | D93: =IF('3-2-1'!W52<>"",'3-2-1'!W52,"") -> 0.11742434 | E93: =IF(AND(ISNUMBER(D93),ISNUMBER(G93)),D93-G93,"") -> -0.18288359 | F93: 48.429444 | G93: 0.30030793 | H93: =IF(AND(ISNUMBER(G93),ISNUMBER(J93)),G93-J93,"") | K93: =IF(AND(ISNUMBER(J93),ISNUMBER(M93)),J93-M93,"") | L93: 189.85 | M93: 1.5 | N93: =IF(AND(ISNUMBER(M93),ISNUMBER(P93)),M93-P93,"") -> 1.4 | O93: 18.5 | P93: 0.1 | Q93: =IF(AND(ISNUMBER(P93),ISNUMBER(S93)),P93-S93,"") -> -1.1 | R93: 249 | S93: 1.2
B94: 小 計 | C94: =IF('3-2-1'!V53<>"",'3-2-1'!V53,"") -> 27794.86 | D94: =IF('3-2-1'!W53<>"",'3-2-1'!W53,"") -> 100 | E94: - | F94: 16126.595 | G94: 100 | H94: - | I94: 13471.811 | J94: 100 | K94: - | L94: 13044.52 | M94: 100 | N94: - | O94: 17900.25 | P94: 100 | Q94: - | R94: 19898 | S94: 100
A95: 木造建築 | B95: ９０日以下 | C95: =IF('3-2-1'!V54<>"",'3-2-1'!V54,"") -> 2662.2703 | D95: =IF('3-2-1'!W54<>"",'3-2-1'!W54,"") -> 88.438873 | E95: =IF(AND(ISNUMBER(D95),ISNUMBER(G95)),D95-G95,"") -> 14.252263 | F95: 3000.4472 | G95: 74.18661 | H95: =IF(AND(ISNUMBER(G95),ISNUMBER(J95)),G95-J95,"") -> 25.88319 | I95: 1088.1109 | J95: 48.30342 | K95: =IF(AND(ISNUMBER(J95),ISNUMBER(M95)),J95-M95,"") -> 7.6034201 | L95: 984.74 | M95: 40.7 | N95: =IF(AND(ISNUMBER(M95),ISNUMBER(P95)),M95-P95,"") -> -14 | O95: 1976.02 | P95: 54.7 | Q95: =IF(AND(ISNUMBER(P95),ISNUMBER(S95)),P95-S95,"") -> 19 | R95: 1250 | S95: 35.7
B96: ９１日～１２０日 | C96: =IF('3-2-1'!V55<>"",'3-2-1'!V55,"") -> 274.22394 | D96: =IF('3-2-1'!W55<>"",'3-2-1'!W55,"") -> 9.1095392 | E96: =IF(AND(ISNUMBER(D96),ISNUMBER(G96)),D96-G96,"") -> -8.2116098 | F96: 700.54682 | G96: 17.321149 | H96: =IF(AND(ISNUMBER(G96),ISNUMBER(J96)),G96-J96,"") -> -21.651106 | I96: 877.91168 | J96: 38.972255 | K96: =IF(AND(ISNUMBER(J96),ISNUMBER(M96)),J96-M96,"") -> 0.47225496 | L96: 932.87 | M96: 38.5 | N96: =IF(AND(ISNUMBER(M96),ISNUMBER(P96)),M96-P96,"") -> 8.8 | O96: 1071.36 | P96: 29.7 | Q96: =IF(AND(ISNUMBER(P96),ISNUMBER(S96)),P96-S96,"") -> -11.6 | R96: 1448 | S96: 41.3
B97: １２１日～１５０日 | C97: =IF('3-2-1'!V56<>"",'3-2-1'!V56,"") -> 0 | D97: =IF('3-2-1'!W56<>"",'3-2-1'!W56,"") -> 0 | E97: =IF(AND(ISNUMBER(D97),ISNUMBER(G97)),D97-G97,"") -> -8.4922412 | F97: 343.46524 | G97: 8.4922412 | H97: =IF(AND(ISNUMBER(G97),ISNUMBER(J97)),G97-J97,"") -> 1.0619312 | I97: 167.37949 | J97: 7.43031 | K97: =IF(AND(ISNUMBER(J97),ISNUMBER(M97)),J97-M97,"") -> -8.56969 | L97: 387.42 | M97: 16 | N97: =IF(AND(ISNUMBER(M97),ISNUMBER(P97)),M97-P97,"") -> 4 | O97: 432.38 | P97: 12 | Q97: =IF(AND(ISNUMBER(P97),ISNUMBER(S97)),P97-S97,"") -> -5.5 | R97: 614 | S97: 17.5
B98: １５１日～１８０日 | C98: =IF('3-2-1'!V57<>"",'3-2-1'!V57,"") -> 73.8 | D98: =IF('3-2-1'!W57<>"",'3-2-1'!W57,"") -> 2.4515876 | E98: =IF(AND(ISNUMBER(D98),ISNUMBER(G98)),D98-G98,"") | H98: =IF(AND(ISNUMBER(G98),ISNUMBER(J98)),G98-J98,"") | I98: 6.2727273 | J98: 0.27845891 | K98: =IF(AND(ISNUMBER(J98),ISNUMBER(M98)),J98-M98,"") -> -1.1215411 | L98: 34.87 | M98: 1.4 | N98: =IF(AND(ISNUMBER(M98),ISNUMBER(P98)),M98-P98,"") -> -2.2 | O98: 131.16 | P98: 3.6 | Q98: =IF(AND(ISNUMBER(P98),ISNUMBER(S98)),P98-S98,"") -> 0.4 | R98: 113 | S98: 3.2
B99: １８０日超 | C99: =IF('3-2-1'!V58<>"",'3-2-1'!V58,"") -> 0 | D99: =IF('3-2-1'!W58<>"",'3-2-1'!W58,"") -> 0 | E99: =IF(AND(ISNUMBER(D99),ISNUMBER(G99)),D99-G99,"") | H99: =IF(AND(ISNUMBER(G99),ISNUMBER(J99)),G99-J99,"") | I99: 112.98333 | J99: 5.0155561 | K99: =IF(AND(ISNUMBER(J99),ISNUMBER(M99)),J99-M99,"") -> 1.6155561 | L99: 81.33 | M99: 3.4 | N99: =IF(AND(ISNUMBER(M99),ISNUMBER(P99)),M99-P99,"") | Q99: =IF(AND(ISNUMBER(P99),ISNUMBER(S99)),P99-S99,"") | R99: 78 | S99: 2.2
B100: 小 計 | C100: =IF('3-2-1'!V59<>"",'3-2-1'!V59,"") -> 3010.2942 | D100: =IF('3-2-1'!W59<>"",'3-2-1'!W59,"") -> 100 | E100: - | F100: 4044.4593 | G100: 100 | H100: - | I100: 2252.6582 | J100: 100 | K100: - | L100: 2421.23 | M100: 100 | N100: - | O100: 3610.91 | P100: 100 | Q100: - | R100: 3504 | S100: 100
A101: 職別 | B101: ９０日以下 | C101: =IF('3-2-1'!V168<>"",'3-2-1'!V168,"") -> 26267.801 | D101: =IF('3-2-1'!W168<>"",'3-2-1'!W168,"") -> 55.049104 | E101: =IF(AND(ISNUMBER(D101),ISNUMBER(G101)),D101-G101,"") -> 20.023172 | F101: 10538.253 | G101: 35.025932 | H101: =IF(AND(ISNUMBER(G101),ISNUMBER(J101)),G101-J101,"") -> 18.02231 | I101: 4857.6729 | J101: 17.003622 | K101: =IF(AND(ISNUMBER(J101),ISNUMBER(M101)),J101-M101,"") -> 6.7036225 | L101: 2993.3 | M101: 10.3 | N101: =IF(AND(ISNUMBER(M101),ISNUMBER(P101)),M101-P101,"") -> -5.8 | O101: 5402.48 | P101: 16.1 | Q101: =IF(AND(ISNUMBER(P101),ISNUMBER(S101)),P101-S101,"") -> 8.3 | R101: 2775 | S101: 7.8
B102: ９１日～１２０日 | C102: =IF('3-2-1'!V169<>"",'3-2-1'!V169,"") -> 18589.256 | D102: =IF('3-2-1'!W169<>"",'3-2-1'!W169,"") -> 38.957272 | E102: =IF(AND(ISNUMBER(D102),ISNUMBER(G102)),D102-G102,"") -> -16.610357 | F102: 16718.634 | G102: 55.567629 | H102: =IF(AND(ISNUMBER(G102),ISNUMBER(J102)),G102-J102,"") -> -13.885378 | I102: 19841.654 | J102: 69.453008 | K102: =IF(AND(ISNUMBER(J102),ISNUMBER(M102)),J102-M102,"") -> 3.5530075 | L102: 19120.44 | M102: 65.9 | N102: =IF(AND(ISNUMBER(M102),ISNUMBER(P102)),M102-P102,"") -> 5 | O102: 20420.84 | P102: 60.9 | Q102: =IF(AND(ISNUMBER(P102),ISNUMBER(S102)),P102-S102,"") -> -0.3 | R102: 21749 | S102: 61.2
B103: １２１日～１５０日 | C103: =IF('3-2-1'!V170<>"",'3-2-1'!V170,"") -> 2228.629 | D103: =IF('3-2-1'!W170<>"",'3-2-1'!W170,"") -> 4.6705101 | E103: =IF(AND(ISNUMBER(D103),ISNUMBER(G103)),D103-G103,"") -> -1.9090868 | F103: 1979.6036 | G103: 6.5795969 | H103: =IF(AND(ISNUMBER(G103),ISNUMBER(J103)),G103-J103,"") -> -6.1142655 | I103: 3626.4409 | J103: 12.693862 | K103: =IF(AND(ISNUMBER(J103),ISNUMBER(M103)),J103-M103,"") -> -7.5061376 | L103: 5864.63 | M103: 20.2 | N103: =IF(AND(ISNUMBER(M103),ISNUMBER(P103)),M103-P103,"") -> -0.7 | O103: 7004.8 | P103: 20.9 | Q103: =IF(AND(ISNUMBER(P103),ISNUMBER(S103)),P103-S103,"") -> -6 | R103: 9557 | S103: 26.9
...

Sheet 3-2-3
A1: 表3－2－3 手形期間（下請比率、次数別集計）
A3: （概要） | M3: （単位：社、％）
A4: 下請比率、次数 | B4: ０％超 50％未満 | D4: ５０％以上１００％以下 | L4: 合 計
A5: 手形期間 | F5: 一次下請 | H5: 二次下請 | J5: 三次以下下請
A6: ９０日以下 | B6: 17668.598 | C6: 48.152174 | D6: 41279.907 | E6: 46.811398 | F6: 33143.578 | G6: 48.511384 | H6: 6939.8105 | I6: 40.184758 | J6: 1196.5191 | K6: 46.153846 | L6: 58948.506 | M6: 47.205366
A7: ９１日～１２０日 | B7: 16432.195 | C7: 44.782609 | D7: 41359.675 | E7: 46.901854 | F7: 31149.379 | G7: 45.592528 | H7: 9053.6609 | I7: 52.424942 | J7: 1156.6351 | K7: 44.615385 | L7: 57791.87 | M7: 46.279144
A8: １２１日～１５０日 | B8: 2113.8503 | C8: 5.7608696 | D8: 4706.3083 | E8: 5.3369516 | F8: 3549.6732 | G8: 5.1955633 | H8: 957.21525 | I8: 5.5427252 | J8: 199.41984 | K8: 7.6923077 | L8: 6820.1586 | M8: 5.4615139
A9: １５１日～１８０日 | B9: 358.95572 | C9: 0.97826087 | D9: 717.91143 | E9: 0.81411126 | F9: 438.72365 | G9: 0.64214828 | H9: 239.30381 | I9: 1.3856813 | J9: 39.883969 | K9: 1.5384615 | L9: 1076.8672 | M9: 0.8623443
A10: １８０日超 | B10: 119.65191 | C10: 0.32608696 | D10: 119.65191 | E10: 0.13568521 | F10: 39.883969 | G10: 0.058377116 | H10: 79.767937 | I10: 0.46189376 | L10: 239.30381 | M10: 0.19163207
A11: 合 計 | B11: 36693.251 | C11: 100 | D11: 88183.455 | E11: 100 | F11: 68321.238 | G11: 100 | H11: 17269.758 | I11: 100 | J11: 2592.458 | K11: 100 | L11: 124876.71 | M11: 100
F12: （注） | G12: 1. ( )の数値は各合計を100とした場合の構成比
A15: （下請比率別詳細）
A16: 下請比率、次数 | B16: ０％超１０％未満 | J16: １０％以上２０％未満 | R16: ２０％以上３０％未満
A17: 手形期間 | B17: 一次下請 | D17: 二次下請 | F17: 三次以下下請 | H17: 小 計 | J17: 一次下請 | L17: 二次下請 | N17: 三次以下下請 | P17: 小 計 | R17: 一次下請 | T17: 二次下請 | V17: 三次以下下請 | X17: 小 計
A18: ９０日以下 | B18: 5145.0319 | C18: 52.439024 | D18: 199.41984 | E18: 71.428571 | F18: 39.883969 | G18: 100 | H18: 5384.3358 | I18: 53.149606 | J18: 2951.4137 | K18: 48.051948 | L18: 199.41984 | M18: 83.333333 | P18: 3150.8335 | Q18: 49.375 | R18: 3230.6015 | S18: 50.310559 | T18: 159.53587 | U18: 66.666667 | X18: 3390.1373 | Y18: 50.898204
A19: ９１日～１２０日 | B19: 3868.745 | C19: 39.430894 | D19: 39.883969 | E19: 14.285714 | H19: 3908.6289 | I19: 38.582677 | J19: 2552.574 | K19: 41.558442 | L19: 39.883969 | M19: 16.666667 | P19: 2592.458 | Q19: 40.625 | R19: 2871.6457 | S19: 44.720497 | T19: 79.767937 | U19: 33.333333 | X19: 2951.4137 | Y19: 44.311377
A20: １２１日～１５０日 | B20: 598.25953 | C20: 6.097561 | D20: 39.883969 | E20: 14.285714 | H20: 638.1435 | I20: 6.2992126 | J20: 558.37556 | K20: 9.0909091 | P20: 558.37556 | Q20: 8.75 | R20: 239.30381 | S20: 3.7267081 | X20: 239.30381 | Y20: 3.5928144
A21: １５１日～１８０日 | B21: 199.41984 | C21: 2.0325203 | H21: 199.41984 | I21: 1.9685039 | R21: 39.883969 | S21: 0.62111801 | X21: 39.883969 | Y21: 0.5988024
A22: １８０日超 | B22: 0 | C22: 0 | J22: 79.767937 | K22: 1.2987013 | P22: 79.767937 | Q22: 1.25 | R22: 39.883969 | S22: 0.62111801 | X22: 39.883969 | Y22: 0.5988024
A23: 合 計 | B23: 9811.4563 | C23: 100 | D23: 279.18778 | E23: 100 | F23: 39.883969 | G23: 100 | H23: 10130.528 | I23: 100 | J23: 6142.1312 | K23: 100 | L23: 239.30381 | M23: 100 | P23: 6381.435 | Q23: 100 | R23: 6421.3189 | S23: 100 | T23: 239.30381 | U23: 100 | X23: 6660.6228 | Y23: 100
A26: 下請比率、次数 | B26: ３０％以上４０％未満 | J26: ４０％以上５０％未満 | R26: ５０％以上６０％未満
A27: 手形期間 | B27: 一次下請 | D27: 二次下請 | F27: 三次以下下請 | H27: 小 計 | J27: 一次下請 | L27: 二次下請 | N27: 三次以下下請 | P27: 小 計 | R27: 一次下請 | T27: 二次下請 | V27: 三次以下下請 | X27: 小 計
A28: ９０日以下 | B28: 2751.9938 | C28: 45.695364 | D28: 279.18778 | E28: 58.333333 | H28: 3031.1816 | I28: 46.060606 | J28: 2592.458 | K28: 39.393939 | L28: 119.65191 | M28: 33.333333 | P28: 2712.1099 | Q28: 39.08046 | R28: 2712.1099 | S28: 44.155844 | T28: 199.41984 | U28: 50 | X28: 2911.5297 | Y28: 44.512195
A29: ９１日～１２０日 | B29: 2831.7618 | C29: 47.019868 | D29: 159.53587 | E29: 33.333333 | F29: 79.767937 | G29: 100 | H29: 3071.0656 | I29: 46.666667 | J29: 3669.3251 | K29: 55.757576 | L29: 239.30381 | M29: 66.666667 | P29: 3908.6289 | Q29: 56.321839 | R29: 3031.1816 | S29: 49.350649 | T29: 159.53587 | U29: 40 | X29: 3190.7175 | Y29: 48.780488
A30: １２１日～１５０日 | B30: 358.95572 | C30: 5.9602649 | H30: 358.95572 | I30: 5.4545455 | J30: 319.07175 | K30: 4.8484848 | P30: 319.07175 | Q30: 4.5977011 | R30: 319.07175 | S30: 5.1948052 | T30: 39.883969 | U30: 10 | X30: 358.95572 | Y30: 5.4878049
A31: １５１日～１８０日 | B31: 79.767937 | C31: 1.3245033 | D31: 39.883969 | E31: 8.3333333 | H31: 119.65191 | I31: 1.8181818 | R31: 79.767937 | S31: 1.2987013 | X31: 79.767937 | Y31: 1.2195122
A32: １８０日超
A33: 合 計 | B33: 6022.4793 | C33: 100 | D33: 478.60762 | E33: 100 | F33: 79.767937 | G33: 100 | H33: 6580.8548 | I33: 100 | J33: 6580.8548 | K33: 100 | L33: 358.95572 | M33: 100 | P33: 6939.8105 | Q33: 100 | R33: 6142.1312 | S33: 100 | T33: 398.83969 | U33: 100 | X33: 6540.9708 | Y33: 100
A36: 下請比率、次数 | B36: ６０％以上７０％未満 | J36: ７０％以上８０％未満 | R36: ８０％以上９０％未満
A37: 手形期間 | B37: 一次下請 | D37: 二次下請 | F37: 三次以下下請 | H37: 小 計 | J37: 一次下請 | L37: 二次下請 | N37: 三次以下下請 | P37: 小 計 | R37: 一次下請 | T37: 二次下請 | V37: 三次以下下請 | X37: 小 計
A38: ９０日以下 | B38: 3469.9053 | C38: 48.876404 | D38: 199.41984 | E38: 31.25 | F38: 39.883969 | G38: 50 | H38: 3709.2091 | I38: 47.44898 | J38: 3150.8335 | K38: 47.878788 | L38: 398.83969 | M38: 35.714286 | N38: 39.883969 | O38: 100 | P38: 3589.5572 | Q38: 46.391753 | R38: 3669.3251 | S38: 42.009132 | T38: 717.91143 | U38: 42.857143 | V38: 39.883969 | W38: 50 | X38: 4427.1205 | Y38: 42.205323
A39: ９１日～１２０日 | B39: 3270.4854 | C39: 46.067416 | D39: 358.95572 | E39: 56.25 | F39: 39.883969 | G39: 50 | H39: 3669.3251 | I39: 46.938776 | J39: 2951.4137 | K39: 44.848485 | L39: 598.25953 | M39: 53.571429 | P39: 3549.6732 | Q39: 45.876289 | R39: 4307.4686 | S39: 49.315068 | T39: 877.44731 | U39: 52.380952 | V39: 39.883969 | W39: 50 | X39: 5224.7999 | Y39: 49.809886
A40: １２１日～１５０日 | B40: 319.07175 | C40: 4.494382 | D40: 79.767937 | E40: 12.5 | H40: 398.83969 | I40: 5.1020408 | J40: 398.83969 | K40: 6.0606061 | L40: 119.65191 | M40: 10.714286 | P40: 518.49159 | Q40: 6.7010309 | R40: 717.91143 | S40: 8.2191781 | T40: 39.883969 | U40: 2.3809524 | X40: 757.7954 | Y40: 7.2243346
A41: １５１日～１８０日 | B41: 39.883969 | C41: 0.56179775 | H41: 39.883969 | I41: 0.51020408 | J41: 79.767937 | K41: 1.2121212 | P41: 79.767937 | Q41: 1.0309278 | R41: 39.883969 | S41: 0.456621 | T41: 39.883969 | U41: 2.3809524 | X41: 79.767937 | Y41: 0.76045627
A42: １８０日超
A43: 合 計 | B43: 7099.3464 | C43: 100 | D43: 638.1435 | E43: 100 | F43: 79.767937 | G43: 100 | H43: 7817.2578 | I43: 100 | J43: 6580.8548 | K43: 100 | L43: 1116.7511 | M43: 100 | N43: 39.883969 | O43: 100 | P43: 7737.4899 | Q43: 100 | R43: 8734.5891 | S43: 100 | T43: 1675.1267 | U43: 100 | V43: 79.767937 | W43: 100 | X43: 10489.484 | Y43: 100
A46: 下請比率、次数 | B46: ９０％以上１００％未満 | J46: １００％ | R46: 合 計
A47: 手形期間 | B47: 一次下請 | D47: 二次下請 | F47: 三次以下下請 | H47: 小 計 | J47: 一次下請 | L47: 二次下請 | N47: 三次以下下請 | P47: 小 計 | R47: 一次下請 | T47: 二次下請 | V47: 三次以下下請
A48: ９０日以下 | B48: 6381.435 | C48: 49.535604 | D48: 1276.287 | E48: 39.02439 | F48: 199.41984 | G48: 55.555556 | H48: 7857.1418 | I48: 47.584541 | J48: 13759.969 | K48: 51.186944 | L48: 4147.9327 | M48: 40.784314 | N48: 877.44731 | O48: 43.137255 | P48: 18785.349 | Q48: 48.061224 | R48: 49815.077 | S48: 48.223938 | T48: 7897.0258 | U48: 41.860465 | V48: 1236.403 | W48: 45.588235 | X48: 58948.506 | Y48: 47.205366
A49: ９１日～１２０日 | B49: 5823.0594 | C49: 45.201238 | D49: 1794.7786 | E49: 54.878049 | F49: 159.53587 | G49: 44.444444 | H49: 7777.3739 | I49: 47.101449 | J49: 11765.771 | K49: 43.768546 | L49: 5264.6839 | M49: 51.764706 | N49: 917.33128 | O49: 45.098039 | P49: 17947.786 | Q49: 45.918367 | R49: 46943.431 | S49: 45.444015 | T49: 9612.0364 | U49: 50.951374 | V49: 1236.403 | W49: 45.588235 | X49: 57791.87 | Y49: 46.279144
A50: １２１日～１５０日 | B50: 638.1435 | C50: 4.9535604 | D50: 199.41984 | E50: 6.097561 | H50: 837.56334 | I50: 5.0724638 | J50: 1156.6351 | K50: 4.3026706 | L50: 478.60762 | M50: 4.7058824 | N50: 199.41984 | O50: 9.8039216 | P50: 1834.6626 | Q50: 4.6938776 | R50: 5623.6396 | S50: 5.4440154 | T50: 997.09921 | U50: 5.2854123 | V50: 199.41984 | W50: 7.3529412 | X50: 6820.1586 | Y50: 5.4615139
A51: １５１日～１８０日 | B51: 39.883969 | C51: 0.30959752 | H51: 39.883969 | I51: 0.24154589 | J51: 159.53587 | K51: 0.59347181 | L51: 199.41984 | M51: 1.9607843 | N51: 39.883969 | O51: 1.9607843 | P51: 398.83969 | Q51: 1.0204082 | R51: 757.7954 | S51: 0.73359073 | T51: 279.18778 | U51: 1.4799154 | V51: 39.883969 | W51: 1.4705882 | X51: 1076.8672 | Y51: 0.8623443
A52: １８０日超 | J52: 39.883969 | K52: 0.14836795 | L52: 79.767937 | M52: 0.78431373 | P52: 119.65191 | Q52: 0.30612245 | R52: 159.53587 | S52: 0.15444015 | T52: 79.767937 | U52: 0.42283298 | X52: 239.30381 | Y52: 0.19163207
A53: 合 計 | B53: 12882.522 | C53: 100 | D53: 3270.4854 | E53: 100 | F53: 358.95572 | G53: 100 | H53: 16511.963 | I53: 100 | J53: 26881.795 | K53: 100 | L53: 10170.412 | M53: 100 | N53: 2034.0824 | O53: 100 | P53: 39086.289 | Q53: 100 | R53: 103299.48 | S53: 100 | T53: 18865.117 | U53: 100 | V53: 2712.1099 | W53: 100 | X53: 124876.71 | Y53: 100
R54: （注） | S54: 1. ( )の数値は各合計を100とした場合の構成比
