Workbook
Name ______________________ＴＢＬ１: [1]CSS編集画面!$B$10:$F$22
Name ______________________ＴＢＬ２: [1]CSS編集画面!$B$24:$I$35
Name _____________________ＴＢＬ１: [1]CSS編集画面!$B$10:$F$22
Name _____________________ＴＢＬ２: [1]CSS編集画面!$B$24:$I$35
Name ____________________ＴＢＬ１: [1]CSS編集画面!$B$10:$F$22
Name ____________________ＴＢＬ２: [1]CSS編集画面!$B$24:$I$35
Name ___________________ＴＢＬ１: [1]CSS編集画面!$B$10:$F$22
Name ___________________ＴＢＬ２: [1]CSS編集画面!$B$24:$I$35
Name __________________ＴＢＬ１: [1]CSS編集画面!$B$10:$F$22
Name __________________ＴＢＬ２: [1]CSS編集画面!$B$24:$I$35
Name _________________ＴＢＬ１: [1]CSS編集画面!$B$10:$F$22
Name _________________ＴＢＬ２: [1]CSS編集画面!$B$24:$I$35
Name ________________ＴＢＬ１: [1]CSS編集画面!$B$10:$F$22
Name ________________ＴＢＬ２: [1]CSS編集画面!$B$24:$I$35
Name _______________ＴＢＬ１: [1]CSS編集画面!$B$10:$F$22
Name _______________ＴＢＬ２: [1]CSS編集画面!$B$24:$I$35
Name ______________ＴＢＬ１: [1]CSS編集画面!$B$10:$F$22
Name ______________ＴＢＬ２: [1]CSS編集画面!$B$24:$I$35
Name _____________ＴＢＬ１: [1]CSS編集画面!$B$10:$F$22
Name _____________ＴＢＬ２: [1]CSS編集画面!$B$24:$I$35
Name ____________ＴＢＬ１: [1]CSS編集画面!$B$10:$F$22
Name ____________ＴＢＬ２: [1]CSS編集画面!$B$24:$I$35
Name ___________ＴＢＬ１: [1]CSS編集画面!$B$10:$F$22
Name ___________ＴＢＬ２: [1]CSS編集画面!$B$24:$I$35
Name __________ＴＢＬ１: [1]CSS編集画面!$B$10:$F$22
Name __________ＴＢＬ２: [1]CSS編集画面!$B$24:$I$35
Name _________ＴＢＬ１: [1]CSS編集画面!$B$10:$F$22
Name _________ＴＢＬ２: [1]CSS編集画面!$B$24:$I$35
Name ________ＴＢＬ１: [1]CSS編集画面!$B$10:$F$22
Name ________ＴＢＬ２: [1]CSS編集画面!$B$24:$I$35
Name _______ＴＢＬ１: [1]CSS編集画面!$B$10:$F$22
Name _______ＴＢＬ２: [1]CSS編集画面!$B$24:$I$35
Name ______ＴＢＬ１: [1]CSS編集画面!$B$10:$F$22
Name ______ＴＢＬ２: [1]CSS編集画面!$B$24:$I$35
Name _____ＴＢＬ１: [1]CSS編集画面!$B$10:$F$22
Name _____ＴＢＬ２: [1]CSS編集画面!$B$24:$I$35
Name ____ＴＢＬ１: [1]CSS編集画面!$B$10:$F$22
Name ____ＴＢＬ２: [1]CSS編集画面!$B$24:$I$35
Name ___ＴＢＬ１: [1]CSS編集画面!$B$10:$F$22
Name ___ＴＢＬ２: [1]CSS編集画面!$B$24:$I$35
Name __ＴＢＬ１: [1]CSS編集画面!$B$10:$F$22
Name __ＴＢＬ２: [1]CSS編集画面!$B$24:$I$35
Name _ＴＢＬ１: [1]CSS編集画面!$B$10:$F$22
Name _ＴＢＬ２: [1]CSS編集画面!$B$24:$I$35
Name PAGE1: #REF!
Name PAGE10: #REF!
Name PAGE100: #REF!
Name PAGE1000: #REF!
Name PAGE1001: #REF!
Name PAGE1002: #REF!
Name PAGE1003: #REF!
Name PAGE1004: #REF!
Name PAGE1005: #REF!
Name PAGE1006: #REF!
Name PAGE1007: #REF!
Name PAGE1008: #REF!
Name PAGE1009: #REF!
Name PAGE101: #REF!
Name PAGE1010: #REF!
Name PAGE1011: #REF!

Sheet 3-2-1
A1: 表3－2－1 手形期間
W3: （単位：社、％）
C4: 資本金 | D4: 個 人 | F4: 法 人 | V4: 合 計
A5: 業種 | C5: 手形期間 | F5: 500万円未満 | H5: 500万円以上 1000万円未満 | J5: 1000万円以上 3000万円未満 | L5: 3000万円以上 5000万円未満 | N5: 5000万円以上 1億円未満 | P5: 1億円以上 3億円未満 | R5: 3億円以上 10億円未満 | T5: 10億円以上
A6: 一般土木建築 | B6: 一般土木 建築工事業 | C6: ９０日以下 | D6: 99 | E6: 100 | F6: 154 | G6: 100 | H6: 270.57143 | I6: 66.666667 | J6: 876.16 | K6: 61.538462 | L6: 321.05263 | M6: 42.105263 | N6: 272.21818 | O6: 50 | P6: 70.02381 | Q6: 48.571429 | R6: 4.3333333 | S6: 20 | T6: 18.2 | U6: 38.888889 | V6: 2085.5594 | W6: 57.897035
C7: ９１日～１２０日 | D7: 0 | E7: 0 | F7: 0 | G7: 0 | H7: 135.28571 | I7: 33.333333 | J7: 328.56 | K7: 23.076923 | L7: 401.31579 | M7: 52.631579 | N7: 200.58182 | O7: 36.842105 | P7: 65.904762 | Q7: 45.714286 | R7: 8.6666667 | S7: 40 | T7: 20.8 | U7: 44.444444 | V7: 1161.1148 | W7: 32.233607
C8: １２１日～１５０日 | D8: 0 | E8: 0 | F8: 0 | G8: 0 | H8: 0 | I8: 0 | J8: 219.04 | K8: 15.384615 | L8: 40.131579 | M8: 5.2631579 | N8: 57.309091 | O8: 10.526316 | P8: 8.2380952 | Q8: 5.7142857 | R8: 4.3333333 | S8: 20 | T8: 7.8 | U8: 16.666667 | V8: 336.8521 | W8: 9.3513222
C9: １５１日～１８０日 | D9: 0 | E9: 0 | F9: 0 | G9: 0 | H9: 0 | I9: 0 | J9: 0 | K9: 0 | L9: 0 | M9: 0 | N9: 14.327273 | O9: 2.6315789 | P9: 0 | Q9: 0 | R9: 4.3333333 | S9: 20 | T9: 0 | U9: 0 | V9: 18.660606 | W9: 0.51803548
C10: １８０日超 | D10: 0 | E10: 0 | F10: 0 | G10: 0 | H10: 0 | I10: 0 | J10: 0 | K10: 0 | L10: 0 | M10: 0 | N10: 0 | O10: 0 | P10: 0 | Q10: 0 | R10: 0 | S10: 0 | T10: 0 | U10: 0 | V10: 0 | W10: 0
C11: 小 計 | D11: 99 | E11: 100 | F11: 154 | G11: 100 | H11: 405.85714 | I11: 100 | J11: 1423.76 | K11: 100 | L11: 762.5 | M11: 100 | N11: 544.43636 | O11: 100 | P11: 144.16667 | Q11: 100 | R11: 21.666667 | S11: 100 | T11: 46.8 | U11: 100 | V11: 3602.1868 | W11: 100
A12: 土 木 | B12: 土木工事業 | C12: ９０日以下 | D12: 505.25 | E12: 100 | F12: 1163.8125 | G12: 60 | H12: 1434.4068 | I12: 70 | J12: 3114.2105 | K12: 55.555556 | L12: 1366.0976 | M12: 73.170732 | N12: 471.61017 | O12: 75.757576 | P12: 45.0625 | Q12: 66.666667 | R12: 7.2 | S12: 50 | T12: 15 | U12: 75 | V12: 8122.65 | W12: 64.002282
C13: ９１日～１２０日 | D13: 0 | E13: 0 | F13: 646.5625 | G13: 33.333333 | H13: 512.28814 | I13: 25 | J13: 2335.6579 | K13: 41.666667 | L13: 500.90244 | M13: 26.829268 | N13: 150.91525 | O13: 24.242424 | P13: 19.3125 | Q13: 28.571429 | R13: 7.2 | S13: 50 | T13: 2.5 | U13: 12.5 | V13: 4175.3387 | W13: 32.89951
C14: １２１日～１５０日 | D14: 0 | E14: 0 | F14: 0 | G14: 0 | H14: 102.45763 | I14: 5 | J14: 155.71053 | K14: 2.7777778 | L14: 0 | M14: 0 | N14: 0 | O14: 0 | P14: 3.21875 | Q14: 4.7619048 | R14: 0 | S14: 0 | T14: 2.5 | U14: 12.5 | V14: 263.8869 | W14: 2.0792923
C15: １５１日～１８０日 | D15: 0 | E15: 0 | F15: 129.3125 | G15: 6.6666667 | H15: 0 | I15: 0 | J15: 0 | K15: 0 | L15: 0 | M15: 0 | N15: 0 | O15: 0 | P15: 0 | Q15: 0 | R15: 0 | S15: 0 | T15: 0 | U15: 0 | V15: 129.3125 | W15: 1.0189156
C16: １８０日超 | D16: 0 | E16: 0 | F16: 0 | G16: 0 | H16: 0 | I16: 0 | J16: 0 | K16: 0 | L16: 0 | M16: 0 | N16: 0 | O16: 0 | P16: 0 | Q16: 0 | R16: 0 | S16: 0 | T16: 0 | U16: 0 | V16: 0 | W16: 0
C17: 小 計 | D17: 505.25 | E17: 100 | F17: 1939.6875 | G17: 100 | H17: 2049.1525 | I17: 100 | J17: 5605.5789 | K17: 100 | L17: 1867 | M17: 100 | N17: 622.52542 | O17: 100 | P17: 67.59375 | Q17: 100 | R17: 14.4 | S17: 100 | T17: 20 | U17: 100 | V17: 12691.188 | W17: 100
B18: ほ装工事業 | C18: ９０日以下 | D18: 0 | F18: 122.2069 | G18: 80 | H18: 118.83333 | I18: 57.142857 | J18: 630.61905 | K18: 65.517241 | L18: 149.13043 | M18: 64.516129 | N18: 52.387097 | O18: 51.851852 | P18: 6 | Q18: 60 | R18: 0 | T18: 0 | U18: 0 | V18: 1079.1768 | W18: 64.566264
C19: ９１日～１２０日 | D19: 0 | F19: 30.551724 | G19: 20 | H19: 59.416667 | I19: 28.571429 | J19: 265.52381 | K19: 27.586207 | L19: 82.021739 | M19: 35.483871 | N19: 48.645161 | O19: 48.148148 | P19: 4 | Q19: 40 | R19: 0 | T19: 6 | U19: 100 | V19: 496.1591 | W19: 29.684792
C20: １２１日～１５０日 | D20: 0 | F20: 0 | G20: 0 | H20: 29.708333 | I20: 14.285714 | J20: 66.380952 | K20: 6.8965517 | L20: 0 | M20: 0 | N20: 0 | O20: 0 | P20: 0 | Q20: 0 | R20: 0 | T20: 0 | U20: 0 | V20: 96.089286 | W20: 5.7489432
C21: １５１日～１８０日 | D21: 0 | F21: 0 | G21: 0 | H21: 0 | I21: 0 | J21: 0 | K21: 0 | L21: 0 | M21: 0 | N21: 0 | O21: 0 | P21: 0 | Q21: 0 | R21: 0 | T21: 0 | U21: 0 | V21: 0 | W21: 0
C22: １８０日超 | D22: 0 | F22: 0 | G22: 0 | H22: 0 | I22: 0 | J22: 0 | K22: 0 | L22: 0 | M22: 0 | N22: 0 | O22: 0 | P22: 0 | Q22: 0 | R22: 0 | T22: 0 | U22: 0 | V22: 0 | W22: 0
C23: 小 計 | D23: 0 | F23: 152.75862 | G23: 100 | H23: 207.95833 | I23: 100 | J23: 962.52381 | K23: 100 | L23: 231.15217 | M23: 100 | N23: 101.03226 | O23: 100 | P23: 10 | Q23: 100 | R23: 0 | T23: 6 | U23: 100 | V23: 1671.4252 | W23: 100
B24: しゅんせつ 工事業 | C24: ９０日以下 | D24: 0 | F24: 0 | H24: 0 | J24: 30.666667 | K24: 66.666667 | L24: 18 | M24: 66.666667 | N24: 8 | O24: 100 | P24: 0 | R24: 0 | T24: 0 | V24: 56.666667 | W24: 69.958848
C25: ９１日～１２０日 | D25: 0 | F25: 0 | H25: 0 | J25: 15.333333 | K25: 33.333333 | L25: 9 | M25: 33.333333 | N25: 0 | O25: 0 | P25: 0 | R25: 0 | T25: 0 | V25: 24.333333 | W25: 30.041152
C26: １２１日～１５０日 | D26: 0 | F26: 0 | H26: 0 | J26: 0 | K26: 0 | L26: 0 | M26: 0 | N26: 0 | O26: 0 | P26: 0 | R26: 0 | T26: 0 | V26: 0 | W26: 0
C27: １５１日～１８０日 | D27: 0 | F27: 0 | H27: 0 | J27: 0 | K27: 0 | L27: 0 | M27: 0 | N27: 0 | O27: 0 | P27: 0 | R27: 0 | T27: 0 | V27: 0 | W27: 0
C28: １８０日超 | D28: 0 | F28: 0 | H28: 0 | J28: 0 | K28: 0 | L28: 0 | M28: 0 | N28: 0 | O28: 0 | P28: 0 | R28: 0 | T28: 0 | V28: 0 | W28: 0
C29: 小 計 | D29: 0 | F29: 0 | H29: 0 | J29: 46 | K29: 100 | L29: 27 | M29: 100 | N29: 8 | O29: 100 | P29: 0 | R29: 0 | T29: 0 | V29: 81 | W29: 100
B30: 造園工事業 | C30: ９０日以下 | D30: 203 | E30: 100 | F30: 259.6 | G30: 100 | H30: 153.75 | I30: 100 | J30: 165.70213 | K30: 55 | L30: 46.914894 | M30: 50 | N30: 6 | O30: 33.333333 | P30: 0 | R30: 0 | T30: 0 | V30: 834.96702 | W30: 81.107567
C31: ９１日～１２０日 | D31: 0 | E31: 0 | F31: 0 | G31: 0 | H31: 0 | I31: 0 | J31: 120.51064 | K31: 40 | L31: 46.914894 | M31: 50 | N31: 12 | O31: 66.666667 | P31: 0 | R31: 0 | T31: 0 | V31: 179.42553 | W31: 17.429153
C32: １２１日～１５０日 | D32: 0 | E32: 0 | F32: 0 | G32: 0 | H32: 0 | I32: 0 | J32: 15.06383 | K32: 5 | L32: 0 | M32: 0 | N32: 0 | O32: 0 | P32: 0 | R32: 0 | T32: 0 | V32: 15.06383 | W32: 1.46328
C33: １５１日～１８０日 | D33: 0 | E33: 0 | F33: 0 | G33: 0 | H33: 0 | I33: 0 | J33: 0 | K33: 0 | L33: 0 | M33: 0 | N33: 0 | O33: 0 | P33: 0 | R33: 0 | T33: 0 | V33: 0 | W33: 0
C34: １８０日超 | D34: 0 | E34: 0 | F34: 0 | G34: 0 | H34: 0 | I34: 0 | J34: 0 | K34: 0 | L34: 0 | M34: 0 | N34: 0 | O34: 0 | P34: 0 | R34: 0 | T34: 0 | V34: 0 | W34: 0
C35: 小 計 | D35: 203 | E35: 100 | F35: 259.6 | G35: 100 | H35: 153.75 | I35: 100 | J35: 301.2766 | K35: 100 | L35: 93.829787 | M35: 100 | N35: 18 | O35: 100 | P35: 0 | R35: 0 | T35: 0 | V35: 1029.4564 | W35: 100
B36: 水道施設 工事業 | C36: ９０日以下 | D36: 0 | F36: 29.846154 | G36: 50 | H36: 142.66667 | I36: 60 | J36: 125.05405 | K36: 38.888889 | L36: 44.4375 | M36: 75 | N36: 16 | O36: 42.857143 | P36: 0 | R36: 0 | T36: 0 | V36: 358.00437 | W36: 50.027093
C37: ９１日～１２０日 | D37: 0 | F37: 0 | G37: 0 | H37: 95.111111 | I37: 40 | J37: 160.78378 | K37: 50 | L37: 14.8125 | M37: 25 | N37: 21.333333 | O37: 57.142857 | P37: 0 | R37: 0 | T37: 0 | V37: 292.04073 | W37: 40.809414
C38: １２１日～１５０日 | D38: 0 | F38: 29.846154 | G38: 50 | H38: 0 | I38: 0 | J38: 35.72973 | K38: 11.111111 | L38: 0 | M38: 0 | N38: 0 | O38: 0 | P38: 0 | R38: 0 | T38: 0 | V38: 65.575884 | W38: 9.1634936
C39: １５１日～１８０日 | D39: 0 | F39: 0 | G39: 0 | H39: 0 | I39: 0 | J39: 0 | K39: 0 | L39: 0 | M39: 0 | N39: 0 | O39: 0 | P39: 0 | R39: 0 | T39: 0 | V39: 0 | W39: 0
C40: １８０日超 | D40: 0 | F40: 0 | G40: 0 | H40: 0 | I40: 0 | J40: 0 | K40: 0 | L40: 0 | M40: 0 | N40: 0 | O40: 0 | P40: 0 | R40: 0 | T40: 0 | V40: 0 | W40: 0
C41: 小 計 | D41: 0 | F41: 59.692308 | G41: 100 | H41: 237.77778 | I41: 100 | J41: 321.56757 | K41: 100 | L41: 59.25 | M41: 100 | N41: 37.333333 | O41: 100 | P41: 0 | R41: 0 | T41: 0 | V41: 715.62099 | W41: 100
...

Sheet 3-2-2
A1: 表3－2－2 手形期間（経年変化）
V3: （単位：社、％）
B4: 資本金 | C4: 個 人 | E4: 法 人 | U4: 合 計
A5: 年度 | B5: 手形期間 | E5: 500万円未満 | G5: 500万円以上 1000万円未満 | I5: 1000万円以上 3000万円未満 | K5: 3000万円以上 5000万円未満 | M5: 5000万円以上 1億円未満 | O5: 1億円以上 3億円未満 | Q5: 3億円以上 10億円未満 | S5: 10億円以上
A6: R06年度 | B6: ９０日以下 | C6: =IF('3-2-1'!D222<>"",'3-2-1'!D222,"") -> 7447.0908 | D6: =IF('3-2-1'!E222<>"",'3-2-1'!E222,"") -> 80.55022 | E6: =IF('3-2-1'!F222<>"",'3-2-1'!F222,"") -> 21071.893 | F6: =IF('3-2-1'!G222<>"",'3-2-1'!G222,"") -> 57.673079 | G6: =IF('3-2-1'!H222<>"",'3-2-1'!H222,"") -> 12950.968 | H6: =IF('3-2-1'!I222<>"",'3-2-1'!I222,"") -> 56.240076 | I6: =IF('3-2-1'!J222<>"",'3-2-1'!J222,"") -> 24598.615 | J6: =IF('3-2-1'!K222<>"",'3-2-1'!K222,"") -> 48.167444 | ... V6: =IF('3-2-1'!W222<>"",'3-2-1'!W222,"") -> 54.757268
B7: ９１日～１２０日 | C7: =IF('3-2-1'!D223<>"",'3-2-1'!D223,"") -> 1114.78 | D7: =IF('3-2-1'!E223<>"",'3-2-1'!E223,"") -> 12.057832 | E7: =IF('3-2-1'!F223<>"",'3-2-1'!F223,"") -> 11942.269 | F7: =IF('3-2-1'!G223<>"",'3-2-1'!G223,"") -> 32.685598 | G7: =IF('3-2-1'!H223<>"",'3-2-1'!H223,"") -> 8694.7286 | H7: =IF('3-2-1'!I223<>"",'3-2-1'!I223,"") -> 37.757193 | I7: =IF('3-2-1'!J223<>"",'3-2-1'!J223,"") -> 23356.723 | J7: =IF('3-2-1'!K223<>"",'3-2-1'!K223,"") -> 45.735649 | ... V7: =IF('3-2-1'!W223<>"",'3-2-1'!W223,"") -> 38.108768
B8: １２１日～１５０日 | C8: =IF('3-2-1'!D224<>"",'3-2-1'!D224,"") -> 481.35849 | D8: =IF('3-2-1'!E224<>"",'3-2-1'!E224,"") -> 5.2065341 | E8: =IF('3-2-1'!F224<>"",'3-2-1'!F224,"") -> 2874.9517 | F8: =IF('3-2-1'!G224<>"",'3-2-1'!G224,"") -> 7.8686484 | G8: =IF('3-2-1'!H224<>"",'3-2-1'!H224,"") -> 1187.0266 | H8: =IF('3-2-1'!I224<>"",'3-2-1'!I224,"") -> 5.1547085 | I8: =IF('3-2-1'!J224<>"",'3-2-1'!J224,"") -> 2858.8359 | J8: =IF('3-2-1'!K224<>"",'3-2-1'!K224,"") -> 5.5979907 | ... V8: =IF('3-2-1'!W224<>"",'3-2-1'!W224,"") -> 6.0183977
B9: １５１日～１８０日 | C9: =IF('3-2-1'!D225<>"",'3-2-1'!D225,"") -> 0 | D9: =IF('3-2-1'!E225<>"",'3-2-1'!E225,"") -> 0 | E9: =IF('3-2-1'!F225<>"",'3-2-1'!F225,"") -> 647.67809 | F9: =IF('3-2-1'!G225<>"",'3-2-1'!G225,"") -> 1.7726737 | G9: =IF('3-2-1'!H225<>"",'3-2-1'!H225,"") -> 195.28272 | H9: =IF('3-2-1'!I225<>"",'3-2-1'!I225,"") -> 0.84802271 | I9: =IF('3-2-1'!J225<>"",'3-2-1'!J225,"") -> 239.88225 | J9: =IF('3-2-1'!K225<>"",'3-2-1'!K225,"") -> 0.46972217 | ... V9: =IF('3-2-1'!W225<>"",'3-2-1'!W225,"") -> 0.92247365
B10: １８０日超 | C10: =IF('3-2-1'!D226<>"",'3-2-1'!D226,"") -> 202.04762 | D10: =IF('3-2-1'!E226<>"",'3-2-1'!E226,"") -> 2.1854145 | E10: =IF('3-2-1'!F226<>"",'3-2-1'!F226,"") -> 0 | F10: =IF('3-2-1'!G226<>"",'3-2-1'!G226,"") -> 0 | G10: =IF('3-2-1'!H226<>"",'3-2-1'!H226,"") -> 0 | H10: =IF('3-2-1'!I226<>"",'3-2-1'!I226,"") -> 0 | I10: =IF('3-2-1'!J226<>"",'3-2-1'!J226,"") -> 14.909091 | J10: =IF('3-2-1'!K226<>"",'3-2-1'!K226,"") -> 0.029194034 | ... V10: =IF('3-2-1'!W226<>"",'3-2-1'!W226,"") -> 0.1930925
C11: =IF('3-2-1'!D227<>"",'3-2-1'!D227,"") -> 9245.2769 | D11: =IF('3-2-1'!E227<>"",'3-2-1'!E227,"") -> 100 | E11: =IF('3-2-1'!F227<>"",'3-2-1'!F227,"") -> 36536.792 | F11: =IF('3-2-1'!G227<>"",'3-2-1'!G227,"") -> 100 | G11: =IF('3-2-1'!H227<>"",'3-2-1'!H227,"") -> 23028.006 | H11: =IF('3-2-1'!I227<>"",'3-2-1'!I227,"") -> 100 | I11: =IF('3-2-1'!J227<>"",'3-2-1'!J227,"") -> 51068.965 | J11: =IF('3-2-1'!K227<>"",'3-2-1'!K227,"") -> 100 | ... V11: =IF('3-2-1'!W227<>"",'3-2-1'!W227,"") -> 100
A12: 増減 | B12: ９０日以下 | D12: =IF(AND(ISNUMBER(D6),ISNUMBER(D18)),D6-D18,"") -> 10.017774 | F12: =IF(AND(ISNUMBER(F6),ISNUMBER(F18)),F6-F18,"") -> 15.736725 | H12: =IF(AND(ISNUMBER(H6),ISNUMBER(H18)),H6-H18,"") -> 8.6947515 | J12: =IF(AND(ISNUMBER(J6),ISNUMBER(J18)),J6-J18,"") -> 13.645369 | L12: =IF(AND(ISNUMBER(L6),ISNUMBER(L18)),L6-L18,"") -> 20.788418 | N12: =IF(AND(ISNUMBER(N6),ISNUMBER(N18)),N6-N18,"") -> 16.450526 | P12: =IF(AND(ISNUMBER(P6),ISNUMBER(P18)),P6-P18,"") -> 22.871441 | R12: =IF(AND(ISNUMBER(R6),ISNUMBER(R18)),R6-R18,"") -> 0.93058744 | T12: =IF(AND(ISNUMBER(T6),ISNUMBER(T18)),T6-T18,"") -> 32.109098 | V12: =IF(AND(ISNUMBER(V6),ISNUMBER(V18)),V6-V18,"") -> 13.831636
B13: ９１日～１２０日 | D13: =IF(AND(ISNUMBER(D7),ISNUMBER(D19)),D7-D19,"") -> -6.9400402 | F13: =IF(AND(ISNUMBER(F7),ISNUMBER(F19)),F7-F19,"") -> -14.538457 | H13: =IF(AND(ISNUMBER(H7),ISNUMBER(H19)),H7-H19,"") -> -3.7028362 | J13: =IF(AND(ISNUMBER(J7),ISNUMBER(J19)),J7-J19,"") -> -10.245419 | L13: =IF(AND(ISNUMBER(L7),ISNUMBER(L19)),L7-L19,"") -> -19.695322 | N13: =IF(AND(ISNUMBER(N7),ISNUMBER(N19)),N7-N19,"") -> -15.828846 | P13: =IF(AND(ISNUMBER(P7),ISNUMBER(P19)),P7-P19,"") -> -15.57401 | R13: =IF(AND(ISNUMBER(R7),ISNUMBER(R19)),R7-R19,"") -> -4.1727989 | T13: =IF(AND(ISNUMBER(T7),ISNUMBER(T19)),T7-T19,"") -> -32.973856 | V13: =IF(AND(ISNUMBER(V7),ISNUMBER(V19)),V7-V19,"") -> -11.109809
B14: １２１日～１５０日 | D14: =IF(AND(ISNUMBER(D8),ISNUMBER(D20)),D8-D20,"") -> 0.11464699 | F14: =IF(AND(ISNUMBER(F8),ISNUMBER(F20)),F8-F20,"") -> -0.033190018 | H14: =IF(AND(ISNUMBER(H8),ISNUMBER(H20)),H8-H20,"") -> -1.2498272 | J14: =IF(AND(ISNUMBER(J8),ISNUMBER(J20)),J8-J20,"") -> -2.4618301 | L14: =IF(AND(ISNUMBER(L8),ISNUMBER(L20)),L8-L20,"") -> -0.72121511 | N14: =IF(AND(ISNUMBER(N8),ISNUMBER(N20)),N8-N20,"") -> -0.79070791 | P14: =IF(AND(ISNUMBER(P8),ISNUMBER(P20)),P8-P20,"") -> -4.11004 | R14: =IF(AND(ISNUMBER(R8),ISNUMBER(R20)),R8-R20,"") -> -0.29105087 | T14: =IF(AND(ISNUMBER(T8),ISNUMBER(T20)),T8-T20,"") -> 0.86475802 | V14: =IF(AND(ISNUMBER(V8),ISNUMBER(V20)),V8-V20,"") -> -1.1731732
B15: １５１日～１８０日 | D15: =IF(AND(ISNUMBER(D9),ISNUMBER(D21)),D9-D21,"") -> -5.3777954 | F15: =IF(AND(ISNUMBER(F9),ISNUMBER(F21)),F9-F21,"") -> -0.47615484 | H15: =IF(AND(ISNUMBER(H9),ISNUMBER(H21)),H9-H21,"") -> -3.5976577 | J15: =IF(AND(ISNUMBER(J9),ISNUMBER(J21)),J9-J21,"") -> -0.83474465 | L15: =IF(AND(ISNUMBER(L9),ISNUMBER(L21)),L9-L21,"") -> 0.066850327 | N15: =IF(AND(ISNUMBER(N9),ISNUMBER(N21)),N9-N21,"") -> -0.27661957 | P15: =IF(AND(ISNUMBER(P9),ISNUMBER(P21)),P9-P21,"") -> -0.40299979 | R15: =IF(AND(ISNUMBER(R9),ISNUMBER(R21)),R9-R21,"") -> 3.5332623 | T15: =IF(AND(ISNUMBER(T9),ISNUMBER(T21)),T9-T21,"") | V15: =IF(AND(ISNUMBER(V9),ISNUMBER(V21)),V9-V21,"") -> -1.4391116
B16: １８０日超 | D16: =IF(AND(ISNUMBER(D10),ISNUMBER(D22)),D10-D22,"") | F16: =IF(AND(ISNUMBER(F10),ISNUMBER(F22)),F10-F22,"") -> -0.68892278 | H16: =IF(AND(ISNUMBER(H10),ISNUMBER(H22)),H10-H22,"") -> -0.14443034 | J16: =IF(AND(ISNUMBER(J10),ISNUMBER(J22)),J10-J22,"") -> -0.10337528 | L16: =IF(AND(ISNUMBER(L10),ISNUMBER(L22)),L10-L22,"") -> -0.43873142 | N16: =IF(AND(ISNUMBER(N10),ISNUMBER(N22)),N10-N22,"") -> 0.44564824 | P16: =IF(AND(ISNUMBER(P10),ISNUMBER(P22)),P10-P22,"") -> -2.7843918 | R16: =IF(AND(ISNUMBER(R10),ISNUMBER(R22)),R10-R22,"") | T16: =IF(AND(ISNUMBER(T10),ISNUMBER(T22)),T10-T22,"") | V16: =IF(AND(ISNUMBER(V10),ISNUMBER(V22)),V10-V22,"") -> -0.10954197
C17: - | D17: - | E17: - | F17: - | G17: - | H17: - | I17: - | J17: - | K17: - | L17: - | M17: - | N17: - | O17: - | P17: - | Q17: - | R17: - | S17: - | T17: - | U17: - | V17: -
A18: R01年度 | B18: ９０日以下 | C18: 5174.829 | D18: 70.532445 | E18: 8797.7633 | F18: 41.936355 | G18: 8065.2061 | H18: 47.545325 | I18: 13231.685 | J18: 34.522075 | K18: 2390.1962 | L18: 31.029418 | M18: 1157.8331 | N18: 36.055025 | O18: 127.62971 | P18: 24.748263 | Q18: 35.985578 | R18: 29.850681 | S18: 27.239528 | T18: 17.277999 | U18: 39008.367 | V18: 40.925633
B19: ９１日～１２０日 | C19: 1393.8371 | D19: 18.997872 | E19: 9907.062 | F19: 47.224056 | G19: 7032.9456 | H19: 41.460029 | I19: 21456.527 | J19: 55.981068 | K19: 4831.758 | L19: 62.725661 | M19: 1802.7895 | N19: 56.139026 | O19: 312.43686 | P19: 60.583618 | Q19: 67.168501 | R19: 55.717474 | S19: 108.28262 | T19: 68.683533 | U19: 46912.808 | V19: 49.218577
B20: １２１日～１５０日 | C20: 373.5819 | D20: 5.0918871 | E20: 1657.7145 | F20: 7.9018384 | G20: 1086.4139 | H20: 6.4045357 | I20: 3089.183 | J20: 8.0598208 | K20: 364.37583 | L20: 4.7303104 | M20: 196.68878 | N20: 6.1249062 | O20: 50.605217 | P20: 9.8126936 | Q20: 13.968045 | R20: 11.586744 | S20: 22.132264 | T20: 14.038468 | U20: 6854.6634 | V20: 7.1915709
B21: １５１日～１８０日 | C21: 394.55844 | D21: 5.3777954 | E21: 471.77827 | F21: 2.2488285 | G21: 754.12943 | H21: 4.4456804 | I21: 499.97845 | J21: 1.3044668 | K21: 76.939802 | L21: 0.998829 | M21: 40.456525 | N21: 1.2598198 | O21: 9.68 | P21: 1.8770174 | Q21: 3.4298246 | R21: 2.8451009 | U21: 2250.9508 | V21: 2.3615852
B22: １８０日超 | E22: 144.52805 | F22: 0.68892278 | G22: 24.5 | H22: 0.14443034 | I22: 50.811412 | J22: 0.13256931 | K22: 39.730607 | L22: 0.51578092 | M22: 13.526715 | N22: 0.4212231 | O22: 15.36 | P22: 2.9784078 | U22: 288.45678 | V22: 0.30263446
C23: 7336.8065 | D23: 100 | E23: 20978.846 | F23: 100 | G23: 16963.195 | H23: 100 | I23: 38328.185 | J23: 100 | K23: 7703.0004 | L23: 100 | M23: 3211.2946 | N23: 100 | O23: 515.71179 | P23: 100 | Q23: 120.55195 | R23: 100 | S23: 157.65441 | T23: 100 | U23: 95315.246 | V23: 100
A24: 増減 | B24: ９０日以下 | D24: =IF(AND(ISNUMBER(D18),ISNUMBER(D30)),D18-D30,"") -> 32.843854 | F24: =IF(AND(ISNUMBER(F18),ISNUMBER(F30)),F18-F30,"") -> 17.766595 | H24: =IF(AND(ISNUMBER(H18),ISNUMBER(H30)),H18-H30,"") -> 18.844739 | J24: =IF(AND(ISNUMBER(J18),ISNUMBER(J30)),J18-J30,"") -> 17.922143 | L24: =IF(AND(ISNUMBER(L18),ISNUMBER(L30)),L18-L30,"") -> 14.772583 | N24: =IF(AND(ISNUMBER(N18),ISNUMBER(N30)),N18-N30,"") -> 19.334028 | P24: =IF(AND(ISNUMBER(P18),ISNUMBER(P30)),P18-P30,"") -> 15.637032 | R24: =IF(AND(ISNUMBER(R18),ISNUMBER(R30)),R18-R30,"") -> 21.103703 | T24: =IF(AND(ISNUMBER(T18),ISNUMBER(T30)),T18-T30,"") -> 7.3594274 | V24: =IF(AND(ISNUMBER(V18),ISNUMBER(V30)),V18-V30,"") -> 19.542099
B25: ９１日～１２０日 | D25: =IF(AND(ISNUMBER(D19),ISNUMBER(D31)),D19-D31,"") -> -31.752028 | F25: =IF(AND(ISNUMBER(F19),ISNUMBER(F31)),F19-F31,"") -> -14.037898 | H25: =IF(AND(ISNUMBER(H19),ISNUMBER(H31)),H19-H31,"") -> -16.51733 | J25: =IF(AND(ISNUMBER(J19),ISNUMBER(J31)),J19-J31,"") -> -13.110432 | L25: =IF(AND(ISNUMBER(L19),ISNUMBER(L31)),L19-L31,"") -> -5.7806748 | N25: =IF(AND(ISNUMBER(N19),ISNUMBER(N31)),N19-N31,"") -> -17.135376 | P25: =IF(AND(ISNUMBER(P19),ISNUMBER(P31)),P19-P31,"") -> -16.901924 | R25: =IF(AND(ISNUMBER(R19),ISNUMBER(R31)),R19-R31,"") -> -20.087575 | T25: =IF(AND(ISNUMBER(T19),ISNUMBER(T31)),T19-T31,"") -> -3.6549968 | V25: =IF(AND(ISNUMBER(V19),ISNUMBER(V31)),V19-V31,"") -> -15.423766
B26: １２１日～１５０日 | D26: =IF(AND(ISNUMBER(D20),ISNUMBER(D32)),D20-D32,"") -> -4.6769721 | F26: =IF(AND(ISNUMBER(F20),ISNUMBER(F32)),F20-F32,"") -> -5.1887197 | H26: =IF(AND(ISNUMBER(H20),ISNUMBER(H32)),H20-H32,"") -> -5.3901707 | J26: =IF(AND(ISNUMBER(J20),ISNUMBER(J32)),J20-J32,"") -> -5.1023165 | L26: =IF(AND(ISNUMBER(L20),ISNUMBER(L32)),L20-L32,"") -> -8.3076996 | N26: =IF(AND(ISNUMBER(N20),ISNUMBER(N32)),N20-N32,"") -> -3.2894036 | P26: =IF(AND(ISNUMBER(P20),ISNUMBER(P32)),P20-P32,"") -> -1.651931 | R26: =IF(AND(ISNUMBER(R20),ISNUMBER(R32)),R20-R32,"") -> 0.35644777 | T26: =IF(AND(ISNUMBER(T20),ISNUMBER(T32)),T20-T32,"") -> -3.1264252 | V26: =IF(AND(ISNUMBER(V20),ISNUMBER(V32)),V20-V32,"") -> -5.3913617
B27: １５１日～１８０日 | D27: =IF(AND(ISNUMBER(D21),ISNUMBER(D33)),D21-D33,"") -> 5.2665947 | F27: =IF(AND(ISNUMBER(F21),ISNUMBER(F33)),F21-F33,"") -> 0.94534539 | H27: =IF(AND(ISNUMBER(H21),ISNUMBER(H33)),H21-H33,"") -> 3.2207295 | J27: =IF(AND(ISNUMBER(J21),ISNUMBER(J33)),J21-J33,"") -> 0.26583511 | L27: =IF(AND(ISNUMBER(L21),ISNUMBER(L33)),L21-L33,"") -> -1.0395088 | N27: =IF(AND(ISNUMBER(N21),ISNUMBER(N33)),N21-N33,"") -> 0.72989437 | P27: =IF(AND(ISNUMBER(P21),ISNUMBER(P33)),P21-P33,"") -> -0.061584572 | R27: =IF(AND(ISNUMBER(R21),ISNUMBER(R33)),R21-R33,"") -> -1.3725751 | T27: =IF(AND(ISNUMBER(T21),ISNUMBER(T33)),T21-T33,"") | V27: =IF(AND(ISNUMBER(V21),ISNUMBER(V33)),V21-V33,"") -> 1.2404891
B28: １８０日超 | D28: =IF(AND(ISNUMBER(D22),ISNUMBER(D34)),D22-D34,"") | F28: =IF(AND(ISNUMBER(F22),ISNUMBER(F34)),F22-F34,"") -> 0.51467746 | H28: =IF(AND(ISNUMBER(H22),ISNUMBER(H34)),H22-H34,"") -> -0.15796852 | J28: =IF(AND(ISNUMBER(J22),ISNUMBER(J34)),J22-J34,"") -> 0.024770792 | L28: =IF(AND(ISNUMBER(L22),ISNUMBER(L34)),L22-L34,"") -> 0.35529962 | N28: =IF(AND(ISNUMBER(N22),ISNUMBER(N34)),N22-N34,"") -> 0.36085704 | P28: =IF(AND(ISNUMBER(P22),ISNUMBER(P34)),P22-P34,"") | R28: =IF(AND(ISNUMBER(R22),ISNUMBER(R34)),R22-R34,"") | T28: =IF(AND(ISNUMBER(T22),ISNUMBER(T34)),T22-T34,"") | V28: =IF(AND(ISNUMBER(V22),ISNUMBER(V34)),V22-V34,"") -> 0.032538956
C29: - | D29: - | E29: - | F29: - | G29: - | H29: - | I29: - | J29: - | K29: - | L29: - | M29: - | N29: - | O29: - | P29: - | Q29: - | R29: - | S29: - | T29: - | U29: - | V29: -
A30: H26年度 | B30: ９０日以下 | C30: 2583.682 | D30: 37.688592 | E30: 4853.58 | F30: 24.16976 | G30: 3419.6695 | H30: 28.700585 | I30: 6834.2366 | J30: 16.599932 | K30: 1155.8646 | L30: 16.256835 | M30: 459.55717 | N30: 16.720997 | O30: 39.944522 | P30: 9.1112309 | Q30: 9.8509579 | R30: 8.7469786 | S30: 16.429787 | T30: 9.9185716 | U30: 19372.815 | V30: 21.383533
B31: ９１日～１２０日 | C31: 3479.0794 | D31: 50.7499 | E31: 12302.141 | F31: 61.261954 | G31: 6907.9918 | H31: 57.977359 | I31: 28445.156 | J31: 69.0915 | K31: 4870.8158 | L31: 68.506336 | M31: 2013.8618 | N31: 73.274402 | O31: 339.70415 | P31: 77.485543 | Q31: 85.372605 | R31: 75.80505 | S31: 119.82639 | T31: 72.33853 | U31: 58563.949 | V31: 64.642343
B32: １２１日～１５０日 | C32: 669.68874 | D32: 9.7688591 | E32: 2628.7423 | F32: 13.090558 | G32: 1405.3371 | H32: 11.794706 | I32: 5418.8873 | J32: 13.162137 | K32: 927.00542 | L32: 13.03801 | M32: 258.74136 | N32: 9.4143099 | O32: 50.262029 | P32: 11.464625 | Q32: 12.647701 | R32: 11.230296 | S32: 28.43308 | T32: 17.164893 | U32: 11399.745 | V32: 12.582933
B33: １５１日～１８０日 | C33: 7.6231884 | D33: 0.1112007 | E33: 261.75517 | F33: 1.3034831 | G33: 145.95268 | H33: 1.2249509 | I33: 427.60746 | J33: 1.0386317 | K33: 144.92627 | L33: 2.0383378 | M33: 14.564384 | N33: 0.52992541 | O33: 8.4990196 | P33: 1.938602 | Q33: 4.75 | R33: 4.217676 | U33: 1015.6782 | V33: 1.1210961
B34: １８０日超 | C34: 115.26905 | D34: 1.6814484 | E34: 34.990566 | F34: 0.17424532 | G34: 36.030769 | H34: 0.30239886 | I34: 44.380941 | J34: 0.10779852 | K34: 11.410256 | L34: 0.1604813 | M34: 1.6590909 | N34: 0.060366057 | S34: 0.95744681 | T34: 0.57800534 | U34: 244.69812 | V34: 0.27009551
C35: 6855.3424 | D35: 100 | E35: 20081.209 | F35: 100 | G35: 11914.982 | H35: 100 | I35: 41170.269 | J35: 100 | K35: 7110.0224 | L35: 100 | M35: 2748.3838 | N35: 100 | O35: 438.40973 | P35: 100 | Q35: 112.62126 | R35: 100 | S35: 165.64671 | T35: 100 | U35: 90596.886 | V35: 100
A36: 増減 | B36: ９０日以下 | D36: =IF(AND(ISNUMBER(D30),ISNUMBER(D42)),D30-D42,"") -> 13.088592 | F36: =IF(AND(ISNUMBER(F30),ISNUMBER(F42)),F30-F42,"") -> 5.2697596 | H36: =IF(AND(ISNUMBER(H30),ISNUMBER(H42)),H30-H42,"") -> 12.500585 | J36: =IF(AND(ISNUMBER(J30),ISNUMBER(J42)),J30-J42,"") -> 3.899932 | L36: =IF(AND(ISNUMBER(L30),ISNUMBER(L42)),L30-L42,"") -> 1.5568349 | N36: =IF(AND(ISNUMBER(N30),ISNUMBER(N42)),N30-N42,"") -> 5.9209972 | P36: =IF(AND(ISNUMBER(P30),ISNUMBER(P42)),P30-P42,"") -> -0.68876914 | R36: =IF(AND(ISNUMBER(R30),ISNUMBER(R42)),R30-R42,"") -> 2.1469786 | T36: =IF(AND(ISNUMBER(T30),ISNUMBER(T42)),T30-T42,"") -> 6.8185716 | V36: =IF(AND(ISNUMBER(V30),ISNUMBER(V42)),V30-V42,"") -> 5.7835332
B37: ９１日～１２０日 | D37: =IF(AND(ISNUMBER(D31),ISNUMBER(D43)),D31-D43,"") -> -12.6501 | F37: =IF(AND(ISNUMBER(F31),ISNUMBER(F43)),F31-F43,"") -> 4.4619539 | H37: =IF(AND(ISNUMBER(H31),ISNUMBER(H43)),H31-H43,"") -> -2.8226412 | J37: =IF(AND(ISNUMBER(J31),ISNUMBER(J43)),J31-J43,"") -> 0.49150046 | L37: =IF(AND(ISNUMBER(L31),ISNUMBER(L43)),L31-L43,"") -> 0.80633612 | N37: =IF(AND(ISNUMBER(N31),ISNUMBER(N43)),N31-N43,"") -> 0.5744015 | P37: =IF(AND(ISNUMBER(P31),ISNUMBER(P43)),P31-P43,"") -> 1.4855426 | R37: =IF(AND(ISNUMBER(R31),ISNUMBER(R43)),R31-R43,"") -> -6.0949504 | T37: =IF(AND(ISNUMBER(T31),ISNUMBER(T43)),T31-T43,"") -> 4.2385301 | V37: =IF(AND(ISNUMBER(V31),ISNUMBER(V43)),V31-V43,"") -> 0.042342608
B38: １２１日～１５０日 | D38: =IF(AND(ISNUMBER(D32),ISNUMBER(D44)),D32-D44,"") -> 1.8688591 | F38: =IF(AND(ISNUMBER(F32),ISNUMBER(F44)),F32-F44,"") -> -8.0094419 | H38: =IF(AND(ISNUMBER(H32),ISNUMBER(H44)),H32-H44,"") -> -6.1052937 | J38: =IF(AND(ISNUMBER(J32),ISNUMBER(J44)),J32-J44,"") -> -3.6378627 | L38: =IF(AND(ISNUMBER(L32),ISNUMBER(L44)),L32-L44,"") -> -2.8619901 | N38: =IF(AND(ISNUMBER(N32),ISNUMBER(N44)),N32-N44,"") -> -5.4856901 | P38: =IF(AND(ISNUMBER(P32),ISNUMBER(P44)),P32-P44,"") -> -1.0353754 | R38: =IF(AND(ISNUMBER(R32),ISNUMBER(R44)),R32-R44,"") -> 2.0302958 | T38: =IF(AND(ISNUMBER(T32),ISNUMBER(T44)),T32-T44,"") -> -10.735107 | V38: =IF(AND(ISNUMBER(V32),ISNUMBER(V44)),V32-V44,"") -> -4.4170674
B39: １５１日～１８０日 | D39: =IF(AND(ISNUMBER(D33),ISNUMBER(D45)),D33-D45,"") -> -3.1887993 | F39: =IF(AND(ISNUMBER(F33),ISNUMBER(F45)),F33-F45,"") -> -1.2965169 | H39: =IF(AND(ISNUMBER(H33),ISNUMBER(H45)),H33-H45,"") -> -3.5750491 | J39: =IF(AND(ISNUMBER(J33),ISNUMBER(J45)),J33-J45,"") -> -0.4613683 | L39: =IF(AND(ISNUMBER(L33),ISNUMBER(L45)),L33-L45,"") -> 0.93833776 | N39: =IF(AND(ISNUMBER(N33),ISNUMBER(N45)),N33-N45,"") -> -1.0700746 | P39: =IF(AND(ISNUMBER(P33),ISNUMBER(P45)),P33-P45,"") -> 0.33860197 | R39: =IF(AND(ISNUMBER(R33),ISNUMBER(R45)),R33-R45,"") -> 1.917676 | T39: =IF(AND(ISNUMBER(T33),ISNUMBER(T45)),T33-T45,"") | V39: =IF(AND(ISNUMBER(V33),ISNUMBER(V45)),V33-V45,"") -> -1.1789039
B40: １８０日超 | D40: =IF(AND(ISNUMBER(D34),ISNUMBER(D46)),D34-D46,"") -> 0.78144844 | F40: =IF(AND(ISNUMBER(F34),ISNUMBER(F46)),F34-F46,"") -> -0.42575468 | H40: =IF(AND(ISNUMBER(H34),ISNUMBER(H46)),H34-H46,"") -> 0.0023988567 | J40: =IF(AND(ISNUMBER(J34),ISNUMBER(J46)),J34-J46,"") -> -0.29220148 | L40: =IF(AND(ISNUMBER(L34),ISNUMBER(L46)),L34-L46,"") -> -0.4395187 | N40: =IF(AND(ISNUMBER(N34),ISNUMBER(N46)),N34-N46,"") | P40: =IF(AND(ISNUMBER(P34),ISNUMBER(P46)),P34-P46,"") | R40: =IF(AND(ISNUMBER(R34),ISNUMBER(R46)),R34-R46,"") | T40: =IF(AND(ISNUMBER(T34),ISNUMBER(T46)),T34-T46,"") | V40: =IF(AND(ISNUMBER(V34),ISNUMBER(V46)),V34-V46,"") -> -0.22990449
C41: - | D41: - | E41: - | F41: - | G41: - | H41: - | I41: - | J41: - | K41: - | L41: - | M41: - | N41: - | O41: - | P41: - | Q41: - | R41: - | S41: - | T41: - | U41: - | V41: -
...

Sheet 3-2-3
A1: 表3－2－3 手形期間（下請比率、次数別集計）
A3: （概要） | M3: （単位：社、％）
A4: 下請比率、次数 | B4: ０％超 50％未満 | D4: ５０％以上１００％以下 | L4: 合 計
A5: 手形期間 | F5: 一次下請 | H5: 二次下請 | J5: 三次以下下請
A6: ９０日以下 | B6: 17668.598 | C6: 48.152174 | D6: 41279.907 | E6: 46.811398 | F6: 33143.578 | G6: 48.511384 | H6: 6939.8105 | I6: 40.184758 | J6: 1196.5191 | K6: 46.153846 | L6: 58948.506 | M6: 47.205366
A7: ９１日～１２０日 | B7: 16432.195 | C7: 44.782609 | D7: 41359.675 | E7: 46.901854 | F7: 31149.379 | G7: 45.592528 | H7: 9053.6609 | I7: 52.424942 | J7: 1156.6351 | K7: 44.615385 | L7: 57791.87 | M7: 46.279144
A8: １２１日～１５０日 | B8: 2113.8503 | C8: 5.7608696 | D8: 4706.3083 | E8: 5.3369516 | F8: 3549.6732 | G8: 5.1955633 | H8: 957.21525 | I8: 5.5427252 | J8: 199.41984 | K8: 7.6923077 | L8: 6820.1586 | M8: 5.4615139
A9: １５１日～１８０日 | B9: 358.95572 | C9: 0.97826087 | D9: 717.91143 | E9: 0.81411126 | F9: 438.72365 | G9: 0.64214828 | H9: 239.30381 | I9: 1.3856813 | J9: 39.883969 | K9: 1.5384615 | L9: 1076.8672 | M9: 0.8623443
A10: １８０日超 | B10: 119.65191 | C10: 0.32608696 | D10: 119.65191 | E10: 0.13568521 | F10: 39.883969 | G10: 0.058377116 | H10: 79.767937 | I10: 0.46189376 | L10: 239.30381 | M10: 0.19163207
A11: 合 計 | B11: 36693.251 | C11: 100 | D11: 88183.455 | E11: 100 | F11: 68321.238 | G11: 100 | H11: 17269.758 | I11: 100 | J11: 2592.458 | K11: 100 | L11: 124876.71 | M11: 100
F12: （注） | G12: 1. ( )の数値は各合計を100とした場合の構成比
A15: （下請比率別詳細）
A16: 下請比率、次数 | B16: ０％超１０％未満 | J16: １０％以上２０％未満 | R16: ２０％以上３０％未満
A17: 手形期間 | B17: 一次下請 | D17: 二次下請 | F17: 三次以下下請 | H17: 小 計 | J17: 一次下請 | L17: 二次下請 | N17: 三次以下下請 | P17: 小 計 | R17: 一次下請 | T17: 二次下請 | V17: 三次以下下請 | X17: 小 計
A18: ９０日以下 | B18: 5145.0319 | C18: 52.439024 | D18: 199.41984 | E18: 71.428571 | F18: 39.883969 | G18: 100 | H18: 5384.3358 | I18: 53.149606 | J18: 2951.4137 | K18: 48.051948 | L18: 199.41984 | M18: 83.333333 | P18: 3150.8335 | Q18: 49.375 | R18: 3230.6015 | S18: 50.310559 | T18: 159.53587 | U18: 66.666667 | X18: 3390.1373 | Y18: 50.898204
A19: ９１日～１２０日 | B19: 3868.745 | C19: 39.430894 | D19: 39.883969 | E19: 14.285714 | H19: 3908.6289 | I19: 38.582677 | J19: 2552.574 | K19: 41.558442 | L19: 39.883969 | M19: 16.666667 | P19: 2592.458 | Q19: 40.625 | R19: 2871.6457 | S19: 44.720497 | T19: 79.767937 | U19: 33.333333 | X19: 2951.4137 | Y19: 44.311377
A20: １２１日～１５０日 | B20: 598.25953 | C20: 6.097561 | D20: 39.883969 | E20: 14.285714 | H20: 638.1435 | I20: 6.2992126 | J20: 558.37556 | K20: 9.0909091 | P20: 558.37556 | Q20: 8.75 | R20: 239.30381 | S20: 3.7267081 | X20: 239.30381 | Y20: 3.5928144
A21: １５１日～１８０日 | B21: 199.41984 | C21: 2.0325203 | H21: 199.41984 | I21: 1.9685039 | R21: 39.883969 | S21: 0.62111801 | X21: 39.883969 | Y21: 0.5988024
A22: １８０日超 | B22: 0 | C22: 0 | J22: 79.767937 | K22: 1.2987013 | P22: 79.767937 | Q22: 1.25 | R22: 39.883969 | S22: 0.62111801 | X22: 39.883969 | Y22: 0.5988024
A23: 合 計 | B23: 9811.4563 | C23: 100 | D23: 279.18778 | E23: 100 | F23: 39.883969 | G23: 100 | H23: 10130.528 | I23: 100 | J23: 6142.1312 | K23: 100 | L23: 239.30381 | M23: 100 | P23: 6381.435 | Q23: 100 | R23: 6421.3189 | S23: 100 | T23: 239.30381 | U23: 100 | X23: 6660.6228 | Y23: 100
A26: 下請比率、次数 | B26: ３０％以上４０％未満 | J26: ４０％以上５０％未満 | R26: ５０％以上６０％未満
A27: 手形期間 | B27: 一次下請 | D27: 二次下請 | F27: 三次以下下請 | H27: 小 計 | J27: 一次下請 | L27: 二次下請 | N27: 三次以下下請 | P27: 小 計 | R27: 一次下請 | T27: 二次下請 | V27: 三次以下下請 | X27: 小 計
A28: ９０日以下 | B28: 2751.9938 | C28: 45.695364 | D28: 279.18778 | E28: 58.333333 | H28: 3031.1816 | I28: 46.060606 | J28: 2592.458 | K28: 39.393939 | L28: 119.65191 | M28: 33.333333 | P28: 2712.1099 | Q28: 39.08046 | R28: 2712.1099 | S28: 44.155844 | T28: 199.41984 | U28: 50 | X28: 2911.5297 | Y28: 44.512195
A29: ９１日～１２０日 | B29: 2831.7618 | C29: 47.019868 | D29: 159.53587 | E29: 33.333333 | F29: 79.767937 | G29: 100 | H29: 3071.0656 | I29: 46.666667 | J29: 3669.3251 | K29: 55.757576 | L29: 239.30381 | M29: 66.666667 | P29: 3908.6289 | Q29: 56.321839 | R29: 3031.1816 | S29: 49.350649 | T29: 159.53587 | U29: 40 | X29: 3190.7175 | Y29: 48.780488
A30: １２１日～１５０日 | B30: 358.95572 | C30: 5.9602649 | H30: 358.95572 | I30: 5.4545455 | J30: 319.07175 | K30: 4.8484848 | P30: 319.07175 | Q30: 4.5977011 | R30: 319.07175 | S30: 5.1948052 | T30: 39.883969 | U30: 10 | X30: 358.95572 | Y30: 5.4878049
A31: １５１日～１８０日 | B31: 79.767937 | C31: 1.3245033 | D31: 39.883969 | E31: 8.3333333 | H31: 119.65191 | I31: 1.8181818 | R31: 79.767937 | S31: 1.2987013 | X31: 79.767937 | Y31: 1.2195122
A32: １８０日超
A33: 合 計 | B33: 6022.4793 | C33: 100 | D33: 478.60762 | E33: 100 | F33: 79.767937 | G33: 100 | H33: 6580.8548 | I33: 100 | J33: 6580.8548 | K33: 100 | L33: 358.95572 | M33: 100 | P33: 6939.8105 | Q33: 100 | R33: 6142.1312 | S33: 100 | T33: 398.83969 | U33: 100 | X33: 6540.9708 | Y33: 100
A36: 下請比率、次数 | B36: ６０％以上７０％未満 | J36: ７０％以上８０％未満 | R36: ８０％以上９０％未満
A37: 手形期間 | B37: 一次下請 | D37: 二次下請 | F37: 三次以下下請 | H37: 小 計 | J37: 一次下請 | L37: 二次下請 | N37: 三次以下下請 | P37: 小 計 | R37: 一次下請 | T37: 二次下請 | V37: 三次以下下請 | X37: 小 計
A38: ９０日以下 | B38: 3469.9053 | C38: 48.876404 | D38: 199.41984 | E38: 31.25 | F38: 39.883969 | G38: 50 | H38: 3709.2091 | I38: 47.44898 | J38: 3150.8335 | K38: 47.878788 | L38: 398.83969 | M38: 35.714286 | N38: 39.883969 | O38: 100 | P38: 3589.5572 | Q38: 46.391753 | R38: 3669.3251 | S38: 42.009132 | T38: 717.91143 | U38: 42.857143 | V38: 39.883969 | W38: 50 | X38: 4427.1205 | Y38: 42.205323
A39: ９１日～１２０日 | B39: 3270.4854 | C39: 46.067416 | D39: 358.95572 | E39: 56.25 | F39: 39.883969 | G39: 50 | H39: 3669.3251 | I39: 46.938776 | J39: 2951.4137 | K39: 44.848485 | L39: 598.25953 | M39: 53.571429 | P39: 3549.6732 | Q39: 45.876289 | R39: 4307.4686 | S39: 49.315068 | T39: 877.44731 | U39: 52.380952 | V39: 39.883969 | W39: 50 | X39: 5224.7999 | Y39: 49.809886
A40: １２１日～１５０日 | B40: 319.07175 | C40: 4.494382 | D40: 79.767937 | E40: 12.5 | H40: 398.83969 | I40: 5.1020408 | J40: 398.83969 | K40: 6.0606061 | L40: 119.65191 | M40: 10.714286 | P40: 518.49159 | Q40: 6.7010309 | R40: 717.91143 | S40: 8.2191781 | T40: 39.883969 | U40: 2.3809524 | X40: 757.7954 | Y40: 7.2243346
A41: １５１日～１８０日 | B41: 39.883969 | C41: 0.56179775 | H41: 39.883969 | I41: 0.51020408 | J41: 79.767937 | K41: 1.2121212 | P41: 79.767937 | Q41: 1.0309278 | R41: 39.883969 | S41: 0.456621 | T41: 39.883969 | U41: 2.3809524 | X41: 79.767937 | Y41: 0.76045627
A42: １８０日超
A43: 合 計 | B43: 7099.3464 | C43: 100 | D43: 638.1435 | E43: 100 | F43: 79.767937 | G43: 100 | H43: 7817.2578 | I43: 100 | J43: 6580.8548 | K43: 100 | L43: 1116.7511 | M43: 100 | N43: 39.883969 | O43: 100 | P43: 7737.4899 | Q43: 100 | R43: 8734.5891 | S43: 100 | T43: 1675.1267 | U43: 100 | V43: 79.767937 | W43: 100 | X43: 10489.484 | Y43: 100
A46: 下請比率、次数 | B46: ９０％以上１００％未満 | J46: １００％ | R46: 合 計
A47: 手形期間 | B47: 一次下請 | D47: 二次下請 | F47: 三次以下下請 | H47: 小 計 | J47: 一次下請 | L47: 二次下請 | N47: 三次以下下請 | P47: 小 計 | R47: 一次下請 | T47: 二次下請 | V47: 三次以下下請
A48: ９０日以下 | B48: 6381.435 | C48: 49.535604 | D48: 1276.287 | E48: 39.02439 | F48: 199.41984 | G48: 55.555556 | H48: 7857.1418 | I48: 47.584541 | J48: 13759.969 | K48: 51.186944 | L48: 4147.9327 | M48: 40.784314 | N48: 877.44731 | O48: 43.137255 | P48: 18785.349 | Q48: 48.061224 | R48: 49815.077 | S48: 48.223938 | T48: 7897.0258 | U48: 41.860465 | V48: 1236.403 | W48: 45.588235 | X48: 58948.506 | Y48: 47.205366
A49: ９１日～１２０日 | B49: 5823.0594 | C49: 45.201238 | D49: 1794.7786 | E49: 54.878049 | F49: 159.53587 | G49: 44.444444 | H49: 7777.3739 | I49: 47.101449 | J49: 11765.771 | K49: 43.768546 | L49: 5264.6839 | M49: 51.764706 | N49: 917.33128 | O49: 45.098039 | P49: 17947.786 | Q49: 45.918367 | R49: 46943.431 | S49: 45.444015 | T49: 9612.0364 | U49: 50.951374 | V49: 1236.403 | W49: 45.588235 | X49: 57791.87 | Y49: 46.279144
...
