Workbook
Name ______________________ＴＢＬ１: [1]CSS編集画面!$B$10:$F$22
Name ______________________ＴＢＬ２: [1]CSS編集画面!$B$24:$I$35
Name _____________________ＴＢＬ１: [1]CSS編集画面!$B$10:$F$22
Name _____________________ＴＢＬ２: [1]CSS編集画面!$B$24:$I$35
Name ____________________ＴＢＬ１: [1]CSS編集画面!$B$10:$F$22
Name ____________________ＴＢＬ２: [1]CSS編集画面!$B$24:$I$35
Name ___________________ＴＢＬ１: [1]CSS編集画面!$B$10:$F$22
Name ___________________ＴＢＬ２: [1]CSS編集画面!$B$24:$I$35
Name __________________ＴＢＬ１: [1]CSS編集画面!$B$10:$F$22
Name __________________ＴＢＬ２: [1]CSS編集画面!$B$24:$I$35
Name _________________ＴＢＬ１: [1]CSS編集画面!$B$10:$F$22
Name _________________ＴＢＬ２: [1]CSS編集画面!$B$24:$I$35
Name ________________ＴＢＬ１: [1]CSS編集画面!$B$10:$F$22
Name ________________ＴＢＬ２: [1]CSS編集画面!$B$24:$I$35
Name _______________ＴＢＬ１: [1]CSS編集画面!$B$10:$F$22
Name _______________ＴＢＬ２: [1]CSS編集画面!$B$24:$I$35
Name ______________ＴＢＬ１: [1]CSS編集画面!$B$10:$F$22
Name ______________ＴＢＬ２: [1]CSS編集画面!$B$24:$I$35
Name _____________ＴＢＬ１: [1]CSS編集画面!$B$10:$F$22
Name _____________ＴＢＬ２: [1]CSS編集画面!$B$24:$I$35
Name ____________ＴＢＬ１: [1]CSS編集画面!$B$10:$F$22
Name ____________ＴＢＬ２: [1]CSS編集画面!$B$24:$I$35
Name ___________ＴＢＬ１: [1]CSS編集画面!$B$10:$F$22
Name ___________ＴＢＬ２: [1]CSS編集画面!$B$24:$I$35
Name __________ＴＢＬ１: [1]CSS編集画面!$B$10:$F$22
Name __________ＴＢＬ２: [1]CSS編集画面!$B$24:$I$35
Name _________ＴＢＬ１: [1]CSS編集画面!$B$10:$F$22
Name _________ＴＢＬ２: [1]CSS編集画面!$B$24:$I$35
Name ________ＴＢＬ１: [1]CSS編集画面!$B$10:$F$22
Name ________ＴＢＬ２: [1]CSS編集画面!$B$24:$I$35
Name _______ＴＢＬ１: [1]CSS編集画面!$B$10:$F$22
Name _______ＴＢＬ２: [1]CSS編集画面!$B$24:$I$35
Name ______ＴＢＬ１: [1]CSS編集画面!$B$10:$F$22
Name ______ＴＢＬ２: [1]CSS編集画面!$B$24:$I$35
Name _____ＴＢＬ１: [1]CSS編集画面!$B$10:$F$22
Name _____ＴＢＬ２: [1]CSS編集画面!$B$24:$I$35
Name ____ＴＢＬ１: [1]CSS編集画面!$B$10:$F$22
Name ____ＴＢＬ２: [1]CSS編集画面!$B$24:$I$35
Name ___ＴＢＬ１: [1]CSS編集画面!$B$10:$F$22
Name ___ＴＢＬ２: [1]CSS編集画面!$B$24:$I$35
Name __ＴＢＬ１: [1]CSS編集画面!$B$10:$F$22
Name __ＴＢＬ２: [1]CSS編集画面!$B$24:$I$35
Name _ＴＢＬ１: [1]CSS編集画面!$B$10:$F$22
Name _ＴＢＬ２: [1]CSS編集画面!$B$24:$I$35
Name PAGE1: #REF!
Name PAGE10: #REF!
Name PAGE100: #REF!
Name PAGE1000: #REF!
Name PAGE1001: #REF!
Name PAGE1002: #REF!
Name PAGE1003: #REF!
Name PAGE1004: #REF!
Name PAGE1005: #REF!
Name PAGE1006: #REF!
Name PAGE1007: #REF!
Name PAGE1008: #REF!
Name PAGE1009: #REF!
Name PAGE101: #REF!
Name PAGE1010: #REF!
Name PAGE1011: #REF!

Sheet 3-4-1
A1: 表3－4－1 材工共請負の下請工事件数の比率（下請完工高のある企業のみ対象）
W3: （単位：社、％）
C4: 資本金 | D4: 個 人 | F4: 法 人 | V4: 合 計
A5: 業種 | C5: 材工共請負比率 | F5: 500万円未満 | H5: 500万円以上 1000万円未満 | J5: 1000万円以上 3000万円未満 | L5: 3000万円以上 5000万円未満 | N5: 5000万円以上 1億円未満 | P5: 1億円以上 3億円未満 | R5: 3億円以上 10億円未満 | T5: 10億円以上
A6: 一般土木建築 | B6: 一般土木 建築工事業 | C6: ０％ | H6: 135.28571 | I6: 14.285714 | J6: 109.52 | K6: 4.6511628 | L6: 80.263158 | M6: 7.1428571 | N6: 28.654545 | O6: 5 | P6: 12.357143 | Q6: 9.0909091 | R6: 4.3333333 | S6: 16.666667 | V6: 370.41389 | W6: 6.4245688
C7: ０％超 ２５％未満 | F7: 154 | G7: 33.333333 | H7: 405.85714 | I7: 42.857143 | J7: 328.56 | K7: 13.953488 | L7: 160.52632 | M7: 14.285714 | N7: 114.61818 | O7: 20 | P7: 20.595238 | Q7: 15.151515 | R7: 4.3333333 | S7: 16.666667 | T7: 2.6 | U7: 5.8823529 | V7: 1191.0902 | W7: 20.658623
C8: ２５％以上５０％未満 | H8: 135.28571 | I8: 14.285714 | J8: 273.8 | K8: 11.627907 | L8: 40.131579 | M8: 3.5714286 | N8: 71.636364 | O8: 12.5 | P8: 4.1190476 | Q8: 3.030303 | T8: 2.6 | U8: 5.8823529 | V8: 527.5727 | W8: 9.150378
C9: ５０％以上７５％未満 | J9: 273.8 | K9: 11.627907 | L9: 80.263158 | M9: 7.1428571 | N9: 71.636364 | O9: 12.5 | P9: 8.2380952 | Q9: 6.0606061 | V9: 433.93762 | W9: 7.5263432
C10: ７５％以上８５％未満 | H10: 135.28571 | I10: 14.285714 | J10: 219.04 | K10: 9.3023256 | L10: 80.263158 | M10: 7.1428571 | N10: 57.309091 | O10: 10 | P10: 20.595238 | Q10: 15.151515 | V10: 512.4932 | W10: 8.8888347
C11: ８５％以上９５％未満 | J11: 164.28 | K11: 6.9767442 | L11: 120.39474 | M11: 10.714286 | N11: 57.309091 | O11: 10 | P11: 8.2380952 | Q11: 6.0606061 | V11: 350.22192 | W11: 6.0743533
C12: ９５％以上 | D12: 99 | E12: 100 | F12: 308 | G12: 66.666667 | H12: 135.28571 | I12: 14.285714 | J12: 985.68 | K12: 41.860465 | L12: 561.84211 | M12: 50 | N12: 171.92727 | O12: 30 | P12: 61.785714 | Q12: 45.454545 | R12: 17.333333 | S12: 66.666667 | T12: 39 | U12: 88.235294 | V12: 2379.8541 | W12: 41.276899
C13: 小 計 | D13: 99 | E13: 100 | F13: 462 | G13: 100 | H13: 947 | I13: 100 | J13: 2354.68 | K13: 100 | L13: 1123.6842 | M13: 100 | N13: 573.09091 | O13: 100 | P13: 135.92857 | Q13: 100 | R13: 26 | S13: 100 | T13: 44.2 | U13: 100 | V13: 5765.5837 | W13: 100
A14: 土 木 | B14: 土木工事業 | C14: ０％ | D14: 505.25 | E14: 27.272727 | F14: 905.1875 | G14: 15.555556 | H14: 717.20339 | I14: 14.583333 | J14: 1868.5263 | K14: 20.338983 | L14: 318.7561 | M14: 10.294118 | N14: 132.05085 | O14: 15.217391 | P14: 3.21875 | Q14: 5.2631579 | R14: 3.6 | S14: 25 | V14: 4453.7929 | W14: 17.238482
C15: ０％超 ２５％未満 | D15: 168.41667 | E15: 9.0909091 | F15: 2327.625 | G15: 40 | H15: 1536.8644 | I15: 31.25 | J15: 2024.2368 | K15: 22.033898 | L15: 637.5122 | M15: 20.588235 | N15: 226.37288 | O15: 26.086957 | P15: 16.09375 | Q15: 26.315789 | R15: 3.6 | S15: 25 | T15: 2.5 | U15: 12.5 | V15: 6943.2217 | W15: 26.87386
C16: ２５％以上５０％未満 | D16: 505.25 | E16: 27.272727 | F16: 129.3125 | G16: 2.2222222 | H16: 717.20339 | I16: 14.583333 | J16: 1089.9737 | K16: 11.864407 | L16: 318.7561 | M16: 10.294118 | N16: 75.457627 | O16: 8.6956522 | P16: 9.65625 | Q16: 15.789474 | R16: 3.6 | S16: 25 | V16: 2849.2095 | W16: 11.027915
C17: ５０％以上７５％未満 | D17: 168.41667 | E17: 9.0909091 | F17: 517.25 | G17: 8.8888889 | H17: 512.28814 | I17: 10.416667 | J17: 1089.9737 | K17: 11.864407 | L17: 364.29268 | M17: 11.764706 | N17: 56.59322 | O17: 6.5217391 | P17: 3.21875 | Q17: 5.2631579 | T17: 2.5 | U17: 12.5 | V17: 2714.5331 | W17: 10.506647
C18: ７５％以上８５％未満 | D18: 168.41667 | E18: 9.0909091 | F18: 517.25 | G18: 8.8888889 | H18: 307.37288 | I18: 6.25 | J18: 467.13158 | K18: 5.0847458 | L18: 182.14634 | M18: 5.8823529 | R18: 3.6 | S18: 25 | V18: 1645.9175 | W18: 6.370552
C19: ８５％以上９５％未満 | F19: 258.625 | G19: 4.4444444 | H19: 614.74576 | I19: 12.5 | J19: 311.42105 | K19: 3.3898305 | L19: 409.82927 | M19: 13.235294 | N19: 113.18644 | O19: 13.043478 | P19: 9.65625 | Q19: 15.789474 | V19: 1717.4638 | W19: 6.6474733
C20: ９５％以上 | D20: 336.83333 | E20: 18.181818 | F20: 1163.8125 | G20: 20 | H20: 512.28814 | I20: 10.416667 | J20: 2335.6579 | K20: 25.423729 | L20: 865.19512 | M20: 27.941176 | N20: 264.10169 | O20: 30.434783 | P20: 19.3125 | Q20: 31.578947 | T20: 15 | U20: 75 | V20: 5512.2012 | W20: 21.33507
C21: 小 計 | D21: 1852.5833 | E21: 100 | F21: 5819.0625 | G21: 100 | H21: 4917.9661 | I21: 100 | J21: 9186.9211 | K21: 100 | L21: 3096.4878 | M21: 100 | N21: 867.76271 | O21: 100 | P21: 61.15625 | Q21: 100 | R21: 14.4 | S21: 100 | T21: 20 | U21: 100 | V21: 25836.34 | W21: 100
B22: ほ装工事業 | C22: ０％ | D22: 14.5 | E22: 50 | F22: 274.96552 | G22: 37.5 | H22: 89.125 | I22: 13.043478 | J22: 66.380952 | K22: 5 | L22: 14.913043 | M22: 5 | N22: 11.225806 | O22: 9.6774194 | V22: 471.11032 | W22: 14.706512
C23: ０％超 ２５％未満 | D23: 9.6666667 | E23: 33.333333 | F23: 61.103448 | G23: 8.3333333 | H23: 118.83333 | I23: 17.391304 | J23: 165.95238 | K23: 12.5 | L23: 29.826087 | M23: 10 | N23: 14.967742 | O23: 12.903226 | V23: 400.34966 | W23: 12.497597
C24: ２５％以上５０％未満 | F24: 61.103448 | G24: 8.3333333 | H24: 59.416667 | I24: 8.6956522 | J24: 99.571429 | K24: 7.5 | L24: 14.913043 | M24: 5 | N24: 7.483871 | O24: 6.4516129 | P24: 4 | Q24: 40 | V24: 246.48846 | W24: 7.6945577
C25: ５０％以上７５％未満 | D25: 4.8333333 | E25: 16.666667 | F25: 122.2069 | G25: 16.666667 | H25: 29.708333 | I25: 4.3478261 | J25: 132.7619 | K25: 10 | L25: 29.826087 | M25: 10 | N25: 14.967742 | O25: 12.903226 | V25: 334.3043 | W25: 10.435879
C26: ７５％以上８５％未満 | F26: 30.551724 | G26: 4.1666667 | H26: 59.416667 | I26: 8.6956522 | J26: 33.190476 | K26: 2.5 | L26: 22.369565 | M26: 7.5 | N26: 14.967742 | O26: 12.903226 | V26: 160.49617 | W26: 5.0101618
C27: ８５％以上９５％未満 | H27: 148.54167 | I27: 21.73913 | J27: 199.14286 | K27: 15 | L27: 59.652174 | M27: 20 | N27: 14.967742 | O27: 12.903226 | P27: 2 | Q27: 20 | T27: 6 | U27: 100 | V27: 430.30444 | W27: 13.432687
C28: ９５％以上 | F28: 183.31034 | G28: 25 | H28: 178.25 | I28: 26.086957 | J28: 630.61905 | K28: 47.5 | L28: 126.76087 | M28: 42.5 | N28: 37.419355 | O28: 32.258065 | P28: 4 | Q28: 40 | V28: 1160.3596 | W28: 36.222605
C29: 小 計 | D29: 29 | E29: 100 | F29: 733.24138 | G29: 100 | H29: 683.29167 | I29: 100 | J29: 1327.619 | K29: 100 | L29: 298.26087 | M29: 100 | N29: 116 | O29: 100 | P29: 10 | Q29: 100 | T29: 6 | U29: 100 | V29: 3203.413 | W29: 100
B30: しゅんせつ 工事業 | C30: ０％ | J30: 15.333333 | K30: 50 | L30: 18 | M30: 66.666667 | N30: 8 | O30: 100 | V30: 41.333333 | W30: 30.693069
C31: ０％超 ２５％未満 | L31: 9 | M31: 33.333333 | V31: 9 | W31: 6.6831683
C32: ２５％以上５０％未満 | J32: 15.333333 | K32: 50 | V32: 15.333333 | W32: 11.386139
C33: ５０％以上７５％未満 | H33: 69 | I33: 100 | V33: 69 | W33: 51.237624
C34: ７５％以上８５％未満
C35: ８５％以上９５％未満
C36: ９５％以上
C37: 小 計 | H37: 69 | I37: 100 | J37: 30.666667 | K37: 100 | L37: 27 | M37: 100 | N37: 8 | O37: 100 | V37: 134.66667 | W37: 100
B38: 造園工事業 | C38: ０％ | H38: 30.75 | I38: 11.111111 | J38: 90.382979 | K38: 15.384615 | L38: 12.510638 | M38: 9.7560976 | N38: 6 | O38: 17.647059 | V38: 139.64362 | W38: 7.9856888
C39: ０％超 ２５％未満 | F39: 389.4 | G39: 75 | H39: 30.75 | I39: 11.111111 | J39: 135.57447 | K39: 23.076923 | L39: 18.765957 | M39: 14.634146 | N39: 4 | O39: 11.764706 | V39: 578.49043 | W39: 33.081673
C40: ２５％以上５０％未満 | H40: 92.25 | I40: 33.333333 | J40: 60.255319 | K40: 10.25641 | L40: 6.2553191 | M40: 4.8780488 | N40: 2 | O40: 5.8823529 | V40: 160.76064 | W40: 9.1932912
C41: ５０％以上７５％未満 | D41: 203 | E41: 100 | H41: 30.75 | I41: 11.111111 | J41: 30.12766 | K41: 5.1282051 | L41: 6.2553191 | M41: 4.8780488 | V41: 270.13298 | W41: 15.447881
...

Sheet 3-4-2
A1: 表3－4－2 材工共請負の下請工事件数の比率（経年変化①：6業種別）（下請完工高のある企業のみ対象）
S3: （単位：社、％）
B4: 年度 | C4: R06年度 | F4: R01年度 | I4: H26年度 | L4: H23年度 | O4: H20年度 | R4: H17年度
A6: 業種 | B6: 材工共請負比率 | E6: 増減 | H6: 増減 | K6: 増減 | N6: 増減 | Q6: 増減
A7: 一般土木建築 | B7: ０％ | C7: ='3-4-1'!V6 -> 370.41389 | D7: ='3-4-1'!W6 -> 6.4245688 | E7: =D7-G7 -> 0.62952542 | F7: 154.66051 | G7: 5.7950434 | H7: =G7-J7 -> -0.65311526 | I7: 220.16699 | J7: 6.4481587 | K7: =J7-M7 -> -0.35184131 | L7: 239.37 | M7: 6.8 | N7: =M7-P7 -> 1.3 | O7: 242.7 | P7: 5.5 | Q7: =P7-S7 -> 1.2 | R7: 222 | S7: 4.3
B8: ０％超２５％未満 | C8: ='3-4-1'!V7 -> 1191.0902 | D8: ='3-4-1'!W7 -> 20.658623 | E8: =D8-G8 -> -10.36963 | F8: 828.0948 | G8: 31.028253 | H8: =G8-J8 -> 9.234621 | I8: 744.12534 | J8: 21.793632 | K8: =J8-M8 -> 7.1936317 | L8: 512.55 | M8: 14.6 | N8: =M8-P8 -> -7.2 | O8: 956.05 | P8: 21.8 | Q8: =P8-S8 -> -2.2 | R8: 1247 | S8: 24
B9: ２５％以上５０％未満 | C9: ='3-4-1'!V8 -> 527.5727 | D9: ='3-4-1'!W8 -> 9.150378 | E9: =D9-G9 -> 0.44183262 | F9: 232.41725 | G9: 8.7085454 | H9: =G9-J9 -> -1.886554 | I9: 361.76082 | J9: 10.595099 | K9: =J9-M9 -> 2.0950995 | L9: 299.69 | M9: 8.5 | N9: =M9-P9 -> -3.3 | O9: 517.93 | P9: 11.8 | Q9: =P9-S9 -> 1.7 | R9: 525 | S9: 10.1
B10: ５０％以上７５％未満 | C10: ='3-4-1'!V9 -> 433.93762 | D10: ='3-4-1'!W9 -> 7.5263432 | E10: =D10-G10 -> 0.87911076 | F10: 177.40408 | G10: 6.6472324 | H10: =G10-J10 -> 0.35059209 | I10: 214.99352 | J10: 6.2966404 | K10: =J10-M10 -> -1.6033596 | L10: 277.76 | M10: 7.9 | N10: =M10-P10 -> 0.7 | O10: 317.53 | P10: 7.2 | Q10: =P10-S10 -> -2.7 | R10: 514 | S10: 9.9
B11: ７５％以上８５％未満 | C11: ='3-4-1'!V10 -> 512.4932 | D11: ='3-4-1'!W10 -> 8.8888347 | E11: =D11-G11 -> 1.9734711 | F11: 184.56007 | G11: 6.9153636 | H11: =G11-J11 -> -0.31552382 | I11: 246.89261 | J11: 7.2308874 | K11: =J11-M11 -> -1.1691126 | L11: 293.97 | M11: 8.4 | N11: =M11-P11 -> -1.6 | O11: 437.39 | P11: 10 | Q11: =P11-S11 -> 1.9 | R11: 421 | S11: 8.1
B12: ８５％以上９５％未満 | C12: ='3-4-1'!V11 -> 350.22192 | D12: ='3-4-1'!W11 -> 6.0743533 | E12: =D12-G12 -> -2.8444255 | F12: 238.02805 | G12: 8.9187788 | H12: =G12-J12 -> -2.1726504 | I12: 378.70758 | J12: 11.091429 | K12: =J12-M12 -> -5.1085708 | L12: 566.95 | M12: 16.2 | N12: =M12-P12 -> 5.9 | O12: 452.33 | P12: 10.3 | Q12: =P12-S12 -> -1 | R12: 588 | S12: 11.3
B13: ９５％以上 | C13: ='3-4-1'!V12 -> 2379.8541 | D13: ='3-4-1'!W12 -> 41.276899 | E13: =D13-G13 -> 9.2901151 | F13: 853.67647 | G13: 31.986784 | H13: =G13-J13 -> -4.5573696 | I13: 1247.7696 | J13: 36.544153 | K13: =J13-M13 -> -1.0558469 | L13: 1317.88 | M13: 37.6 | N13: =M13-P13 -> 4.2 | O13: 1467.92 | P13: 33.4 | Q13: =P13-S13 -> 1.2 | R13: 1671 | S13: 32.2
B14: 小 計 | C14: ='3-4-1'!V13 -> 5765.5837 | D14: ='3-4-1'!W13 -> 100 | E14: - | F14: 2668.8412 | G14: 100 | H14: - | I14: 3414.4164 | J14: 100 | K14: - | L14: 3508.18 | M14: 100 | N14: - | O14: 4391.85 | P14: 100 | Q14: - | R14: 5188 | S14: 100
A15: 土 木 | B15: ０％ | C15: ='3-4-1'!V54 -> 5337.8065 | D15: ='3-4-1'!W54 -> 16.481692 | E15: =D15-G15 -> 3.3082165 | F15: 3301.5212 | G15: 13.173475 | H15: =G15-J15 -> -0.27591079 | I15: 4421.5943 | J15: 13.449386 | K15: =J15-M15 -> 0.24938627 | L15: 4347.78 | M15: 13.2 | N15: =M15-P15 -> 2.7 | O15: 3993.6 | P15: 10.5 | Q15: =P15-S15 -> 2 | R15: 4061 | S15: 8.5
B16: ０％超２５％未満 | C16: ='3-4-1'!V55 -> 8164.3028 | D16: ='3-4-1'!W55 -> 25.209142 | E16: =D16-G16 -> 0.0620984 | F16: 6302.3231 | G16: 25.147044 | H16: =G16-J16 -> 1.4960807 | I16: 7775.4451 | J16: 23.650963 | K16: =J16-M16 -> -1.4490368 | L16: 8290.45 | M16: 25.1 | N16: =M16-P16 -> -0.1 | O16: 9544.15 | P16: 25.2 | Q16: =P16-S16 -> 0.3 | R16: 11873 | S16: 24.9
B17: ２５％以上５０％未満 | C17: ='3-4-1'!V56 -> 3378.4309 | D17: ='3-4-1'!W56 -> 10.431674 | E17: =D17-G17 -> 2.5232487 | F17: 1982.0004 | G17: 7.9084254 | H17: =G17-J17 -> -1.8847773 | I17: 3219.5945 | J17: 9.7932027 | K17: =J17-M17 -> -2.6067973 | L17: 4110.12 | M17: 12.4 | N17: =M17-P17 -> 0.1 | O17: 4670.52 | P17: 12.3 | Q17: =P17-S17 -> -0.8 | R17: 6232 | S17: 13.1
B18: ５０％以上７５％未満 | C18: ='3-4-1'!V57 -> 3586.6681 | D18: ='3-4-1'!W57 -> 11.074654 | E18: =D18-G18 -> 0.19218894 | F18: 2727.3508 | G18: 10.882465 | H18: =G18-J18 -> 1.8297864 | I18: 2976.1411 | J18: 9.0526785 | K18: =J18-M18 -> -0.44732154 | L18: 3140.9 | M18: 9.5 | N18: =M18-P18 -> -0.4 | O18: 3769.71 | P18: 9.9 | Q18: =P18-S18 -> -0.5 | R18: 4933 | S18: 10.4
B19: ７５％以上８５％未満 | C19: ='3-4-1'!V58 -> 2118.2494 | D19: ='3-4-1'!W58 -> 6.5405768 | E19: =D19-G19 -> -2.3408264 | F19: 2225.847 | G19: 8.8814032 | H19: =G19-J19 -> 0.80764554 | I19: 2654.313 | J19: 8.0737577 | K19: =J19-M19 -> 0.37375766 | L19: 2534.68 | M19: 7.7 | N19: =M19-P19 -> -0.9 | O19: 3247.31 | P19: 8.6 | Q19: =P19-S19 -> 0.4 | R19: 3901 | S19: 8.2
B20: ８５％以上９５％未満 | C20: ='3-4-1'!V59 -> 2299.7262 | D20: ='3-4-1'!W59 -> 7.1009279 | E20: =D20-G20 -> -1.507662 | F20: 2157.4749 | G20: 8.60859 | H20: =G20-J20 -> -0.65771837 | I20: 3046.3737 | J20: 9.2663083 | K20: =J20-M20 -> -0.93369166 | L20: 3368.5 | M20: 10.2 | N20: =M20-P20 -> 0.5 | O20: 3697.32 | P20: 9.7 | Q20: =P20-S20 -> -0.8 | R20: 5011 | S20: 10.5
B21: ９５％以上 | C21: ='3-4-1'!V60 -> 7501.0936 | D21: ='3-4-1'!W60 -> 23.161333 | E21: =D21-G21 -> -2.2372642 | F21: 6365.3671 | G21: 25.398597 | H21: =G21-J21 -> -1.3151061 | I21: 8782.3456 | J21: 26.713703 | K21: =J21-M21 -> 4.7137033 | L21: 7254.59 | M21: 22 | N21: =M21-P21 -> -1.7 | O21: 9005.72 | P21: 23.7 | Q21: =P21-S21 -> -0.7 | R21: 11601 | S21: 24.4
B22: 小 計 | C22: ='3-4-1'!V61 -> 32386.278 | D22: ='3-4-1'!W61 -> 100 | E22: - | F22: 25061.885 | G22: 100 | H22: - | I22: 32875.807 | J22: 100 | K22: - | L22: 33047.01 | M22: 100 | N22: - | O22: 37928.33 | P22: 100 | Q22: - | R22: 47612 | S22: 100
A23: 建 築 | B23: ０％ | C23: ='3-4-1'!V62 -> 1247.1756 | D23: ='3-4-1'!W62 -> 5.5811759 | E23: =D23-G23 -> -4.9005374 | F23: 1597.2217 | G23: 10.481713 | H23: =G23-J23 -> 2.6283885 | I23: 1662.3893 | J23: 7.8533248 | K23: =J23-M23 -> -1.2466752 | L23: 2042.23 | M23: 9.1 | N23: =M23-P23 -> -0.9 | O23: 2258.69 | P23: 10 | Q23: =P23-S23 -> 3.3 | R23: 1716 | S23: 6.7
B24: ０％超２５％未満 | C24: ='3-4-1'!V63 -> 4286.247 | D24: ='3-4-1'!W63 -> 19.181179 | E24: =D24-G24 -> -5.3715986 | F24: 3741.3949 | G24: 24.552778 | H24: =G24-J24 -> -0.58329397 | I24: 5320.7956 | J24: 25.136072 | K24: =J24-M24 -> 10.436072 | L24: 3308.56 | M24: 14.7 | N24: =M24-P24 -> -4.6 | O24: 4366.45 | P24: 19.3 | Q24: =P24-S24 -> -3.6 | R24: 5881 | S24: 22.9
B25: ２５％以上５０％未満 | C25: ='3-4-1'!V64 -> 2158.3544 | D25: ='3-4-1'!W64 -> 9.6587485 | E25: =D25-G25 -> 5.908005 | F25: 571.54481 | G25: 3.7507435 | H25: =G25-J25 -> -2.7486719 | I25: 1375.7942 | J25: 6.4994155 | K25: =J25-M25 -> 4.5994155 | L25: 434.48 | M25: 1.9 | N25: =M25-P25 -> -7.4 | O25: 2094.74 | P25: 9.3 | Q25: =P25-S25 -> 0.8 | R25: 2187 | S25: 8.5
B26: ５０％以上７５％未満 | C26: ='3-4-1'!V65 -> 1863.5303 | D26: ='3-4-1'!W65 -> 8.3393953 | E26: =D26-G26 -> 0.38296651 | F26: 1212.4144 | G26: 7.9564288 | H26: =G26-J26 -> 1.6884066 | I26: 1326.8129 | J26: 6.2680221 | K26: =J26-M26 -> -6.1319779 | L26: 2786.52 | M26: 12.4 | N26: =M26-P26 -> 6.7 | O26: 1278.9 | P26: 5.7 | Q26: =P26-S26 -> -2.4 | R26: 2081 | S26: 8.1
B27: ７５％以上８５％未満 | C27: ='3-4-1'!V66 -> 1934.444 | D27: ='3-4-1'!W66 -> 8.6567376 | E27: =D27-G27 -> 5.3618694 | F27: 502.07773 | G27: 3.2948681 | H27: =G27-J27 -> -1.6858039 | I27: 1054.3071 | J27: 4.9806721 | K27: =J27-M27 -> -1.1193279 | L27: 1372.84 | M27: 6.1 | N27: =M27-P27 -> -0.8 | O27: 1555.97 | P27: 6.9 | Q27: =P27-S27 -> -0.9 | R27: 1994 | S27: 7.8
B28: ８５％以上９５％未満 | C28: ='3-4-1'!V67 -> 1308.277 | D28: ='3-4-1'!W67 -> 5.8546077 | E28: =D28-G28 -> -2.4708002 | F28: 1268.6401 | G28: 8.3254079 | H28: =G28-J28 -> -2.9916042 | I28: 2395.5815 | J28: 11.317012 | K28: =J28-M28 -> -8.4829878 | L28: 4452.27 | M28: 19.8 | N28: =M28-P28 -> 11.2 | O28: 1939.29 | P28: 8.6 | Q28: =P28-S28 -> -0.3 | R28: 2273 | S28: 8.9
B29: ９５％以上 | C29: ='3-4-1'!V68 -> 9548.0801 | D29: ='3-4-1'!W68 -> 42.728156 | E29: =D29-G29 -> 1.0900953 | F29: 6344.88 | G29: 41.638061 | H29: =G29-J29 -> 3.6925789 | I29: 8032.2874 | J29: 37.945482 | K29: =J29-M29 -> 1.9454819 | L29: 8091.94 | M29: 36 | N29: =M29-P29 -> -4.3 | O29: 9122.93 | P29: 40.3 | Q29: =P29-S29 -> 3.1 | R29: 9547 | S29: 37.2
B30: 小 計 | C30: ='3-4-1'!V69 -> 22346.108 | D30: ='3-4-1'!W69 -> 100 | E30: - | F30: 15238.174 | G30: 100 | H30: - | I30: 21167.968 | J30: 100 | K30: - | L30: 22488.84 | M30: 100 | N30: - | O30: 22616.97 | P30: 100 | Q30: - | R30: 25680 | S30: 100
A31: 木 造 建 築 | B31: ０％ | C31: ='3-4-1'!V70 -> 520.23089 | D31: ='3-4-1'!W70 -> 8.8393438 | E31: =D31-G31 -> 5.4604377 | F31: 108.65577 | G31: 3.3789061 | H31: =G31-J31 -> -21.107548 | I31: 1755.473 | J31: 24.486454 | K31: =J31-M31 -> 6.5864545 | L31: 844.76 | M31: 17.9 | N31: =M31-P31 -> 8 | O31: 577.8 | P31: 9.9 | Q31: =P31-S31 -> -13.2 | R31: 1734 | S31: 23.1
B32: ０％超２５％未満 | C32: ='3-4-1'!V71 -> 950.67459 | D32: ='3-4-1'!W71 -> 16.153096 | E32: =D32-G32 -> -16.271894 | F32: 1042.6932 | G32: 32.42499 | H32: =G32-J32 -> 15.155835 | I32: 1238.0533 | J32: 17.269155 | K32: =J32-M32 -> -1.8308447 | L32: 901.86 | M32: 19.1 | N32: =M32-P32 -> -8.1 | O32: 1590.61 | P32: 27.2 | Q32: =P32-S32 -> 5.3 | R32: 1646 | S32: 21.9
B33: ２５％以上５０％未満 | C33: ='3-4-1'!V72 -> 403.43337 | D33: ='3-4-1'!W72 -> 6.8548145 | E33: =D33-G33 -> 1.3928236 | F33: 175.64171 | G33: 5.4619909 | H33: =G33-J33 -> -5.9005161 | I33: 814.59624 | J33: 11.362507 | K33: =J33-M33 -> 4.362507 | L33: 332.47 | M33: 7 | N33: =M33-P33 -> -6.3 | O33: 780.34 | P33: 13.3 | Q33: =P33-S33 -> 8.7 | R33: 342 | S33: 4.6
B34: ５０％以上７５％未満 | C34: ='3-4-1'!V73 -> 571.69874 | D34: ='3-4-1'!W73 -> 9.7138439 | E34: =D34-G34 -> 4.251853 | F34: 175.64171 | G34: 5.4619909 | H34: =G34-J34 -> -4.3395275 | I34: 702.68648 | J34: 9.8015184 | K34: =J34-M34 -> 1.7015184 | L34: 383.67 | M34: 8.1 | N34: =M34-P34 -> 0.7 | O34: 433.89 | P34: 7.4 | Q34: =P34-S34 -> 2.7 | R34: 355 | S34: 4.7
B35: ７５％以上８５％未満 | C35: ='3-4-1'!V74 -> 721.60896 | D35: ='3-4-1'!W74 -> 12.260998 | E35: =D35-G35 -> 5.5548419 | F35: 215.65043 | G35: 6.7061557 | H35: =G35-J35 -> -0.59604868 | I35: 523.50667 | J35: 7.3022044 | K35: =J35-M35 -> -0.59779565 | L35: 374.55 | M35: 7.9 | N35: =M35-P35 -> 4.3 | O35: 213.48 | P35: 3.6 | Q35: =P35-S35 -> -3.7 | R35: 549 | S35: 7.3
B36: ８５％以上９５％未満 | C36: ='3-4-1'!V75 -> 687.61324 | D36: ='3-4-1'!W75 -> 11.68337 | E36: =D36-G36 -> -3.9080187 | F36: 501.37362 | G36: 15.591388 | H36: =G36-J36 -> 12.753788 | I36: 203.4321 | J36: 2.8376005 | K36: =J36-M36 -> -3.0623995 | L36: 278.77 | M36: 5.9 | N36: =M36-P36 -> 1.8 | O36: 238.44 | P36: 4.1 | Q36: =P36-S36 -> -5.3 | R36: 705 | S36: 9.4
B37: ９５％以上 | C37: ='3-4-1'!V76 -> 2030.1419 | D37: ='3-4-1'!W76 -> 34.494535 | E37: =D37-G37 -> 3.5199569 | F37: 996.05217 | G37: 30.974578 | H37: =G37-J37 -> 4.0340179 | I37: 1931.4117 | J37: 26.94056 | K37: =J37-M37 -> -7.05944 | L37: 1604.08 | M37: 34 | N37: =M37-P37 -> -0.5 | O37: 2021.09 | P37: 34.5 | Q37: =P37-S37 -> 5.6 | R37: 2172 | S37: 28.9
B38: 小 計 | C38: ='3-4-1'!V77 -> 5885.4017 | D38: ='3-4-1'!W77 -> 100 | E38: - | F38: 3215.7086 | G38: 100 | H38: - | I38: 7169.1594 | J38: 100 | K38: - | L38: 4720.15 | M38: 100 | N38: - | O38: 5855.65 | P38: 100 | Q38: - | R38: 7503 | S38: 100
A39: 職 別 | B39: ０％ | C39: ='3-4-1'!V222 -> 9384.4807 | D39: ='3-4-1'!W222 -> 9.9480194 | E39: =D39-G39 -> -0.16801992 | F39: 4087.2579 | G39: 10.116039 | H39: =G39-J39 -> 0.77834367 | I39: 4156.6906 | J39: 9.3376956 | K39: =J39-M39 -> -0.4623044 | L39: 4163.44 | M39: 9.8 | N39: =M39-P39 -> -0.4 | O39: 4147.01 | P39: 10.2 | Q39: =P39-S39 -> 2.2 | R39: 3520 | S39: 8
B40: ０％超２５％未満 | C40: ='3-4-1'!V223 -> 13209.801 | D40: ='3-4-1'!W223 -> 14.00305 | E40: =D40-G40 -> 0.83354048 | F40: 5320.9739 | G40: 13.16951 | H40: =G40-J40 -> -2.647365 | I40: 7040.9078 | J40: 15.816875 | K40: =J40-M40 -> 2.6168745 | L40: 5610.5 | M40: 13.2 | N40: =M40-P40 -> -2.8 | O40: 6465.12 | P40: 16 | Q40: =P40-S40 -> 2.2 | R40: 6068 | S40: 13.8
B41: ２５％以上５０％未満 | C41: ='3-4-1'!V224 -> 7252.8231 | D41: ='3-4-1'!W224 -> 7.6883555 | E41: =D41-G41 -> -0.33878566 | F41: 3243.265 | G41: 8.0271412 | H41: =G41-J41 -> 0.97181423 | I41: 3140.6904 | J41: 7.055327 | K41: =J41-M41 -> 0.45532695 | L41: 2812.37 | M41: 6.6 | N41: =M41-P41 -> -0.2 | O41: 2736.97 | P41: 6.8 | Q41: =P41-S41 -> -1.4 | R41: 3598 | S41: 8.2
B42: ５０％以上７５％未満 | C42: ='3-4-1'!V225 -> 6118.6503 | D42: ='3-4-1'!W225 -> 6.4860756 | E42: =D42-G42 -> 0.078192755 | F42: 2589.0241 | G42: 6.4078829 | H42: =G42-J42 -> -0.36533015 | I42: 3015.107 | J42: 6.773213 | K42: =J42-M42 -> 1.373213 | L42: 2308.05 | M42: 5.4 | N42: =M42-P42 -> -0.4 | O42: 2331.89 | P42: 5.8 | Q42: =P42-S42 -> -0.2 | R42: 2630 | S42: 6
...

Sheet 3-4-3
A1: 表3－4－3 材工共請負の下請工事件数の比率（経年変化②：資本金別）（下請完工高のある企業のみ対象）
V3: （単位：社、％）
B4: 資本金 | C4: 個 人 | E4: 法 人 | U4: 合 計
E5: 500万円未満 | G5: 500万円以上 1000万円以下 | I5: 1000万円以上 3000万円未満 | K5: 3000万円以上 5000万円未満 | M5: 5000万円以上 1億円未満 | O5: 1億円以上 3億円未満 | Q5: 3億円以上 10億円未満 | S5: 10億円以上
A6: 年度 | B6: 材工共請負比率
A7: R 06 年 度 | B7: ０％ | C7: ='3-4-1'!D294 -> 3236.9849 | D7: ='3-4-1'!E294 -> 9.7040511 | E7: ='3-4-1'!F294 -> 7226.5927 | F7: ='3-4-1'!G294 -> 11.018027 | G7: ='3-4-1'!H294 -> 5014.2533 | H7: ='3-4-1'!I294 -> 12.184581 | I7: ='3-4-1'!J294 -> 5406.73 | J7: ='3-4-1'!K294 -> 8.260085 | ... V7: ='3-4-1'!W294 -> 9.9503361
B8: ０％超２５％未満 | C8: ='3-4-1'!D295 -> 4835.8814 | D8: ='3-4-1'!E295 -> 14.49733 | E8: ='3-4-1'!F295 -> 14464.5 | F8: ='3-4-1'!G295 -> 22.053305 | G8: ='3-4-1'!H295 -> 8903.4744 | H8: ='3-4-1'!I295 -> 21.635345 | I8: ='3-4-1'!J295 -> 10593.297 | J8: ='3-4-1'!K295 -> 16.183817 | ... V8: ='3-4-1'!W295 -> 18.748207
B9: ２５％以上５０％未満 | C9: ='3-4-1'!D296 -> 2146.0981 | D9: ='3-4-1'!E296 -> 6.4337171 | E9: ='3-4-1'!F296 -> 5336.0859 | F9: ='3-4-1'!G296 -> 8.1356652 | G9: ='3-4-1'!H296 -> 3591.6531 | H9: ='3-4-1'!I296 -> 8.7276777 | I9: ='3-4-1'!J296 -> 6413.4475 | J9: ='3-4-1'!K296 -> 9.7980888 | ... V9: ='3-4-1'!W296 -> 8.4806108
B10: ５０％以上７５％未満 | C10: ='3-4-1'!D297 -> 1764.4241 | D10: ='3-4-1'!E297 -> 5.2895092 | E10: ='3-4-1'!F297 -> 5656.0504 | F10: ='3-4-1'!G297 -> 8.6234992 | G10: ='3-4-1'!H297 -> 3341.7945 | H10: ='3-4-1'!I297 -> 8.1205241 | I10: ='3-4-1'!J297 -> 6100.2691 | J10: ='3-4-1'!K297 -> 9.3196332 | ... V10: ='3-4-1'!W297 -> 8.3128053
B11: ７５％以上８５％未満 | C11: ='3-4-1'!D298 -> 3811.996 | D11: ='3-4-1'!E298 -> 11.427858 | E11: ='3-4-1'!F298 -> 5202.9649 | F11: ='3-4-1'!G298 -> 7.9327022 | G11: ='3-4-1'!H298 -> 2888.943 | H11: ='3-4-1'!I298 -> 7.0201 | I11: ='3-4-1'!J298 -> 4691.9918 | J11: ='3-4-1'!K298 -> 7.1681498 | ... V11: ='3-4-1'!W298 -> 8.0212746
B12: ８５％以上９５％未満 | C12: ='3-4-1'!D299 -> 2231.0493 | D12: ='3-4-1'!E299 -> 6.6883896 | E12: ='3-4-1'!F299 -> 7697.0487 | F12: ='3-4-1'!G299 -> 11.735308 | G12: ='3-4-1'!H299 -> 5248.5136 | H12: ='3-4-1'!I299 -> 12.753831 | I12: ='3-4-1'!J299 -> 7701.6054 | J12: ='3-4-1'!K299 -> 11.766061 | ... V12: ='3-4-1'!W299 -> 11.186328
B13: ９５％以上 | C13: ='3-4-1'!D300 -> 15330.614 | D13: ='3-4-1'!E300 -> 45.959145 | E13: ='3-4-1'!F300 -> 20005.566 | F13: ='3-4-1'!G300 -> 30.501493 | G13: ='3-4-1'!H300 -> 12163.817 | H13: ='3-4-1'!I300 -> 29.557942 | I13: ='3-4-1'!J300 -> 24548.767 | J13: ='3-4-1'!K300 -> 37.504165 | ... V13: ='3-4-1'!W300 -> 35.300438
C14: ='3-4-1'!D301 -> 33357.048 | D14: ='3-4-1'!E301 -> 100 | E14: ='3-4-1'!F301 -> 65588.808 | F14: ='3-4-1'!G301 -> 100 | G14: ='3-4-1'!H301 -> 41152.449 | H14: ='3-4-1'!I301 -> 100 | I14: ='3-4-1'!J301 -> 65456.107 | J14: ='3-4-1'!K301 -> 100 | ... V14: ='3-4-1'!W301 -> 100
A15: 増減 | B15: ０％ | D15: =D7-D23 -> -2.2960672 | F15: =F7-F23 -> -5.6491846 | H15: =H7-H23 -> 2.6209944 | J15: =J7-J23 -> 1.7519777 | L15: =L7-L23 -> 3.712758 | N15: =N7-N23 -> -0.31273509 | P15: =P7-P23 -> 0.48265102 | R15: =R7-R23 -> 9.9950264 | T15: =T7-T23 -> 0.22840004 | V15: =V7-V23 -> -0.092532029
B16: ０％超２５％未満 | D16: =D8-D24 -> -9.5730406 | F16: =F8-F24 -> 2.2158362 | H16: =H8-H24 -> 4.5549488 | J16: =J8-J24 -> -3.3514876 | L16: =L8-L24 -> -3.5416408 | N16: =N8-N24 -> 1.3170286 | P16: =P8-P24 -> 1.5383522 | R16: =R8-R24 -> 5.5357766 | T16: =T8-T24 -> -5.5032505 | V16: =V8-V24 -> -0.88389044
B17: ２５％以上５０％未満 | D17: =D9-D25 -> -1.4270246 | F17: =F9-F25 -> 1.8135104 | H17: =H9-H25 -> -1.2845641 | J17: =J9-J25 -> 2.5086558 | L17: =L9-L25 -> -1.6294982 | N17: =N9-N25 -> 3.1232771 | P17: =P9-P25 -> 4.1596128 | R17: =R9-R25 -> 2.854386 | T17: =T9-T25 -> 1.5192001 | V17: =V9-V25 -> 0.79151221
B18: ５０％以上７５％未満 | D18: =D10-D26 -> -1.3125687 | F18: =F10-F26 -> 2.4655829 | H18: =H10-H26 -> -4.6098555 | J18: =J10-J26 -> -0.092796235 | L18: =L10-L26 -> 3.0982435 | N18: =N10-N26 -> 1.1029904 | P18: =P10-P26 -> 1.6291389 | R18: =R10-R26 -> -4.3283635 | T18: =T10-T26 -> -1.7604101 | V18: =V10-V26 -> -0.35643547
B19: ７５％以上８５％未満 | D19: =D11-D27 -> 6.1413465 | F19: =F11-F27 -> -0.51284433 | H19: =H11-H27 -> -0.85459168 | J19: =J11-J27 -> -1.3539134 | L19: =L11-L27 -> -0.24225522 | N19: =N11-N27 -> -1.0708099 | P19: =P11-P27 -> 6.1907667 | R19: =R11-R27 -> 3.548325 | T19: =T11-T27 -> -3.201195 | V19: =V11-V27 -> 0.077126618
B20: ８５％以上９５％未満 | D20: =D12-D28 -> -6.0363777 | F20: =F12-F28 -> 0.87422995 | H20: =H12-H28 -> -1.7214646 | J20: =J12-J28 -> -0.50356179 | L20: =L12-L28 -> 0.7857724 | N20: =N12-N28 -> -0.053910597 | P20: =P12-P28 -> -3.7667717 | R20: =R12-R28 -> -7.2933938 | T20: =T12-T28 -> -4.6648885 | V20: =V12-V28 -> -1.1140082
B21: ９５％以上 | D21: =D13-D29 -> 14.503732 | F21: =F13-F29 -> -1.2071306 | H21: =H13-H29 -> 1.2945326 | J21: =J13-J29 -> 1.0411256 | L21: =L13-L29 -> -2.1833797 | N21: =N13-N29 -> -4.1058405 | P21: =P13-P29 -> -10.23375 | R21: =R13-R29 -> -10.311757 | T21: =T13-T29 -> 13.382144 | V21: =V13-V29 -> 1.5782273
D22: - | F22: - | H22: - | J22: - | L22: - | N22: - | P22: - | R22: - | T22: - | V22: -
A23: R 01 年 度 | B23: ０％ | C23: 1527.5748 | D23: 12.000118 | E23: 4952.8575 | F23: 16.667212 | G23: 2008.7679 | H23: 9.5635863 | I23: 2767.9426 | J23: 6.5081072 | K23: 289.83245 | L23: 3.6043254 | M23: 232.40944 | N23: 7.8424915 | O23: 33.798164 | P23: 7.1474486 | Q23: 4.1666667 | R23: 4.1390494 | S23: 1.6 | T23: 1.2708503 | U23: 11818.95 | V23: 10.042868
B24: ０％超２５％未満 | C24: 3064.0775 | D24: 24.070371 | E24: 5894.9366 | F24: 19.837469 | G24: 3587.6241 | H24: 17.080397 | I24: 8308.499 | J24: 19.535305 | K24: 1584.444 | L24: 19.703976 | M24: 555.59618 | N24: 18.748199 | O24: 75.644541 | P24: 15.996889 | Q24: 17.837264 | R24: 17.719036 | S24: 15.375401 | T24: 12.212396 | U24: 23104.035 | V24: 19.632098
B25: ２５％以上５０％未満 | C25: 1000.6461 | D25: 7.8607418 | E25: 1878.7025 | F25: 6.3221548 | G25: 2103.005 | H25: 10.012242 | I25: 3100.2459 | J25: 7.289433 | K25: 749.98303 | L25: 9.326709 | M25: 191.61258 | N25: 6.4658306 | O25: 11.4 | P25: 2.4108089 | Q25: 7.612463 | R25: 7.5620065 | S25: 5.7083333 | T25: 4.5340233 | U25: 9048.9158 | V25: 7.6890986
B26: ５０％以上７５％未満 | C26: 840.42236 | D26: 6.6020779 | E26: 1829.8971 | F26: 6.1579163 | G26: 2673.9318 | H26: 12.73038 | I26: 4003.1708 | J26: 9.4124295 | K26: 557.16556 | L26: 6.9288516 | M26: 267.08501 | N26: 9.012594 | O26: 18.598551 | P26: 3.9331185 | Q26: 6.4166667 | R26: 6.3741361 | S26: 5.7083333 | T26: 4.5340233 | U26: 10202.396 | V26: 8.6692408
B27: ７５％以上８５％未満 | C27: 672.95515 | D27: 5.2865113 | E27: 2509.6933 | F27: 8.4455465 | G27: 1654.0268 | H27: 7.8746916 | I27: 3624.4919 | J27: 8.5220632 | K27: 621.92999 | L27: 7.7342551 | M27: 239.11403 | N27: 8.0687334 | O27: 19.862609 | P27: 4.2004345 | Q27: 2.9666667 | R27: 2.9470032 | S27: 4.030303 | T27: 3.201195 | U27: 9349.0707 | V27: 7.944148
B28: ８５％以上９５％未満 | C28: 1619.8202 | D28: 12.724767 | E28: 3227.4968 | F28: 10.861078 | G28: 3040.4398 | H28: 14.475295 | I28: 5218.3547 | J28: 12.269623 | K28: 955.84838 | L28: 11.886829 | M28: 331.716 | N28: 11.193521 | O28: 58.550386 | P28: 12.381911 | Q28: 11.346491 | R28: 11.271285 | S28: 12.078431 | T28: 9.5936741 | U28: 14475.651 | V28: 12.300336
B29: ９５％以上 | C29: 4004.1685 | D29: 31.455413 | E29: 9422.5896 | F29: 31.708624 | G29: 5936.5417 | H29: 28.263409 | I29: 15507.981 | J29: 36.46304 | K29: 3282.0363 | L29: 40.815054 | M29: 1145.9311 | N29: 38.668631 | O29: 255.01609 | P29: 53.92939 | Q29: 50.321018 | R29: 49.987484 | S29: 81.399153 | T29: 64.653838 | U29: 39685.984 | V29: 33.722211
C30: 12729.665 | D30: 100 | E30: 29716.173 | F30: 100 | G30: 21004.337 | H30: 100 | I30: 42530.686 | J30: 100 | K30: 8041.2397 | L30: 100 | M30: 2963.4643 | N30: 100 | O30: 472.87034 | P30: 100 | Q30: 100.66724 | R30: 100 | S30: 125.89996 | T30: 100 | U30: 117685 | V30: 100
A31: 増減 | B31: ０％ | D31: =D23-D39 -> -3.5284884 | F31: =F23-F39 -> 2.7320744 | H31: =H23-H39 -> -2.7667243 | J31: =J23-J39 -> 0.53045441 | L31: =L23-L39 -> -2.0349538 | N31: =N23-N39 -> 1.5160683 | P31: =P23-P39 -> 2.1270489 | R31: =R23-R39 -> 3.0525777 | T31: =T23-T39 -> -0.62427839 | V31: =V23-V39 -> -0.20995079
B32: ０％超２５％未満 | D32: =D24-D40 -> 3.9593713 | F32: =F24-F40 -> -1.3079965 | H32: =H24-H40 -> -2.0640716 | J32: =J24-J40 -> 0.11182423 | L32: =L24-L40 -> 1.6204924 | N32: =N24-N40 -> -0.96344055 | P32: =P24-P40 -> -1.0771953 | R32: =R24-R40 -> -0.9256398 | T32: =T24-T40 -> 1.4498254 | V32: =V24-V40 -> -0.20447267
B33: ２５％以上５０％未満 | D33: =D25-D41 -> -2.2478668 | F33: =F25-F41 -> -2.7549778 | H33: =H25-H41 -> 0.92031878 | J33: =J25-J41 -> -0.40091098 | L33: =L25-L41 -> -2.0663277 | N33: =N25-N41 -> -2.5392012 | P33: =P25-P41 -> -4.6428699 | R33: =R25-R41 -> 3.4592823 | T33: =T25-T41 -> -3.9080497 | V33: =V25-V41 -> -1.1468902
B34: ５０％以上７５％未満 | D34: =D26-D42 -> -2.5792519 | F34: =F26-F42 -> -1.0010873 | H34: =H26-H42 -> 2.1782331 | J34: =J26-J42 -> 0.91553277 | L34: =L26-L42 -> 1.318695 | N34: =N26-N42 -> 1.7205856 | P34: =P26-P42 -> -2.7032131 | R34: =R26-R42 -> -0.22533224 | T34: =T26-T42 -> 0.30102073 | V34: =V26-V42 -> 0.35338447
B35: ７５％以上８５％未満 | D35: =D27-D43 -> -3.9183447 | F35: =F27-F43 -> 0.37880068 | H35: =H27-H43 -> -1.3998102 | J35: =J27-J43 -> 0.72084295 | L35: =L27-L43 -> -1.5466644 | N35: =N27-N43 -> 2.1419683 | P35: =P27-P43 -> -2.4028473 | R35: =R27-R43 -> -3.6462211 | T35: =T27-T43 -> -11.382853 | V35: =V27-V43 -> -0.38059181
B36: ８５％以上９５％未満 | D36: =D28-D44 -> 6.7044986 | F36: =F28-F44 -> -0.49889592 | H36: =H28-H44 -> 3.5165524 | J36: =J28-J44 -> -1.1082299 | L36: =L28-L44 -> -0.51237062 | N36: =N28-N44 -> 0.99324016 | P36: =P28-P44 -> 2.998001 | R36: =R28-R44 -> 3.6825744 | T36: =T28-T44 -> 3.251458 | V36: =V28-V44 -> 0.95966308
B37: ９５％以上 | D37: =D29-D45 -> 1.610082 | F37: =F29-F45 -> 2.4520825 | H37: =H29-H45 -> -0.38449809 | J37: =J29-J45 -> -0.76951346 | L37: =L29-L45 -> 3.2211291 | N37: =N29-N45 -> -2.8692206 | P37: =P29-P45 -> 5.7010757 | R37: =R29-R45 -> -5.3972413 | T37: =T29-T45 -> 10.912877 | V37: =V29-V45 -> 0.62885794
D38: - | F38: - | H38: - | J38: - | L38: - | N38: - | P38: - | R38: - | T38: - | V38: -
A39: H 26 年 度 | B39: ０％ | C39: 3096.4872 | D39: 15.528607 | E39: 5304.95 | F39: 13.935137 | G39: 2532.8444 | H39: 12.330311 | I39: 3214.3894 | J39: 5.9776528 | K39: 500.55887 | L39: 5.6392793 | M39: 199.10801 | N39: 6.3264232 | O39: 24.421413 | P39: 5.0203997 | Q39: 1.1666667 | R39: 1.0864717 | S39: 3.0166667 | T39: 1.8951287 | U39: 14876.943 | V39: 10.252819
B40: ０％超２５％未満 | C40: 4010.2409 | D40: 20.111 | E40: 8049.8407 | F40: 21.145465 | G40: 3932.5821 | H40: 19.144468 | I40: 10444.673 | J40: 19.42348 | K40: 1605.1428 | L40: 18.083484 | M40: 620.37351 | N40: 19.711639 | O40: 83.055789 | P40: 17.074084 | Q40: 20.020881 | R40: 18.644676 | S40: 17.131864 | T40: 10.762571 | U40: 28783.062 | V40: 19.83657
B41: ２５％以上５０％未満 | C41: 2015.7106 | D41: 10.108609 | E41: 3455.5622 | F41: 9.0771326 | G41: 1867.6274 | H41: 9.091923 | I41: 4135.3623 | J41: 7.690344 | K41: 1011.2792 | L41: 11.393037 | M41: 283.41038 | N41: 9.0050318 | O41: 34.312169 | P41: 7.0536788 | Q41: 4.4055556 | R41: 4.1027242 | S41: 13.438095 | T41: 8.442073 | U41: 12821.108 | V41: 8.8359888
...

Sheet 3-4-4
A1: 表3－4－4 材工共請負の下請工事件数の比率（下請比率、次数別集計）（下請完工高のある企業のみ対象）
A3: （概要） | M3: （単位：社、％）
A4: 下請比率、次数 | B4: ０％超 ５０％未満 | D4: ５０％以上１００％以下 | L4: 合 計
A5: 材工共請負比率 | F5: 一次下請 | H5: 二次下請 | J5: 三次以下下請
A6: ０％ | B6: 6347.3155 | C6: 9.6046073 | D6: 15747.157 | E6: 10.096833 | F6: 7703.9937 | G6: 6.7904773 | H6: 6395.7683 | I6: 17.675357 | J6: 1647.3949 | K6: 26.050799 | L6: 22094.472 | M6: 9.9503361
A7: ０％超 ２５％未満 | B7: 14289.33 | C7: 21.622275 | D7: 27340.595 | E7: 17.530366 | F7: 17848.766 | G7: 15.732313 | H7: 7737.9043 | I7: 21.384487 | J7: 1753.925 | K7: 27.735395 | L7: 41629.925 | M7: 18.748207
A8: ２５％以上５０％未満 | B8: 5386.8585 | C8: 8.1512665 | D8: 13444.126 | E8: 8.6201652 | F8: 8609.7654 | G8: 7.5888453 | H8: 3959.5712 | I8: 10.942678 | J8: 874.78899 | K8: 13.833327 | L8: 18830.984 | M8: 8.4806108
A9: ５０％以上７５％未満 | B9: 4297.9062 | C9: 6.5034898 | D9: 14160.47 | E9: 9.0794742 | F9: 10405.457 | G9: 9.1716094 | H9: 3257.3605 | I9: 9.0020476 | J9: 497.6523 | K9: 7.8695402 | L9: 18458.376 | M9: 8.3128053
A10: ７５％以上８５％未満 | B10: 4950.3463 | C10: 7.4907465 | D10: 12860.693 | E10: 8.2460775 | F10: 10462.072 | G10: 9.221511 | H10: 2143.4489 | I10: 5.9236393 | J10: 255.17249 | K10: 4.0351268 | L10: 17811.04 | M10: 8.0212746
A11: ８５％以上９５％未満 | B11: 5846.7699 | C11: 8.8471934 | D11: 18992.192 | E11: 12.1775 | F11: 14675.785 | G11: 12.935574 | H11: 3924.0066 | I11: 10.844392 | J11: 392.40066 | K11: 6.2051612 | L11: 24838.962 | M11: 11.186328
A12: ９５％以上 | B12: 24967.628 | C12: 37.780422 | D12: 53416.112 | E12: 34.249584 | F12: 43747.065 | G12: 38.55967 | H12: 8766.6024 | I12: 24.227399 | J12: 902.44437 | K12: 14.270651 | L12: 78383.739 | M12: 35.300438
A13: 合 計 | B13: 66086.154 | C13: 100 | D13: 155961.34 | E13: 100 | F13: 113452.9 | G13: 100 | H13: 36184.662 | I13: 100 | J13: 6323.7787 | K13: 100 | L13: 222047.5 | M13: 100
F14: （注） | G14: 1. ( )の数値は各合計を100とした場合の構成比
A17: （下請比率別詳細）
A18: 下請比率、次数 | B18: ０％超１０％未満 | J18: １０％以上２０％未満 | R18: ２０％以上３０％未満
A19: 材工共請負比 | B19: 一次下請 | D19: 二次下請 | F19: 三次以下下請 | H19: 小 計 | J19: 一次下請 | L19: 二次下請 | N19: 三次以下下請 | P19: 小 計 | R19: 一次下請 | T19: 二次下請 | V19: 三次以下下請 | X19: 小 計
A20: ０％ | B20: 2519.5451 | C20: 14.000343 | D20: 193.81116 | E20: 42.90313 | F20: 48.45279 | G20: 48.433989 | H20: 2761.809 | I20: 14.889991 | J20: 1405.1309 | K20: 11.443937 | L20: 96.905581 | M20: 20.225427 | P20: 1502.0365 | Q20: 11.685052 | R20: 484.5279 | S20: 4.3294853 | T20: 48.45279 | U20: 7.2436161 | X20: 532.98069 | Y20: 4.4938386
A21: ０％超 ２５％未満 | B21: 4178.4683 | C21: 23.218473 | D21: 257.93014 | E21: 57.09687 | F21: 51.586029 | G21: 51.566011 | H21: 4487.9845 | I21: 24.196478 | J21: 2888.8176 | K21: 23.527663 | L21: 154.75809 | M21: 32.299981 | N21: 51.586029 | O21: 53.276411 | P21: 3095.1617 | Q21: 24.078725 | R21: 2321.3713 | S21: 20.742547 | T21: 257.93014 | U21: 38.560152 | X21: 2579.3014 | Y21: 21.747437
A22: ２５％以上５０％未満 | B22: 966.87205 | C22: 5.3726127 | H22: 966.87205 | I22: 5.2127849 | J22: 966.87205 | K22: 7.874585 | P22: 966.87205 | Q22: 7.5217545 | R22: 1012.9136 | S22: 9.0508604 | T22: 92.083052 | U22: 13.766272 | X22: 1104.9966 | Y22: 9.3168036
A23: ５０％以上７５％未満 | B23: 995.3046 | C23: 5.5306038 | H23: 995.3046 | I23: 5.3660759 | J23: 542.89342 | K23: 4.4215368 | L23: 90.482237 | M23: 18.884794 | N23: 45.241118 | O23: 46.723589 | P23: 678.61678 | Q23: 5.2792805 | R23: 814.34013 | S23: 7.2765131 | T23: 90.482237 | U23: 13.526952 | X23: 904.82237 | Y23: 7.6290299
A24: ７５％以上８５％未満 | B24: 612.41397 | C24: 3.4029974 | H24: 612.41397 | I24: 3.3017629 | J24: 1020.6899 | K24: 8.3128991 | L24: 51.034497 | M24: 10.651549 | P24: 1071.7244 | Q24: 8.3374508 | R24: 969.65545 | S24: 8.6643287 | T24: 51.034497 | U24: 7.6295773 | X24: 1020.6899 | Y24: 8.60597
A25: ８５％以上９５％未満 | B25: 902.52152 | C25: 5.0150365 | H25: 902.52152 | I25: 4.8658461 | J25: 941.76159 | K25: 7.6700756 | P25: 941.76159 | Q25: 7.3264084 | R25: 1334.1623 | S25: 11.921369 | X25: 1334.1623 | Y25: 11.249019
A26: ９５％以上 | B26: 7821.1845 | C26: 43.459934 | H26: 7821.1845 | I26: 42.167061 | J26: 4512.2218 | K26: 36.749304 | L26: 85.947083 | M26: 17.938249 | P26: 4598.1689 | Q26: 35.771329 | R26: 4254.3806 | S26: 38.014897 | T26: 128.92062 | U26: 19.273431 | X26: 4383.3012 | Y26: 36.957902
A27: 合 計 | B27: 17996.31 | C27: 100 | D27: 451.7413 | E27: 100 | F27: 100.03882 | G27: 100 | H27: 18548.09 | I27: 100 | J27: 12278.387 | K27: 100 | L27: 479.12748 | M27: 100 | N27: 96.827147 | O27: 100 | P27: 12854.342 | Q27: 100 | R27: 11191.351 | S27: 100 | T27: 668.90334 | U27: 100 | X27: 11860.255 | Y27: 100
A29: 下請比率、次数 | B29: ３０％以上４０％未満 | J29: ４０％以上５０％未満 | R29: ５０％以上６０％未満
A30: 材工共請負比 | B30: 一次下請 | D30: 二次下請 | F30: 三次以下下請 | H30: 小 計 | J30: 一次下請 | L30: 二次下請 | N30: 三次以下下請 | P30: 小 計 | R30: 一次下請 | T30: 二次下請 | V30: 三次以下下請 | X30: 小 計
A31: ０％ | B31: 775.24465 | C31: 7.6609491 | D31: 48.45279 | E31: 5.3250254 | F31: 48.45279 | G31: 34.926631 | H31: 872.15023 | I31: 7.8093205 | J31: 678.33906 | K31: 6.2355694 | P31: 678.33906 | Q31: 5.8199557 | R31: 193.81116 | S31: 2.0346977 | X31: 193.81116 | Y31: 1.8942144
A32: ０％超 ２５％未満 | B32: 1908.6831 | C32: 18.861561 | D32: 154.75809 | E32: 17.008117 | H32: 2063.4411 | I32: 18.476259 | J32: 1908.6831 | K32: 17.545393 | L32: 154.75809 | M32: 19.921058 | P32: 2063.4411 | Q32: 17.703736 | R32: 1650.7529 | S32: 17.330184 | T32: 154.75809 | U32: 21.906792 | X32: 1805.511 | Y32: 17.646171
A33: ２５％以上５０％未満 | B33: 874.78899 | C33: 8.644644 | D33: 46.041526 | E33: 5.0600242 | H33: 920.83052 | I33: 8.2452087 | J33: 1197.0797 | K33: 11.004045 | L33: 230.20763 | M33: 29.633215 | P33: 1427.2873 | Q33: 12.245718 | R33: 1197.0797 | S33: 12.567363 | T33: 184.1661 | U33: 26.069646 | X33: 1381.2458 | Y33: 13.499613
A34: ５０％以上７５％未満 | B34: 633.37566 | C34: 6.2590032 | D34: 135.72336 | E34: 14.916175 | H34: 769.09901 | I34: 6.8865896 | J34: 859.58125 | K34: 7.9016215 | L34: 90.482237 | M34: 11.647223 | P34: 950.06349 | Q34: 8.1512737 | R34: 995.3046 | S34: 10.449058 | T34: 226.20559 | U34: 32.020548 | X34: 1221.5102 | Y34: 11.938436
A35: ７５％以上８５％未満 | B35: 867.58646 | C35: 8.5734687 | D35: 153.10349 | E35: 16.826275 | F35: 51.034497 | G35: 36.787624 | H35: 1071.7244 | I35: 9.5963281 | J35: 1122.7589 | K35: 10.320858 | L35: 51.034497 | M35: 6.5693576 | P35: 1173.7934 | Q35: 10.070813 | R35: 714.48296 | S35: 7.5008933 | T35: 102.06899 | U35: 14.448384 | X35: 816.55196 | Y35: 7.9805747
A36: ８５％以上９５％未満 | B36: 1020.2417 | C36: 10.082004 | D36: 156.96026 | E36: 17.250139 | F36: 39.240066 | G36: 28.285745 | H36: 1216.4421 | I36: 10.892144 | J36: 1373.4023 | K36: 12.624874 | L36: 78.480132 | M36: 10.102266 | P36: 1451.8824 | Q36: 12.456737 | R36: 863.28146 | S36: 9.0630321 | T36: 39.240066 | U36: 5.5546303 | X36: 902.52152 | Y36: 8.8207986
A37: ９５％以上 | B37: 4039.5129 | C37: 39.91837 | D37: 214.86771 | E37: 23.614243 | H37: 4254.3806 | I37: 38.09415 | J37: 3738.6981 | K37: 34.367638 | L37: 171.89417 | M37: 22.126881 | P37: 3910.5923 | Q37: 33.551766 | R37: 3910.5923 | S37: 41.054772 | X37: 3910.5923 | Y37: 38.220193
A38: 合 計 | B38: 10119.433 | C38: 100 | D38: 909.90722 | E38: 100 | F38: 138.72735 | G38: 100 | H38: 11168.068 | I38: 100 | J38: 10878.542 | K38: 100 | L38: 776.85675 | M38: 100 | P38: 11655.399 | Q38: 100 | R38: 9525.305 | S38: 100 | T38: 706.43884 | U38: 100 | X38: 10231.744 | Y38: 100
A40: 下請比率、次数 | B40: ６０％以上７０％未満 | J40: ７０％以上８０％未満 | R40: ８０％以上９０％未満
A41: 材工共請負比 | B41: 一次下請 | D41: 二次下請 | F41: 三次以下下請 | H41: 小 計 | J41: 一次下請 | L41: 二次下請 | N41: 三次以下下請 | P41: 小 計 | R41: 一次下請 | T41: 二次下請 | V41: 三次以下下請 | X41: 小 計
A42: ０％ | B42: 145.35837 | C42: 1.2855559 | D42: 96.905581 | E42: 7.1087825 | H42: 242.26395 | I42: 1.8843155 | J42: 339.16953 | K42: 3.3748954 | L42: 145.35837 | M42: 8.1288242 | P42: 484.5279 | Q42: 4.0774178 | R42: 532.98069 | S42: 4.0268447 | T42: 48.45279 | U42: 1.7088078 | X42: 581.43348 | Y42: 3.5539016
A43: ０％超 ２５％未満 | B43: 1650.7529 | C43: 14.599332 | D43: 309.51617 | E43: 22.705433 | F43: 51.586029 | G43: 27.638933 | H43: 2011.8551 | I43: 15.648097 | J43: 1495.9948 | K43: 14.885848 | L43: 464.27426 | M43: 25.963443 | P43: 1960.2691 | Q43: 16.496132 | R43: 1031.7206 | S43: 7.7949887 | T43: 567.44632 | U43: 20.012401 | V43: 103.17206 | W43: 35.667197 | X43: 1702.3389 | Y43: 10.405223
A44: ２５％以上５０％未満 | B44: 1104.9966 | C44: 9.7726391 | D44: 276.24916 | E44: 20.265037 | F44: 92.083052 | G44: 49.336561 | H44: 1473.3288 | I44: 11.459469 | J44: 782.70594 | K44: 7.78829 | L44: 322.29068 | M44: 18.023347 | P44: 1104.9966 | Q44: 9.29881 | R44: 920.83052 | S44: 6.9571778 | T44: 460.41526 | U44: 16.237685 | V44: 92.083052 | W44: 31.833662 | X44: 1473.3288 | Y44: 9.0054424
A45: ５０％以上７５％未満 | B45: 1402.4747 | C45: 12.403548 | D45: 135.72336 | E45: 9.95637 | H45: 1538.198 | I45: 11.964018 | J45: 1266.7513 | K45: 12.604768 | L45: 135.72336 | M45: 7.5900087 | N45: 45.241118 | O45: 100 | P45: 1447.7158 | Q45: 12.182873 | R45: 1357.2336 | S45: 10.254346 | T45: 407.17007 | U45: 14.359862 | X45: 1764.4036 | Y45: 10.784582
...
