Workbook
Name ______________________ＴＢＬ１: [1]CSS編集画面!$B$10:$F$22
Name ______________________ＴＢＬ２: [1]CSS編集画面!$B$24:$I$35
Name _____________________ＴＢＬ１: [1]CSS編集画面!$B$10:$F$22
Name _____________________ＴＢＬ２: [1]CSS編集画面!$B$24:$I$35
Name ____________________ＴＢＬ１: [1]CSS編集画面!$B$10:$F$22
Name ____________________ＴＢＬ２: [1]CSS編集画面!$B$24:$I$35
Name ___________________ＴＢＬ１: [1]CSS編集画面!$B$10:$F$22
Name ___________________ＴＢＬ２: [1]CSS編集画面!$B$24:$I$35
Name __________________ＴＢＬ１: [1]CSS編集画面!$B$10:$F$22
Name __________________ＴＢＬ２: [1]CSS編集画面!$B$24:$I$35
Name _________________ＴＢＬ１: [1]CSS編集画面!$B$10:$F$22
Name _________________ＴＢＬ２: [1]CSS編集画面!$B$24:$I$35
Name ________________ＴＢＬ１: [1]CSS編集画面!$B$10:$F$22
Name ________________ＴＢＬ２: [1]CSS編集画面!$B$24:$I$35
Name _______________ＴＢＬ１: [1]CSS編集画面!$B$10:$F$22
Name _______________ＴＢＬ２: [1]CSS編集画面!$B$24:$I$35
Name ______________ＴＢＬ１: [1]CSS編集画面!$B$10:$F$22
Name ______________ＴＢＬ２: [1]CSS編集画面!$B$24:$I$35
Name _____________ＴＢＬ１: [1]CSS編集画面!$B$10:$F$22
Name _____________ＴＢＬ２: [1]CSS編集画面!$B$24:$I$35
Name ____________ＴＢＬ１: [1]CSS編集画面!$B$10:$F$22
Name ____________ＴＢＬ２: [1]CSS編集画面!$B$24:$I$35
Name ___________ＴＢＬ１: [1]CSS編集画面!$B$10:$F$22
Name ___________ＴＢＬ２: [1]CSS編集画面!$B$24:$I$35
Name __________ＴＢＬ１: [1]CSS編集画面!$B$10:$F$22
Name __________ＴＢＬ２: [1]CSS編集画面!$B$24:$I$35
Name _________ＴＢＬ１: [1]CSS編集画面!$B$10:$F$22
Name _________ＴＢＬ２: [1]CSS編集画面!$B$24:$I$35
Name ________ＴＢＬ１: [1]CSS編集画面!$B$10:$F$22
Name ________ＴＢＬ２: [1]CSS編集画面!$B$24:$I$35
Name _______ＴＢＬ１: [1]CSS編集画面!$B$10:$F$22
Name _______ＴＢＬ２: [1]CSS編集画面!$B$24:$I$35
Name ______ＴＢＬ１: [1]CSS編集画面!$B$10:$F$22
Name ______ＴＢＬ２: [1]CSS編集画面!$B$24:$I$35
Name _____ＴＢＬ１: [1]CSS編集画面!$B$10:$F$22
Name _____ＴＢＬ２: [1]CSS編集画面!$B$24:$I$35
Name ____ＴＢＬ１: [1]CSS編集画面!$B$10:$F$22
Name ____ＴＢＬ２: [1]CSS編集画面!$B$24:$I$35
Name ___ＴＢＬ１: [1]CSS編集画面!$B$10:$F$22
Name ___ＴＢＬ２: [1]CSS編集画面!$B$24:$I$35
Name __ＴＢＬ１: [1]CSS編集画面!$B$10:$F$22
Name __ＴＢＬ２: [1]CSS編集画面!$B$24:$I$35
Name _ＴＢＬ１: [1]CSS編集画面!$B$10:$F$22
Name _ＴＢＬ２: [1]CSS編集画面!$B$24:$I$35
Name PAGE1: #REF!
Name PAGE10: #REF!
Name PAGE100: #REF!
Name PAGE1000: #REF!
Name PAGE1001: #REF!
Name PAGE1002: #REF!
Name PAGE1003: #REF!
Name PAGE1004: #REF!
Name PAGE1005: #REF!
Name PAGE1006: #REF!
Name PAGE1007: #REF!
Name PAGE1008: #REF!
Name PAGE1009: #REF!
Name PAGE101: #REF!
Name PAGE1010: #REF!
Name PAGE1011: #REF!

Sheet 3-4-1
A1: 表3－4－1 材工共請負の下請工事件数の比率（下請完工高のある企業のみ対象）
W3: （単位：社、％）
C4: 資本金 | D4: 個 人 | F4: 法 人 | V4: 合 計
A5: 業種 | C5: 材工共請負比率 | F5: 500万円未満 | H5: 500万円以上 1000万円未満 | J5: 1000万円以上 3000万円未満 | L5: 3000万円以上 5000万円未満 | N5: 5000万円以上 1億円未満 | P5: 1億円以上 3億円未満 | R5: 3億円以上 10億円未満 | T5: 10億円以上
A6: 一般土木建築 | B6: 一般土木 建築工事業 | C6: ０％ | H6: 135.28571 | I6: 14.285714 | J6: 109.52 | K6: 4.6511628 | L6: 80.263158 | M6: 7.1428571 | N6: 28.654545 | O6: 5 | P6: 12.357143 | Q6: 9.0909091 | R6: 4.3333333 | S6: 16.666667 | V6: 370.41389 | W6: 6.4245688
C7: ０％超 ２５％未満 | F7: 154 | G7: 33.333333 | H7: 405.85714 | I7: 42.857143 | J7: 328.56 | K7: 13.953488 | L7: 160.52632 | M7: 14.285714 | N7: 114.61818 | O7: 20 | P7: 20.595238 | Q7: 15.151515 | R7: 4.3333333 | S7: 16.666667 | T7: 2.6 | U7: 5.8823529 | V7: 1191.0902 | W7: 20.658623
C8: ２５％以上５０％未満 | H8: 135.28571 | I8: 14.285714 | J8: 273.8 | K8: 11.627907 | L8: 40.131579 | M8: 3.5714286 | N8: 71.636364 | O8: 12.5 | P8: 4.1190476 | Q8: 3.030303 | T8: 2.6 | U8: 5.8823529 | V8: 527.5727 | W8: 9.150378
C9: ５０％以上７５％未満 | J9: 273.8 | K9: 11.627907 | L9: 80.263158 | M9: 7.1428571 | N9: 71.636364 | O9: 12.5 | P9: 8.2380952 | Q9: 6.0606061 | V9: 433.93762 | W9: 7.5263432
C10: ７５％以上８５％未満 | H10: 135.28571 | I10: 14.285714 | J10: 219.04 | K10: 9.3023256 | L10: 80.263158 | M10: 7.1428571 | N10: 57.309091 | O10: 10 | P10: 20.595238 | Q10: 15.151515 | V10: 512.4932 | W10: 8.8888347
C11: ８５％以上９５％未満 | J11: 164.28 | K11: 6.9767442 | L11: 120.39474 | M11: 10.714286 | N11: 57.309091 | O11: 10 | P11: 8.2380952 | Q11: 6.0606061 | V11: 350.22192 | W11: 6.0743533
C12: ９５％以上 | D12: 99 | E12: 100 | F12: 308 | G12: 66.666667 | H12: 135.28571 | I12: 14.285714 | J12: 985.68 | K12: 41.860465 | L12: 561.84211 | M12: 50 | N12: 171.92727 | O12: 30 | P12: 61.785714 | Q12: 45.454545 | R12: 17.333333 | S12: 66.666667 | T12: 39 | U12: 88.235294 | V12: 2379.8541 | W12: 41.276899
C13: 小 計 | D13: 99 | E13: 100 | F13: 462 | G13: 100 | H13: 947 | I13: 100 | J13: 2354.68 | K13: 100 | L13: 1123.6842 | M13: 100 | N13: 573.09091 | O13: 100 | P13: 135.92857 | Q13: 100 | R13: 26 | S13: 100 | T13: 44.2 | U13: 100 | V13: 5765.5837 | W13: 100
A14: 土 木 | B14: 土木工事業 | C14: ０％ | D14: 505.25 | E14: 27.272727 | F14: 905.1875 | G14: 15.555556 | H14: 717.20339 | I14: 14.583333 | J14: 1868.5263 | K14: 20.338983 | L14: 318.7561 | M14: 10.294118 | N14: 132.05085 | O14: 15.217391 | P14: 3.21875 | Q14: 5.2631579 | R14: 3.6 | S14: 25 | V14: 4453.7929 | W14: 17.238482
C15: ０％超 ２５％未満 | D15: 168.41667 | E15: 9.0909091 | F15: 2327.625 | G15: 40 | H15: 1536.8644 | I15: 31.25 | J15: 2024.2368 | K15: 22.033898 | L15: 637.5122 | M15: 20.588235 | N15: 226.37288 | O15: 26.086957 | P15: 16.09375 | Q15: 26.315789 | R15: 3.6 | S15: 25 | T15: 2.5 | U15: 12.5 | V15: 6943.2217 | W15: 26.87386
C16: ２５％以上５０％未満 | D16: 505.25 | E16: 27.272727 | F16: 129.3125 | G16: 2.2222222 | H16: 717.20339 | I16: 14.583333 | J16: 1089.9737 | K16: 11.864407 | L16: 318.7561 | M16: 10.294118 | N16: 75.457627 | O16: 8.6956522 | P16: 9.65625 | Q16: 15.789474 | R16: 3.6 | S16: 25 | V16: 2849.2095 | W16: 11.027915
C17: ５０％以上７５％未満 | D17: 168.41667 | E17: 9.0909091 | F17: 517.25 | G17: 8.8888889 | H17: 512.28814 | I17: 10.416667 | J17: 1089.9737 | K17: 11.864407 | L17: 364.29268 | M17: 11.764706 | N17: 56.59322 | O17: 6.5217391 | P17: 3.21875 | Q17: 5.2631579 | T17: 2.5 | U17: 12.5 | V17: 2714.5331 | W17: 10.506647
C18: ７５％以上８５％未満 | D18: 168.41667 | E18: 9.0909091 | F18: 517.25 | G18: 8.8888889 | H18: 307.37288 | I18: 6.25 | J18: 467.13158 | K18: 5.0847458 | L18: 182.14634 | M18: 5.8823529 | R18: 3.6 | S18: 25 | V18: 1645.9175 | W18: 6.370552
C19: ８５％以上９５％未満 | F19: 258.625 | G19: 4.4444444 | H19: 614.74576 | I19: 12.5 | J19: 311.42105 | K19: 3.3898305 | L19: 409.82927 | M19: 13.235294 | N19: 113.18644 | O19: 13.043478 | P19: 9.65625 | Q19: 15.789474 | V19: 1717.4638 | W19: 6.6474733
C20: ９５％以上 | D20: 336.83333 | E20: 18.181818 | F20: 1163.8125 | G20: 20 | H20: 512.28814 | I20: 10.416667 | J20: 2335.6579 | K20: 25.423729 | L20: 865.19512 | M20: 27.941176 | N20: 264.10169 | O20: 30.434783 | P20: 19.3125 | Q20: 31.578947 | T20: 15 | U20: 75 | V20: 5512.2012 | W20: 21.33507
C21: 小 計 | D21: 1852.5833 | E21: 100 | F21: 5819.0625 | G21: 100 | H21: 4917.9661 | I21: 100 | J21: 9186.9211 | K21: 100 | L21: 3096.4878 | M21: 100 | N21: 867.76271 | O21: 100 | P21: 61.15625 | Q21: 100 | R21: 14.4 | S21: 100 | T21: 20 | U21: 100 | V21: 25836.34 | W21: 100
B22: ほ装工事業 | C22: ０％ | D22: 14.5 | E22: 50 | F22: 274.96552 | G22: 37.5 | H22: 89.125 | I22: 13.043478 | J22: 66.380952 | K22: 5 | L22: 14.913043 | M22: 5 | N22: 11.225806 | O22: 9.6774194 | V22: 471.11032 | W22: 14.706512
C23: ０％超 ２５％未満 | D23: 9.6666667 | E23: 33.333333 | F23: 61.103448 | G23: 8.3333333 | H23: 118.83333 | I23: 17.391304 | J23: 165.95238 | K23: 12.5 | L23: 29.826087 | M23: 10 | N23: 14.967742 | O23: 12.903226 | V23: 400.34966 | W23: 12.497597
C24: ２５％以上５０％未満 | F24: 61.103448 | G24: 8.3333333 | H24: 59.416667 | I24: 8.6956522 | J24: 99.571429 | K24: 7.5 | L24: 14.913043 | M24: 5 | N24: 7.483871 | O24: 6.4516129 | P24: 4 | Q24: 40 | V24: 246.48846 | W24: 7.6945577
C25: ５０％以上７５％未満 | D25: 4.8333333 | E25: 16.666667 | F25: 122.2069 | G25: 16.666667 | H25: 29.708333 | I25: 4.3478261 | J25: 132.7619 | K25: 10 | L25: 29.826087 | M25: 10 | N25: 14.967742 | O25: 12.903226 | V25: 334.3043 | W25: 10.435879
C26: ７５％以上８５％未満 | F26: 30.551724 | G26: 4.1666667 | H26: 59.416667 | I26: 8.6956522 | J26: 33.190476 | K26: 2.5 | L26: 22.369565 | M26: 7.5 | N26: 14.967742 | O26: 12.903226 | V26: 160.49617 | W26: 5.0101618
C27: ８５％以上９５％未満 | H27: 148.54167 | I27: 21.73913 | J27: 199.14286 | K27: 15 | L27: 59.652174 | M27: 20 | N27: 14.967742 | O27: 12.903226 | P27: 2 | Q27: 20 | T27: 6 | U27: 100 | V27: 430.30444 | W27: 13.432687
C28: ９５％以上 | F28: 183.31034 | G28: 25 | H28: 178.25 | I28: 26.086957 | J28: 630.61905 | K28: 47.5 | L28: 126.76087 | M28: 42.5 | N28: 37.419355 | O28: 32.258065 | P28: 4 | Q28: 40 | V28: 1160.3596 | W28: 36.222605
C29: 小 計 | D29: 29 | E29: 100 | F29: 733.24138 | G29: 100 | H29: 683.29167 | I29: 100 | J29: 1327.619 | K29: 100 | L29: 298.26087 | M29: 100 | N29: 116 | O29: 100 | P29: 10 | Q29: 100 | T29: 6 | U29: 100 | V29: 3203.413 | W29: 100
B30: しゅんせつ 工事業 | C30: ０％ | J30: 15.333333 | K30: 50 | L30: 18 | M30: 66.666667 | N30: 8 | O30: 100 | V30: 41.333333 | W30: 30.693069
C31: ０％超 ２５％未満 | L31: 9 | M31: 33.333333 | V31: 9 | W31: 6.6831683
C32: ２５％以上５０％未満 | J32: 15.333333 | K32: 50 | V32: 15.333333 | W32: 11.386139
C33: ５０％以上７５％未満 | H33: 69 | I33: 100 | V33: 69 | W33: 51.237624
C34: ７５％以上８５％未満
C35: ８５％以上９５％未満
C36: ９５％以上
C37: 小 計 | H37: 69 | I37: 100 | J37: 30.666667 | K37: 100 | L37: 27 | M37: 100 | N37: 8 | O37: 100 | V37: 134.66667 | W37: 100
B38: 造園工事業 | C38: ０％ | H38: 30.75 | I38: 11.111111 | J38: 90.382979 | K38: 15.384615 | L38: 12.510638 | M38: 9.7560976 | N38: 6 | O38: 17.647059 | V38: 139.64362 | W38: 7.9856888
C39: ０％超 ２５％未満 | F39: 389.4 | G39: 75 | H39: 30.75 | I39: 11.111111 | J39: 135.57447 | K39: 23.076923 | L39: 18.765957 | M39: 14.634146 | N39: 4 | O39: 11.764706 | V39: 578.49043 | W39: 33.081673
C40: ２５％以上５０％未満 | H40: 92.25 | I40: 33.333333 | J40: 60.255319 | K40: 10.25641 | L40: 6.2553191 | M40: 4.8780488 | N40: 2 | O40: 5.8823529 | V40: 160.76064 | W40: 9.1932912
C41: ５０％以上７５％未満 | D41: 203 | E41: 100 | H41: 30.75 | I41: 11.111111 | J41: 30.12766 | K41: 5.1282051 | L41: 6.2553191 | M41: 4.8780488 | V41: 270.13298 | W41: 15.447881
C42: ７５％以上８５％未満 | H42: 30.75 | I42: 11.111111 | J42: 75.319149 | K42: 12.820513 | L42: 6.2553191 | M42: 4.8780488 | N42: 2 | O42: 5.8823529 | V42: 114.32447 | W42: 6.5377827
C43: ８５％以上９５％未満 | J43: 15.06383 | K43: 2.5641026 | L43: 21.893617 | M43: 17.073171 | N43: 4 | O43: 11.764706 | V43: 40.957447 | W43: 2.342201
C44: ９５％以上 | F44: 129.8 | G44: 25 | H44: 61.5 | I44: 22.222222 | J44: 180.76596 | K44: 30.769231 | L44: 56.297872 | M44: 43.902439 | N44: 16 | O44: 47.058824 | V44: 444.36383 | W44: 25.411482
C45: 小 計 | D45: 203 | E45: 100 | F45: 519.2 | G45: 100 | H45: 276.75 | I45: 100 | J45: 587.48936 | K45: 100 | L45: 128.23404 | M45: 100 | N45: 34 | O45: 100 | V45: 1748.6734 | W45: 100
B46: 水道施設 工事業 | C46: ０％ | F46: 59.692308 | G46: 18.181818 | H46: 47.555556 | I46: 14.285714 | J46: 89.324324 | K46: 15.625 | L46: 24.6875 | M46: 18.518519 | N46: 10.666667 | O46: 33.333333 | V46: 231.92635 | W46: 15.850791
C47: ０％超 ２５％未満 | F47: 89.538462 | G47: 27.272727 | H47: 47.555556 | I47: 14.285714 | J47: 71.459459 | K47: 12.5 | L47: 24.6875 | M47: 18.518519 | V47: 233.24098 | W47: 15.940637
C48: ２５％以上５０％未満 | F48: 29.846154 | G48: 9.0909091 | J48: 71.459459 | K48: 12.5 | N48: 5.3333333 | O48: 16.666667 | V48: 106.63895 | W48: 7.2881395
C49: ５０％以上７５％未満 | F49: 29.846154 | G49: 9.0909091 | H49: 95.111111 | I49: 28.571429 | J49: 53.594595 | K49: 9.375 | L49: 14.8125 | M49: 11.111111 | N49: 5.3333333 | O49: 16.666667 | V49: 198.69769 | W49: 13.579809
C50: ７５％以上８５％未満 | F50: 89.538462 | G50: 27.272727 | H50: 47.555556 | I50: 14.285714 | J50: 35.72973 | K50: 6.25 | L50: 24.6875 | M50: 18.518519 | V50: 197.51125 | W50: 13.498722
C51: ８５％以上９５％未満 | D51: 65 | E51: 100 | J51: 35.72973 | K51: 6.25 | L51: 4.9375 | M51: 3.7037037 | N51: 5.3333333 | O51: 16.666667 | V51: 111.00056 | W51: 7.5862301
C52: ９５％以上 | F52: 29.846154 | G52: 9.0909091 | H52: 95.111111 | I52: 28.571429 | J52: 214.37838 | K52: 37.5 | L52: 39.5 | M52: 29.62963 | N52: 5.3333333 | O52: 16.666667 | V52: 384.16898 | W52: 26.255671
C53: 小 計 | D53: 65 | E53: 100 | F53: 328.30769 | G53: 100 | H53: 332.88889 | I53: 100 | J53: 571.67568 | K53: 100 | L53: 133.3125 | M53: 100 | N53: 32 | O53: 100 | V53: 1463.1848 | W53: 100
A54: 小 計 | C54: ０％ | D54: 519.75 | E54: 24.179104 | F54: 1239.8453 | G54: 16.755093 | H54: 884.63395 | I54: 14.08676 | J54: 2129.9479 | K54: 18.197883 | L54: 388.86728 | M54: 10.557592 | N54: 167.94332 | O54: 15.877221 | P54: 3.21875 | Q54: 4.5234958 | R54: 3.6 | S54: 25 | V54: 5337.8065 | W54: 16.481692
C55: ０％超 ２５％未満 | D55: 178.08333 | E55: 8.2845513 | F55: 2867.6669 | G55: 38.753242 | H55: 1734.0033 | I55: 27.611972 | J55: 2397.2232 | K55: 20.481434 | L55: 719.79174 | M55: 19.542059 | N55: 245.34062 | O55: 23.194297 | P55: 16.09375 | Q55: 22.617479 | R55: 3.6 | S55: 25 | T55: 2.5 | U55: 9.6153846 | V55: 8164.3028 | W55: 25.209142
C56: ２５％以上５０％未満 | D56: 505.25 | E56: 23.504555 | F56: 220.2621 | G56: 2.9765907 | H56: 868.87006 | I56: 13.835738 | J56: 1336.5932 | K56: 11.419607 | L56: 339.92446 | M56: 9.2288139 | N56: 90.274831 | O56: 8.5345069 | P56: 13.65625 | Q56: 19.191919 | R56: 3.6 | S56: 25 | V56: 3378.4309 | W56: 10.431674
C57: ５０％以上７５％未満 | D57: 376.25 | E57: 17.503392 | F57: 669.30305 | G57: 9.0448661 | H57: 736.85758 | I57: 11.733594 | J57: 1306.4578 | K57: 11.162136 | L57: 415.18659 | M57: 11.272151 | N57: 76.894296 | O57: 7.2695222 | P57: 3.21875 | Q57: 4.5234958 | T57: 2.5 | U57: 9.6153846 | V57: 3586.6681 | W57: 11.074654
C58: ７５％以上８５％未満 | D58: 168.41667 | E58: 7.8348517 | F58: 637.34019 | G58: 8.6129245 | H58: 445.0951 | I58: 7.0876183 | J58: 611.37093 | K58: 5.2234408 | L58: 235.45873 | M58: 6.3926107 | N58: 16.967742 | O58: 1.6041161 | R58: 3.6 | S58: 25 | V58: 2118.2494 | W58: 6.5405768
C59: ８５％以上９５％未満 | D59: 65 | E59: 3.0238418 | F59: 258.625 | G59: 3.4950214 | H59: 763.28743 | I59: 12.154458 | J59: 561.35747 | K59: 4.796135 | L59: 496.31256 | M59: 13.474689 | N59: 137.48752 | O59: 12.997954 | P59: 11.65625 | Q59: 16.381203 | T59: 6 | U59: 23.076923 | V59: 2299.7262 | W59: 7.1009279
C60: ９５％以上 | D60: 336.83333 | E60: 15.669703 | F60: 1506.769 | G60: 20.362262 | H60: 847.14925 | I60: 13.48986 | J60: 3361.4213 | K60: 28.719365 | L60: 1087.7539 | M60: 29.532085 | N60: 322.85438 | O60: 30.522383 | P60: 23.3125 | Q60: 32.762407 | T60: 15 | U60: 57.692308 | V60: 7501.0936 | W60: 23.161333
C61: 小 計 | D61: 2149.5833 | E61: 100 | F61: 7399.8116 | G61: 100 | H61: 6279.8967 | I61: 100 | J61: 11704.372 | K61: 100 | L61: 3683.2952 | M61: 100 | N61: 1057.7627 | O61: 100 | P61: 71.15625 | Q61: 100 | R61: 14.4 | S61: 100 | T61: 26 | U61: 100 | V61: 32386.278 | W61: 100
A62: 建 築 | B62: 建築工事業 | C62: ０％ | H62: 378.69444 | I62: 14.285714 | J62: 606 | K62: 4.6511628 | L62: 166.76923 | M62: 7.1428571 | N62: 65.275862 | O62: 5 | P62: 27.857143 | Q62: 9.0909091 | R62: 2.5789474 | S62: 16.666667 | V62: 1247.1756 | W62: 5.5811759
C63: ０％超 ２５％未満 | F63: 679.71429 | G63: 33.333333 | H63: 1136.0833 | I63: 42.857143 | J63: 1818 | K63: 13.953488 | L63: 333.53846 | M63: 14.285714 | N63: 261.10345 | O63: 20 | P63: 46.428571 | Q63: 15.151515 | R63: 2.5789474 | S63: 16.666667 | T63: 8.8 | U63: 5.8823529 | V63: 4286.247 | W63: 19.181179
C64: ２５％以上５０％未満 | H64: 378.69444 | I64: 14.285714 | J64: 1515 | K64: 11.627907 | L64: 83.384615 | M64: 3.5714286 | N64: 163.18966 | O64: 12.5 | P64: 9.2857143 | Q64: 3.030303 | T64: 8.8 | U64: 5.8823529 | V64: 2158.3544 | W64: 9.6587485
C65: ５０％以上７５％未満 | J65: 1515 | K65: 11.627907 | L65: 166.76923 | M65: 7.1428571 | N65: 163.18966 | O65: 12.5 | P65: 18.571429 | Q65: 6.0606061 | V65: 1863.5303 | W65: 8.3393953
C66: ７５％以上８５％未満 | H66: 378.69444 | I66: 14.285714 | J66: 1212 | K66: 9.3023256 | L66: 166.76923 | M66: 7.1428571 | N66: 130.55172 | O66: 10 | P66: 46.428571 | Q66: 15.151515 | V66: 1934.444 | W66: 8.6567376
C67: ８５％以上９５％未満 | J67: 909 | K67: 6.9767442 | L67: 250.15385 | M67: 10.714286 | N67: 130.55172 | O67: 10 | P67: 18.571429 | Q67: 6.0606061 | V67: 1308.277 | W67: 5.8546077
C68: ９５％以上 | D68: 515.31579 | E68: 100 | F68: 1359.4286 | G68: 66.666667 | H68: 378.69444 | I68: 14.285714 | J68: 5454 | K68: 41.860465 | L68: 1167.3846 | M68: 50 | N68: 391.65517 | O68: 30 | P68: 139.28571 | Q68: 45.454545 | R68: 10.315789 | S68: 66.666667 | T68: 132 | U68: 88.235294 | V68: 9548.0801 | W68: 42.728156
C69: 小 計 | D69: 515.31579 | E69: 100 | F69: 2039.1429 | G69: 100 | H69: 2650.8611 | I69: 100 | J69: 13029 | K69: 100 | L69: 2334.7692 | M69: 100 | N69: 1305.5172 | O69: 100 | P69: 306.42857 | Q69: 100 | R69: 15.473684 | S69: 100 | T69: 149.6 | U69: 100 | V69: 22346.108 | W69: 100
A70: 建 築 | B70: 木造建築 工事業 | C70: ０％ | F70: 163.48276 | G70: 7.6923077 | H70: 268.93023 | I70: 26.666667 | J70: 73.8 | K70: 10 | L70: 9.2352941 | M70: 14.285714 | N70: 4.7826087 | O70: 11.111111 | V70: 520.23089 | W70: 8.8393438
C71: ０％超 ２５％未満 | D71: 475.09091 | E71: 25 | F71: 163.48276 | G71: 7.6923077 | H71: 134.46512 | I71: 13.333333 | J71: 147.6 | K71: 20 | L71: 18.470588 | M71: 28.571429 | N71: 9.5652174 | O71: 22.222222 | R71: 2 | S71: 100 | V71: 950.67459 | W71: 16.153096
C72: ２５％以上５０％未満 | F72: 326.96552 | G72: 15.384615 | H72: 67.232558 | I72: 6.6666667 | L72: 9.2352941 | M72: 14.285714 | V72: 403.43337 | W72: 6.8548145
C73: ５０％以上７５％未満 | F73: 490.44828 | G73: 23.076923 | H73: 67.232558 | I73: 6.6666667 | L73: 9.2352941 | M73: 14.285714 | N73: 4.7826087 | O73: 11.111111 | V73: 571.69874 | W73: 9.7138439
C74: ７５％以上８５％未満 | D74: 475.09091 | E74: 25 | F74: 163.48276 | G74: 7.6923077 | J74: 73.8 | K74: 10 | L74: 9.2352941 | M74: 14.285714 | V74: 721.60896 | W74: 12.260998
C75: ８５％以上９５％未満 | F75: 326.96552 | G75: 15.384615 | H75: 134.46512 | I75: 13.333333 | J75: 221.4 | K75: 30 | N75: 4.7826087 | O75: 11.111111 | V75: 687.61324 | W75: 11.68337
C76: ９５％以上 | D76: 950.18182 | E76: 50 | F76: 490.44828 | G76: 23.076923 | H76: 336.16279 | I76: 33.333333 | J76: 221.4 | K76: 30 | L76: 9.2352941 | M76: 14.285714 | N76: 19.130435 | O76: 44.444444 | P76: 3.5833333 | Q76: 100 | V76: 2030.1419 | W76: 34.494535
C77: 小 計 | D77: 1900.3636 | E77: 100 | F77: 2125.2759 | G77: 100 | H77: 1008.4884 | I77: 100 | J77: 738 | K77: 100 | L77: 64.647059 | M77: 100 | N77: 43.043478 | O77: 100 | P77: 3.5833333 | Q77: 100 | R77: 2 | S77: 100 | V77: 5885.4017 | W77: 100
A78: 小 計 | C78: ０％ | F78: 163.48276 | G78: 3.9257042 | H78: 647.62468 | I78: 17.697809 | J78: 679.8 | K78: 4.937895 | L78: 176.00452 | M78: 7.3353059 | N78: 70.058471 | O78: 5.195055 | P78: 27.857143 | Q78: 8.98583 | R78: 2.5789474 | S78: 14.759036 | V78: 1767.4065 | W78: 6.2604037
C79: ０％超 ２５％未満 | D79: 475.09091 | E79: 19.666968 | F79: 843.19704 | G79: 20.247653 | H79: 1270.5484 | I79: 34.72061 | J79: 1965.6 | K79: 14.27762 | L79: 352.00905 | M79: 14.670612 | N79: 270.66867 | O79: 20.070929 | P79: 46.428571 | Q79: 14.976383 | R79: 4.5789474 | S79: 26.204819 | T79: 8.8 | U79: 5.8823529 | V79: 5236.9216 | W79: 18.549917
C80: ２５％以上５０％未満 | F80: 326.96552 | G80: 7.8514083 | H80: 445.927 | I80: 12.185964 | J80: 1515 | K80: 11.004576 | L80: 92.61991 | M80: 3.8601017 | N80: 163.18966 | O80: 12.101024 | P80: 9.2857143 | Q80: 2.9952767 | T80: 8.8 | U80: 5.8823529 | V80: 2561.7878 | W80: 9.0742145
C81: ５０％以上７５％未満 | F81: 490.44828 | G81: 11.777112 | H81: 67.232558 | I81: 1.8372817 | J81: 1515 | K81: 11.004576 | L81: 176.00452 | M81: 7.3353059 | N81: 167.97226 | O81: 12.455669 | P81: 18.571429 | Q81: 5.9905534 | V81: 2435.2291 | W81: 8.6259255
C82: ７５％以上８５％未満 | D82: 475.09091 | E82: 19.666968 | F82: 163.48276 | G82: 3.9257042 | H82: 378.69444 | I82: 10.348682 | J82: 1285.8 | K82: 9.3397254 | L82: 176.00452 | M82: 7.3353059 | N82: 130.55172 | O82: 9.6808191 | P82: 46.428571 | Q82: 14.976383 | V82: 2656.0529 | W82: 9.4081149
C83: ８５％以上９５％未満 | F83: 326.96552 | G83: 7.8514083 | H83: 134.46512 | I83: 3.6745634 | J83: 1130.4 | K83: 8.2109392 | L83: 250.15385 | M83: 10.425613 | N83: 135.33433 | O83: 10.035465 | P83: 18.571429 | Q83: 5.9905534 | V83: 1995.8902 | W83: 7.0697254
C84: ９５％以上 | D84: 1465.4976 | E84: 60.666063 | F84: 1849.8768 | G84: 44.42101 | H84: 714.85724 | I84: 19.535091 | J84: 5675.4 | K84: 41.224668 | L84: 1176.6199 | M84: 49.037756 | N84: 410.78561 | O84: 30.461039 | P84: 142.86905 | Q84: 46.08502 | R84: 10.315789 | S84: 59.036145 | T84: 132 | U84: 88.235294 | V84: 11578.222 | W84: 41.011699
C85: 小 計 | D85: 2415.6794 | E85: 100 | F85: 4164.4187 | G85: 100 | H85: 3659.3495 | I85: 100 | J85: 13767 | K85: 100 | L85: 2399.4163 | M85: 100 | N85: 1348.5607 | O85: 100 | P85: 310.0119 | Q85: 100 | R85: 17.473684 | S85: 100 | T85: 149.6 | U85: 100 | V85: 28231.51 | W85: 100
A86: 職 別 | B86: 大工工事業 | C86: ０％ | D86: 303.2 | E86: 20 | F86: 335.56098 | G86: 18.181818 | H86: 136.38095 | I86: 10.25641 | J86: 57.914894 | K86: 5 | V86: 833.05682 | W86: 13.956768
C87: ０％超 ２５％未満 | D87: 303.2 | E87: 20 | F87: 223.70732 | G87: 12.121212 | H87: 170.47619 | I87: 12.820513 | J87: 86.87234 | K87: 7.5 | N87: 2.625 | O87: 6.25 | P87: 1.6666667 | Q87: 33.333333 | V87: 788.54751 | W87: 13.211074
C88: ２５％以上５０％未満 | D88: 151.6 | E88: 10 | F88: 111.85366 | G88: 6.0606061 | H88: 102.28571 | I88: 7.6923077 | J88: 57.914894 | K88: 5 | L88: 10.32 | M88: 14.285714 | N88: 2.625 | O88: 6.25 | V88: 436.59927 | W88: 7.3146448
C89: ５０％以上７５％未満 | D89: 151.6 | E89: 10 | F89: 167.78049 | G89: 9.0909091 | J89: 28.957447 | K89: 2.5 | L89: 10.32 | M89: 14.285714 | N89: 5.25 | O89: 12.5 | V89: 363.90793 | W89: 6.0967975
C90: ７５％以上８５％未満 | D90: 151.6 | E90: 10 | F90: 55.926829 | G90: 3.030303 | H90: 102.28571 | I90: 7.6923077 | J90: 57.914894 | K90: 5 | L90: 3.44 | M90: 4.7619048 | N90: 2.625 | O90: 6.25 | V90: 373.79244 | W90: 6.2623993
C91: ８５％以上９５％未満 | D91: 151.6 | E91: 10 | F91: 223.70732 | G91: 12.121212 | H91: 136.38095 | I91: 10.25641 | J91: 376.44681 | K91: 32.5 | L91: 6.88 | M91: 9.5238095 | N91: 10.5 | O91: 25 | P91: 1.6666667 | Q91: 33.333333 | V91: 907.18174 | W91: 15.198634
C92: ９５％以上 | D92: 303.2 | E92: 20 | F92: 727.04878 | G92: 39.393939 | H92: 681.90476 | I92: 51.282051 | J92: 492.2766 | K92: 42.5 | L92: 41.28 | M92: 57.142857 | N92: 18.375 | O92: 43.75 | P92: 1.6666667 | Q92: 33.333333 | V92: 2265.7518 | W92: 37.959683
C93: 小 計 | D93: 1516 | E93: 100 | F93: 1845.5854 | G93: 100 | H93: 1329.7143 | I93: 100 | J93: 1158.2979 | K93: 100 | L93: 72.24 | M93: 100 | N93: 42 | O93: 100 | P93: 5 | Q93: 100 | V93: 5968.8375 | W93: 100
B94: とび・土工・ コンクリート 工事業 | C94: ０％ | D94: 445.23077 | E94: 33.333333 | F94: 1560.6 | G94: 20.930233 | H94: 856.32558 | I94: 20.481928 | J94: 456.576 | K94: 13.22314 | L94: 47 | M94: 15.116279 | N94: 19.225806 | O94: 13.559322 | P94: 2.4444444 | Q94: 7.6923077 | V94: 3387.4026 | W94: 20.02825
C95: ０％超 ２５％未満 | D95: 445.23077 | E95: 33.333333 | F95: 1647.3 | G95: 22.093023 | H95: 755.5814 | I95: 18.072289 | J95: 656.328 | K95: 19.008264 | L95: 72.307692 | M95: 23.255814 | N95: 26.435484 | O95: 18.644068 | P95: 8.5555556 | Q95: 26.923077 | R95: 1 | S95: 50 | V95: 3612.7389 | W95: 21.360566
C96: ２５％以上５０％未満 | D96: 111.30769 | E96: 8.3333333 | F96: 780.3 | G96: 10.465116 | H96: 402.97674 | I96: 9.6385542 | J96: 342.432 | K96: 9.9173554 | L96: 18.076923 | M96: 5.8139535 | N96: 14.419355 | O96: 10.169492 | P96: 1.2222222 | Q96: 3.8461538 | V96: 1670.7349 | W96: 9.8783348
C97: ５０％以上７５％未満 | F97: 780.3 | G97: 10.465116 | H97: 151.11628 | I97: 3.6144578 | J97: 256.824 | K97: 7.4380165 | L97: 36.153846 | M97: 11.627907 | N97: 14.419355 | O97: 10.169492 | P97: 3.6666667 | Q97: 11.538462 | V97: 1242.4801 | W97: 7.346249
C98: ７５％以上８５％未満 | D98: 111.30769 | E98: 8.3333333 | F98: 606.9 | G98: 8.1395349 | H98: 503.72093 | I98: 12.048193 | J98: 228.288 | K98: 6.6115702 | L98: 14.461538 | M98: 4.6511628 | N98: 16.822581 | O98: 11.864407 | P98: 3.6666667 | Q98: 11.538462 | V98: 1485.1674 | W98: 8.7811541
C99: ８５％以上９５％未満 | D99: 111.30769 | E99: 8.3333333 | F99: 433.5 | G99: 5.8139535 | H99: 302.23256 | I99: 7.2289157 | J99: 570.72 | K99: 16.528926 | L99: 28.923077 | M99: 9.3023256 | N99: 7.2096774 | O99: 5.0847458 | P99: 4.8888889 | Q99: 15.384615 | V99: 1458.7819 | W99: 8.6251479
C100: ９５％以上 | D100: 111.30769 | E100: 8.3333333 | F100: 1647.3 | G100: 22.093023 | H100: 1208.9302 | I100: 28.915663 | J100: 941.688 | K100: 27.272727 | L100: 94 | M100: 30.232558 | N100: 43.258065 | O100: 30.508475 | P100: 7.3333333 | Q100: 23.076923 | R100: 1 | S100: 50 | T100: 1 | U100: 100 | V100: 4055.8173 | W100: 23.980298
C101: 小 計 | D101: 1335.6923 | E101: 100 | F101: 7456.2 | G101: 100 | H101: 4180.8837 | I101: 100 | J101: 3452.856 | K101: 100 | L101: 310.92308 | M101: 100 | N101: 141.79032 | O101: 100 | P101: 31.777778 | Q101: 100 | R101: 2 | S101: 100 | T101: 1 | U101: 100 | V101: 16913.123 | W101: 100
...

Sheet 3-4-2
A1: 表3－4－2 材工共請負の下請工事件数の比率（経年変化①：6業種別）（下請完工高のある企業のみ対象）
S3: （単位：社、％）
B4: 年度 | C4: R06年度 | F4: R01年度 | I4: H26年度 | L4: H23年度 | O4: H20年度 | R4: H17年度
A6: 業種 | B6: 材工共請負比率 | E6: 増減 | H6: 増減 | K6: 増減 | N6: 増減 | Q6: 増減
A7: 一般土木建築 | B7: ０％ | C7: ='3-4-1'!V6 -> 370.41389 | D7: ='3-4-1'!W6 -> 6.4245688 | E7: =D7-G7 -> 0.62952542 | F7: 154.66051 | G7: 5.7950434 | H7: =G7-J7 -> -0.65311526 | I7: 220.16699 | J7: 6.4481587 | K7: =J7-M7 -> -0.35184131 | L7: 239.37 | M7: 6.8 | N7: =M7-P7 -> 1.3 | O7: 242.7 | P7: 5.5 | Q7: =P7-S7 -> 1.2 | R7: 222 | S7: 4.3
B8: ０％超２５％未満 | C8: ='3-4-1'!V7 -> 1191.0902 | D8: ='3-4-1'!W7 -> 20.658623 | E8: =D8-G8 -> -10.36963 | F8: 828.0948 | G8: 31.028253 | H8: =G8-J8 -> 9.234621 | I8: 744.12534 | J8: 21.793632 | K8: =J8-M8 -> 7.1936317 | L8: 512.55 | M8: 14.6 | N8: =M8-P8 -> -7.2 | O8: 956.05 | P8: 21.8 | Q8: =P8-S8 -> -2.2 | R8: 1247 | S8: 24
B9: ２５％以上５０％未満 | C9: ='3-4-1'!V8 -> 527.5727 | D9: ='3-4-1'!W8 -> 9.150378 | E9: =D9-G9 -> 0.44183262 | F9: 232.41725 | G9: 8.7085454 | H9: =G9-J9 -> -1.886554 | I9: 361.76082 | J9: 10.595099 | K9: =J9-M9 -> 2.0950995 | L9: 299.69 | M9: 8.5 | N9: =M9-P9 -> -3.3 | O9: 517.93 | P9: 11.8 | Q9: =P9-S9 -> 1.7 | R9: 525 | S9: 10.1
B10: ５０％以上７５％未満 | C10: ='3-4-1'!V9 -> 433.93762 | D10: ='3-4-1'!W9 -> 7.5263432 | E10: =D10-G10 -> 0.87911076 | F10: 177.40408 | G10: 6.6472324 | H10: =G10-J10 -> 0.35059209 | I10: 214.99352 | J10: 6.2966404 | K10: =J10-M10 -> -1.6033596 | L10: 277.76 | M10: 7.9 | N10: =M10-P10 -> 0.7 | O10: 317.53 | P10: 7.2 | Q10: =P10-S10 -> -2.7 | R10: 514 | S10: 9.9
B11: ７５％以上８５％未満 | C11: ='3-4-1'!V10 -> 512.4932 | D11: ='3-4-1'!W10 -> 8.8888347 | E11: =D11-G11 -> 1.9734711 | F11: 184.56007 | G11: 6.9153636 | H11: =G11-J11 -> -0.31552382 | I11: 246.89261 | J11: 7.2308874 | K11: =J11-M11 -> -1.1691126 | L11: 293.97 | M11: 8.4 | N11: =M11-P11 -> -1.6 | O11: 437.39 | P11: 10 | Q11: =P11-S11 -> 1.9 | R11: 421 | S11: 8.1
B12: ８５％以上９５％未満 | C12: ='3-4-1'!V11 -> 350.22192 | D12: ='3-4-1'!W11 -> 6.0743533 | E12: =D12-G12 -> -2.8444255 | F12: 238.02805 | G12: 8.9187788 | H12: =G12-J12 -> -2.1726504 | I12: 378.70758 | J12: 11.091429 | K12: =J12-M12 -> -5.1085708 | L12: 566.95 | M12: 16.2 | N12: =M12-P12 -> 5.9 | O12: 452.33 | P12: 10.3 | Q12: =P12-S12 -> -1 | R12: 588 | S12: 11.3
B13: ９５％以上 | C13: ='3-4-1'!V12 -> 2379.8541 | D13: ='3-4-1'!W12 -> 41.276899 | E13: =D13-G13 -> 9.2901151 | F13: 853.67647 | G13: 31.986784 | H13: =G13-J13 -> -4.5573696 | I13: 1247.7696 | J13: 36.544153 | K13: =J13-M13 -> -1.0558469 | L13: 1317.88 | M13: 37.6 | N13: =M13-P13 -> 4.2 | O13: 1467.92 | P13: 33.4 | Q13: =P13-S13 -> 1.2 | R13: 1671 | S13: 32.2
B14: 小 計 | C14: ='3-4-1'!V13 -> 5765.5837 | D14: ='3-4-1'!W13 -> 100 | E14: - | F14: 2668.8412 | G14: 100 | H14: - | I14: 3414.4164 | J14: 100 | K14: - | L14: 3508.18 | M14: 100 | N14: - | O14: 4391.85 | P14: 100 | Q14: - | R14: 5188 | S14: 100
A15: 土 木 | B15: ０％ | C15: ='3-4-1'!V54 -> 5337.8065 | D15: ='3-4-1'!W54 -> 16.481692 | E15: =D15-G15 -> 3.3082165 | F15: 3301.5212 | G15: 13.173475 | H15: =G15-J15 -> -0.27591079 | I15: 4421.5943 | J15: 13.449386 | K15: =J15-M15 -> 0.24938627 | L15: 4347.78 | M15: 13.2 | N15: =M15-P15 -> 2.7 | O15: 3993.6 | P15: 10.5 | Q15: =P15-S15 -> 2 | R15: 4061 | S15: 8.5
B16: ０％超２５％未満 | C16: ='3-4-1'!V55 -> 8164.3028 | D16: ='3-4-1'!W55 -> 25.209142 | E16: =D16-G16 -> 0.0620984 | F16: 6302.3231 | G16: 25.147044 | H16: =G16-J16 -> 1.4960807 | I16: 7775.4451 | J16: 23.650963 | K16: =J16-M16 -> -1.4490368 | L16: 8290.45 | M16: 25.1 | N16: =M16-P16 -> -0.1 | O16: 9544.15 | P16: 25.2 | Q16: =P16-S16 -> 0.3 | R16: 11873 | S16: 24.9
B17: ２５％以上５０％未満 | C17: ='3-4-1'!V56 -> 3378.4309 | D17: ='3-4-1'!W56 -> 10.431674 | E17: =D17-G17 -> 2.5232487 | F17: 1982.0004 | G17: 7.9084254 | H17: =G17-J17 -> -1.8847773 | I17: 3219.5945 | J17: 9.7932027 | K17: =J17-M17 -> -2.6067973 | L17: 4110.12 | M17: 12.4 | N17: =M17-P17 -> 0.1 | O17: 4670.52 | P17: 12.3 | Q17: =P17-S17 -> -0.8 | R17: 6232 | S17: 13.1
B18: ５０％以上７５％未満 | C18: ='3-4-1'!V57 -> 3586.6681 | D18: ='3-4-1'!W57 -> 11.074654 | E18: =D18-G18 -> 0.19218894 | F18: 2727.3508 | G18: 10.882465 | H18: =G18-J18 -> 1.8297864 | I18: 2976.1411 | J18: 9.0526785 | K18: =J18-M18 -> -0.44732154 | L18: 3140.9 | M18: 9.5 | N18: =M18-P18 -> -0.4 | O18: 3769.71 | P18: 9.9 | Q18: =P18-S18 -> -0.5 | R18: 4933 | S18: 10.4
B19: ７５％以上８５％未満 | C19: ='3-4-1'!V58 -> 2118.2494 | D19: ='3-4-1'!W58 -> 6.5405768 | E19: =D19-G19 -> -2.3408264 | F19: 2225.847 | G19: 8.8814032 | H19: =G19-J19 -> 0.80764554 | I19: 2654.313 | J19: 8.0737577 | K19: =J19-M19 -> 0.37375766 | L19: 2534.68 | M19: 7.7 | N19: =M19-P19 -> -0.9 | O19: 3247.31 | P19: 8.6 | Q19: =P19-S19 -> 0.4 | R19: 3901 | S19: 8.2
B20: ８５％以上９５％未満 | C20: ='3-4-1'!V59 -> 2299.7262 | D20: ='3-4-1'!W59 -> 7.1009279 | E20: =D20-G20 -> -1.507662 | F20: 2157.4749 | G20: 8.60859 | H20: =G20-J20 -> -0.65771837 | I20: 3046.3737 | J20: 9.2663083 | K20: =J20-M20 -> -0.93369166 | L20: 3368.5 | M20: 10.2 | N20: =M20-P20 -> 0.5 | O20: 3697.32 | P20: 9.7 | Q20: =P20-S20 -> -0.8 | R20: 5011 | S20: 10.5
B21: ９５％以上 | C21: ='3-4-1'!V60 -> 7501.0936 | D21: ='3-4-1'!W60 -> 23.161333 | E21: =D21-G21 -> -2.2372642 | F21: 6365.3671 | G21: 25.398597 | H21: =G21-J21 -> -1.3151061 | I21: 8782.3456 | J21: 26.713703 | K21: =J21-M21 -> 4.7137033 | L21: 7254.59 | M21: 22 | N21: =M21-P21 -> -1.7 | O21: 9005.72 | P21: 23.7 | Q21: =P21-S21 -> -0.7 | R21: 11601 | S21: 24.4
B22: 小 計 | C22: ='3-4-1'!V61 -> 32386.278 | D22: ='3-4-1'!W61 -> 100 | E22: - | F22: 25061.885 | G22: 100 | H22: - | I22: 32875.807 | J22: 100 | K22: - | L22: 33047.01 | M22: 100 | N22: - | O22: 37928.33 | P22: 100 | Q22: - | R22: 47612 | S22: 100
A23: 建 築 | B23: ０％ | C23: ='3-4-1'!V62 -> 1247.1756 | D23: ='3-4-1'!W62 -> 5.5811759 | E23: =D23-G23 -> -4.9005374 | F23: 1597.2217 | G23: 10.481713 | H23: =G23-J23 -> 2.6283885 | I23: 1662.3893 | J23: 7.8533248 | K23: =J23-M23 -> -1.2466752 | L23: 2042.23 | M23: 9.1 | N23: =M23-P23 -> -0.9 | O23: 2258.69 | P23: 10 | Q23: =P23-S23 -> 3.3 | R23: 1716 | S23: 6.7
B24: ０％超２５％未満 | C24: ='3-4-1'!V63 -> 4286.247 | D24: ='3-4-1'!W63 -> 19.181179 | E24: =D24-G24 -> -5.3715986 | F24: 3741.3949 | G24: 24.552778 | H24: =G24-J24 -> -0.58329397 | I24: 5320.7956 | J24: 25.136072 | K24: =J24-M24 -> 10.436072 | L24: 3308.56 | M24: 14.7 | N24: =M24-P24 -> -4.6 | O24: 4366.45 | P24: 19.3 | Q24: =P24-S24 -> -3.6 | R24: 5881 | S24: 22.9
B25: ２５％以上５０％未満 | C25: ='3-4-1'!V64 -> 2158.3544 | D25: ='3-4-1'!W64 -> 9.6587485 | E25: =D25-G25 -> 5.908005 | F25: 571.54481 | G25: 3.7507435 | H25: =G25-J25 -> -2.7486719 | I25: 1375.7942 | J25: 6.4994155 | K25: =J25-M25 -> 4.5994155 | L25: 434.48 | M25: 1.9 | N25: =M25-P25 -> -7.4 | O25: 2094.74 | P25: 9.3 | Q25: =P25-S25 -> 0.8 | R25: 2187 | S25: 8.5
B26: ５０％以上７５％未満 | C26: ='3-4-1'!V65 -> 1863.5303 | D26: ='3-4-1'!W65 -> 8.3393953 | E26: =D26-G26 -> 0.38296651 | F26: 1212.4144 | G26: 7.9564288 | H26: =G26-J26 -> 1.6884066 | I26: 1326.8129 | J26: 6.2680221 | K26: =J26-M26 -> -6.1319779 | L26: 2786.52 | M26: 12.4 | N26: =M26-P26 -> 6.7 | O26: 1278.9 | P26: 5.7 | Q26: =P26-S26 -> -2.4 | R26: 2081 | S26: 8.1
B27: ７５％以上８５％未満 | C27: ='3-4-1'!V66 -> 1934.444 | D27: ='3-4-1'!W66 -> 8.6567376 | E27: =D27-G27 -> 5.3618694 | F27: 502.07773 | G27: 3.2948681 | H27: =G27-J27 -> -1.6858039 | I27: 1054.3071 | J27: 4.9806721 | K27: =J27-M27 -> -1.1193279 | L27: 1372.84 | M27: 6.1 | N27: =M27-P27 -> -0.8 | O27: 1555.97 | P27: 6.9 | Q27: =P27-S27 -> -0.9 | R27: 1994 | S27: 7.8
B28: ８５％以上９５％未満 | C28: ='3-4-1'!V67 -> 1308.277 | D28: ='3-4-1'!W67 -> 5.8546077 | E28: =D28-G28 -> -2.4708002 | F28: 1268.6401 | G28: 8.3254079 | H28: =G28-J28 -> -2.9916042 | I28: 2395.5815 | J28: 11.317012 | K28: =J28-M28 -> -8.4829878 | L28: 4452.27 | M28: 19.8 | N28: =M28-P28 -> 11.2 | O28: 1939.29 | P28: 8.6 | Q28: =P28-S28 -> -0.3 | R28: 2273 | S28: 8.9
B29: ９５％以上 | C29: ='3-4-1'!V68 -> 9548.0801 | D29: ='3-4-1'!W68 -> 42.728156 | E29: =D29-G29 -> 1.0900953 | F29: 6344.88 | G29: 41.638061 | H29: =G29-J29 -> 3.6925789 | I29: 8032.2874 | J29: 37.945482 | K29: =J29-M29 -> 1.9454819 | L29: 8091.94 | M29: 36 | N29: =M29-P29 -> -4.3 | O29: 9122.93 | P29: 40.3 | Q29: =P29-S29 -> 3.1 | R29: 9547 | S29: 37.2
B30: 小 計 | C30: ='3-4-1'!V69 -> 22346.108 | D30: ='3-4-1'!W69 -> 100 | E30: - | F30: 15238.174 | G30: 100 | H30: - | I30: 21167.968 | J30: 100 | K30: - | L30: 22488.84 | M30: 100 | N30: - | O30: 22616.97 | P30: 100 | Q30: - | R30: 25680 | S30: 100
A31: 木 造 建 築 | B31: ０％ | C31: ='3-4-1'!V70 -> 520.23089 | D31: ='3-4-1'!W70 -> 8.8393438 | E31: =D31-G31 -> 5.4604377 | F31: 108.65577 | G31: 3.3789061 | H31: =G31-J31 -> -21.107548 | I31: 1755.473 | J31: 24.486454 | K31: =J31-M31 -> 6.5864545 | L31: 844.76 | M31: 17.9 | N31: =M31-P31 -> 8 | O31: 577.8 | P31: 9.9 | Q31: =P31-S31 -> -13.2 | R31: 1734 | S31: 23.1
B32: ０％超２５％未満 | C32: ='3-4-1'!V71 -> 950.67459 | D32: ='3-4-1'!W71 -> 16.153096 | E32: =D32-G32 -> -16.271894 | F32: 1042.6932 | G32: 32.42499 | H32: =G32-J32 -> 15.155835 | I32: 1238.0533 | J32: 17.269155 | K32: =J32-M32 -> -1.8308447 | L32: 901.86 | M32: 19.1 | N32: =M32-P32 -> -8.1 | O32: 1590.61 | P32: 27.2 | Q32: =P32-S32 -> 5.3 | R32: 1646 | S32: 21.9
B33: ２５％以上５０％未満 | C33: ='3-4-1'!V72 -> 403.43337 | D33: ='3-4-1'!W72 -> 6.8548145 | E33: =D33-G33 -> 1.3928236 | F33: 175.64171 | G33: 5.4619909 | H33: =G33-J33 -> -5.9005161 | I33: 814.59624 | J33: 11.362507 | K33: =J33-M33 -> 4.362507 | L33: 332.47 | M33: 7 | N33: =M33-P33 -> -6.3 | O33: 780.34 | P33: 13.3 | Q33: =P33-S33 -> 8.7 | R33: 342 | S33: 4.6
B34: ５０％以上７５％未満 | C34: ='3-4-1'!V73 -> 571.69874 | D34: ='3-4-1'!W73 -> 9.7138439 | E34: =D34-G34 -> 4.251853 | F34: 175.64171 | G34: 5.4619909 | H34: =G34-J34 -> -4.3395275 | I34: 702.68648 | J34: 9.8015184 | K34: =J34-M34 -> 1.7015184 | L34: 383.67 | M34: 8.1 | N34: =M34-P34 -> 0.7 | O34: 433.89 | P34: 7.4 | Q34: =P34-S34 -> 2.7 | R34: 355 | S34: 4.7
B35: ７５％以上８５％未満 | C35: ='3-4-1'!V74 -> 721.60896 | D35: ='3-4-1'!W74 -> 12.260998 | E35: =D35-G35 -> 5.5548419 | F35: 215.65043 | G35: 6.7061557 | H35: =G35-J35 -> -0.59604868 | I35: 523.50667 | J35: 7.3022044 | K35: =J35-M35 -> -0.59779565 | L35: 374.55 | M35: 7.9 | N35: =M35-P35 -> 4.3 | O35: 213.48 | P35: 3.6 | Q35: =P35-S35 -> -3.7 | R35: 549 | S35: 7.3
B36: ８５％以上９５％未満 | C36: ='3-4-1'!V75 -> 687.61324 | D36: ='3-4-1'!W75 -> 11.68337 | E36: =D36-G36 -> -3.9080187 | F36: 501.37362 | G36: 15.591388 | H36: =G36-J36 -> 12.753788 | I36: 203.4321 | J36: 2.8376005 | K36: =J36-M36 -> -3.0623995 | L36: 278.77 | M36: 5.9 | N36: =M36-P36 -> 1.8 | O36: 238.44 | P36: 4.1 | Q36: =P36-S36 -> -5.3 | R36: 705 | S36: 9.4
B37: ９５％以上 | C37: ='3-4-1'!V76 -> 2030.1419 | D37: ='3-4-1'!W76 -> 34.494535 | E37: =D37-G37 -> 3.5199569 | F37: 996.05217 | G37: 30.974578 | H37: =G37-J37 -> 4.0340179 | I37: 1931.4117 | J37: 26.94056 | K37: =J37-M37 -> -7.05944 | L37: 1604.08 | M37: 34 | N37: =M37-P37 -> -0.5 | O37: 2021.09 | P37: 34.5 | Q37: =P37-S37 -> 5.6 | R37: 2172 | S37: 28.9
B38: 小 計 | C38: ='3-4-1'!V77 -> 5885.4017 | D38: ='3-4-1'!W77 -> 100 | E38: - | F38: 3215.7086 | G38: 100 | H38: - | I38: 7169.1594 | J38: 100 | K38: - | L38: 4720.15 | M38: 100 | N38: - | O38: 5855.65 | P38: 100 | Q38: - | R38: 7503 | S38: 100
A39: 職 別 | B39: ０％ | C39: ='3-4-1'!V222 -> 9384.4807 | D39: ='3-4-1'!W222 -> 9.9480194 | E39: =D39-G39 -> -0.16801992 | F39: 4087.2579 | G39: 10.116039 | H39: =G39-J39 -> 0.77834367 | I39: 4156.6906 | J39: 9.3376956 | K39: =J39-M39 -> -0.4623044 | L39: 4163.44 | M39: 9.8 | N39: =M39-P39 -> -0.4 | O39: 4147.01 | P39: 10.2 | Q39: =P39-S39 -> 2.2 | R39: 3520 | S39: 8
B40: ０％超２５％未満 | C40: ='3-4-1'!V223 -> 13209.801 | D40: ='3-4-1'!W223 -> 14.00305 | E40: =D40-G40 -> 0.83354048 | F40: 5320.9739 | G40: 13.16951 | H40: =G40-J40 -> -2.647365 | I40: 7040.9078 | J40: 15.816875 | K40: =J40-M40 -> 2.6168745 | L40: 5610.5 | M40: 13.2 | N40: =M40-P40 -> -2.8 | O40: 6465.12 | P40: 16 | Q40: =P40-S40 -> 2.2 | R40: 6068 | S40: 13.8
B41: ２５％以上５０％未満 | C41: ='3-4-1'!V224 -> 7252.8231 | D41: ='3-4-1'!W224 -> 7.6883555 | E41: =D41-G41 -> -0.33878566 | F41: 3243.265 | G41: 8.0271412 | H41: =G41-J41 -> 0.97181423 | I41: 3140.6904 | J41: 7.055327 | K41: =J41-M41 -> 0.45532695 | L41: 2812.37 | M41: 6.6 | N41: =M41-P41 -> -0.2 | O41: 2736.97 | P41: 6.8 | Q41: =P41-S41 -> -1.4 | R41: 3598 | S41: 8.2
B42: ５０％以上７５％未満 | C42: ='3-4-1'!V225 -> 6118.6503 | D42: ='3-4-1'!W225 -> 6.4860756 | E42: =D42-G42 -> 0.078192755 | F42: 2589.0241 | G42: 6.4078829 | H42: =G42-J42 -> -0.36533015 | I42: 3015.107 | J42: 6.773213 | K42: =J42-M42 -> 1.373213 | L42: 2308.05 | M42: 5.4 | N42: =M42-P42 -> -0.4 | O42: 2331.89 | P42: 5.8 | Q42: =P42-S42 -> -0.2 | R42: 2630 | S42: 6
B43: ７５％以上８５％未満 | C43: ='3-4-1'!V226 -> 7350.6044 | D43: ='3-4-1'!W226 -> 7.7920086 | E43: =D43-G43 -> -0.21635781 | F43: 3235.6793 | G43: 8.0083664 | H43: =G43-J43 -> -0.52404449 | I43: 3798.2168 | J43: 8.5324109 | K43: =J43-M43 -> 0.93241091 | L43: 3229.52 | M43: 7.6 | N43: =M43-P43 -> -0.1 | O43: 3124.02 | P43: 7.7 | Q43: =P43-S43 -> 0.9 | R43: 2968 | S43: 6.8
B44: ８５％以上９５％未満 | C44: ='3-4-1'!V227 -> 12624.722 | D44: ='3-4-1'!W227 -> 13.382837 | E44: =D44-G44 -> -2.4352079 | F44: 6391.0812 | G44: 15.818045 | H44: =G44-J44 -> 1.8051921 | I44: 6237.8446 | J44: 14.012853 | K44: =J44-M44 -> -0.48714719 | L44: 6150.01 | M44: 14.5 | N44: =M44-P44 -> -1.1 | O44: 6328.47 | P44: 15.6 | Q44: =P44-S44 -> -0.2 | R44: 6947 | S44: 15.8
B45: ９５％以上 | C45: ='3-4-1'!V228 -> 38394.087 | D45: ='3-4-1'!W228 -> 40.699654 | E45: =D45-G45 -> 2.246638 | F45: 15536.455 | G45: 38.453016 | H45: =G45-J45 -> -0.018610398 | I45: 17125.708 | J45: 38.471626 | K45: =J45-M45 -> -4.3283738 | L45: 18168.98 | M45: 42.8 | N45: =M45-P45 -> 4.9 | O45: 15335.37 | P45: 37.9 | Q45: =P45-S45 -> -3.4 | R45: 18128 | S45: 41.3
B46: 小 計 | C46: ='3-4-1'!V229 -> 94335.168 | D46: ='3-4-1'!W229 -> 100 | E46: - | F46: 40403.737 | G46: 100 | H46: - | I46: 44515.165 | J46: 100 | K46: - | L46: 42442.87 | M46: 100 | N46: - | O46: 40468.85 | P46: 100 | Q46: - | R46: 43859 | S46: 100
A47: 設 備 | B47: ０％ | C47: ='3-4-1'!V286 -> 5234.3647 | D47: ='3-4-1'!W286 -> 8.5348989 | E47: =D47-G47 -> 0.27152684 | F47: 2569.6325 | G47: 8.2633721 | H47: =G47-J47 -> 0.86420422 | I47: 2660.6285 | J47: 7.3991679 | K47: =J47-M47 -> -0.50083214 | L47: 2759.28 | M47: 7.9 | N47: =M47-P47 -> 2.7 | O47: 1790.68 | P47: 5.2 | Q47: =P47-S47 -> 0.8 | R47: 1680 | S47: 4.4
B48: ０％超２５％未満 | C48: ='3-4-1'!V287 -> 13827.81 | D48: ='3-4-1'!W287 -> 22.54695 | E48: =D48-G48 -> 3.6749712 | F48: 5868.5546 | G48: 18.871979 | H48: =G48-J48 -> 0.34023296 | I48: 6663.7345 | J48: 18.531746 | K48: =J48-M48 -> 1.6317457 | L48: 5898.93 | M48: 16.9 | N48: =M48-P48 -> -1.3 | O48: 6250.01 | P48: 18.2 | Q48: =P48-S48 -> 2.1 | R48: 6139 | S48: 16.1
B49: ２５％以上５０％未満 | C49: ='3-4-1'!V288 -> 5110.3696 | D49: ='3-4-1'!W288 -> 8.3327186 | E49: =D49-G49 -> -0.81310881 | F49: 2844.0466 | G49: 9.1458274 | H49: =G49-J49 -> -1.7241303 | I49: 3908.6718 | J49: 10.869958 | K49: =J49-M49 -> 1.1699577 | L49: 3404.48 | M49: 9.7 | N49: =M49-P49 -> -1.1 | O49: 3725.34 | P49: 10.8 | Q49: =P49-S49 -> -0.8 | R49: 4423 | S49: 11.6
B50: ５０％以上７５％未満 | C50: ='3-4-1'!V289 -> 5883.8912 | D50: ='3-4-1'!W289 -> 9.593985 | E50: =D50-G50 -> -1.0842079 | F50: 3320.5611 | G50: 10.678193 | H50: =G50-J50 -> 0.025213994 | I50: 3830.6496 | J50: 10.652979 | K50: =J50-M50 -> 1.752979 | L50: 3107.72 | M50: 8.9 | N50: =M50-P50 -> -0.9 | O50: 3357.5 | P50: 9.8 | Q50: =P50-S50 -> -1.9 | R50: 4445 | S50: 11.7
B51: ７５％以上８５％未満 | C51: ='3-4-1'!V290 -> 5173.6397 | D51: ='3-4-1'!W290 -> 8.4358837 | E51: =D51-G51 -> -1.1640425 | F51: 2985.2562 | G51: 9.5999262 | H51: =G51-J51 -> -0.97350214 | I51: 3802.0444 | J51: 10.573428 | K51: =J51-M51 -> 2.1734284 | L51: 2952.37 | M51: 8.4 | N51: =M51-P51 -> -2.8 | O51: 3845.34 | P51: 11.2 | Q51: =P51-S51 -> 1.3 | R51: 3785 | S51: 9.9
B52: ８５％以上９５％未満 | C52: ='3-4-1'!V291 -> 7568.4017 | D52: ='3-4-1'!W291 -> 12.340665 | E52: =D52-G52 -> -0.26214648 | F52: 3919.0533 | G52: 12.602812 | H52: =G52-J52 -> 0.94077701 | I52: 4193.4908 | J52: 11.662035 | K52: =J52-M52 -> -4.0379651 | L52: 5480.27 | M52: 15.7 | N52: =M52-P52 -> 2.7 | O52: 4481.83 | P52: 13 | Q52: =P52-S52 -> -0.1 | R52: 5002 | S52: 13.1
B53: ９５％以上 | C53: ='3-4-1'!V292 -> 18530.483 | D53: ='3-4-1'!W292 -> 30.214898 | E53: =D53-G53 -> -0.62299228 | F53: 9589.5533 | G53: 30.837891 | H53: =G53-J53 -> 0.52720428 | I53: 10899.263 | J53: 30.310686 | K53: =J53-M53 -> -2.1893135 | L53: 11349.41 | M53: 32.5 | N53: =M53-P53 -> 0.7 | O53: 10945.81 | P53: 31.8 | Q53: =P53-S53 -> -1.3 | R53: 12583 | S53: 33.1
B54: 小 計 | C54: ='3-4-1'!V293 -> 61328.96 | D54: ='3-4-1'!W293 -> 100 | E54: - | F54: 31096.658 | G54: 100 | H54: - | I54: 35958.482 | J54: 100 | K54: - | L54: 34952.46 | M54: 100 | N54: - | O54: 34396.5 | P54: 100 | Q54: - | R54: 38056 | S54: 100
A55: 合 計 | B55: ０％ | C55: ='3-4-1'!V294 -> 22094.472 | D55: ='3-4-1'!W294 -> 9.9503361 | E55: =D55-G55 -> -0.092532029 | F55: 11818.95 | G55: 10.042868 | H55: =G55-J55 -> -0.20995079 | I55: 14876.943 | J55: 10.252819 | K55: =J55-M55 -> 0.052818905 | L55: 14396.85 | M55: 10.2 | N55: =M55-P55 -> 1.3 | O55: 13010.49 | P55: 8.9 | Q55: =P55-S55 -> 1.2 | R55: 12933 | S55: 7.7
B56: ０％超２５％未満 | C56: ='3-4-1'!V295 -> 41629.925 | D56: ='3-4-1'!W295 -> 18.748207 | E56: =D56-G56 -> -0.88389044 | F56: 23104.035 | G56: 19.632098 | H56: =G56-J56 -> -0.20447267 | I56: 28783.062 | J56: 19.83657 | K56: =J56-M56 -> 2.4365703 | L56: 24522.86 | M56: 17.4 | N56: =M56-P56 -> -2.6 | O56: 29172.38 | P56: 20 | Q56: =P56-S56 -> 0.4 | R56: 32854 | S56: 19.6
B57: ２５％以上５０％未満 | C57: ='3-4-1'!V296 -> 18830.984 | D57: ='3-4-1'!W296 -> 8.4806108 | E57: =D57-G57 -> 0.79151221 | F57: 9048.9158 | G57: 7.6890986 | H57: =G57-J57 -> -1.1468902 | I57: 12821.108 | J57: 8.8359888 | K57: =J57-M57 -> 0.73598878 | L57: 11393.62 | M57: 8.1 | N57: =M57-P57 -> -1.9 | O57: 14525.83 | P57: 10 | Q57: =P57-S57 -> -0.3 | R57: 17307 | S57: 10.3
B58: ５０％以上７５％未満 | C58: ='3-4-1'!V297 -> 18458.376 | D58: ='3-4-1'!W297 -> 8.3128053 | E58: =D58-G58 -> -0.35643547 | F58: 10202.396 | G58: 8.6692408 | H58: =G58-J58 -> 0.35338447 | I58: 12066.391 | J58: 8.3158563 | K58: =J58-M58 -> -0.18414368 | L58: 12004.63 | M58: 8.5 | N58: =M58-P58 -> 0.6 | O58: 11489.41 | P58: 7.9 | Q58: =P58-S58 -> -1 | R58: 14957 | S58: 8.9
B59: ７５％以上８５％未満 | C59: ='3-4-1'!V298 -> 17811.04 | D59: ='3-4-1'!W298 -> 8.0212746 | E59: =D59-G59 -> 0.077126618 | F59: 9349.0707 | G59: 7.944148 | H59: =G59-J59 -> -0.38059181 | I59: 12079.281 | J59: 8.3247398 | K59: =J59-M59 -> 0.72473978 | L59: 10757.92 | M59: 7.6 | N59: =M59-P59 -> -0.9 | O59: 12423.52 | P59: 8.5 | Q59: =P59-S59 -> 0.4 | R59: 13618 | S59: 8.1
B60: ８５％以上９５％未満 | C60: ='3-4-1'!V299 -> 24838.962 | D60: ='3-4-1'!W299 -> 11.186328 | E60: =D60-G60 -> -1.1140082 | F60: 14475.651 | G60: 12.300336 | H60: =G60-J60 -> 0.95966308 | I60: 16455.43 | J60: 11.340673 | K60: =J60-M60 -> -3.0593267 | L60: 20296.76 | M60: 14.4 | N60: =M60-P60 -> 2.6 | O60: 17137.67 | P60: 11.8 | Q60: =P60-S60 -> -0.4 | R60: 20526 | S60: 12.2
B61: ９５％以上 | C61: ='3-4-1'!V300 -> 78383.739 | D61: ='3-4-1'!W300 -> 35.300438 | E61: =D61-G61 -> 1.5782273 | F61: 39685.984 | G61: 33.722211 | H61: =G61-J61 -> 0.62885794 | I61: 48018.785 | J61: 33.093353 | K61: =J61-M61 -> -0.80664737 | L61: 47786.87 | M61: 33.9 | N61: =M61-P61 -> 1 | O61: 47898.85 | P61: 32.9 | Q61: =P61-S61 -> -0.3 | R61: 55702 | S61: 33.2
C62: ='3-4-1'!V301 -> 222047.5 | D62: ='3-4-1'!W301 -> 100 | E62: - | F62: 117685 | G62: 100 | H62: - | I62: 145101 | J62: 100 | K62: - | L62: 141159.5 | M62: 100 | N62: - | O62: 145658.15 | P62: 100 | Q62: - | R62: 167897 | S62: 100
P63: =SUBSTITUTE('3-4-1'!N305,"3．","（注）")

Sheet 3-4-3
A1: 表3－4－3 材工共請負の下請工事件数の比率（経年変化②：資本金別）（下請完工高のある企業のみ対象）
V3: （単位：社、％）
B4: 資本金 | C4: 個 人 | E4: 法 人 | U4: 合 計
E5: 500万円未満 | G5: 500万円以上 1000万円以下 | I5: 1000万円以上 3000万円未満 | K5: 3000万円以上 5000万円未満 | M5: 5000万円以上 1億円未満 | O5: 1億円以上 3億円未満 | Q5: 3億円以上 10億円未満 | S5: 10億円以上
A6: 年度 | B6: 材工共請負比率
A7: R 06 年 度 | B7: ０％ | C7: ='3-4-1'!D294 -> 3236.9849 | D7: ='3-4-1'!E294 -> 9.7040511 | E7: ='3-4-1'!F294 -> 7226.5927 | F7: ='3-4-1'!G294 -> 11.018027 | G7: ='3-4-1'!H294 -> 5014.2533 | H7: ='3-4-1'!I294 -> 12.184581 | I7: ='3-4-1'!J294 -> 5406.73 | J7: ='3-4-1'!K294 -> 8.260085 | ... V7: ='3-4-1'!W294 -> 9.9503361
B8: ０％超２５％未満 | C8: ='3-4-1'!D295 -> 4835.8814 | D8: ='3-4-1'!E295 -> 14.49733 | E8: ='3-4-1'!F295 -> 14464.5 | F8: ='3-4-1'!G295 -> 22.053305 | G8: ='3-4-1'!H295 -> 8903.4744 | H8: ='3-4-1'!I295 -> 21.635345 | I8: ='3-4-1'!J295 -> 10593.297 | J8: ='3-4-1'!K295 -> 16.183817 | ... V8: ='3-4-1'!W295 -> 18.748207
B9: ２５％以上５０％未満 | C9: ='3-4-1'!D296 -> 2146.0981 | D9: ='3-4-1'!E296 -> 6.4337171 | E9: ='3-4-1'!F296 -> 5336.0859 | F9: ='3-4-1'!G296 -> 8.1356652 | G9: ='3-4-1'!H296 -> 3591.6531 | H9: ='3-4-1'!I296 -> 8.7276777 | I9: ='3-4-1'!J296 -> 6413.4475 | J9: ='3-4-1'!K296 -> 9.7980888 | ... V9: ='3-4-1'!W296 -> 8.4806108
B10: ５０％以上７５％未満 | C10: ='3-4-1'!D297 -> 1764.4241 | D10: ='3-4-1'!E297 -> 5.2895092 | E10: ='3-4-1'!F297 -> 5656.0504 | F10: ='3-4-1'!G297 -> 8.6234992 | G10: ='3-4-1'!H297 -> 3341.7945 | H10: ='3-4-1'!I297 -> 8.1205241 | I10: ='3-4-1'!J297 -> 6100.2691 | J10: ='3-4-1'!K297 -> 9.3196332 | ... V10: ='3-4-1'!W297 -> 8.3128053
B11: ７５％以上８５％未満 | C11: ='3-4-1'!D298 -> 3811.996 | D11: ='3-4-1'!E298 -> 11.427858 | E11: ='3-4-1'!F298 -> 5202.9649 | F11: ='3-4-1'!G298 -> 7.9327022 | G11: ='3-4-1'!H298 -> 2888.943 | H11: ='3-4-1'!I298 -> 7.0201 | I11: ='3-4-1'!J298 -> 4691.9918 | J11: ='3-4-1'!K298 -> 7.1681498 | ... V11: ='3-4-1'!W298 -> 8.0212746
B12: ８５％以上９５％未満 | C12: ='3-4-1'!D299 -> 2231.0493 | D12: ='3-4-1'!E299 -> 6.6883896 | E12: ='3-4-1'!F299 -> 7697.0487 | F12: ='3-4-1'!G299 -> 11.735308 | G12: ='3-4-1'!H299 -> 5248.5136 | H12: ='3-4-1'!I299 -> 12.753831 | I12: ='3-4-1'!J299 -> 7701.6054 | J12: ='3-4-1'!K299 -> 11.766061 | ... V12: ='3-4-1'!W299 -> 11.186328
B13: ９５％以上 | C13: ='3-4-1'!D300 -> 15330.614 | D13: ='3-4-1'!E300 -> 45.959145 | E13: ='3-4-1'!F300 -> 20005.566 | F13: ='3-4-1'!G300 -> 30.501493 | G13: ='3-4-1'!H300 -> 12163.817 | H13: ='3-4-1'!I300 -> 29.557942 | I13: ='3-4-1'!J300 -> 24548.767 | J13: ='3-4-1'!K300 -> 37.504165 | ... V13: ='3-4-1'!W300 -> 35.300438
C14: ='3-4-1'!D301 -> 33357.048 | D14: ='3-4-1'!E301 -> 100 | E14: ='3-4-1'!F301 -> 65588.808 | F14: ='3-4-1'!G301 -> 100 | G14: ='3-4-1'!H301 -> 41152.449 | H14: ='3-4-1'!I301 -> 100 | I14: ='3-4-1'!J301 -> 65456.107 | J14: ='3-4-1'!K301 -> 100 | ... V14: ='3-4-1'!W301 -> 100
A15: 増減 | B15: ０％ | D15: =D7-D23 -> -2.2960672 | F15: =F7-F23 -> -5.6491846 | H15: =H7-H23 -> 2.6209944 | J15: =J7-J23 -> 1.7519777 | L15: =L7-L23 -> 3.712758 | N15: =N7-N23 -> -0.31273509 | P15: =P7-P23 -> 0.48265102 | R15: =R7-R23 -> 9.9950264 | T15: =T7-T23 -> 0.22840004 | V15: =V7-V23 -> -0.092532029
B16: ０％超２５％未満 | D16: =D8-D24 -> -9.5730406 | F16: =F8-F24 -> 2.2158362 | H16: =H8-H24 -> 4.5549488 | J16: =J8-J24 -> -3.3514876 | L16: =L8-L24 -> -3.5416408 | N16: =N8-N24 -> 1.3170286 | P16: =P8-P24 -> 1.5383522 | R16: =R8-R24 -> 5.5357766 | T16: =T8-T24 -> -5.5032505 | V16: =V8-V24 -> -0.88389044
B17: ２５％以上５０％未満 | D17: =D9-D25 -> -1.4270246 | F17: =F9-F25 -> 1.8135104 | H17: =H9-H25 -> -1.2845641 | J17: =J9-J25 -> 2.5086558 | L17: =L9-L25 -> -1.6294982 | N17: =N9-N25 -> 3.1232771 | P17: =P9-P25 -> 4.1596128 | R17: =R9-R25 -> 2.854386 | T17: =T9-T25 -> 1.5192001 | V17: =V9-V25 -> 0.79151221
B18: ５０％以上７５％未満 | D18: =D10-D26 -> -1.3125687 | F18: =F10-F26 -> 2.4655829 | H18: =H10-H26 -> -4.6098555 | J18: =J10-J26 -> -0.092796235 | L18: =L10-L26 -> 3.0982435 | N18: =N10-N26 -> 1.1029904 | P18: =P10-P26 -> 1.6291389 | R18: =R10-R26 -> -4.3283635 | T18: =T10-T26 -> -1.7604101 | V18: =V10-V26 -> -0.35643547
B19: ７５％以上８５％未満 | D19: =D11-D27 -> 6.1413465 | F19: =F11-F27 -> -0.51284433 | H19: =H11-H27 -> -0.85459168 | J19: =J11-J27 -> -1.3539134 | L19: =L11-L27 -> -0.24225522 | N19: =N11-N27 -> -1.0708099 | P19: =P11-P27 -> 6.1907667 | R19: =R11-R27 -> 3.548325 | T19: =T11-T27 -> -3.201195 | V19: =V11-V27 -> 0.077126618
B20: ８５％以上９５％未満 | D20: =D12-D28 -> -6.0363777 | F20: =F12-F28 -> 0.87422995 | H20: =H12-H28 -> -1.7214646 | J20: =J12-J28 -> -0.50356179 | L20: =L12-L28 -> 0.7857724 | N20: =N12-N28 -> -0.053910597 | P20: =P12-P28 -> -3.7667717 | R20: =R12-R28 -> -7.2933938 | T20: =T12-T28 -> -4.6648885 | V20: =V12-V28 -> -1.1140082
B21: ９５％以上 | D21: =D13-D29 -> 14.503732 | F21: =F13-F29 -> -1.2071306 | H21: =H13-H29 -> 1.2945326 | J21: =J13-J29 -> 1.0411256 | L21: =L13-L29 -> -2.1833797 | N21: =N13-N29 -> -4.1058405 | P21: =P13-P29 -> -10.23375 | R21: =R13-R29 -> -10.311757 | T21: =T13-T29 -> 13.382144 | V21: =V13-V29 -> 1.5782273
D22: - | F22: - | H22: - | J22: - | L22: - | N22: - | P22: - | R22: - | T22: - | V22: -
A23: R 01 年 度 | B23: ０％ | C23: 1527.5748 | D23: 12.000118 | E23: 4952.8575 | F23: 16.667212 | G23: 2008.7679 | H23: 9.5635863 | I23: 2767.9426 | J23: 6.5081072 | K23: 289.83245 | L23: 3.6043254 | M23: 232.40944 | N23: 7.8424915 | O23: 33.798164 | P23: 7.1474486 | Q23: 4.1666667 | R23: 4.1390494 | S23: 1.6 | T23: 1.2708503 | U23: 11818.95 | V23: 10.042868
B24: ０％超２５％未満 | C24: 3064.0775 | D24: 24.070371 | E24: 5894.9366 | F24: 19.837469 | G24: 3587.6241 | H24: 17.080397 | I24: 8308.499 | J24: 19.535305 | K24: 1584.444 | L24: 19.703976 | M24: 555.59618 | N24: 18.748199 | O24: 75.644541 | P24: 15.996889 | Q24: 17.837264 | R24: 17.719036 | S24: 15.375401 | T24: 12.212396 | U24: 23104.035 | V24: 19.632098
B25: ２５％以上５０％未満 | C25: 1000.6461 | D25: 7.8607418 | E25: 1878.7025 | F25: 6.3221548 | G25: 2103.005 | H25: 10.012242 | I25: 3100.2459 | J25: 7.289433 | K25: 749.98303 | L25: 9.326709 | M25: 191.61258 | N25: 6.4658306 | O25: 11.4 | P25: 2.4108089 | Q25: 7.612463 | R25: 7.5620065 | S25: 5.7083333 | T25: 4.5340233 | U25: 9048.9158 | V25: 7.6890986
B26: ５０％以上７５％未満 | C26: 840.42236 | D26: 6.6020779 | E26: 1829.8971 | F26: 6.1579163 | G26: 2673.9318 | H26: 12.73038 | I26: 4003.1708 | J26: 9.4124295 | K26: 557.16556 | L26: 6.9288516 | M26: 267.08501 | N26: 9.012594 | O26: 18.598551 | P26: 3.9331185 | Q26: 6.4166667 | R26: 6.3741361 | S26: 5.7083333 | T26: 4.5340233 | U26: 10202.396 | V26: 8.6692408
B27: ７５％以上８５％未満 | C27: 672.95515 | D27: 5.2865113 | E27: 2509.6933 | F27: 8.4455465 | G27: 1654.0268 | H27: 7.8746916 | I27: 3624.4919 | J27: 8.5220632 | K27: 621.92999 | L27: 7.7342551 | M27: 239.11403 | N27: 8.0687334 | O27: 19.862609 | P27: 4.2004345 | Q27: 2.9666667 | R27: 2.9470032 | S27: 4.030303 | T27: 3.201195 | U27: 9349.0707 | V27: 7.944148
B28: ８５％以上９５％未満 | C28: 1619.8202 | D28: 12.724767 | E28: 3227.4968 | F28: 10.861078 | G28: 3040.4398 | H28: 14.475295 | I28: 5218.3547 | J28: 12.269623 | K28: 955.84838 | L28: 11.886829 | M28: 331.716 | N28: 11.193521 | O28: 58.550386 | P28: 12.381911 | Q28: 11.346491 | R28: 11.271285 | S28: 12.078431 | T28: 9.5936741 | U28: 14475.651 | V28: 12.300336
B29: ９５％以上 | C29: 4004.1685 | D29: 31.455413 | E29: 9422.5896 | F29: 31.708624 | G29: 5936.5417 | H29: 28.263409 | I29: 15507.981 | J29: 36.46304 | K29: 3282.0363 | L29: 40.815054 | M29: 1145.9311 | N29: 38.668631 | O29: 255.01609 | P29: 53.92939 | Q29: 50.321018 | R29: 49.987484 | S29: 81.399153 | T29: 64.653838 | U29: 39685.984 | V29: 33.722211
C30: 12729.665 | D30: 100 | E30: 29716.173 | F30: 100 | G30: 21004.337 | H30: 100 | I30: 42530.686 | J30: 100 | K30: 8041.2397 | L30: 100 | M30: 2963.4643 | N30: 100 | O30: 472.87034 | P30: 100 | Q30: 100.66724 | R30: 100 | S30: 125.89996 | T30: 100 | U30: 117685 | V30: 100
A31: 増減 | B31: ０％ | D31: =D23-D39 -> -3.5284884 | F31: =F23-F39 -> 2.7320744 | H31: =H23-H39 -> -2.7667243 | J31: =J23-J39 -> 0.53045441 | L31: =L23-L39 -> -2.0349538 | N31: =N23-N39 -> 1.5160683 | P31: =P23-P39 -> 2.1270489 | R31: =R23-R39 -> 3.0525777 | T31: =T23-T39 -> -0.62427839 | V31: =V23-V39 -> -0.20995079
B32: ０％超２５％未満 | D32: =D24-D40 -> 3.9593713 | F32: =F24-F40 -> -1.3079965 | H32: =H24-H40 -> -2.0640716 | J32: =J24-J40 -> 0.11182423 | L32: =L24-L40 -> 1.6204924 | N32: =N24-N40 -> -0.96344055 | P32: =P24-P40 -> -1.0771953 | R32: =R24-R40 -> -0.9256398 | T32: =T24-T40 -> 1.4498254 | V32: =V24-V40 -> -0.20447267
B33: ２５％以上５０％未満 | D33: =D25-D41 -> -2.2478668 | F33: =F25-F41 -> -2.7549778 | H33: =H25-H41 -> 0.92031878 | J33: =J25-J41 -> -0.40091098 | L33: =L25-L41 -> -2.0663277 | N33: =N25-N41 -> -2.5392012 | P33: =P25-P41 -> -4.6428699 | R33: =R25-R41 -> 3.4592823 | T33: =T25-T41 -> -3.9080497 | V33: =V25-V41 -> -1.1468902
B34: ５０％以上７５％未満 | D34: =D26-D42 -> -2.5792519 | F34: =F26-F42 -> -1.0010873 | H34: =H26-H42 -> 2.1782331 | J34: =J26-J42 -> 0.91553277 | L34: =L26-L42 -> 1.318695 | N34: =N26-N42 -> 1.7205856 | P34: =P26-P42 -> -2.7032131 | R34: =R26-R42 -> -0.22533224 | T34: =T26-T42 -> 0.30102073 | V34: =V26-V42 -> 0.35338447
B35: ７５％以上８５％未満 | D35: =D27-D43 -> -3.9183447 | F35: =F27-F43 -> 0.37880068 | H35: =H27-H43 -> -1.3998102 | J35: =J27-J43 -> 0.72084295 | L35: =L27-L43 -> -1.5466644 | N35: =N27-N43 -> 2.1419683 | P35: =P27-P43 -> -2.4028473 | R35: =R27-R43 -> -3.6462211 | T35: =T27-T43 -> -11.382853 | V35: =V27-V43 -> -0.38059181
B36: ８５％以上９５％未満 | D36: =D28-D44 -> 6.7044986 | F36: =F28-F44 -> -0.49889592 | H36: =H28-H44 -> 3.5165524 | J36: =J28-J44 -> -1.1082299 | L36: =L28-L44 -> -0.51237062 | N36: =N28-N44 -> 0.99324016 | P36: =P28-P44 -> 2.998001 | R36: =R28-R44 -> 3.6825744 | T36: =T28-T44 -> 3.251458 | V36: =V28-V44 -> 0.95966308
B37: ９５％以上 | D37: =D29-D45 -> 1.610082 | F37: =F29-F45 -> 2.4520825 | H37: =H29-H45 -> -0.38449809 | J37: =J29-J45 -> -0.76951346 | L37: =L29-L45 -> 3.2211291 | N37: =N29-N45 -> -2.8692206 | P37: =P29-P45 -> 5.7010757 | R37: =R29-R45 -> -5.3972413 | T37: =T29-T45 -> 10.912877 | V37: =V29-V45 -> 0.62885794
D38: - | F38: - | H38: - | J38: - | L38: - | N38: - | P38: - | R38: - | T38: - | V38: -
A39: H 26 年 度 | B39: ０％ | C39: 3096.4872 | D39: 15.528607 | E39: 5304.95 | F39: 13.935137 | G39: 2532.8444 | H39: 12.330311 | I39: 3214.3894 | J39: 5.9776528 | K39: 500.55887 | L39: 5.6392793 | M39: 199.10801 | N39: 6.3264232 | O39: 24.421413 | P39: 5.0203997 | Q39: 1.1666667 | R39: 1.0864717 | S39: 3.0166667 | T39: 1.8951287 | U39: 14876.943 | V39: 10.252819
B40: ０％超２５％未満 | C40: 4010.2409 | D40: 20.111 | E40: 8049.8407 | F40: 21.145465 | G40: 3932.5821 | H40: 19.144468 | I40: 10444.673 | J40: 19.42348 | K40: 1605.1428 | L40: 18.083484 | M40: 620.37351 | N40: 19.711639 | O40: 83.055789 | P40: 17.074084 | Q40: 20.020881 | R40: 18.644676 | S40: 17.131864 | T40: 10.762571 | U40: 28783.062 | V40: 19.83657
B41: ２５％以上５０％未満 | C41: 2015.7106 | D41: 10.108609 | E41: 3455.5622 | F41: 9.0771326 | G41: 1867.6274 | H41: 9.091923 | I41: 4135.3623 | J41: 7.690344 | K41: 1011.2792 | L41: 11.393037 | M41: 283.41038 | N41: 9.0050318 | O41: 34.312169 | P41: 7.0536788 | Q41: 4.4055556 | R41: 4.1027242 | S41: 13.438095 | T41: 8.442073 | U41: 12821.108 | V41: 8.8359888
B42: ５０％以上７５％未満 | C42: 1830.8063 | D42: 9.1813298 | E42: 2725.3521 | F42: 7.1590037 | G42: 2167.5809 | H42: 10.552146 | I42: 4569.0734 | J42: 8.4968967 | K42: 497.97385 | L42: 5.6101565 | M42: 229.49734 | N42: 7.2920084 | O42: 32.282011 | P42: 6.6363316 | Q42: 7.08659 | R42: 6.5994684 | S42: 6.7380952 | T42: 4.2330026 | U42: 12066.391 | V42: 8.3158563
B43: ７５％以上８５％未満 | C43: 1835.4975 | D43: 9.204856 | E43: 3070.9194 | F43: 8.0667459 | G43: 1905.1321 | H43: 9.2745018 | I43: 4194.9843 | J43: 7.8012203 | K43: 823.80147 | L43: 9.2809195 | M43: 186.5298 | N43: 5.9267651 | O43: 32.121242 | P43: 6.6032818 | Q43: 7.0798851 | R43: 6.5932243 | S43: 23.214894 | T43: 14.584048 | U43: 12079.281 | V43: 8.3247398
B44: ８５％以上９５％未満 | C44: 1200.4738 | D44: 6.0202687 | E44: 4324.6143 | F44: 11.359974 | G44: 2251.1023 | H44: 10.958743 | I44: 7193.7312 | J44: 13.377853 | K44: 1100.5891 | L44: 12.399199 | M44: 321.02778 | N44: 10.200281 | O44: 45.647432 | P44: 9.3839105 | Q44: 8.1488506 | R44: 7.5887107 | S44: 10.095542 | T44: 6.342216 | U44: 16455.43 | V44: 11.340673
B45: ９５％以上 | C45: 5951.3185 | D45: 29.845331 | E45: 11137.636 | F45: 29.256541 | G45: 5884.7416 | H45: 28.647907 | I45: 20021.224 | J45: 37.232553 | K45: 3336.9464 | L45: 37.593925 | M45: 1307.2978 | N45: 41.537851 | O45: 234.60355 | P45: 48.228314 | Q45: 59.472797 | R45: 55.384725 | S45: 85.544883 | T45: 53.740961 | U45: 48018.785 | V45: 33.093353
C46: 19940.535 | D46: 100 | E46: 38068.875 | F46: 100 | G46: 20541.611 | H46: 100 | I46: 53773.437 | J46: 100 | K46: 8876.2915 | L46: 100 | M46: 3147.2446 | N46: 100 | O46: 486.4436 | P46: 100 | Q46: 107.38123 | R46: 100 | S46: 159.18004 | T46: 100 | U46: 145101 | V46: 100
A47: 増減 | B47: ０％ | D47: =D39-D55 -> 1.4286066 | F47: =F39-F55 -> 1.2351373 | H47: =H39-H55 -> -1.3696893 | J47: =J39-J55 -> -0.82234718 | L47: =L39-L55 -> -1.0607207 | N47: =N39-N55 -> 2.3264232 | P47: =P39-P55 -> -2.0796003 | R47: =R39-R55 -> -1.7135283 | T47: =T39-T55 -> -2.3048713 | V47: =V39-V55 -> 0.052818905
B48: ０％超２５％未満 | D48: =D40-D56 -> 2.6109997 | F48: =F40-F56 -> 3.4454654 | H48: =H40-H56 -> 5.3444682 | J48: =J40-J56 -> 1.5234803 | L48: =L40-L56 -> -2.2165161 | N48: =N40-N56 -> 2.0116394 | P48: =P40-P56 -> 0.77408388 | R48: =R40-R56 -> -4.2553244 | T48: =T40-T56 -> -7.7374294 | V48: =V40-V56 -> 2.4365703
B49: ２５％以上５０％未満 | D49: =D41-D57 -> 4.4086086 | F49: =F41-F57 -> -0.022867398 | H49: =H41-H57 -> 0.49192299 | J49: =J41-J57 -> -0.40965597 | L49: =L41-L57 -> 2.9930367 | N49: =N41-N57 -> -0.094968225 | P49: =P41-P57 -> 4.5536788 | R49: =R41-R57 -> 2.3027242 | T49: =T41-T57 -> -1.257927 | V49: =V41-V57 -> 0.73598878
B50: ５０％以上７５％未満 | D50: =D42-D58 -> 0.18132977 | F50: =F42-F58 -> -2.0409963 | H50: =H42-H58 -> 1.1521464 | J50: =J42-J58 -> 0.9968967 | L50: =L42-L58 -> -3.8898435 | N50: =N42-N58 -> -0.90799163 | P50: =P42-P58 -> 1.1363316 | R50: =R42-R58 -> 5.5994684 | T50: =T42-T58 -> 2.9330026 | V50: =V42-V58 -> -0.18414368
B51: ７５％以上８５％未満 | D51: =D43-D59 -> 3.504856 | F51: =F43-F59 -> -1.1332541 | H51: =H43-H59 -> 1.3745018 | J51: =J43-J59 -> 0.40122028 | L51: =L43-L59 -> 2.6809195 | N51: =N43-N59 -> -2.0732349 | P51: =P43-P59 -> 0.10328177 | R51: =R43-R59 -> -1.5067757 | T51: =T43-T59 -> 9.3840481 | V51: =V43-V59 -> 0.72473978
B52: ８５％以上９５％未満 | D52: =D44-D60 -> -12.479731 | F52: =F44-F60 -> 0.15997406 | H52: =H44-H60 -> -1.1412572 | J52: =J44-J60 -> -2.7221474 | L52: =L44-L60 -> -0.70080069 | N52: =N44-N60 -> -1.4997193 | P52: =P44-P60 -> 1.7839105 | R52: =R44-R60 -> -2.9112893 | T52: =T44-T60 -> 2.042216 | V52: =V44-V60 -> -3.0593267
B53: ９５％以上 | D53: =D45-D61 -> 0.24533054 | F53: =F45-F61 -> -1.7434589 | H53: =H45-H61 -> -5.7520929 | J53: =J45-J61 -> 0.93255328 | L53: =L45-L61 -> 2.2939247 | N53: =N45-N61 -> 0.23785143 | P53: =P45-P61 -> -6.2716862 | R53: =R45-R61 -> 2.4847252 | T53: =T45-T61 -> -3.059039 | V53: =V45-V61 -> -0.80664737
D54: - | F54: - | H54: - | J54: - | L54: - | N54: - | P54: - | R54: - | T54: - | V54: -
A55: H 23 年 度 | B55: ０％ | C55: 2970.28 | D55: 14.1 | E55: 4434.01 | F55: 12.7 | G55: 2595.95 | H55: 13.7 | I55: 3604.24 | J55: 6.8 | K55: 622.25 | L55: 6.7 | M55: 124.18 | N55: 4 | O55: 34.86 | P55: 7.1 | Q55: 3.9 | R55: 2.8 | S55: 7.17 | T55: 4.2 | U55: 14396.85 | V55: 10.2
B56: ０％超２５％未満 | C56: 3679.18 | D56: 17.5 | E56: 6187.47 | F56: 17.7 | G56: 2610.83 | H56: 13.8 | I56: 9467.74 | J56: 17.9 | K56: 1892.91 | L56: 20.3 | M56: 541.57 | N56: 17.7 | O56: 80.08 | P56: 16.3 | Q56: 31.73 | R56: 22.9 | S56: 31.34 | T56: 18.5 | U56: 24522.86 | V56: 17.4
B57: ２５％以上５０％未満 | C57: 1193.1 | D57: 5.7 | E57: 3186.05 | F57: 9.1 | G57: 1631.53 | H57: 8.6 | I57: 4287.83 | J57: 8.1 | K57: 785.2 | L57: 8.4 | M57: 278.88 | N57: 9.1 | O57: 12.22 | P57: 2.5 | Q57: 2.48 | R57: 1.8 | S57: 16.32 | T57: 9.7 | U57: 11393.62 | V57: 8.1
B58: ５０％以上７５％未満 | C58: 1888.41 | D58: 9 | E58: 3214.1 | F58: 9.2 | G58: 1779.66 | H58: 9.4 | I58: 3957.93 | J58: 7.5 | K58: 882.24 | L58: 9.5 | M58: 251.6 | N58: 8.2 | O58: 27.14 | P58: 5.5 | Q58: 1.33 | R58: 1 | S58: 2.21 | T58: 1.3 | U58: 12004.63 | V58: 8.5
B59: ７５％以上８５％未満 | C59: 1201.61 | D59: 5.7 | E59: 3241.3 | F59: 9.2 | G59: 1484.57 | H59: 7.9 | I59: 3920.12 | J59: 7.4 | K59: 612.96 | L59: 6.6 | M59: 245.54 | N59: 8 | O59: 31.85 | P59: 6.5 | Q59: 11.17 | R59: 8.1 | S59: 8.8 | T59: 5.2 | U59: 10757.92 | V59: 7.6
B60: ８５％以上９５％未満 | C60: 3882.12 | D60: 18.5 | E60: 3928.65 | F60: 11.2 | G60: 2295.44 | H60: 12.1 | I60: 8551.2 | J60: 16.1 | K60: 1221.6 | L60: 13.1 | M60: 358.64 | N60: 11.7 | O60: 37.35 | P60: 7.6 | Q60: 14.51 | R60: 10.5 | S60: 7.24 | T60: 4.3 | U60: 20296.76 | V60: 14.4
B61: ９５％以上 | C61: 6221.42 | D61: 29.6 | E61: 10854.63 | F61: 31 | G61: 6502.91 | H61: 34.4 | I61: 19215.22 | J61: 36.3 | K61: 3288.44 | L61: 35.3 | M61: 1266.87 | N61: 41.3 | O61: 268.18 | P61: 54.5 | Q61: 73.26 | R61: 52.9 | S61: 95.95 | T61: 56.8 | U61: 47786.87 | V61: 33.9
C62: 21036.12 | D62: 100 | E62: 35046.21 | F62: 100 | G62: 18900.9 | H62: 100 | I62: 53004.28 | J62: 100 | K62: 9305.61 | L62: 100 | M62: 3067.27 | N62: 100 | O62: 491.68 | P62: 100 | Q62: 138.39 | R62: 100 | S62: 169.04 | T62: 100 | U62: 141159.5 | V62: 100
A63: 増減 | B63: ０％ | D63: =D55-D71 -> 0.2 | F63: =F55-F71 -> 2 | H63: =H55-H71 -> 3 | J63: =J55-J71 -> 0.5 | L63: =L55-L71 -> 0.2 | N63: =N55-N71 -> -0.3 | P63: =P55-P71 -> 2.2 | R63: =R55-R71 -> -3 | T63: =T55-T71 -> -0.7 | V63: =V55-V71 -> 1.3
B64: ０％超２５％未満 | D64: =D56-D72 -> -6.5 | F64: =F56-F72 -> -1.7 | H64: =H56-H72 -> -10.2 | J64: =J56-J72 -> -0.4 | L64: =L56-L72 -> 2.8 | N64: =N56-N72 -> -0.4 | P64: =P56-P72 -> -0.2 | R64: =R56-R72 -> 6.3 | T64: =T56-T72 -> -2.3 | V64: =V56-V72 -> -2.6
B65: ２５％以上５０％未満 | D65: =D57-D73 -> -7.3 | F65: =F57-F73 -> -0.4 | H65: =H57-H73 -> -2.1 | J65: =J57-J73 -> -0.9 | L65: =L57-L73 -> -1.3 | N65: =N57-N73 -> 0.3 | P65: =P57-P73 -> -4.6 | R65: =R57-R73 -> -2.5 | T65: =T57-T73 -> 6.7 | V65: =V57-V73 -> -1.9
B66: ５０％以上７５％未満 | D66: =D58-D74 -> 5.8 | F66: =F58-F74 -> -0.9 | H66: =H58-H74 -> 0.3 | J66: =J58-J74 -> -0.4 | L66: =L58-L74 -> 0.3 | N66: =N58-N74 -> 0.7 | P66: =P58-P74 -> -1.4 | R66: =R58-R74 -> -3.4 | T66: =T58-T74 -> -2.7 | V66: =V58-V74 -> 0.6
B67: ７５％以上８５％未満 | D67: =D59-D75 -> -3.1 | F67: =F59-F75 -> 0.5 | H67: =H59-H75 -> -0.4 | J67: =J59-J75 -> -1.3 | L67: =L59-L75 -> -0.9 | N67: =N59-N75 -> -0.2 | P67: =P59-P75 -> -0.7 | R67: =R59-R75 -> 2.3 | T67: =T59-T75 -> 2.2 | V67: =V59-V75 -> -0.9
B68: ８５％以上９５％未満 | D68: =D60-D76 -> 7.7 | F68: =F60-F76 -> -0.6 | H68: =H60-H76 -> 1.3 | J68: =J60-J76 -> 3.7 | L68: =L60-L76 -> 1.2 | N68: =N60-N76 -> -1.2 | P68: =P60-P76 -> -0.2 | R68: =R60-R76 -> 1.3 | T68: =T60-T76 -> -3.5 | V68: =V60-V76 -> 2.6
B69: ９５％以上 | D69: =D61-D77 -> 3.3 | F69: =F61-F77 -> 1.1 | H69: =H61-H77 -> 8.1 | J69: =J61-J77 -> -1.2 | L69: =L61-L77 -> -2.4 | N69: =N61-N77 -> 1.1 | P69: =P61-P77 -> 4.9 | R69: =R61-R77 -> -0.9 | T69: =T61-T77 -> 0.4 | V69: =V61-V77 -> 1
D70: - | F70: - | H70: - | J70: - | L70: - | N70: - | P70: - | R70: - | T70: - | V70: -
A71: H 20 年 度 | B71: ０％ | C71: 3094.32 | D71: 13.9 | E71: 3604.5 | F71: 10.7 | G71: 1806.3 | H71: 10.7 | I71: 3621.75 | J71: 6.3 | K71: 688.99 | L71: 6.5 | M71: 147.78 | N71: 4.3 | O71: 28.64 | P71: 4.9 | Q71: 8.92 | R71: 5.8 | S71: 9.3 | T71: 4.9 | U71: 13010.49 | V71: 8.9
B72: ０％超２５％未満 | C72: 5343.09 | D72: 24 | E72: 6559.11 | F72: 19.4 | G72: 4059.29 | H72: 24 | I72: 10586.95 | J72: 18.3 | K72: 1838.68 | L72: 17.5 | M72: 624.51 | N72: 18.1 | O72: 95.69 | P72: 16.5 | Q72: 25.36 | R72: 16.6 | S72: 39.71 | T72: 20.8 | U72: 29172.38 | V72: 20
B73: ２５％以上５０％未満 | C73: 2895.69 | D73: 13 | E73: 3218 | F73: 9.5 | G73: 1808.71 | H73: 10.7 | I73: 5229.73 | J73: 9 | K73: 1018.07 | L73: 9.7 | M73: 302.38 | N73: 8.8 | O73: 40.98 | P73: 7.1 | Q73: 6.51 | R73: 4.3 | S73: 5.77 | T73: 3 | U73: 14525.83 | V73: 10
B74: ５０％以上７５％未満 | C74: 712.12 | D74: 3.2 | E74: 3400.67 | F74: 10.1 | G74: 1538.37 | H74: 9.1 | I74: 4553.83 | J74: 7.9 | K74: 969.67 | L74: 9.2 | M74: 260.22 | N74: 7.5 | O74: 40.17 | P74: 6.9 | Q74: 6.75 | R74: 4.4 | S74: 7.62 | T74: 4 | U74: 11489.41 | V74: 7.9
B75: ７５％以上８５％未満 | C75: 1959.27 | D75: 8.8 | E75: 2934.37 | F75: 8.7 | G75: 1397.58 | H75: 8.3 | I75: 5004.4 | J75: 8.7 | K75: 789.6 | L75: 7.5 | M75: 281.77 | N75: 8.2 | O75: 41.86 | P75: 7.2 | Q75: 8.95 | R75: 5.8 | S75: 5.71 | T75: 3 | U75: 12423.52 | V75: 8.5
B76: ８５％以上９５％未満 | C76: 2404.46 | D76: 10.8 | E76: 3976.38 | F76: 11.8 | G76: 1827.17 | H76: 10.8 | I76: 7154.22 | J76: 12.4 | K76: 1255.87 | L76: 11.9 | M76: 445.06 | N76: 12.9 | O76: 45.46 | P76: 7.8 | Q76: 14.15 | R76: 9.2 | S76: 14.89 | T76: 7.8 | U76: 17137.67 | V76: 11.8
B77: ９５％以上 | C77: 5856.77 | D77: 26.3 | E77: 10102.3 | F77: 29.9 | G77: 4446.38 | H77: 26.3 | I77: 21657.92 | J77: 37.5 | K77: 3972.06 | L77: 37.7 | M77: 1385.69 | N77: 40.2 | O77: 287.8 | P77: 49.6 | Q77: 82.41 | R77: 53.8 | S77: 107.52 | T77: 56.4 | U77: 47898.85 | V77: 32.9
C78: 22265.72 | D78: 100 | E78: 33795.32 | F78: 100 | G78: 16883.8 | H78: 100 | I78: 57808.81 | J78: 100 | K78: 10532.94 | L78: 100 | M78: 3447.4 | N78: 100 | O78: 580.6 | P78: 100 | Q78: 153.05 | R78: 100 | S78: 190.52 | T78: 100 | U78: 145658.15 | V78: 100
A79: 増減 | B79: ０％ | D79: =D71-D87 -> -0.5 | F79: =F71-F87 -> 1.1 | H79: =H71-H87 -> 3.7 | J79: =J71-J87 -> 1.1 | L79: =L71-L87 -> 1.5 | N79: =N71-N87 -> 0.3 | P79: =P71-P87 -> 0.8 | R79: =R71-R87 -> 5.3 | T79: =T71-T87 -> 4.3 | V79: =V71-V87 -> 1.2
B80: ０％超２５％未満 | D80: =D72-D88 -> 0.3 | F80: =F72-F88 -> 1.2 | H80: =H72-H88 -> 2.6 | J80: =J72-J88 -> -0.1 | L80: =L72-L88 -> -2.2 | N80: =N72-N88 -> -1.2 | P80: =P72-P88 -> -0.7 | R80: =R72-R88 -> 0 | T80: =T72-T88 -> 6.7 | V80: =V72-V88 -> 0.4
B81: ２５％以上５０％未満 | D81: =D73-D89 -> 1.3 | F81: =F73-F89 -> -1.4 | H81: =H73-H89 -> 0.9 | J81: =J73-J89 -> -0.8 | L81: =L73-L89 -> -0.5 | N81: =N73-N89 -> 0.1 | P81: =P73-P89 -> -0.4 | R81: =R73-R89 -> 0.5 | T81: =T73-T89 -> -0.6 | V81: =V73-V89 -> -0.3
B82: ５０％以上７５％未満 | D82: =D74-D90 -> -6.3 | F82: =F74-F90 -> 0.6 | H82: =H74-H90 -> -0.5 | J82: =J74-J90 -> -0.4 | L82: =L74-L90 -> 0.8 | N82: =N74-N90 -> -0.6 | P82: =P74-P90 -> -2 | R82: =R74-R90 -> -5.5 | T82: =T74-T90 -> 2 | V82: =V74-V90 -> -1
B83: ７５％以上８５％未満 | D83: =D75-D91 -> 3.3 | F83: =F75-F91 -> -1.3 | H83: =H75-H91 -> 0.6 | J83: =J75-J91 -> 0.7 | L83: =L75-L91 -> -0.9 | N83: =N75-N91 -> 0.2 | P83: =P75-P91 -> 1.1 | R83: =R75-R91 -> -0.1 | T83: =T75-T91 -> -2.9 | V83: =V75-V91 -> 0.4
B84: ８５％以上９５％未満 | D84: =D76-D92 -> 1.3 | F84: =F76-F92 -> -1.4 | H84: =H76-H92 -> -0.8 | J84: =J76-J92 -> -0.5 | L84: =L76-L92 -> 0.1 | N84: =N76-N92 -> 0.5 | P84: =P76-P92 -> -4 | R84: =R76-R92 -> -1.9 | T84: =T76-T92 -> 1 | V84: =V76-V92 -> -0.4
B85: ９５％以上 | D85: =D77-D93 -> 0.6 | F85: =F77-F93 -> 1.3 | H85: =H77-H93 -> -6.5 | J85: =J77-J93 -> 0.2 | L85: =L77-L93 -> 1.2 | N85: =N77-N93 -> 0.7 | P85: =P77-P93 -> 5.3 | R85: =R77-R93 -> 1.6 | T85: =T77-T93 -> -10.6 | V85: =V77-V93 -> -0.3
D86: - | F86: - | H86: - | J86: - | L86: - | N86: - | P86: - | R86: - | T86: - | V86: -
A87: H 17 年 度 | B87: ０％ | C87: 3352 | D87: 14.4 | E87: 3773 | F87: 9.6 | G87: 1515 | H87: 7 | I87: 3517 | J87: 5.2 | K87: 599 | L87: 5 | M87: 146 | N87: 4 | O87: 28 | P87: 4.1 | Q87: 1 | R87: 0.5 | S87: 1 | T87: 0.6 | U87: 12933 | V87: 7.7
B88: ０％超２５％未満 | C88: 5498 | D88: 23.7 | E88: 7130 | F88: 18.2 | G88: 4604 | H88: 21.4 | I88: 12386 | J88: 18.4 | K88: 2350 | L88: 19.7 | M88: 706 | N88: 19.3 | O88: 118 | P88: 17.2 | Q88: 31 | R88: 16.6 | S88: 31 | T88: 14.1 | U88: 32854 | V88: 19.6
B89: ２５％以上５０％未満 | C89: 2715 | D89: 11.7 | E89: 4275 | F89: 10.9 | G89: 2113 | H89: 9.8 | I89: 6599 | J89: 9.8 | K89: 1218 | L89: 10.2 | M89: 320 | N89: 8.7 | O89: 51 | P89: 7.5 | Q89: 7 | R89: 3.8 | S89: 8 | T89: 3.6 | U89: 17307 | V89: 10.3
B90: ５０％以上７５％未満 | C90: 2203 | D90: 9.5 | E90: 3724 | F90: 9.5 | G90: 2071 | H90: 9.6 | I90: 5570 | J90: 8.3 | K90: 1009 | L90: 8.4 | M90: 296 | N90: 8.1 | O90: 61 | P90: 8.9 | Q90: 19 | R90: 9.9 | S90: 4 | T90: 2 | U90: 14957 | V90: 8.9
B91: ７５％以上８５％未満 | C91: 1289 | D91: 5.5 | E91: 3894 | F91: 10 | G91: 1660 | H91: 7.7 | I91: 5419 | J91: 8 | K91: 998 | L91: 8.4 | M91: 292 | N91: 8 | O91: 42 | P91: 6.1 | Q91: 11 | R91: 5.9 | S91: 13 | T91: 5.9 | U91: 13618 | V91: 8.1
B92: ８５％以上９５％未満 | C92: 2210 | D92: 9.5 | E92: 5149 | F92: 13.2 | G92: 2499 | H92: 11.6 | I92: 8692 | J92: 12.9 | K92: 1404 | L92: 11.8 | M92: 456 | N92: 12.4 | O92: 81 | P92: 11.8 | Q92: 21 | R92: 11.1 | S92: 15 | T92: 6.8 | U92: 20526 | V92: 12.2
B93: ９５％以上 | C93: 5963 | D93: 25.7 | E93: 11172 | F93: 28.6 | G93: 7071 | H93: 32.8 | I93: 25134 | J93: 37.3 | K93: 4362 | L93: 36.5 | M93: 1449 | N93: 39.5 | O93: 302 | P93: 44.3 | Q93: 98 | R93: 52.2 | S93: 150 | T93: 67 | U93: 55702 | V93: 33.2
C94: 23230 | D94: 100 | E94: 39118 | F94: 100 | G94: 21532 | H94: 100 | I94: 67317 | J94: 100 | K94: 11941 | L94: 100 | M94: 3665 | N94: 100 | O94: 683 | P94: 100 | Q94: 188 | R94: 100 | S94: 224 | T94: 100 | U94: 167897 | V94: 100
T95: ='3-4-2'!P63

Sheet 3-4-4
A1: 表3－4－4 材工共請負の下請工事件数の比率（下請比率、次数別集計）（下請完工高のある企業のみ対象）
A3: （概要） | M3: （単位：社、％）
A4: 下請比率、次数 | B4: ０％超 ５０％未満 | D4: ５０％以上１００％以下 | L4: 合 計
A5: 材工共請負比率 | F5: 一次下請 | H5: 二次下請 | J5: 三次以下下請
A6: ０％ | B6: 6347.3155 | C6: 9.6046073 | D6: 15747.157 | E6: 10.096833 | F6: 7703.9937 | G6: 6.7904773 | H6: 6395.7683 | I6: 17.675357 | J6: 1647.3949 | K6: 26.050799 | L6: 22094.472 | M6: 9.9503361
A7: ０％超 ２５％未満 | B7: 14289.33 | C7: 21.622275 | D7: 27340.595 | E7: 17.530366 | F7: 17848.766 | G7: 15.732313 | H7: 7737.9043 | I7: 21.384487 | J7: 1753.925 | K7: 27.735395 | L7: 41629.925 | M7: 18.748207
A8: ２５％以上５０％未満 | B8: 5386.8585 | C8: 8.1512665 | D8: 13444.126 | E8: 8.6201652 | F8: 8609.7654 | G8: 7.5888453 | H8: 3959.5712 | I8: 10.942678 | J8: 874.78899 | K8: 13.833327 | L8: 18830.984 | M8: 8.4806108
A9: ５０％以上７５％未満 | B9: 4297.9062 | C9: 6.5034898 | D9: 14160.47 | E9: 9.0794742 | F9: 10405.457 | G9: 9.1716094 | H9: 3257.3605 | I9: 9.0020476 | J9: 497.6523 | K9: 7.8695402 | L9: 18458.376 | M9: 8.3128053
A10: ７５％以上８５％未満 | B10: 4950.3463 | C10: 7.4907465 | D10: 12860.693 | E10: 8.2460775 | F10: 10462.072 | G10: 9.221511 | H10: 2143.4489 | I10: 5.9236393 | J10: 255.17249 | K10: 4.0351268 | L10: 17811.04 | M10: 8.0212746
A11: ８５％以上９５％未満 | B11: 5846.7699 | C11: 8.8471934 | D11: 18992.192 | E11: 12.1775 | F11: 14675.785 | G11: 12.935574 | H11: 3924.0066 | I11: 10.844392 | J11: 392.40066 | K11: 6.2051612 | L11: 24838.962 | M11: 11.186328
A12: ９５％以上 | B12: 24967.628 | C12: 37.780422 | D12: 53416.112 | E12: 34.249584 | F12: 43747.065 | G12: 38.55967 | H12: 8766.6024 | I12: 24.227399 | J12: 902.44437 | K12: 14.270651 | L12: 78383.739 | M12: 35.300438
A13: 合 計 | B13: 66086.154 | C13: 100 | D13: 155961.34 | E13: 100 | F13: 113452.9 | G13: 100 | H13: 36184.662 | I13: 100 | J13: 6323.7787 | K13: 100 | L13: 222047.5 | M13: 100
F14: （注） | G14: 1. ( )の数値は各合計を100とした場合の構成比
A17: （下請比率別詳細）
A18: 下請比率、次数 | B18: ０％超１０％未満 | J18: １０％以上２０％未満 | R18: ２０％以上３０％未満
A19: 材工共請負比 | B19: 一次下請 | D19: 二次下請 | F19: 三次以下下請 | H19: 小 計 | J19: 一次下請 | L19: 二次下請 | N19: 三次以下下請 | P19: 小 計 | R19: 一次下請 | T19: 二次下請 | V19: 三次以下下請 | X19: 小 計
A20: ０％ | B20: 2519.5451 | C20: 14.000343 | D20: 193.81116 | E20: 42.90313 | F20: 48.45279 | G20: 48.433989 | H20: 2761.809 | I20: 14.889991 | J20: 1405.1309 | K20: 11.443937 | L20: 96.905581 | M20: 20.225427 | P20: 1502.0365 | Q20: 11.685052 | R20: 484.5279 | S20: 4.3294853 | T20: 48.45279 | U20: 7.2436161 | X20: 532.98069 | Y20: 4.4938386
A21: ０％超 ２５％未満 | B21: 4178.4683 | C21: 23.218473 | D21: 257.93014 | E21: 57.09687 | F21: 51.586029 | G21: 51.566011 | H21: 4487.9845 | I21: 24.196478 | J21: 2888.8176 | K21: 23.527663 | L21: 154.75809 | M21: 32.299981 | N21: 51.586029 | O21: 53.276411 | P21: 3095.1617 | Q21: 24.078725 | R21: 2321.3713 | S21: 20.742547 | T21: 257.93014 | U21: 38.560152 | X21: 2579.3014 | Y21: 21.747437
A22: ２５％以上５０％未満 | B22: 966.87205 | C22: 5.3726127 | H22: 966.87205 | I22: 5.2127849 | J22: 966.87205 | K22: 7.874585 | P22: 966.87205 | Q22: 7.5217545 | R22: 1012.9136 | S22: 9.0508604 | T22: 92.083052 | U22: 13.766272 | X22: 1104.9966 | Y22: 9.3168036
A23: ５０％以上７５％未満 | B23: 995.3046 | C23: 5.5306038 | H23: 995.3046 | I23: 5.3660759 | J23: 542.89342 | K23: 4.4215368 | L23: 90.482237 | M23: 18.884794 | N23: 45.241118 | O23: 46.723589 | P23: 678.61678 | Q23: 5.2792805 | R23: 814.34013 | S23: 7.2765131 | T23: 90.482237 | U23: 13.526952 | X23: 904.82237 | Y23: 7.6290299
A24: ７５％以上８５％未満 | B24: 612.41397 | C24: 3.4029974 | H24: 612.41397 | I24: 3.3017629 | J24: 1020.6899 | K24: 8.3128991 | L24: 51.034497 | M24: 10.651549 | P24: 1071.7244 | Q24: 8.3374508 | R24: 969.65545 | S24: 8.6643287 | T24: 51.034497 | U24: 7.6295773 | X24: 1020.6899 | Y24: 8.60597
A25: ８５％以上９５％未満 | B25: 902.52152 | C25: 5.0150365 | H25: 902.52152 | I25: 4.8658461 | J25: 941.76159 | K25: 7.6700756 | P25: 941.76159 | Q25: 7.3264084 | R25: 1334.1623 | S25: 11.921369 | X25: 1334.1623 | Y25: 11.249019
A26: ９５％以上 | B26: 7821.1845 | C26: 43.459934 | H26: 7821.1845 | I26: 42.167061 | J26: 4512.2218 | K26: 36.749304 | L26: 85.947083 | M26: 17.938249 | P26: 4598.1689 | Q26: 35.771329 | R26: 4254.3806 | S26: 38.014897 | T26: 128.92062 | U26: 19.273431 | X26: 4383.3012 | Y26: 36.957902
A27: 合 計 | B27: 17996.31 | C27: 100 | D27: 451.7413 | E27: 100 | F27: 100.03882 | G27: 100 | H27: 18548.09 | I27: 100 | J27: 12278.387 | K27: 100 | L27: 479.12748 | M27: 100 | N27: 96.827147 | O27: 100 | P27: 12854.342 | Q27: 100 | R27: 11191.351 | S27: 100 | T27: 668.90334 | U27: 100 | X27: 11860.255 | Y27: 100
A29: 下請比率、次数 | B29: ３０％以上４０％未満 | J29: ４０％以上５０％未満 | R29: ５０％以上６０％未満
A30: 材工共請負比 | B30: 一次下請 | D30: 二次下請 | F30: 三次以下下請 | H30: 小 計 | J30: 一次下請 | L30: 二次下請 | N30: 三次以下下請 | P30: 小 計 | R30: 一次下請 | T30: 二次下請 | V30: 三次以下下請 | X30: 小 計
A31: ０％ | B31: 775.24465 | C31: 7.6609491 | D31: 48.45279 | E31: 5.3250254 | F31: 48.45279 | G31: 34.926631 | H31: 872.15023 | I31: 7.8093205 | J31: 678.33906 | K31: 6.2355694 | P31: 678.33906 | Q31: 5.8199557 | R31: 193.81116 | S31: 2.0346977 | X31: 193.81116 | Y31: 1.8942144
A32: ０％超 ２５％未満 | B32: 1908.6831 | C32: 18.861561 | D32: 154.75809 | E32: 17.008117 | H32: 2063.4411 | I32: 18.476259 | J32: 1908.6831 | K32: 17.545393 | L32: 154.75809 | M32: 19.921058 | P32: 2063.4411 | Q32: 17.703736 | R32: 1650.7529 | S32: 17.330184 | T32: 154.75809 | U32: 21.906792 | X32: 1805.511 | Y32: 17.646171
A33: ２５％以上５０％未満 | B33: 874.78899 | C33: 8.644644 | D33: 46.041526 | E33: 5.0600242 | H33: 920.83052 | I33: 8.2452087 | J33: 1197.0797 | K33: 11.004045 | L33: 230.20763 | M33: 29.633215 | P33: 1427.2873 | Q33: 12.245718 | R33: 1197.0797 | S33: 12.567363 | T33: 184.1661 | U33: 26.069646 | X33: 1381.2458 | Y33: 13.499613
A34: ５０％以上７５％未満 | B34: 633.37566 | C34: 6.2590032 | D34: 135.72336 | E34: 14.916175 | H34: 769.09901 | I34: 6.8865896 | J34: 859.58125 | K34: 7.9016215 | L34: 90.482237 | M34: 11.647223 | P34: 950.06349 | Q34: 8.1512737 | R34: 995.3046 | S34: 10.449058 | T34: 226.20559 | U34: 32.020548 | X34: 1221.5102 | Y34: 11.938436
A35: ７５％以上８５％未満 | B35: 867.58646 | C35: 8.5734687 | D35: 153.10349 | E35: 16.826275 | F35: 51.034497 | G35: 36.787624 | H35: 1071.7244 | I35: 9.5963281 | J35: 1122.7589 | K35: 10.320858 | L35: 51.034497 | M35: 6.5693576 | P35: 1173.7934 | Q35: 10.070813 | R35: 714.48296 | S35: 7.5008933 | T35: 102.06899 | U35: 14.448384 | X35: 816.55196 | Y35: 7.9805747
A36: ８５％以上９５％未満 | B36: 1020.2417 | C36: 10.082004 | D36: 156.96026 | E36: 17.250139 | F36: 39.240066 | G36: 28.285745 | H36: 1216.4421 | I36: 10.892144 | J36: 1373.4023 | K36: 12.624874 | L36: 78.480132 | M36: 10.102266 | P36: 1451.8824 | Q36: 12.456737 | R36: 863.28146 | S36: 9.0630321 | T36: 39.240066 | U36: 5.5546303 | X36: 902.52152 | Y36: 8.8207986
A37: ９５％以上 | B37: 4039.5129 | C37: 39.91837 | D37: 214.86771 | E37: 23.614243 | H37: 4254.3806 | I37: 38.09415 | J37: 3738.6981 | K37: 34.367638 | L37: 171.89417 | M37: 22.126881 | P37: 3910.5923 | Q37: 33.551766 | R37: 3910.5923 | S37: 41.054772 | X37: 3910.5923 | Y37: 38.220193
A38: 合 計 | B38: 10119.433 | C38: 100 | D38: 909.90722 | E38: 100 | F38: 138.72735 | G38: 100 | H38: 11168.068 | I38: 100 | J38: 10878.542 | K38: 100 | L38: 776.85675 | M38: 100 | P38: 11655.399 | Q38: 100 | R38: 9525.305 | S38: 100 | T38: 706.43884 | U38: 100 | X38: 10231.744 | Y38: 100
A40: 下請比率、次数 | B40: ６０％以上７０％未満 | J40: ７０％以上８０％未満 | R40: ８０％以上９０％未満
A41: 材工共請負比 | B41: 一次下請 | D41: 二次下請 | F41: 三次以下下請 | H41: 小 計 | J41: 一次下請 | L41: 二次下請 | N41: 三次以下下請 | P41: 小 計 | R41: 一次下請 | T41: 二次下請 | V41: 三次以下下請 | X41: 小 計
A42: ０％ | B42: 145.35837 | C42: 1.2855559 | D42: 96.905581 | E42: 7.1087825 | H42: 242.26395 | I42: 1.8843155 | J42: 339.16953 | K42: 3.3748954 | L42: 145.35837 | M42: 8.1288242 | P42: 484.5279 | Q42: 4.0774178 | R42: 532.98069 | S42: 4.0268447 | T42: 48.45279 | U42: 1.7088078 | X42: 581.43348 | Y42: 3.5539016
A43: ０％超 ２５％未満 | B43: 1650.7529 | C43: 14.599332 | D43: 309.51617 | E43: 22.705433 | F43: 51.586029 | G43: 27.638933 | H43: 2011.8551 | I43: 15.648097 | J43: 1495.9948 | K43: 14.885848 | L43: 464.27426 | M43: 25.963443 | P43: 1960.2691 | Q43: 16.496132 | R43: 1031.7206 | S43: 7.7949887 | T43: 567.44632 | U43: 20.012401 | V43: 103.17206 | W43: 35.667197 | X43: 1702.3389 | Y43: 10.405223
A44: ２５％以上５０％未満 | B44: 1104.9966 | C44: 9.7726391 | D44: 276.24916 | E44: 20.265037 | F44: 92.083052 | G44: 49.336561 | H44: 1473.3288 | I44: 11.459469 | J44: 782.70594 | K44: 7.78829 | L44: 322.29068 | M44: 18.023347 | P44: 1104.9966 | Q44: 9.29881 | R44: 920.83052 | S44: 6.9571778 | T44: 460.41526 | U44: 16.237685 | V44: 92.083052 | W44: 31.833662 | X44: 1473.3288 | Y44: 9.0054424
A45: ５０％以上７５％未満 | B45: 1402.4747 | C45: 12.403548 | D45: 135.72336 | E45: 9.95637 | H45: 1538.198 | I45: 11.964018 | J45: 1266.7513 | K45: 12.604768 | L45: 135.72336 | M45: 7.5900087 | N45: 45.241118 | O45: 100 | P45: 1447.7158 | Q45: 12.182873 | R45: 1357.2336 | S45: 10.254346 | T45: 407.17007 | U45: 14.359862 | X45: 1764.4036 | Y45: 10.784582
A46: ７５％以上８５％未満 | B46: 1020.6899 | C46: 9.0270271 | D46: 255.17249 | E46: 18.718898 | H46: 1275.8624 | I46: 9.9235867 | J46: 1071.7244 | K46: 10.664159 | L46: 102.06899 | M46: 5.7079679 | P46: 1173.7934 | Q46: 9.8777516 | R46: 1480.0004 | S46: 11.181891 | T46: 255.17249 | U46: 8.9992903 | V46: 51.034497 | W46: 17.642931 | X46: 1786.2074 | Y46: 10.917853
A47: ８５％以上９５％未満 | B47: 1255.6821 | C47: 11.105308 | D47: 117.7202 | E47: 8.6356976 | H47: 1373.4023 | I47: 10.682246 | J47: 1569.6026 | K47: 15.61828 | L47: 274.68046 | M47: 15.360857 | P47: 1844.2831 | Q47: 15.520082 | R47: 2197.4437 | S47: 16.602411 | T47: 667.08113 | U47: 23.526269 | X47: 2864.5248 | Y47: 17.508863
A48: ９５％以上 | B48: 4727.0895 | C48: 41.806589 | D48: 171.89417 | E48: 12.609782 | F48: 42.973541 | G48: 23.024506 | H48: 4941.9573 | I48: 38.438267 | J48: 3523.8304 | K48: 35.06376 | L48: 343.78833 | M48: 19.225552 | P48: 3867.6187 | Q48: 32.546933 | R48: 5715.481 | S48: 43.182341 | T48: 429.73541 | U48: 15.155685 | V48: 42.973541 | W48: 14.85621 | X48: 6188.19 | Y48: 37.824135
A49: 合 計 | B49: 11307.044 | C49: 100 | D49: 1363.1811 | E49: 100 | F49: 186.64262 | G49: 100 | H49: 12856.868 | I49: 100 | J49: 10049.779 | K49: 100 | L49: 1788.1845 | M49: 100 | N49: 45.241118 | O49: 100 | P49: 11883.205 | Q49: 100 | R49: 13235.69 | S49: 100 | T49: 2835.4735 | U49: 100 | V49: 289.26315 | W49: 100 | X49: 16360.427 | Y49: 100
A51: 下請比率、次数 | B51: ９０％以上１００％未満 | J51: １００％ | R51: 合 計
A52: 材工共請負比 | B52: 一次下請 | D52: 二次下請 | F52: 三次以下下請 | H52: 小 計 | J52: 一次下請 | L52: 二次下請 | N52: 三次以下下請 | P52: 小 計 | R52: 一次下請 | T52: 二次下請 | V52: 三次以下下請
A53: ０％ | B53: 969.05581 | C53: 4.7424586 | D53: 387.62232 | E53: 7.4272107 | F53: 48.45279 | G53: 7.7006154 | H53: 1405.1309 | I53: 5.3464086 | J53: 5523.6181 | K53: 11.295403 | L53: 5717.4293 | M53: 23.555235 | N53: 1598.9421 | O53: 30.906838 | P53: 12839.989 | Q53: 16.388548 | R53: 13566.781 | S53: 7.7120385 | T53: 6783.3906 | U53: 17.185672 | V53: 1744.3005 | W53: 26.193167 | X53: 22094.472 | Y53: 9.9503361
A54: ０％超 ２５％未満 | B54: 2682.4735 | C54: 13.127747 | D54: 1238.0647 | E54: 23.722492 | F54: 309.51617 | G54: 49.191491 | H54: 4230.0544 | I54: 16.095012 | J54: 9337.0712 | K54: 19.093642 | L54: 5003.8448 | M54: 20.615339 | N54: 1289.6507 | O54: 24.928373 | P54: 15630.567 | Q54: 19.95035 | R54: 31054.789 | S54: 17.653099 | T54: 8718.0388 | U54: 22.087089 | V54: 1857.097 | W54: 27.886969 | X54: 41629.925 | Y54: 18.748207
A55: ２５％以上５０％未満 | B55: 1197.0797 | C55: 5.8583837 | D55: 460.41526 | E55: 8.8219923 | F55: 46.041526 | G55: 7.3173925 | H55: 1703.5365 | I55: 6.4818173 | J55: 3407.0729 | K55: 6.9672201 | L55: 2256.0348 | M55: 9.2946369 | N55: 644.58136 | O55: 12.45947 | P55: 6307.6891 | Q55: 8.0509305 | R55: 13628.292 | S55: 7.7470041 | T55: 4327.9034 | U55: 10.964713 | V55: 874.78899 | W55: 13.136209 | X55: 18830.984 | Y55: 8.4806108
A56: ５０％以上７５％未満 | B56: 1854.8859 | C56: 9.0776189 | D56: 452.41118 | E56: 8.6686266 | F56: 45.241118 | G56: 7.1901835 | H56: 2352.5382 | I56: 8.9512158 | J56: 3528.8072 | K56: 7.216158 | L56: 1900.127 | M56: 7.8283325 | N56: 407.17007 | O56: 7.8704159 | P56: 5836.1043 | Q56: 7.449015 | R56: 14250.952 | S56: 8.1009556 | T56: 3664.5306 | U56: 9.2840621 | V56: 542.89342 | W56: 8.1523216 | X56: 18458.376 | Y56: 8.3128053
A57: ７５％以上８５％未満 | B57: 2500.6904 | C57: 12.238119 | D57: 255.17249 | E57: 4.8893464 | F57: 51.034497 | G57: 8.1109268 | H57: 2806.8974 | I57: 10.680016 | J57: 3674.4838 | K57: 7.5140562 | L57: 1173.7934 | M57: 4.8359112 | N57: 153.10349 | O57: 2.9594223 | P57: 5001.3807 | Q57: 6.3836008 | R57: 15055.177 | S57: 8.5581171 | T57: 2449.6559 | U57: 6.2061857 | V57: 306.20698 | W57: 4.5981361 | X57: 17811.04 | Y57: 8.0212746
A58: ８５％以上９５％未満 | B58: 3021.4851 | C58: 14.786835 | D58: 706.32119 | E58: 13.533783 | H58: 3727.8063 | I58: 14.183999 | J58: 5768.2897 | K58: 11.795739 | L58: 2118.9636 | M58: 8.7299174 | N58: 392.40066 | O58: 7.5849299 | P58: 8279.654 | Q58: 10.567883 | R58: 20247.874 | S58: 11.509907 | T58: 4159.447 | U58: 10.537929 | V58: 431.64073 | W58: 6.4817032 | X58: 24838.962 | Y58: 11.186328
A59: ９５％以上 | B59: 8207.9464 | C59: 40.168838 | D59: 1718.9417 | E59: 32.93655 | F59: 128.92062 | G59: 20.489391 | H59: 10055.809 | I59: 38.261532 | J59: 17662.125 | K59: 36.117781 | L59: 6102.2429 | M59: 25.140628 | N59: 687.57666 | O59: 13.29055 | P59: 24451.945 | Q59: 31.209673 | R59: 68113.063 | S59: 38.718879 | T59: 9368.232 | U59: 23.734349 | V59: 902.44437 | W59: 13.551494 | X59: 78383.739 | Y59: 35.300438
A60: 合 計 | B60: 20433.617 | C60: 100 | D60: 5218.9488 | E60: 100 | F60: 629.20673 | G60: 100 | H60: 26281.772 | I60: 100 | J60: 48901.468 | K60: 100 | L60: 24272.436 | M60: 100 | N60: 5173.425 | O60: 100 | P60: 78347.329 | Q60: 100 | R60: 175916.93 | S60: 100 | T60: 39471.198 | U60: 100 | V60: 6659.372 | W60: 100 | X60: 222047.5 | Y60: 100
R61: （注） | S61: 1. ( )の数値は各合計を100とした場合の構成比
