Workbook
Name ______________________ＴＢＬ１: [1]CSS編集画面!$B$10:$F$22
Name ______________________ＴＢＬ２: [1]CSS編集画面!$B$24:$I$35
Name _____________________ＴＢＬ１: [1]CSS編集画面!$B$10:$F$22
Name _____________________ＴＢＬ２: [1]CSS編集画面!$B$24:$I$35
Name ____________________ＴＢＬ１: [1]CSS編集画面!$B$10:$F$22
Name ____________________ＴＢＬ２: [1]CSS編集画面!$B$24:$I$35
Name ___________________ＴＢＬ１: [1]CSS編集画面!$B$10:$F$22
Name ___________________ＴＢＬ２: [1]CSS編集画面!$B$24:$I$35
Name __________________ＴＢＬ１: [1]CSS編集画面!$B$10:$F$22
Name __________________ＴＢＬ２: [1]CSS編集画面!$B$24:$I$35
Name _________________ＴＢＬ１: [1]CSS編集画面!$B$10:$F$22
Name _________________ＴＢＬ２: [1]CSS編集画面!$B$24:$I$35
Name ________________ＴＢＬ１: [1]CSS編集画面!$B$10:$F$22
Name ________________ＴＢＬ２: [1]CSS編集画面!$B$24:$I$35
Name _______________ＴＢＬ１: [1]CSS編集画面!$B$10:$F$22
Name _______________ＴＢＬ２: [1]CSS編集画面!$B$24:$I$35
Name ______________ＴＢＬ１: [1]CSS編集画面!$B$10:$F$22
Name ______________ＴＢＬ２: [1]CSS編集画面!$B$24:$I$35
Name _____________ＴＢＬ１: [1]CSS編集画面!$B$10:$F$22
Name _____________ＴＢＬ２: [1]CSS編集画面!$B$24:$I$35
Name ____________ＴＢＬ１: [1]CSS編集画面!$B$10:$F$22
Name ____________ＴＢＬ２: [1]CSS編集画面!$B$24:$I$35
Name ___________ＴＢＬ１: [1]CSS編集画面!$B$10:$F$22
Name ___________ＴＢＬ２: [1]CSS編集画面!$B$24:$I$35
Name __________ＴＢＬ１: [1]CSS編集画面!$B$10:$F$22
Name __________ＴＢＬ２: [1]CSS編集画面!$B$24:$I$35
Name _________ＴＢＬ１: [1]CSS編集画面!$B$10:$F$22
Name _________ＴＢＬ２: [1]CSS編集画面!$B$24:$I$35
Name ________ＴＢＬ１: [1]CSS編集画面!$B$10:$F$22
Name ________ＴＢＬ２: [1]CSS編集画面!$B$24:$I$35
Name _______ＴＢＬ１: [1]CSS編集画面!$B$10:$F$22
Name _______ＴＢＬ２: [1]CSS編集画面!$B$24:$I$35
Name ______ＴＢＬ１: [1]CSS編集画面!$B$10:$F$22
Name ______ＴＢＬ２: [1]CSS編集画面!$B$24:$I$35
Name _____ＴＢＬ１: [1]CSS編集画面!$B$10:$F$22
Name _____ＴＢＬ２: [1]CSS編集画面!$B$24:$I$35
Name ____ＴＢＬ１: [1]CSS編集画面!$B$10:$F$22
Name ____ＴＢＬ２: [1]CSS編集画面!$B$24:$I$35
Name ___ＴＢＬ１: [1]CSS編集画面!$B$10:$F$22
Name ___ＴＢＬ２: [1]CSS編集画面!$B$24:$I$35
Name __ＴＢＬ１: [1]CSS編集画面!$B$10:$F$22
Name __ＴＢＬ２: [1]CSS編集画面!$B$24:$I$35
Name _ＴＢＬ１: [1]CSS編集画面!$B$10:$F$22
Name _ＴＢＬ２: [1]CSS編集画面!$B$24:$I$35
Name PAGE1: #REF!
Name PAGE10: #REF!
Name PAGE100: #REF!
Name PAGE1000: #REF!
Name PAGE1001: #REF!
Name PAGE1002: #REF!
Name PAGE1003: #REF!
Name PAGE1004: #REF!
Name PAGE1005: #REF!
Name PAGE1006: #REF!
Name PAGE1007: #REF!
Name PAGE1008: #REF!
Name PAGE1009: #REF!
Name PAGE101: #REF!
Name PAGE1010: #REF!
Name PAGE1011: #REF!

Sheet 3-5-1
A1: 表3－5－1 下請工事での契約締結方法（下請完工高のある企業のみ対象）
W3: （単位：社、％）
C4: 資本金 | D4: 個 人 | F4: 法 人 | V4: 合 計
A5: 業種 | C5: 契約方法 | F5: 500万円未満 | H5: 500万円以上 1000万円未満 | J5: 1000万円以上 3000万円未満 | L5: 3000万円以上 5000万円未満 | N5: 5000万円以上 1億円未満 | P5: 1億円以上 3億円未満 | R5: 3億円以上 10億円未満 | T5: 10億円以上
A6: 一般土木建築 | B6: 一般土木 建築工事業 | C6: 工事ごとの契約書 | F6: 154 | G6: 33.333333 | H6: 135.28571 | I6: 14.285714 | J6: 930.92 | K6: 38.636364 | L6: 401.31579 | M6: 35.714286 | N6: 114.61818 | O6: 20 | P6: 49.428571 | Q6: 36.363636 | R6: 8.6666667 | S6: 33.333333 | T6: 18.2 | U6: 41.176471 | V6: 1812.4349 | W6: 31.139655
C7: 基本契約書があり注文書と請書を交換 | J7: 273.8 | K7: 11.363636 | L7: 120.39474 | M7: 10.714286 | N7: 171.92727 | O7: 30 | P7: 41.190476 | Q7: 30.30303 | R7: 4.3333333 | S7: 16.666667 | T7: 13 | U7: 29.411765 | V7: 624.64582 | W7: 10.732112
C8: 基本契約約款添付の注文書と請書を交換 | D8: 99 | E8: 100 | H8: 270.57143 | I8: 28.571429 | J8: 438.08 | K8: 18.181818 | L8: 240.78947 | M8: 21.428571 | N8: 171.92727 | O8: 30 | P8: 24.714286 | Q8: 18.181818 | R8: 8.6666667 | S8: 33.333333 | T8: 5.2 | U8: 11.764706 | V8: 1258.9491 | W8: 21.630151
C9: 注文書と請書の 交換のみ | F9: 154 | G9: 33.333333 | H9: 541.14286 | I9: 57.142857 | J9: 602.36 | K9: 25 | L9: 361.18421 | M9: 32.142857 | N9: 114.61818 | O9: 20 | P9: 20.595238 | Q9: 15.151515 | R9: 4.3333333 | S9: 16.666667 | T9: 7.8 | U9: 17.647059 | V9: 1806.0338 | W9: 31.029677
C10: 注文書または請書の一方からの交付 | F10: 154 | G10: 33.333333 | J10: 109.52 | K10: 4.5454545 | V10: 263.52 | W10: 4.5275677
C11: メモまたは口頭 | J11: 54.76 | K11: 2.2727273 | V11: 54.76 | W11: 0.94083791
C12: 小 計 | D12: 99 | E12: 100 | F12: 462 | G12: 100 | H12: 947 | I12: 100 | J12: 2409.44 | K12: 100 | L12: 1123.6842 | M12: 100 | N12: 573.09091 | O12: 100 | P12: 135.92857 | Q12: 100 | R12: 26 | S12: 100 | T12: 44.2 | U12: 100 | V12: 5820.3437 | W12: 100
A13: 土 木 | B13: 土木工事業 | C13: 工事ごとの契約書 | D13: 168.41667 | E13: 8.3333333 | F13: 1551.75 | G13: 27.272727 | H13: 1741.7797 | I13: 36.170213 | J13: 2335.6579 | K13: 24.590164 | L13: 774.12195 | M13: 25.757576 | N13: 301.83051 | O13: 34.782609 | P13: 22.53125 | Q13: 36.842105 | R13: 3.6 | S13: 25 | T13: 2.5 | U13: 12.5 | V13: 6902.1879 | W13: 26.553684
C14: 基本契約書があり注文書と請書を交換 | D14: 336.83333 | E14: 16.666667 | F14: 905.1875 | G14: 15.909091 | H14: 922.11864 | I14: 19.148936 | J14: 1712.8158 | K14: 18.032787 | L14: 273.21951 | M14: 9.0909091 | N14: 113.18644 | O14: 13.043478 | P14: 19.3125 | Q14: 31.578947 | R14: 3.6 | S14: 25 | T14: 15 | U14: 75 | V14: 4301.2737 | W14: 16.547603
C15: 基本契約約款添付の注文書と請書を交換 | D15: 673.66667 | E15: 33.333333 | F15: 1293.125 | G15: 22.727273 | H15: 819.66102 | I15: 17.021277 | J15: 2802.7895 | K15: 29.508197 | L15: 1092.878 | M15: 36.363636 | N15: 301.83051 | O15: 34.782609 | P15: 6.4375 | Q15: 10.526316 | R15: 3.6 | S15: 25 | T15: 2.5 | U15: 12.5 | V15: 6996.4882 | W15: 26.916471
C16: 注文書と請書の 交換のみ | F16: 1422.4375 | G16: 25 | H16: 922.11864 | I16: 19.148936 | J16: 1868.5263 | K16: 19.672131 | L16: 819.65854 | M16: 27.272727 | N16: 150.91525 | O16: 17.391304 | P16: 12.875 | Q16: 21.052632 | R16: 3.6 | S16: 25 | V16: 5200.1313 | W16: 20.005634
C17: 注文書または請書の一方からの交付 | D17: 336.83333 | E17: 16.666667 | F17: 517.25 | G17: 9.0909091 | H17: 409.83051 | I17: 8.5106383 | J17: 311.42105 | K17: 3.2786885 | L17: 45.536585 | M17: 1.5151515 | V17: 1620.8715 | W17: 6.2357198
C18: メモまたは口頭 | D18: 505.25 | E18: 25 | J18: 467.13158 | K18: 4.9180328 | V18: 972.38158 | W18: 3.7408882
C19: 小 計 | D19: 2021 | E19: 100 | F19: 5689.75 | G19: 100 | H19: 4815.5085 | I19: 100 | J19: 9498.3421 | K19: 100 | L19: 3005.4146 | M19: 100 | N19: 867.76271 | O19: 100 | P19: 61.15625 | Q19: 100 | R19: 14.4 | S19: 100 | T19: 20 | U19: 100 | V19: 25993.334 | W19: 100
B20: ほ装工事業 | C20: 工事ごとの契約書 | D20: 14.5 | E20: 60 | F20: 122.2069 | G20: 14.814815 | H20: 118.83333 | I20: 16.666667 | J20: 232.33333 | K20: 18.421053 | L20: 111.84783 | M20: 38.461538 | N20: 22.451613 | O20: 19.354839 | P20: 4 | Q20: 40 | T20: 6 | U20: 100 | V20: 632.173 | W20: 19.474813
C21: 基本契約書があり注文書と請書を交換 | F21: 213.86207 | G21: 25.925926 | H21: 118.83333 | I21: 16.666667 | J21: 398.28571 | K21: 31.578947 | L21: 29.826087 | M21: 10.25641 | N21: 29.935484 | O21: 25.806452 | V21: 790.74269 | W21: 24.359733
C22: 基本契約約款添付の注文書と請書を交換 | F22: 91.655172 | G22: 11.111111 | H22: 118.83333 | I22: 16.666667 | J22: 232.33333 | K22: 18.421053 | L22: 67.108696 | M22: 23.076923 | N22: 29.935484 | O22: 25.806452 | P22: 2 | Q22: 20 | V22: 541.86602 | W22: 16.692803
C23: 注文書と請書の 交換のみ | F23: 213.86207 | G23: 25.925926 | H23: 237.66667 | I23: 33.333333 | J23: 331.90476 | K23: 26.315789 | L23: 74.565217 | M23: 25.641026 | N23: 29.935484 | O23: 25.806452 | P23: 4 | Q23: 40 | V23: 891.9342 | W23: 27.477054
C24: 注文書または請書の一方からの交付 | F24: 91.655172 | G24: 11.111111 | H24: 89.125 | I24: 12.5 | J24: 33.190476 | K24: 2.6315789 | N24: 3.7419355 | O24: 3.2258065 | V24: 217.71258 | W24: 6.7068853
C25: メモまたは口頭 | D25: 9.6666667 | E25: 40 | F25: 91.655172 | G25: 11.111111 | H25: 29.708333 | I25: 4.1666667 | J25: 33.190476 | K25: 2.6315789 | L25: 7.4565217 | M25: 2.5641026 | V25: 171.67717 | W25: 5.2887117
C26: 小 計 | D26: 24.166667 | E26: 100 | F26: 824.89655 | G26: 100 | H26: 713 | I26: 100 | J26: 1261.2381 | K26: 100 | L26: 290.80435 | M26: 100 | N26: 116 | O26: 100 | P26: 10 | Q26: 100 | T26: 6 | U26: 100 | V26: 3246.1057 | W26: 100
B27: しゅんせつ 工事業 | C27: 工事ごとの契約書 | L27: 9 | M27: 33.333333 | N27: 8 | O27: 100 | V27: 17 | W27: 12.623762
C28: 基本契約書があり注文書と請書を交換
C29: 基本契約約款添付の注文書と請書を交換 | H29: 69 | I29: 100 | J29: 15.333333 | K29: 50 | L29: 18 | M29: 66.666667 | V29: 102.33333 | W29: 75.990099
C30: 注文書と請書の 交換のみ | J30: 15.333333 | K30: 50 | V30: 15.333333 | W30: 11.386139
C31: 注文書または請書の一方からの交付
C32: メモまたは口頭
C33: 小 計 | H33: 69 | I33: 100 | J33: 30.666667 | K33: 100 | L33: 27 | M33: 100 | N33: 8 | O33: 100 | V33: 134.66667 | W33: 100
B34: 造園工事業 | C34: 工事ごとの契約書 | F34: 259.6 | G34: 50 | H34: 61.5 | I34: 22.222222 | J34: 180.76596 | K34: 30 | L34: 31.276596 | M34: 25 | N34: 8 | O34: 23.529412 | V34: 541.14255 | W34: 30.736091
C35: 基本契約書があり注文書と請書を交換 | H35: 123 | I35: 44.444444 | J35: 150.6383 | K35: 25 | L35: 37.531915 | M35: 30 | N35: 8 | O35: 23.529412 | V35: 319.17021 | W35: 18.128392
C36: 基本契約約款添付の注文書と請書を交換 | H36: 30.75 | I36: 11.111111 | J36: 120.51064 | K36: 20 | L36: 34.404255 | M36: 27.5 | N36: 12 | O36: 35.294118 | V36: 197.66489 | W36: 11.227071
C37: 注文書と請書の 交換のみ | F37: 259.6 | G37: 50 | H37: 30.75 | I37: 11.111111 | J37: 120.51064 | K37: 20 | L37: 21.893617 | M37: 17.5 | N37: 6 | O37: 17.647059 | V37: 438.75426 | W37: 24.920588
C38: 注文書または請書の一方からの交付 | D38: 203 | E38: 100 | J38: 30.12766 | K38: 5 | V38: 233.12766 | W38: 13.241304
C39: メモまたは口頭 | H39: 30.75 | I39: 11.111111 | V39: 30.75 | W39: 1.7465542
C40: 小 計 | D40: 203 | E40: 100 | F40: 519.2 | G40: 100 | H40: 276.75 | I40: 100 | J40: 602.55319 | K40: 100 | L40: 125.10638 | M40: 100 | N40: 34 | O40: 100 | V40: 1760.6096 | W40: 100
B41: 水道施設 工事業 | C41: 工事ごとの契約書 | F41: 89.538462 | G41: 27.272727 | H41: 47.555556 | I41: 14.285714 | J41: 107.18919 | K41: 18.75 | L41: 39.5 | M41: 29.62963 | N41: 5.3333333 | O41: 16.666667 | V41: 289.11654 | W41: 19.759401
C42: 基本契約書があり注文書と請書を交換 | J42: 107.18919 | K42: 18.75 | L42: 19.75 | M42: 14.814815 | N42: 5.3333333 | O42: 16.666667 | V42: 132.27252 | W42: 9.0400424
C43: 基本契約約款添付の注文書と請書を交換 | F43: 89.538462 | G43: 27.272727 | H43: 285.33333 | I43: 85.714286 | J43: 142.91892 | K43: 25 | L43: 34.5625 | M43: 25.925926 | N43: 5.3333333 | O43: 16.666667 | V43: 557.68655 | W43: 38.114568
C44: 注文書と請書の 交換のみ | F44: 149.23077 | G44: 45.454545 | J44: 178.64865 | K44: 31.25 | L44: 29.625 | M44: 22.222222 | N44: 16 | O44: 50 | V44: 373.50442 | W44: 25.526812
C45: 注文書または請書の一方からの交付 | D45: 65 | E45: 100 | J45: 17.864865 | K45: 3.125 | L45: 4.9375 | M45: 3.7037037 | V45: 87.802365 | W45: 6.0007709
C46: メモまたは口頭 | J46: 17.864865 | K46: 3.125 | L46: 4.9375 | M46: 3.7037037 | V46: 22.802365 | W46: 1.5584064
C47: 小 計 | D47: 65 | E47: 100 | F47: 328.30769 | G47: 100 | H47: 332.88889 | I47: 100 | J47: 571.67568 | K47: 100 | L47: 133.3125 | M47: 100 | N47: 32 | O47: 100 | V47: 1463.1848 | W47: 100
B48: 小 計 | C48: 工事ごとの契約書 | D48: 182.91667 | E48: 7.9076302 | F48: 2023.0954 | G48: 27.479665 | H48: 1969.6685 | I48: 31.732267 | J48: 2855.9464 | K48: 23.870217 | L48: 965.74637 | M48: 26.96382 | N48: 345.61545 | O48: 32.674195 | P48: 26.53125 | Q48: 37.285903 | R48: 3.6 | S48: 25 | T48: 8.5 | U48: 32.692308 | V48: 8381.62 | W48: 25.712147
C49: 基本契約書があり注文書と請書を交換 | D49: 336.83333 | E49: 14.561568 | F49: 1119.0496 | G49: 15.200029 | H49: 1163.952 | I49: 18.751802 | J49: 2368.929 | K49: 19.799689 | L49: 360.32751 | M49: 10.060412 | N49: 156.45526 | O49: 14.791149 | P49: 19.3125 | Q49: 27.140975 | R49: 3.6 | S49: 25 | T49: 15 | U49: 57.692308 | V49: 5543.4591 | W49: 17.005571
C50: 基本契約約款添付の注文書と請書を交換 | D50: 673.66667 | E50: 29.123136 | F50: 1474.3186 | G50: 20.025642 | H50: 1323.5777 | I50: 21.323445 | J50: 3313.8857 | K50: 27.697709 | L50: 1246.9535 | M50: 34.815175 | N50: 349.09933 | O50: 33.003558 | P50: 8.4375 | Q50: 11.857708 | R50: 3.6 | S50: 25 | T50: 2.5 | U50: 9.6153846 | V50: 8396.039 | W50: 25.756379
C51: 注文書と請書の 交換のみ | F51: 2045.1303 | G51: 27.778966 | H51: 1190.5353 | I51: 19.180072 | J51: 2514.9237 | K51: 21.019924 | L51: 945.74237 | M51: 26.405304 | N51: 202.85074 | O51: 19.177339 | P51: 16.875 | Q51: 23.715415 | R51: 3.6 | S51: 25 | V51: 6919.6575 | W51: 21.22731
C52: 注文書または請書の一方からの交付 | D52: 604.83333 | E52: 26.147417 | F52: 608.90517 | G52: 8.2707473 | H52: 498.95551 | I52: 8.0384028 | J52: 392.60405 | K52: 3.2814146 | L52: 50.474085 | M52: 1.4092459 | N52: 3.7419355 | O52: 0.35375944 | V52: 2159.5141 | W52: 6.6247029
C53: メモまたは口頭 | D53: 514.91667 | E53: 22.260249 | F53: 91.655172 | G53: 1.2449505 | H53: 60.458333 | I53: 0.97401157 | J53: 518.18692 | K53: 4.3310458 | L53: 12.394022 | M53: 0.34604341 | V53: 1197.6111 | W53: 3.6738903
C54: 小 計 | D54: 2313.1667 | E54: 100 | F54: 7362.1542 | G54: 100 | H54: 6207.1474 | I54: 100 | J54: 11964.476 | K54: 100 | L54: 3581.6379 | M54: 100 | N54: 1057.7627 | O54: 100 | P54: 71.15625 | Q54: 100 | R54: 14.4 | S54: 100 | T54: 26 | U54: 100 | V54: 32597.901 | W54: 100
A55: 建 築 | B55: 建築工事業 | C55: 工事ごとの契約書 | D55: 515.31579 | E55: 10 | F55: 679.71429 | G55: 9.0909091 | H55: 1514.7778 | I55: 23.529412 | J55: 2727 | K55: 19.565217 | L55: 667.07692 | M55: 24.242424 | N55: 293.74138 | O55: 25 | P55: 46.428571 | Q55: 25 | R55: 12.894737 | S55: 35.714286 | T55: 17.6 | U55: 50 | V55: 6474.5495 | W55: 17.409618
C56: 基本契約書があり注文書と請書を交換 | D56: 515.31579 | E56: 10 | F56: 2039.1429 | G56: 27.272727 | H56: 1893.4722 | I56: 29.411765 | J56: 6060 | K56: 43.478261 | L56: 833.84615 | M56: 30.30303 | N56: 489.56897 | O56: 41.666667 | P56: 102.14286 | Q56: 55 | R56: 18.052632 | S56: 50 | V56: 11951.541 | W56: 32.136872
C57: 基本契約約款添付の注文書と請書を交換 | H57: 378.69444 | I57: 5.8823529 | J57: 1818 | K57: 13.043478 | L57: 500.30769 | M57: 18.181818 | N57: 195.82759 | O57: 16.666667 | P57: 18.571429 | Q57: 10 | R57: 2.5789474 | S57: 7.1428571 | V57: 2913.9801 | W57: 7.8354919
C58: 注文書と請書の 交換のみ | D58: 2061.2632 | E58: 40 | F58: 1359.4286 | G58: 18.181818 | H58: 1136.0833 | I58: 17.647059 | J58: 1818 | K58: 13.043478 | L58: 583.69231 | M58: 21.212121 | N58: 32.637931 | O58: 2.7777778 | P58: 18.571429 | Q58: 10 | R58: 2.5789474 | S58: 7.1428571 | T58: 17.6 | U58: 50 | V58: 7029.8557 | W58: 18.902798
C59: 注文書または請書の一方からの交付 | D59: 1030.6316 | E59: 20 | F59: 1359.4286 | G59: 18.181818 | H59: 1136.0833 | I59: 17.647059 | J59: 606 | K59: 4.3478261 | N59: 97.913793 | O59: 8.3333333 | V59: 4230.0573 | W59: 11.374333
C60: メモまたは口頭 | D60: 1030.6316 | E60: 20 | F60: 2039.1429 | G60: 27.272727 | H60: 378.69444 | I60: 5.8823529 | J60: 909 | K60: 6.5217391 | L60: 166.76923 | M60: 6.0606061 | N60: 65.275862 | O60: 5.5555556 | V60: 4589.514 | W60: 12.340887
C61: 小 計 | D61: 5153.1579 | E61: 100 | F61: 7476.8571 | G61: 100 | H61: 6437.8056 | I61: 100 | J61: 13938 | K61: 100 | L61: 2751.6923 | M61: 100 | N61: 1174.9655 | O61: 100 | P61: 185.71429 | Q61: 100 | R61: 36.105263 | S61: 100 | T61: 35.2 | U61: 100 | V61: 37189.498 | W61: 100
B62: 木造建築 工事業 | C62: 工事ごとの契約書 | F62: 163.48276 | G62: 33.333333 | H62: 67.232558 | I62: 14.285714 | J62: 1254.6 | K62: 38.636364 | L62: 92.352941 | M62: 35.714286 | N62: 38.26087 | O62: 20 | P62: 43 | Q62: 36.363636 | R62: 4 | S62: 33.333333 | T62: 28 | U62: 41.176471 | V62: 1690.9291 | W62: 31.715766
C63: 基本契約書があり注文書と請書を交換 | J63: 369 | K63: 11.363636 | L63: 27.705882 | M63: 10.714286 | N63: 57.391304 | O63: 30 | P63: 35.833333 | Q63: 30.30303 | R63: 2 | S63: 16.666667 | T63: 20 | U63: 29.411765 | V63: 511.93052 | W63: 9.6019805
C64: 基本契約約款添付の注文書と請書を交換 | D64: 475.09091 | E64: 100 | H64: 134.46512 | I64: 28.571429 | J64: 590.4 | K64: 18.181818 | L64: 55.411765 | M64: 21.428571 | N64: 57.391304 | O64: 30 | P64: 21.5 | Q64: 18.181818 | R64: 4 | S64: 33.333333 | T64: 8 | U64: 11.764706 | V64: 1346.2591 | W64: 25.250992
C65: 注文書と請書の 交換のみ | F65: 163.48276 | G65: 33.333333 | H65: 268.93023 | I65: 57.142857 | J65: 811.8 | K65: 25 | L65: 83.117647 | M65: 32.142857 | N65: 38.26087 | O65: 20 | P65: 17.916667 | Q65: 15.151515 | R65: 2 | S65: 16.666667 | T65: 12 | U65: 17.647059 | V65: 1397.5082 | W65: 26.212241
C66: 注文書または請書の一方からの交付 | F66: 163.48276 | G66: 33.333333 | J66: 147.6 | K66: 4.5454545 | V66: 311.08276 | W66: 5.8347969
C67: メモまたは口頭 | J67: 73.8 | K67: 2.2727273 | V67: 73.8 | W67: 1.3842233
C68: 小 計 | D68: 475.09091 | E68: 100 | F68: 490.44828 | G68: 100 | H68: 470.62791 | I68: 100 | J68: 3247.2 | K68: 100 | L68: 258.58824 | M68: 100 | N68: 191.30435 | O68: 100 | P68: 118.25 | Q68: 100 | R68: 12 | S68: 100 | T68: 68 | U68: 100 | V68: 5331.5097 | W68: 100
B69: 小 計 | C69: 工事ごとの契約書 | D69: 515.31579 | E69: 9.1558815 | F69: 843.19704 | G69: 10.583215 | H69: 1582.0103 | I69: 22.899697 | J69: 3981.6 | K69: 23.168773 | L69: 759.42986 | M69: 25.227877 | N69: 332.00225 | O69: 24.299903 | P69: 89.428571 | Q69: 29.42075 | R69: 16.894737 | S69: 35.12035 | T69: 45.6 | U69: 44.186047 | V69: 8165.4786 | W69: 19.203399
C70: 基本契約書があり注文書と請書を交換 | D70: 515.31579 | E70: 9.1558815 | F70: 2039.1429 | G70: 25.593883 | H70: 1893.4722 | I70: 27.408127 | J70: 6429 | K70: 37.410097 | L70: 861.55204 | M70: 28.620324 | N70: 546.96027 | O70: 40.033106 | P70: 137.97619 | Q70: 45.392237 | R70: 20.052632 | S70: 41.684902 | T70: 20 | U70: 19.379845 | V70: 12463.472 | W70: 29.311328
C71: 基本契約約款添付の注文書と請書を交換 | D71: 475.09091 | E71: 8.4411853 | H71: 513.15956 | I71: 7.4280163 | J71: 2408.4 | K71: 14.014384 | L71: 555.71946 | M71: 18.46072 | N71: 253.21889 | O71: 18.533593 | P71: 40.071429 | Q71: 13.18294 | R71: 6.5789474 | S71: 13.676149 | T71: 8 | U71: 7.751938 | V71: 4260.2392 | W71: 10.01914
C72: 注文書と請書の 交換のみ | D72: 2061.2632 | E72: 36.623526 | F72: 1522.9113 | G72: 19.114509 | H72: 1405.0136 | I72: 20.337658 | J72: 2629.8 | K72: 15.302702 | L72: 666.80995 | M72: 22.15109 | N72: 70.898801 | O72: 5.1892238 | P72: 36.488095 | Q72: 12.004073 | R72: 4.5789474 | S72: 9.5185996 | T72: 29.6 | U72: 28.682171 | V72: 8427.3639 | W72: 19.819295
C73: 注文書または請書の一方からの交付 | D73: 1030.6316 | E73: 18.311763 | F73: 1522.9113 | G73: 19.114509 | H73: 1136.0833 | I73: 16.444876 | J73: 753.6 | K73: 4.3851686 | N73: 97.913793 | O73: 7.1665046 | V73: 4541.14 | W73: 10.679756
C74: メモまたは口頭 | D74: 1030.6316 | E74: 18.311763 | F74: 2039.1429 | G74: 25.593883 | H74: 378.69444 | I74: 5.4816254 | J74: 982.8 | K74: 5.7188744 | L74: 166.76923 | M74: 5.5399897 | N74: 65.275862 | O74: 4.7776698 | V74: 4663.314 | W74: 10.967082
C75: 小 計 | D75: 5628.2488 | E75: 100 | F75: 7967.3054 | G75: 100 | H75: 6908.4335 | I75: 100 | J75: 17185.2 | K75: 100 | L75: 3010.2805 | M75: 100 | N75: 1366.2699 | O75: 100 | P75: 303.96429 | Q75: 100 | R75: 48.105263 | S75: 100 | T75: 103.2 | U75: 100 | V75: 42521.008 | W75: 100
A76: 職 別 | B76: 大工工事業 | C76: 工事ごとの契約書 | F76: 335.56098 | G76: 18.181818 | H76: 238.66667 | I76: 17.948718 | J76: 202.70213 | K76: 17.5 | L76: 3.44 | M76: 4.7619048 | N76: 5.25 | O76: 12.5 | P76: 1.6666667 | Q76: 33.333333 | V76: 787.28644 | W76: 13.533682
C77: 基本契約書があり注文書と請書を交換 | D77: 151.6 | E77: 11.111111 | F77: 447.41463 | G77: 24.242424 | H77: 409.14286 | I77: 30.769231 | J77: 405.40426 | K77: 35 | L77: 27.52 | M77: 38.095238 | N77: 23.625 | O77: 56.25 | P77: 3.3333333 | Q77: 66.666667 | V77: 1468.0401 | W77: 25.236035
C78: 基本契約約款添付の注文書と請書を交換 | D78: 151.6 | E78: 11.111111 | F78: 391.4878 | G78: 21.212121 | H78: 136.38095 | I78: 10.25641 | J78: 115.82979 | K78: 10 | L78: 34.4 | M78: 47.619048 | N78: 5.25 | O78: 12.5 | V78: 834.94854 | W78: 14.353008
C79: 注文書と請書の 交換のみ | D79: 303.2 | E79: 22.222222 | F79: 503.34146 | G79: 27.272727 | H79: 306.85714 | I79: 23.076923 | J79: 347.48936 | K79: 30 | L79: 6.88 | M79: 9.5238095 | N79: 7.875 | O79: 18.75 | V79: 1475.643 | W79: 25.366731
C80: 注文書または請書の一方からの交付 | D80: 454.8 | E80: 33.333333 | F80: 111.85366 | G80: 6.0606061 | H80: 102.28571 | I80: 7.6923077 | J80: 57.914894 | K80: 5 | V80: 726.85427 | W80: 12.494836
C81: メモまたは口頭 | D81: 303.2 | E81: 22.222222 | F81: 55.926829 | G81: 3.030303 | H81: 136.38095 | I81: 10.25641 | J81: 28.957447 | K81: 2.5 | V81: 524.46523 | W81: 9.0157094
C82: 小 計 | D82: 1364.4 | E82: 100 | F82: 1845.5854 | G82: 100 | H82: 1329.7143 | I82: 100 | J82: 1158.2979 | K82: 100 | L82: 72.24 | M82: 100 | N82: 42 | O82: 100 | P82: 5 | Q82: 100 | V82: 5817.2375 | W82: 100
B83: とび・土工・ コンクリート 工事業 | C83: 工事ごとの契約書 | D83: 556.53846 | E83: 41.666667 | F83: 1734 | G83: 23.529412 | H83: 957.06977 | I83: 23.170732 | J83: 684.864 | K83: 19.834711 | L83: 54.230769 | M83: 17.241379 | N83: 21.629032 | O83: 15.254237 | P83: 3.6666667 | Q83: 11.538462 | V83: 4011.9987 | W83: 23.909883
C84: 基本契約書があり注文書と請書を交換 | F84: 1994.1 | G84: 27.058824 | H84: 1108.186 | I84: 26.829268 | J84: 970.224 | K84: 28.099174 | L84: 141 | M84: 44.827586 | N84: 62.483871 | O84: 44.067797 | P84: 18.333333 | Q84: 57.692308 | T84: 0.5 | U84: 50 | V84: 4294.8273 | W84: 25.595427
C85: 基本契約約款添付の注文書と請書を交換 | D85: 111.30769 | E85: 8.3333333 | F85: 1040.4 | G85: 14.117647 | H85: 856.32558 | I85: 20.731707 | J85: 627.792 | K85: 18.181818 | L85: 32.538462 | M85: 10.344828 | N85: 40.854839 | O85: 28.813559 | P85: 6.1111111 | Q85: 19.230769 | R85: 1 | S85: 50 | T85: 0.5 | U85: 50 | V85: 2716.8297 | W85: 16.191202
C86: 注文書と請書の 交換のみ | D86: 445.23077 | E86: 33.333333 | F86: 1473.9 | G86: 20 | H86: 604.46512 | I86: 14.634146 | J86: 884.616 | K86: 25.619835 | L86: 83.153846 | M86: 26.436782 | N86: 14.419355 | O86: 10.169492 | P86: 3.6666667 | Q86: 11.538462 | R86: 1 | S86: 50 | V86: 3510.4518 | W86: 20.920867
C87: 注文書または請書の一方からの交付 | D87: 111.30769 | E87: 8.3333333 | F87: 433.5 | G87: 5.8823529 | H87: 302.23256 | I87: 7.3170732 | J87: 114.144 | K87: 3.3057851 | L87: 3.6153846 | M87: 1.1494253 | N87: 2.4032258 | O87: 1.6949153 | V87: 967.20286 | W87: 5.7641364
C88: メモまたは口頭 | D88: 111.30769 | E88: 8.3333333 | F88: 693.6 | G88: 9.4117647 | H88: 302.23256 | I88: 7.3170732 | J88: 171.216 | K88: 4.9586777 | V88: 1278.3563 | W88: 7.6184843
C89: 小 計 | D89: 1335.6923 | E89: 100 | F89: 7369.5 | G89: 100 | H89: 4130.5116 | I89: 100 | J89: 3452.856 | K89: 100 | L89: 314.53846 | M89: 100 | N89: 141.79032 | O89: 100 | P89: 31.777778 | Q89: 100 | R89: 2 | S89: 100 | T89: 1 | U89: 100 | V89: 16779.666 | W89: 100
B90: 鋼構造物 工事業 | C90: 工事ごとの契約書 | D90: 27.125 | E90: 12.5 | F90: 279.64286 | G90: 19.230769 | H90: 111.57143 | I90: 15.384615 | J90: 230.26316 | K90: 12.962963 | L90: 35.162791 | M90: 20.930233 | N90: 14.525 | O90: 18.421053 | P90: 4.5 | Q90: 50 | T90: 1 | U90: 33.333333 | V90: 703.79023 | W90: 15.863555
C91: 基本契約書があり注文書と請書を交換 | D91: 27.125 | E91: 12.5 | F91: 167.78571 | G91: 11.538462 | H91: 195.25 | I91: 26.923077 | J91: 690.78947 | K91: 38.888889 | L91: 93.767442 | M91: 55.813953 | N91: 45.65 | O91: 57.894737 | P91: 2.25 | Q91: 25 | R91: 5 | S91: 100 | T91: 2 | U91: 66.666667 | V91: 1229.6176 | W91: 27.715796
C92: 基本契約約款添付の注文書と請書を交換 | D92: 27.125 | E92: 12.5 | F92: 279.64286 | G92: 19.230769 | H92: 139.46429 | I92: 19.230769 | J92: 230.26316 | K92: 12.962963 | L92: 11.72093 | M92: 6.9767442 | N92: 6.225 | O92: 7.8947368 | V92: 694.44123 | W92: 15.652826
C93: 注文書と請書の 交換のみ | D93: 54.25 | E93: 25 | F93: 335.57143 | G93: 23.076923 | H93: 55.785714 | I93: 7.6923077 | J93: 460.52632 | K93: 25.925926 | L93: 27.348837 | M93: 16.27907 | N93: 10.375 | O93: 13.157895 | P93: 2.25 | Q93: 25 | V93: 946.1073 | W93: 21.325423
C94: 注文書または請書の一方からの交付 | F94: 111.85714 | G94: 7.6923077 | H94: 111.57143 | I94: 15.384615 | J94: 98.684211 | K94: 5.5555556 | N94: 2.075 | O94: 2.6315789 | V94: 324.18778 | W94: 7.3072491
C95: メモまたは口頭 | D95: 81.375 | E95: 37.5 | F95: 279.64286 | G95: 19.230769 | H95: 111.57143 | I95: 15.384615 | J95: 65.789474 | K95: 3.7037037 | V95: 538.37876 | W95: 12.135151
C96: 小 計 | D96: 217 | E96: 100 | F96: 1454.1429 | G96: 100 | H96: 725.21429 | I96: 100 | J96: 1776.3158 | K96: 100 | L96: 168 | M96: 100 | N96: 78.85 | O96: 100 | P96: 9 | Q96: 100 | R96: 5 | S96: 100 | T96: 3 | U96: 100 | V96: 4436.5229 | W96: 100
B97: 鉄筋工事業 | C97: 工事ごとの契約書 | D97: 1315.2 | E97: 60 | F97: 121.25806 | G97: 10.344828 | H97: 130.83333 | I97: 17.391304 | J97: 114.64444 | K97: 16.27907 | L97: 10.071429 | M97: 21.428571 | N97: 4.4 | O97: 20 | V97: 1696.4073 | W97: 34.693502
C98: 基本契約書があり注文書と請書を交換 | F98: 202.09677 | G98: 17.241379 | H98: 163.54167 | I98: 21.73913 | J98: 294.8 | K98: 41.860465 | L98: 23.5 | M98: 50 | N98: 13.2 | O98: 60 | V98: 697.13844 | W98: 14.257292
C99: 基本契約約款添付の注文書と請書を交換 | F99: 161.67742 | G99: 13.793103 | H99: 196.25 | I99: 26.086957 | J99: 163.77778 | K99: 23.255814 | L99: 10.071429 | M99: 21.428571 | V99: 531.77663 | W99: 10.875451
C100: 注文書と請書の 交換のみ | F100: 404.19355 | G100: 34.482759 | H100: 163.54167 | I100: 21.73913 | J100: 65.511111 | K100: 9.3023256 | L100: 3.3571429 | M100: 7.1428571 | N100: 4.4 | O100: 20 | V100: 641.00347 | W100: 13.109267
C101: 注文書または請書の一方からの交付 | D101: 438.4 | E101: 20 | F101: 80.83871 | G101: 6.8965517 | H101: 65.416667 | I101: 8.6956522 | J101: 65.511111 | K101: 9.3023256 | V101: 650.16649 | W101: 13.296661
...

Sheet 3-5-2
A1: 表3－5－2 下請工事での契約締結方法 （経年変化）（下請完工高のある企業のみ対象）
V3: （単位：社、％）
B4: 資本金 | C4: 個 人 | E4: 法 人 | U4: 合 計
A5: 年度 | B5: 契約方法 | E5: 500万円未満 | G5: 500万円以上 1000万円未満 | I5: 1000万円以上 3000万円未満 | K5: 3000万円以上 5000万円未満 | M5: 5000万円以上 1億円未満 | O5: 1億円以上 3億円未満 | Q5: 3億円以上 10億円未満 | S5: 10億円以上
A6: R06 年度 | B6: 工事ごとの契約書 | C6: =IF('3-5-1'!D258<>"",'3-5-1'!D258,"") -> 6420.0511 | E6: =IF('3-5-1'!F258<>"",'3-5-1'!F258,"") -> 12725.34 | F6: =IF('3-5-1'!G258<>"",'3-5-1'!G258,"") -> 18.451948 | G6: =IF('3-5-1'!H258<>"",'3-5-1'!H258,"") -> 9580.3846 | H6: =IF('3-5-1'!I258<>"",'3-5-1'!I258,"") -> 21.742499 | I6: =IF('3-5-1'!J258<>"",'3-5-1'!J258,"") -> 14826.94 | J6: =IF('3-5-1'!K258<>"",'3-5-1'!K258,"") -> 21.35643 | K6: =IF('3-5-1'!L258<>"",'3-5-1'!L258,"") -> 2759.8075 | L6: =IF('3-5-1'!M258<>"",'3-5-1'!M258,"") -> 24.237239 | ... V6: =IF('3-5-1'!W258<>"",'3-5-1'!W258,"") -> 20.277161
B7: 基本契約書があり注文書と請書を交換 | C7: =IF('3-5-1'!D259<>"",'3-5-1'!D259,"") -> 1407.9244 | D7: =IF('3-5-1'!E259<>"",'3-5-1'!E259,"") -> 3.9442846 | E7: =IF('3-5-1'!F259<>"",'3-5-1'!F259,"") -> 18186.917 | F7: =IF('3-5-1'!G259<>"",'3-5-1'!G259,"") -> 26.371321 | G7: =IF('3-5-1'!H259<>"",'3-5-1'!H259,"") -> 10968.85 | H7: =IF('3-5-1'!I259<>"",'3-5-1'!I259,"") -> 24.893594 | I7: =IF('3-5-1'!J259<>"",'3-5-1'!J259,"") -> 22363.871 | J7: =IF('3-5-1'!K259<>"",'3-5-1'!K259,"") -> 32.212476 | ... V7: =IF('3-5-1'!W259<>"",'3-5-1'!W259,"") -> 24.763661
B8: 基本契約約款添付の注文書と請書を交換 | C8: =IF('3-5-1'!D260<>"",'3-5-1'!D260,"") -> 2587.4933 | D8: =IF('3-5-1'!E260<>"",'3-5-1'!E260,"") -> 7.2488337 | E8: =IF('3-5-1'!F260<>"",'3-5-1'!F260,"") -> 8375.1071 | F8: =IF('3-5-1'!G260<>"",'3-5-1'!G260,"") -> 12.14404 | G8: =IF('3-5-1'!H260<>"",'3-5-1'!H260,"") -> 6727.7221 | H8: =IF('3-5-1'!I260<>"",'3-5-1'!I260,"") -> 15.268436 | I8: =IF('3-5-1'!J260<>"",'3-5-1'!J260,"") -> 11797.927 | J8: =IF('3-5-1'!K260<>"",'3-5-1'!K260,"") -> 16.9935 | ... V8: =IF('3-5-1'!W260<>"",'3-5-1'!W260,"") -> 14.101002
B9: 注文書と請書の 交換のみ | C9: =IF('3-5-1'!D261<>"",'3-5-1'!D261,"") -> 8729.8098 | D9: =IF('3-5-1'!E261<>"",'3-5-1'!E261,"") -> 24.456465 | E9: =IF('3-5-1'!F261<>"",'3-5-1'!F261,"") -> 15399.433 | F9: =IF('3-5-1'!G261<>"",'3-5-1'!G261,"") -> 22.329424 | G9: =IF('3-5-1'!H261<>"",'3-5-1'!H261,"") -> 9299.675 | H9: =IF('3-5-1'!I261<>"",'3-5-1'!I261,"") -> 21.105434 | I9: =IF('3-5-1'!J261<>"",'3-5-1'!J261,"") -> 14468.375 | J9: =IF('3-5-1'!K261<>"",'3-5-1'!K261,"") -> 20.839961 | ... V9: =IF('3-5-1'!W261<>"",'3-5-1'!W261,"") -> 21.805905
B10: 注文書または請書の一方からの交付 | C10: =IF('3-5-1'!D262<>"",'3-5-1'!D262,"") -> 9036.9628 | D10: =IF('3-5-1'!E262<>"",'3-5-1'!E262,"") -> 25.316951 | E10: =IF('3-5-1'!F262<>"",'3-5-1'!F262,"") -> 7842.0945 | F10: =IF('3-5-1'!G262<>"",'3-5-1'!G262,"") -> 11.371163 | G10: =IF('3-5-1'!H262<>"",'3-5-1'!H262,"") -> 4240.8262 | H10: =IF('3-5-1'!I262<>"",'3-5-1'!I262,"") -> 9.6244737 | I10: =IF('3-5-1'!J262<>"",'3-5-1'!J262,"") -> 2901.2953 | J10: =IF('3-5-1'!K262<>"",'3-5-1'!K262,"") -> 4.1789683 | ... V10: =IF('3-5-1'!W262<>"",'3-5-1'!W262,"") -> 10.316582
B11: メモまたは口頭 | C11: =IF('3-5-1'!D263<>"",'3-5-1'!D263,"") -> 7513.0639 | D11: =IF('3-5-1'!E263<>"",'3-5-1'!E263,"") -> 21.047765 | E11: =IF('3-5-1'!F263<>"",'3-5-1'!F263,"") -> 6435.8629 | F11: =IF('3-5-1'!G263<>"",'3-5-1'!G263,"") -> 9.3321045 | G11: =IF('3-5-1'!H263<>"",'3-5-1'!H263,"") -> 3245.4836 | H11: =IF('3-5-1'!I263<>"",'3-5-1'!I263,"") -> 7.3655629 | I11: =IF('3-5-1'!J263<>"",'3-5-1'!J263,"") -> 3067.7071 | J11: =IF('3-5-1'!K263<>"",'3-5-1'!K263,"") -> 4.4186646 | ... V11: =IF('3-5-1'!W263<>"",'3-5-1'!W263,"") -> 8.7356898
C12: =IF('3-5-1'!D264<>"",'3-5-1'!D264,"") -> 35695.305 | D12: =IF('3-5-1'!E264<>"",'3-5-1'!E264,"") -> 100 | E12: =IF('3-5-1'!F264<>"",'3-5-1'!F264,"") -> 68964.754 | F12: =IF('3-5-1'!G264<>"",'3-5-1'!G264,"") -> 100 | G12: =IF('3-5-1'!H264<>"",'3-5-1'!H264,"") -> 44062.941 | H12: =IF('3-5-1'!I264<>"",'3-5-1'!I264,"") -> 100 | I12: =IF('3-5-1'!J264<>"",'3-5-1'!J264,"") -> 69426.115 | J12: =IF('3-5-1'!K264<>"",'3-5-1'!K264,"") -> 100 | ... V12: =IF('3-5-1'!W264<>"",'3-5-1'!W264,"") -> 100
A13: 増減 | B13: 工事ごとの契約書 | D13: =IF(AND(ISNUMBER(D6),ISNUMBER(D20)),D6-D20,"") | F13: =IF(AND(ISNUMBER(F6),ISNUMBER(F20)),F6-F20,"") -> -0.79329867 | H13: =IF(AND(ISNUMBER(H6),ISNUMBER(H20)),H6-H20,"") -> 1.5016301 | J13: =IF(AND(ISNUMBER(J6),ISNUMBER(J20)),J6-J20,"") -> -4.222459 | L13: =IF(AND(ISNUMBER(L6),ISNUMBER(L20)),L6-L20,"") -> -0.0067177962 | N13: =IF(AND(ISNUMBER(N6),ISNUMBER(N20)),N6-N20,"") -> -3.2091058 | P13: =IF(AND(ISNUMBER(P6),ISNUMBER(P20)),P6-P20,"") -> -0.95892163 | R13: =IF(AND(ISNUMBER(R6),ISNUMBER(R20)),R6-R20,"") -> -5.5943114 | T13: =IF(AND(ISNUMBER(T6),ISNUMBER(T20)),T6-T20,"") -> 7.8353085 | V13: =IF(AND(ISNUMBER(V6),ISNUMBER(V20)),V6-V20,"") -> -2.676824
B14: 基本契約書があり注文書と請書を交換 | D14: =IF(AND(ISNUMBER(D7),ISNUMBER(D21)),D7-D21,"") -> -7.6473686 | F14: =IF(AND(ISNUMBER(F7),ISNUMBER(F21)),F7-F21,"") -> 2.8397408 | H14: =IF(AND(ISNUMBER(H7),ISNUMBER(H21)),H7-H21,"") -> 1.7476881 | J14: =IF(AND(ISNUMBER(J7),ISNUMBER(J21)),J7-J21,"") -> 1.3473134 | L14: =IF(AND(ISNUMBER(L7),ISNUMBER(L21)),L7-L21,"") -> -1.3297624 | N14: =IF(AND(ISNUMBER(N7),ISNUMBER(N21)),N7-N21,"") -> -2.075988 | P14: =IF(AND(ISNUMBER(P7),ISNUMBER(P21)),P7-P21,"") -> 5.7946348 | R14: =IF(AND(ISNUMBER(R7),ISNUMBER(R21)),R7-R21,"") -> -9.5929908 | T14: =IF(AND(ISNUMBER(T7),ISNUMBER(T21)),T7-T21,"") -> -16.254793 | V14: =IF(AND(ISNUMBER(V7),ISNUMBER(V21)),V7-V21,"") -> -0.97824699
B15: 基本契約約款添付の注文書と請書を交換 | D15: =IF(AND(ISNUMBER(D8),ISNUMBER(D22)),D8-D22,"") -> 0.75153041 | F15: =IF(AND(ISNUMBER(F8),ISNUMBER(F22)),F8-F22,"") -> 2.2256428 | H15: =IF(AND(ISNUMBER(H8),ISNUMBER(H22)),H8-H22,"") -> 0.93973083 | J15: =IF(AND(ISNUMBER(J8),ISNUMBER(J22)),J8-J22,"") -> -0.27611267 | L15: =IF(AND(ISNUMBER(L8),ISNUMBER(L22)),L8-L22,"") -> 0.080529672 | N15: =IF(AND(ISNUMBER(N8),ISNUMBER(N22)),N8-N22,"") -> 4.3860846 | P15: =IF(AND(ISNUMBER(P8),ISNUMBER(P22)),P8-P22,"") -> -1.5686062 | R15: =IF(AND(ISNUMBER(R8),ISNUMBER(R22)),R8-R22,"") -> 1.8348074 | T15: =IF(AND(ISNUMBER(T8),ISNUMBER(T22)),T8-T22,"") -> -5.2545393 | V15: =IF(AND(ISNUMBER(V8),ISNUMBER(V22)),V8-V22,"") -> 0.031325942
B16: 注文書と請書の 交換のみ | D16: =IF(AND(ISNUMBER(D9),ISNUMBER(D23)),D9-D23,"") -> 0.24331851 | F16: =IF(AND(ISNUMBER(F9),ISNUMBER(F23)),F9-F23,"") -> -3.4794675 | H16: =IF(AND(ISNUMBER(H9),ISNUMBER(H23)),H9-H23,"") -> -5.5195705 | J16: =IF(AND(ISNUMBER(J9),ISNUMBER(J23)),J9-J23,"") -> 1.4000953 | L16: =IF(AND(ISNUMBER(L9),ISNUMBER(L23)),L9-L23,"") -> 2.4533164 | N16: =IF(AND(ISNUMBER(N9),ISNUMBER(N23)),N9-N23,"") -> -1.1598063 | P16: =IF(AND(ISNUMBER(P9),ISNUMBER(P23)),P9-P23,"") -> -2.7325652 | R16: =IF(AND(ISNUMBER(R9),ISNUMBER(R23)),R9-R23,"") -> 13.676642 | T16: =IF(AND(ISNUMBER(T9),ISNUMBER(T23)),T9-T23,"") -> 13.674024 | V16: =IF(AND(ISNUMBER(V9),ISNUMBER(V23)),V9-V23,"") -> -0.93288602
B17: 注文書または請書の一方からの交付 | D17: =IF(AND(ISNUMBER(D10),ISNUMBER(D24)),D10-D24,"") -> 12.72453 | F17: =IF(AND(ISNUMBER(F10),ISNUMBER(F24)),F10-F24,"") -> 0.17523464 | H17: =IF(AND(ISNUMBER(H10),ISNUMBER(H24)),H10-H24,"") -> 1.4223496 | J17: =IF(AND(ISNUMBER(J10),ISNUMBER(J24)),J10-J24,"") -> 1.4138145 | L17: =IF(AND(ISNUMBER(L10),ISNUMBER(L24)),L10-L24,"") -> -1.3936335 | N17: =IF(AND(ISNUMBER(N10),ISNUMBER(N24)),N10-N24,"") -> 0.8950652 | P17: =IF(AND(ISNUMBER(P10),ISNUMBER(P24)),P10-P24,"") | R17: =IF(AND(ISNUMBER(R10),ISNUMBER(R24)),R10-R24,"") | T17: =IF(AND(ISNUMBER(T10),ISNUMBER(T24)),T10-T24,"") | V17: =IF(AND(ISNUMBER(V10),ISNUMBER(V24)),V10-V24,"") -> 3.4653375
B18: メモまたは口頭 | D18: =IF(AND(ISNUMBER(D11),ISNUMBER(D25)),D11-D25,"") -> 1.2831163 | F18: =IF(AND(ISNUMBER(F11),ISNUMBER(F25)),F11-F25,"") -> -0.96785202 | H18: =IF(AND(ISNUMBER(H11),ISNUMBER(H25)),H11-H25,"") -> -0.091828044 | J18: =IF(AND(ISNUMBER(J11),ISNUMBER(J25)),J11-J25,"") -> 0.33734863 | L18: =IF(AND(ISNUMBER(L11),ISNUMBER(L25)),L11-L25,"") -> 0.19626756 | N18: =IF(AND(ISNUMBER(N11),ISNUMBER(N25)),N11-N25,"") -> 1.1637503 | P18: =IF(AND(ISNUMBER(P11),ISNUMBER(P25)),P11-P25,"") | R18: =IF(AND(ISNUMBER(R11),ISNUMBER(R25)),R11-R25,"") | T18: =IF(AND(ISNUMBER(T11),ISNUMBER(T25)),T11-T25,"") | V18: =IF(AND(ISNUMBER(V11),ISNUMBER(V25)),V11-V25,"") -> 1.0912936
C19: - | D19: - | E19: - | F19: - | G19: - | H19: - | I19: - | J19: - | K19: - | L19: - | M19: - | N19: - | O19: - | P19: - | Q19: - | R19: - | S19: - | T19: - | U19: - | V19: -
A20: R01 年度 | B20: 工事ごとの契約書 | C20: 3185.985 | E20: 5743.1715 | F20: 19.245246 | G20: 4210.3124 | H20: 20.240869 | I20: 10925.518 | J20: 25.578889 | K20: 1967.615 | L20: 24.243957 | M20: 793.44464 | N20: 26.625066 | O20: 130.93343 | P20: 27.995753 | Q20: 30.204488 | R20: 29.372111 | S20: 36.315508 | T20: 27.123857 | U20: 27023.5 | V20: 22.953985
B21: 基本契約書があり注文書と請書を交換 | C21: 1457.3649 | D21: 11.591653 | E21: 7022.3004 | F21: 23.53158 | G21: 4814.5904 | H21: 23.145906 | I21: 13183.446 | J21: 30.865163 | K21: 2346.4121 | L21: 28.911304 | M21: 1161.6113 | N21: 38.979375 | O21: 189.50527 | P21: 40.519389 | Q21: 54.179859 | R21: 52.686767 | S21: 76.284135 | T21: 56.976209 | U21: 30305.694 | V21: 25.741908
B22: 基本契約約款添付の注文書と請書を交換 | C22: 816.87585 | D22: 6.4973033 | E22: 2959.8506 | F22: 9.9183968 | G22: 2980.5205 | H22: 14.328705 | I22: 7376.3748 | J22: 17.269613 | K22: 1797.9716 | L22: 22.153697 | M22: 531.5433 | N22: 17.836626 | O22: 67.790097 | P22: 14.494654 | Q22: 16.287651 | R22: 15.838795 | S22: 16.876292 | T22: 12.604812 | U22: 16564.091 | V22: 14.069676
B23: 注文書と請書の 交換のみ | C23: 3044.2068 | D23: 24.213146 | E23: 7701.8964 | F23: 25.808892 | G23: 5538.2793 | H23: 26.625005 | I23: 8303.3557 | J23: 19.439866 | K23: 1667.0506 | L23: 20.540555 | M23: 432.16451 | N23: 14.501841 | O23: 76.961546 | P23: 16.455663 | Q23: 1.8285714 | R23: 1.7781795 | S23: 4.4117647 | T23: 3.2951232 | U23: 26770.155 | V23: 22.738791
B24: 注文書または請書の一方からの交付 | C24: 1583.1867 | D24: 12.59242 | E24: 3341.0918 | F24: 11.195928 | G24: 1706.1276 | H24: 8.2021241 | I24: 1181.081 | J24: 2.7651538 | K24: 200.34187 | L24: 2.4685112 | M24: 51.240221 | N24: 1.7194322 | O24: 2.5 | P24: 0.53454172 | Q24: 0.33333333 | R24: 0.32414731 | U24: 8065.9025 | V24: 6.8512443
B25: メモまたは口頭 | C25: 2484.9177 | D25: 19.764648 | E25: 3073.7157 | F25: 10.299957 | G25: 1551.2153 | H25: 7.4573909 | I25: 1743.2537 | J25: 4.0813159 | K25: 136.50748 | L25: 1.6819762 | M25: 10.0625 | N25: 0.33766026 | U25: 8999.6724 | V25: 7.6443962
C26: 12572.537 | D26: 100 | E26: 29842.026 | F26: 100 | G26: 20801.045 | H26: 100 | I26: 42713.03 | J26: 100 | K26: 8115.8987 | L26: 100 | M26: 2980.0664 | N26: 100 | O26: 467.69034 | P26: 100 | Q26: 102.8339 | R26: 100 | S26: 133.8877 | T26: 100 | U26: 117729.02 | V26: 100
A27: 増減 | B27: 工事ごとの契約書 | D27: =IF(AND(ISNUMBER(D20),ISNUMBER(D34)),D20-D34,"") | F27: =IF(AND(ISNUMBER(F20),ISNUMBER(F34)),F20-F34,"") -> -0.83404527 | H27: =IF(AND(ISNUMBER(H20),ISNUMBER(H34)),H20-H34,"") -> -0.3761389 | J27: =IF(AND(ISNUMBER(J20),ISNUMBER(J34)),J20-J34,"") -> 1.7674974 | L27: =IF(AND(ISNUMBER(L20),ISNUMBER(L34)),L20-L34,"") -> 0.5098161 | N27: =IF(AND(ISNUMBER(N20),ISNUMBER(N34)),N20-N34,"") -> -1.3974418 | P27: =IF(AND(ISNUMBER(P20),ISNUMBER(P34)),P20-P34,"") -> 1.8917697 | R27: =IF(AND(ISNUMBER(R20),ISNUMBER(R34)),R20-R34,"") -> -0.89392065 | T27: =IF(AND(ISNUMBER(T20),ISNUMBER(T34)),T20-T34,"") -> -9.8125495 | V27: =IF(AND(ISNUMBER(V20),ISNUMBER(V34)),V20-V34,"") -> 1.2142788
B28: 基本契約書があり注文書と請書を交換 | D28: =IF(AND(ISNUMBER(D21),ISNUMBER(D35)),D21-D35,"") -> -1.0210641 | F28: =IF(AND(ISNUMBER(F21),ISNUMBER(F35)),F21-F35,"") -> -1.0568726 | H28: =IF(AND(ISNUMBER(H21),ISNUMBER(H35)),H21-H35,"") -> -0.43760347 | J28: =IF(AND(ISNUMBER(J21),ISNUMBER(J35)),J21-J35,"") -> 2.8170052 | L28: =IF(AND(ISNUMBER(L21),ISNUMBER(L35)),L21-L35,"") -> -2.5011275 | N28: =IF(AND(ISNUMBER(N21),ISNUMBER(N35)),N21-N35,"") -> 4.1242422 | P28: =IF(AND(ISNUMBER(P21),ISNUMBER(P35)),P21-P35,"") -> -0.90341909 | R28: =IF(AND(ISNUMBER(R21),ISNUMBER(R35)),R21-R35,"") -> 7.4014359 | T28: =IF(AND(ISNUMBER(T21),ISNUMBER(T35)),T21-T35,"") -> 7.2123969 | V28: =IF(AND(ISNUMBER(V21),ISNUMBER(V35)),V21-V35,"") -> 0.92908435
B29: 基本契約約款添付の注文書と請書を交換 | D29: =IF(AND(ISNUMBER(D22),ISNUMBER(D36)),D22-D36,"") -> -1.1973414 | F29: =IF(AND(ISNUMBER(F22),ISNUMBER(F36)),F22-F36,"") -> 1.1817048 | H29: =IF(AND(ISNUMBER(H22),ISNUMBER(H36)),H22-H36,"") -> 4.1980958 | J29: =IF(AND(ISNUMBER(J22),ISNUMBER(J36)),J22-J36,"") -> 1.343285 | L29: =IF(AND(ISNUMBER(L22),ISNUMBER(L36)),L22-L36,"") -> 2.4733752 | N29: =IF(AND(ISNUMBER(N22),ISNUMBER(N36)),N22-N36,"") -> -0.23122794 | P29: =IF(AND(ISNUMBER(P22),ISNUMBER(P36)),P22-P36,"") -> -1.2187265 | R29: =IF(AND(ISNUMBER(R22),ISNUMBER(R36)),R22-R36,"") -> 3.053334 | T29: =IF(AND(ISNUMBER(T22),ISNUMBER(T36)),T22-T36,"") -> 2.4555678 | V29: =IF(AND(ISNUMBER(V22),ISNUMBER(V36)),V22-V36,"") -> 1.7001179
B30: 注文書と請書の 交換のみ | D30: =IF(AND(ISNUMBER(D23),ISNUMBER(D37)),D23-D37,"") -> 0.64880329 | F30: =IF(AND(ISNUMBER(F23),ISNUMBER(F37)),F23-F37,"") -> 2.1862827 | H30: =IF(AND(ISNUMBER(H23),ISNUMBER(H37)),H23-H37,"") -> 0.63401506 | J30: =IF(AND(ISNUMBER(J23),ISNUMBER(J37)),J23-J37,"") -> -3.6573508 | L30: =IF(AND(ISNUMBER(L23),ISNUMBER(L37)),L23-L37,"") -> -0.17932227 | N30: =IF(AND(ISNUMBER(N23),ISNUMBER(N37)),N23-N37,"") -> -2.520033 | P30: =IF(AND(ISNUMBER(P23),ISNUMBER(P37)),P23-P37,"") -> 0.74036667 | R30: =IF(AND(ISNUMBER(R23),ISNUMBER(R37)),R23-R37,"") -> -8.6803233 | T30: =IF(AND(ISNUMBER(T23),ISNUMBER(T37)),T23-T37,"") -> 0.14458476 | V30: =IF(AND(ISNUMBER(V23),ISNUMBER(V37)),V23-V37,"") -> -0.63606075
B31: 注文書または請書の一方からの交付 | D31: =IF(AND(ISNUMBER(D24),ISNUMBER(D38)),D24-D38,"") -> -1.2670918 | F31: =IF(AND(ISNUMBER(F24),ISNUMBER(F38)),F24-F38,"") -> -0.35937035 | H31: =IF(AND(ISNUMBER(H24),ISNUMBER(H38)),H24-H38,"") -> -3.459437 | J31: =IF(AND(ISNUMBER(J24),ISNUMBER(J38)),J24-J38,"") -> -2.6750144 | L31: =IF(AND(ISNUMBER(L24),ISNUMBER(L38)),L24-L38,"") -> -0.25412018 | N31: =IF(AND(ISNUMBER(N24),ISNUMBER(N38)),N24-N38,"") -> 0.071654421 | P31: =IF(AND(ISNUMBER(P24),ISNUMBER(P38)),P24-P38,"") -> -0.26336504 | R31: =IF(AND(ISNUMBER(R24),ISNUMBER(R38)),R24-R38,"") -> -0.88052599 | T31: =IF(AND(ISNUMBER(T24),ISNUMBER(T38)),T24-T38,"") | V31: =IF(AND(ISNUMBER(V24),ISNUMBER(V38)),V24-V38,"") -> -1.9482526
B32: メモまたは口頭 | D32: =IF(AND(ISNUMBER(D25),ISNUMBER(D39)),D25-D39,"") -> -4.2198699 | F32: =IF(AND(ISNUMBER(F25),ISNUMBER(F39)),F25-F39,"") -> -1.1176993 | H32: =IF(AND(ISNUMBER(H25),ISNUMBER(H39)),H25-H39,"") -> -0.55893152 | J32: =IF(AND(ISNUMBER(J25),ISNUMBER(J39)),J25-J39,"") -> 0.40457762 | L32: =IF(AND(ISNUMBER(L25),ISNUMBER(L39)),L25-L39,"") -> -0.048621356 | N32: =IF(AND(ISNUMBER(N25),ISNUMBER(N39)),N25-N39,"") -> -0.047193878 | P32: =IF(AND(ISNUMBER(P25),ISNUMBER(P39)),P25-P39,"") | R32: =IF(AND(ISNUMBER(R25),ISNUMBER(R39)),R25-R39,"") | T32: =IF(AND(ISNUMBER(T25),ISNUMBER(T39)),T25-T39,"") | V32: =IF(AND(ISNUMBER(V25),ISNUMBER(V39)),V25-V39,"") -> -1.2591677
C33: - | D33: - | E33: - | F33: - | G33: - | H33: - | I33: - | J33: - | K33: - | L33: - | M33: - | N33: - | O33: - | P33: - | Q33: - | R33: - | S33: - | T33: - | U33: - | V33: -
A34: H26 年度 | B34: 工事ごとの契約書 | C34: 3713.5547 | E34: 7583.9236 | F34: 20.079292 | G34: 4291.324 | H34: 20.617008 | I34: 12965.48 | J34: 23.811392 | K34: 2133.1898 | L34: 23.734141 | M34: 889.25865 | N34: 28.022507 | O34: 127.01343 | P34: 26.103983 | Q34: 33.498467 | R34: 30.266032 | S34: 61.421277 | T34: 36.936406 | U34: 31798.664 | V34: 21.739706
B35: 基本契約書があり注文書と請書を交換 | C35: 2561.6571 | D35: 12.612717 | E35: 9287.0283 | F35: 24.588453 | G35: 4908.7859 | H35: 23.583509 | I35: 15272.43 | J35: 28.048157 | K35: 2823.3033 | L35: 31.412431 | M35: 1106.0833 | N35: 34.855133 | O35: 201.54981 | P35: 41.422808 | Q35: 50.121839 | R35: 45.285331 | S35: 82.751874 | T35: 49.763812 | U35: 36293.712 | V35: 24.812823
B36: 基本契約約款添付の注文書と請書を交換 | C36: 1562.791 | D36: 7.6946447 | E36: 3299.8378 | F36: 8.736692 | G36: 2108.6342 | H36: 10.13061 | I36: 8672.0037 | J36: 15.926328 | K36: 1768.8385 | L36: 19.680322 | M36: 573.36037 | N36: 18.067854 | O36: 76.456162 | P36: 15.713381 | Q36: 14.150958 | R36: 12.785461 | S36: 16.877102 | T36: 10.149244 | U36: 18092.95 | V36: 12.369558
B37: 注文書と請書の 交換のみ | C37: 4785.9446 | D37: 23.564343 | E37: 8922.2304 | F37: 23.622609 | G37: 5409.8905 | H37: 25.990989 | I37: 12576.606 | J37: 23.097217 | K37: 1862.2722 | L37: 20.719877 | M37: 540.16755 | N37: 17.021874 | O37: 76.465484 | P37: 15.715296 | Q37: 11.575479 | R37: 10.458503 | S37: 5.2390071 | T37: 3.1505385 | U37: 34190.391 | V37: 23.374852
B38: 注文書または請書の一方からの交付 | C38: 2814.8825 | D38: 13.859512 | E38: 4364.422 | F38: 11.555299 | G38: 2427.2938 | H38: 11.661561 | I38: 2962.212 | J38: 5.4401682 | K38: 244.70612 | L38: 2.7226314 | M38: 52.290132 | N38: 1.6477778 | O38: 3.8823529 | P38: 0.79790676 | Q38: 1.3333333 | R38: 1.2046733 | U38: 12871.022 | V38: 8.7994969
B39: メモまたは口頭 | C39: 4871.2827 | D39: 23.984518 | E39: 4312.4345 | F39: 11.417656 | G39: 1668.5562 | H39: 8.0163225 | I39: 2002.0113 | J39: 3.6767383 | K39: 155.54357 | L39: 1.7305975 | M39: 12.212857 | N39: 0.38485414 | O39: 1.2 | P39: 0.24662573 | U39: 13023.241 | V39: 8.9035639
C40: 20310.113 | D40: 100 | E40: 37769.877 | F40: 100 | G40: 20814.485 | H40: 100 | I40: 54450.743 | J40: 100 | K40: 8987.8534 | L40: 100 | M40: 3173.3729 | N40: 100 | O40: 486.56724 | P40: 100 | Q40: 110.68008 | R40: 100 | S40: 166.28926 | T40: 100 | U40: 146269.98 | V40: 100
A41: 増減 | B41: 工事ごとの契約書 | D41: =IF(AND(ISNUMBER(D34),ISNUMBER(D48)),D34-D48,"") | F41: =IF(AND(ISNUMBER(F34),ISNUMBER(F48)),F34-F48,"") -> 2.9792915 | H41: =IF(AND(ISNUMBER(H34),ISNUMBER(H48)),H34-H48,"") -> 2.017008 | J41: =IF(AND(ISNUMBER(J34),ISNUMBER(J48)),J34-J48,"") -> 3.1113916 | L41: =IF(AND(ISNUMBER(L34),ISNUMBER(L48)),L34-L48,"") -> -3.6658588 | N41: =IF(AND(ISNUMBER(N34),ISNUMBER(N48)),N34-N48,"") -> 7.5225073 | P41: =IF(AND(ISNUMBER(P34),ISNUMBER(P48)),P34-P48,"") -> 5.0039829 | R41: =IF(AND(ISNUMBER(R34),ISNUMBER(R48)),R34-R48,"") -> 4.466032 | T41: =IF(AND(ISNUMBER(T34),ISNUMBER(T48)),T34-T48,"") -> 8.0364061 | V41: =IF(AND(ISNUMBER(V34),ISNUMBER(V48)),V34-V48,"") -> 1.539706
B42: 基本契約書があり注文書と請書を交換 | D42: =IF(AND(ISNUMBER(D35),ISNUMBER(D49)),D35-D49,"") -> -3.6872827 | F42: =IF(AND(ISNUMBER(F35),ISNUMBER(F49)),F35-F49,"") -> 1.1884528 | H42: =IF(AND(ISNUMBER(H35),ISNUMBER(H49)),H35-H49,"") -> 3.5835094 | J42: =IF(AND(ISNUMBER(J35),ISNUMBER(J49)),J35-J49,"") -> -4.1518425 | L42: =IF(AND(ISNUMBER(L35),ISNUMBER(L49)),L35-L49,"") -> 1.8124312 | N42: =IF(AND(ISNUMBER(N35),ISNUMBER(N49)),N35-N49,"") -> -4.2448675 | P42: =IF(AND(ISNUMBER(P35),ISNUMBER(P49)),P35-P49,"") -> -4.8771923 | R42: =IF(AND(ISNUMBER(R35),ISNUMBER(R49)),R35-R49,"") -> -4.314669 | T42: =IF(AND(ISNUMBER(T35),ISNUMBER(T49)),T35-T49,"") -> 1.2638117 | V42: =IF(AND(ISNUMBER(V35),ISNUMBER(V49)),V35-V49,"") -> -1.2871767
B43: 基本契約約款添付の注文書と請書を交換 | D43: =IF(AND(ISNUMBER(D36),ISNUMBER(D50)),D36-D50,"") -> 0.5946447 | F43: =IF(AND(ISNUMBER(F36),ISNUMBER(F50)),F36-F50,"") -> -2.363308 | H43: =IF(AND(ISNUMBER(H36),ISNUMBER(H50)),H36-H50,"") -> -0.9693904 | J43: =IF(AND(ISNUMBER(J36),ISNUMBER(J50)),J36-J50,"") -> -1.4736724 | L43: =IF(AND(ISNUMBER(L36),ISNUMBER(L50)),L36-L50,"") -> 1.2803217 | N43: =IF(AND(ISNUMBER(N36),ISNUMBER(N50)),N36-N50,"") -> -4.6321462 | P43: =IF(AND(ISNUMBER(P36),ISNUMBER(P50)),P36-P50,"") -> 0.31338056 | R43: =IF(AND(ISNUMBER(R36),ISNUMBER(R50)),R36-R50,"") -> 0.68546084 | T43: =IF(AND(ISNUMBER(T36),ISNUMBER(T50)),T36-T50,"") -> -5.1507563 | V43: =IF(AND(ISNUMBER(V36),ISNUMBER(V50)),V36-V50,"") -> -1.2304422
B44: 注文書と請書の 交換のみ | D44: =IF(AND(ISNUMBER(D37),ISNUMBER(D51)),D37-D51,"") -> -0.23565686 | F44: =IF(AND(ISNUMBER(F37),ISNUMBER(F51)),F37-F51,"") -> -3.3773907 | H44: =IF(AND(ISNUMBER(H37),ISNUMBER(H51)),H37-H51,"") -> -2.9090105 | J44: =IF(AND(ISNUMBER(J37),ISNUMBER(J51)),J37-J51,"") -> 1.6972168 | L44: =IF(AND(ISNUMBER(L37),ISNUMBER(L51)),L37-L51,"") -> -0.28012295 | N44: =IF(AND(ISNUMBER(N37),ISNUMBER(N51)),N37-N51,"") -> 1.4218745 | P44: =IF(AND(ISNUMBER(P37),ISNUMBER(P51)),P37-P51,"") -> 1.2152963 | R44: =IF(AND(ISNUMBER(R37),ISNUMBER(R51)),R37-R51,"") -> -2.0414972 | T44: =IF(AND(ISNUMBER(T37),ISNUMBER(T51)),T37-T51,"") -> -4.1494615 | V44: =IF(AND(ISNUMBER(V37),ISNUMBER(V51)),V37-V51,"") -> -0.62514793
B45: 注文書または請書の一方からの交付 | D45: =IF(AND(ISNUMBER(D38),ISNUMBER(D52)),D38-D52,"") -> -1.840488 | F45: =IF(AND(ISNUMBER(F38),ISNUMBER(F52)),F38-F52,"") -> -1.0447015 | H45: =IF(AND(ISNUMBER(H38),ISNUMBER(H52)),H38-H52,"") -> 1.2615611 | J45: =IF(AND(ISNUMBER(J38),ISNUMBER(J52)),J38-J52,"") -> 0.64016825 | L45: =IF(AND(ISNUMBER(L38),ISNUMBER(L52)),L38-L52,"") -> 0.62263136 | N45: =IF(AND(ISNUMBER(N38),ISNUMBER(N52)),N38-N52,"") -> 0.24777776 | P45: =IF(AND(ISNUMBER(P38),ISNUMBER(P52)),P38-P52,"") -> -1.5020932 | R45: =IF(AND(ISNUMBER(R38),ISNUMBER(R52)),R38-R52,"") | T45: =IF(AND(ISNUMBER(T38),ISNUMBER(T52)),T38-T52,"") | V45: =IF(AND(ISNUMBER(V38),ISNUMBER(V52)),V38-V52,"") -> -0.10050312
B46: メモまたは口頭 | D46: =IF(AND(ISNUMBER(D39),ISNUMBER(D53)),D39-D53,"") -> 9.5845183 | F46: =IF(AND(ISNUMBER(F39),ISNUMBER(F53)),F39-F53,"") -> 2.6176558 | H46: =IF(AND(ISNUMBER(H39),ISNUMBER(H53)),H39-H53,"") -> -2.8836775 | J46: =IF(AND(ISNUMBER(J39),ISNUMBER(J53)),J39-J53,"") -> 0.17673831 | L46: =IF(AND(ISNUMBER(L39),ISNUMBER(L53)),L39-L53,"") -> 0.23059754 | N46: =IF(AND(ISNUMBER(N39),ISNUMBER(N53)),N39-N53,"") -> -0.21514586 | P46: =IF(AND(ISNUMBER(P39),ISNUMBER(P53)),P39-P53,"") -> -0.15337427 | R46: =IF(AND(ISNUMBER(R39),ISNUMBER(R53)),R39-R53,"") | T46: =IF(AND(ISNUMBER(T39),ISNUMBER(T53)),T39-T53,"") | V46: =IF(AND(ISNUMBER(V39),ISNUMBER(V53)),V39-V53,"") -> 1.7035639
C47: - | D47: - | E47: - | F47: - | G47: - | H47: - | I47: - | J47: - | K47: - | L47: - | M47: - | N47: - | O47: - | P47: - | Q47: - | R47: - | S47: - | T47: - | U47: - | V47: -
A48: H23 年度 | B48: 工事ごとの契約書 | C48: 4869.34 | D48: 22.6 | E48: 6228.68 | F48: 17.1 | G48: 3579.96 | H48: 18.6 | I48: 11153.35 | J48: 20.7 | K48: 2573.1 | L48: 27.4 | M48: 636.56 | N48: 20.5 | O48: 102.75 | P48: 21.1 | Q48: 35.87 | R48: 25.8 | S48: 53.47 | T48: 28.9 | U48: 29233.08 | V48: 20.2
B49: 基本契約書があり注文書と請書を交換 | C49: 3518.45 | D49: 16.3 | E49: 8559.04 | F49: 23.4 | G49: 3854.98 | H49: 20 | I49: 17309.08 | J49: 32.2 | K49: 2785.17 | L49: 29.6 | M49: 1212.34 | N49: 39.1 | O49: 225.38 | P49: 46.3 | Q49: 68.99 | R49: 49.6 | S49: 89.66 | T49: 48.5 | U49: 37623.09 | V49: 26.1
B50: 基本契約約款添付の注文書と請書を交換 | C50: 1538.04 | D50: 7.1 | E50: 4044.23 | F50: 11.1 | G50: 2141.99 | H50: 11.1 | I50: 9357.87 | J50: 17.4 | K50: 1729.89 | L50: 18.4 | M50: 702.18 | N50: 22.7 | O50: 74.93 | P50: 15.4 | Q50: 16.85 | R50: 12.1 | S50: 28.29 | T50: 15.3 | U50: 19634.27 | V50: 13.6
B51: 注文書と請書の 交換のみ | C51: 5126.12 | D51: 23.8 | E51: 9864.29 | F51: 27 | G51: 5560.61 | H51: 28.9 | I51: 11501.89 | J51: 21.4 | K51: 1978.54 | L51: 21 | M51: 483.62 | N51: 15.6 | O51: 70.52 | P51: 14.5 | Q51: 17.33 | R51: 12.5 | S51: 13.58 | T51: 7.3 | U51: 34616.5 | V51: 24
B52: 注文書または請書の一方からの交付 | C52: 3394.1 | D52: 15.7 | E52: 4601.12 | F52: 12.6 | G52: 2006.63 | H52: 10.4 | I52: 2572.27 | J52: 4.8 | K52: 202.07 | L52: 2.1 | M52: 43.73 | N52: 1.4 | O52: 11.3 | P52: 2.3 | U52: 12831.23 | V52: 8.9
B53: メモまたは口頭 | C53: 3106.05 | D53: 14.4 | E53: 3220.56 | F53: 8.8 | G53: 2088.98 | H53: 10.9 | I53: 1870.64 | J53: 3.5 | K53: 137.72 | L53: 1.5 | M53: 19.26 | N53: 0.6 | O53: 2 | P53: 0.4 | U53: 10445.21 | V53: 7.2
C54: 21552.1 | D54: 100 | E54: 36517.91 | F54: 100 | G54: 19233.15 | H54: 100 | I54: 53765.11 | J54: 100 | K54: 9406.5 | L54: 100 | M54: 3097.68 | N54: 100 | O54: 486.89 | P54: 100 | Q54: 139.04 | R54: 100 | S54: 185 | T54: 100 | U54: 144383.38 | V54: 100
A55: 増減 | B55: 工事ごとの契約書 | D55: =IF(AND(ISNUMBER(D48),ISNUMBER(D62)),D48-D62,"") -> 6.5 | F55: =IF(AND(ISNUMBER(F48),ISNUMBER(F62)),F48-F62,"") -> 3.5 | H55: =IF(AND(ISNUMBER(H48),ISNUMBER(H62)),H48-H62,"") -> 0.4 | J55: =IF(AND(ISNUMBER(J48),ISNUMBER(J62)),J48-J62,"") -> 4.3 | L55: =IF(AND(ISNUMBER(L48),ISNUMBER(L62)),L48-L62,"") -> 6.7 | N55: =IF(AND(ISNUMBER(N48),ISNUMBER(N62)),N48-N62,"") -> 1.9 | P55: =IF(AND(ISNUMBER(P48),ISNUMBER(P62)),P48-P62,"") -> 1.9 | R55: =IF(AND(ISNUMBER(R48),ISNUMBER(R62)),R48-R62,"") -> -3.7 | T55: =IF(AND(ISNUMBER(T48),ISNUMBER(T62)),T48-T62,"") -> -2.2 | V55: =IF(AND(ISNUMBER(V48),ISNUMBER(V62)),V48-V62,"") -> 3.9
B56: 基本契約書があり注文書と請書を交換 | D56: =IF(AND(ISNUMBER(D49),ISNUMBER(D63)),D49-D63,"") -> 3.5 | F56: =IF(AND(ISNUMBER(F49),ISNUMBER(F63)),F49-F63,"") -> 6.1 | H56: =IF(AND(ISNUMBER(H49),ISNUMBER(H63)),H49-H63,"") -> 1.8 | J56: =IF(AND(ISNUMBER(J49),ISNUMBER(J63)),J49-J63,"") -> 6.7 | L56: =IF(AND(ISNUMBER(L49),ISNUMBER(L63)),L49-L63,"") -> 6.3 | N56: =IF(AND(ISNUMBER(N49),ISNUMBER(N63)),N49-N63,"") -> 8.8 | P56: =IF(AND(ISNUMBER(P49),ISNUMBER(P63)),P49-P63,"") -> 1.5 | R56: =IF(AND(ISNUMBER(R49),ISNUMBER(R63)),R49-R63,"") -> 7.1 | T56: =IF(AND(ISNUMBER(T49),ISNUMBER(T63)),T49-T63,"") -> 13.4 | V56: =IF(AND(ISNUMBER(V49),ISNUMBER(V63)),V49-V63,"") -> 5.2
B57: 基本契約約款添付の注文書と請書を交換 | D57: - | F57: - | H57: - | J57: - | L57: - | N57: - | P57: - | R57: - | T57: - | V57: -
B58: 注文書と請書の 交換のみ | D58: - | F58: - | H58: - | J58: - | L58: - | N58: - | P58: - | R58: - | T58: - | V58: -
B59: 注文書または請書の一方からの交付 | D59: =IF(AND(ISNUMBER(D52),ISNUMBER(D65)),D52-D65,"") -> -4.3 | F59: =IF(AND(ISNUMBER(F52),ISNUMBER(F65)),F52-F65,"") -> -2.8 | H59: =IF(AND(ISNUMBER(H52),ISNUMBER(H65)),H52-H65,"") -> -5.1 | J59: =IF(AND(ISNUMBER(J52),ISNUMBER(J65)),J52-J65,"") -> -2.6 | L59: =IF(AND(ISNUMBER(L52),ISNUMBER(L65)),L52-L65,"") -> -2.6 | N59: =IF(AND(ISNUMBER(N52),ISNUMBER(N65)),N52-N65,"") -> -2.3 | P59: =IF(AND(ISNUMBER(P52),ISNUMBER(P65)),P52-P65,"") -> 1 | R59: =IF(AND(ISNUMBER(R52),ISNUMBER(R65)),R52-R65,"") | T59: =IF(AND(ISNUMBER(T52),ISNUMBER(T65)),T52-T65,"") | V59: =IF(AND(ISNUMBER(V52),ISNUMBER(V65)),V52-V65,"") -> -2.9
B60: メモまたは口頭 | D60: =IF(AND(ISNUMBER(D53),ISNUMBER(D66)),D53-D66,"") -> -13.8 | F60: =IF(AND(ISNUMBER(F53),ISNUMBER(F66)),F53-F66,"") -> -1.9 | H60: =IF(AND(ISNUMBER(H53),ISNUMBER(H66)),H53-H66,"") -> -0.1 | J60: =IF(AND(ISNUMBER(J53),ISNUMBER(J66)),J53-J66,"") -> -0.8 | L60: =IF(AND(ISNUMBER(L53),ISNUMBER(L66)),L53-L66,"") -> -0.9 | N60: =IF(AND(ISNUMBER(N53),ISNUMBER(N66)),N53-N66,"") -> -0.6 | P60: =IF(AND(ISNUMBER(P53),ISNUMBER(P66)),P53-P66,"") -> -0.1 | R60: =IF(AND(ISNUMBER(R53),ISNUMBER(R66)),R53-R66,"") | T60: =IF(AND(ISNUMBER(T53),ISNUMBER(T66)),T53-T66,"") | V60: =IF(AND(ISNUMBER(V53),ISNUMBER(V66)),V53-V66,"") -> -2.8
C61: - | D61: - | E61: - | F61: - | G61: - | H61: - | I61: - | J61: - | K61: - | L61: - | M61: - | N61: - | O61: - | P61: - | Q61: - | R61: - | S61: - | T61: - | U61: - | V61: -
A62: H20 年度 | B62: 工事ごとの契約書 | C62: 3604 | D62: 16.1 | E62: 4646.57 | F62: 13.6 | G62: 3077.85 | H62: 18.2 | I62: 9572.9 | J62: 16.4 | K62: 2198.49 | L62: 20.7 | M62: 638.85 | N62: 18.6 | O62: 112.08 | P62: 19.2 | Q62: 45.37 | R62: 29.5 | S62: 60.07 | T62: 31.1 | U62: 23956.18 | V62: 16.3
B63: 基本契約書があり注文書と請書を交換 | C63: 2858.59 | D63: 12.8 | E63: 5890.28 | F63: 17.3 | G63: 3072.77 | H63: 18.2 | I63: 14889.94 | J63: 25.5 | K63: 2475.59 | L63: 23.3 | M63: 1038.69 | N63: 30.3 | O63: 261.38 | P63: 44.8 | Q63: 65.34 | R63: 42.5 | S63: 67.83 | T63: 35.1 | U63: 30620.42 | V63: 20.9
B64: 注文書と請書の交換 | C64: 5128.07 | D64: 22.9 | E64: 14654.1 | F64: 43 | G64: 6250.62 | H64: 37 | I64: 27095.52 | J64: 46.4 | K64: 5182.14 | L64: 48.8 | M64: 1586.22 | N64: 46.2 | O64: 199.99 | P64: 34.3 | Q64: 42.94 | R64: 27.9 | S64: 61.19 | T64: 31.6 | U64: 60200.79 | V64: 41.1
B65: 注文書または請書の一方から交付 | C65: 4470.82 | D65: 20 | E65: 5230.69 | F65: 15.4 | G65: 2618.51 | H65: 15.5 | I65: 4314.31 | J65: 7.4 | K65: 501.86 | L65: 4.7 | M65: 128 | N65: 3.7 | O65: 7.34 | P65: 1.3 | S65: 4.35 | T65: 2.3 | U65: 17275.9 | V65: 11.8
B66: メモまたは口頭 | C66: 6300.11 | D66: 28.2 | E66: 3645.59 | F66: 10.7 | G66: 1854.87 | H66: 11 | I66: 2489.6 | J66: 4.3 | K66: 258.25 | L66: 2.4 | M66: 41.07 | N66: 1.2 | O66: 3.1 | P66: 0.5 | U66: 14592.6 | V66: 10
C67: 22361.6 | D67: 100 | E67: 34067.24 | F67: 100 | G67: 16874.63 | H67: 100 | I67: 58362.27 | J67: 100 | K67: 10616.34 | L67: 100 | M67: 3432.84 | N67: 100 | O67: 583.88 | P67: 100 | Q67: 153.65 | R67: 100 | S67: 193.44 | T67: 100 | U67: 146645.89 | V67: 100
A68: 増減 | B68: 工事ごとの契約書 | D68: =IF(AND(ISNUMBER(D62),ISNUMBER(D74)),D62-D74,"") -> -6.1 | F68: =IF(AND(ISNUMBER(F62),ISNUMBER(F74)),F62-F74,"") -> -2.7 | H68: =IF(AND(ISNUMBER(H62),ISNUMBER(H74)),H62-H74,"") -> 2.8 | J68: =IF(AND(ISNUMBER(J62),ISNUMBER(J74)),J62-J74,"") -> -0.1 | L68: =IF(AND(ISNUMBER(L62),ISNUMBER(L74)),L62-L74,"") -> 0.2 | N68: =IF(AND(ISNUMBER(N62),ISNUMBER(N74)),N62-N74,"") -> -0.7 | P68: =IF(AND(ISNUMBER(P62),ISNUMBER(P74)),P62-P74,"") -> 0.9 | R68: =IF(AND(ISNUMBER(R62),ISNUMBER(R74)),R62-R74,"") -> 9.5 | T68: =IF(AND(ISNUMBER(T62),ISNUMBER(T74)),T62-T74,"") -> 3.6 | V68: =IF(AND(ISNUMBER(V62),ISNUMBER(V74)),V62-V74,"") -> -1.2
B69: 基本契約書があり注文書と請書を交換 | D69: =IF(AND(ISNUMBER(D63),ISNUMBER(D75)),D63-D75,"") -> 6.3 | F69: =IF(AND(ISNUMBER(F63),ISNUMBER(F75)),F63-F75,"") -> 4.6 | H69: =IF(AND(ISNUMBER(H63),ISNUMBER(H75)),H63-H75,"") -> 4.9 | J69: =IF(AND(ISNUMBER(J63),ISNUMBER(J75)),J63-J75,"") -> 3.4 | L69: =IF(AND(ISNUMBER(L63),ISNUMBER(L75)),L63-L75,"") -> 1.9 | N69: =IF(AND(ISNUMBER(N63),ISNUMBER(N75)),N63-N75,"") -> -0.7 | P69: =IF(AND(ISNUMBER(P63),ISNUMBER(P75)),P63-P75,"") -> 4.9 | R69: =IF(AND(ISNUMBER(R63),ISNUMBER(R75)),R63-R75,"") -> -6 | T69: =IF(AND(ISNUMBER(T63),ISNUMBER(T75)),T63-T75,"") -> -4.2 | V69: =IF(AND(ISNUMBER(V63),ISNUMBER(V75)),V63-V75,"") -> 4
B70: 注文書と請書の交換 | D70: =IF(AND(ISNUMBER(D64),ISNUMBER(D76)),D64-D76,"") -> -4.9 | F70: =IF(AND(ISNUMBER(F64),ISNUMBER(F76)),F64-F76,"") -> 4.7 | H70: =IF(AND(ISNUMBER(H64),ISNUMBER(H76)),H64-H76,"") -> -5 | J70: =IF(AND(ISNUMBER(J64),ISNUMBER(J76)),J64-J76,"") -> -2.3 | L70: =IF(AND(ISNUMBER(L64),ISNUMBER(L76)),L64-L76,"") -> -2.8 | N70: =IF(AND(ISNUMBER(N64),ISNUMBER(N76)),N64-N76,"") -> 0.1 | P70: =IF(AND(ISNUMBER(P64),ISNUMBER(P76)),P64-P76,"") -> -2.7 | R70: =IF(AND(ISNUMBER(R64),ISNUMBER(R76)),R64-R76,"") -> -3.1 | T70: =IF(AND(ISNUMBER(T64),ISNUMBER(T76)),T64-T76,"") -> 0.8 | V70: =IF(AND(ISNUMBER(V64),ISNUMBER(V76)),V64-V76,"") -> -1.4
B71: 注文書または請書の一方から交付 | D71: =IF(AND(ISNUMBER(D65),ISNUMBER(D77)),D65-D77,"") -> 2.9 | F71: =IF(AND(ISNUMBER(F65),ISNUMBER(F77)),F65-F77,"") -> -1.8 | H71: =IF(AND(ISNUMBER(H65),ISNUMBER(H77)),H65-H77,"") -> -0.7 | J71: =IF(AND(ISNUMBER(J65),ISNUMBER(J77)),J65-J77,"") -> -1 | L71: =IF(AND(ISNUMBER(L65),ISNUMBER(L77)),L65-L77,"") -> 0.1 | N71: =IF(AND(ISNUMBER(N65),ISNUMBER(N77)),N65-N77,"") -> 1.1 | P71: =IF(AND(ISNUMBER(P65),ISNUMBER(P77)),P65-P77,"") -> -3.2 | R71: =IF(AND(ISNUMBER(R65),ISNUMBER(R77)),R65-R77,"") | T71: =IF(AND(ISNUMBER(T65),ISNUMBER(T77)),T65-T77,"") -> -0.1 | V71: =IF(AND(ISNUMBER(V65),ISNUMBER(V77)),V65-V77,"") -> -0.4
B72: メモまたは口頭 | D72: =IF(AND(ISNUMBER(D66),ISNUMBER(D78)),D66-D78,"") -> 1.9 | F72: =IF(AND(ISNUMBER(F66),ISNUMBER(F78)),F66-F78,"") -> -4.8 | H72: =IF(AND(ISNUMBER(H66),ISNUMBER(H78)),H66-H78,"") -> -2.1 | J72: =IF(AND(ISNUMBER(J66),ISNUMBER(J78)),J66-J78,"") -> 0 | L72: =IF(AND(ISNUMBER(L66),ISNUMBER(L78)),L66-L78,"") -> 0.5 | N72: =IF(AND(ISNUMBER(N66),ISNUMBER(N78)),N66-N78,"") -> 0.2 | P72: =IF(AND(ISNUMBER(P66),ISNUMBER(P78)),P66-P78,"") -> 0.1 | R72: =IF(AND(ISNUMBER(R66),ISNUMBER(R78)),R66-R78,"") | T72: =IF(AND(ISNUMBER(T66),ISNUMBER(T78)),T66-T78,"") | V72: =IF(AND(ISNUMBER(V66),ISNUMBER(V78)),V66-V78,"") -> -0.8
C73: - | D73: - | E73: - | F73: - | G73: - | H73: - | I73: - | J73: - | K73: - | L73: - | M73: - | N73: - | O73: - | P73: - | Q73: - | R73: - | S73: - | T73: - | U73: - | V73: -
A74: H17 年度 | B74: 工事ごとの契約書 | C74: 5220 | D74: 22.2 | E74: 6419 | F74: 16.3 | G74: 3337 | H74: 15.4 | I74: 11157 | J74: 16.5 | K74: 2447 | L74: 20.5 | M74: 710 | N74: 19.3 | O74: 126 | P74: 18.3 | Q74: 38 | R74: 20 | S74: 62 | T74: 27.5 | U74: 29517 | V74: 17.5
B75: 基本契約書があり注文書と請書を交換 | C75: 1538 | D75: 6.5 | E75: 5013 | F75: 12.7 | G75: 2896 | H75: 13.3 | I75: 14940 | J75: 22.1 | K75: 2550 | L75: 21.4 | M75: 1142 | N75: 31 | O75: 276 | P75: 39.9 | Q75: 92 | R75: 48.5 | S75: 89 | T75: 39.3 | U75: 28536 | V75: 16.9
B76: 注文書と請書の交換 | C76: 6543 | D76: 27.8 | E76: 15104 | F76: 38.3 | G76: 9104 | H76: 42 | I76: 32821 | J76: 48.7 | K76: 6152 | L76: 51.6 | M76: 1697 | N76: 46.1 | O76: 256 | P76: 37 | Q76: 59 | R76: 31 | S76: 70 | T76: 30.8 | U76: 71806 | V76: 42.5
B77: 注文書または請書の一方から交付 | C77: 4025 | D77: 17.1 | E77: 6775 | F77: 17.2 | G77: 3506 | H77: 16.2 | I77: 5635 | J77: 8.4 | K77: 549 | L77: 4.6 | M77: 97 | N77: 2.6 | O77: 31 | P77: 4.5 | Q77: 1 | R77: 0.5 | S77: 5 | T77: 2.4 | U77: 20623 | V77: 12.2
B78: メモまたは口頭 | C78: 6186 | D78: 26.3 | E78: 6101 | F78: 15.5 | G78: 2849 | H78: 13.1 | I78: 2903 | J78: 4.3 | K78: 223 | L78: 1.9 | M78: 38 | N78: 1 | O78: 3 | P78: 0.4 | U78: 18303 | V78: 10.8
C79: 23513 | D79: 100 | E79: 39412 | F79: 100 | G79: 21691 | H79: 100 | I79: 67455 | J79: 100 | K79: 11922 | L79: 100 | M79: 3684 | N79: 100 | O79: 692 | P79: 100 | Q79: 189 | R79: 100 | S79: 227 | T79: 100 | U79: 168785 | V79: 100
S80: =$O$134
S82: （単位：社、％）
B83: 年度 | C83: R06年度 | F83: R01年度 | I83: H26年度 | L83: H23年度 | O83: H20年度 | R83: H17年度
A84: 業種 | B84: 契約方法 | E84: 増減 | H84: 増減 | K84: 増減 | N84: 増減 | Q84: 増減
A85: 一般土木建築 | B85: 工事ごとの契約書 | C85: =IF('3-5-1'!V6<>"",'3-5-1'!V6,"") -> 1812.4349 | D85: =IF('3-5-1'!W6<>"",'3-5-1'!W6,"") -> 31.139655 | E85: =IF(AND(ISNUMBER(D85),ISNUMBER(G85)),D85-G85,"") -> -3.1629404 | F85: 927.36772 | G85: 34.302595 | H85: =IF(AND(ISNUMBER(G85),ISNUMBER(J85)),G85-J85,"") -> 7.301501 | I85: 933.42484 | J85: 27.001094 | K85: =IF(AND(ISNUMBER(J85),ISNUMBER(M85)),J85-M85,"") -> -1.798906 | L85: 1029.86 | M85: 28.8 | N85: =M85-P85 -> 7 | O85: 978.01 | P85: 21.8 | Q85: =P85-S85 -> 0.1 | R85: 1128 | S85: 21.7
B86: 基本契約書があり注文書と請書を交換 | C86: =IF('3-5-1'!V7<>"",'3-5-1'!V7,"") -> 624.64582 | D86: =IF('3-5-1'!W7<>"",'3-5-1'!W7,"") -> 10.732112 | E86: =IF(AND(ISNUMBER(D86),ISNUMBER(G86)),D86-G86,"") -> -5.9878556 | F86: 452.0229 | G86: 16.719968 | H86: =IF(AND(ISNUMBER(G86),ISNUMBER(J86)),G86-J86,"") -> -3.9370284 | I86: 714.11008 | J86: 20.656996 | K86: =IF(AND(ISNUMBER(J86),ISNUMBER(M86)),J86-M86,"") -> -0.44300374 | L86: 753.18 | M86: 21.1 | N86: =M86-P86 -> 3.5 | O86: 789.24 | P86: 17.6 | Q86: =P86-S86 -> 1.8 | R86: 821 | S86: 15.8
B87: 基本契約約款添付の注文書と請書を交換 | C87: =IF('3-5-1'!V8<>"",'3-5-1'!V8,"") -> 1258.9491 | D87: =IF('3-5-1'!W8<>"",'3-5-1'!W8,"") -> 21.630151 | E87: =IF(AND(ISNUMBER(D87),ISNUMBER(G87)),D87-G87,"") -> 3.8455614 | F87: 480.80486 | G87: 17.78459 | H87: =IF(AND(ISNUMBER(G87),ISNUMBER(J87)),G87-J87,"") -> -5.5381857 | I87: 806.26577 | J87: 23.322775 | K87: =IF(AND(ISNUMBER(J87),ISNUMBER(M87)),J87-M87,"") -> -1.1772248 | L87: 874.81 | M87: 24.5 | N87: - | O87: 2285.14 | P87: 51 | Q87: =P87-S87 -> -3.5 | R87: 2839 | S87: 54.5
B88: 注文書と請書の 交換のみ | C88: =IF('3-5-1'!V9<>"",'3-5-1'!V9,"") -> 1806.0338 | D88: =IF('3-5-1'!W9<>"",'3-5-1'!W9,"") -> 31.029677 | E88: =IF(AND(ISNUMBER(D88),ISNUMBER(G88)),D88-G88,"") -> 7.7962595 | F88: 628.11344 | G88: 23.233417 | H88: =IF(AND(ISNUMBER(G88),ISNUMBER(J88)),G88-J88,"") -> 0.83466606 | I88: 774.32235 | J88: 22.398751 | K88: =IF(AND(ISNUMBER(J88),ISNUMBER(M88)),J88-M88,"") -> 3.998751 | L88: 655.61 | M88: 18.4 | N88: - | Q88: =P88-S88 -> 0
B89: 注文書または請書の一方からの交付 | C89: =IF('3-5-1'!V10<>"",'3-5-1'!V10,"") -> 263.52 | D89: =IF('3-5-1'!W10<>"",'3-5-1'!W10,"") -> 4.5275677 | E89: =IF(AND(ISNUMBER(D89),ISNUMBER(G89)),D89-G89,"") -> -2.0357574 | F89: 177.43893 | G89: 6.563325 | H89: =IF(AND(ISNUMBER(G89),ISNUMBER(J89)),G89-J89,"") -> 2.1895501 | I89: 151.20092 | J89: 4.3737749 | K89: =IF(AND(ISNUMBER(J89),ISNUMBER(M89)),J89-M89,"") -> -0.42622508 | L89: 170.26 | M89: 4.8 | N89: =M89-P89 -> -0.9 | O89: 254.11 | P89: 5.7 | Q89: =P89-S89 -> 0 | R89: 295 | S89: 5.7
B90: メモまたは口頭 | C90: =IF('3-5-1'!V11<>"",'3-5-1'!V11,"") -> 54.76 | D90: =IF('3-5-1'!W11<>"",'3-5-1'!W11,"") -> 0.94083791 | E90: =IF(AND(ISNUMBER(D90),ISNUMBER(G90)),D90-G90,"") -> -0.45526748 | F90: 37.74359 | G90: 1.3961054 | H90: =IF(AND(ISNUMBER(G90),ISNUMBER(J90)),G90-J90,"") -> -0.85050321 | I90: 77.665011 | J90: 2.2466086 | K90: =IF(AND(ISNUMBER(J90),ISNUMBER(M90)),J90-M90,"") -> -0.2533914 | L90: 89 | M90: 2.5 | N90: =M90-P90 -> -1.3 | O90: 172.09 | P90: 3.8 | Q90: =P90-S90 -> 1.4 | R90: 125 | S90: 2.4
B91: 小 計 | C91: =IF('3-5-1'!V12<>"",'3-5-1'!V12,"") -> 5820.3437 | D91: =IF('3-5-1'!W12<>"",'3-5-1'!W12,"") -> 100 | E91: =IF(AND(ISNUMBER(D91),ISNUMBER(G91)),D91-G91,"") -> -2.8421709e-14 | F91: 2703.4914 | G91: 100 | H91: =IF(AND(ISNUMBER(G91),ISNUMBER(J91)),G91-J91,"") -> 0 | I91: 3456.989 | J91: 100 | K91: =IF(AND(ISNUMBER(J91),ISNUMBER(M91)),J91-M91,"") -> 0 | L91: 3572.72 | M91: 100 | N91: =M91-P91 -> 0 | O91: 4478.59 | P91: 100 | Q91: =P91-S91 -> 0 | R91: 5208 | S91: 100
A92: 土木 | B92: 工事ごとの契約書 | C92: =IF('3-5-1'!V48<>"",'3-5-1'!V48,"") -> 8381.62 | D92: =IF('3-5-1'!W48<>"",'3-5-1'!W48,"") -> 25.712147 | E92: =IF(AND(ISNUMBER(D92),ISNUMBER(G92)),D92-G92,"") -> -2.9262388 | F92: 7291.1283 | G92: 28.638385 | H92: =IF(AND(ISNUMBER(G92),ISNUMBER(J92)),G92-J92,"") -> 0.05614258 | I92: 9557.5615 | J92: 28.582243 | K92: =IF(AND(ISNUMBER(J92),ISNUMBER(M92)),J92-M92,"") -> 1.5822427 | L92: 9278 | M92: 27 | N92: =M92-P92 -> 5.8 | O92: 8198.31 | P92: 21.2 | Q92: =P92-S92 -> 0.8 | R92: 9785 | S92: 20.4
B93: 基本契約書があり注文書と請書を交換 | C93: =IF('3-5-1'!V49<>"",'3-5-1'!V49,"") -> 5543.4591 | D93: =IF('3-5-1'!W49<>"",'3-5-1'!W49,"") -> 17.005571 | E93: =IF(AND(ISNUMBER(D93),ISNUMBER(G93)),D93-G93,"") -> -5.9411342 | F93: 5842.0672 | G93: 22.946705 | H93: =IF(AND(ISNUMBER(G93),ISNUMBER(J93)),G93-J93,"") -> -0.38184341 | I93: 7800.7887 | J93: 23.328549 | K93: =IF(AND(ISNUMBER(J93),ISNUMBER(M93)),J93-M93,"") -> 2.5285485 | L93: 7126.94 | M93: 20.8 | N93: =M93-P93 -> 5.2 | O93: 6017.62 | P93: 15.6 | Q93: =P93-S93 -> 1.6 | R93: 6718 | S93: 14
B94: 基本契約約款添付の注文書と請書を交換 | C94: =IF('3-5-1'!V50<>"",'3-5-1'!V50,"") -> 8396.039 | D94: =IF('3-5-1'!W50<>"",'3-5-1'!W50,"") -> 25.756379 | E94: =IF(AND(ISNUMBER(D94),ISNUMBER(G94)),D94-G94,"") -> 6.4938695 | F94: 4904.0974 | G94: 19.26251 | H94: =IF(AND(ISNUMBER(G94),ISNUMBER(J94)),G94-J94,"") -> 1.7331955 | I94: 5861.5939 | J94: 17.529314 | K94: =IF(AND(ISNUMBER(J94),ISNUMBER(M94)),J94-M94,"") -> -1.8706856 | L94: 6670.78 | M94: 19.4 | N94: - | O94: 19478.14 | P94: 50.4 | Q94: =P94-S94 -> -2.2 | R94: 25303 | S94: 52.6
B95: 注文書と請書の 交換のみ | C95: =IF('3-5-1'!V51<>"",'3-5-1'!V51,"") -> 6919.6575 | D95: =IF('3-5-1'!W51<>"",'3-5-1'!W51,"") -> 21.22731 | E95: =IF(AND(ISNUMBER(D95),ISNUMBER(G95)),D95-G95,"") -> 0.27221701 | F95: 5335.0169 | G95: 20.955093 | H95: =IF(AND(ISNUMBER(G95),ISNUMBER(J95)),G95-J95,"") -> -0.72699224 | I95: 7250.231 | J95: 21.682085 | K95: =IF(AND(ISNUMBER(J95),ISNUMBER(M95)),J95-M95,"") -> -1.7179148 | L95: 8026.21 | M95: 23.4 | N95: - | Q95: =P95-S95 -> 0
B96: 注文書または請書の一方からの交付 | C96: =IF('3-5-1'!V52<>"",'3-5-1'!V52,"") -> 2159.5141 | D96: =IF('3-5-1'!W52<>"",'3-5-1'!W52,"") -> 6.6247029 | E96: =IF(AND(ISNUMBER(D96),ISNUMBER(G96)),D96-G96,"") -> 3.2415502 | F96: 861.32652 | G96: 3.3831528 | H96: =IF(AND(ISNUMBER(G96),ISNUMBER(J96)),G96-J96,"") -> -1.0637482 | I96: 1486.9907 | J96: 4.4469009 | K96: =IF(AND(ISNUMBER(J96),ISNUMBER(M96)),J96-M96,"") -> -0.75309906 | L96: 1777.25 | M96: 5.2 | N96: =M96-P96 -> -2.4 | O96: 2937.86 | P96: 7.6 | Q96: =P96-S96 -> -0.4 | R96: 3865 | S96: 8
B97: メモまたは口頭 | C97: =IF('3-5-1'!V53<>"",'3-5-1'!V53,"") -> 1197.6111 | D97: =IF('3-5-1'!W53<>"",'3-5-1'!W53,"") -> 3.6738903 | E97: =IF(AND(ISNUMBER(D97),ISNUMBER(G97)),D97-G97,"") -> -1.1402637 | F97: 1225.6492 | G97: 4.814154 | H97: =IF(AND(ISNUMBER(G97),ISNUMBER(J97)),G97-J97,"") -> 0.38324571 | I97: 1481.6429 | J97: 4.4309083 | K97: =IF(AND(ISNUMBER(J97),ISNUMBER(M97)),J97-M97,"") -> 0.13090825 | L97: 1459.72 | M97: 4.3 | N97: =M97-P97 -> -1 | O97: 2035.14 | P97: 5.3 | Q97: =P97-S97 -> 0.3 | R97: 2389 | S97: 5
B98: 小 計 | C98: =IF('3-5-1'!V54<>"",'3-5-1'!V54,"") -> 32597.901 | D98: =IF('3-5-1'!W54<>"",'3-5-1'!W54,"") -> 100 | E98: =IF(AND(ISNUMBER(D98),ISNUMBER(G98)),D98-G98,"") -> 0 | F98: 25459.285 | G98: 100 | H98: =IF(AND(ISNUMBER(G98),ISNUMBER(J98)),G98-J98,"") -> 0 | I98: 33438.809 | J98: 100 | K98: =IF(AND(ISNUMBER(J98),ISNUMBER(M98)),J98-M98,"") -> 0 | L98: 34338.9 | M98: 100 | N98: =M98-P98 -> 0 | O98: 38667.08 | P98: 100 | Q98: =P98-S98 -> 0 | R98: 48059 | S98: 100
A99: 建築 | B99: 工事ごとの契約書 | C99: =IF('3-5-1'!V55<>"",'3-5-1'!V55,"") -> 6474.5495 | D99: =IF('3-5-1'!W55<>"",'3-5-1'!W55,"") -> 17.409618 | E99: =IF(AND(ISNUMBER(D99),ISNUMBER(G99)),D99-G99,"") -> -12.861978 | F99: 4572.3127 | G99: 30.271596 | H99: =IF(AND(ISNUMBER(G99),ISNUMBER(J99)),G99-J99,"") -> 6.9543005 | I99: 4830.451 | J99: 23.317295 | K99: =IF(AND(ISNUMBER(J99),ISNUMBER(M99)),J99-M99,"") -> -4.2827046 | L99: 6395.85 | M99: 27.6 | N99: =M99-P99 -> 9.9 | O99: 3965.83 | P99: 17.7 | Q99: =P99-S99 -> -5.8 | R99: 6042 | S99: 23.5
B100: 基本契約書があり注文書と請書を交換 | C100: =IF('3-5-1'!V56<>"",'3-5-1'!V56,"") -> 11951.541 | D100: =IF('3-5-1'!W56<>"",'3-5-1'!W56,"") -> 32.136872 | E100: =IF(AND(ISNUMBER(D100),ISNUMBER(G100)),D100-G100,"") -> 15.082842 | F100: 2575.892 | G100: 17.054031 | H100: =IF(AND(ISNUMBER(G100),ISNUMBER(J100)),G100-J100,"") -> -0.33914313 | I100: 3603.1998 | J100: 17.393174 | K100: =IF(AND(ISNUMBER(J100),ISNUMBER(M100)),J100-M100,"") -> -9.7068261 | L100: 6281.11 | M100: 27.1 | N100: =M100-P100 -> 6.1 | O100: 4711.14 | P100: 21 | Q100: =P100-S100 -> 5.5 | R100: 3972 | S100: 15.5
B101: 基本契約約款添付の注文書と請書を交換 | C101: =IF('3-5-1'!V57<>"",'3-5-1'!V57,"") -> 2913.9801 | D101: =IF('3-5-1'!W57<>"",'3-5-1'!W57,"") -> 7.8354919 | E101: =IF(AND(ISNUMBER(D101),ISNUMBER(G101)),D101-G101,"") -> -5.9755176 | F101: 2086.0563 | G101: 13.811009 | H101: =IF(AND(ISNUMBER(G101),ISNUMBER(J101)),G101-J101,"") -> 2.440641 | I101: 2355.5051 | J101: 11.370368 | K101: =IF(AND(ISNUMBER(J101),ISNUMBER(M101)),J101-M101,"") -> 0.17036848 | L101: 2590.79 | M101: 11.2 | N101: - | O101: 8421.83 | P101: 37.6 | Q101: =P101-S101 -> 0.8 | R101: 9448 | S101: 36.8
B102: 注文書と請書の 交換のみ | C102: =IF('3-5-1'!V58<>"",'3-5-1'!V58,"") -> 7029.8557 | D102: =IF('3-5-1'!W58<>"",'3-5-1'!W58,"") -> 18.902798 | E102: =IF(AND(ISNUMBER(D102),ISNUMBER(G102)),D102-G102,"") -> -1.8614417 | F102: 3136.2931 | G102: 20.76424 | H102: =IF(AND(ISNUMBER(G102),ISNUMBER(J102)),G102-J102,"") -> -4.7089959 | I102: 5277.0792 | J102: 25.473236 | K102: =IF(AND(ISNUMBER(J102),ISNUMBER(M102)),J102-M102,"") -> 2.8732356 | L102: 5239.99 | M102: 22.6 | N102: - | Q102: =P102-S102 -> 0
...

Sheet 3-5-3
A1: 表3－5－3 下請工事での契約締結方法（下請比率、次数別集計）（下請完工高のある企業のみ対象）
M3: （単位：社、％）
A4: 下請比率別、次数 | B4: ０％超 50％未満 | D4: ５０％以上１００％以下 | L4: 合 計
A5: 契約方法 | F5: 一次下請 | H5: 二次下請 | J5: 三次以下下請
A6: 工事ごとの契約書 | B6: 17453.81 | C6: 25.069061 | D6: 28560.779 | E6: 17.252396 | F6: 22310.104 | G6: 18.434644 | H6: 5481.3617 | I6: 14.43038 | J6: 769.31392 | K6: 11.764706 | L6: 46014.589 | M6: 19.566551
A7: 基本契約書があり注文書と請書を交換 | B7: 18367.37 | C7: 26.381215 | D7: 60871.964 | E7: 36.770258 | F7: 45774.178 | G7: 37.822805 | H7: 13270.665 | I7: 34.936709 | J7: 1827.1206 | K7: 27.941176 | L7: 79239.334 | M7: 33.694541
A8: 基本契約約款添付の注文書と請書を交換 | B8: 12309.023 | C8: 17.679558 | D8: 24089.142 | E8: 14.551263 | F8: 18800.109 | G8: 15.534366 | H8: 4663.9656 | I8: 12.278481 | J8: 625.06756 | K8: 9.5588235 | L8: 36398.165 | M8: 15.477407
A9: 注文書と請書の 交換のみ | B9: 15049.704 | C9: 21.616022 | D9: 32984.334 | E9: 19.924484 | F9: 22646.678 | G9: 18.712753 | H9: 8895.1922 | I9: 23.417722 | J9: 1442.4636 | K9: 22.058824 | L9: 48034.038 | M9: 20.425271
A10: 注文書または請書の一方からの交付 | B10: 3125.3378 | C10: 4.4889503 | D10: 10578.066 | E10: 6.3897764 | F10: 6202.5935 | G10: 5.125149 | H10: 3558.0769 | I10: 9.3670886 | J10: 817.39604 | K10: 12.5 | L10: 13703.404 | M10: 5.8270292
A11: メモまたは口頭 | B11: 3317.6663 | C11: 4.7651934 | D11: 8462.4531 | E11: 5.1118211 | F11: 5289.0332 | G11: 4.3702821 | H11: 2115.6133 | I11: 5.5696203 | J11: 1057.8066 | K11: 16.176471 | L11: 11780.119 | M11: 5.0092006
A12: 合 計 | B12: 69622.91 | C12: 100 | D12: 165546.74 | E12: 100 | F12: 121022.7 | G12: 100 | H12: 37984.875 | I12: 100 | J12: 6539.1683 | K12: 100 | L12: 235169.65 | M12: 100
F13: （注） | G13: 1. ( )の数値は各合計を100とした場合の構成比
A16: （下請比率別詳細）
A17: 下請比率別、次数 | B17: ０％超１０％未満 | J17: １０％以上２０％未満 | R17: ２０％以上３０％未満
A18: 契約方法 | B18: 一次下請 | D18: 二次下請 | F18: 三次以下下請 | H18: 小 計 | J18: 一次下請 | L18: 二次下請 | N18: 三次以下下請 | P18: 小 計 | R18: 一次下請 | T18: 二次下請 | V18: 三次以下下請 | X18: 小 計
A19: 工事ごとの契約書 | B19: 5625.608 | C19: 29.846939 | D19: 144.24636 | E19: 33.333333 | F19: 48.08212 | G19: 50 | H19: 5817.9365 | I19: 30.024814 | J19: 2884.9272 | K19: 22.140221 | L19: 144.24636 | M19: 30 | P19: 3029.1736 | Q19: 22.261484 | R19: 2788.763 | S19: 23.481781 | T19: 288.49272 | U19: 42.857143 | X19: 3077.2557 | Y19: 24.521073
A20: 基本契約書があり注文書と請書を交換 | B20: 4086.9802 | C20: 21.683673 | F20: 48.08212 | G20: 50 | H20: 4135.0623 | I20: 21.33995 | J20: 3413.8305 | K20: 26.199262 | L20: 48.08212 | M20: 10 | P20: 3461.9126 | Q20: 25.441696 | R20: 3413.8305 | S20: 28.744939 | T20: 96.16424 | U20: 14.285714 | X20: 3509.9947 | Y20: 27.969349
A21: 基本契約約款添付の注文書と請書を交換 | B21: 3317.6663 | C21: 17.602041 | H21: 3317.6663 | I21: 17.121588 | J21: 2211.7775 | K21: 16.97417 | L21: 144.24636 | M21: 30 | P21: 2356.0239 | Q21: 17.314488 | R21: 2548.3524 | S21: 21.45749 | T21: 96.16424 | U21: 14.285714 | X21: 2644.5166 | Y21: 21.072797
A22: 注文書と請書の 交換のみ | B22: 3942.7338 | C22: 20.918367 | D22: 192.32848 | E22: 44.444444 | H22: 4135.0623 | I22: 21.33995 | J22: 3077.2557 | K22: 23.616236 | L22: 48.08212 | M22: 10 | N22: 48.08212 | O22: 50 | P22: 3173.4199 | Q22: 23.321555 | R22: 2259.8596 | S22: 19.02834 | T22: 144.24636 | U22: 21.428571 | X22: 2404.106 | Y22: 19.157088
A23: 注文書または請書の一方からの交付 | B23: 817.39604 | C23: 4.3367347 | D23: 96.16424 | E23: 22.222222 | H23: 913.56028 | I23: 4.7146402 | J23: 865.47816 | K23: 6.6420664 | L23: 48.08212 | M23: 10 | N23: 48.08212 | O23: 50 | P23: 961.6424 | Q23: 7.0671378 | R23: 288.49272 | S23: 2.4291498 | T23: 48.08212 | U23: 7.1428571 | X23: 336.57484 | Y23: 2.6819923
A24: メモまたは口頭 | B24: 1057.8066 | C24: 5.6122449 | H24: 1057.8066 | I24: 5.4590571 | J24: 576.98544 | K24: 4.4280443 | L24: 48.08212 | M24: 10 | P24: 625.06756 | Q24: 4.5936396 | R24: 576.98544 | S24: 4.8582996 | X24: 576.98544 | Y24: 4.5977011
A25: 合 計 | B25: 18848.191 | C25: 100 | D25: 432.73908 | E25: 100 | F25: 96.16424 | G25: 100 | H25: 19377.094 | I25: 100 | J25: 13030.254 | K25: 100 | L25: 480.8212 | M25: 100 | N25: 96.16424 | O25: 100 | P25: 13607.24 | Q25: 100 | R25: 11876.284 | S25: 100 | T25: 673.14968 | U25: 100 | X25: 12549.433 | Y25: 100
A28: 下請比率別、次数 | B28: ３０％以上４０％未満 | J28: ４０％以上５０％未満 | R28: ５０％以上６０％未満
A29: 契約方法 | B29: 一次下請 | D29: 二次下請 | F29: 三次以下下請 | H29: 小 計 | J29: 一次下請 | L29: 二次下請 | N29: 三次以下下請 | P29: 小 計 | R29: 一次下請 | T29: 二次下請 | V29: 三次以下下請 | X29: 小 計
A30: 工事ごとの契約書 | B30: 2452.1881 | C30: 23.076923 | D30: 144.24636 | E30: 15.789474 | F30: 48.08212 | G30: 33.333333 | H30: 2644.5166 | I30: 22.633745 | J30: 2692.5987 | K30: 23.236515 | L30: 192.32848 | M30: 23.529412 | P30: 2884.9272 | Q30: 23.255814 | R30: 2307.9418 | S30: 22.641509 | T30: 144.24636 | U30: 18.75 | X30: 2452.1881 | Y30: 22.368421
A31: 基本契約書があり注文書と請書を交換 | B31: 3269.5842 | C31: 30.769231 | D31: 240.4106 | E31: 26.315789 | H31: 3509.9947 | I31: 30.041152 | J31: 3509.9947 | K31: 30.290456 | L31: 240.4106 | M31: 29.411765 | P31: 3750.4053 | Q31: 30.232558 | R31: 3077.2557 | S31: 30.188679 | T31: 384.65696 | U31: 50 | X31: 3461.9126 | Y31: 31.578947
A32: 基本契約約款添付の注文書と請書を交換 | B32: 1971.3669 | C32: 18.552036 | D32: 192.32848 | E32: 21.052632 | H32: 2163.6954 | I32: 18.518519 | J32: 1779.0384 | K32: 15.352697 | L32: 48.08212 | M32: 5.8823529 | P32: 1827.1206 | Q32: 14.728682 | R32: 1682.8742 | S32: 16.509434 | X32: 1682.8742 | Y32: 15.350877
A33: 注文書と請書の 交換のみ | B33: 2019.449 | C33: 19.004525 | D33: 192.32848 | E33: 21.052632 | H33: 2211.7775 | I33: 18.930041 | J33: 2788.763 | K33: 24.06639 | L33: 336.57484 | M33: 41.176471 | P33: 3125.3378 | Q33: 25.193798 | R33: 1827.1206 | S33: 17.924528 | T33: 144.24636 | U33: 18.75 | X33: 1971.3669 | Y33: 17.982456
A34: 注文書または請書の一方からの交付 | B34: 384.65696 | C34: 3.6199095 | D34: 48.08212 | E34: 5.2631579 | H34: 432.73908 | I34: 3.7037037 | J34: 480.8212 | K34: 4.1493776 | P34: 480.8212 | Q34: 3.875969 | R34: 673.14968 | S34: 6.6037736 | T34: 48.08212 | U34: 6.25 | X34: 721.2318 | Y34: 6.5789474
A35: メモまたは口頭 | B35: 528.90332 | C35: 4.9773756 | D35: 96.16424 | E35: 10.526316 | F35: 96.16424 | G35: 66.666667 | H35: 721.2318 | I35: 6.1728395 | J35: 336.57484 | K35: 2.9045643 | P35: 336.57484 | Q35: 2.7131783 | R35: 625.06756 | S35: 6.1320755 | T35: 48.08212 | U35: 6.25 | X35: 673.14968 | Y35: 6.1403509
A36: 合 計 | B36: 10626.148 | C36: 100 | D36: 913.56028 | E36: 100 | F36: 144.24636 | G36: 100 | H36: 11683.955 | I36: 100 | J36: 11587.791 | K36: 100 | L36: 817.39604 | M36: 100 | P36: 12405.187 | Q36: 100 | R36: 10193.409 | S36: 100 | T36: 769.31392 | U36: 100 | X36: 10962.723 | Y36: 100
A39: 下請比率別、次数 | B39: ６０％以上７０％未満 | J39: ７０％以上８０％未満 | R39: ８０％以上９０％未満
A40: 契約方法 | B40: 一次下請 | D40: 二次下請 | F40: 三次以下下請 | H40: 小 計 | J40: 一次下請 | L40: 二次下請 | N40: 三次以下下請 | P40: 小 計 | R40: 一次下請 | T40: 二次下請 | V40: 三次以下下請 | X40: 小 計
A41: 工事ごとの契約書 | B41: 2404.106 | C41: 19.920319 | D41: 192.32848 | E41: 13.793103 | H41: 2596.4345 | I41: 19.014085 | J41: 2356.0239 | K41: 22.171946 | L41: 336.57484 | M41: 17.948718 | N41: 48.08212 | O41: 100 | P41: 2740.6808 | Q41: 21.83908 | R41: 2211.7775 | S41: 15.231788 | T41: 432.73908 | U41: 13.846154 | V41: 48.08212 | W41: 16.666667 | X41: 2692.5987 | Y41: 15.013405
A42: 基本契約書があり注文書と請書を交換 | B42: 4183.1444 | C42: 34.661355 | D42: 480.8212 | E42: 34.482759 | F42: 48.08212 | G42: 25 | H42: 4712.0477 | I42: 34.507042 | J42: 3558.0769 | K42: 33.484163 | L42: 721.2318 | M42: 38.461538 | P42: 4279.3087 | Q42: 34.099617 | R42: 4952.4583 | S42: 34.10596 | T42: 1153.9709 | U42: 36.923077 | V42: 96.16424 | W42: 33.333333 | X42: 6202.5935 | Y42: 34.58445
A43: 基本契約約款添付の注文書と請書を交換 | B43: 2067.5312 | C43: 17.131474 | D43: 144.24636 | E43: 10.344828 | F43: 48.08212 | G43: 25 | H43: 2259.8596 | I43: 16.549296 | J43: 1538.6278 | K43: 14.479638 | L43: 192.32848 | M43: 10.25641 | P43: 1730.9563 | Q43: 13.793103 | R43: 2836.8451 | S43: 19.536424 | T43: 384.65696 | U43: 12.307692 | V43: 48.08212 | W43: 16.666667 | X43: 3269.5842 | Y43: 18.230563
A44: 注文書と請書の 交換のみ | B44: 2211.7775 | C44: 18.326693 | D44: 288.49272 | E44: 20.689655 | F44: 48.08212 | G44: 25 | H44: 2548.3524 | I44: 18.661972 | J44: 2404.106 | K44: 22.624434 | L44: 625.06756 | M44: 33.333333 | P44: 3029.1736 | Q44: 24.137931 | R44: 2933.0093 | S44: 20.198675 | T44: 817.39604 | U44: 26.153846 | X44: 3750.4053 | Y44: 20.911528
A45: 注文書または請書の一方からの交付 | B45: 384.65696 | C45: 3.187251 | D45: 144.24636 | E45: 10.344828 | F45: 48.08212 | G45: 25 | H45: 576.98544 | I45: 4.2253521 | J45: 576.98544 | K45: 5.4298643 | P45: 576.98544 | Q45: 4.5977011 | R45: 817.39604 | S45: 5.6291391 | T45: 288.49272 | U45: 9.2307692 | V45: 96.16424 | W45: 33.333333 | X45: 1202.053 | Y45: 6.7024129
A46: メモまたは口頭 | B46: 817.39604 | C46: 6.7729084 | D46: 144.24636 | E46: 10.344828 | H46: 961.6424 | I46: 7.0422535 | J46: 192.32848 | K46: 1.8099548 | P46: 192.32848 | Q46: 1.532567 | R46: 769.31392 | S46: 5.2980132 | T46: 48.08212 | U46: 1.5384615 | X46: 817.39604 | Y46: 4.5576408
A47: 合 計 | B47: 12068.612 | C47: 100 | D47: 1394.3815 | E47: 100 | F47: 192.32848 | G47: 100 | H47: 13655.322 | I47: 100 | J47: 10626.148 | K47: 100 | L47: 1875.2027 | M47: 100 | N47: 48.08212 | O47: 100 | P47: 12549.433 | Q47: 100 | R47: 14520.8 | S47: 100 | T47: 3125.3378 | U47: 100 | V47: 288.49272 | W47: 100 | X47: 17934.631 | Y47: 100
A50: 下請比率別、次数 | B50: ９０％以上１００％未満 | J50: １００％ | R50: 合 計
A51: 契約方法 | B51: 一次下請 | D51: 二次下請 | F51: 三次以下下請 | H51: 小 計 | J51: 一次下請 | L51: 二次下請 | N51: 三次以下下請 | P51: 小 計 | R51: 一次下請 | T51: 二次下請 | V51: 三次以下下請
A52: 工事ごとの契約書 | B52: 2884.9272 | C52: 13.245033 | D52: 432.73908 | E52: 7.826087 | H52: 3317.6663 | I52: 11.876076 | J52: 10145.327 | K52: 19.573284 | L52: 3942.7338 | M52: 15.589354 | N52: 673.14968 | O52: 12.5 | P52: 14761.211 | Q52: 17.890443 | R52: 38754.189 | S52: 20.725122 | T52: 6394.9219 | U52: 15.48312 | V52: 865.47816 | W52: 12.587413 | X52: 46014.589 | Y52: 19.566551
A53: 基本契約書があり注文書と請書を交換 | B53: 8799.0279 | C53: 40.397351 | D53: 2307.9418 | E53: 41.73913 | F53: 336.57484 | G53: 53.846154 | H53: 11443.545 | I53: 40.963855 | J53: 21204.215 | K53: 40.909091 | L53: 8222.0425 | M53: 32.509506 | N53: 1346.2994 | O53: 25 | P53: 30772.557 | Q53: 37.296037 | R53: 63468.398 | S53: 33.941887 | T53: 13895.733 | U53: 33.643772 | V53: 1875.2027 | W53: 27.272727 | X53: 79239.334 | Y53: 33.694541
A54: 基本契約約款添付の注文書と請書を交換 | B54: 3221.502 | C54: 14.790287 | D54: 625.06756 | E54: 11.304348 | F54: 96.16424 | G54: 15.384615 | H54: 3942.7338 | I54: 14.113597 | J54: 7452.7286 | K54: 14.378479 | L54: 3317.6663 | M54: 13.117871 | N54: 432.73908 | O54: 8.0357143 | P54: 11203.134 | Q54: 13.578089 | R54: 30628.31 | S54: 16.379532 | T54: 5144.7868 | U54: 12.456345 | V54: 625.06756 | W54: 9.0909091 | X54: 36398.165 | Y54: 15.477407
A55: 注文書と請書の 交換のみ | B55: 4760.1299 | C55: 21.854305 | D55: 1394.3815 | E55: 25.217391 | F55: 96.16424 | G55: 15.384615 | H55: 6250.6756 | I55: 22.375215 | J55: 8510.5352 | K55: 16.419295 | L55: 5625.608 | M55: 22.243346 | N55: 1298.2172 | O55: 24.107143 | P55: 15434.36 | Q55: 18.706294 | R55: 36734.74 | S55: 19.645153 | T55: 9808.7525 | U55: 23.748545 | V55: 1490.5457 | W55: 21.678322 | X55: 48034.038 | Y55: 20.425271
A56: 注文書または請書の一方からの交付 | B56: 1250.1351 | C56: 5.7395143 | D56: 480.8212 | E56: 8.6956522 | H56: 1730.9563 | I56: 6.1962134 | J56: 2500.2702 | K56: 4.8237477 | L56: 2596.4345 | M56: 10.26616 | N56: 673.14968 | O56: 12.5 | P56: 5769.8544 | Q56: 6.993007 | R56: 9039.4385 | S56: 4.8341476 | T56: 3798.4875 | U56: 9.1967404 | V56: 865.47816 | W56: 12.587413 | X56: 13703.404 | Y56: 5.8270292
A57: メモまたは口頭 | B57: 865.47816 | C57: 3.9735099 | D57: 288.49272 | E57: 5.2173913 | F57: 96.16424 | G57: 15.384615 | H57: 1250.1351 | I57: 4.475043 | J57: 2019.449 | K57: 3.8961039 | L57: 1586.71 | M57: 6.2737643 | N57: 961.6424 | O57: 17.857143 | P57: 4567.8014 | Q57: 5.5361305 | R57: 8366.2889 | S57: 4.4741579 | T57: 2259.8596 | U57: 5.4714785 | V57: 1153.9709 | W57: 16.783217 | X57: 11780.119 | Y57: 5.0092006
A58: 合 計 | B58: 21781.2 | C58: 100 | D58: 5529.4438 | E58: 100 | F58: 625.06756 | G58: 100 | H58: 27935.712 | I58: 100 | J58: 51832.525 | K58: 100 | L58: 25291.195 | M58: 100 | N58: 5385.1974 | O58: 100 | P58: 82508.918 | Q58: 100 | R58: 186991.36 | S58: 100 | T58: 41302.541 | U58: 100 | V58: 6875.7431 | W58: 100 | X58: 235169.65 | Y58: 100
R59: （注） | S59: 1. ( )の数値は各合計を100とした場合の構成比
