Workbook
Name ______________________ＴＢＬ１: [1]CSS編集画面!$B$10:$F$22
Name ______________________ＴＢＬ２: [1]CSS編集画面!$B$24:$I$35
Name _____________________ＴＢＬ１: [1]CSS編集画面!$B$10:$F$22
Name _____________________ＴＢＬ２: [1]CSS編集画面!$B$24:$I$35
Name ____________________ＴＢＬ１: [1]CSS編集画面!$B$10:$F$22
Name ____________________ＴＢＬ２: [1]CSS編集画面!$B$24:$I$35
Name ___________________ＴＢＬ１: [1]CSS編集画面!$B$10:$F$22
Name ___________________ＴＢＬ２: [1]CSS編集画面!$B$24:$I$35
Name __________________ＴＢＬ１: [1]CSS編集画面!$B$10:$F$22
Name __________________ＴＢＬ２: [1]CSS編集画面!$B$24:$I$35
Name _________________ＴＢＬ１: [1]CSS編集画面!$B$10:$F$22
Name _________________ＴＢＬ２: [1]CSS編集画面!$B$24:$I$35
Name ________________ＴＢＬ１: [1]CSS編集画面!$B$10:$F$22
Name ________________ＴＢＬ２: [1]CSS編集画面!$B$24:$I$35
Name _______________ＴＢＬ１: [1]CSS編集画面!$B$10:$F$22
Name _______________ＴＢＬ２: [1]CSS編集画面!$B$24:$I$35
Name ______________ＴＢＬ１: [1]CSS編集画面!$B$10:$F$22
Name ______________ＴＢＬ２: [1]CSS編集画面!$B$24:$I$35
Name _____________ＴＢＬ１: [1]CSS編集画面!$B$10:$F$22
Name _____________ＴＢＬ２: [1]CSS編集画面!$B$24:$I$35
Name ____________ＴＢＬ１: [1]CSS編集画面!$B$10:$F$22
Name ____________ＴＢＬ２: [1]CSS編集画面!$B$24:$I$35
Name ___________ＴＢＬ１: [1]CSS編集画面!$B$10:$F$22
Name ___________ＴＢＬ２: [1]CSS編集画面!$B$24:$I$35
Name __________ＴＢＬ１: [1]CSS編集画面!$B$10:$F$22
Name __________ＴＢＬ２: [1]CSS編集画面!$B$24:$I$35
Name _________ＴＢＬ１: [1]CSS編集画面!$B$10:$F$22
Name _________ＴＢＬ２: [1]CSS編集画面!$B$24:$I$35
Name ________ＴＢＬ１: [1]CSS編集画面!$B$10:$F$22
Name ________ＴＢＬ２: [1]CSS編集画面!$B$24:$I$35
Name _______ＴＢＬ１: [1]CSS編集画面!$B$10:$F$22
Name _______ＴＢＬ２: [1]CSS編集画面!$B$24:$I$35
Name ______ＴＢＬ１: [1]CSS編集画面!$B$10:$F$22
Name ______ＴＢＬ２: [1]CSS編集画面!$B$24:$I$35
Name _____ＴＢＬ１: [1]CSS編集画面!$B$10:$F$22
Name _____ＴＢＬ２: [1]CSS編集画面!$B$24:$I$35
Name ____ＴＢＬ１: [1]CSS編集画面!$B$10:$F$22
Name ____ＴＢＬ２: [1]CSS編集画面!$B$24:$I$35
Name ___ＴＢＬ１: [1]CSS編集画面!$B$10:$F$22
Name ___ＴＢＬ２: [1]CSS編集画面!$B$24:$I$35
Name __ＴＢＬ１: [1]CSS編集画面!$B$10:$F$22
Name __ＴＢＬ２: [1]CSS編集画面!$B$24:$I$35
Name _ＴＢＬ１: [1]CSS編集画面!$B$10:$F$22
Name _ＴＢＬ２: [1]CSS編集画面!$B$24:$I$35
Name PAGE1: #REF!
Name PAGE10: #REF!
Name PAGE100: #REF!
Name PAGE1000: #REF!
Name PAGE1001: #REF!
Name PAGE1002: #REF!
Name PAGE1003: #REF!
Name PAGE1004: #REF!
Name PAGE1005: #REF!
Name PAGE1006: #REF!
Name PAGE1007: #REF!
Name PAGE1008: #REF!
Name PAGE1009: #REF!
Name PAGE101: #REF!
Name PAGE1010: #REF!
Name PAGE1011: #REF!

Sheet 3-5-1
A1: 表3－5－1 下請工事での契約締結方法（下請完工高のある企業のみ対象）
W3: （単位：社、％）
C4: 資本金 | D4: 個 人 | F4: 法 人 | V4: 合 計
A5: 業種 | C5: 契約方法 | F5: 500万円未満 | H5: 500万円以上 1000万円未満 | J5: 1000万円以上 3000万円未満 | L5: 3000万円以上 5000万円未満 | N5: 5000万円以上 1億円未満 | P5: 1億円以上 3億円未満 | R5: 3億円以上 10億円未満 | T5: 10億円以上
A6: 一般土木建築 | B6: 一般土木 建築工事業 | C6: 工事ごとの契約書 | F6: 154 | G6: 33.333333 | H6: 135.28571 | I6: 14.285714 | J6: 930.92 | K6: 38.636364 | L6: 401.31579 | M6: 35.714286 | N6: 114.61818 | O6: 20 | P6: 49.428571 | Q6: 36.363636 | R6: 8.6666667 | S6: 33.333333 | T6: 18.2 | U6: 41.176471 | V6: 1812.4349 | W6: 31.139655
C7: 基本契約書があり注文書と請書を交換 | J7: 273.8 | K7: 11.363636 | L7: 120.39474 | M7: 10.714286 | N7: 171.92727 | O7: 30 | P7: 41.190476 | Q7: 30.30303 | R7: 4.3333333 | S7: 16.666667 | T7: 13 | U7: 29.411765 | V7: 624.64582 | W7: 10.732112
C8: 基本契約約款添付の注文書と請書を交換 | D8: 99 | E8: 100 | H8: 270.57143 | I8: 28.571429 | J8: 438.08 | K8: 18.181818 | L8: 240.78947 | M8: 21.428571 | N8: 171.92727 | O8: 30 | P8: 24.714286 | Q8: 18.181818 | R8: 8.6666667 | S8: 33.333333 | T8: 5.2 | U8: 11.764706 | V8: 1258.9491 | W8: 21.630151
C9: 注文書と請書の 交換のみ | F9: 154 | G9: 33.333333 | H9: 541.14286 | I9: 57.142857 | J9: 602.36 | K9: 25 | L9: 361.18421 | M9: 32.142857 | N9: 114.61818 | O9: 20 | P9: 20.595238 | Q9: 15.151515 | R9: 4.3333333 | S9: 16.666667 | T9: 7.8 | U9: 17.647059 | V9: 1806.0338 | W9: 31.029677
C10: 注文書または請書の一方からの交付 | F10: 154 | G10: 33.333333 | J10: 109.52 | K10: 4.5454545 | V10: 263.52 | W10: 4.5275677
C11: メモまたは口頭 | J11: 54.76 | K11: 2.2727273 | V11: 54.76 | W11: 0.94083791
C12: 小 計 | D12: 99 | E12: 100 | F12: 462 | G12: 100 | H12: 947 | I12: 100 | J12: 2409.44 | K12: 100 | L12: 1123.6842 | M12: 100 | N12: 573.09091 | O12: 100 | P12: 135.92857 | Q12: 100 | R12: 26 | S12: 100 | T12: 44.2 | U12: 100 | V12: 5820.3437 | W12: 100
A13: 土 木 | B13: 土木工事業 | C13: 工事ごとの契約書 | D13: 168.41667 | E13: 8.3333333 | F13: 1551.75 | G13: 27.272727 | H13: 1741.7797 | I13: 36.170213 | J13: 2335.6579 | K13: 24.590164 | L13: 774.12195 | M13: 25.757576 | N13: 301.83051 | O13: 34.782609 | P13: 22.53125 | Q13: 36.842105 | R13: 3.6 | S13: 25 | T13: 2.5 | U13: 12.5 | V13: 6902.1879 | W13: 26.553684
C14: 基本契約書があり注文書と請書を交換 | D14: 336.83333 | E14: 16.666667 | F14: 905.1875 | G14: 15.909091 | H14: 922.11864 | I14: 19.148936 | J14: 1712.8158 | K14: 18.032787 | L14: 273.21951 | M14: 9.0909091 | N14: 113.18644 | O14: 13.043478 | P14: 19.3125 | Q14: 31.578947 | R14: 3.6 | S14: 25 | T14: 15 | U14: 75 | V14: 4301.2737 | W14: 16.547603
C15: 基本契約約款添付の注文書と請書を交換 | D15: 673.66667 | E15: 33.333333 | F15: 1293.125 | G15: 22.727273 | H15: 819.66102 | I15: 17.021277 | J15: 2802.7895 | K15: 29.508197 | L15: 1092.878 | M15: 36.363636 | N15: 301.83051 | O15: 34.782609 | P15: 6.4375 | Q15: 10.526316 | R15: 3.6 | S15: 25 | T15: 2.5 | U15: 12.5 | V15: 6996.4882 | W15: 26.916471
C16: 注文書と請書の 交換のみ | F16: 1422.4375 | G16: 25 | H16: 922.11864 | I16: 19.148936 | J16: 1868.5263 | K16: 19.672131 | L16: 819.65854 | M16: 27.272727 | N16: 150.91525 | O16: 17.391304 | P16: 12.875 | Q16: 21.052632 | R16: 3.6 | S16: 25 | V16: 5200.1313 | W16: 20.005634
C17: 注文書または請書の一方からの交付 | D17: 336.83333 | E17: 16.666667 | F17: 517.25 | G17: 9.0909091 | H17: 409.83051 | I17: 8.5106383 | J17: 311.42105 | K17: 3.2786885 | L17: 45.536585 | M17: 1.5151515 | V17: 1620.8715 | W17: 6.2357198
C18: メモまたは口頭 | D18: 505.25 | E18: 25 | J18: 467.13158 | K18: 4.9180328 | V18: 972.38158 | W18: 3.7408882
C19: 小 計 | D19: 2021 | E19: 100 | F19: 5689.75 | G19: 100 | H19: 4815.5085 | I19: 100 | J19: 9498.3421 | K19: 100 | L19: 3005.4146 | M19: 100 | N19: 867.76271 | O19: 100 | P19: 61.15625 | Q19: 100 | R19: 14.4 | S19: 100 | T19: 20 | U19: 100 | V19: 25993.334 | W19: 100
B20: ほ装工事業 | C20: 工事ごとの契約書 | D20: 14.5 | E20: 60 | F20: 122.2069 | G20: 14.814815 | H20: 118.83333 | I20: 16.666667 | J20: 232.33333 | K20: 18.421053 | L20: 111.84783 | M20: 38.461538 | N20: 22.451613 | O20: 19.354839 | P20: 4 | Q20: 40 | T20: 6 | U20: 100 | V20: 632.173 | W20: 19.474813
C21: 基本契約書があり注文書と請書を交換 | F21: 213.86207 | G21: 25.925926 | H21: 118.83333 | I21: 16.666667 | J21: 398.28571 | K21: 31.578947 | L21: 29.826087 | M21: 10.25641 | N21: 29.935484 | O21: 25.806452 | V21: 790.74269 | W21: 24.359733
C22: 基本契約約款添付の注文書と請書を交換 | F22: 91.655172 | G22: 11.111111 | H22: 118.83333 | I22: 16.666667 | J22: 232.33333 | K22: 18.421053 | L22: 67.108696 | M22: 23.076923 | N22: 29.935484 | O22: 25.806452 | P22: 2 | Q22: 20 | V22: 541.86602 | W22: 16.692803
C23: 注文書と請書の 交換のみ | F23: 213.86207 | G23: 25.925926 | H23: 237.66667 | I23: 33.333333 | J23: 331.90476 | K23: 26.315789 | L23: 74.565217 | M23: 25.641026 | N23: 29.935484 | O23: 25.806452 | P23: 4 | Q23: 40 | V23: 891.9342 | W23: 27.477054
C24: 注文書または請書の一方からの交付 | F24: 91.655172 | G24: 11.111111 | H24: 89.125 | I24: 12.5 | J24: 33.190476 | K24: 2.6315789 | N24: 3.7419355 | O24: 3.2258065 | V24: 217.71258 | W24: 6.7068853
C25: メモまたは口頭 | D25: 9.6666667 | E25: 40 | F25: 91.655172 | G25: 11.111111 | H25: 29.708333 | I25: 4.1666667 | J25: 33.190476 | K25: 2.6315789 | L25: 7.4565217 | M25: 2.5641026 | V25: 171.67717 | W25: 5.2887117
C26: 小 計 | D26: 24.166667 | E26: 100 | F26: 824.89655 | G26: 100 | H26: 713 | I26: 100 | J26: 1261.2381 | K26: 100 | L26: 290.80435 | M26: 100 | N26: 116 | O26: 100 | P26: 10 | Q26: 100 | T26: 6 | U26: 100 | V26: 3246.1057 | W26: 100
B27: しゅんせつ 工事業 | C27: 工事ごとの契約書 | L27: 9 | M27: 33.333333 | N27: 8 | O27: 100 | V27: 17 | W27: 12.623762
C28: 基本契約書があり注文書と請書を交換
C29: 基本契約約款添付の注文書と請書を交換 | H29: 69 | I29: 100 | J29: 15.333333 | K29: 50 | L29: 18 | M29: 66.666667 | V29: 102.33333 | W29: 75.990099
C30: 注文書と請書の 交換のみ | J30: 15.333333 | K30: 50 | V30: 15.333333 | W30: 11.386139
C31: 注文書または請書の一方からの交付
C32: メモまたは口頭
C33: 小 計 | H33: 69 | I33: 100 | J33: 30.666667 | K33: 100 | L33: 27 | M33: 100 | N33: 8 | O33: 100 | V33: 134.66667 | W33: 100
B34: 造園工事業 | C34: 工事ごとの契約書 | F34: 259.6 | G34: 50 | H34: 61.5 | I34: 22.222222 | J34: 180.76596 | K34: 30 | L34: 31.276596 | M34: 25 | N34: 8 | O34: 23.529412 | V34: 541.14255 | W34: 30.736091
C35: 基本契約書があり注文書と請書を交換 | H35: 123 | I35: 44.444444 | J35: 150.6383 | K35: 25 | L35: 37.531915 | M35: 30 | N35: 8 | O35: 23.529412 | V35: 319.17021 | W35: 18.128392
C36: 基本契約約款添付の注文書と請書を交換 | H36: 30.75 | I36: 11.111111 | J36: 120.51064 | K36: 20 | L36: 34.404255 | M36: 27.5 | N36: 12 | O36: 35.294118 | V36: 197.66489 | W36: 11.227071
C37: 注文書と請書の 交換のみ | F37: 259.6 | G37: 50 | H37: 30.75 | I37: 11.111111 | J37: 120.51064 | K37: 20 | L37: 21.893617 | M37: 17.5 | N37: 6 | O37: 17.647059 | V37: 438.75426 | W37: 24.920588
C38: 注文書または請書の一方からの交付 | D38: 203 | E38: 100 | J38: 30.12766 | K38: 5 | V38: 233.12766 | W38: 13.241304
C39: メモまたは口頭 | H39: 30.75 | I39: 11.111111 | V39: 30.75 | W39: 1.7465542
C40: 小 計 | D40: 203 | E40: 100 | F40: 519.2 | G40: 100 | H40: 276.75 | I40: 100 | J40: 602.55319 | K40: 100 | L40: 125.10638 | M40: 100 | N40: 34 | O40: 100 | V40: 1760.6096 | W40: 100
B41: 水道施設 工事業 | C41: 工事ごとの契約書 | F41: 89.538462 | G41: 27.272727 | H41: 47.555556 | I41: 14.285714 | J41: 107.18919 | K41: 18.75 | L41: 39.5 | M41: 29.62963 | N41: 5.3333333 | O41: 16.666667 | V41: 289.11654 | W41: 19.759401
...

Sheet 3-5-2
A1: 表3－5－2 下請工事での契約締結方法 （経年変化）（下請完工高のある企業のみ対象）
V3: （単位：社、％）
B4: 資本金 | C4: 個 人 | E4: 法 人 | U4: 合 計
A5: 年度 | B5: 契約方法 | E5: 500万円未満 | G5: 500万円以上 1000万円未満 | I5: 1000万円以上 3000万円未満 | K5: 3000万円以上 5000万円未満 | M5: 5000万円以上 1億円未満 | O5: 1億円以上 3億円未満 | Q5: 3億円以上 10億円未満 | S5: 10億円以上
A6: R06 年度 | B6: 工事ごとの契約書 | C6: =IF('3-5-1'!D258<>"",'3-5-1'!D258,"") -> 6420.0511 | E6: =IF('3-5-1'!F258<>"",'3-5-1'!F258,"") -> 12725.34 | F6: =IF('3-5-1'!G258<>"",'3-5-1'!G258,"") -> 18.451948 | G6: =IF('3-5-1'!H258<>"",'3-5-1'!H258,"") -> 9580.3846 | H6: =IF('3-5-1'!I258<>"",'3-5-1'!I258,"") -> 21.742499 | I6: =IF('3-5-1'!J258<>"",'3-5-1'!J258,"") -> 14826.94 | J6: =IF('3-5-1'!K258<>"",'3-5-1'!K258,"") -> 21.35643 | K6: =IF('3-5-1'!L258<>"",'3-5-1'!L258,"") -> 2759.8075 | L6: =IF('3-5-1'!M258<>"",'3-5-1'!M258,"") -> 24.237239 | ... V6: =IF('3-5-1'!W258<>"",'3-5-1'!W258,"") -> 20.277161
B7: 基本契約書があり注文書と請書を交換 | C7: =IF('3-5-1'!D259<>"",'3-5-1'!D259,"") -> 1407.9244 | D7: =IF('3-5-1'!E259<>"",'3-5-1'!E259,"") -> 3.9442846 | E7: =IF('3-5-1'!F259<>"",'3-5-1'!F259,"") -> 18186.917 | F7: =IF('3-5-1'!G259<>"",'3-5-1'!G259,"") -> 26.371321 | G7: =IF('3-5-1'!H259<>"",'3-5-1'!H259,"") -> 10968.85 | H7: =IF('3-5-1'!I259<>"",'3-5-1'!I259,"") -> 24.893594 | I7: =IF('3-5-1'!J259<>"",'3-5-1'!J259,"") -> 22363.871 | J7: =IF('3-5-1'!K259<>"",'3-5-1'!K259,"") -> 32.212476 | ... V7: =IF('3-5-1'!W259<>"",'3-5-1'!W259,"") -> 24.763661
B8: 基本契約約款添付の注文書と請書を交換 | C8: =IF('3-5-1'!D260<>"",'3-5-1'!D260,"") -> 2587.4933 | D8: =IF('3-5-1'!E260<>"",'3-5-1'!E260,"") -> 7.2488337 | E8: =IF('3-5-1'!F260<>"",'3-5-1'!F260,"") -> 8375.1071 | F8: =IF('3-5-1'!G260<>"",'3-5-1'!G260,"") -> 12.14404 | G8: =IF('3-5-1'!H260<>"",'3-5-1'!H260,"") -> 6727.7221 | H8: =IF('3-5-1'!I260<>"",'3-5-1'!I260,"") -> 15.268436 | I8: =IF('3-5-1'!J260<>"",'3-5-1'!J260,"") -> 11797.927 | J8: =IF('3-5-1'!K260<>"",'3-5-1'!K260,"") -> 16.9935 | ... V8: =IF('3-5-1'!W260<>"",'3-5-1'!W260,"") -> 14.101002
B9: 注文書と請書の 交換のみ | C9: =IF('3-5-1'!D261<>"",'3-5-1'!D261,"") -> 8729.8098 | D9: =IF('3-5-1'!E261<>"",'3-5-1'!E261,"") -> 24.456465 | E9: =IF('3-5-1'!F261<>"",'3-5-1'!F261,"") -> 15399.433 | F9: =IF('3-5-1'!G261<>"",'3-5-1'!G261,"") -> 22.329424 | G9: =IF('3-5-1'!H261<>"",'3-5-1'!H261,"") -> 9299.675 | H9: =IF('3-5-1'!I261<>"",'3-5-1'!I261,"") -> 21.105434 | I9: =IF('3-5-1'!J261<>"",'3-5-1'!J261,"") -> 14468.375 | J9: =IF('3-5-1'!K261<>"",'3-5-1'!K261,"") -> 20.839961 | ... V9: =IF('3-5-1'!W261<>"",'3-5-1'!W261,"") -> 21.805905
B10: 注文書または請書の一方からの交付 | C10: =IF('3-5-1'!D262<>"",'3-5-1'!D262,"") -> 9036.9628 | D10: =IF('3-5-1'!E262<>"",'3-5-1'!E262,"") -> 25.316951 | E10: =IF('3-5-1'!F262<>"",'3-5-1'!F262,"") -> 7842.0945 | F10: =IF('3-5-1'!G262<>"",'3-5-1'!G262,"") -> 11.371163 | G10: =IF('3-5-1'!H262<>"",'3-5-1'!H262,"") -> 4240.8262 | H10: =IF('3-5-1'!I262<>"",'3-5-1'!I262,"") -> 9.6244737 | I10: =IF('3-5-1'!J262<>"",'3-5-1'!J262,"") -> 2901.2953 | J10: =IF('3-5-1'!K262<>"",'3-5-1'!K262,"") -> 4.1789683 | ... V10: =IF('3-5-1'!W262<>"",'3-5-1'!W262,"") -> 10.316582
B11: メモまたは口頭 | C11: =IF('3-5-1'!D263<>"",'3-5-1'!D263,"") -> 7513.0639 | D11: =IF('3-5-1'!E263<>"",'3-5-1'!E263,"") -> 21.047765 | E11: =IF('3-5-1'!F263<>"",'3-5-1'!F263,"") -> 6435.8629 | F11: =IF('3-5-1'!G263<>"",'3-5-1'!G263,"") -> 9.3321045 | G11: =IF('3-5-1'!H263<>"",'3-5-1'!H263,"") -> 3245.4836 | H11: =IF('3-5-1'!I263<>"",'3-5-1'!I263,"") -> 7.3655629 | I11: =IF('3-5-1'!J263<>"",'3-5-1'!J263,"") -> 3067.7071 | J11: =IF('3-5-1'!K263<>"",'3-5-1'!K263,"") -> 4.4186646 | ... V11: =IF('3-5-1'!W263<>"",'3-5-1'!W263,"") -> 8.7356898
C12: =IF('3-5-1'!D264<>"",'3-5-1'!D264,"") -> 35695.305 | D12: =IF('3-5-1'!E264<>"",'3-5-1'!E264,"") -> 100 | E12: =IF('3-5-1'!F264<>"",'3-5-1'!F264,"") -> 68964.754 | F12: =IF('3-5-1'!G264<>"",'3-5-1'!G264,"") -> 100 | G12: =IF('3-5-1'!H264<>"",'3-5-1'!H264,"") -> 44062.941 | H12: =IF('3-5-1'!I264<>"",'3-5-1'!I264,"") -> 100 | I12: =IF('3-5-1'!J264<>"",'3-5-1'!J264,"") -> 69426.115 | J12: =IF('3-5-1'!K264<>"",'3-5-1'!K264,"") -> 100 | ... V12: =IF('3-5-1'!W264<>"",'3-5-1'!W264,"") -> 100
A13: 増減 | B13: 工事ごとの契約書 | D13: =IF(AND(ISNUMBER(D6),ISNUMBER(D20)),D6-D20,"") | F13: =IF(AND(ISNUMBER(F6),ISNUMBER(F20)),F6-F20,"") -> -0.79329867 | H13: =IF(AND(ISNUMBER(H6),ISNUMBER(H20)),H6-H20,"") -> 1.5016301 | J13: =IF(AND(ISNUMBER(J6),ISNUMBER(J20)),J6-J20,"") -> -4.222459 | L13: =IF(AND(ISNUMBER(L6),ISNUMBER(L20)),L6-L20,"") -> -0.0067177962 | N13: =IF(AND(ISNUMBER(N6),ISNUMBER(N20)),N6-N20,"") -> -3.2091058 | P13: =IF(AND(ISNUMBER(P6),ISNUMBER(P20)),P6-P20,"") -> -0.95892163 | R13: =IF(AND(ISNUMBER(R6),ISNUMBER(R20)),R6-R20,"") -> -5.5943114 | T13: =IF(AND(ISNUMBER(T6),ISNUMBER(T20)),T6-T20,"") -> 7.8353085 | V13: =IF(AND(ISNUMBER(V6),ISNUMBER(V20)),V6-V20,"") -> -2.676824
B14: 基本契約書があり注文書と請書を交換 | D14: =IF(AND(ISNUMBER(D7),ISNUMBER(D21)),D7-D21,"") -> -7.6473686 | F14: =IF(AND(ISNUMBER(F7),ISNUMBER(F21)),F7-F21,"") -> 2.8397408 | H14: =IF(AND(ISNUMBER(H7),ISNUMBER(H21)),H7-H21,"") -> 1.7476881 | J14: =IF(AND(ISNUMBER(J7),ISNUMBER(J21)),J7-J21,"") -> 1.3473134 | L14: =IF(AND(ISNUMBER(L7),ISNUMBER(L21)),L7-L21,"") -> -1.3297624 | N14: =IF(AND(ISNUMBER(N7),ISNUMBER(N21)),N7-N21,"") -> -2.075988 | P14: =IF(AND(ISNUMBER(P7),ISNUMBER(P21)),P7-P21,"") -> 5.7946348 | R14: =IF(AND(ISNUMBER(R7),ISNUMBER(R21)),R7-R21,"") -> -9.5929908 | T14: =IF(AND(ISNUMBER(T7),ISNUMBER(T21)),T7-T21,"") -> -16.254793 | V14: =IF(AND(ISNUMBER(V7),ISNUMBER(V21)),V7-V21,"") -> -0.97824699
B15: 基本契約約款添付の注文書と請書を交換 | D15: =IF(AND(ISNUMBER(D8),ISNUMBER(D22)),D8-D22,"") -> 0.75153041 | F15: =IF(AND(ISNUMBER(F8),ISNUMBER(F22)),F8-F22,"") -> 2.2256428 | H15: =IF(AND(ISNUMBER(H8),ISNUMBER(H22)),H8-H22,"") -> 0.93973083 | J15: =IF(AND(ISNUMBER(J8),ISNUMBER(J22)),J8-J22,"") -> -0.27611267 | L15: =IF(AND(ISNUMBER(L8),ISNUMBER(L22)),L8-L22,"") -> 0.080529672 | N15: =IF(AND(ISNUMBER(N8),ISNUMBER(N22)),N8-N22,"") -> 4.3860846 | P15: =IF(AND(ISNUMBER(P8),ISNUMBER(P22)),P8-P22,"") -> -1.5686062 | R15: =IF(AND(ISNUMBER(R8),ISNUMBER(R22)),R8-R22,"") -> 1.8348074 | T15: =IF(AND(ISNUMBER(T8),ISNUMBER(T22)),T8-T22,"") -> -5.2545393 | V15: =IF(AND(ISNUMBER(V8),ISNUMBER(V22)),V8-V22,"") -> 0.031325942
B16: 注文書と請書の 交換のみ | D16: =IF(AND(ISNUMBER(D9),ISNUMBER(D23)),D9-D23,"") -> 0.24331851 | F16: =IF(AND(ISNUMBER(F9),ISNUMBER(F23)),F9-F23,"") -> -3.4794675 | H16: =IF(AND(ISNUMBER(H9),ISNUMBER(H23)),H9-H23,"") -> -5.5195705 | J16: =IF(AND(ISNUMBER(J9),ISNUMBER(J23)),J9-J23,"") -> 1.4000953 | L16: =IF(AND(ISNUMBER(L9),ISNUMBER(L23)),L9-L23,"") -> 2.4533164 | N16: =IF(AND(ISNUMBER(N9),ISNUMBER(N23)),N9-N23,"") -> -1.1598063 | P16: =IF(AND(ISNUMBER(P9),ISNUMBER(P23)),P9-P23,"") -> -2.7325652 | R16: =IF(AND(ISNUMBER(R9),ISNUMBER(R23)),R9-R23,"") -> 13.676642 | T16: =IF(AND(ISNUMBER(T9),ISNUMBER(T23)),T9-T23,"") -> 13.674024 | V16: =IF(AND(ISNUMBER(V9),ISNUMBER(V23)),V9-V23,"") -> -0.93288602
B17: 注文書または請書の一方からの交付 | D17: =IF(AND(ISNUMBER(D10),ISNUMBER(D24)),D10-D24,"") -> 12.72453 | F17: =IF(AND(ISNUMBER(F10),ISNUMBER(F24)),F10-F24,"") -> 0.17523464 | H17: =IF(AND(ISNUMBER(H10),ISNUMBER(H24)),H10-H24,"") -> 1.4223496 | J17: =IF(AND(ISNUMBER(J10),ISNUMBER(J24)),J10-J24,"") -> 1.4138145 | L17: =IF(AND(ISNUMBER(L10),ISNUMBER(L24)),L10-L24,"") -> -1.3936335 | N17: =IF(AND(ISNUMBER(N10),ISNUMBER(N24)),N10-N24,"") -> 0.8950652 | P17: =IF(AND(ISNUMBER(P10),ISNUMBER(P24)),P10-P24,"") | R17: =IF(AND(ISNUMBER(R10),ISNUMBER(R24)),R10-R24,"") | T17: =IF(AND(ISNUMBER(T10),ISNUMBER(T24)),T10-T24,"") | V17: =IF(AND(ISNUMBER(V10),ISNUMBER(V24)),V10-V24,"") -> 3.4653375
B18: メモまたは口頭 | D18: =IF(AND(ISNUMBER(D11),ISNUMBER(D25)),D11-D25,"") -> 1.2831163 | F18: =IF(AND(ISNUMBER(F11),ISNUMBER(F25)),F11-F25,"") -> -0.96785202 | H18: =IF(AND(ISNUMBER(H11),ISNUMBER(H25)),H11-H25,"") -> -0.091828044 | J18: =IF(AND(ISNUMBER(J11),ISNUMBER(J25)),J11-J25,"") -> 0.33734863 | L18: =IF(AND(ISNUMBER(L11),ISNUMBER(L25)),L11-L25,"") -> 0.19626756 | N18: =IF(AND(ISNUMBER(N11),ISNUMBER(N25)),N11-N25,"") -> 1.1637503 | P18: =IF(AND(ISNUMBER(P11),ISNUMBER(P25)),P11-P25,"") | R18: =IF(AND(ISNUMBER(R11),ISNUMBER(R25)),R11-R25,"") | T18: =IF(AND(ISNUMBER(T11),ISNUMBER(T25)),T11-T25,"") | V18: =IF(AND(ISNUMBER(V11),ISNUMBER(V25)),V11-V25,"") -> 1.0912936
C19: - | D19: - | E19: - | F19: - | G19: - | H19: - | I19: - | J19: - | K19: - | L19: - | M19: - | N19: - | O19: - | P19: - | Q19: - | R19: - | S19: - | T19: - | U19: - | V19: -
A20: R01 年度 | B20: 工事ごとの契約書 | C20: 3185.985 | E20: 5743.1715 | F20: 19.245246 | G20: 4210.3124 | H20: 20.240869 | I20: 10925.518 | J20: 25.578889 | K20: 1967.615 | L20: 24.243957 | M20: 793.44464 | N20: 26.625066 | O20: 130.93343 | P20: 27.995753 | Q20: 30.204488 | R20: 29.372111 | S20: 36.315508 | T20: 27.123857 | U20: 27023.5 | V20: 22.953985
B21: 基本契約書があり注文書と請書を交換 | C21: 1457.3649 | D21: 11.591653 | E21: 7022.3004 | F21: 23.53158 | G21: 4814.5904 | H21: 23.145906 | I21: 13183.446 | J21: 30.865163 | K21: 2346.4121 | L21: 28.911304 | M21: 1161.6113 | N21: 38.979375 | O21: 189.50527 | P21: 40.519389 | Q21: 54.179859 | R21: 52.686767 | S21: 76.284135 | T21: 56.976209 | U21: 30305.694 | V21: 25.741908
B22: 基本契約約款添付の注文書と請書を交換 | C22: 816.87585 | D22: 6.4973033 | E22: 2959.8506 | F22: 9.9183968 | G22: 2980.5205 | H22: 14.328705 | I22: 7376.3748 | J22: 17.269613 | K22: 1797.9716 | L22: 22.153697 | M22: 531.5433 | N22: 17.836626 | O22: 67.790097 | P22: 14.494654 | Q22: 16.287651 | R22: 15.838795 | S22: 16.876292 | T22: 12.604812 | U22: 16564.091 | V22: 14.069676
B23: 注文書と請書の 交換のみ | C23: 3044.2068 | D23: 24.213146 | E23: 7701.8964 | F23: 25.808892 | G23: 5538.2793 | H23: 26.625005 | I23: 8303.3557 | J23: 19.439866 | K23: 1667.0506 | L23: 20.540555 | M23: 432.16451 | N23: 14.501841 | O23: 76.961546 | P23: 16.455663 | Q23: 1.8285714 | R23: 1.7781795 | S23: 4.4117647 | T23: 3.2951232 | U23: 26770.155 | V23: 22.738791
B24: 注文書または請書の一方からの交付 | C24: 1583.1867 | D24: 12.59242 | E24: 3341.0918 | F24: 11.195928 | G24: 1706.1276 | H24: 8.2021241 | I24: 1181.081 | J24: 2.7651538 | K24: 200.34187 | L24: 2.4685112 | M24: 51.240221 | N24: 1.7194322 | O24: 2.5 | P24: 0.53454172 | Q24: 0.33333333 | R24: 0.32414731 | U24: 8065.9025 | V24: 6.8512443
B25: メモまたは口頭 | C25: 2484.9177 | D25: 19.764648 | E25: 3073.7157 | F25: 10.299957 | G25: 1551.2153 | H25: 7.4573909 | I25: 1743.2537 | J25: 4.0813159 | K25: 136.50748 | L25: 1.6819762 | M25: 10.0625 | N25: 0.33766026 | U25: 8999.6724 | V25: 7.6443962
C26: 12572.537 | D26: 100 | E26: 29842.026 | F26: 100 | G26: 20801.045 | H26: 100 | I26: 42713.03 | J26: 100 | K26: 8115.8987 | L26: 100 | M26: 2980.0664 | N26: 100 | O26: 467.69034 | P26: 100 | Q26: 102.8339 | R26: 100 | S26: 133.8877 | T26: 100 | U26: 117729.02 | V26: 100
A27: 増減 | B27: 工事ごとの契約書 | D27: =IF(AND(ISNUMBER(D20),ISNUMBER(D34)),D20-D34,"") | F27: =IF(AND(ISNUMBER(F20),ISNUMBER(F34)),F20-F34,"") -> -0.83404527 | H27: =IF(AND(ISNUMBER(H20),ISNUMBER(H34)),H20-H34,"") -> -0.3761389 | J27: =IF(AND(ISNUMBER(J20),ISNUMBER(J34)),J20-J34,"") -> 1.7674974 | L27: =IF(AND(ISNUMBER(L20),ISNUMBER(L34)),L20-L34,"") -> 0.5098161 | N27: =IF(AND(ISNUMBER(N20),ISNUMBER(N34)),N20-N34,"") -> -1.3974418 | P27: =IF(AND(ISNUMBER(P20),ISNUMBER(P34)),P20-P34,"") -> 1.8917697 | R27: =IF(AND(ISNUMBER(R20),ISNUMBER(R34)),R20-R34,"") -> -0.89392065 | T27: =IF(AND(ISNUMBER(T20),ISNUMBER(T34)),T20-T34,"") -> -9.8125495 | V27: =IF(AND(ISNUMBER(V20),ISNUMBER(V34)),V20-V34,"") -> 1.2142788
B28: 基本契約書があり注文書と請書を交換 | D28: =IF(AND(ISNUMBER(D21),ISNUMBER(D35)),D21-D35,"") -> -1.0210641 | F28: =IF(AND(ISNUMBER(F21),ISNUMBER(F35)),F21-F35,"") -> -1.0568726 | H28: =IF(AND(ISNUMBER(H21),ISNUMBER(H35)),H21-H35,"") -> -0.43760347 | J28: =IF(AND(ISNUMBER(J21),ISNUMBER(J35)),J21-J35,"") -> 2.8170052 | L28: =IF(AND(ISNUMBER(L21),ISNUMBER(L35)),L21-L35,"") -> -2.5011275 | N28: =IF(AND(ISNUMBER(N21),ISNUMBER(N35)),N21-N35,"") -> 4.1242422 | P28: =IF(AND(ISNUMBER(P21),ISNUMBER(P35)),P21-P35,"") -> -0.90341909 | R28: =IF(AND(ISNUMBER(R21),ISNUMBER(R35)),R21-R35,"") -> 7.4014359 | T28: =IF(AND(ISNUMBER(T21),ISNUMBER(T35)),T21-T35,"") -> 7.2123969 | V28: =IF(AND(ISNUMBER(V21),ISNUMBER(V35)),V21-V35,"") -> 0.92908435
B29: 基本契約約款添付の注文書と請書を交換 | D29: =IF(AND(ISNUMBER(D22),ISNUMBER(D36)),D22-D36,"") -> -1.1973414 | F29: =IF(AND(ISNUMBER(F22),ISNUMBER(F36)),F22-F36,"") -> 1.1817048 | H29: =IF(AND(ISNUMBER(H22),ISNUMBER(H36)),H22-H36,"") -> 4.1980958 | J29: =IF(AND(ISNUMBER(J22),ISNUMBER(J36)),J22-J36,"") -> 1.343285 | L29: =IF(AND(ISNUMBER(L22),ISNUMBER(L36)),L22-L36,"") -> 2.4733752 | N29: =IF(AND(ISNUMBER(N22),ISNUMBER(N36)),N22-N36,"") -> -0.23122794 | P29: =IF(AND(ISNUMBER(P22),ISNUMBER(P36)),P22-P36,"") -> -1.2187265 | R29: =IF(AND(ISNUMBER(R22),ISNUMBER(R36)),R22-R36,"") -> 3.053334 | T29: =IF(AND(ISNUMBER(T22),ISNUMBER(T36)),T22-T36,"") -> 2.4555678 | V29: =IF(AND(ISNUMBER(V22),ISNUMBER(V36)),V22-V36,"") -> 1.7001179
B30: 注文書と請書の 交換のみ | D30: =IF(AND(ISNUMBER(D23),ISNUMBER(D37)),D23-D37,"") -> 0.64880329 | F30: =IF(AND(ISNUMBER(F23),ISNUMBER(F37)),F23-F37,"") -> 2.1862827 | H30: =IF(AND(ISNUMBER(H23),ISNUMBER(H37)),H23-H37,"") -> 0.63401506 | J30: =IF(AND(ISNUMBER(J23),ISNUMBER(J37)),J23-J37,"") -> -3.6573508 | L30: =IF(AND(ISNUMBER(L23),ISNUMBER(L37)),L23-L37,"") -> -0.17932227 | N30: =IF(AND(ISNUMBER(N23),ISNUMBER(N37)),N23-N37,"") -> -2.520033 | P30: =IF(AND(ISNUMBER(P23),ISNUMBER(P37)),P23-P37,"") -> 0.74036667 | R30: =IF(AND(ISNUMBER(R23),ISNUMBER(R37)),R23-R37,"") -> -8.6803233 | T30: =IF(AND(ISNUMBER(T23),ISNUMBER(T37)),T23-T37,"") -> 0.14458476 | V30: =IF(AND(ISNUMBER(V23),ISNUMBER(V37)),V23-V37,"") -> -0.63606075
B31: 注文書または請書の一方からの交付 | D31: =IF(AND(ISNUMBER(D24),ISNUMBER(D38)),D24-D38,"") -> -1.2670918 | F31: =IF(AND(ISNUMBER(F24),ISNUMBER(F38)),F24-F38,"") -> -0.35937035 | H31: =IF(AND(ISNUMBER(H24),ISNUMBER(H38)),H24-H38,"") -> -3.459437 | J31: =IF(AND(ISNUMBER(J24),ISNUMBER(J38)),J24-J38,"") -> -2.6750144 | L31: =IF(AND(ISNUMBER(L24),ISNUMBER(L38)),L24-L38,"") -> -0.25412018 | N31: =IF(AND(ISNUMBER(N24),ISNUMBER(N38)),N24-N38,"") -> 0.071654421 | P31: =IF(AND(ISNUMBER(P24),ISNUMBER(P38)),P24-P38,"") -> -0.26336504 | R31: =IF(AND(ISNUMBER(R24),ISNUMBER(R38)),R24-R38,"") -> -0.88052599 | T31: =IF(AND(ISNUMBER(T24),ISNUMBER(T38)),T24-T38,"") | V31: =IF(AND(ISNUMBER(V24),ISNUMBER(V38)),V24-V38,"") -> -1.9482526
B32: メモまたは口頭 | D32: =IF(AND(ISNUMBER(D25),ISNUMBER(D39)),D25-D39,"") -> -4.2198699 | F32: =IF(AND(ISNUMBER(F25),ISNUMBER(F39)),F25-F39,"") -> -1.1176993 | H32: =IF(AND(ISNUMBER(H25),ISNUMBER(H39)),H25-H39,"") -> -0.55893152 | J32: =IF(AND(ISNUMBER(J25),ISNUMBER(J39)),J25-J39,"") -> 0.40457762 | L32: =IF(AND(ISNUMBER(L25),ISNUMBER(L39)),L25-L39,"") -> -0.048621356 | N32: =IF(AND(ISNUMBER(N25),ISNUMBER(N39)),N25-N39,"") -> -0.047193878 | P32: =IF(AND(ISNUMBER(P25),ISNUMBER(P39)),P25-P39,"") | R32: =IF(AND(ISNUMBER(R25),ISNUMBER(R39)),R25-R39,"") | T32: =IF(AND(ISNUMBER(T25),ISNUMBER(T39)),T25-T39,"") | V32: =IF(AND(ISNUMBER(V25),ISNUMBER(V39)),V25-V39,"") -> -1.2591677
C33: - | D33: - | E33: - | F33: - | G33: - | H33: - | I33: - | J33: - | K33: - | L33: - | M33: - | N33: - | O33: - | P33: - | Q33: - | R33: - | S33: - | T33: - | U33: - | V33: -
A34: H26 年度 | B34: 工事ごとの契約書 | C34: 3713.5547 | E34: 7583.9236 | F34: 20.079292 | G34: 4291.324 | H34: 20.617008 | I34: 12965.48 | J34: 23.811392 | K34: 2133.1898 | L34: 23.734141 | M34: 889.25865 | N34: 28.022507 | O34: 127.01343 | P34: 26.103983 | Q34: 33.498467 | R34: 30.266032 | S34: 61.421277 | T34: 36.936406 | U34: 31798.664 | V34: 21.739706
B35: 基本契約書があり注文書と請書を交換 | C35: 2561.6571 | D35: 12.612717 | E35: 9287.0283 | F35: 24.588453 | G35: 4908.7859 | H35: 23.583509 | I35: 15272.43 | J35: 28.048157 | K35: 2823.3033 | L35: 31.412431 | M35: 1106.0833 | N35: 34.855133 | O35: 201.54981 | P35: 41.422808 | Q35: 50.121839 | R35: 45.285331 | S35: 82.751874 | T35: 49.763812 | U35: 36293.712 | V35: 24.812823
B36: 基本契約約款添付の注文書と請書を交換 | C36: 1562.791 | D36: 7.6946447 | E36: 3299.8378 | F36: 8.736692 | G36: 2108.6342 | H36: 10.13061 | I36: 8672.0037 | J36: 15.926328 | K36: 1768.8385 | L36: 19.680322 | M36: 573.36037 | N36: 18.067854 | O36: 76.456162 | P36: 15.713381 | Q36: 14.150958 | R36: 12.785461 | S36: 16.877102 | T36: 10.149244 | U36: 18092.95 | V36: 12.369558
B37: 注文書と請書の 交換のみ | C37: 4785.9446 | D37: 23.564343 | E37: 8922.2304 | F37: 23.622609 | G37: 5409.8905 | H37: 25.990989 | I37: 12576.606 | J37: 23.097217 | K37: 1862.2722 | L37: 20.719877 | M37: 540.16755 | N37: 17.021874 | O37: 76.465484 | P37: 15.715296 | Q37: 11.575479 | R37: 10.458503 | S37: 5.2390071 | T37: 3.1505385 | U37: 34190.391 | V37: 23.374852
B38: 注文書または請書の一方からの交付 | C38: 2814.8825 | D38: 13.859512 | E38: 4364.422 | F38: 11.555299 | G38: 2427.2938 | H38: 11.661561 | I38: 2962.212 | J38: 5.4401682 | K38: 244.70612 | L38: 2.7226314 | M38: 52.290132 | N38: 1.6477778 | O38: 3.8823529 | P38: 0.79790676 | Q38: 1.3333333 | R38: 1.2046733 | U38: 12871.022 | V38: 8.7994969
B39: メモまたは口頭 | C39: 4871.2827 | D39: 23.984518 | E39: 4312.4345 | F39: 11.417656 | G39: 1668.5562 | H39: 8.0163225 | I39: 2002.0113 | J39: 3.6767383 | K39: 155.54357 | L39: 1.7305975 | M39: 12.212857 | N39: 0.38485414 | O39: 1.2 | P39: 0.24662573 | U39: 13023.241 | V39: 8.9035639
C40: 20310.113 | D40: 100 | E40: 37769.877 | F40: 100 | G40: 20814.485 | H40: 100 | I40: 54450.743 | J40: 100 | K40: 8987.8534 | L40: 100 | M40: 3173.3729 | N40: 100 | O40: 486.56724 | P40: 100 | Q40: 110.68008 | R40: 100 | S40: 166.28926 | T40: 100 | U40: 146269.98 | V40: 100
A41: 増減 | B41: 工事ごとの契約書 | D41: =IF(AND(ISNUMBER(D34),ISNUMBER(D48)),D34-D48,"") | F41: =IF(AND(ISNUMBER(F34),ISNUMBER(F48)),F34-F48,"") -> 2.9792915 | H41: =IF(AND(ISNUMBER(H34),ISNUMBER(H48)),H34-H48,"") -> 2.017008 | J41: =IF(AND(ISNUMBER(J34),ISNUMBER(J48)),J34-J48,"") -> 3.1113916 | L41: =IF(AND(ISNUMBER(L34),ISNUMBER(L48)),L34-L48,"") -> -3.6658588 | N41: =IF(AND(ISNUMBER(N34),ISNUMBER(N48)),N34-N48,"") -> 7.5225073 | P41: =IF(AND(ISNUMBER(P34),ISNUMBER(P48)),P34-P48,"") -> 5.0039829 | R41: =IF(AND(ISNUMBER(R34),ISNUMBER(R48)),R34-R48,"") -> 4.466032 | T41: =IF(AND(ISNUMBER(T34),ISNUMBER(T48)),T34-T48,"") -> 8.0364061 | V41: =IF(AND(ISNUMBER(V34),ISNUMBER(V48)),V34-V48,"") -> 1.539706
...

Sheet 3-5-3
A1: 表3－5－3 下請工事での契約締結方法（下請比率、次数別集計）（下請完工高のある企業のみ対象）
M3: （単位：社、％）
A4: 下請比率別、次数 | B4: ０％超 50％未満 | D4: ５０％以上１００％以下 | L4: 合 計
A5: 契約方法 | F5: 一次下請 | H5: 二次下請 | J5: 三次以下下請
A6: 工事ごとの契約書 | B6: 17453.81 | C6: 25.069061 | D6: 28560.779 | E6: 17.252396 | F6: 22310.104 | G6: 18.434644 | H6: 5481.3617 | I6: 14.43038 | J6: 769.31392 | K6: 11.764706 | L6: 46014.589 | M6: 19.566551
A7: 基本契約書があり注文書と請書を交換 | B7: 18367.37 | C7: 26.381215 | D7: 60871.964 | E7: 36.770258 | F7: 45774.178 | G7: 37.822805 | H7: 13270.665 | I7: 34.936709 | J7: 1827.1206 | K7: 27.941176 | L7: 79239.334 | M7: 33.694541
A8: 基本契約約款添付の注文書と請書を交換 | B8: 12309.023 | C8: 17.679558 | D8: 24089.142 | E8: 14.551263 | F8: 18800.109 | G8: 15.534366 | H8: 4663.9656 | I8: 12.278481 | J8: 625.06756 | K8: 9.5588235 | L8: 36398.165 | M8: 15.477407
A9: 注文書と請書の 交換のみ | B9: 15049.704 | C9: 21.616022 | D9: 32984.334 | E9: 19.924484 | F9: 22646.678 | G9: 18.712753 | H9: 8895.1922 | I9: 23.417722 | J9: 1442.4636 | K9: 22.058824 | L9: 48034.038 | M9: 20.425271
A10: 注文書または請書の一方からの交付 | B10: 3125.3378 | C10: 4.4889503 | D10: 10578.066 | E10: 6.3897764 | F10: 6202.5935 | G10: 5.125149 | H10: 3558.0769 | I10: 9.3670886 | J10: 817.39604 | K10: 12.5 | L10: 13703.404 | M10: 5.8270292
A11: メモまたは口頭 | B11: 3317.6663 | C11: 4.7651934 | D11: 8462.4531 | E11: 5.1118211 | F11: 5289.0332 | G11: 4.3702821 | H11: 2115.6133 | I11: 5.5696203 | J11: 1057.8066 | K11: 16.176471 | L11: 11780.119 | M11: 5.0092006
A12: 合 計 | B12: 69622.91 | C12: 100 | D12: 165546.74 | E12: 100 | F12: 121022.7 | G12: 100 | H12: 37984.875 | I12: 100 | J12: 6539.1683 | K12: 100 | L12: 235169.65 | M12: 100
F13: （注） | G13: 1. ( )の数値は各合計を100とした場合の構成比
A16: （下請比率別詳細）
A17: 下請比率別、次数 | B17: ０％超１０％未満 | J17: １０％以上２０％未満 | R17: ２０％以上３０％未満
A18: 契約方法 | B18: 一次下請 | D18: 二次下請 | F18: 三次以下下請 | H18: 小 計 | J18: 一次下請 | L18: 二次下請 | N18: 三次以下下請 | P18: 小 計 | R18: 一次下請 | T18: 二次下請 | V18: 三次以下下請 | X18: 小 計
A19: 工事ごとの契約書 | B19: 5625.608 | C19: 29.846939 | D19: 144.24636 | E19: 33.333333 | F19: 48.08212 | G19: 50 | H19: 5817.9365 | I19: 30.024814 | J19: 2884.9272 | K19: 22.140221 | L19: 144.24636 | M19: 30 | P19: 3029.1736 | Q19: 22.261484 | R19: 2788.763 | S19: 23.481781 | T19: 288.49272 | U19: 42.857143 | X19: 3077.2557 | Y19: 24.521073
A20: 基本契約書があり注文書と請書を交換 | B20: 4086.9802 | C20: 21.683673 | F20: 48.08212 | G20: 50 | H20: 4135.0623 | I20: 21.33995 | J20: 3413.8305 | K20: 26.199262 | L20: 48.08212 | M20: 10 | P20: 3461.9126 | Q20: 25.441696 | R20: 3413.8305 | S20: 28.744939 | T20: 96.16424 | U20: 14.285714 | X20: 3509.9947 | Y20: 27.969349
A21: 基本契約約款添付の注文書と請書を交換 | B21: 3317.6663 | C21: 17.602041 | H21: 3317.6663 | I21: 17.121588 | J21: 2211.7775 | K21: 16.97417 | L21: 144.24636 | M21: 30 | P21: 2356.0239 | Q21: 17.314488 | R21: 2548.3524 | S21: 21.45749 | T21: 96.16424 | U21: 14.285714 | X21: 2644.5166 | Y21: 21.072797
A22: 注文書と請書の 交換のみ | B22: 3942.7338 | C22: 20.918367 | D22: 192.32848 | E22: 44.444444 | H22: 4135.0623 | I22: 21.33995 | J22: 3077.2557 | K22: 23.616236 | L22: 48.08212 | M22: 10 | N22: 48.08212 | O22: 50 | P22: 3173.4199 | Q22: 23.321555 | R22: 2259.8596 | S22: 19.02834 | T22: 144.24636 | U22: 21.428571 | X22: 2404.106 | Y22: 19.157088
A23: 注文書または請書の一方からの交付 | B23: 817.39604 | C23: 4.3367347 | D23: 96.16424 | E23: 22.222222 | H23: 913.56028 | I23: 4.7146402 | J23: 865.47816 | K23: 6.6420664 | L23: 48.08212 | M23: 10 | N23: 48.08212 | O23: 50 | P23: 961.6424 | Q23: 7.0671378 | R23: 288.49272 | S23: 2.4291498 | T23: 48.08212 | U23: 7.1428571 | X23: 336.57484 | Y23: 2.6819923
A24: メモまたは口頭 | B24: 1057.8066 | C24: 5.6122449 | H24: 1057.8066 | I24: 5.4590571 | J24: 576.98544 | K24: 4.4280443 | L24: 48.08212 | M24: 10 | P24: 625.06756 | Q24: 4.5936396 | R24: 576.98544 | S24: 4.8582996 | X24: 576.98544 | Y24: 4.5977011
A25: 合 計 | B25: 18848.191 | C25: 100 | D25: 432.73908 | E25: 100 | F25: 96.16424 | G25: 100 | H25: 19377.094 | I25: 100 | J25: 13030.254 | K25: 100 | L25: 480.8212 | M25: 100 | N25: 96.16424 | O25: 100 | P25: 13607.24 | Q25: 100 | R25: 11876.284 | S25: 100 | T25: 673.14968 | U25: 100 | X25: 12549.433 | Y25: 100
A28: 下請比率別、次数 | B28: ３０％以上４０％未満 | J28: ４０％以上５０％未満 | R28: ５０％以上６０％未満
A29: 契約方法 | B29: 一次下請 | D29: 二次下請 | F29: 三次以下下請 | H29: 小 計 | J29: 一次下請 | L29: 二次下請 | N29: 三次以下下請 | P29: 小 計 | R29: 一次下請 | T29: 二次下請 | V29: 三次以下下請 | X29: 小 計
A30: 工事ごとの契約書 | B30: 2452.1881 | C30: 23.076923 | D30: 144.24636 | E30: 15.789474 | F30: 48.08212 | G30: 33.333333 | H30: 2644.5166 | I30: 22.633745 | J30: 2692.5987 | K30: 23.236515 | L30: 192.32848 | M30: 23.529412 | P30: 2884.9272 | Q30: 23.255814 | R30: 2307.9418 | S30: 22.641509 | T30: 144.24636 | U30: 18.75 | X30: 2452.1881 | Y30: 22.368421
A31: 基本契約書があり注文書と請書を交換 | B31: 3269.5842 | C31: 30.769231 | D31: 240.4106 | E31: 26.315789 | H31: 3509.9947 | I31: 30.041152 | J31: 3509.9947 | K31: 30.290456 | L31: 240.4106 | M31: 29.411765 | P31: 3750.4053 | Q31: 30.232558 | R31: 3077.2557 | S31: 30.188679 | T31: 384.65696 | U31: 50 | X31: 3461.9126 | Y31: 31.578947
A32: 基本契約約款添付の注文書と請書を交換 | B32: 1971.3669 | C32: 18.552036 | D32: 192.32848 | E32: 21.052632 | H32: 2163.6954 | I32: 18.518519 | J32: 1779.0384 | K32: 15.352697 | L32: 48.08212 | M32: 5.8823529 | P32: 1827.1206 | Q32: 14.728682 | R32: 1682.8742 | S32: 16.509434 | X32: 1682.8742 | Y32: 15.350877
A33: 注文書と請書の 交換のみ | B33: 2019.449 | C33: 19.004525 | D33: 192.32848 | E33: 21.052632 | H33: 2211.7775 | I33: 18.930041 | J33: 2788.763 | K33: 24.06639 | L33: 336.57484 | M33: 41.176471 | P33: 3125.3378 | Q33: 25.193798 | R33: 1827.1206 | S33: 17.924528 | T33: 144.24636 | U33: 18.75 | X33: 1971.3669 | Y33: 17.982456
A34: 注文書または請書の一方からの交付 | B34: 384.65696 | C34: 3.6199095 | D34: 48.08212 | E34: 5.2631579 | H34: 432.73908 | I34: 3.7037037 | J34: 480.8212 | K34: 4.1493776 | P34: 480.8212 | Q34: 3.875969 | R34: 673.14968 | S34: 6.6037736 | T34: 48.08212 | U34: 6.25 | X34: 721.2318 | Y34: 6.5789474
A35: メモまたは口頭 | B35: 528.90332 | C35: 4.9773756 | D35: 96.16424 | E35: 10.526316 | F35: 96.16424 | G35: 66.666667 | H35: 721.2318 | I35: 6.1728395 | J35: 336.57484 | K35: 2.9045643 | P35: 336.57484 | Q35: 2.7131783 | R35: 625.06756 | S35: 6.1320755 | T35: 48.08212 | U35: 6.25 | X35: 673.14968 | Y35: 6.1403509
A36: 合 計 | B36: 10626.148 | C36: 100 | D36: 913.56028 | E36: 100 | F36: 144.24636 | G36: 100 | H36: 11683.955 | I36: 100 | J36: 11587.791 | K36: 100 | L36: 817.39604 | M36: 100 | P36: 12405.187 | Q36: 100 | R36: 10193.409 | S36: 100 | T36: 769.31392 | U36: 100 | X36: 10962.723 | Y36: 100
A39: 下請比率別、次数 | B39: ６０％以上７０％未満 | J39: ７０％以上８０％未満 | R39: ８０％以上９０％未満
A40: 契約方法 | B40: 一次下請 | D40: 二次下請 | F40: 三次以下下請 | H40: 小 計 | J40: 一次下請 | L40: 二次下請 | N40: 三次以下下請 | P40: 小 計 | R40: 一次下請 | T40: 二次下請 | V40: 三次以下下請 | X40: 小 計
A41: 工事ごとの契約書 | B41: 2404.106 | C41: 19.920319 | D41: 192.32848 | E41: 13.793103 | H41: 2596.4345 | I41: 19.014085 | J41: 2356.0239 | K41: 22.171946 | L41: 336.57484 | M41: 17.948718 | N41: 48.08212 | O41: 100 | P41: 2740.6808 | Q41: 21.83908 | R41: 2211.7775 | S41: 15.231788 | T41: 432.73908 | U41: 13.846154 | V41: 48.08212 | W41: 16.666667 | X41: 2692.5987 | Y41: 15.013405
A42: 基本契約書があり注文書と請書を交換 | B42: 4183.1444 | C42: 34.661355 | D42: 480.8212 | E42: 34.482759 | F42: 48.08212 | G42: 25 | H42: 4712.0477 | I42: 34.507042 | J42: 3558.0769 | K42: 33.484163 | L42: 721.2318 | M42: 38.461538 | P42: 4279.3087 | Q42: 34.099617 | R42: 4952.4583 | S42: 34.10596 | T42: 1153.9709 | U42: 36.923077 | V42: 96.16424 | W42: 33.333333 | X42: 6202.5935 | Y42: 34.58445
A43: 基本契約約款添付の注文書と請書を交換 | B43: 2067.5312 | C43: 17.131474 | D43: 144.24636 | E43: 10.344828 | F43: 48.08212 | G43: 25 | H43: 2259.8596 | I43: 16.549296 | J43: 1538.6278 | K43: 14.479638 | L43: 192.32848 | M43: 10.25641 | P43: 1730.9563 | Q43: 13.793103 | R43: 2836.8451 | S43: 19.536424 | T43: 384.65696 | U43: 12.307692 | V43: 48.08212 | W43: 16.666667 | X43: 3269.5842 | Y43: 18.230563
A44: 注文書と請書の 交換のみ | B44: 2211.7775 | C44: 18.326693 | D44: 288.49272 | E44: 20.689655 | F44: 48.08212 | G44: 25 | H44: 2548.3524 | I44: 18.661972 | J44: 2404.106 | K44: 22.624434 | L44: 625.06756 | M44: 33.333333 | P44: 3029.1736 | Q44: 24.137931 | R44: 2933.0093 | S44: 20.198675 | T44: 817.39604 | U44: 26.153846 | X44: 3750.4053 | Y44: 20.911528
A45: 注文書または請書の一方からの交付 | B45: 384.65696 | C45: 3.187251 | D45: 144.24636 | E45: 10.344828 | F45: 48.08212 | G45: 25 | H45: 576.98544 | I45: 4.2253521 | J45: 576.98544 | K45: 5.4298643 | P45: 576.98544 | Q45: 4.5977011 | R45: 817.39604 | S45: 5.6291391 | T45: 288.49272 | U45: 9.2307692 | V45: 96.16424 | W45: 33.333333 | X45: 1202.053 | Y45: 6.7024129
A46: メモまたは口頭 | B46: 817.39604 | C46: 6.7729084 | D46: 144.24636 | E46: 10.344828 | H46: 961.6424 | I46: 7.0422535 | J46: 192.32848 | K46: 1.8099548 | P46: 192.32848 | Q46: 1.532567 | R46: 769.31392 | S46: 5.2980132 | T46: 48.08212 | U46: 1.5384615 | X46: 817.39604 | Y46: 4.5576408
A47: 合 計 | B47: 12068.612 | C47: 100 | D47: 1394.3815 | E47: 100 | F47: 192.32848 | G47: 100 | H47: 13655.322 | I47: 100 | J47: 10626.148 | K47: 100 | L47: 1875.2027 | M47: 100 | N47: 48.08212 | O47: 100 | P47: 12549.433 | Q47: 100 | R47: 14520.8 | S47: 100 | T47: 3125.3378 | U47: 100 | V47: 288.49272 | W47: 100 | X47: 17934.631 | Y47: 100
...
