Workbook
Name ______________________ＴＢＬ１: [1]CSS編集画面!$B$10:$F$22
Name ______________________ＴＢＬ２: [1]CSS編集画面!$B$24:$I$35
Name _____________________ＴＢＬ１: [1]CSS編集画面!$B$10:$F$22
Name _____________________ＴＢＬ２: [1]CSS編集画面!$B$24:$I$35
Name ____________________ＴＢＬ１: [1]CSS編集画面!$B$10:$F$22
Name ____________________ＴＢＬ２: [1]CSS編集画面!$B$24:$I$35
Name ___________________ＴＢＬ１: [1]CSS編集画面!$B$10:$F$22
Name ___________________ＴＢＬ２: [1]CSS編集画面!$B$24:$I$35
Name __________________ＴＢＬ１: [1]CSS編集画面!$B$10:$F$22
Name __________________ＴＢＬ２: [1]CSS編集画面!$B$24:$I$35
Name _________________ＴＢＬ１: [1]CSS編集画面!$B$10:$F$22
Name _________________ＴＢＬ２: [1]CSS編集画面!$B$24:$I$35
Name ________________ＴＢＬ１: [1]CSS編集画面!$B$10:$F$22
Name ________________ＴＢＬ２: [1]CSS編集画面!$B$24:$I$35
Name _______________ＴＢＬ１: [1]CSS編集画面!$B$10:$F$22
Name _______________ＴＢＬ２: [1]CSS編集画面!$B$24:$I$35
Name ______________ＴＢＬ１: [1]CSS編集画面!$B$10:$F$22
Name ______________ＴＢＬ２: [1]CSS編集画面!$B$24:$I$35
Name _____________ＴＢＬ１: [1]CSS編集画面!$B$10:$F$22
Name _____________ＴＢＬ２: [1]CSS編集画面!$B$24:$I$35
Name ____________ＴＢＬ１: [1]CSS編集画面!$B$10:$F$22
Name ____________ＴＢＬ２: [1]CSS編集画面!$B$24:$I$35
Name ___________ＴＢＬ１: [1]CSS編集画面!$B$10:$F$22
Name ___________ＴＢＬ２: [1]CSS編集画面!$B$24:$I$35
Name __________ＴＢＬ１: [1]CSS編集画面!$B$10:$F$22
Name __________ＴＢＬ２: [1]CSS編集画面!$B$24:$I$35
Name _________ＴＢＬ１: [1]CSS編集画面!$B$10:$F$22
Name _________ＴＢＬ２: [1]CSS編集画面!$B$24:$I$35
Name ________ＴＢＬ１: [1]CSS編集画面!$B$10:$F$22
Name ________ＴＢＬ２: [1]CSS編集画面!$B$24:$I$35
Name _______ＴＢＬ１: [1]CSS編集画面!$B$10:$F$22
Name _______ＴＢＬ２: [1]CSS編集画面!$B$24:$I$35
Name ______ＴＢＬ１: [1]CSS編集画面!$B$10:$F$22
Name ______ＴＢＬ２: [1]CSS編集画面!$B$24:$I$35
Name _____ＴＢＬ１: [1]CSS編集画面!$B$10:$F$22
Name _____ＴＢＬ２: [1]CSS編集画面!$B$24:$I$35
Name ____ＴＢＬ１: [1]CSS編集画面!$B$10:$F$22
Name ____ＴＢＬ２: [1]CSS編集画面!$B$24:$I$35
Name ___ＴＢＬ１: [1]CSS編集画面!$B$10:$F$22
Name ___ＴＢＬ２: [1]CSS編集画面!$B$24:$I$35
Name __ＴＢＬ１: [1]CSS編集画面!$B$10:$F$22
Name __ＴＢＬ２: [1]CSS編集画面!$B$24:$I$35
Name _ＴＢＬ１: [1]CSS編集画面!$B$10:$F$22
Name _ＴＢＬ２: [1]CSS編集画面!$B$24:$I$35
Name PAGE1: #REF!
Name PAGE10: #REF!
Name PAGE100: #REF!
Name PAGE1000: #REF!
Name PAGE1001: #REF!
Name PAGE1002: #REF!
Name PAGE1003: #REF!
Name PAGE1004: #REF!
Name PAGE1005: #REF!
Name PAGE1006: #REF!
Name PAGE1007: #REF!
Name PAGE1008: #REF!
Name PAGE1009: #REF!
Name PAGE101: #REF!
Name PAGE1010: #REF!
Name PAGE1011: #REF!

Sheet 4-1-1
A1: 表4－1－1 会計帳簿等の作成状況＜資金繰表等＞
W3: （単位：社、％）
C4: 資本金 | D4: 個 人 | F4: 法 人 | V4: 合 計
A5: 業種 | C5: 作成状況 | F5: 500万円未満 | H5: 500万円以上 1000万円未満 | J5: 1000万円以上 3000万円未満 | L5: 3000万円以上 5000万円未満 | N5: 5000万円以上 1億円未満 | P5: 1億円以上 3億円未満 | R5: 3億円以上 10億円未満 | T5: 10億円以上
A6: 一般土木建築 | B6: 一般土木 建築工事業 | C6: 社内で作成 | D6: 198 | E6: 50 | F6: 462 | G6: 60 | H6: 541.14286 | I6: 57.142857 | J6: 1807.08 | K6: 66 | L6: 1043.4211 | M6: 68.421053 | N6: 616.07273 | O6: 78.181818 | P6: 160.64286 | Q6: 92.857143 | R6: 26 | S6: 100 | T6: 52 | U6: 100 | V6: 4906.3595 | W6: 66.168031
C7: 社外へ一部委託 | J7: 219.04 | K7: 8 | L7: 80.263158 | M7: 5.2631579 | N7: 71.636364 | O7: 9.0909091 | P7: 4.1190476 | Q7: 2.3809524 | V7: 375.05857 | W7: 5.0581061
C8: 社外へ全部委託 | H8: 135.28571 | I8: 14.285714 | J8: 219.04 | K8: 8 | L8: 40.131579 | M8: 2.6315789 | N8: 28.654545 | O8: 3.6363636 | V8: 423.11184 | W8: 5.706161
C9: 作成していない | D9: 198 | E9: 50 | F9: 308 | G9: 40 | H9: 270.57143 | I9: 28.571429 | J9: 492.84 | K9: 18 | L9: 361.18421 | M9: 23.684211 | N9: 71.636364 | O9: 9.0909091 | P9: 8.2380952 | Q9: 4.7619048 | V9: 1710.4701 | W9: 23.067702
C10: 小 計 | D10: 396 | E10: 100 | F10: 770 | G10: 100 | H10: 947 | I10: 100 | J10: 2738 | K10: 100 | L10: 1525 | M10: 100 | N10: 788 | O10: 100 | P10: 173 | Q10: 100 | R10: 26 | S10: 100 | T10: 52 | U10: 100 | V10: 7415 | W10: 100
A11: 土木 | B11: 土木工事業 | C11: 社内で作成 | D11: 505.25 | E11: 25 | F11: 2586.25 | G11: 41.666667 | H11: 2458.9831 | I11: 40.677966 | J11: 5917 | K11: 50 | L11: 2686.6585 | M11: 71.95122 | N11: 811.16949 | O11: 72.881356 | P11: 93.34375 | Q11: 90.625 | R11: 18 | S11: 100 | T11: 20 | U11: 100 | V11: 15096.655 | W11: 48.550104
C12: 社外へ一部委託 | D12: 168.41667 | E12: 8.3333333 | F12: 387.9375 | G12: 6.25 | H12: 204.91525 | I12: 3.3898305 | J12: 1401.3947 | K12: 11.842105 | L12: 318.7561 | M12: 8.5365854 | N12: 94.322034 | O12: 8.4745763 | V12: 2575.7423 | W12: 8.2834613
C13: 社外へ全部委託 | F13: 517.25 | G13: 8.3333333 | H13: 819.66102 | I13: 13.559322 | J13: 622.84211 | K13: 5.2631579 | L13: 136.60976 | M13: 3.6585366 | N13: 37.728814 | O13: 3.3898305 | P13: 3.21875 | Q13: 3.125 | V13: 2137.3104 | W13: 6.8734859
C14: 作成していない | D14: 1347.3333 | E14: 66.666667 | F14: 2715.5625 | G14: 43.75 | H14: 2561.4407 | I14: 42.372881 | J14: 3892.7632 | K14: 32.894737 | L14: 591.97561 | M14: 15.853659 | N14: 169.77966 | O14: 15.254237 | P14: 6.4375 | Q14: 6.25 | V14: 11285.292 | W14: 36.292949
C15: 小 計 | D15: 2021 | E15: 100 | F15: 6207 | G15: 100 | H15: 6045 | I15: 100 | J15: 11834 | K15: 100 | L15: 3734 | M15: 100 | N15: 1113 | O15: 100 | P15: 103 | Q15: 100 | R15: 18 | S15: 100 | T15: 20 | U15: 100 | V15: 31095 | W15: 100
B16: ほ装工事業 | C16: 社内で作成 | D16: 4.8333333 | E16: 16.666667 | F16: 336.06897 | G16: 37.931034 | H16: 207.95833 | I16: 29.166667 | J16: 929.33333 | K16: 66.666667 | L16: 231.15217 | M16: 67.391304 | N16: 82.322581 | O16: 70.967742 | P16: 10 | Q16: 100 | T16: 6 | U16: 100 | V16: 1807.6687 | W16: 51.691985
C17: 社外へ一部委託 | D17: 4.8333333 | E17: 16.666667 | F17: 61.103448 | G17: 6.8965517 | H17: 89.125 | I17: 12.5 | J17: 66.380952 | K17: 4.7619048 | L17: 7.4565217 | M17: 2.173913 | N17: 7.483871 | O17: 6.4516129 | V17: 236.38313 | W17: 6.7595976
C18: 社外へ全部委託 | D18: 4.8333333 | E18: 16.666667 | F18: 183.31034 | G18: 20.689655 | H18: 118.83333 | I18: 16.666667 | L18: 14.913043 | M18: 4.3478261 | V18: 321.89005 | W18: 9.2047485
C19: 作成していない | D19: 14.5 | E19: 50 | F19: 305.51724 | G19: 34.482759 | H19: 297.08333 | I19: 41.666667 | J19: 398.28571 | K19: 28.571429 | L19: 89.478261 | M19: 26.086957 | N19: 26.193548 | O19: 22.580645 | V19: 1131.0581 | W19: 32.343669
C20: 小 計 | D20: 29 | E20: 100 | F20: 886 | G20: 100 | H20: 713 | I20: 100 | J20: 1394 | K20: 100 | L20: 343 | M20: 100 | N20: 116 | O20: 100 | P20: 10 | Q20: 100 | T20: 6 | U20: 100 | V20: 3497 | W20: 100
B21: しゅんせつ 工事業 | C21: 社内で作成 | J21: 46 | K21: 100 | L21: 27 | M21: 100 | N21: 8 | O21: 100 | V21: 81 | W21: 54
C22: 社外へ一部委託 | H22: 69 | I22: 100 | V22: 69 | W22: 46
C23: 社外へ全部委託
C24: 作成していない
C25: 小 計 | H25: 69 | I25: 100 | J25: 46 | K25: 100 | L25: 27 | M25: 100 | N25: 8 | O25: 100 | V25: 150 | W25: 100
B26: 造園工事業 | C26: 社内で作成 | D26: 406 | E26: 100 | F26: 129.8 | G26: 20 | H26: 215.25 | I26: 58.333333 | J26: 421.78723 | K26: 59.574468 | L26: 90.702128 | M26: 61.702128 | N26: 26 | O26: 76.470588 | V26: 1289.5394 | W26: 55.75181
C27: 社外へ一部委託 | F27: 129.8 | G27: 20 | J27: 75.319149 | K27: 10.638298 | L27: 9.3829787 | M27: 6.3829787 | N27: 2 | O27: 5.8823529 | V27: 216.50213 | W27: 9.3602303
C28: 社外へ全部委託 | F28: 259.6 | G28: 40 | H28: 30.75 | I28: 8.3333333 | J28: 30.12766 | K28: 4.2553191 | L28: 3.1276596 | M28: 2.1276596 | V28: 323.60532 | W28: 13.990719
C29: 作成していない | F29: 129.8 | G29: 20 | H29: 123 | I29: 33.333333 | J29: 180.76596 | K29: 25.531915 | L29: 43.787234 | M29: 29.787234 | N29: 6 | O29: 17.647059 | V29: 483.35319 | W29: 20.897241
C30: 小 計 | D30: 406 | E30: 100 | F30: 649 | G30: 100 | H30: 369 | I30: 100 | J30: 708 | K30: 100 | L30: 147 | M30: 100 | N30: 34 | O30: 100 | V30: 2313 | W30: 100
B31: 水道施設 工事業 | C31: 社内で作成 | F31: 119.38462 | G31: 30.769231 | H31: 237.77778 | I31: 55.555556 | J31: 410.89189 | K31: 62.162162 | L31: 98.75 | M31: 62.5 | N31: 32 | O31: 66.666667 | P31: 3 | Q31: 100 | V31: 901.80429 | W31: 51.502244
C32: 社外へ一部委託 | F32: 89.538462 | G32: 23.076923 | L32: 19.75 | M32: 12.5 | V32: 109.28846 | W32: 6.2414884
C33: 社外へ全部委託 | F33: 29.846154 | G33: 7.6923077 | H33: 95.111111 | I33: 22.222222 | J33: 17.864865 | K33: 2.7027027 | N33: 5.3333333 | O33: 11.111111 | V33: 148.15546 | W33: 8.4611915
C34: 作成していない | D34: 65 | E34: 100 | F34: 149.23077 | G34: 38.461538 | H34: 95.111111 | I34: 22.222222 | J34: 232.24324 | K34: 35.135135 | L34: 39.5 | M34: 25 | N34: 10.666667 | O34: 22.222222 | V34: 591.75179 | W34: 33.795077
C35: 小 計 | D35: 65 | E35: 100 | F35: 388 | G35: 100 | H35: 428 | I35: 100 | J35: 661 | K35: 100 | L35: 158 | M35: 100 | N35: 48 | O35: 100 | P35: 3 | Q35: 100 | V35: 1751 | W35: 100
B36: 小 計 | C36: 社内で作成 | D36: 916.08333 | E36: 36.338093 | F36: 3171.5036 | G36: 39.009884 | H36: 3119.9692 | I36: 40.922995 | J36: 7725.0125 | K36: 52.755668 | L36: 3134.2628 | M36: 71.087839 | N36: 959.49207 | O36: 72.743902 | P36: 106.34375 | Q36: 91.675647 | R36: 18 | S36: 100 | T36: 26 | U36: 100 | V36: 19176.667 | W36: 49.416758
C37: 社外へ一部委託 | D37: 173.25 | E37: 6.8722729 | F37: 668.37941 | G37: 8.221149 | H37: 363.04025 | I37: 4.7618082 | J37: 1543.0948 | K37: 10.538106 | L37: 355.3456 | M37: 8.0595509 | N37: 103.8059 | O37: 7.8700459 | V37: 3206.916 | W37: 8.2639695
C38: 社外へ全部委託 | D38: 4.8333333 | E38: 0.19172286 | F38: 990.0065 | G38: 12.177202 | H38: 1064.3555 | I38: 13.960591 | J38: 670.83463 | K38: 4.581265 | L38: 154.65046 | M38: 3.5076085 | N38: 43.062147 | O38: 3.2647572 | P38: 3.21875 | Q38: 2.7747845 | V38: 2930.9613 | W38: 7.5528559
C39: 作成していない | D39: 1426.8333 | E39: 56.597911 | F39: 3300.1105 | G39: 40.591765 | H39: 3076.6351 | I39: 40.354605 | J39: 4704.0581 | K39: 32.124961 | L39: 764.7411 | M39: 17.345001 | N39: 212.63988 | O39: 16.121295 | P39: 6.4375 | Q39: 5.549569 | V39: 13491.456 | W39: 34.766416
C40: 小 計 | D40: 2521 | E40: 100 | F40: 8130 | G40: 100 | H40: 7624 | I40: 100 | J40: 14643 | K40: 100 | L40: 4409 | M40: 100 | N40: 1319 | O40: 100 | P40: 116 | Q40: 100 | R40: 18 | S40: 100 | T40: 26 | U40: 100 | V40: 38806 | W40: 100
A41: 建築 | B41: 建築工事業 | C41: 社内で作成 | D41: 4122.5263 | E41: 42.105263 | F41: 7476.8571 | G41: 39.285714 | H41: 7195.1944 | I41: 52.777778 | J41: 17877 | K41: 77.631579 | L41: 4002.4615 | M41: 73.846154 | N41: 1664.5345 | O41: 87.931034 | P41: 297.14286 | Q41: 91.428571 | R41: 46.421053 | S41: 94.736842 | T41: 44 | U41: 100 | V41: 42726.138 | W41: 58.357082
C42: 社外へ一部委託 | D42: 1030.6316 | E42: 10.526316 | F42: 1359.4286 | G42: 7.1428571 | H42: 1136.0833 | I42: 8.3333333 | J42: 303 | K42: 1.3157895 | L42: 333.53846 | M42: 6.1538462 | N42: 130.55172 | O42: 6.8965517 | P42: 9.2857143 | Q42: 2.8571429 | V42: 4302.5194 | W42: 5.8765545
C43: 社外へ全部委託 | D43: 1030.6316 | E43: 10.526316 | F43: 2039.1429 | G43: 10.714286 | H43: 3029.5556 | I43: 22.222222 | J43: 1212 | K43: 5.2631579 | L43: 333.53846 | M43: 6.1538462 | N43: 32.637931 | O43: 1.7241379 | V43: 7677.5064 | W43: 10.486248
C44: 作成していない | D44: 3607.2105 | E44: 36.842105 | F44: 8156.5714 | G44: 42.857143 | H44: 2272.1667 | I44: 16.666667 | J44: 3636 | K44: 15.789474 | L44: 750.46154 | M44: 13.846154 | N44: 65.275862 | O44: 3.4482759 | P44: 18.571429 | Q44: 5.7142857 | R44: 2.5789474 | S44: 5.2631579 | V44: 18508.836 | W44: 25.280115
C45: 小 計 | D45: 9791 | E45: 100 | F45: 19032 | G45: 100 | H45: 13633 | I45: 100 | J45: 23028 | K45: 100 | L45: 5420 | M45: 100 | N45: 1893 | O45: 100 | P45: 325 | Q45: 100 | R45: 49 | S45: 100 | T45: 44 | U45: 100 | V45: 73215 | W45: 100
B46: 木造建築 工事業 | C46: 社内で作成 | D46: 950.18182 | E46: 18.181818 | F46: 1798.3103 | G46: 37.931034 | H46: 1680.814 | I46: 58.139535 | J46: 2287.8 | K46: 68.888889 | L46: 267.82353 | M46: 85.294118 | N46: 81.304348 | O46: 73.913043 | P46: 39.416667 | Q46: 91.666667 | R46: 2 | S46: 100 | T46: 4 | U46: 100 | V46: 7111.6507 | W46: 42.707487
C47: 社外へ一部委託 | F47: 817.41379 | G47: 17.241379 | H47: 268.93023 | I47: 9.3023256 | J47: 147.6 | K47: 4.4444444 | L47: 18.470588 | M47: 5.8823529 | N47: 14.347826 | O47: 13.043478 | V47: 1266.7624 | W47: 7.607269
C48: 社外へ全部委託 | D48: 475.09091 | E48: 9.0909091 | F48: 326.96552 | G48: 6.8965517 | H48: 201.69767 | I48: 6.9767442 | J48: 369 | K48: 11.111111 | V48: 1372.7541 | W48: 8.2437791
C49: 作成していない | D49: 3800.7273 | E49: 72.727273 | F49: 1798.3103 | G49: 37.931034 | H49: 739.55814 | I49: 25.581395 | J49: 516.6 | K49: 15.555556 | L49: 27.705882 | M49: 8.8235294 | N49: 14.347826 | O49: 13.043478 | P49: 3.5833333 | Q49: 8.3333333 | V49: 6900.8328 | W49: 41.441465
C50: 小 計 | D50: 5226 | E50: 100 | F50: 4741 | G50: 100 | H50: 2891 | I50: 100 | J50: 3321 | K50: 100 | L50: 314 | M50: 100 | N50: 110 | O50: 100 | P50: 43 | Q50: 100 | R50: 2 | S50: 100 | T50: 4 | U50: 100 | V50: 16652 | W50: 100
B51: 小 計 | C51: 社内で作成 | D51: 5072.7081 | E51: 33.77977 | F51: 9275.1675 | G51: 39.015553 | H51: 8876.0084 | I51: 53.715858 | J51: 20164.8 | K51: 76.52966 | L51: 4270.2851 | M51: 74.473057 | N51: 1745.8388 | O51: 87.1612 | P51: 336.55952 | Q51: 91.456392 | R51: 48.421053 | S51: 94.94324 | T51: 48 | U51: 100 | V51: 49837.788 | W51: 55.457274
C52: 社外へ一部委託 | D52: 1030.6316 | E52: 6.863099 | F52: 2176.8424 | G52: 9.1567844 | H52: 1405.0136 | I52: 8.5028659 | J52: 450.6 | K52: 1.7101218 | L52: 352.00905 | M52: 6.1389789 | N52: 144.89955 | O52: 7.2341263 | P52: 9.2857143 | Q52: 2.5232919 | V52: 5569.2818 | W52: 6.1972491
C53: 社外へ全部委託 | D53: 1505.7225 | E53: 10.026786 | F53: 2366.1084 | G53: 9.952923 | H53: 3231.2532 | I53: 19.554909 | J53: 1581 | K53: 6.0002277 | L53: 333.53846 | M53: 5.8168549 | N53: 32.637931 | O53: 1.6294524 | V53: 9050.2605 | W53: 10.070727
C54: 作成していない | D54: 7407.9378 | E54: 49.330344 | F54: 9954.8818 | G54: 41.874739 | H54: 3011.7248 | I54: 18.226367 | J54: 4152.6 | K54: 15.759991 | L54: 778.16742 | M54: 13.57111 | N54: 79.623688 | O54: 3.9752216 | P54: 22.154762 | Q54: 6.0203157 | R54: 2.5789474 | S54: 5.0567595 | V54: 25409.669 | W54: 28.27475
C55: 小 計 | D55: 15017 | E55: 100 | F55: 23773 | G55: 100 | H55: 16524 | I55: 100 | J55: 26349 | K55: 100 | L55: 5734 | M55: 100 | N55: 2003 | O55: 100 | P55: 368 | Q55: 100 | R55: 51 | S55: 100 | T55: 48 | U55: 100 | V55: 89867 | W55: 100
A56: 職別 | B56: 大工工事業 | C56: 社内で作成 | D56: 909.6 | E56: 40 | F56: 894.82927 | G56: 39.02439 | H56: 647.80952 | I56: 45.238095 | J56: 839.76596 | K56: 61.702128 | L56: 55.04 | M56: 64 | N56: 28.875 | O56: 68.75 | P56: 1.6666667 | Q56: 33.333333 | V56: 3377.5864 | W56: 45.076557
C57: 社外へ一部委託 | F57: 111.85366 | G57: 4.8780488 | H57: 204.57143 | I57: 14.285714 | J57: 115.82979 | K57: 8.5106383 | L57: 3.44 | M57: 4 | N57: 2.625 | O57: 6.25 | P57: 3.3333333 | Q57: 66.666667 | V57: 441.65321 | W57: 5.8942107
C58: 社外へ全部委託 | D58: 151.6 | E58: 6.6666667 | F58: 335.56098 | G58: 14.634146 | H58: 136.38095 | I58: 9.5238095 | J58: 57.914894 | K58: 4.2553191 | L58: 6.88 | M58: 8 | V58: 688.33682 | W58: 9.1863983
C59: 作成していない | D59: 1212.8 | E59: 53.333333 | F59: 950.7561 | G59: 41.463415 | H59: 443.2381 | I59: 30.952381 | J59: 347.48936 | K59: 25.531915 | L59: 20.64 | M59: 24 | N59: 10.5 | O59: 25 | V59: 2985.4236 | W59: 39.842834
C60: 小 計 | D60: 2274 | E60: 100 | F60: 2293 | G60: 100 | H60: 1432 | I60: 100 | J60: 1361 | K60: 100 | L60: 86 | M60: 100 | N60: 42 | O60: 100 | P60: 5 | Q60: 100 | V60: 7493 | W60: 100
A61: 職別 | B61: とび・土工・ コンクリート 工事業 | C61: 社内で作成 | D61: 333.92308 | E61: 23.076923 | F61: 2947.8 | G61: 37.777778 | H61: 1863.7674 | I61: 43.023256 | J61: 2197.272 | K61: 61.6 | L61: 253.07692 | M61: 76.923077 | N61: 122.56452 | O61: 82.258065 | P61: 30.555556 | Q61: 92.592593 | R61: 2 | S61: 100 | T61: 1 | U61: 100 | V61: 7751.9595 | W61: 43.888125
C62: 社外へ一部委託 | D62: 111.30769 | E62: 7.6923077 | F62: 520.2 | G62: 6.6666667 | H62: 654.83721 | I62: 15.116279 | J62: 285.36 | K62: 8 | L62: 21.692308 | M62: 6.5934066 | N62: 4.8064516 | O62: 3.2258065 | P62: 2.4444444 | Q62: 7.4074074 | V62: 1600.6481 | W62: 9.0621531
C63: 社外へ全部委託 | D63: 222.61538 | E63: 15.384615 | F63: 780.3 | G63: 10 | H63: 251.86047 | I63: 5.8139535 | J63: 171.216 | K63: 4.8 | L63: 21.692308 | M63: 6.5934066 | N63: 4.8064516 | O63: 3.2258065 | V63: 1452.4906 | W63: 8.2233517
C64: 作成していない | D64: 779.15385 | E64: 53.846154 | F64: 3554.7 | G64: 45.555556 | H64: 1561.5349 | I64: 36.046512 | J64: 913.152 | K64: 25.6 | L64: 32.538462 | M64: 9.8901099 | N64: 16.822581 | O64: 11.290323 | V64: 6857.9018 | W64: 38.82637
C65: 小 計 | D65: 1447 | E65: 100 | F65: 7803 | G65: 100 | H65: 4332 | I65: 100 | J65: 3567 | K65: 100 | L65: 329 | M65: 100 | N65: 149 | O65: 100 | P65: 33 | Q65: 100 | R65: 2 | S65: 100 | T65: 1 | U65: 100 | V65: 17663 | W65: 100
B66: 鋼構造物 工事業 | C66: 社内で作成 | D66: 27.125 | E66: 12.5 | F66: 559.28571 | G66: 35.714286 | H66: 278.92857 | I66: 35.714286 | J66: 1348.6842 | K66: 71.929825 | L66: 117.2093 | M66: 69.767442 | N66: 72.625 | O66: 87.5 | P66: 9 | Q66: 100 | R66: 5 | S66: 100 | T66: 3 | U66: 100 | V66: 2420.8578 | W66: 51.431013
C67: 社外へ一部委託 | D67: 27.125 | E67: 12.5 | F67: 111.85714 | G67: 7.1428571 | H67: 139.46429 | I67: 17.857143 | J67: 65.789474 | K67: 3.5087719 | L67: 19.534884 | M67: 11.627907 | V67: 363.77079 | W67: 7.7282937
C68: 社外へ全部委託 | D68: 27.125 | E68: 12.5 | F68: 223.71429 | G68: 14.285714 | H68: 83.678571 | I68: 10.714286 | L68: 7.8139535 | M68: 4.6511628 | N68: 4.15 | O68: 5 | V68: 346.48181 | W68: 7.3609902
C69: 作成していない | D69: 135.625 | E69: 62.5 | F69: 671.14286 | G69: 42.857143 | H69: 278.92857 | I69: 35.714286 | J69: 460.52632 | K69: 24.561404 | L69: 23.44186 | M69: 13.953488 | N69: 6.225 | O69: 7.5 | V69: 1575.8896 | W69: 33.479703
C70: 小 計 | D70: 217 | E70: 100 | F70: 1566 | G70: 100 | H70: 781 | I70: 100 | J70: 1875 | K70: 100 | L70: 168 | M70: 100 | N70: 83 | O70: 100 | P70: 9 | Q70: 100 | R70: 5 | S70: 100 | T70: 3 | U70: 100 | V70: 4707 | W70: 100
B71: 鉄筋工事業 | C71: 社内で作成 | F71: 444.6129 | G71: 35.483871 | H71: 294.375 | I71: 37.5 | J71: 474.95556 | K71: 64.444444 | L71: 33.571429 | M71: 71.428571 | N71: 22 | O71: 100 | V71: 1269.5149 | W71: 25.208794
C72: 社外へ一部委託 | F72: 121.25806 | G72: 9.6774194 | H72: 65.416667 | I72: 8.3333333 | J72: 16.377778 | K72: 2.2222222 | L72: 3.3571429 | M72: 7.1428571 | V72: 206.40965 | W72: 4.0986825
C73: 社外へ全部委託 | F73: 242.51613 | G73: 19.354839 | H73: 65.416667 | I73: 8.3333333 | J73: 49.133333 | K73: 6.6666667 | L73: 3.3571429 | M73: 7.1428571 | V73: 360.42327 | W73: 7.1569355
C74: 作成していない | D74: 2192 | E74: 100 | F74: 444.6129 | G74: 35.483871 | H74: 359.79167 | I74: 45.833333 | J74: 196.53333 | K74: 26.666667 | L74: 6.7142857 | M74: 14.285714 | V74: 3199.6522 | W74: 63.535588
C75: 小 計 | D75: 2192 | E75: 100 | F75: 1253 | G75: 100 | H75: 785 | I75: 100 | J75: 737 | K75: 100 | L75: 47 | M75: 100 | N75: 22 | O75: 100 | V75: 5036 | W75: 100
B76: 解体工事業 | C76: 社内で作成 | F76: 425.42857 | G76: 28.571429 | H76: 298.90909 | I76: 36.363636 | J76: 480.625 | K76: 62.5 | L76: 79.04 | M76: 52 | N76: 29.6 | O76: 80 | P76: 7 | Q76: 100 | V76: 1320.6027 | W76: 36.240468
C77: 社外へ一部委託 | F77: 531.78571 | G77: 35.714286 | H77: 74.727273 | I77: 9.0909091 | J77: 96.125 | K77: 12.5 | L77: 24.32 | M77: 16 | N77: 3.7 | O77: 10 | V77: 730.65799 | W77: 20.050988
C78: 社外へ全部委託 | D78: 368 | E78: 100 | H78: 74.727273 | I78: 9.0909091 | J78: 72.09375 | K78: 9.375 | L78: 18.24 | M78: 12 | V78: 533.06102 | W78: 14.628458
C79: 作成していない | F79: 531.78571 | G79: 35.714286 | H79: 373.63636 | I79: 45.454545 | J79: 120.15625 | K79: 15.625 | L79: 30.4 | M79: 20 | N79: 3.7 | O79: 10 | V79: 1059.6783 | W79: 29.080086
C80: 小 計 | D80: 368 | E80: 100 | F80: 1489 | G80: 100 | H80: 822 | I80: 100 | J80: 769 | K80: 100 | L80: 152 | M80: 100 | N80: 37 | O80: 100 | P80: 7 | Q80: 100 | V80: 3644 | W80: 100
B81: 躯体関係計 | C81: 社内で作成 | D81: 1270.6481 | E81: 19.554449 | F81: 5271.9565 | G81: 36.600642 | H81: 3383.7896 | I81: 41.508705 | J81: 5341.3027 | K81: 64.28334 | L81: 537.93765 | M81: 68.789981 | N81: 275.66452 | O81: 82.782137 | P81: 48.222222 | Q81: 89.300412 | R81: 7 | S81: 100 | T81: 4 | U81: 100 | V81: 16140.521 | W81: 41.876661
C82: 社外へ一部委託 | D82: 138.43269 | E82: 2.1303892 | F82: 1396.9546 | G82: 9.6983795 | H82: 1139.0169 | I82: 13.972238 | J82: 579.48204 | K82: 6.974149 | L82: 72.344334 | M82: 9.2511936 | N82: 11.131452 | O82: 3.3427783 | P82: 5.7777778 | Q82: 10.699588 | V82: 3343.1397 | W82: 8.6737922
C83: 社外へ全部委託 | D83: 769.34038 | E83: 11.839649 | F83: 1582.0914 | G83: 10.983695 | H83: 612.06393 | I83: 7.5081444 | J83: 350.35798 | K83: 4.2166082 | L83: 57.983404 | M83: 7.4147575 | N83: 8.9564516 | O83: 2.6896251 | V83: 3380.7935 | W83: 8.7714852
C84: 作成していない | D84: 4319.5788 | E84: 66.475513 | F84: 6152.9976 | G84: 42.717284 | H84: 3017.1296 | I84: 37.010912 | J84: 2037.8573 | K84: 24.525903 | L84: 113.73461 | M84: 14.544067 | N84: 37.247581 | O84: 11.18546 | V84: 15678.545 | W84: 40.678062
C85: 小 計 | D85: 6498 | E85: 100 | F85: 14404 | G85: 100 | H85: 8152 | I85: 100 | J85: 8309 | K85: 100 | L85: 782 | M85: 100 | N85: 333 | O85: 100 | P85: 54 | Q85: 100 | R85: 7 | S85: 100 | T85: 4 | U85: 100 | V85: 38543 | W85: 100
B86: 左官工事業 | C86: 社内で作成 | F86: 383.6 | G86: 28 | H86: 170.54545 | I86: 36.363636 | J86: 336.3 | K86: 63.333333 | L86: 15.272727 | M86: 72.727273 | N86: 8 | O86: 50 | V86: 913.71818 | W86: 26.858265
C87: 社外へ一部委託 | F87: 109.6 | G87: 8 | H87: 42.636364 | I87: 9.0909091 | J87: 17.7 | K87: 3.3333333 | V87: 169.93636 | W87: 4.99519
C88: 社外へ全部委託 | F88: 109.6 | G88: 8 | H88: 42.636364 | I88: 9.0909091 | J88: 17.7 | K88: 3.3333333 | L88: 1.9090909 | M88: 9.0909091 | V88: 171.84545 | W88: 5.0513067
C89: 作成していない | D89: 995 | E89: 100 | F89: 767.2 | G89: 56 | H89: 213.18182 | I89: 45.454545 | J89: 159.3 | K89: 30 | L89: 3.8181818 | M89: 18.181818 | N89: 8 | O89: 50 | V89: 2146.5 | W89: 63.095238
C90: 小 計 | D90: 995 | E90: 100 | F90: 1370 | G90: 100 | H90: 469 | I90: 100 | J90: 531 | K90: 100 | L90: 21 | M90: 100 | N90: 16 | O90: 100 | V90: 3402 | W90: 100
B91: 石工事業 | C91: 社内で作成 | F91: 271.5 | G91: 50 | H91: 48.25 | I91: 25 | J91: 267.23529 | K91: 64.705882 | L91: 19.8 | M91: 60 | N91: 16 | O91: 100 | V91: 622.78529 | W91: 51.985417
C92: 社外へ一部委託 | H92: 16.083333 | I92: 8.3333333 | J92: 24.294118 | K92: 5.8823529 | V92: 40.377451 | W92: 3.3704049
C93: 社外へ全部委託 | F93: 271.5 | G93: 50 | H93: 80.416667 | I93: 41.666667 | J93: 48.588235 | K93: 11.764706 | V93: 400.5049 | W93: 33.431127
C94: 作成していない | H94: 48.25 | I94: 25 | J94: 72.882353 | K94: 17.647059 | L94: 13.2 | M94: 40 | V94: 134.33235 | W94: 11.213051
C95: 小 計 | F95: 543 | G95: 100 | H95: 193 | I95: 100 | J95: 413 | K95: 100 | L95: 33 | M95: 100 | N95: 16 | O95: 100 | V95: 1198 | W95: 100
B96: 屋根工事業 | C96: 社内で作成 | D96: 170.66667 | E96: 22.222222 | F96: 398.8125 | G96: 28.125 | H96: 423.73913 | I96: 47.826087 | J96: 466.08696 | K96: 57.971014 | L96: 56.32 | M96: 64 | N96: 7.2857143 | O96: 42.857143 | V96: 1522.911 | W96: 38.254483
C97: 社外へ一部委託 | F97: 132.9375 | G97: 9.375 | J97: 23.304348 | K97: 2.8985507 | L97: 14.08 | M97: 16 | N97: 2.4285714 | O97: 14.285714 | V97: 172.75042 | W97: 4.3393725
C98: 社外へ全部委託 | D98: 85.333333 | E98: 11.111111 | F98: 132.9375 | G98: 9.375 | H98: 115.56522 | I98: 13.043478 | J98: 69.913043 | K98: 8.6956522 | L98: 3.52 | M98: 4 | V98: 407.26909 | W98: 10.230321
C99: 作成していない | D99: 512 | E99: 66.666667 | F99: 753.3125 | G99: 53.125 | H99: 346.69565 | I99: 39.130435 | J99: 244.69565 | K99: 30.434783 | L99: 14.08 | M99: 16 | N99: 7.2857143 | O99: 42.857143 | V99: 1878.0695 | W99: 47.175823
C100: 小 計 | D100: 768 | E100: 100 | F100: 1418 | G100: 100 | H100: 886 | I100: 100 | J100: 804 | K100: 100 | L100: 88 | M100: 100 | N100: 17 | O100: 100 | V100: 3981 | W100: 100
B101: ﾀｲﾙ・れんが・ ﾌﾞﾛｯｸ工事業 | C101: 社内で作成 | F101: 290.18182 | G101: 36.363636 | H101: 186.66667 | I101: 66.666667 | J101: 357.81818 | K101: 54.545455 | L101: 36.684211 | M101: 89.473684 | N101: 25 | O101: 100 | P101: 2 | Q101: 100 | V101: 898.35088 | W101: 48.823417
...

Sheet 4-1-2
A1: 表4－1－2 会計帳簿等の作成状況（経年変化）＜資金繰表等＞
V3: （単位：社、％）
B4: 資本金 | C4: 個 人 | E4: 法 人 | U4: 合 計
A5: 年度 | B5: 作成状況 | E5: 500万円未満 | G5: 500万円以上 1000万円未満 | I5: 1000万円以上 3000万円未満 | K5: 3000万円以上 5000万円未満 | M5: 5000万円以上 1億円未満 | O5: 1億円以上 3億円未満 | Q5: 3億円以上 10億円未満 | S5: 10億円以上
A6: R06年度 | B6: 社内で作成 | C6: =IF('4-1-1'!D186<>"",'4-1-1'!D186,"") -> 10586.134 | D6: =IF('4-1-1'!E186<>"",'4-1-1'!E186,"") -> 21.779032 | E6: =IF('4-1-1'!F186<>"",'4-1-1'!F186,"") -> 35209.071 | F6: =IF('4-1-1'!G186<>"",'4-1-1'!G186,"") -> 38.448764 | G6: =IF('4-1-1'!H186<>"",'4-1-1'!H186,"") -> 26266.787 | H6: =IF('4-1-1'!I186<>"",'4-1-1'!I186,"") -> 45.289126 | I6: =IF('4-1-1'!J186<>"",'4-1-1'!J186,"") -> 55048.076 | J6: =IF('4-1-1'!K186<>"",'4-1-1'!K186,"") -> 64.982619 | ... V6: =IF('4-1-1'!W186<>"",'4-1-1'!W186,"") -> 47.228732
B7: 社外へ一部委託 | C7: =IF('4-1-1'!D187<>"",'4-1-1'!D187,"") -> 1577.7204 | D7: =IF('4-1-1'!E187<>"",'4-1-1'!E187,"") -> 3.2458707 | E7: =IF('4-1-1'!F187<>"",'4-1-1'!F187,"") -> 8939.806 | F7: =IF('4-1-1'!G187<>"",'4-1-1'!G187,"") -> 9.7623845 | G7: =IF('4-1-1'!H187<>"",'4-1-1'!H187,"") -> 4523.5189 | H7: =IF('4-1-1'!I187<>"",'4-1-1'!I187,"") -> 7.7994395 | I7: =IF('4-1-1'!J187<>"",'4-1-1'!J187,"") -> 5293.5091 | J7: =IF('4-1-1'!K187<>"",'4-1-1'!K187,"") -> 6.2488303 | ... V7: =IF('4-1-1'!W187<>"",'4-1-1'!W187,"") -> 7.1529812
B8: 社外へ全部委託 | C8: =IF('4-1-1'!D188<>"",'4-1-1'!D188,"") -> 3172.6105 | D8: =IF('4-1-1'!E188<>"",'4-1-1'!E188,"") -> 6.527065 | E8: =IF('4-1-1'!F188<>"",'4-1-1'!F188,"") -> 9311.7438 | F8: =IF('4-1-1'!G188<>"",'4-1-1'!G188,"") -> 10.168545 | G8: =IF('4-1-1'!H188<>"",'4-1-1'!H188,"") -> 8141.9252 | H8: =IF('4-1-1'!I188<>"",'4-1-1'!I188,"") -> 14.038286 | I8: =IF('4-1-1'!J188<>"",'4-1-1'!J188,"") -> 4822.3486 | J8: =IF('4-1-1'!K188<>"",'4-1-1'!K188,"") -> 5.6926392 | ... V8: =IF('4-1-1'!W188<>"",'4-1-1'!W188,"") -> 8.6130425
B9: 作成していない | C9: =IF('4-1-1'!D189<>"",'4-1-1'!D189,"") -> 33270.535 | D9: =IF('4-1-1'!E189<>"",'4-1-1'!E189,"") -> 68.448032 | E9: =IF('4-1-1'!F189<>"",'4-1-1'!F189,"") -> 38113.379 | F9: =IF('4-1-1'!G189<>"",'4-1-1'!G189,"") -> 41.620306 | G9: =IF('4-1-1'!H189<>"",'4-1-1'!H189,"") -> 19065.769 | H9: =IF('4-1-1'!I189<>"",'4-1-1'!I189,"") -> 32.873149 | I9: =IF('4-1-1'!J189<>"",'4-1-1'!J189,"") -> 19548.066 | J9: =IF('4-1-1'!K189<>"",'4-1-1'!K189,"") -> 23.075911 | ... V9: =IF('4-1-1'!W189<>"",'4-1-1'!W189,"") -> 37.005244
C10: =IF('4-1-1'!D190<>"",'4-1-1'!D190,"") -> 48607 | D10: =IF('4-1-1'!E190<>"",'4-1-1'!E190,"") -> 100 | E10: =IF('4-1-1'!F190<>"",'4-1-1'!F190,"") -> 91574 | F10: =IF('4-1-1'!G190<>"",'4-1-1'!G190,"") -> 100 | G10: =IF('4-1-1'!H190<>"",'4-1-1'!H190,"") -> 57998 | H10: =IF('4-1-1'!I190<>"",'4-1-1'!I190,"") -> 100 | I10: =IF('4-1-1'!J190<>"",'4-1-1'!J190,"") -> 84712 | J10: =IF('4-1-1'!K190<>"",'4-1-1'!K190,"") -> 100 | ... V10: =IF('4-1-1'!W190<>"",'4-1-1'!W190,"") -> 100
A11: 増減 | B11: 社内で作成 | D11: =IF(AND(ISNUMBER(D6),ISNUMBER(D16)),D6-D16,"") -> -6.4209679 | F11: =IF(AND(ISNUMBER(F6),ISNUMBER(F16)),F6-F16,"") -> -0.25123606 | H11: =IF(AND(ISNUMBER(H6),ISNUMBER(H16)),H6-H16,"") -> 1.6891257 | J11: =IF(AND(ISNUMBER(J6),ISNUMBER(J16)),J6-J16,"") -> -3.4173807 | L11: =IF(AND(ISNUMBER(L6),ISNUMBER(L16)),L6-L16,"") -> -5.489172 | N11: =IF(AND(ISNUMBER(N6),ISNUMBER(N16)),N6-N16,"") -> -6.9426375 | P11: =IF(AND(ISNUMBER(P6),ISNUMBER(P16)),P6-P16,"") -> -2.824952 | R11: =IF(AND(ISNUMBER(R6),ISNUMBER(R16)),R6-R16,"") -> 0.90371517 | T11: =IF(AND(ISNUMBER(T6),ISNUMBER(T16)),T6-T16,"") -> 1.6 | V11: =IF(AND(ISNUMBER(V6),ISNUMBER(V16)),V6-V16,"") -> -6.4712679
B12: 社外へ一部委託 | D12: =IF(AND(ISNUMBER(D7),ISNUMBER(D17)),D7-D17,"") -> 0.34587072 | F12: =IF(AND(ISNUMBER(F7),ISNUMBER(F17)),F7-F17,"") -> 2.1623845 | H12: =IF(AND(ISNUMBER(H7),ISNUMBER(H17)),H7-H17,"") -> -3.9005605 | J12: =IF(AND(ISNUMBER(J7),ISNUMBER(J17)),J7-J17,"") -> 1.6488303 | L12: =IF(AND(ISNUMBER(L7),ISNUMBER(L17)),L7-L17,"") -> 3.3139831 | N12: =IF(AND(ISNUMBER(N7),ISNUMBER(N17)),N7-N17,"") -> 4.323858 | P12: =IF(AND(ISNUMBER(P7),ISNUMBER(P17)),P7-P17,"") -> 0.32859848 | R12: =IF(AND(ISNUMBER(R7),ISNUMBER(R17)),R7-R17,"") | T12: =IF(AND(ISNUMBER(T7),ISNUMBER(T17)),T7-T17,"") | V12: =IF(AND(ISNUMBER(V7),ISNUMBER(V17)),V7-V17,"") -> 0.85298124
B13: 社外へ全部委託 | D13: =IF(AND(ISNUMBER(D8),ISNUMBER(D18)),D8-D18,"") -> -1.772935 | F13: =IF(AND(ISNUMBER(F8),ISNUMBER(F18)),F8-F18,"") -> -0.83145459 | H13: =IF(AND(ISNUMBER(H8),ISNUMBER(H18)),H8-H18,"") -> 5.1382861 | J13: =IF(AND(ISNUMBER(J8),ISNUMBER(J18)),J8-J18,"") -> 2.0926392 | L13: =IF(AND(ISNUMBER(L8),ISNUMBER(L18)),L8-L18,"") -> 0.31952985 | N13: =IF(AND(ISNUMBER(N8),ISNUMBER(N18)),N8-N18,"") -> 1.7357018 | P13: =IF(AND(ISNUMBER(P8),ISNUMBER(P18)),P8-P18,"") -> -1.0909744 | R13: =IF(AND(ISNUMBER(R8),ISNUMBER(R18)),R8-R18,"") | T13: =IF(AND(ISNUMBER(T8),ISNUMBER(T18)),T8-T18,"") | V13: =IF(AND(ISNUMBER(V8),ISNUMBER(V18)),V8-V18,"") -> 1.8130425
B14: 作成していない | D14: =IF(AND(ISNUMBER(D9),ISNUMBER(D19)),D9-D19,"") -> 7.8480322 | F14: =IF(AND(ISNUMBER(F9),ISNUMBER(F19)),F9-F19,"") -> -0.97969383 | H14: =IF(AND(ISNUMBER(H9),ISNUMBER(H19)),H9-H19,"") -> -3.0268514 | J14: =IF(AND(ISNUMBER(J9),ISNUMBER(J19)),J9-J19,"") -> -0.22408883 | L14: =IF(AND(ISNUMBER(L9),ISNUMBER(L19)),L9-L19,"") -> 1.8556591 | N14: =IF(AND(ISNUMBER(N9),ISNUMBER(N19)),N9-N19,"") -> 0.88307772 | P14: =IF(AND(ISNUMBER(P9),ISNUMBER(P19)),P9-P19,"") -> 3.5873279 | R14: =IF(AND(ISNUMBER(R9),ISNUMBER(R19)),R9-R19,"") -> 0.79628483 | T14: =IF(AND(ISNUMBER(T9),ISNUMBER(T19)),T9-T19,"") | V14: =IF(AND(ISNUMBER(V9),ISNUMBER(V19)),V9-V19,"") -> 3.8052441
C15: - | D15: - | E15: - | F15: - | G15: - | H15: - | I15: - | J15: - | K15: - | L15: - | M15: - | N15: - | O15: - | P15: - | Q15: - | R15: - | S15: - | T15: - | U15: - | V15: -
A16: R01年度 | B16: 社内で作成 | C16: 4397 | D16: 28.2 | E16: 14016 | F16: 38.7 | G16: 11104 | H16: 43.6 | I16: 36335 | J16: 68.4 | K16: 7968 | L16: 78.1 | M16: 3286 | N16: 88.4 | O16: 544 | P16: 94.1 | Q16: 123 | R16: 97.2 | S16: 159 | T16: 98.4 | U16: 77934 | V16: 53.7
B17: 社外へ一部委託 | C17: 455 | D17: 2.9 | E17: 2755 | F17: 7.6 | G17: 2974 | H17: 11.7 | I17: 2470 | J17: 4.6 | K17: 381 | L17: 3.7 | M17: 95 | N17: 2.6 | O17: 13 | P17: 2.3 | S17: 3 | T17: 1.6 | U17: 9145 | V17: 6.3
B18: 社外へ全部委託 | C18: 1291 | D18: 8.3 | E18: 4001 | F18: 11 | G18: 2257 | H18: 8.9 | I18: 1915 | J18: 3.6 | K18: 429 | L18: 4.2 | M18: 33 | N18: 0.9 | O18: 10 | P18: 1.7 | Q18: 2 | R18: 1.7 | U18: 9938 | V18: 6.8
B19: 作成していない | C19: 9459 | D19: 60.6 | E19: 15435 | F19: 42.6 | G19: 9148 | H19: 35.9 | I19: 12393 | J19: 23.3 | K19: 1428 | L19: 14 | M19: 303 | N19: 8.1 | O19: 11 | P19: 1.9 | Q19: 1 | R19: 1.1 | U19: 48179 | V19: 33.2
C20: 15602 | D20: 100 | E20: 36206 | F20: 100 | G20: 25483 | H20: 100 | I20: 53114 | J20: 100 | K20: 10206 | L20: 100 | M20: 3717 | N20: 100 | O20: 578 | P20: 100 | Q20: 127 | R20: 100 | S20: 162 | T20: 100 | U20: 145196 | V20: 100
A21: 増減 | B21: 社内で作成 | D21: =IF(AND(ISNUMBER(D16),ISNUMBER(D26)),D16-D26,"") -> -6.4577497 | F21: =IF(AND(ISNUMBER(F16),ISNUMBER(F26)),F16-F26,"") -> -8.1660382 | H21: =IF(AND(ISNUMBER(H16),ISNUMBER(H26)),H16-H26,"") -> -4.3838827 | J21: =IF(AND(ISNUMBER(J16),ISNUMBER(J26)),J16-J26,"") -> -2.0122984 | L21: =IF(AND(ISNUMBER(L16),ISNUMBER(L26)),L16-L26,"") -> -2.1224988 | N21: =IF(AND(ISNUMBER(N16),ISNUMBER(N26)),N16-N26,"") -> -0.86400361 | P21: =IF(AND(ISNUMBER(P16),ISNUMBER(P26)),P16-P26,"") -> 1.0715767 | R21: =IF(AND(ISNUMBER(R16),ISNUMBER(R26)),R16-R26,"") -> 6.6510676 | T21: =IF(AND(ISNUMBER(T16),ISNUMBER(T26)),T16-T26,"") -> 5.4192156 | V21: =IF(AND(ISNUMBER(V16),ISNUMBER(V26)),V16-V26,"") -> -4.0418462
B22: 社外へ一部委託 | D22: =IF(AND(ISNUMBER(D17),ISNUMBER(D27)),D17-D27,"") -> -1.0075414 | F22: =IF(AND(ISNUMBER(F17),ISNUMBER(F27)),F17-F27,"") -> -1.4059307 | H22: =IF(AND(ISNUMBER(H17),ISNUMBER(H27)),H17-H27,"") -> 4.6172972 | J22: =IF(AND(ISNUMBER(J17),ISNUMBER(J27)),J17-J27,"") -> -1.0239024 | L22: =IF(AND(ISNUMBER(L17),ISNUMBER(L27)),L17-L27,"") -> -0.10917723 | N22: =IF(AND(ISNUMBER(N17),ISNUMBER(N27)),N17-N27,"") -> 0.23905837 | P22: =IF(AND(ISNUMBER(P17),ISNUMBER(P27)),P17-P27,"") -> 0.40616679 | R22: =IF(AND(ISNUMBER(R17),ISNUMBER(R27)),R17-R27,"") | T22: =IF(AND(ISNUMBER(T17),ISNUMBER(T27)),T17-T27,"") -> -3.3802309 | V22: =IF(AND(ISNUMBER(V17),ISNUMBER(V27)),V17-V27,"") -> 0.080301419
B23: 社外へ全部委託 | D23: =IF(AND(ISNUMBER(D18),ISNUMBER(D28)),D18-D28,"") -> 5.4847996 | F23: =IF(AND(ISNUMBER(F18),ISNUMBER(F28)),F18-F28,"") -> 3.5720252 | H23: =IF(AND(ISNUMBER(H18),ISNUMBER(H28)),H18-H28,"") -> -0.18080899 | J23: =IF(AND(ISNUMBER(J18),ISNUMBER(J28)),J18-J28,"") -> -0.43275062 | L23: =IF(AND(ISNUMBER(L18),ISNUMBER(L28)),L18-L28,"") -> 1.4041749 | N23: =IF(AND(ISNUMBER(N18),ISNUMBER(N28)),N18-N28,"") -> -0.43475374 | P23: =IF(AND(ISNUMBER(P18),ISNUMBER(P28)),P18-P28,"") -> 1.1157786 | R23: =IF(AND(ISNUMBER(R18),ISNUMBER(R28)),R18-R28,"") -> 0.64247531 | T23: =IF(AND(ISNUMBER(T18),ISNUMBER(T28)),T18-T28,"") | V23: =IF(AND(ISNUMBER(V18),ISNUMBER(V28)),V18-V28,"") -> 1.5413464
B24: 作成していない | D24: =IF(AND(ISNUMBER(D19),ISNUMBER(D29)),D19-D29,"") -> 1.9804914 | F24: =IF(AND(ISNUMBER(F19),ISNUMBER(F29)),F19-F29,"") -> 5.8999438 | H24: =IF(AND(ISNUMBER(H19),ISNUMBER(H29)),H19-H29,"") -> 0.0473944 | J24: =IF(AND(ISNUMBER(J19),ISNUMBER(J29)),J19-J29,"") -> 3.3689514 | L24: =IF(AND(ISNUMBER(L19),ISNUMBER(L29)),L19-L29,"") -> 0.8275012 | N24: =IF(AND(ISNUMBER(N19),ISNUMBER(N29)),N19-N29,"") -> 1.059699 | P24: =IF(AND(ISNUMBER(P19),ISNUMBER(P29)),P19-P29,"") -> -2.5935221 | R24: =IF(AND(ISNUMBER(R19),ISNUMBER(R29)),R19-R29,"") -> -4.4704048 | T24: =IF(AND(ISNUMBER(T19),ISNUMBER(T29)),T19-T29,"") | V24: =IF(AND(ISNUMBER(V19),ISNUMBER(V29)),V19-V29,"") -> 2.4201984
C25: - | D25: - | E25: - | F25: - | G25: - | H25: - | I25: - | J25: - | K25: - | L25: - | M25: - | N25: - | O25: - | P25: - | Q25: - | R25: - | S25: - | T25: - | U25: - | V25: -
A26: H26年度 | B26: 社内で作成 | C26: 7862.0887 | D26: 34.65775 | E26: 19180.832 | F26: 46.866038 | G26: 11348.511 | H26: 47.983883 | I26: 44579.953 | J26: 70.412298 | K26: 8777.1661 | L26: 80.222499 | M26: 3370.6034 | N26: 89.264004 | O26: 562.62993 | P26: 93.028423 | Q26: 129.86226 | R26: 90.548932 | S26: 166.78511 | T26: 92.980784 | U26: 95978.432 | V26: 57.741846
B27: 社外へ一部委託 | C27: 886.42331 | D27: 3.9075414 | E27: 3685.8512 | F27: 9.0059307 | G27: 1675.1069 | H27: 7.0827028 | I27: 3560.6465 | J27: 5.6239024 | K27: 416.76315 | L27: 3.8091772 | M27: 89.149015 | N27: 2.3609416 | O27: 11.453782 | P27: 1.8938332 | Q27: 4.0488506 | R27: 2.8231381 | S27: 8.9333333 | T27: 4.9802309 | U27: 10338.376 | V27: 6.2196986
B28: 社外へ全部委託 | C28: 638.62643 | D28: 2.8152004 | E28: 3040.0422 | F28: 7.4279748 | G28: 2147.6724 | H28: 9.080809 | I28: 2553.2448 | J28: 4.0327506 | K28: 305.89201 | L28: 2.7958251 | M28: 50.400222 | N28: 1.3347537 | O28: 3.5333333 | P28: 0.58422138 | Q28: 1.5166667 | R28: 1.0575247 | U28: 8740.9281 | V28: 5.2586536
B29: 作成していない | C29: 13297.799 | D29: 58.619509 | E29: 15020.207 | F29: 36.700056 | G29: 8479.3825 | H29: 35.852606 | I29: 12618.892 | J29: 19.931049 | K29: 1441.2068 | L29: 13.172499 | M29: 265.84135 | N29: 7.040301 | O29: 27.176533 | P29: 4.4935221 | Q29: 7.9888889 | R29: 5.5704048 | S29: 3.6574468 | T29: 2.0389847 | U29: 51162.152 | V29: 30.779802
C30: 22684.937 | D30: 100 | E30: 40926.932 | F30: 100 | G30: 23650.673 | H30: 100 | I30: 63312.737 | J30: 100 | K30: 10941.028 | L30: 100 | M30: 3775.994 | N30: 100 | O30: 604.79357 | P30: 100 | Q30: 143.41667 | R30: 100 | S30: 179.37589 | T30: 100 | U30: 166219.89 | V30: 100
A31: 増減 | B31: 社内で作成 | D31: =IF(AND(ISNUMBER(D26),ISNUMBER(D36)),D26-D36,"") -> 2.3577497 | F31: =IF(AND(ISNUMBER(F26),ISNUMBER(F36)),F26-F36,"") -> 0.46603819 | H31: =IF(AND(ISNUMBER(H26),ISNUMBER(H36)),H26-H36,"") -> -0.016117341 | J31: =IF(AND(ISNUMBER(J26),ISNUMBER(J36)),J26-J36,"") -> -2.9877016 | L31: =IF(AND(ISNUMBER(L26),ISNUMBER(L36)),L26-L36,"") -> 1.4224988 | N31: =IF(AND(ISNUMBER(N26),ISNUMBER(N36)),N26-N36,"") -> -0.13599639 | P31: =IF(AND(ISNUMBER(P26),ISNUMBER(P36)),P26-P36,"") -> -1.1715767 | R31: =IF(AND(ISNUMBER(R26),ISNUMBER(R36)),R26-R36,"") -> -9.1510676 | T31: =IF(AND(ISNUMBER(T26),ISNUMBER(T36)),T26-T36,"") -> -4.3192156 | V31: =IF(AND(ISNUMBER(V26),ISNUMBER(V36)),V26-V36,"") -> -0.75815384
B32: 社外へ一部委託 | D32: =IF(AND(ISNUMBER(D27),ISNUMBER(D37)),D27-D37,"") -> 1.6075414 | F32: =IF(AND(ISNUMBER(F27),ISNUMBER(F37)),F27-F37,"") -> 2.0059307 | H32: =IF(AND(ISNUMBER(H27),ISNUMBER(H37)),H27-H37,"") -> -0.11729725 | J32: =IF(AND(ISNUMBER(J27),ISNUMBER(J37)),J27-J37,"") -> 0.92390236 | L32: =IF(AND(ISNUMBER(L27),ISNUMBER(L37)),L27-L37,"") -> 0.40917723 | N32: =IF(AND(ISNUMBER(N27),ISNUMBER(N37)),N27-N37,"") -> 0.86094163 | P32: =IF(AND(ISNUMBER(P27),ISNUMBER(P37)),P27-P37,"") -> -0.50616679 | R32: =IF(AND(ISNUMBER(R27),ISNUMBER(R37)),R27-R37,"") | T32: =IF(AND(ISNUMBER(T27),ISNUMBER(T37)),T27-T37,"") | V32: =IF(AND(ISNUMBER(V27),ISNUMBER(V37)),V27-V37,"") -> 1.1196986
B33: 社外へ全部委託 | D33: =IF(AND(ISNUMBER(D28),ISNUMBER(D38)),D28-D38,"") -> -1.4847996 | F33: =IF(AND(ISNUMBER(F28),ISNUMBER(F38)),F28-F38,"") -> 0.32797485 | H33: =IF(AND(ISNUMBER(H28),ISNUMBER(H38)),H28-H38,"") -> 0.98080899 | J33: =IF(AND(ISNUMBER(J28),ISNUMBER(J38)),J28-J38,"") -> 0.33275062 | L33: =IF(AND(ISNUMBER(L28),ISNUMBER(L38)),L28-L38,"") -> 0.39582513 | N33: =IF(AND(ISNUMBER(N28),ISNUMBER(N38)),N28-N38,"") -> 0.034753742 | P33: =IF(AND(ISNUMBER(P28),ISNUMBER(P38)),P28-P38,"") -> 0.28422138 | R33: =IF(AND(ISNUMBER(R28),ISNUMBER(R38)),R28-R38,"") -> 0.75752469 | T33: =IF(AND(ISNUMBER(T28),ISNUMBER(T38)),T28-T38,"") | V33: =IF(AND(ISNUMBER(V28),ISNUMBER(V38)),V28-V38,"") -> 0.15865362
B34: 作成していない | D34: =IF(AND(ISNUMBER(D29),ISNUMBER(D39)),D29-D39,"") -> -2.4804914 | F34: =IF(AND(ISNUMBER(F29),ISNUMBER(F39)),F29-F39,"") -> -2.8999438 | H34: =IF(AND(ISNUMBER(H29),ISNUMBER(H39)),H29-H39,"") -> -0.8473944 | J34: =IF(AND(ISNUMBER(J29),ISNUMBER(J39)),J29-J39,"") -> 1.8310486 | L34: =IF(AND(ISNUMBER(L29),ISNUMBER(L39)),L29-L39,"") -> -2.2275012 | N34: =IF(AND(ISNUMBER(N29),ISNUMBER(N39)),N29-N39,"") -> -0.65969898 | P34: =IF(AND(ISNUMBER(P29),ISNUMBER(P39)),P29-P39,"") -> 1.3935221 | R34: =IF(AND(ISNUMBER(R29),ISNUMBER(R39)),R29-R39,"") | T34: =IF(AND(ISNUMBER(T29),ISNUMBER(T39)),T29-T39,"") | V34: =IF(AND(ISNUMBER(V29),ISNUMBER(V39)),V29-V39,"") -> -0.62019836
C35: - | D35: - | E35: - | F35: - | G35: - | H35: - | I35: - | J35: - | K35: - | L35: - | M35: - | N35: - | O35: - | P35: - | Q35: - | R35: - | S35: - | T35: - | U35: - | V35: -
A36: H23年度 | B36: 社内で作成 | C36: 7371.51 | D36: 32.3 | E36: 18277.67 | F36: 46.4 | G36: 10799.98 | H36: 48 | I36: 46054.28 | J36: 73.4 | K36: 8563.09 | L36: 78.8 | M36: 3323.56 | N36: 89.4 | O36: 570.77 | P36: 94.2 | Q36: 158.5 | R36: 99.7 | S36: 181 | T36: 97.3 | U36: 95300.37 | V36: 58.5
B37: 社外へ一部委託 | C37: 535.16 | D37: 2.3 | E37: 2740.07 | F37: 7 | G37: 1615.72 | H37: 7.2 | I37: 2970.22 | J37: 4.7 | K37: 367.18 | L37: 3.4 | M37: 57.02 | N37: 1.5 | O37: 14.6 | P37: 2.4 | U37: 8299.97 | V37: 5.1
B38: 社外へ全部委託 | C38: 969.74 | D38: 4.3 | E38: 2794.82 | F38: 7.1 | G38: 1812.05 | H38: 8.1 | I38: 2351.58 | J38: 3.7 | K38: 260.2 | L38: 2.4 | M38: 50.19 | N38: 1.3 | O38: 2 | P38: 0.3 | Q38: 0.5 | R38: 0.3 | S38: 5 | T38: 2.7 | U38: 8246.07 | V38: 5.1
B39: 作成していない | C39: 13928.29 | D39: 61.1 | E39: 15581.06 | F39: 39.6 | G39: 8253.58 | H39: 36.7 | I39: 11333.37 | J39: 18.1 | K39: 1673.96 | L39: 15.4 | M39: 288.21 | N39: 7.7 | O39: 18.55 | P39: 3.1 | U39: 51077.01 | V39: 31.4
C40: 22804.7 | D40: 100 | E40: 39393.61 | F40: 100 | G40: 22481.33 | H40: 100 | I40: 62709.45 | J40: 100 | K40: 10864.43 | L40: 100 | M40: 3718.97 | N40: 100 | O40: 605.92 | P40: 100 | Q40: 159 | R40: 100 | S40: 186 | T40: 100 | U40: 162923.42 | V40: 100
A41: 増減 | B41: 社内で作成 | D41: =IF(AND(ISNUMBER(D36),ISNUMBER(D46)),D36-D46,"") -> 1.5 | F41: =IF(AND(ISNUMBER(F36),ISNUMBER(F46)),F36-F46,"") -> -3.2 | H41: =IF(AND(ISNUMBER(H36),ISNUMBER(H46)),H36-H46,"") -> -4.3 | J41: =IF(AND(ISNUMBER(J36),ISNUMBER(J46)),J36-J46,"") -> -2.3 | L41: =IF(AND(ISNUMBER(L36),ISNUMBER(L46)),L36-L46,"") -> -4.2 | N41: =IF(AND(ISNUMBER(N36),ISNUMBER(N46)),N36-N46,"") -> 0.4 | P41: =IF(AND(ISNUMBER(P36),ISNUMBER(P46)),P36-P46,"") -> -2.6 | R41: =IF(AND(ISNUMBER(R36),ISNUMBER(R46)),R36-R46,"") -> 1.7 | T41: =IF(AND(ISNUMBER(T36),ISNUMBER(T46)),T36-T46,"") -> -0.2 | V41: =IF(AND(ISNUMBER(V36),ISNUMBER(V46)),V36-V46,"") -> -2.5
B42: 社外へ一部委託 | D42: =IF(AND(ISNUMBER(D37),ISNUMBER(D47)),D37-D47,"") -> 0.7 | F42: =IF(AND(ISNUMBER(F37),ISNUMBER(F47)),F37-F47,"") -> 1.2 | H42: =IF(AND(ISNUMBER(H37),ISNUMBER(H47)),H37-H47,"") -> 0.9 | J42: =IF(AND(ISNUMBER(J37),ISNUMBER(J47)),J37-J47,"") -> 0.9 | L42: =IF(AND(ISNUMBER(L37),ISNUMBER(L47)),L37-L47,"") -> 0.2 | N42: =IF(AND(ISNUMBER(N37),ISNUMBER(N47)),N37-N47,"") -> -1.2 | P42: =IF(AND(ISNUMBER(P37),ISNUMBER(P47)),P37-P47,"") -> 2 | R42: =IF(AND(ISNUMBER(R37),ISNUMBER(R47)),R37-R47,"") | T42: =IF(AND(ISNUMBER(T37),ISNUMBER(T47)),T37-T47,"") | V42: =IF(AND(ISNUMBER(V37),ISNUMBER(V47)),V37-V47,"") -> 1
B43: 社外へ全部委託 | D43: =IF(AND(ISNUMBER(D38),ISNUMBER(D48)),D38-D48,"") -> 1.5 | F43: =IF(AND(ISNUMBER(F38),ISNUMBER(F48)),F38-F48,"") -> 1 | H43: =IF(AND(ISNUMBER(H38),ISNUMBER(H48)),H38-H48,"") -> 1.4 | J43: =IF(AND(ISNUMBER(J38),ISNUMBER(J48)),J38-J48,"") -> 1.6 | L43: =IF(AND(ISNUMBER(L38),ISNUMBER(L48)),L38-L48,"") -> 1.3 | N43: =IF(AND(ISNUMBER(N38),ISNUMBER(N48)),N38-N48,"") -> 0.4 | P43: =IF(AND(ISNUMBER(P38),ISNUMBER(P48)),P38-P48,"") -> -0.2 | R43: =IF(AND(ISNUMBER(R38),ISNUMBER(R48)),R38-R48,"") | T43: =IF(AND(ISNUMBER(T38),ISNUMBER(T48)),T38-T48,"") | V43: =IF(AND(ISNUMBER(V38),ISNUMBER(V48)),V38-V48,"") -> 1.6
B44: 作成していない | D44: =IF(AND(ISNUMBER(D39),ISNUMBER(D49)),D39-D49,"") -> -3.8 | F44: =IF(AND(ISNUMBER(F39),ISNUMBER(F49)),F39-F49,"") -> 1.1 | H44: =IF(AND(ISNUMBER(H39),ISNUMBER(H49)),H39-H49,"") -> 2 | J44: =IF(AND(ISNUMBER(J39),ISNUMBER(J49)),J39-J49,"") -> -0.3 | L44: =IF(AND(ISNUMBER(L39),ISNUMBER(L49)),L39-L49,"") -> 2.8 | N44: =IF(AND(ISNUMBER(N39),ISNUMBER(N49)),N39-N49,"") -> 0.3 | P44: =IF(AND(ISNUMBER(P39),ISNUMBER(P49)),P39-P49,"") -> 0.8 | R44: =IF(AND(ISNUMBER(R39),ISNUMBER(R49)),R39-R49,"") | T44: =IF(AND(ISNUMBER(T39),ISNUMBER(T49)),T39-T49,"") | V44: =IF(AND(ISNUMBER(V39),ISNUMBER(V49)),V39-V49,"") -> 0.1
C45: - | D45: - | E45: - | F45: - | G45: - | H45: - | I45: - | J45: - | K45: - | L45: - | M45: - | N45: - | O45: - | P45: - | Q45: - | R45: - | S45: - | T45: - | U45: - | V45: -
A46: H20年度 | B46: 社内で作成 | C46: 8378.12 | D46: 30.8 | E46: 19239.22 | F46: 49.6 | G46: 10964.94 | H46: 52.3 | I46: 53208.7 | J46: 75.7 | K46: 10370.25 | L46: 83 | M46: 3526.11 | N46: 89 | O46: 674.68 | P46: 96.8 | Q46: 177.39 | R46: 98 | S46: 202.53 | T46: 97.5 | U46: 106741.93 | V46: 61
B47: 社外へ一部委託 | C47: 428.23 | D47: 1.6 | E47: 2266.77 | F47: 5.8 | G47: 1314 | H47: 6.3 | I47: 2704.83 | J47: 3.8 | K47: 404.86 | L47: 3.2 | M47: 106.66 | N47: 2.7 | O47: 3.03 | P47: 0.4 | Q47: 3.57 | R47: 2 | S47: 2.95 | T47: 1.4 | U47: 7234.91 | V47: 4.1
B48: 社外へ全部委託 | C48: 749.11 | D48: 2.8 | E48: 2354.69 | F48: 6.1 | G48: 1412.83 | H48: 6.7 | I48: 1480.35 | J48: 2.1 | K48: 141.76 | L48: 1.1 | M48: 35.87 | N48: 0.9 | O48: 3.43 | P48: 0.5 | U48: 6178.03 | V48: 3.5
B49: 作成していない | C49: 17651.43 | D49: 64.9 | E49: 14953.79 | F49: 38.5 | G49: 7268.29 | H49: 34.7 | I49: 12939.55 | J49: 18.4 | K49: 1575.92 | L49: 12.6 | M49: 294.99 | N49: 7.4 | O49: 15.89 | P49: 2.3 | S49: 2.17 | T49: 1 | U49: 54702.03 | V49: 31.3
C50: 27206.88 | D50: 100 | E50: 38814.46 | F50: 100 | G50: 20960.06 | H50: 100 | I50: 70333.44 | J50: 100 | K50: 12492.8 | L50: 100 | M50: 3963.63 | N50: 100 | O50: 697.03 | P50: 100 | Q50: 180.96 | R50: 100 | S50: 207.65 | T50: 100 | U50: 174856.9 | V50: 100
A51: 増減 | B51: 社内で作成 | D51: =IF(AND(ISNUMBER(D46),ISNUMBER(D56)),D46-D56,"") -> 3.4 | F51: =IF(AND(ISNUMBER(F46),ISNUMBER(F56)),F46-F56,"") -> -0.9 | H51: =IF(AND(ISNUMBER(H46),ISNUMBER(H56)),H46-H56,"") -> 5.6 | J51: =IF(AND(ISNUMBER(J46),ISNUMBER(J56)),J46-J56,"") -> -0.9 | L51: =IF(AND(ISNUMBER(L46),ISNUMBER(L56)),L46-L56,"") -> -0.9 | N51: =IF(AND(ISNUMBER(N46),ISNUMBER(N56)),N46-N56,"") -> -1.5 | P51: =IF(AND(ISNUMBER(P46),ISNUMBER(P56)),P46-P56,"") -> -1 | R51: =IF(AND(ISNUMBER(R46),ISNUMBER(R56)),R46-R56,"") -> 0.5 | T51: =IF(AND(ISNUMBER(T46),ISNUMBER(T56)),T46-T56,"") -> -2.3 | V51: =IF(AND(ISNUMBER(V46),ISNUMBER(V56)),V46-V56,"") -> 1.2
B52: 社外へ一部委託 | D52: =IF(AND(ISNUMBER(D47),ISNUMBER(D57)),D47-D57,"") -> -1.7 | F52: =IF(AND(ISNUMBER(F47),ISNUMBER(F57)),F47-F57,"") -> 1.4 | H52: =IF(AND(ISNUMBER(H47),ISNUMBER(H57)),H47-H57,"") -> 0.8 | J52: =IF(AND(ISNUMBER(J47),ISNUMBER(J57)),J47-J57,"") -> 0.8 | L52: =IF(AND(ISNUMBER(L47),ISNUMBER(L57)),L47-L57,"") -> 0.9 | N52: =IF(AND(ISNUMBER(N47),ISNUMBER(N57)),N47-N57,"") -> 1.1 | P52: =IF(AND(ISNUMBER(P47),ISNUMBER(P57)),P47-P57,"") -> 0.2 | R52: =IF(AND(ISNUMBER(R47),ISNUMBER(R57)),R47-R57,"") | T52: =IF(AND(ISNUMBER(T47),ISNUMBER(T57)),T47-T57,"") -> 1.2 | V52: =IF(AND(ISNUMBER(V47),ISNUMBER(V57)),V47-V57,"") -> 0.5
B53: 社外へ全部委託 | D53: =IF(AND(ISNUMBER(D48),ISNUMBER(D58)),D48-D58,"") -> -1.7 | F53: =IF(AND(ISNUMBER(F48),ISNUMBER(F58)),F48-F58,"") -> 0.5 | H53: =IF(AND(ISNUMBER(H48),ISNUMBER(H58)),H48-H58,"") -> 1.9 | J53: =IF(AND(ISNUMBER(J48),ISNUMBER(J58)),J48-J58,"") -> 0 | L53: =IF(AND(ISNUMBER(L48),ISNUMBER(L58)),L48-L58,"") -> -0.1 | N53: =IF(AND(ISNUMBER(N48),ISNUMBER(N58)),N48-N58,"") -> -0.1 | P53: =IF(AND(ISNUMBER(P48),ISNUMBER(P58)),P48-P58,"") -> -0.2 | R53: =IF(AND(ISNUMBER(R48),ISNUMBER(R58)),R48-R58,"") | T53: =IF(AND(ISNUMBER(T48),ISNUMBER(T58)),T48-T58,"") | V53: =IF(AND(ISNUMBER(V48),ISNUMBER(V58)),V48-V58,"") -> 0
B54: 作成していない | D54: =IF(AND(ISNUMBER(D49),ISNUMBER(D59)),D49-D59,"") -> 0.1 | F54: =IF(AND(ISNUMBER(F49),ISNUMBER(F59)),F49-F59,"") -> -1.1 | H54: =IF(AND(ISNUMBER(H49),ISNUMBER(H59)),H49-H59,"") -> -8.3 | J54: =IF(AND(ISNUMBER(J49),ISNUMBER(J59)),J49-J59,"") -> 0 | L54: =IF(AND(ISNUMBER(L49),ISNUMBER(L59)),L49-L59,"") -> 0 | N54: =IF(AND(ISNUMBER(N49),ISNUMBER(N59)),N49-N59,"") -> 0.5 | P54: =IF(AND(ISNUMBER(P49),ISNUMBER(P59)),P49-P59,"") -> 1 | R54: =IF(AND(ISNUMBER(R49),ISNUMBER(R59)),R49-R59,"") | T54: =IF(AND(ISNUMBER(T49),ISNUMBER(T59)),T49-T59,"") | V54: =IF(AND(ISNUMBER(V49),ISNUMBER(V59)),V49-V59,"") -> -1.8
C55: - | D55: - | E55: - | F55: - | G55: - | H55: - | I55: - | J55: - | K55: - | L55: - | M55: - | N55: - | O55: - | P55: - | Q55: - | R55: - | S55: - | T55: - | U55: - | V55: -
A56: H17年度 | B56: 社内で作成 | C56: 8994 | D56: 27.4 | E56: 23387 | F56: 50.5 | G56: 12272 | H56: 46.7 | I56: 60764 | J56: 76.6 | K56: 11730 | L56: 83.9 | M56: 3881 | N56: 90.5 | O56: 806 | P56: 97.8 | Q56: 208 | R56: 97.5 | S56: 249 | T56: 99.8 | U56: 122291 | V56: 59.8
B57: 社外へ一部委託 | C57: 1079 | D57: 3.3 | E57: 2024 | F57: 4.4 | G57: 1446 | H57: 5.5 | I57: 2368 | J57: 3 | K57: 321 | L57: 2.3 | M57: 70 | N57: 1.6 | O57: 2 | P57: 0.2 | S57: 1 | T57: 0.2 | U57: 7310 | V57: 3.6
B58: 社外へ全部委託 | C58: 1477 | D58: 4.5 | E58: 2571 | F58: 5.6 | G58: 1258 | H58: 4.8 | I58: 1662 | J58: 2.1 | K58: 171 | L58: 1.2 | M58: 42 | N58: 1 | O58: 6 | P58: 0.7 | Q58: 5 | R58: 2.1 | U58: 7192 | V58: 3.5
B59: 作成していない | C59: 21296 | D59: 64.8 | E59: 18326 | F59: 39.6 | G59: 11275 | H59: 43 | I59: 14579 | J59: 18.4 | K59: 1755 | L59: 12.6 | M59: 297 | N59: 6.9 | O59: 11 | P59: 1.3 | Q59: 1 | R59: 0.4 | U59: 67539 | V59: 33.1
C60: 32846 | D60: 100 | E60: 46308 | F60: 100 | G60: 26251 | H60: 100 | I60: 79373 | J60: 100 | K60: 13977 | L60: 100 | M60: 4289 | N60: 100 | O60: 825 | P60: 100 | Q60: 213 | R60: 100 | S60: 249 | T60: 100 | U60: 204331 | V60: 100
S61: =P102
S63: （単位：社、％）
B64: 年度 | C64: R06年度 | F64: R01年度 | I64: H26年度 | L64: H23年度 | O64: H20年度 | R64: H17年度
A66: 業 種 | B66: 作成状況 | E66: 増減 | H66: 増減 | K66: 増減 | N66: 増減 | Q66: 増減
A67: 一般土木建築 | B67: 社内で作成 | C67: =IF('4-1-1'!V6<>"",'4-1-1'!V6,"") -> 4906.3595 | D67: =IF('4-1-1'!W6<>"",'4-1-1'!W6,"") -> 66.168031 | E67: =D67-G67 -> -4.1827677 | F67: 2446.7177 | G67: 70.350799 | H67: =G67-J67 -> -7.7621101 | I67: 3273.1592 | J67: 78.112909 | K67: =J67-M67 -> 0.61290874 | L67: 3333.4 | M67: 77.5 | N67: =M67-P67 -> -1.8 | O67: 3902 | P67: 79.3 | Q67: =P67-S67 -> 1.4 | R67: 4537 | S67: 77.9
B68: 社外へ一部委託 | C68: =IF('4-1-1'!V7<>"",'4-1-1'!V7,"") -> 375.05857 | D68: =IF('4-1-1'!W7<>"",'4-1-1'!W7,"") -> 5.0581061 | E68: =D68-G68 -> 0.11925508 | F68: 171.76741 | G68: 4.938851 | H68: =G68-J68 -> 0.98841843 | I68: 165.53467 | J68: 3.9504326 | K68: =J68-M68 -> 0.45043261 | L68: 150.77 | M68: 3.5 | N68: =M68-P68 -> 0.8 | O68: 134.5 | P68: 2.7 | Q68: =P68-S68 -> 0 | R68: 158 | S68: 2.7
B69: 社外へ全部委託 | C69: =IF('4-1-1'!V8<>"",'4-1-1'!V8,"") -> 423.11184 | D69: =IF('4-1-1'!W8<>"",'4-1-1'!W8,"") -> 5.706161 | E69: =D69-G69 -> 3.4282271 | F69: 79.223853 | G69: 2.2779339 | H69: =G69-J69 -> -1.6741635 | I69: 165.60444 | J69: 3.9520975 | K69: =J69-M69 -> 2.7520975 | L69: 51.84 | M69: 1.2 | N69: =M69-P69 -> 0 | O69: 60.18 | P69: 1.2 | Q69: =P69-S69 -> -0.6 | R69: 105 | S69: 1.8
B70: 作成していない | C70: =IF('4-1-1'!V9<>"",'4-1-1'!V9,"") -> 1710.4701 | D70: =IF('4-1-1'!W9<>"",'4-1-1'!W9,"") -> 23.067702 | E70: =D70-G70 -> 0.63528559 | F70: 780.17295 | G70: 22.432416 | H70: =G70-J70 -> 8.4478552 | I70: 585.99399 | J70: 13.984561 | K70: =J70-M70 -> -3.8154388 | L70: 766.02 | M70: 17.8 | N70: =M70-P70 -> 1.1 | O70: 821.58 | P70: 16.7 | Q70: =P70-S70 -> -0.8 | R70: 1021 | S70: 17.5
B71: 小 計 | C71: =IF('4-1-1'!V10<>"",'4-1-1'!V10,"") -> 7415 | D71: =IF('4-1-1'!W10<>"",'4-1-1'!W10,"") -> 100 | E71: - | F71: 3477.8819 | G71: 100 | H71: - | I71: 4190.2923 | J71: 100 | K71: - | L71: 4302.04 | M71: 100 | N71: - | O71: 4918.26 | P71: 100 | Q71: - | R71: 5821 | S71: 100
A72: 土木 | B72: 社内で作成 | C72: =IF('4-1-1'!V36<>"",'4-1-1'!V36,"") -> 19176.667 | D72: =IF('4-1-1'!W36<>"",'4-1-1'!W36,"") -> 49.416758 | E72: =D72-G72 -> -10.331234 | F72: 18547.918 | G72: 59.747992 | H72: =G72-J72 -> -3.0942786 | I72: 23060.227 | J72: 62.842271 | K72: =J72-M72 -> 1.0422706 | L72: 23593 | M72: 61.8 | N72: =M72-P72 -> -2.4 | O72: 28579.44 | P72: 64.2 | Q72: =P72-S72 -> -1.6 | R72: 35882 | S72: 65.8
B73: 社外へ一部委託 | C73: =IF('4-1-1'!V37<>"",'4-1-1'!V37,"") -> 3206.916 | D73: =IF('4-1-1'!W37<>"",'4-1-1'!W37,"") -> 8.2639695 | E73: =D73-G73 -> 2.3826309 | F73: 1825.7783 | G73: 5.8813386 | H73: =G73-J73 -> 0.23045173 | I73: 2073.616 | J73: 5.6508869 | K73: =J73-M73 -> 0.75088686 | L73: 1865.97 | M73: 4.9 | N73: =M73-P73 -> 0.2 | O73: 2110.67 | P73: 4.7 | Q73: =P73-S73 -> 1.4 | R73: 1815 | S73: 3.3
B74: 社外へ全部委託 | C74: =IF('4-1-1'!V38<>"",'4-1-1'!V38,"") -> 2930.9613 | D74: =IF('4-1-1'!W38<>"",'4-1-1'!W38,"") -> 7.5528559 | E74: =D74-G74 -> 0.99259553 | F74: 2036.54 | G74: 6.5602604 | H74: =G74-J74 -> 0.28896029 | I74: 2301.2791 | J74: 6.2713001 | K74: =J74-M74 -> 0.57130012 | L74: 2186.32 | M74: 5.7 | N74: =M74-P74 -> 2.9 | O74: 1246.76 | P74: 2.8 | Q74: =P74-S74 -> -1 | R74: 2053 | S74: 3.8
B75: 作成していない | C75: =IF('4-1-1'!V39<>"",'4-1-1'!V39,"") -> 13491.456 | D75: =IF('4-1-1'!W39<>"",'4-1-1'!W39,"") -> 34.766416 | E75: =D75-G75 -> 6.9560073 | F75: 8633.3477 | G75: 27.810409 | H75: =G75-J75 -> 2.5748666 | I75: 9260.2851 | J75: 25.235542 | K75: =J75-M75 -> -2.3644576 | L75: 10549.15 | M75: 27.6 | N75: =M75-P75 -> -0.7 | O75: 12594.34 | P75: 28.3 | Q75: =P75-S75 -> 1.2 | R75: 14755 | S75: 27.1
B76: 小 計 | C76: =IF('4-1-1'!V40<>"",'4-1-1'!V40,"") -> 38806 | D76: =IF('4-1-1'!W40<>"",'4-1-1'!W40,"") -> 100 | E76: - | F76: 31043.584 | G76: 100 | H76: - | I76: 36695.407 | J76: 100 | K76: - | L76: 38194.44 | M76: 100 | N76: - | O76: 44531.21 | P76: 100 | Q76: - | R76: 54506 | S76: 100
A77: 建築 | B77: 社内で作成 | C77: =IF('4-1-1'!V41<>"",'4-1-1'!V41,"") -> 42726.138 | D77: =IF('4-1-1'!W41<>"",'4-1-1'!W41,"") -> 58.357082 | E77: =D77-G77 -> 0.44567976 | F77: 15236.298 | G77: 57.911403 | H77: =G77-J77 -> -3.4140584 | I77: 18759.167 | J77: 61.325461 | K77: =J77-M77 -> -0.67453902 | L77: 20069.36 | M77: 62 | N77: =M77-P77 -> -1.5 | O77: 20765.25 | P77: 63.5 | Q77: =P77-S77 -> 6.4 | R77: 23661 | S77: 57.1
B78: 社外へ一部委託 | C78: =IF('4-1-1'!V42<>"",'4-1-1'!V42,"") -> 4302.5194 | D78: =IF('4-1-1'!W42<>"",'4-1-1'!W42,"") -> 5.8765545 | E78: =D78-G78 -> 2.2475409 | F78: 954.78145 | G78: 3.6290136 | H78: =G78-J78 -> -3.2341434 | I78: 2099.4071 | J78: 6.863157 | K78: =J78-M78 -> 1.863157 | L78: 1617.2 | M78: 5 | N78: =M78-P78 -> 1.9 | O78: 1023.88 | P78: 3.1 | Q78: =P78-S78 -> -1.7 | R78: 2000 | S78: 4.8
B79: 社外へ全部委託 | C79: =IF('4-1-1'!V43<>"",'4-1-1'!V43,"") -> 7677.5064 | D79: =IF('4-1-1'!W43<>"",'4-1-1'!W43,"") -> 10.486248 | E79: =D79-G79 -> 3.0895431 | F79: 1946.0485 | G79: 7.3967048 | H79: =G79-J79 -> 2.3965664 | I79: 1529.5185 | J79: 5.0001384 | K79: =J79-M79 -> -0.59986165 | L79: 1813.63 | M79: 5.6 | N79: =M79-P79 -> 2.7 | O79: 954.55 | P79: 2.9 | Q79: =P79-S79 -> -0.5 | R79: 1392 | S79: 3.4
B80: 作成していない | C80: =IF('4-1-1'!V44<>"",'4-1-1'!V44,"") -> 18508.836 | D80: =IF('4-1-1'!W44<>"",'4-1-1'!W44,"") -> 25.280115 | E80: =D80-G80 -> -5.7827638 | F80: 8172.5406 | G80: 31.062879 | H80: =G80-J80 -> 4.2516354 | I80: 8201.4319 | J80: 26.811244 | K80: =J80-M80 -> -0.5887563 | L80: 8866.77 | M80: 27.4 | N80: =M80-P80 -> -3.1 | O80: 9979.2 | P80: 30.5 | Q80: =P80-S80 -> -4.3 | R80: 14415 | S80: 34.8
B81: 小 計 | C81: =IF('4-1-1'!V45<>"",'4-1-1'!V45,"") -> 73215 | D81: =IF('4-1-1'!W45<>"",'4-1-1'!W45,"") -> 100 | E81: - | F81: 26309.669 | G81: 100 | H81: - | I81: 30589.524 | J81: 100 | K81: - | L81: 32366.97 | M81: 100 | N81: - | O81: 32722.89 | P81: 100 | Q81: - | R81: 41468 | S81: 100
A82: 木造建築 | B82: 社内で作成 | C82: =IF('4-1-1'!V46<>"",'4-1-1'!V46,"") -> 7111.6507 | D82: =IF('4-1-1'!W46<>"",'4-1-1'!W46,"") -> 42.707487 | E82: =D82-G82 -> 6.3010059 | F82: 3586.1286 | G82: 36.406481 | H82: =G82-J82 -> -8.1093054 | I82: 6258.7209 | J82: 44.515786 | K82: =J82-M82 -> 1.215786 | L82: 5102 | M82: 43.3 | N82: =M82-P82 -> -11.9 | O82: 7386.93 | P82: 55.2 | Q82: =P82-S82 -> 9.4 | R82: 7944 | S82: 45.8
B83: 社外へ一部委託 | C83: =IF('4-1-1'!V47<>"",'4-1-1'!V47,"") -> 1266.7624 | D83: =IF('4-1-1'!W47<>"",'4-1-1'!W47,"") -> 7.607269 | E83: =D83-G83 -> -0.94467487 | F83: 842.38768 | G83: 8.5519439 | H83: =G83-J83 -> 3.8371126 | I83: 662.88424 | J83: 4.7148313 | K83: =J83-M83 -> 0.71483126 | L83: 466.59 | M83: 4 | N83: =M83-P83 -> -0.5 | O83: 598.59 | P83: 4.5 | Q83: =P83-S83 -> 2.8 | R83: 300 | S83: 1.7
B84: 社外へ全部委託 | C84: =IF('4-1-1'!V48<>"",'4-1-1'!V48,"") -> 1372.7541 | D84: =IF('4-1-1'!W48<>"",'4-1-1'!W48,"") -> 8.2437791 | E84: =D84-G84 -> 1.2700412 | F84: 686.93048 | G84: 6.973738 | H84: =G84-J84 -> 3.3979003 | I84: 502.74682 | J84: 3.5758376 | K84: =J84-M84 -> 0.57583764 | L84: 358.37 | M84: 3 | N84: =M84-P84 -> -2.4 | O84: 719.09 | P84: 5.4 | Q84: =P84-S84 -> 0.1 | R84: 921 | S84: 5.3
B85: 作成していない | C85: =IF('4-1-1'!V49<>"",'4-1-1'!V49,"") -> 6900.8328 | D85: =IF('4-1-1'!W49<>"",'4-1-1'!W49,"") -> 41.441465 | E85: =D85-G85 -> -6.6263722 | F85: 4734.8012 | G85: 48.067838 | H85: =G85-J85 -> 0.87429246 | I85: 6635.2019 | J85: 47.193545 | K85: =J85-M85 -> -2.4064549 | L85: 5844.36 | M85: 49.6 | N85: =M85-P85 -> 14.7 | O85: 4669.96 | P85: 34.9 | Q85: =P85-S85 -> -12.3 | R85: 8186 | S85: 47.2
B86: 小 計 | C86: =IF('4-1-1'!V50<>"",'4-1-1'!V50,"") -> 16652 | D86: =IF('4-1-1'!W50<>"",'4-1-1'!W50,"") -> 100 | E86: - | F86: 9850.248 | G86: 100 | H86: - | I86: 14059.554 | J86: 100 | K86: - | L86: 11771.32 | M86: 100 | N86: - | O86: 13374.57 | P86: 100 | Q86: - | R86: 17352 | S86: 100
A87: 職別 | B87: 社内で作成 | C87: =IF('4-1-1'!V141<>"",'4-1-1'!V141,"") -> 38430.561 | D87: =IF('4-1-1'!W141<>"",'4-1-1'!W141,"") -> 37.798569 | E87: =D87-G87 -> -11.749798 | F87: 20612.298 | G87: 49.548367 | H87: =G87-J87 -> -1.5029061 | I87: 22464.316 | J87: 51.051273 | K87: =J87-M87 -> -3.1487271 | L87: 22336.51 | M87: 54.2 | N87: =M87-P87 -> 2 | O87: 22143.97 | P87: 52.2 | Q87: =P87-S87 -> -4.3 | R87: 25684 | S87: 56.5
B88: 社外へ一部委託 | C88: =IF('4-1-1'!V142<>"",'4-1-1'!V142,"") -> 6485.6608 | D88: =IF('4-1-1'!W142<>"",'4-1-1'!W142,"") -> 6.3790039 | E88: =D88-G88 -> -0.42887809 | F88: 2832.1033 | G88: 6.807882 | H88: =G88-J88 -> -0.2443362 | I88: 3103.2185 | J88: 7.0522182 | K88: =J88-M88 -> 0.75221817 | L88: 2598.92 | M88: 6.3 | N88: =M88-P88 -> 1.7 | O88: 1938.59 | P88: 4.6 | Q88: =P88-S88 -> 0.8 | R88: 1724 | S88: 3.8
B89: 社外へ全部委託 | C89: =IF('4-1-1'!V143<>"",'4-1-1'!V143,"") -> 9150.2085 | D89: =IF('4-1-1'!W143<>"",'4-1-1'!W143,"") -> 8.999733 | E89: =D89-G89 -> 1.6529966 | F89: 3056.2687 | G89: 7.3467364 | H89: =G89-J89 -> 1.8687783 | I89: 2410.49 | J89: 5.4779581 | K89: =J89-M89 -> -0.022041902 | L89: 2256.68 | M89: 5.5 | N89: =M89-P89 -> 0.6 | O89: 2082.82 | P89: 4.9 | Q89: =P89-S89 -> 1.2 | R89: 1682 | S89: 3.7
B90: 作成していない | C90: =IF('4-1-1'!V144<>"",'4-1-1'!V144,"") -> 47605.569 | D90: =IF('4-1-1'!W144<>"",'4-1-1'!W144,"") -> 46.822694 | E90: =D90-G90 -> 10.525679 | F90: 15099.688 | G90: 36.297015 | H90: =G90-J90 -> -0.12153604 | I90: 16025.415 | J90: 36.418551 | K90: =J90-M90 -> 2.4185508 | L90: 14007.19 | M90: 34 | N90: =M90-P90 -> -4.4 | O90: 16296.1 | P90: 38.4 | Q90: =P90-S90 -> 2.4 | R90: 16350 | S90: 36
B91: 小 計 | C91: =IF('4-1-1'!V145<>"",'4-1-1'!V145,"") -> 101672 | D91: =IF('4-1-1'!W145<>"",'4-1-1'!W145,"") -> 100 | E91: - | F91: 41600.358 | G91: 100 | H91: - | I91: 44003.439 | J91: 100 | K91: - | L91: 41199.3 | M91: 100 | N91: - | O91: 42461.48 | P91: 100 | Q91: - | R91: 45439 | S91: 100
A92: 設備 | B92: 社内で作成 | C92: =IF('4-1-1'!V181<>"",'4-1-1'!V181,"") -> 31914.926 | D92: =IF('4-1-1'!W181<>"",'4-1-1'!W181,"") -> 47.139603 | E92: =D92-G92 -> -6.0423449 | F92: 17504.327 | G92: 53.181948 | H92: =G92-J92 -> -7.2374426 | I92: 22162.842 | J92: 60.419391 | K92: =J92-M92 -> 0.91939061 | L92: 20866.1 | M92: 59.5 | N92: =M92-P92 -> -5.5 | O92: 23964.33 | P92: 65 | Q92: =P92-S92 -> 3.1 | R92: 24583 | S92: 61.9
B93: 社外へ一部委託 | C93: =IF('4-1-1'!V182<>"",'4-1-1'!V182,"") -> 6212.7939 | D93: =IF('4-1-1'!W182<>"",'4-1-1'!W182,"") -> 9.1765415 | E93: =D93-G93 -> 1.5255683 | F93: 2518.2443 | G93: 7.6509732 | H93: =G93-J93 -> 1.5615136 | I93: 2233.7155 | J93: 6.0894596 | K93: =J93-M93 -> 1.4894596 | L93: 1600.51 | M93: 4.6 | N93: =M93-P93 -> 0.7 | O93: 1428.67 | P93: 3.9 | Q93: =P93-S93 -> 0.6 | R93: 1312 | S93: 3.3
B94: 社外へ全部委託 | C94: =IF('4-1-1'!V183<>"",'4-1-1'!V183,"") -> 4755.116 | D94: =IF('4-1-1'!W183<>"",'4-1-1'!W183,"") -> 7.0234938 | E94: =D94-G94 -> 0.54345624 | F94: 2132.8421 | G94: 6.4800376 | H94: =G94-J94 -> 1.4876552 | I94: 1831.2893 | J94: 4.9923824 | K94: =J94-M94 -> 0.49238236 | L94: 1579.22 | M94: 4.5 | N94: =M94-P94 -> 1.5 | O94: 1114.63 | P94: 3 | Q94: =P94-S94 -> 0.4 | R94: 1038 | S94: 2.6
B95: 作成していない | C95: =IF('4-1-1'!V184<>"",'4-1-1'!V184,"") -> 24820.165 | D95: =IF('4-1-1'!W184<>"",'4-1-1'!W184,"") -> 36.660362 | E95: =D95-G95 -> 3.9733204 | F95: 10758.625 | G95: 32.687041 | H95: =G95-J95 -> 4.1882738 | I95: 10453.824 | J95: 28.498767 | K95: =J95-M95 -> -3.0012326 | L95: 11043.53 | M95: 31.5 | N95: =M95-P95 -> 3.4 | O95: 10340.86 | P95: 28.1 | Q95: =P95-S95 -> -4.1 | R95: 12813 | S95: 32.2
B96: 小 計 | C96: =IF('4-1-1'!V185<>"",'4-1-1'!V185,"") -> 67703 | D96: =IF('4-1-1'!W185<>"",'4-1-1'!W185,"") -> 100 | E96: - | F96: 32914.039 | G96: 100 | H96: - | I96: 36681.671 | J96: 100 | K96: - | L96: 35089.36 | M96: 100 | N96: - | O96: 36848.49 | P96: 100 | Q96: - | R96: 39745 | S96: 100
A97: 合 計 | B97: 社内で作成 | C97: =IF('4-1-1'!V186<>"",'4-1-1'!V186,"") -> 144266.3 | D97: =IF('4-1-1'!W186<>"",'4-1-1'!W186,"") -> 47.228732 | E97: =D97-G97 -> -6.4461666 | F97: 77933.688 | G97: 53.674899 | H97: =G97-J97 -> -4.0669474 | I97: 95978.432 | J97: 57.741846 | K97: =J97-M97 -> -0.75815384 | L97: 95300.37 | M97: 58.5 | N97: =M97-P97 -> -2.5 | O97: 106741.93 | P97: 61 | Q97: =P97-S97 -> 1.2 | R97: 122291 | S97: 59.8
B98: 社外へ一部委託 | C98: =IF('4-1-1'!V187<>"",'4-1-1'!V187,"") -> 21849.711 | D98: =IF('4-1-1'!W187<>"",'4-1-1'!W187,"") -> 7.1529812 | E98: =D98-G98 -> 0.85454584 | F98: 9145.0624 | G98: 6.2984354 | H98: =G98-J98 -> 0.078736827 | I98: 10338.376 | J98: 6.2196986 | K98: =J98-M98 -> 1.1196986 | L98: 8299.97 | M98: 5.1 | N98: =M98-P98 -> 1 | O98: 7234.91 | P98: 4.1 | Q98: =P98-S98 -> 0.5 | R98: 7310 | S98: 3.6
B99: 社外へ全部委託 | C99: =IF('4-1-1'!V188<>"",'4-1-1'!V188,"") -> 26309.658 | D99: =IF('4-1-1'!W188<>"",'4-1-1'!W188,"") -> 8.6130425 | E99: =D99-G99 -> 1.7685918 | F99: 9937.8536 | G99: 6.8444507 | H99: =G99-J99 -> 1.5857971 | I99: 8740.9281 | J99: 5.2586536 | K99: =J99-M99 -> 0.15865362 | L99: 8246.07 | M99: 5.1 | N99: =M99-P99 -> 1.6 | O99: 6178.03 | P99: 3.5 | Q99: =P99-S99 -> 0 | R99: 7192 | S99: 3.5
B100: 作成していない | C100: =IF('4-1-1'!V189<>"",'4-1-1'!V189,"") -> 113037.33 | D100: =IF('4-1-1'!W189<>"",'4-1-1'!W189,"") -> 37.005244 | E100: =D100-G100 -> 3.8230289 | F100: 48179.176 | G100: 33.182215 | H100: =G100-J100 -> 2.4024135 | I100: 51162.152 | J100: 30.779802 | K100: =J100-M100 -> -0.62019836 | L100: 51077.01 | M100: 31.4 | N100: =M100-P100 -> 0.1 | O100: 54702.03 | P100: 31.3 | Q100: =P100-S100 -> -1.8 | R100: 67539 | S100: 33.1
C101: =IF('4-1-1'!V190<>"",'4-1-1'!V190,"") -> 305463 | D101: =IF('4-1-1'!W190<>"",'4-1-1'!W190,"") -> 100 | E101: - | F101: 145195.78 | G101: 100 | H101: - | I101: 166219.89 | J101: 100 | K101: - | L101: 162923.42 | M101: 100 | N101: - | O101: 174856.9 | P101: 100 | Q101: - | R101: 204331 | S101: 100
P102: =SUBSTITUTE('4-1-1'!P192,"2．","（注）")

Sheet 4-1-3
A1: 表4－1－3 会計帳簿等の作成状況＜仕訳帳＞
W3: （単位：社、％）
C4: 資本金 | D4: 個 人 | F4: 法 人 | V4: 合 計
A5: 業種 | C5: 作成状況 | F5: 500万円未満 | H5: 500万円以上 1000万円未満 | J5: 1000万円以上 3000万円未満 | L5: 3000万円以上 5000万円未満 | N5: 5000万円以上 1億円未満 | P5: 1億円以上 3億円未満 | R5: 3億円以上 10億円未満 | T5: 10億円以上
A6: 一般土木建築 | B6: 一般土木 建築工事業 | C6: 社内で作成 | D6: 297 | E6: 75 | F6: 462 | G6: 60 | H6: 676.42857 | I6: 71.428571 | J6: 2299.92 | K6: 84 | L6: 1203.9474 | M6: 78.947368 | N6: 644.72727 | O6: 81.818182 | P6: 160.64286 | Q6: 92.857143 | R6: 26 | S6: 100 | T6: 52 | U6: 100 | V6: 5822.6661 | W6: 78.525503
C7: 社外へ一部委託 | F7: 154 | G7: 20 | J7: 164.28 | K7: 6 | L7: 240.78947 | M7: 15.789474 | N7: 57.309091 | O7: 7.2727273 | P7: 4.1190476 | Q7: 2.3809524 | V7: 620.49761 | W7: 8.3681404
C8: 社外へ全部委託 | F8: 154 | G8: 20 | H8: 270.57143 | I8: 28.571429 | J8: 273.8 | K8: 10 | L8: 80.263158 | M8: 5.2631579 | N8: 57.309091 | O8: 7.2727273 | P8: 4.1190476 | Q8: 2.3809524 | V8: 840.06272 | W8: 11.329234
C9: 作成していない | D9: 99 | E9: 25 | N9: 28.654545 | O9: 3.6363636 | P9: 4.1190476 | Q9: 2.3809524 | V9: 131.77359 | W9: 1.777122
C10: 小 計 | D10: 396 | E10: 100 | F10: 770 | G10: 100 | H10: 947 | I10: 100 | J10: 2738 | K10: 100 | L10: 1525 | M10: 100 | N10: 788 | O10: 100 | P10: 173 | Q10: 100 | R10: 26 | S10: 100 | T10: 52 | U10: 100 | V10: 7415 | W10: 100
A11: 土木 | B11: 土木工事業 | C11: 社内で作成 | D11: 842.08333 | E11: 41.666667 | F11: 3232.8125 | G11: 52.083333 | H11: 3176.1864 | I11: 52.542373 | J11: 7785.5263 | K11: 65.789474 | L11: 2868.8049 | M11: 76.829268 | N11: 773.44068 | O11: 69.491525 | P11: 96.5625 | Q11: 93.75 | R11: 14.4 | S11: 80 | T11: 20 | U11: 100 | V11: 18809.817 | W11: 60.491451
C12: 社外へ一部委託 | D12: 168.41667 | E12: 8.3333333 | F12: 775.875 | G12: 12.5 | H12: 1229.4915 | I12: 20.338983 | J12: 1868.5263 | K12: 15.789474 | L12: 637.5122 | M12: 17.073171 | N12: 169.77966 | O12: 15.254237 | P12: 3.21875 | Q12: 3.125 | R12: 3.6 | S12: 20 | V12: 4856.4201 | W12: 15.61801
C13: 社外へ全部委託 | D13: 336.83333 | E13: 16.666667 | F13: 1939.6875 | G13: 31.25 | H13: 1331.9492 | I13: 22.033898 | J13: 1089.9737 | K13: 9.2105263 | L13: 227.68293 | M13: 6.097561 | N13: 150.91525 | O13: 13.559322 | V13: 5077.0419 | W13: 16.327518
C14: 作成していない | D14: 673.66667 | E14: 33.333333 | F14: 258.625 | G14: 4.1666667 | H14: 307.37288 | I14: 5.0847458 | J14: 1089.9737 | K14: 9.2105263 | N14: 18.864407 | O14: 1.6949153 | P14: 3.21875 | Q14: 3.125 | V14: 2351.7214 | W14: 7.563021
C15: 小 計 | D15: 2021 | E15: 100 | F15: 6207 | G15: 100 | H15: 6045 | I15: 100 | J15: 11834 | K15: 100 | L15: 3734 | M15: 100 | N15: 1113 | O15: 100 | P15: 103 | Q15: 100 | R15: 18 | S15: 100 | T15: 20 | U15: 100 | V15: 31095 | W15: 100
B16: ほ装工事業 | C16: 社内で作成 | D16: 9.6666667 | E16: 33.333333 | F16: 397.17241 | G16: 44.827586 | H16: 445.625 | I16: 62.5 | J16: 1028.9048 | K16: 73.809524 | L16: 268.43478 | M16: 78.26087 | N16: 104.77419 | O16: 90.322581 | P16: 8 | Q16: 80 | T16: 6 | U16: 100 | V16: 2268.5778 | W16: 64.872114
C17: 社外へ一部委託 | D17: 4.8333333 | E17: 16.666667 | F17: 91.655172 | G17: 10.344828 | H17: 59.416667 | I17: 8.3333333 | J17: 199.14286 | K17: 14.285714 | L17: 44.73913 | M17: 13.043478 | N17: 11.225806 | O17: 9.6774194 | P17: 2 | Q17: 20 | V17: 413.01297 | W17: 11.810494
C18: 社外へ全部委託 | D18: 9.6666667 | E18: 33.333333 | F18: 366.62069 | G18: 41.37931 | H18: 178.25 | I18: 25 | J18: 132.7619 | K18: 9.5238095 | L18: 14.913043 | M18: 4.3478261 | V18: 702.2123 | W18: 20.08042
C19: 作成していない | D19: 4.8333333 | E19: 16.666667 | F19: 30.551724 | G19: 3.4482759 | H19: 29.708333 | I19: 4.1666667 | J19: 33.190476 | K19: 2.3809524 | L19: 14.913043 | M19: 4.3478261 | V19: 113.19691 | W19: 3.236972
C20: 小 計 | D20: 29 | E20: 100 | F20: 886 | G20: 100 | H20: 713 | I20: 100 | J20: 1394 | K20: 100 | L20: 343 | M20: 100 | N20: 116 | O20: 100 | P20: 10 | Q20: 100 | T20: 6 | U20: 100 | V20: 3497 | W20: 100
B21: しゅんせつ 工事業 | C21: 社内で作成 | J21: 30.666667 | K21: 66.666667 | L21: 18 | M21: 66.666667 | N21: 8 | O21: 100 | V21: 56.666667 | W21: 37.777778
C22: 社外へ一部委託 | L22: 9 | M22: 33.333333 | V22: 9 | W22: 6
C23: 社外へ全部委託 | H23: 69 | I23: 100 | J23: 15.333333 | K23: 33.333333 | V23: 84.333333 | W23: 56.222222
C24: 作成していない
C25: 小 計 | H25: 69 | I25: 100 | J25: 46 | K25: 100 | L25: 27 | M25: 100 | N25: 8 | O25: 100 | V25: 150 | W25: 100
B26: 造園工事業 | C26: 社内で作成 | D26: 406 | E26: 100 | F26: 129.8 | G26: 20 | H26: 276.75 | I26: 75 | J26: 497.10638 | K26: 70.212766 | L26: 121.97872 | M26: 82.978723 | N26: 26 | O26: 76.470588 | V26: 1457.6351 | W26: 63.019244
C27: 社外へ一部委託 | F27: 389.4 | G27: 60 | H27: 61.5 | I27: 16.666667 | J27: 90.382979 | K27: 12.765957 | L27: 15.638298 | M27: 10.638298 | N27: 2 | O27: 5.8823529 | V27: 558.92128 | W27: 24.164344
C28: 社外へ全部委託 | F28: 129.8 | G28: 20 | J28: 105.44681 | K28: 14.893617 | L28: 3.1276596 | M28: 2.1276596 | N28: 6 | O28: 17.647059 | V28: 244.37447 | W28: 10.56526
C29: 作成していない | H29: 30.75 | I29: 8.3333333 | J29: 15.06383 | K29: 2.1276596 | L29: 6.2553191 | M29: 4.2553191 | V29: 52.069149 | W29: 2.2511521
C30: 小 計 | D30: 406 | E30: 100 | F30: 649 | G30: 100 | H30: 369 | I30: 100 | J30: 708 | K30: 100 | L30: 147 | M30: 100 | N30: 34 | O30: 100 | V30: 2313 | W30: 100
B31: 水道施設 工事業 | C31: 社内で作成 | D31: 65 | E31: 100 | F31: 238.76923 | G31: 61.538462 | H31: 237.77778 | I31: 55.555556 | J31: 482.35135 | K31: 72.972973 | L31: 118.5 | M31: 75 | N31: 37.333333 | O31: 77.777778 | V31: 1179.7317 | W31: 67.37474
C32: 社外へ一部委託 | F32: 89.538462 | G32: 23.076923 | H32: 47.555556 | I32: 11.111111 | J32: 71.459459 | K32: 10.810811 | L32: 19.75 | M32: 12.5 | N32: 10.666667 | O32: 22.222222 | V32: 238.97014 | W32: 13.647638
C33: 社外へ全部委託 | F33: 59.692308 | G33: 15.384615 | H33: 95.111111 | I33: 22.222222 | J33: 71.459459 | K33: 10.810811 | L33: 19.75 | M33: 12.5 | P33: 3 | Q33: 100 | V33: 249.01288 | W33: 14.221181
C34: 作成していない | H34: 47.555556 | I34: 11.111111 | J34: 35.72973 | K34: 5.4054054 | V34: 83.285285 | W34: 4.7564412
C35: 小 計 | D35: 65 | E35: 100 | F35: 388 | G35: 100 | H35: 428 | I35: 100 | J35: 661 | K35: 100 | L35: 158 | M35: 100 | N35: 48 | O35: 100 | P35: 3 | Q35: 100 | V35: 1751 | W35: 100
B36: 小 計 | C36: 社内で作成 | D36: 1322.75 | E36: 52.469258 | F36: 3998.5541 | G36: 49.182708 | H36: 4136.3392 | I36: 54.254187 | J36: 9824.5555 | K36: 67.093871 | L36: 3395.7184 | M36: 77.017881 | N36: 949.5482 | O36: 71.990008 | P36: 104.5625 | Q36: 90.140086 | R36: 14.4 | S36: 80 | T36: 26 | U36: 100 | V36: 23772.428 | W36: 61.259671
C37: 社外へ一部委託 | D37: 173.25 | E37: 6.8722729 | F37: 1346.4686 | G37: 16.56173 | H37: 1397.9637 | I37: 18.336356 | J37: 2229.5116 | K37: 15.225784 | L37: 726.63962 | M37: 16.480826 | N37: 193.67213 | O37: 14.683255 | P37: 5.21875 | Q37: 4.4989224 | R37: 3.6 | S37: 20 | V37: 6076.3245 | W37: 15.658209
C38: 社外へ全部委託 | D38: 346.5 | E38: 13.744546 | F38: 2495.8005 | G38: 30.698653 | H38: 1674.3103 | I38: 21.961048 | J38: 1414.9752 | K38: 9.6631509 | L38: 265.47363 | M38: 6.0211755 | N38: 156.91525 | O38: 11.896532 | P38: 3 | Q38: 2.5862069 | V38: 6356.9748 | W38: 16.381423
C39: 作成していない | D39: 678.5 | E39: 26.913923 | F39: 289.17672 | G39: 3.5569093 | H39: 415.38677 | I39: 5.4484099 | J39: 1173.9577 | K39: 8.017194 | L39: 21.168363 | M39: 0.48011709 | N39: 18.864407 | O39: 1.4302052 | P39: 3.21875 | Q39: 2.7747845 | V39: 2600.2727 | W39: 6.7006977
C40: 小 計 | D40: 2521 | E40: 100 | F40: 8130 | G40: 100 | H40: 7624 | I40: 100 | J40: 14643 | K40: 100 | L40: 4409 | M40: 100 | N40: 1319 | O40: 100 | P40: 116 | Q40: 100 | R40: 18 | S40: 100 | T40: 26 | U40: 100 | V40: 38806 | W40: 100
A41: 建築 | B41: 建築工事業 | C41: 社内で作成 | D41: 6183.7895 | E41: 63.157895 | F41: 9516 | G41: 50 | H41: 7195.1944 | I41: 52.777778 | J41: 17271 | K41: 75 | L41: 4419.3846 | M41: 81.538462 | N41: 1566.6207 | O41: 82.758621 | P41: 315.71429 | Q41: 97.142857 | R41: 46.421053 | S41: 94.736842 | T41: 44 | U41: 100 | V41: 46558.125 | W41: 63.590964
C42: 社外へ一部委託 | D42: 515.31579 | E42: 5.2631579 | F42: 3398.5714 | G42: 17.857143 | H42: 2272.1667 | I42: 16.666667 | J42: 3030 | K42: 13.157895 | L42: 583.69231 | M42: 10.769231 | N42: 163.18966 | O42: 8.6206897 | R42: 2.5789474 | S42: 5.2631579 | V42: 9965.5148 | W42: 13.611302
C43: 社外へ全部委託 | D43: 2061.2632 | E43: 21.052632 | F43: 4758 | G43: 25 | H43: 3408.25 | I43: 25 | J43: 2121 | K43: 9.2105263 | L43: 416.92308 | M43: 7.6923077 | N43: 65.275862 | O43: 3.4482759 | P43: 9.2857143 | Q43: 2.8571429 | V43: 12839.998 | W43: 17.537387
C44: 作成していない | D44: 1030.6316 | E44: 10.526316 | F44: 1359.4286 | G44: 7.1428571 | H44: 757.38889 | I44: 5.5555556 | J44: 606 | K44: 2.6315789 | N44: 97.913793 | O44: 5.1724138 | V44: 3851.3628 | W44: 5.2603467
C45: 小 計 | D45: 9791 | E45: 100 | F45: 19032 | G45: 100 | H45: 13633 | I45: 100 | J45: 23028 | K45: 100 | L45: 5420 | M45: 100 | N45: 1893 | O45: 100 | P45: 325 | Q45: 100 | R45: 49 | S45: 100 | T45: 44 | U45: 100 | V45: 73215 | W45: 100
B46: 木造建築 工事業 | C46: 社内で作成 | D46: 2375.4545 | E46: 45.454545 | F46: 2288.7586 | G46: 48.275862 | H46: 1613.5814 | I46: 55.813953 | J46: 2435.4 | K46: 73.333333 | L46: 230.88235 | M46: 73.529412 | N46: 81.304348 | O46: 73.913043 | P46: 39.416667 | Q46: 91.666667 | R46: 2 | S46: 100 | T46: 4 | U46: 100 | V46: 9070.7979 | W46: 54.472724
C47: 社外へ一部委託 | F47: 1471.3448 | G47: 31.034483 | H47: 672.32558 | I47: 23.255814 | J47: 221.4 | K47: 6.6666667 | L47: 55.411765 | M47: 17.647059 | N47: 19.130435 | O47: 17.391304 | V47: 2439.6126 | W47: 14.650568
C48: 社外へ全部委託 | D48: 950.18182 | E48: 18.181818 | F48: 490.44828 | G48: 10.344828 | H48: 537.86047 | I48: 18.604651 | J48: 590.4 | K48: 17.777778 | L48: 18.470588 | M48: 5.8823529 | N48: 9.5652174 | O48: 8.6956522 | P48: 3.5833333 | Q48: 8.3333333 | V48: 2600.5097 | W48: 15.616801
C49: 作成していない | D49: 1900.3636 | E49: 36.363636 | F49: 490.44828 | G49: 10.344828 | H49: 67.232558 | I49: 2.3255814 | J49: 73.8 | K49: 2.2222222 | L49: 9.2352941 | M49: 2.9411765 | V49: 2541.0798 | W49: 15.259907
C50: 小 計 | D50: 5226 | E50: 100 | F50: 4741 | G50: 100 | H50: 2891 | I50: 100 | J50: 3321 | K50: 100 | L50: 314 | M50: 100 | N50: 110 | O50: 100 | P50: 43 | Q50: 100 | R50: 2 | S50: 100 | T50: 4 | U50: 100 | V50: 16652 | W50: 100
B51: 小 計 | C51: 社内で作成 | D51: 8559.244 | E51: 56.99703 | F51: 11804.759 | G51: 49.656159 | H51: 8808.7758 | I51: 53.30898 | J51: 19706.4 | K51: 74.789935 | L51: 4650.267 | M51: 81.099877 | N51: 1647.925 | O51: 82.272843 | P51: 355.13095 | Q51: 96.502976 | R51: 48.421053 | S51: 94.94324 | T51: 48 | U51: 100 | V51: 55628.922 | W51: 61.90139
C52: 社外へ一部委託 | D52: 515.31579 | E52: 3.4315495 | F52: 4869.9163 | G52: 20.485072 | H52: 2944.4922 | I52: 17.819488 | J52: 3251.4 | K52: 12.339747 | L52: 639.10407 | M52: 11.145868 | N52: 182.32009 | O52: 9.102351 | R52: 2.5789474 | S52: 5.0567595 | V52: 12405.127 | W52: 13.803874
C53: 社外へ全部委託 | D53: 3011.445 | E53: 20.053572 | F53: 5248.4483 | G53: 22.077349 | H53: 3946.1105 | I53: 23.881085 | J53: 2711.4 | K53: 10.290334 | L53: 435.39367 | M53: 7.5931926 | N53: 74.841079 | O53: 3.7364493 | P53: 12.869048 | Q53: 3.4970238 | V53: 15440.508 | W53: 17.18151
C54: 作成していない | D54: 2930.9952 | E54: 19.517848 | F54: 1849.8768 | G54: 7.7814195 | H54: 824.62145 | I54: 4.9904469 | J54: 679.8 | K54: 2.5799841 | L54: 9.2352941 | M54: 0.16106198 | N54: 97.913793 | O54: 4.8883571 | V54: 6392.4426 | W54: 7.1132258
C55: 小 計 | D55: 15017 | E55: 100 | F55: 23773 | G55: 100 | H55: 16524 | I55: 100 | J55: 26349 | K55: 100 | L55: 5734 | M55: 100 | N55: 2003 | O55: 100 | P55: 368 | Q55: 100 | R55: 51 | S55: 100 | T55: 48 | U55: 100 | V55: 89867 | W55: 100
A56: 職別 | B56: 大工工事業 | C56: 社内で作成 | D56: 1364.4 | E56: 60 | F56: 1062.6098 | G56: 46.341463 | H56: 613.71429 | I56: 42.857143 | J56: 955.59574 | K56: 70.212766 | L56: 55.04 | M56: 64 | N56: 28.875 | O56: 68.75 | P56: 1.6666667 | Q56: 33.333333 | V56: 4081.9015 | W56: 54.476197
C57: 社外へ一部委託 | D57: 151.6 | E57: 6.6666667 | F57: 335.56098 | G57: 14.634146 | H57: 340.95238 | I57: 23.809524 | J57: 144.78723 | K57: 10.638298 | L57: 17.2 | M57: 20 | N57: 7.875 | O57: 18.75 | P57: 1.6666667 | Q57: 33.333333 | V57: 999.64226 | W57: 13.341015
C58: 社外へ全部委託 | D58: 151.6 | E58: 6.6666667 | F58: 671.12195 | G58: 29.268293 | H58: 306.85714 | I58: 21.428571 | J58: 173.74468 | K58: 12.765957 | L58: 10.32 | M58: 12 | N58: 5.25 | O58: 12.5 | P58: 1.6666667 | Q58: 33.333333 | V58: 1320.5604 | W58: 17.623922
C59: 作成していない | D59: 606.4 | E59: 26.666667 | F59: 223.70732 | G59: 9.7560976 | H59: 170.47619 | I59: 11.904762 | J59: 86.87234 | K59: 6.3829787 | L59: 3.44 | M59: 4 | V59: 1090.8958 | W59: 14.558866
C60: 小 計 | D60: 2274 | E60: 100 | F60: 2293 | G60: 100 | H60: 1432 | I60: 100 | J60: 1361 | K60: 100 | L60: 86 | M60: 100 | N60: 42 | O60: 100 | P60: 5 | Q60: 100 | V60: 7493 | W60: 100
A61: 職別 | B61: とび・土工・ コンクリート 工事業 | C61: 社内で作成 | D61: 556.53846 | E61: 38.461538 | F61: 4335 | G61: 55.555556 | H61: 2417.8605 | I61: 55.813953 | J61: 2482.632 | K61: 69.6 | L61: 249.46154 | M61: 75.824176 | N61: 136.98387 | O61: 91.935484 | P61: 30.555556 | Q61: 92.592593 | R61: 2 | S61: 100 | T61: 1 | U61: 100 | V61: 10212.032 | W61: 57.815954
C62: 社外へ一部委託 | F62: 1560.6 | G62: 20 | H62: 1057.814 | I62: 24.418605 | J62: 599.256 | K62: 16.8 | L62: 43.384615 | M62: 13.186813 | N62: 9.6129032 | O62: 6.4516129 | P62: 2.4444444 | Q62: 7.4074074 | V62: 3273.1119 | W62: 18.530895
C63: 社外へ全部委託 | D63: 445.23077 | E63: 30.769231 | F63: 1213.8 | G63: 15.555556 | H63: 654.83721 | I63: 15.116279 | J63: 342.432 | K63: 9.6 | L63: 28.923077 | M63: 8.7912088 | N63: 2.4032258 | O63: 1.6129032 | V63: 2687.6263 | W63: 15.216137
C64: 作成していない | D64: 445.23077 | E64: 30.769231 | F64: 693.6 | G64: 8.8888889 | H64: 201.48837 | I64: 4.6511628 | J64: 142.68 | K64: 4 | L64: 7.2307692 | M64: 2.1978022 | V64: 1490.2299 | W64: 8.4370147
C65: 小 計 | D65: 1447 | E65: 100 | F65: 7803 | G65: 100 | H65: 4332 | I65: 100 | J65: 3567 | K65: 100 | L65: 329 | M65: 100 | N65: 149 | O65: 100 | P65: 33 | Q65: 100 | R65: 2 | S65: 100 | T65: 1 | U65: 100 | V65: 17663 | W65: 100
B66: 鋼構造物 工事業 | C66: 社内で作成 | D66: 81.375 | E66: 37.5 | F66: 838.92857 | G66: 53.571429 | H66: 474.17857 | I66: 60.714286 | J66: 1546.0526 | K66: 82.45614 | L66: 125.02326 | M66: 74.418605 | N66: 70.55 | O66: 85 | P66: 9 | Q66: 100 | R66: 5 | S66: 100 | T66: 3 | U66: 100 | V66: 3153.108 | W66: 66.987636
C67: 社外へ一部委託 | D67: 27.125 | E67: 12.5 | F67: 279.64286 | G67: 17.857143 | H67: 139.46429 | I67: 17.857143 | J67: 98.684211 | K67: 5.2631579 | L67: 23.44186 | M67: 13.953488 | N67: 8.3 | O67: 10 | V67: 576.65821 | W67: 12.251077
C68: 社外へ全部委託 | D68: 27.125 | E68: 12.5 | F68: 391.5 | G68: 25 | H68: 139.46429 | I68: 17.857143 | J68: 131.57895 | K68: 7.0175439 | L68: 15.627907 | M68: 9.3023256 | N68: 4.15 | O68: 5 | V68: 709.44614 | W68: 15.072151
C69: 作成していない | D69: 81.375 | E69: 37.5 | F69: 55.928571 | G69: 3.5714286 | H69: 27.892857 | I69: 3.5714286 | J69: 98.684211 | K69: 5.2631579 | L69: 3.9069767 | M69: 2.3255814 | V69: 267.78762 | W69: 5.6891357
C70: 小 計 | D70: 217 | E70: 100 | F70: 1566 | G70: 100 | H70: 781 | I70: 100 | J70: 1875 | K70: 100 | L70: 168 | M70: 100 | N70: 83 | O70: 100 | P70: 9 | Q70: 100 | R70: 5 | S70: 100 | T70: 3 | U70: 100 | V70: 4707 | W70: 100
B71: 鉄筋工事業 | C71: 社内で作成 | D71: 1315.2 | E71: 60 | F71: 687.12903 | G71: 54.83871 | H71: 359.79167 | I71: 45.833333 | J71: 442.2 | K71: 60 | L71: 26.857143 | M71: 57.142857 | N71: 17.6 | O71: 80 | V71: 2848.7778 | W71: 56.568265
C72: 社外へ一部委託 | F72: 121.25806 | G72: 9.6774194 | H72: 163.54167 | I72: 20.833333 | J72: 114.64444 | K72: 15.555556 | L72: 3.3571429 | M72: 7.1428571 | V72: 402.80132 | W72: 7.9984376
C73: 社外へ全部委託 | F73: 363.77419 | G73: 29.032258 | H73: 228.95833 | I73: 29.166667 | J73: 98.266667 | K73: 13.333333 | L73: 13.428571 | M73: 28.571429 | N73: 4.4 | O73: 20 | V73: 708.82776 | W73: 14.075214
C74: 作成していない | D74: 876.8 | E74: 40 | F74: 80.83871 | G74: 6.4516129 | H74: 32.708333 | I74: 4.1666667 | J74: 81.888889 | K74: 11.111111 | L74: 3.3571429 | M74: 7.1428571 | V74: 1075.5931 | W74: 21.358083
C75: 小 計 | D75: 2192 | E75: 100 | F75: 1253 | G75: 100 | H75: 785 | I75: 100 | J75: 737 | K75: 100 | L75: 47 | M75: 100 | N75: 22 | O75: 100 | V75: 5036 | W75: 100
B76: 解体工事業 | C76: 社内で作成 | F76: 744.5 | G76: 50 | H76: 224.18182 | I76: 27.272727 | J76: 576.75 | K76: 75 | L76: 91.2 | M76: 60 | N76: 29.6 | O76: 80 | P76: 7 | Q76: 100 | V76: 1673.2318 | W76: 45.917448
C77: 社外へ一部委託 | F77: 425.42857 | G77: 28.571429 | H77: 149.45455 | I77: 18.181818 | J77: 96.125 | K77: 12.5 | L77: 54.72 | M77: 36 | N77: 7.4 | O77: 20 | V77: 733.12812 | W77: 20.118774
C78: 社外へ全部委託 | D78: 368 | E78: 100 | H78: 373.63636 | I78: 45.454545 | J78: 72.09375 | K78: 9.375 | L78: 6.08 | M78: 4 | V78: 819.81011 | W78: 22.497533
C79: 作成していない | F79: 319.07143 | G79: 21.428571 | H79: 74.727273 | I79: 9.0909091 | J79: 24.03125 | K79: 3.125 | V79: 417.82995 | W79: 11.466245
C80: 小 計 | D80: 368 | E80: 100 | F80: 1489 | G80: 100 | H80: 822 | I80: 100 | J80: 769 | K80: 100 | L80: 152 | M80: 100 | N80: 37 | O80: 100 | P80: 7 | Q80: 100 | V80: 3644 | W80: 100
B81: 躯体関係計 | C81: 社内で作成 | D81: 3317.5135 | E81: 51.054378 | F81: 7668.1674 | G81: 53.236374 | H81: 4089.7268 | I81: 50.168386 | J81: 6003.2304 | K81: 72.249734 | L81: 547.58194 | M81: 70.023266 | N81: 283.60887 | O81: 85.167829 | P81: 48.222222 | Q81: 89.300412 | R81: 7 | S81: 100 | T81: 4 | U81: 100 | V81: 21969.051 | W81: 56.998809
C82: 社外へ一部委託 | D82: 178.725 | E82: 2.7504617 | F82: 2722.4905 | G82: 18.900934 | H82: 1851.2268 | I82: 22.708867 | J82: 1053.4969 | K82: 12.678985 | L82: 142.10362 | M82: 18.171818 | N82: 33.187903 | O82: 9.9663373 | P82: 4.1111111 | Q82: 7.6131687 | V82: 5985.3418 | W82: 15.528998
C83: 社外へ全部委託 | D83: 991.95577 | E83: 15.265555 | F83: 2640.1961 | G83: 18.329604 | H83: 1703.7533 | I83: 20.89982 | J83: 818.11604 | K83: 9.8461433 | L83: 74.379555 | M83: 9.5114521 | N83: 16.203226 | O83: 4.8658336 | P83: 1.6666667 | Q83: 3.0864198 | V83: 6246.2707 | W83: 16.20598
C84: 作成していない | D84: 2009.8058 | E84: 30.929606 | F84: 1373.146 | G84: 9.5330882 | H84: 507.29303 | I84: 6.2229272 | J84: 434.15669 | K84: 5.2251377 | L84: 17.934889 | M84: 2.293464 | V84: 4342.3364 | W84: 11.266213
C85: 小 計 | D85: 6498 | E85: 100 | F85: 14404 | G85: 100 | H85: 8152 | I85: 100 | J85: 8309 | K85: 100 | L85: 782 | M85: 100 | N85: 333 | O85: 100 | P85: 54 | Q85: 100 | R85: 7 | S85: 100 | T85: 4 | U85: 100 | V85: 38543 | W85: 100
B86: 左官工事業 | C86: 社内で作成 | D86: 497.5 | E86: 50 | F86: 767.2 | G86: 56 | H86: 341.09091 | I86: 72.727273 | J86: 265.5 | K86: 50 | L86: 17.181818 | M86: 81.818182 | N86: 8 | O86: 50 | V86: 1896.4727 | W86: 55.745818
C87: 社外へ一部委託 | F87: 274 | G87: 20 | H87: 85.272727 | I87: 18.181818 | J87: 106.2 | K87: 20 | L87: 1.9090909 | M87: 9.0909091 | V87: 467.38182 | W87: 13.738443
C88: 社外へ全部委託 | F88: 219.2 | G88: 16 | J88: 159.3 | K88: 30 | L88: 1.9090909 | M88: 9.0909091 | V88: 380.40909 | W88: 11.181925
C89: 作成していない | D89: 497.5 | E89: 50 | F89: 109.6 | G89: 8 | H89: 42.636364 | I89: 9.0909091 | N89: 8 | O89: 50 | V89: 657.73636 | W89: 19.333814
C90: 小 計 | D90: 995 | E90: 100 | F90: 1370 | G90: 100 | H90: 469 | I90: 100 | J90: 531 | K90: 100 | L90: 21 | M90: 100 | N90: 16 | O90: 100 | V90: 3402 | W90: 100
B91: 石工事業 | C91: 社内で作成 | F91: 181 | G91: 33.333333 | H91: 80.416667 | I91: 41.666667 | J91: 218.64706 | K91: 52.941176 | L91: 33 | M91: 100 | N91: 16 | O91: 100 | V91: 529.06373 | W91: 44.162248
C92: 社外へ一部委託 | H92: 48.25 | I92: 25 | J92: 97.176471 | K92: 23.529412 | V92: 145.42647 | W92: 12.139104
C93: 社外へ全部委託 | F93: 362 | G93: 66.666667 | H93: 48.25 | I93: 25 | J93: 48.588235 | K93: 11.764706 | V93: 458.83824 | W93: 38.300354
C94: 作成していない | H94: 16.083333 | I94: 8.3333333 | J94: 48.588235 | K94: 11.764706 | V94: 64.671569 | W94: 5.3982945
C95: 小 計 | F95: 543 | G95: 100 | H95: 193 | I95: 100 | J95: 413 | K95: 100 | L95: 33 | M95: 100 | N95: 16 | O95: 100 | V95: 1198 | W95: 100
B96: 屋根工事業 | C96: 社内で作成 | D96: 512 | E96: 66.666667 | F96: 797.625 | G96: 56.25 | H96: 500.78261 | I96: 56.521739 | J96: 594.26087 | K96: 73.913043 | L96: 63.36 | M96: 72 | N96: 14.571429 | O96: 85.714286 | V96: 2482.5999 | W96: 62.361213
C97: 社外へ一部委託 | F97: 221.5625 | G97: 15.625 | H97: 154.08696 | I97: 17.391304 | J97: 81.565217 | K97: 10.144928 | L97: 14.08 | M97: 16 | N97: 2.4285714 | O97: 14.285714 | V97: 473.72325 | W97: 11.899604
C98: 社外へ全部委託 | D98: 85.333333 | E98: 11.111111 | F98: 354.5 | G98: 25 | H98: 115.56522 | I98: 13.043478 | J98: 93.217391 | K98: 11.594203 | L98: 7.04 | M98: 8 | V98: 655.65594 | W98: 16.469629
C99: 作成していない | D99: 170.66667 | E99: 22.222222 | F99: 44.3125 | G99: 3.125 | H99: 115.56522 | I99: 13.043478 | J99: 34.956522 | K99: 4.3478261 | L99: 3.52 | M99: 4 | V99: 369.02091 | W99: 9.269553
C100: 小 計 | D100: 768 | E100: 100 | F100: 1418 | G100: 100 | H100: 886 | I100: 100 | J100: 804 | K100: 100 | L100: 88 | M100: 100 | N100: 17 | O100: 100 | V100: 3981 | W100: 100
B101: ﾀｲﾙ・れんが・ ﾌﾞﾛｯｸ工事業 | C101: 社内で作成 | F101: 326.45455 | G101: 40.909091 | H101: 124.44444 | I101: 44.444444 | J101: 506.90909 | K101: 77.272727 | L101: 28.052632 | M101: 68.421053 | N101: 25 | O101: 100 | V101: 1010.8607 | W101: 54.938082
...

Sheet 4-1-4
A1: 表4－1－4 会計帳簿等の作成状況（経年変化）＜仕訳帳＞
V3: （単位：社、％）
B4: 資本金 | C4: 個 人 | E4: 法 人 | U4: 合 計
A5: 年度 | B5: 作成状況 | E5: 500万円未満 | G5: 500万円以上 1000万円未満 | I5: 1000万円以上 3000万円未満 | K5: 3000万円以上 5000万円未満 | M5: 5000万円以上 1億円未満 | O5: 1億円以上 3億円未満 | Q5: 3億円以上 10億円未満 | S5: 10億円以上
A6: R06年度 | B6: 社内で作成 | C6: =IF('4-1-3'!D186<>"",'4-1-3'!D186,"") -> 24294.935 | D6: =IF('4-1-3'!E186<>"",'4-1-3'!E186,"") -> 49.982379 | E6: =IF('4-1-3'!F186<>"",'4-1-3'!F186,"") -> 46960.999 | F6: =IF('4-1-3'!G186<>"",'4-1-3'!G186,"") -> 51.282023 | G6: =IF('4-1-3'!H186<>"",'4-1-3'!H186,"") -> 31699.063 | H6: =IF('4-1-3'!I186<>"",'4-1-3'!I186,"") -> 54.655442 | I6: =IF('4-1-3'!J186<>"",'4-1-3'!J186,"") -> 60812.07 | J6: =IF('4-1-3'!K186<>"",'4-1-3'!K186,"") -> 71.786843 | ... V6: =IF('4-1-3'!W186<>"",'4-1-3'!W186,"") -> 59.544798
B7: 社外へ一部委託 | C7: =IF('4-1-3'!D187<>"",'4-1-3'!D187,"") -> 4691.7286 | D7: =IF('4-1-3'!E187<>"",'4-1-3'!E187,"") -> 9.6523724 | E7: =IF('4-1-3'!F187<>"",'4-1-3'!F187,"") -> 17452.053 | F7: =IF('4-1-3'!G187<>"",'4-1-3'!G187,"") -> 19.057869 | G7: =IF('4-1-3'!H187<>"",'4-1-3'!H187,"") -> 10304.839 | H7: =IF('4-1-3'!I187<>"",'4-1-3'!I187,"") -> 17.767576 | I7: =IF('4-1-3'!J187<>"",'4-1-3'!J187,"") -> 12141.771 | J7: =IF('4-1-3'!K187<>"",'4-1-3'!K187,"") -> 14.333 | ... V7: =IF('4-1-3'!W187<>"",'4-1-3'!W187,"") -> 15.475857
B8: 社外へ全部委託 | C8: =IF('4-1-3'!D188<>"",'4-1-3'!D188,"") -> 8678.3902 | D8: =IF('4-1-3'!E188<>"",'4-1-3'!E188,"") -> 17.854198 | E8: =IF('4-1-3'!F188<>"",'4-1-3'!F188,"") -> 20055.63 | F8: =IF('4-1-3'!G188<>"",'4-1-3'!G188,"") -> 21.901009 | G8: =IF('4-1-3'!H188<>"",'4-1-3'!H188,"") -> 12705.006 | H8: =IF('4-1-3'!I188<>"",'4-1-3'!I188,"") -> 21.905937 | I8: =IF('4-1-3'!J188<>"",'4-1-3'!J188,"") -> 8777.7586 | J8: =IF('4-1-3'!K188<>"",'4-1-3'!K188,"") -> 10.361883 | ... V8: =IF('4-1-3'!W188<>"",'4-1-3'!W188,"") -> 16.936102
B9: 作成していない | C9: =IF('4-1-3'!D189<>"",'4-1-3'!D189,"") -> 10941.946 | D9: =IF('4-1-3'!E189<>"",'4-1-3'!E189,"") -> 22.51105 | E9: =IF('4-1-3'!F189<>"",'4-1-3'!F189,"") -> 7105.3174 | F9: =IF('4-1-3'!G189<>"",'4-1-3'!G189,"") -> 7.7590991 | G9: =IF('4-1-3'!H189<>"",'4-1-3'!H189,"") -> 3289.0927 | H9: =IF('4-1-3'!I189<>"",'4-1-3'!I189,"") -> 5.6710451 | I9: =IF('4-1-3'!J189<>"",'4-1-3'!J189,"") -> 2980.4002 | J9: =IF('4-1-3'!K189<>"",'4-1-3'!K189,"") -> 3.5182739 | ... V9: =IF('4-1-3'!W189<>"",'4-1-3'!W189,"") -> 8.0432437
C10: =IF('4-1-3'!D190<>"",'4-1-3'!D190,"") -> 48607 | D10: =IF('4-1-3'!E190<>"",'4-1-3'!E190,"") -> 100 | E10: =IF('4-1-3'!F190<>"",'4-1-3'!F190,"") -> 91574 | F10: =IF('4-1-3'!G190<>"",'4-1-3'!G190,"") -> 100 | G10: =IF('4-1-3'!H190<>"",'4-1-3'!H190,"") -> 57998 | H10: =IF('4-1-3'!I190<>"",'4-1-3'!I190,"") -> 100 | I10: =IF('4-1-3'!J190<>"",'4-1-3'!J190,"") -> 84712 | J10: =IF('4-1-3'!K190<>"",'4-1-3'!K190,"") -> 100 | ... V10: =IF('4-1-3'!W190<>"",'4-1-3'!W190,"") -> 100
A11: 増減 | B11: 社内で作成 | D11: =IF(AND(ISNUMBER(D6),ISNUMBER(D16)),D6-D16,"") -> -13.209796 | F11: =IF(AND(ISNUMBER(F6),ISNUMBER(F16)),F6-F16,"") -> -10.815902 | H11: =IF(AND(ISNUMBER(H6),ISNUMBER(H16)),H6-H16,"") -> -9.3419826 | J11: =IF(AND(ISNUMBER(J6),ISNUMBER(J16)),J6-J16,"") -> -4.6974414 | L11: =IF(AND(ISNUMBER(L6),ISNUMBER(L16)),L6-L16,"") -> -3.4349589 | N11: =IF(AND(ISNUMBER(N6),ISNUMBER(N16)),N6-N16,"") -> -9.1790522 | P11: =IF(AND(ISNUMBER(P6),ISNUMBER(P16)),P6-P16,"") -> -0.62501252 | R11: =IF(AND(ISNUMBER(R6),ISNUMBER(R16)),R6-R16,"") -> -0.53261718 | T11: =IF(AND(ISNUMBER(T6),ISNUMBER(T16)),T6-T16,"") -> 4.0084829 | V11: =IF(AND(ISNUMBER(V6),ISNUMBER(V16)),V6-V16,"") -> -10.512653
B12: 社外へ一部委託 | D12: =IF(AND(ISNUMBER(D7),ISNUMBER(D17)),D7-D17,"") -> 4.0934613 | F12: =IF(AND(ISNUMBER(F7),ISNUMBER(F17)),F7-F17,"") -> 6.4493694 | H12: =IF(AND(ISNUMBER(H7),ISNUMBER(H17)),H7-H17,"") -> 4.2415089 | J12: =IF(AND(ISNUMBER(J7),ISNUMBER(J17)),J7-J17,"") -> 2.3009331 | L12: =IF(AND(ISNUMBER(L7),ISNUMBER(L17)),L7-L17,"") -> 3.7849434 | N12: =IF(AND(ISNUMBER(N7),ISNUMBER(N17)),N7-N17,"") -> 3.2891962 | P12: =IF(AND(ISNUMBER(P7),ISNUMBER(P17)),P7-P17,"") -> 2.2412714 | R12: =IF(AND(ISNUMBER(R7),ISNUMBER(R17)),R7-R17,"") -> 1.1235914 | T12: =IF(AND(ISNUMBER(T7),ISNUMBER(T17)),T7-T17,"") -> -0.94450986 | V12: =IF(AND(ISNUMBER(V7),ISNUMBER(V17)),V7-V17,"") -> 4.1219258
B13: 社外へ全部委託 | D13: =IF(AND(ISNUMBER(D8),ISNUMBER(D18)),D8-D18,"") -> 5.6652305 | F13: =IF(AND(ISNUMBER(F8),ISNUMBER(F18)),F8-F18,"") -> 3.5980915 | H13: =IF(AND(ISNUMBER(H8),ISNUMBER(H18)),H8-H18,"") -> 5.3043652 | J13: =IF(AND(ISNUMBER(J8),ISNUMBER(J18)),J8-J18,"") -> 0.61601871 | L13: =IF(AND(ISNUMBER(L8),ISNUMBER(L18)),L8-L18,"") -> 0.22902242 | N13: =IF(AND(ISNUMBER(N8),ISNUMBER(N18)),N8-N18,"") -> 3.7293291 | P13: =IF(AND(ISNUMBER(P8),ISNUMBER(P18)),P8-P18,"") -> -2.6106995 | R13: =IF(AND(ISNUMBER(R8),ISNUMBER(R18)),R8-R18,"") | T13: =IF(AND(ISNUMBER(T8),ISNUMBER(T18)),T8-T18,"") | V13: =IF(AND(ISNUMBER(V8),ISNUMBER(V18)),V8-V18,"") -> 3.9699646
B14: 作成していない | D14: =IF(AND(ISNUMBER(D9),ISNUMBER(D19)),D9-D19,"") -> 3.4511044 | F14: =IF(AND(ISNUMBER(F9),ISNUMBER(F19)),F9-F19,"") -> 0.76844062 | H14: =IF(AND(ISNUMBER(H9),ISNUMBER(H19)),H9-H19,"") -> -0.20389144 | J14: =IF(AND(ISNUMBER(J9),ISNUMBER(J19)),J9-J19,"") -> 1.7804896 | L14: =IF(AND(ISNUMBER(L9),ISNUMBER(L19)),L9-L19,"") -> -0.57900686 | N14: =IF(AND(ISNUMBER(N9),ISNUMBER(N19)),N9-N19,"") -> 2.1605269 | P14: =IF(AND(ISNUMBER(P9),ISNUMBER(P19)),P9-P19,"") | R14: =IF(AND(ISNUMBER(R9),ISNUMBER(R19)),R9-R19,"") | T14: =IF(AND(ISNUMBER(T9),ISNUMBER(T19)),T9-T19,"") | V14: =IF(AND(ISNUMBER(V9),ISNUMBER(V19)),V9-V19,"") -> 2.4207622
C15: - | D15: - | E15: - | F15: - | G15: - | H15: - | I15: - | J15: - | K15: - | L15: - | M15: - | N15: - | O15: - | P15: - | Q15: - | R15: - | S15: - | T15: - | U15: - | V15: -
A16: R01年度 | B16: 社内で作成 | C16: 10358.567 | D16: 63.192175 | E16: 22983.544 | F16: 62.097924 | G16: 16822.541 | H16: 63.997424 | I16: 40923.4 | J16: 76.484284 | K16: 8505.5315 | L16: 82.54481 | M16: 3351.2434 | N16: 89.785559 | O16: 535.71923 | P16: 92.873224 | Q16: 121.30069 | R16: 95.580777 | S16: 151.9947 | T16: 93.823887 | U16: 103753.84 | V16: 70.057451
B17: 社外へ一部委託 | C17: 911.22598 | D17: 5.5589111 | E17: 4666.6297 | F17: 12.6085 | G17: 3555.4996 | H17: 13.526067 | I17: 6437.8335 | J17: 12.032067 | K17: 984.04561 | L17: 9.5500037 | M17: 243.95262 | N17: 6.5359091 | O17: 5.8833333 | P17: 1.019945 | Q17: 4.858396 | R17: 3.828249 | S17: 5.0416667 | T17: 3.1121399 | U17: 16814.97 | V17: 11.353931
B18: 社外へ全部委託 | C18: 1998.0359 | D18: 12.188968 | E18: 6774.2346 | F18: 18.302917 | G18: 4363.9355 | H18: 16.601572 | I18: 5214.5865 | J18: 9.7458646 | K18: 705.97172 | L18: 6.8513416 | M18: 108.2786 | N18: 2.9009694 | O18: 35.225942 | P18: 6.106831 | Q18: 0.75 | R18: 0.59097421 | S18: 1.6 | T18: 0.98765432 | U18: 19202.619 | V18: 12.966137
B19: 作成していない | C19: 3124.3381 | D19: 19.059946 | E19: 2587.3668 | F19: 6.9906585 | G19: 1544.3022 | H19: 5.8749365 | I19: 929.81248 | J19: 1.7377843 | K19: 108.58964 | L19: 1.0538449 | M19: 29.02248 | N19: 0.77756203 | S19: 3.3636364 | T19: 2.0763187 | U19: 8326.7953 | V19: 5.6224814
C20: 16392.167 | D20: 100 | E20: 37011.775 | F20: 100 | G20: 26286.278 | H20: 100 | I20: 53505.633 | J20: 100 | K20: 10304.138 | L20: 100 | M20: 3732.4971 | N20: 100 | O20: 576.8285 | P20: 100 | Q20: 126.90909 | R20: 100 | S20: 162 | T20: 100 | U20: 148098.23 | V20: 100
A21: 増減 | B21: 社内で作成 | D21: =IF(AND(ISNUMBER(D16),ISNUMBER(D26)),D16-D26,"") -> -0.69624609 | F21: =IF(AND(ISNUMBER(F16),ISNUMBER(F26)),F16-F26,"") -> -1.8846803 | H21: =IF(AND(ISNUMBER(H16),ISNUMBER(H26)),H16-H26,"") -> -2.3589675 | J21: =IF(AND(ISNUMBER(J16),ISNUMBER(J26)),J16-J26,"") -> -1.3888855 | L21: =IF(AND(ISNUMBER(L16),ISNUMBER(L26)),L16-L26,"") -> -3.2658256 | N21: =IF(AND(ISNUMBER(N16),ISNUMBER(N26)),N16-N26,"") -> -0.35008595 | P21: =IF(AND(ISNUMBER(P16),ISNUMBER(P26)),P16-P26,"") -> -0.68248633 | R21: =IF(AND(ISNUMBER(R16),ISNUMBER(R26)),R16-R26,"") -> 0.27492014 | T21: =IF(AND(ISNUMBER(T16),ISNUMBER(T26)),T16-T26,"") -> -1.2846453 | V21: =IF(AND(ISNUMBER(V16),ISNUMBER(V26)),V16-V26,"") -> -1.6545863
B22: 社外へ一部委託 | D22: =IF(AND(ISNUMBER(D17),ISNUMBER(D27)),D17-D27,"") -> -2.8482222 | F22: =IF(AND(ISNUMBER(F17),ISNUMBER(F27)),F17-F27,"") -> -1.4373456 | H22: =IF(AND(ISNUMBER(H17),ISNUMBER(H27)),H17-H27,"") -> 0.60138964 | J22: =IF(AND(ISNUMBER(J17),ISNUMBER(J27)),J17-J27,"") -> -0.32971906 | L22: =IF(AND(ISNUMBER(L17),ISNUMBER(L27)),L17-L27,"") -> 1.8211503 | N22: =IF(AND(ISNUMBER(N17),ISNUMBER(N27)),N17-N27,"") -> 0.3402618 | P22: =IF(AND(ISNUMBER(P17),ISNUMBER(P27)),P17-P27,"") -> -3.6956256 | R22: =IF(AND(ISNUMBER(R17),ISNUMBER(R27)),R17-R27,"") -> 0.54026486 | T22: =IF(AND(ISNUMBER(T17),ISNUMBER(T27)),T17-T27,"") -> -1.7793277 | V22: =IF(AND(ISNUMBER(V17),ISNUMBER(V27)),V17-V27,"") -> -0.46523465
B23: 社外へ全部委託 | D23: =IF(AND(ISNUMBER(D18),ISNUMBER(D28)),D18-D28,"") -> 0.63544058 | F23: =IF(AND(ISNUMBER(F18),ISNUMBER(F28)),F18-F28,"") -> 2.4263287 | H23: =IF(AND(ISNUMBER(H18),ISNUMBER(H28)),H18-H28,"") -> 1.5299296 | J23: =IF(AND(ISNUMBER(J18),ISNUMBER(J28)),J18-J28,"") -> 1.6562879 | L23: =IF(AND(ISNUMBER(L18),ISNUMBER(L28)),L18-L28,"") -> 1.2963666 | N23: =IF(AND(ISNUMBER(N18),ISNUMBER(N28)),N18-N28,"") -> -0.0216054 | P23: =IF(AND(ISNUMBER(P18),ISNUMBER(P28)),P18-P28,"") -> 4.3781119 | R23: =IF(AND(ISNUMBER(R18),ISNUMBER(R28)),R18-R28,"") -> -0.815185 | T23: =IF(AND(ISNUMBER(T18),ISNUMBER(T28)),T18-T28,"") | V23: =IF(AND(ISNUMBER(V18),ISNUMBER(V28)),V18-V28,"") -> 1.7882365
B24: 作成していない | D24: =IF(AND(ISNUMBER(D19),ISNUMBER(D29)),D19-D29,"") -> 2.9090277 | F24: =IF(AND(ISNUMBER(F19),ISNUMBER(F29)),F19-F29,"") -> 0.89569716 | H24: =IF(AND(ISNUMBER(H19),ISNUMBER(H29)),H19-H29,"") -> 0.22764825 | J24: =IF(AND(ISNUMBER(J19),ISNUMBER(J29)),J19-J29,"") -> 0.062316616 | L24: =IF(AND(ISNUMBER(L19),ISNUMBER(L29)),L19-L29,"") -> 0.14830864 | N24: =IF(AND(ISNUMBER(N19),ISNUMBER(N29)),N19-N29,"") -> 0.031429557 | P24: =IF(AND(ISNUMBER(P19),ISNUMBER(P29)),P19-P29,"") | R24: =IF(AND(ISNUMBER(R19),ISNUMBER(R29)),R19-R29,"") | T24: =IF(AND(ISNUMBER(T19),ISNUMBER(T29)),T19-T29,"") | V24: =IF(AND(ISNUMBER(V19),ISNUMBER(V29)),V19-V29,"") -> 0.33158446
C25: - | D25: - | E25: - | F25: - | G25: - | H25: - | I25: - | J25: - | K25: - | L25: - | M25: - | N25: - | O25: - | P25: - | Q25: - | R25: - | S25: - | T25: - | U25: - | V25: -
A26: H26年度 | B26: 社内で作成 | C26: 15299.868 | D26: 63.888421 | E26: 26775.567 | F26: 63.982604 | G26: 16183.764 | H26: 66.356392 | I26: 49948.164 | J26: 77.87317 | K26: 9447.8907 | L26: 85.810635 | M26: 3436.6168 | N26: 90.135645 | O26: 565.81892 | P26: 93.55571 | Q26: 136.68448 | R26: 95.305857 | S26: 170.60177 | T26: 95.108532 | U26: 121964.98 | V26: 71.712037
B27: 社外へ一部委託 | C27: 2013.3231 | D27: 8.4071333 | E27: 5877.9332 | F27: 14.045846 | G27: 3152.2196 | H27: 12.924677 | I27: 7928.8991 | J27: 12.361786 | K27: 850.95935 | L27: 7.7288534 | M27: 236.22248 | N27: 6.1956474 | O27: 28.519468 | P27: 4.7155706 | Q27: 4.7155172 | R27: 3.2879841 | S27: 8.7741135 | T27: 4.8914677 | U27: 20101.566 | V27: 11.819166
B28: 社外へ全部委託 | C28: 2766.8151 | D28: 11.553527 | E28: 6644.0661 | F28: 15.876589 | G28: 3675.8463 | H28: 15.071643 | I28: 5188.687 | J28: 8.0895767 | K28: 611.61179 | L28: 5.554975 | M28: 111.4295 | N28: 2.9225748 | O28: 10.455182 | P28: 1.7287191 | Q28: 2.0166667 | R28: 1.4061592 | U28: 19010.928 | V28: 11.1779
B29: 作成していない | C29: 3867.7888 | D29: 16.150918 | E29: 2550.6314 | F29: 6.0949613 | G29: 1377.3259 | H29: 5.6472883 | I29: 1074.6517 | J29: 1.6754677 | K29: 99.701022 | L29: 0.90553631 | M29: 28.447917 | N29: 0.74613247 | U29: 8998.5468 | V29: 5.290897
C30: 23947.795 | D30: 100 | E30: 41848.197 | F30: 100 | G30: 24389.156 | H30: 100 | I30: 64140.402 | J30: 100 | K30: 11010.163 | L30: 100 | M30: 3812.7167 | N30: 100 | O30: 604.79357 | P30: 100 | Q30: 143.41667 | R30: 100 | S30: 179.37589 | T30: 100 | U30: 170076.02 | V30: 100
A31: 増減 | B31: 社内で作成 | D31: =IF(AND(ISNUMBER(D26),ISNUMBER(D36)),D26-D36,"") -> 4.3884214 | F31: =IF(AND(ISNUMBER(F26),ISNUMBER(F36)),F26-F36,"") -> -0.71739551 | H31: =IF(AND(ISNUMBER(H26),ISNUMBER(H36)),H26-H36,"") -> 2.3563919 | J31: =IF(AND(ISNUMBER(J26),ISNUMBER(J36)),J26-J36,"") -> -3.7268302 | L31: =IF(AND(ISNUMBER(L26),ISNUMBER(L36)),L26-L36,"") -> -1.4893647 | N31: =IF(AND(ISNUMBER(N26),ISNUMBER(N36)),N26-N36,"") -> -0.56435461 | P31: =IF(AND(ISNUMBER(P26),ISNUMBER(P36)),P26-P36,"") -> -3.2442897 | R31: =IF(AND(ISNUMBER(R26),ISNUMBER(R36)),R26-R36,"") -> -3.7941433 | T31: =IF(AND(ISNUMBER(T26),ISNUMBER(T36)),T26-T36,"") -> -1.2914677 | V31: =IF(AND(ISNUMBER(V26),ISNUMBER(V36)),V26-V36,"") -> -0.88796301
B32: 社外へ一部委託 | D32: =IF(AND(ISNUMBER(D27),ISNUMBER(D37)),D27-D37,"") -> 2.7071333 | F32: =IF(AND(ISNUMBER(F27),ISNUMBER(F37)),F27-F37,"") -> 1.0458456 | H32: =IF(AND(ISNUMBER(H27),ISNUMBER(H37)),H27-H37,"") -> 0.52467727 | J32: =IF(AND(ISNUMBER(J27),ISNUMBER(J37)),J27-J37,"") -> 2.8617859 | L32: =IF(AND(ISNUMBER(L27),ISNUMBER(L37)),L27-L37,"") -> 1.5288534 | N32: =IF(AND(ISNUMBER(N27),ISNUMBER(N37)),N27-N37,"") -> 1.2956474 | P32: =IF(AND(ISNUMBER(P27),ISNUMBER(P37)),P27-P37,"") -> 2.7155706 | R32: =IF(AND(ISNUMBER(R27),ISNUMBER(R37)),R27-R37,"") -> 2.6879841 | T32: =IF(AND(ISNUMBER(T27),ISNUMBER(T37)),T27-T37,"") -> 1.2914677 | V32: =IF(AND(ISNUMBER(V27),ISNUMBER(V37)),V27-V37,"") -> 1.9191656
B33: 社外へ全部委託 | D33: =IF(AND(ISNUMBER(D28),ISNUMBER(D38)),D28-D38,"") -> -6.6464728 | F33: =IF(AND(ISNUMBER(F28),ISNUMBER(F38)),F28-F38,"") -> 0.57658861 | H33: =IF(AND(ISNUMBER(H28),ISNUMBER(H38)),H28-H38,"") -> -2.5283574 | J33: =IF(AND(ISNUMBER(J28),ISNUMBER(J38)),J28-J38,"") -> 1.2895767 | L33: =IF(AND(ISNUMBER(L28),ISNUMBER(L38)),L28-L38,"") -> 0.654975 | N33: =IF(AND(ISNUMBER(N28),ISNUMBER(N38)),N28-N38,"") -> -0.47742521 | P33: =IF(AND(ISNUMBER(P28),ISNUMBER(P38)),P28-P38,"") -> 0.42871911 | R33: =IF(AND(ISNUMBER(R28),ISNUMBER(R38)),R28-R38,"") -> 1.1061592 | T33: =IF(AND(ISNUMBER(T28),ISNUMBER(T38)),T28-T38,"") | V33: =IF(AND(ISNUMBER(V28),ISNUMBER(V38)),V28-V38,"") -> -0.5220996
B34: 作成していない | D34: =IF(AND(ISNUMBER(D29),ISNUMBER(D39)),D29-D39,"") -> -0.34908193 | F34: =IF(AND(ISNUMBER(F29),ISNUMBER(F39)),F29-F39,"") -> -0.80503871 | H34: =IF(AND(ISNUMBER(H29),ISNUMBER(H39)),H29-H39,"") -> -0.45271173 | J34: =IF(AND(ISNUMBER(J29),ISNUMBER(J39)),J29-J39,"") -> -0.42453233 | L34: =IF(AND(ISNUMBER(L29),ISNUMBER(L39)),L29-L39,"") -> -0.69446369 | N34: =IF(AND(ISNUMBER(N29),ISNUMBER(N39)),N29-N39,"") -> -0.35386753 | P34: =IF(AND(ISNUMBER(P29),ISNUMBER(P39)),P29-P39,"") | R34: =IF(AND(ISNUMBER(R29),ISNUMBER(R39)),R29-R39,"") | T34: =IF(AND(ISNUMBER(T29),ISNUMBER(T39)),T29-T39,"") | V34: =IF(AND(ISNUMBER(V29),ISNUMBER(V39)),V29-V39,"") -> -0.50910301
C35: - | D35: - | E35: - | F35: - | G35: - | H35: - | I35: - | J35: - | K35: - | L35: - | M35: - | N35: - | O35: - | P35: - | Q35: - | R35: - | S35: - | T35: - | U35: - | V35: -
A36: H23年度 | B36: 社内で作成 | C36: 14467.29 | D36: 59.5 | E36: 26910.75 | F36: 64.7 | G36: 14498.23 | H36: 64 | I36: 52645.41 | J36: 81.6 | K36: 9645.84 | L36: 87.3 | M36: 3381.84 | N36: 90.7 | O36: 588.2 | P36: 96.8 | Q36: 157.5 | R36: 99.1 | S36: 177.88 | T36: 96.4 | U36: 122472.94 | V36: 72.6
B37: 社外へ一部委託 | C37: 1386.43 | D37: 5.7 | E37: 5413.59 | F37: 13 | G37: 2802.14 | H37: 12.4 | I37: 6147.78 | J37: 9.5 | K37: 682.19 | L37: 6.2 | M37: 181.6 | N37: 4.9 | O37: 11.99 | P37: 2 | Q37: 1 | R37: 0.6 | S37: 6.57 | T37: 3.6 | U37: 16633.29 | V37: 9.9
B38: 社外へ全部委託 | C38: 4433.39 | D38: 18.2 | E38: 6350.81 | F38: 15.3 | G38: 3978.05 | H38: 17.6 | I38: 4371.3 | J38: 6.8 | K38: 541.17 | L38: 4.9 | M38: 126.51 | N38: 3.4 | O38: 7.74 | P38: 1.3 | Q38: 0.5 | R38: 0.3 | U38: 19809.48 | V38: 11.7
B39: 作成していない | C39: 4014.73 | D39: 16.5 | E39: 2887.73 | F39: 6.9 | G39: 1382.87 | H39: 6.1 | I39: 1365.26 | J39: 2.1 | K39: 177.43 | L39: 1.6 | M39: 39.62 | N39: 1.1 | U39: 9867.65 | V39: 5.8
C40: 24301.85 | D40: 100 | E40: 41562.88 | F40: 100 | G40: 22661.29 | H40: 100 | I40: 64529.75 | J40: 100 | K40: 11046.63 | L40: 100 | M40: 3729.58 | N40: 100 | O40: 607.93 | P40: 100 | Q40: 159 | R40: 100 | S40: 184.45 | T40: 100 | U40: 168783.36 | V40: 100
A41: 増減 | B41: 社内で作成 | D41: =IF(AND(ISNUMBER(D36),ISNUMBER(D46)),D36-D46,"") -> -12.1 | F41: =IF(AND(ISNUMBER(F36),ISNUMBER(F46)),F36-F46,"") -> -4 | H41: =IF(AND(ISNUMBER(H36),ISNUMBER(H46)),H36-H46,"") -> -6.3 | J41: =IF(AND(ISNUMBER(J36),ISNUMBER(J46)),J36-J46,"") -> -0.6 | L41: =IF(AND(ISNUMBER(L36),ISNUMBER(L46)),L36-L46,"") -> 0.5 | N41: =IF(AND(ISNUMBER(N36),ISNUMBER(N46)),N36-N46,"") -> -0.2 | P41: =IF(AND(ISNUMBER(P36),ISNUMBER(P46)),P36-P46,"") -> 2.6 | R41: =IF(AND(ISNUMBER(R36),ISNUMBER(R46)),R36-R46,"") -> 0.2 | T41: =IF(AND(ISNUMBER(T36),ISNUMBER(T46)),T36-T46,"") -> 0.4 | V41: =IF(AND(ISNUMBER(V36),ISNUMBER(V46)),V36-V46,"") -> -4.1
B42: 社外へ一部委託 | D42: =IF(AND(ISNUMBER(D37),ISNUMBER(D47)),D37-D47,"") -> 1.8 | F42: =IF(AND(ISNUMBER(F37),ISNUMBER(F47)),F37-F47,"") -> -1.4 | H42: =IF(AND(ISNUMBER(H37),ISNUMBER(H47)),H37-H47,"") -> 0.4 | J42: =IF(AND(ISNUMBER(J37),ISNUMBER(J47)),J37-J47,"") -> -0.1 | L42: =IF(AND(ISNUMBER(L37),ISNUMBER(L47)),L37-L47,"") -> -0.9 | N42: =IF(AND(ISNUMBER(N37),ISNUMBER(N47)),N37-N47,"") -> -1.1 | P42: =IF(AND(ISNUMBER(P37),ISNUMBER(P47)),P37-P47,"") -> 0.1 | R42: =IF(AND(ISNUMBER(R37),ISNUMBER(R47)),R37-R47,"") -> -0.5 | T42: =IF(AND(ISNUMBER(T37),ISNUMBER(T47)),T37-T47,"") -> -0.4 | V42: =IF(AND(ISNUMBER(V37),ISNUMBER(V47)),V37-V47,"") -> 0.2
B43: 社外へ全部委託 | D43: =IF(AND(ISNUMBER(D38),ISNUMBER(D48)),D38-D48,"") -> 8.8 | F43: =IF(AND(ISNUMBER(F38),ISNUMBER(F48)),F38-F48,"") -> 3 | H43: =IF(AND(ISNUMBER(H38),ISNUMBER(H48)),H38-H48,"") -> 2.9 | J43: =IF(AND(ISNUMBER(J38),ISNUMBER(J48)),J38-J48,"") -> 0 | L43: =IF(AND(ISNUMBER(L38),ISNUMBER(L48)),L38-L48,"") -> -0.5 | N43: =IF(AND(ISNUMBER(N38),ISNUMBER(N48)),N38-N48,"") -> 0.9 | P43: =IF(AND(ISNUMBER(P38),ISNUMBER(P48)),P38-P48,"") -> -1.7 | R43: =IF(AND(ISNUMBER(R38),ISNUMBER(R48)),R38-R48,"") | T43: =IF(AND(ISNUMBER(T38),ISNUMBER(T48)),T38-T48,"") | V43: =IF(AND(ISNUMBER(V38),ISNUMBER(V48)),V38-V48,"") -> 2.5
B44: 作成していない | D44: =IF(AND(ISNUMBER(D39),ISNUMBER(D49)),D39-D49,"") -> 1.4 | F44: =IF(AND(ISNUMBER(F39),ISNUMBER(F49)),F39-F49,"") -> 2.3 | H44: =IF(AND(ISNUMBER(H39),ISNUMBER(H49)),H39-H49,"") -> 3 | J44: =IF(AND(ISNUMBER(J39),ISNUMBER(J49)),J39-J49,"") -> 0.7 | L44: =IF(AND(ISNUMBER(L39),ISNUMBER(L49)),L39-L49,"") -> 0.9 | N44: =IF(AND(ISNUMBER(N39),ISNUMBER(N49)),N39-N49,"") -> 0.5 | P44: =IF(AND(ISNUMBER(P39),ISNUMBER(P49)),P39-P49,"") | R44: =IF(AND(ISNUMBER(R39),ISNUMBER(R49)),R39-R49,"") | T44: =IF(AND(ISNUMBER(T39),ISNUMBER(T49)),T39-T49,"") | V44: =IF(AND(ISNUMBER(V39),ISNUMBER(V49)),V39-V49,"") -> 1.4
C45: - | D45: - | E45: - | F45: - | G45: - | H45: - | I45: - | J45: - | K45: - | L45: - | M45: - | N45: - | O45: - | P45: - | Q45: - | R45: - | S45: - | T45: - | U45: - | V45: -
A46: H20年度 | B46: 社内で作成 | C46: 20424.63 | D46: 71.6 | E46: 27293.95 | F46: 68.7 | G46: 15187.1 | H46: 70.3 | I46: 58782.17 | J46: 82.2 | K46: 10900.29 | L46: 86.8 | M46: 3643.6 | N46: 90.9 | O46: 659.41 | P46: 94.2 | Q46: 178.91 | R46: 98.9 | S46: 199.4 | T46: 96 | U46: 137269.47 | V46: 76.7
B47: 社外へ一部委託 | C47: 1120.88 | D47: 3.9 | E47: 5725.54 | F47: 14.4 | G47: 2585.02 | H47: 12 | I47: 6869.72 | J47: 9.6 | K47: 891.19 | L47: 7.1 | M47: 239.43 | N47: 6 | O47: 13.65 | P47: 1.9 | Q47: 2.04 | R47: 1.1 | S47: 8.24 | T47: 4 | U47: 17455.73 | V47: 9.7
B48: 社外へ全部委託 | C48: 2680.21 | D48: 9.4 | E48: 4899.11 | F48: 12.3 | G48: 3170.86 | H48: 14.7 | I48: 4890.41 | J48: 6.8 | K48: 675.26 | L48: 5.4 | M48: 101.97 | N48: 2.5 | O48: 21 | P48: 3 | U48: 16438.82 | V48: 9.2
B49: 作成していない | C49: 4300.55 | D49: 15.1 | E49: 1823.68 | F49: 4.6 | G49: 669.29 | H49: 3.1 | I49: 1011.01 | J49: 1.4 | K49: 85.35 | L49: 0.7 | M49: 23.7 | N49: 0.6 | O49: 5.95 | P49: 0.8 | U49: 7919.53 | V49: 4.4
C50: 28526.28 | D50: 100 | E50: 39742.28 | F50: 100 | G50: 21612.28 | H50: 100 | I50: 71553.31 | J50: 100 | K50: 12552.09 | L50: 100 | M50: 4008.7 | N50: 100 | O50: 700 | P50: 100 | Q50: 180.96 | R50: 100 | S50: 207.65 | T50: 100 | U50: 179083.55 | V50: 100
A51: 増減 | B51: 社内で作成 | D51: =IF(AND(ISNUMBER(D46),ISNUMBER(D56)),D46-D56,"") -> 13.9 | F51: =IF(AND(ISNUMBER(F46),ISNUMBER(F56)),F46-F56,"") -> 0.4 | H51: =IF(AND(ISNUMBER(H46),ISNUMBER(H56)),H46-H56,"") -> 1.9 | J51: =IF(AND(ISNUMBER(J46),ISNUMBER(J56)),J46-J56,"") -> -2.3 | L51: =IF(AND(ISNUMBER(L46),ISNUMBER(L56)),L46-L56,"") -> -0.8 | N51: =IF(AND(ISNUMBER(N46),ISNUMBER(N56)),N46-N56,"") -> -1.4 | P51: =IF(AND(ISNUMBER(P46),ISNUMBER(P56)),P46-P56,"") -> -3 | R51: =IF(AND(ISNUMBER(R46),ISNUMBER(R56)),R46-R56,"") -> 1.3 | T51: =IF(AND(ISNUMBER(T46),ISNUMBER(T56)),T46-T56,"") -> -2.1 | V51: =IF(AND(ISNUMBER(V46),ISNUMBER(V56)),V46-V56,"") -> 2
B52: 社外へ一部委託 | D52: =IF(AND(ISNUMBER(D47),ISNUMBER(D57)),D47-D57,"") -> -0.8 | F52: =IF(AND(ISNUMBER(F47),ISNUMBER(F57)),F47-F57,"") -> 2.9 | H52: =IF(AND(ISNUMBER(H47),ISNUMBER(H57)),H47-H57,"") -> 2.1 | J52: =IF(AND(ISNUMBER(J47),ISNUMBER(J57)),J47-J57,"") -> 1.8 | L52: =IF(AND(ISNUMBER(L47),ISNUMBER(L57)),L47-L57,"") -> 0.8 | N52: =IF(AND(ISNUMBER(N47),ISNUMBER(N57)),N47-N57,"") -> 1.7 | P52: =IF(AND(ISNUMBER(P47),ISNUMBER(P57)),P47-P57,"") -> 0.5 | R52: =IF(AND(ISNUMBER(R47),ISNUMBER(R57)),R47-R57,"") -> 0.7 | T52: =IF(AND(ISNUMBER(T47),ISNUMBER(T57)),T47-T57,"") -> 2.1 | V52: =IF(AND(ISNUMBER(V47),ISNUMBER(V57)),V47-V57,"") -> 1.5
B53: 社外へ全部委託 | D53: =IF(AND(ISNUMBER(D48),ISNUMBER(D58)),D48-D58,"") -> -0.5 | F53: =IF(AND(ISNUMBER(F48),ISNUMBER(F58)),F48-F58,"") -> -2.9 | H53: =IF(AND(ISNUMBER(H48),ISNUMBER(H58)),H48-H58,"") -> -1.1 | J53: =IF(AND(ISNUMBER(J48),ISNUMBER(J58)),J48-J58,"") -> 0.5 | L53: =IF(AND(ISNUMBER(L48),ISNUMBER(L58)),L48-L58,"") -> 0.3 | N53: =IF(AND(ISNUMBER(N48),ISNUMBER(N58)),N48-N58,"") -> -0.2 | P53: =IF(AND(ISNUMBER(P48),ISNUMBER(P58)),P48-P58,"") -> 1.6 | R53: =IF(AND(ISNUMBER(R48),ISNUMBER(R58)),R48-R58,"") | T53: =IF(AND(ISNUMBER(T48),ISNUMBER(T58)),T48-T58,"") | V53: =IF(AND(ISNUMBER(V48),ISNUMBER(V58)),V48-V58,"") -> -0.8
B54: 作成していない | D54: =IF(AND(ISNUMBER(D49),ISNUMBER(D59)),D49-D59,"") -> -12.6 | F54: =IF(AND(ISNUMBER(F49),ISNUMBER(F59)),F49-F59,"") -> -0.4 | H54: =IF(AND(ISNUMBER(H49),ISNUMBER(H59)),H49-H59,"") -> -2.8 | J54: =IF(AND(ISNUMBER(J49),ISNUMBER(J59)),J49-J59,"") -> 0.1 | L54: =IF(AND(ISNUMBER(L49),ISNUMBER(L59)),L49-L59,"") -> -0.2 | N54: =IF(AND(ISNUMBER(N49),ISNUMBER(N59)),N49-N59,"") -> -0.1 | P54: =IF(AND(ISNUMBER(P49),ISNUMBER(P59)),P49-P59,"") | R54: =IF(AND(ISNUMBER(R49),ISNUMBER(R59)),R49-R59,"") | T54: =IF(AND(ISNUMBER(T49),ISNUMBER(T59)),T49-T59,"") | V54: =IF(AND(ISNUMBER(V49),ISNUMBER(V59)),V49-V59,"") -> -2.7
C55: - | D55: - | E55: - | F55: - | G55: - | H55: - | I55: - | J55: - | K55: - | L55: - | M55: - | N55: - | O55: - | P55: - | Q55: - | R55: - | S55: - | T55: - | U55: - | V55: -
A56: H17年度 | B56: 社内で作成 | C56: 20150 | D56: 57.7 | E56: 33107 | F56: 68.3 | G56: 18449 | H56: 68.4 | I56: 68253 | J56: 84.5 | K56: 12398 | L56: 87.6 | M56: 3984 | N56: 92.3 | O56: 803 | P56: 97.2 | Q56: 208 | R56: 97.6 | S56: 244 | T56: 98.1 | U56: 157597 | V56: 74.7
B57: 社外へ一部委託 | C57: 1638 | D57: 4.7 | E57: 5559 | F57: 11.5 | G57: 2682 | H57: 9.9 | I57: 6327 | J57: 7.8 | K57: 894 | L57: 6.3 | M57: 186 | N57: 4.3 | O57: 11 | P57: 1.4 | Q57: 1 | R57: 0.4 | S57: 5 | T57: 1.9 | U57: 17301 | V57: 8.2
B58: 社外へ全部委託 | C58: 3441 | D58: 9.9 | E58: 7375 | F58: 15.2 | G58: 4263 | H58: 15.8 | I58: 5070 | J58: 6.3 | K58: 726 | L58: 5.1 | M58: 117 | N58: 2.7 | O58: 12 | P58: 1.4 | Q58: 4 | R58: 2 | U58: 21009 | V58: 10
B59: 作成していない | C59: 9680 | D59: 27.7 | E59: 2422 | F59: 5 | G59: 1581 | H59: 5.9 | I59: 1078 | J59: 1.3 | K59: 134 | L59: 0.9 | M59: 31 | N59: 0.7 | U59: 14926 | V59: 7.1
C60: 34909 | D60: 100 | E60: 48463 | F60: 100 | G60: 26975 | H60: 100 | I60: 80728 | J60: 100 | K60: 14152 | L60: 100 | M60: 4317 | N60: 100 | O60: 826 | P60: 100 | Q60: 213 | R60: 100 | S60: 249 | T60: 100 | U60: 210833 | V60: 100
S61: =P102
S63: （単位：社、％）
B64: 年度 | C64: R06年度 | F64: R01年度 | I64: H26年度 | L64: H23年度 | O64: H20年度 | R64: H17年度
A65: 業 種
B66: 作成状況 | E66: 増減 | H66: 増減 | K66: 増減 | N66: 増減 | Q66: 増減
A67: 一般土木建築 | B67: 社内で作成 | C67: =IF('4-1-3'!V6<>"",'4-1-3'!V6,"") -> 5822.6661 | D67: =IF('4-1-3'!W6<>"",'4-1-3'!W6,"") -> 78.525503 | E67: =IF(AND(ISNUMBER(D67),ISNUMBER(G67)),D67-G67,"") -> -5.6394538 | F67: 2961.9806 | G67: 84.164957 | H67: =G67-J67 -> -0.72830136 | I67: 3562.4624 | J67: 84.893258 | K67: =J67-M67 -> -0.60674151 | L67: 3614.14 | M67: 85.5 | N67: =M67-P67 -> 0.7 | O67: 4220.28 | P67: 84.8 | Q67: =P67-S67 -> -1.5 | R67: 5091 | S67: 86.3
B68: 社外へ一部委託 | C68: =IF('4-1-3'!V7<>"",'4-1-3'!V7,"") -> 620.49761 | D68: =IF('4-1-3'!W7<>"",'4-1-3'!W7,"") -> 8.3681404 | E68: =IF(AND(ISNUMBER(D68),ISNUMBER(G68)),D68-G68,"") -> 2.0829384 | F68: 221.19237 | G68: 6.285202 | H68: =G68-J68 -> -2.3053825 | I68: 360.49546 | J68: 8.5905845 | K68: =J68-M68 -> 0.9905845 | L68: 319.61 | M68: 7.6 | N68: =M68-P68 -> -0.9 | O68: 420.6 | P68: 8.5 | Q68: =P68-S68 -> 2.1 | R68: 377 | S68: 6.4
B69: 社外へ全部委託 | C69: =IF('4-1-3'!V8<>"",'4-1-3'!V8,"") -> 840.06272 | D69: =IF('4-1-3'!W8<>"",'4-1-3'!W8,"") -> 11.329234 | E69: =IF(AND(ISNUMBER(D69),ISNUMBER(G69)),D69-G69,"") -> 4.0762802 | F69: 255.25005 | G69: 7.2529541 | H69: =G69-J69 -> 2.0408627 | I69: 218.72031 | J69: 5.2120914 | K69: =J69-M69 -> 0.91209142 | L69: 182.08 | M69: 4.3 | N69: =M69-P69 -> -0.9 | O69: 256.61 | P69: 5.2 | Q69: =P69-S69 -> -0.6 | R69: 343 | S69: 5.8
B70: 作成していない | C70: =IF('4-1-3'!V9<>"",'4-1-3'!V9,"") -> 131.77359 | D70: =IF('4-1-3'!W9<>"",'4-1-3'!W9,"") -> 1.777122 | E70: =IF(AND(ISNUMBER(D70),ISNUMBER(G70)),D70-G70,"") -> -0.51976477 | F70: 80.833333 | G70: 2.2968867 | H70: =G70-J70 -> 0.99282114 | I70: 54.723835 | J70: 1.3040656 | K70: =J70-M70 -> -1.2959344 | L70: 111.1 | M70: 2.6 | N70: =M70-P70 -> 1.1 | O70: 76.91 | P70: 1.5 | Q70: =P70-S70 -> 0.1 | R70: 85 | S70: 1.4
B71: 小 計 | C71: =IF('4-1-3'!V10<>"",'4-1-3'!V10,"") -> 7415 | D71: =IF('4-1-3'!W10<>"",'4-1-3'!W10,"") -> 100 | E71: - | F71: 3519.2564 | G71: 100 | H71: - | I71: 4196.4021 | J71: 100 | K71: - | L71: 4226.94 | M71: 100 | N71: - | O71: 4974.4 | P71: 100 | Q71: - | R71: 5896 | S71: 100
A72: 土木 | B72: 社内で作成 | C72: =IF('4-1-3'!V36<>"",'4-1-3'!V36,"") -> 23772.428 | D72: =IF('4-1-3'!W36<>"",'4-1-3'!W36,"") -> 61.259671 | E72: =IF(AND(ISNUMBER(D72),ISNUMBER(G72)),D72-G72,"") -> -9.5906591 | F72: 22248.504 | G72: 70.85033 | H72: =G72-J72 -> -3.2969764 | I72: 27399.066 | J72: 74.147306 | K72: =J72-M72 -> 4.5473065 | L72: 27412.19 | M72: 69.6 | N72: =M72-P72 -> -5.2 | O72: 33939.7 | P72: 74.8 | Q72: =P72-S72 -> -2.1 | R72: 42723 | S72: 76.9
B73: 社外へ一部委託 | C73: =IF('4-1-3'!V37<>"",'4-1-3'!V37,"") -> 6076.3245 | D73: =IF('4-1-3'!W37<>"",'4-1-3'!W37,"") -> 15.658209 | E73: =IF(AND(ISNUMBER(D73),ISNUMBER(G73)),D73-G73,"") -> 3.3008843 | F73: 3880.4615 | G73: 12.357325 | H73: =G73-J73 -> -0.34915538 | I73: 4695.3247 | J73: 12.70648 | K73: =J73-M73 -> 0.70647989 | L73: 4724.63 | M73: 12 | N73: =M73-P73 -> 1.3 | O73: 4863.61 | P73: 10.7 | Q73: =P73-S73 -> 1.7 | R73: 4991 | S73: 9
B74: 社外へ全部委託 | C74: =IF('4-1-3'!V38<>"",'4-1-3'!V38,"") -> 6356.9748 | D74: =IF('4-1-3'!W38<>"",'4-1-3'!W38,"") -> 16.381423 | E74: =IF(AND(ISNUMBER(D74),ISNUMBER(G74)),D74-G74,"") -> 3.2701095 | F74: 4117.2299 | G74: 13.111313 | H74: =G74-J74 -> 3.7150466 | I74: 3472.1278 | J74: 9.3962664 | K74: =J74-M74 -> -1.8037336 | L74: 4409.65 | M74: 11.2 | N74: =M74-P74 -> 1.1 | O74: 4585.15 | P74: 10.1 | Q74: =P74-S74 -> 0.4 | R74: 5415 | S74: 9.7
B75: 作成していない | C75: =IF('4-1-3'!V39<>"",'4-1-3'!V39,"") -> 2600.2727 | D75: =IF('4-1-3'!W39<>"",'4-1-3'!W39,"") -> 6.7006977 | E75: =IF(AND(ISNUMBER(D75),ISNUMBER(G75)),D75-G75,"") -> 3.0196654 | F75: 1155.9221 | G75: 3.6810323 | H75: =G75-J75 -> -0.068914894 | I75: 1385.6882 | J75: 3.7499472 | K75: =J75-M75 -> -3.4500528 | L75: 2826.32 | M75: 7.2 | N75: =M75-P75 -> 2.8 | O75: 2002.48 | P75: 4.4 | Q75: =P75-S75 -> 0 | R75: 2427 | S75: 4.4
B76: 小 計 | C76: =IF('4-1-3'!V40<>"",'4-1-3'!V40,"") -> 38806 | D76: =IF('4-1-3'!W40<>"",'4-1-3'!W40,"") -> 100 | E76: - | F76: 31402.117 | G76: 100 | H76: - | I76: 36952.207 | J76: 100 | K76: - | L76: 39372.79 | M76: 100 | N76: - | O76: 45390.95 | P76: 100 | Q76: - | R76: 55556 | S76: 100
A77: 建築 | B77: 社内で作成 | C77: =IF('4-1-3'!V41<>"",'4-1-3'!V41,"") -> 46558.125 | D77: =IF('4-1-3'!W41<>"",'4-1-3'!W41,"") -> 63.590964 | E77: =IF(AND(ISNUMBER(D77),ISNUMBER(G77)),D77-G77,"") -> -8.2565706 | F77: 19363.366 | G77: 71.847535 | H77: =G77-J77 -> -0.15412906 | I77: 22771.57 | J77: 72.001664 | K77: =J77-M77 -> -6.698336 | L77: 26844.02 | M77: 78.7 | N77: =M77-P77 -> -3.7 | O77: 27352.42 | P77: 82.4 | Q77: =P77-S77 -> 13 | R77: 29806 | S77: 69.4
B78: 社外へ一部委託 | C78: =IF('4-1-3'!V42<>"",'4-1-3'!V42,"") -> 9965.5148 | D78: =IF('4-1-3'!W42<>"",'4-1-3'!W42,"") -> 13.611302 | E78: =IF(AND(ISNUMBER(D78),ISNUMBER(G78)),D78-G78,"") -> 5.399328 | F78: 2213.179 | G78: 8.2119741 | H78: =G78-J78 -> -3.3339695 | I78: 3651.572 | J78: 11.545944 | K78: =J78-M78 -> 6.4459436 | L78: 1737.14 | M78: 5.1 | N78: =M78-P78 -> -3.7 | O78: 2933.29 | P78: 8.8 | Q78: =P78-S78 -> 2.1 | R78: 2872 | S78: 6.7
B79: 社外へ全部委託 | C79: =IF('4-1-3'!V43<>"",'4-1-3'!V43,"") -> 12839.998 | D79: =IF('4-1-3'!W43<>"",'4-1-3'!W43,"") -> 17.537387 | E79: =IF(AND(ISNUMBER(D79),ISNUMBER(G79)),D79-G79,"") -> 3.2875733 | F79: 3840.415 | G79: 14.249814 | H79: =G79-J79 -> 2.0848948 | I79: 3847.3319 | J79: 12.164919 | K79: =J79-M79 -> 0.76491881 | L79: 3871.53 | M79: 11.4 | N79: =M79-P79 -> 5.4 | O79: 1993.15 | P79: 6 | Q79: =P79-S79 -> -4.7 | R79: 4614 | S79: 10.7
B80: 作成していない | C80: =IF('4-1-3'!V44<>"",'4-1-3'!V44,"") -> 3851.3628 | D80: =IF('4-1-3'!W44<>"",'4-1-3'!W44,"") -> 5.2603467 | E80: =IF(AND(ISNUMBER(D80),ISNUMBER(G80)),D80-G80,"") -> -0.43033067 | F80: 1533.6736 | G80: 5.6906774 | H80: =G80-J80 -> 1.4032038 | I80: 1355.9757 | J80: 4.2874736 | K80: =J80-M80 -> -0.51252642 | L80: 1649.52 | M80: 4.8 | N80: =M80-P80 -> 2 | O80: 916 | P80: 2.8 | Q80: =P80-S80 -> -10.4 | R80: 5668 | S80: 13.2
B81: 小 計 | C81: =IF('4-1-3'!V45<>"",'4-1-3'!V45,"") -> 73215 | D81: =IF('4-1-3'!W45<>"",'4-1-3'!W45,"") -> 100 | E81: - | F81: 26950.633 | G81: 100 | H81: - | I81: 31626.449 | J81: 100 | K81: - | L81: 34102.22 | M81: 100 | N81: - | O81: 33194.86 | P81: 100 | Q81: - | R81: 42961 | S81: 100
A82: 木造建築 | B82: 社内で作成 | C82: =IF('4-1-3'!V46<>"",'4-1-3'!V46,"") -> 9070.7979 | D82: =IF('4-1-3'!W46<>"",'4-1-3'!W46,"") -> 54.472724 | E82: =IF(AND(ISNUMBER(D82),ISNUMBER(G82)),D82-G82,"") -> -19.576275 | F82: 7394.7167 | G82: 74.048999 | H82: =G82-J82 -> 6.4540787 | I82: 9857.8821 | J82: 67.59492 | K82: =J82-M82 -> -4.6050797 | L82: 8938.59 | M82: 72.2 | N82: =M82-P82 -> -6.9 | O82: 11261.15 | P82: 79.1 | Q82: =P82-S82 -> 12.5 | R82: 12205 | S82: 66.6
B83: 社外へ一部委託 | C83: =IF('4-1-3'!V47<>"",'4-1-3'!V47,"") -> 2439.6126 | D83: =IF('4-1-3'!W47<>"",'4-1-3'!W47,"") -> 14.650568 | E83: =IF(AND(ISNUMBER(D83),ISNUMBER(G83)),D83-G83,"") -> 11.249835 | F83: 339.60566 | G83: 3.4007333 | H83: =G83-J83 -> -7.8522841 | I83: 1641.1132 | J83: 11.253017 | K83: =J83-M83 -> 2.9530174 | L83: 1021.74 | M83: 8.3 | N83: =M83-P83 -> 2.3 | O83: 852.18 | P83: 6 | Q83: =P83-S83 -> -1.7 | R83: 1414 | S83: 7.7
B84: 社外へ全部委託 | C84: =IF('4-1-3'!V48<>"",'4-1-3'!V48,"") -> 2600.5097 | D84: =IF('4-1-3'!W48<>"",'4-1-3'!W48,"") -> 15.616801 | E84: =IF(AND(ISNUMBER(D84),ISNUMBER(G84)),D84-G84,"") -> 3.9541048 | F84: 1164.6658 | G84: 11.662696 | H84: =G84-J84 -> -0.39382166 | I84: 1758.2938 | J84: 12.056518 | K84: =J84-M84 -> -0.043482213 | L84: 1499.13 | M84: 12.1 | N84: =M84-P84 -> 2.4 | O84: 1379.65 | P84: 9.7 | Q84: =P84-S84 -> -3.1 | R84: 2341 | S84: 12.8
B85: 作成していない | C85: =IF('4-1-3'!V49<>"",'4-1-3'!V49,"") -> 2541.0798 | D85: =IF('4-1-3'!W49<>"",'4-1-3'!W49,"") -> 15.259907 | E85: =IF(AND(ISNUMBER(D85),ISNUMBER(G85)),D85-G85,"") -> 4.3723358 | F85: 1087.2599 | G85: 10.887572 | H85: =G85-J85 -> 1.792027 | I85: 1326.4725 | J85: 9.0955445 | K85: =J85-M85 -> 1.6955445 | L85: 915.85 | M85: 7.4 | N85: =M85-P85 -> 2.2 | O85: 735.1 | P85: 5.2 | Q85: =P85-S85 -> -7.8 | R85: 2376 | S85: 13
B86: 小 計 | C86: =IF('4-1-3'!V50<>"",'4-1-3'!V50,"") -> 16652 | D86: =IF('4-1-3'!W50<>"",'4-1-3'!W50,"") -> 100 | E86: - | F86: 9986.248 | G86: 100 | H86: - | I86: 14583.762 | J86: 100 | K86: - | L86: 12375.31 | M86: 100 | N86: - | O86: 14228.07 | P86: 100 | Q86: - | R86: 18336 | S86: 100
A87: 職別 | B87: 社内で作成 | C87: =IF('4-1-3'!V141<>"",'4-1-3'!V141,"") -> 53753.968 | D87: =IF('4-1-3'!W141<>"",'4-1-3'!W141,"") -> 52.869982 | E87: =IF(AND(ISNUMBER(D87),ISNUMBER(G87)),D87-G87,"") -> -12.930683 | F87: 28105.938 | G87: 65.800666 | H87: =G87-J87 -> -1.8758089 | I87: 30563.516 | J87: 67.676474 | K87: =J87-M87 -> -2.0235256 | L87: 29469 | M87: 69.7 | N87: =M87-P87 -> -0.6 | O87: 30705.6 | P87: 70.3 | Q87: =P87-S87 -> -6.1 | R87: 35899 | S87: 76.4
B88: 社外へ一部委託 | C88: =IF('4-1-3'!V142<>"",'4-1-3'!V142,"") -> 17144.051 | D88: =IF('4-1-3'!W142<>"",'4-1-3'!W142,"") -> 16.862117 | E88: =IF(AND(ISNUMBER(D88),ISNUMBER(G88)),D88-G88,"") -> 3.6480172 | F88: 5644.2386 | G88: 13.214099 | H88: =G88-J88 -> 1.0040256 | I88: 5514.2174 | J88: 12.210074 | K88: =J88-M88 -> 1.4100738 | L88: 4546.42 | M88: 10.8 | N88: =M88-P88 -> -0.8 | O88: 5044.98 | P88: 11.6 | Q88: =P88-S88 -> 2.7 | R88: 4171 | S88: 8.9
B89: 社外へ全部委託 | C89: =IF('4-1-3'!V143<>"",'4-1-3'!V143,"") -> 19479.175 | D89: =IF('4-1-3'!W143<>"",'4-1-3'!W143,"") -> 19.158839 | E89: =IF(AND(ISNUMBER(D89),ISNUMBER(G89)),D89-G89,"") -> 5.3037615 | F89: 5918.0245 | G89: 13.855078 | H89: =G89-J89 -> 1.1650374 | I89: 5730.976 | J89: 12.69004 | K89: =J89-M89 -> -1.3099597 | L89: 5933.24 | M89: 14 | N89: =M89-P89 -> 2.5 | O89: 5016.29 | P89: 11.5 | Q89: =P89-S89 -> 1.6 | R89: 4664 | S89: 9.9
B90: 作成していない | C90: =IF('4-1-3'!V144<>"",'4-1-3'!V144,"") -> 11294.805 | D90: =IF('4-1-3'!W144<>"",'4-1-3'!W144,"") -> 11.109062 | E90: =IF(AND(ISNUMBER(D90),ISNUMBER(G90)),D90-G90,"") -> 3.9789044 | F90: 3045.5582 | G90: 7.1301573 | H90: =G90-J90 -> -0.29325413 | I90: 3352.5026 | J90: 7.4234115 | K90: =J90-M90 -> 1.9234115 | L90: 2333.55 | M90: 5.5 | N90: =M90-P90 -> -1.1 | O90: 2897.08 | P90: 6.6 | Q90: =P90-S90 -> 1.8 | R90: 2231 | S90: 4.8
B91: 小 計 | C91: =IF('4-1-3'!V145<>"",'4-1-3'!V145,"") -> 101672 | D91: =IF('4-1-3'!W145<>"",'4-1-3'!W145,"") -> 100 | E91: - | F91: 42713.759 | G91: 100 | H91: - | I91: 45161.212 | J91: 100 | K91: - | L91: 42282.2 | M91: 100 | N91: - | O91: 43663.95 | P91: 100 | Q91: - | R91: 46965 | S91: 100
A92: 設備 | B92: 社内で作成 | C92: =IF('4-1-3'!V181<>"",'4-1-3'!V181,"") -> 42909.341 | D92: =IF('4-1-3'!W181<>"",'4-1-3'!W181,"") -> 63.378789 | E92: =IF(AND(ISNUMBER(D92),ISNUMBER(G92)),D92-G92,"") -> -7.2505362 | F92: 23679.337 | G92: 70.629325 | H92: =G92-J92 -> -3.4214017 | I92: 27810.479 | J92: 74.050727 | K92: =J92-M92 -> 2.1507265 | L92: 26195 | M92: 71.9 | N92: =M92-P92 -> -7.3 | O92: 29790.33 | P92: 79.2 | Q92: =P92-S92 -> 1.7 | R92: 31872 | S92: 77.5
B93: 社外へ一部委託 | C93: =IF('4-1-3'!V182<>"",'4-1-3'!V182,"") -> 11027.016 | D93: =IF('4-1-3'!W182<>"",'4-1-3'!W182,"") -> 16.287337 | E93: =IF(AND(ISNUMBER(D93),ISNUMBER(G93)),D93-G93,"") -> 2.8164051 | F93: 4516.2932 | G93: 13.470932 | H93: =G93-J93 -> 2.1841999 | I93: 4238.8432 | J93: 11.286732 | K93: =J93-M93 -> -0.51326808 | L93: 4283.74 | M93: 11.8 | N93: =M93-P93 -> 2.9 | O93: 3341.07 | P93: 8.9 | Q93: =P93-S93 -> 0.4 | R93: 3476 | S93: 8.5
B94: 社外へ全部委託 | C94: =IF('4-1-3'!V183<>"",'4-1-3'!V183,"") -> 9616.8038 | D94: =IF('4-1-3'!W183<>"",'4-1-3'!W183,"") -> 14.204398 | E94: =IF(AND(ISNUMBER(D94),ISNUMBER(G94)),D94-G94,"") -> 2.5507301 | F94: 3907.0336 | G94: 11.653668 | H94: =G94-J94 -> 1.0468956 | I94: 3983.4778 | J94: 10.606773 | K94: =J94-M94 -> -0.093227376 | L94: 3913.85 | M94: 10.7 | N94: =M94-P94 -> 2.2 | O94: 3207.97 | P94: 8.5 | Q94: =P94-S94 -> -0.3 | R94: 3633 | S94: 8.8
B95: 作成していない | C95: =IF('4-1-3'!V184<>"",'4-1-3'!V184,"") -> 4149.8393 | D95: =IF('4-1-3'!W184<>"",'4-1-3'!W184,"") -> 6.1294763 | E95: =IF(AND(ISNUMBER(D95),ISNUMBER(G95)),D95-G95,"") -> 1.8834011 | F95: 1423.5482 | G95: 4.2460752 | H95: =G95-J95 -> 0.19030626 | I95: 1523.1839 | J95: 4.0557689 | K95: =J95-M95 -> -1.5442311 | L95: 2031.31 | M95: 5.6 | N95: =M95-P95 -> 2.2 | O95: 1291.95 | P95: 3.4 | Q95: =P95-S95 -> -1.8 | R95: 2138 | S95: 5.2
B96: 小 計 | C96: =IF('4-1-3'!V185<>"",'4-1-3'!V185,"") -> 67703 | D96: =IF('4-1-3'!W185<>"",'4-1-3'!W185,"") -> 100 | E96: - | F96: 33526.212 | G96: 100 | H96: - | I96: 37555.984 | J96: 100 | K96: - | L96: 36423.91 | M96: 100 | N96: - | O96: 37631.32 | P96: 100 | Q96: - | R96: 41119 | S96: 100
A97: 合 計 | B97: 社内で作成 | C97: =IF('4-1-3'!V186<>"",'4-1-3'!V186,"") -> 181887.33 | D97: =IF('4-1-3'!W186<>"",'4-1-3'!W186,"") -> 59.544798 | E97: =IF(AND(ISNUMBER(D97),ISNUMBER(G97)),D97-G97,"") -> -10.512653 | F97: 103753.84 | G97: 70.057451 | H97: =G97-J97 -> -1.6545863 | I97: 121964.98 | J97: 71.712037 | K97: =J97-M97 -> -0.88796301 | L97: 122472.94 | M97: 72.6 | N97: =M97-P97 -> -4.1 | O97: 137269.47 | P97: 76.7 | Q97: =P97-S97 -> 2 | R97: 157597 | S97: 74.7
B98: 社外へ一部委託 | C98: =IF('4-1-3'!V187<>"",'4-1-3'!V187,"") -> 47273.016 | D98: =IF('4-1-3'!W187<>"",'4-1-3'!W187,"") -> 15.475857 | E98: =IF(AND(ISNUMBER(D98),ISNUMBER(G98)),D98-G98,"") -> 4.1219258 | F98: 16814.97 | G98: 11.353931 | H98: =G98-J98 -> -0.46523465 | I98: 20101.566 | J98: 11.819166 | K98: =J98-M98 -> 1.9191656 | L98: 16633.29 | M98: 9.9 | N98: =M98-P98 -> 0.2 | O98: 17455.73 | P98: 9.7 | Q98: =P98-S98 -> 1.5 | R98: 17301 | S98: 8.2
B99: 社外へ全部委託 | C99: =IF('4-1-3'!V188<>"",'4-1-3'!V188,"") -> 51733.524 | D99: =IF('4-1-3'!W188<>"",'4-1-3'!W188,"") -> 16.936102 | E99: =IF(AND(ISNUMBER(D99),ISNUMBER(G99)),D99-G99,"") -> 3.9699646 | F99: 19202.619 | G99: 12.966137 | H99: =G99-J99 -> 1.7882365 | I99: 19010.928 | J99: 11.1779 | K99: =J99-M99 -> -0.5220996 | L99: 19809.48 | M99: 11.7 | N99: =M99-P99 -> 2.5 | O99: 16438.82 | P99: 9.2 | Q99: =P99-S99 -> -0.8 | R99: 21009 | S99: 10
B100: 作成していない | C100: =IF('4-1-3'!V189<>"",'4-1-3'!V189,"") -> 24569.133 | D100: =IF('4-1-3'!W189<>"",'4-1-3'!W189,"") -> 8.0432437 | E100: =IF(AND(ISNUMBER(D100),ISNUMBER(G100)),D100-G100,"") -> 2.4207622 | F100: 8326.7953 | G100: 5.6224814 | H100: =G100-J100 -> 0.33158446 | I100: 8998.5468 | J100: 5.290897 | K100: =J100-M100 -> -0.50910301 | L100: 9867.65 | M100: 5.8 | N100: =M100-P100 -> 1.4 | O100: 7919.53 | P100: 4.4 | Q100: =P100-S100 -> -2.7 | R100: 14926 | S100: 7.1
C101: =IF('4-1-3'!V190<>"",'4-1-3'!V190,"") -> 305463 | D101: =IF('4-1-3'!W190<>"",'4-1-3'!W190,"") -> 100 | E101: - | F101: 148098.23 | G101: 100 | H101: - | I101: 170076.02 | J101: 100 | K101: - | L101: 168783.36 | M101: 100 | N101: - | O101: 179083.55 | P101: 100 | Q101: - | R101: 210833 | S101: 100
P102: =SUBSTITUTE('4-1-3'!P192,"2．","（注）")

Sheet 4-1-5
A1: 表4－1－5 会計帳簿等の作成状況＜総勘定元帳＞
W3: （単位：社、％）
C4: 資本金 | D4: 個 人 | F4: 法 人 | V4: 合 計
A5: 業種 | C5: 作成状況 | F5: 500万円未満 | H5: 500万円以上 1000万円未満 | J5: 1000万円以上 3000万円未満 | L5: 3000万円以上 5000万円未満 | N5: 5000万円以上 1億円未満 | P5: 1億円以上 3億円未満 | R5: 3億円以上 10億円未満 | T5: 10億円以上
A6: 一般土木建築 | B6: 一般土木 建築工事業 | C6: 社内で作成 | D6: 297 | E6: 75 | F6: 308 | G6: 40 | H6: 270.57143 | I6: 28.571429 | J6: 1314.24 | K6: 48 | L6: 682.23684 | M6: 44.736842 | N6: 501.45455 | O6: 63.636364 | P6: 156.52381 | Q6: 90.47619 | R6: 26 | S6: 100 | T6: 52 | U6: 100 | V6: 3608.0266 | W6: 48.658484
C7: 社外へ一部委託 | F7: 154 | G7: 20 | H7: 135.28571 | I7: 14.285714 | J7: 438.08 | K7: 16 | L7: 240.78947 | M7: 15.789474 | N7: 114.61818 | O7: 14.545455 | P7: 4.1190476 | Q7: 2.3809524 | V7: 1086.8924 | W7: 14.658023
C8: 社外へ全部委託 | F8: 308 | G8: 40 | H8: 541.14286 | I8: 57.142857 | J8: 985.68 | K8: 36 | L8: 601.97368 | M8: 39.473684 | N8: 171.92727 | O8: 21.818182 | P8: 8.2380952 | Q8: 4.7619048 | V8: 2616.9619 | W8: 35.292811
C9: 作成していない | D9: 99 | E9: 25 | P9: 4.1190476 | Q9: 2.3809524 | V9: 103.11905 | W9: 1.3906817
C10: 小 計 | D10: 396 | E10: 100 | F10: 770 | G10: 100 | H10: 947 | I10: 100 | J10: 2738 | K10: 100 | L10: 1525 | M10: 100 | N10: 788 | O10: 100 | P10: 173 | Q10: 100 | R10: 26 | S10: 100 | T10: 52 | U10: 100 | V10: 7415 | W10: 100
A11: 土木 | B11: 土木工事業 | C11: 社内で作成 | D11: 673.66667 | E11: 33.333333 | F11: 1551.75 | G11: 25 | H11: 1536.8644 | I11: 25.423729 | J11: 4671.3158 | K11: 39.473684 | L11: 1730.3902 | M11: 46.341463 | N11: 584.79661 | O11: 52.542373 | P11: 90.125 | Q11: 87.5 | R11: 10.8 | S11: 60 | T11: 20 | U11: 100 | V11: 10869.709 | W11: 34.956452
C12: 社外へ一部委託 | D12: 168.41667 | E12: 8.3333333 | F12: 1034.5 | G12: 16.666667 | H12: 1024.5763 | I12: 16.949153 | J12: 2958.5 | K12: 25 | L12: 819.65854 | M12: 21.95122 | N12: 207.50847 | O12: 18.644068 | R12: 7.2 | S12: 40 | V12: 6220.3599 | W12: 20.004374
C13: 社外へ全部委託 | D13: 673.66667 | E13: 33.333333 | F13: 3491.4375 | G13: 56.25 | H13: 3381.1017 | I13: 55.932203 | J13: 4048.4737 | K13: 34.210526 | L13: 1183.9512 | M13: 31.707317 | N13: 301.83051 | O13: 27.118644 | P13: 9.65625 | Q13: 9.375 | V13: 13090.118 | W13: 42.097178
C14: 作成していない | D14: 505.25 | E14: 25 | F14: 129.3125 | G14: 2.0833333 | H14: 102.45763 | I14: 1.6949153 | J14: 155.71053 | K14: 1.3157895 | N14: 18.864407 | O14: 1.6949153 | P14: 3.21875 | Q14: 3.125 | V14: 914.81381 | W14: 2.9419965
C15: 小 計 | D15: 2021 | E15: 100 | F15: 6207 | G15: 100 | H15: 6045 | I15: 100 | J15: 11834 | K15: 100 | L15: 3734 | M15: 100 | N15: 1113 | O15: 100 | P15: 103 | Q15: 100 | R15: 18 | S15: 100 | T15: 20 | U15: 100 | V15: 31095 | W15: 100
B16: ほ装工事業 | C16: 社内で作成 | D16: 4.8333333 | E16: 16.666667 | F16: 183.31034 | G16: 20.689655 | H16: 237.66667 | I16: 33.333333 | J16: 929.33333 | K16: 66.666667 | L16: 201.32609 | M16: 58.695652 | N16: 93.548387 | O16: 80.645161 | P16: 8 | Q16: 80 | T16: 6 | U16: 100 | V16: 1664.0182 | W16: 47.584162
C17: 社外へ一部委託 | D17: 4.8333333 | E17: 16.666667 | F17: 61.103448 | G17: 6.8965517 | H17: 178.25 | I17: 25 | J17: 99.571429 | K17: 7.1428571 | L17: 52.195652 | M17: 15.217391 | N17: 11.225806 | O17: 9.6774194 | P17: 2 | Q17: 20 | V17: 409.17967 | W17: 11.700877
C18: 社外へ全部委託 | D18: 9.6666667 | E18: 33.333333 | F18: 641.58621 | G18: 72.413793 | H18: 297.08333 | I18: 41.666667 | J18: 331.90476 | K18: 23.809524 | L18: 74.565217 | M18: 21.73913 | N18: 11.225806 | O18: 9.6774194 | V18: 1366.032 | W18: 39.062968
C19: 作成していない | D19: 9.6666667 | E19: 33.333333 | J19: 33.190476 | K19: 2.3809524 | L19: 14.913043 | M19: 4.3478261 | V19: 57.770186 | W19: 1.6519927
C20: 小 計 | D20: 29 | E20: 100 | F20: 886 | G20: 100 | H20: 713 | I20: 100 | J20: 1394 | K20: 100 | L20: 343 | M20: 100 | N20: 116 | O20: 100 | P20: 10 | Q20: 100 | T20: 6 | U20: 100 | V20: 3497 | W20: 100
B21: しゅんせつ 工事業 | C21: 社内で作成 | J21: 30.666667 | K21: 66.666667 | L21: 18 | M21: 66.666667 | N21: 8 | O21: 100 | V21: 56.666667 | W21: 37.777778
C22: 社外へ一部委託 | L22: 9 | M22: 33.333333 | V22: 9 | W22: 6
C23: 社外へ全部委託 | H23: 69 | I23: 100 | J23: 15.333333 | K23: 33.333333 | V23: 84.333333 | W23: 56.222222
C24: 作成していない
C25: 小 計 | H25: 69 | I25: 100 | J25: 46 | K25: 100 | L25: 27 | M25: 100 | N25: 8 | O25: 100 | V25: 150 | W25: 100
B26: 造園工事業 | C26: 社内で作成 | D26: 406 | E26: 100 | H26: 215.25 | I26: 58.333333 | J26: 361.53191 | K26: 51.06383 | L26: 93.829787 | M26: 63.829787 | N26: 20 | O26: 58.823529 | V26: 1096.6117 | W26: 47.410796
C27: 社外へ一部委託 | F27: 389.4 | G27: 60 | J27: 60.255319 | K27: 8.5106383 | L27: 25.021277 | M27: 17.021277 | N27: 4 | O27: 11.764706 | V27: 478.6766 | W27: 20.695054
C28: 社外へ全部委託 | F28: 259.6 | G28: 40 | H28: 153.75 | I28: 41.666667 | J28: 271.14894 | K28: 38.297872 | L28: 28.148936 | M28: 19.148936 | N28: 10 | O28: 29.411765 | V28: 722.64787 | W28: 31.242883
C29: 作成していない | J29: 15.06383 | K29: 2.1276596 | V29: 15.06383 | W29: 0.65126804
C30: 小 計 | D30: 406 | E30: 100 | F30: 649 | G30: 100 | H30: 369 | I30: 100 | J30: 708 | K30: 100 | L30: 147 | M30: 100 | N30: 34 | O30: 100 | V30: 2313 | W30: 100
B31: 水道施設 工事業 | C31: 社内で作成 | D31: 65 | E31: 100 | F31: 89.538462 | G31: 23.076923 | H31: 190.22222 | I31: 44.444444 | J31: 267.97297 | K31: 40.540541 | L31: 59.25 | M31: 37.5 | N31: 26.666667 | O31: 55.555556 | V31: 698.65032 | W31: 39.900076
C32: 社外へ一部委託 | F32: 179.07692 | G32: 46.153846 | H32: 47.555556 | I32: 11.111111 | J32: 142.91892 | K32: 21.621622 | L32: 39.5 | M32: 25 | V32: 409.0514 | W32: 23.361016
C33: 社外へ全部委託 | F33: 119.38462 | G33: 30.769231 | H33: 190.22222 | I33: 44.444444 | J33: 232.24324 | K33: 35.135135 | L33: 59.25 | M33: 37.5 | N33: 21.333333 | O33: 44.444444 | P33: 3 | Q33: 100 | V33: 625.43341 | W33: 35.718642
C34: 作成していない | J34: 17.864865 | K34: 2.7027027 | V34: 17.864865 | W34: 1.0202664
C35: 小 計 | D35: 65 | E35: 100 | F35: 388 | G35: 100 | H35: 428 | I35: 100 | J35: 661 | K35: 100 | L35: 158 | M35: 100 | N35: 48 | O35: 100 | P35: 3 | Q35: 100 | V35: 1751 | W35: 100
B36: 小 計 | C36: 社内で作成 | D36: 1149.5 | E36: 45.596985 | F36: 1824.5988 | G36: 22.44279 | H36: 2180.0033 | I36: 28.593957 | J36: 6260.8207 | K36: 42.756407 | L36: 2102.7961 | M36: 47.693266 | N36: 733.01166 | O36: 55.573288 | P36: 98.125 | Q36: 84.590517 | R36: 10.8 | S36: 60 | T36: 26 | U36: 100 | V36: 14385.656 | W36: 37.070699
C37: 社外へ一部委託 | D37: 173.25 | E37: 6.8722729 | F37: 1664.0804 | G37: 20.468393 | H37: 1250.3818 | I37: 16.400601 | J37: 3261.2457 | K37: 22.271704 | L37: 945.37547 | M37: 21.441948 | N37: 222.73428 | O37: 16.886602 | P37: 2 | Q37: 1.7241379 | R37: 7.2 | S37: 40 | V37: 7526.2676 | W37: 19.394598
C38: 社外へ全部委託 | D38: 683.33333 | E38: 27.105646 | F38: 4512.0083 | G38: 55.498257 | H38: 4091.1573 | I38: 53.661559 | J38: 4899.104 | K38: 33.456969 | L38: 1345.9154 | M38: 30.526545 | N38: 344.38965 | O38: 26.109905 | P38: 12.65625 | Q38: 10.91056 | V38: 15888.564 | W38: 40.943576
C39: 作成していない | D39: 514.91667 | E39: 20.425096 | F39: 129.3125 | G39: 1.5905597 | H39: 102.45763 | I39: 1.3438828 | J39: 221.8297 | K39: 1.5149197 | L39: 14.913043 | M39: 0.33824095 | N39: 18.864407 | O39: 1.4302052 | P39: 3.21875 | Q39: 2.7747845 | V39: 1005.5127 | W39: 2.5911269
C40: 小 計 | D40: 2521 | E40: 100 | F40: 8130 | G40: 100 | H40: 7624 | I40: 100 | J40: 14643 | K40: 100 | L40: 4409 | M40: 100 | N40: 1319 | O40: 100 | P40: 116 | Q40: 100 | R40: 18 | S40: 100 | T40: 26 | U40: 100 | V40: 38806 | W40: 100
A41: 建築 | B41: 建築工事業 | C41: 社内で作成 | D41: 5153.1579 | E41: 52.631579 | F41: 4758 | G41: 25 | H41: 5680.4167 | I41: 41.666667 | J41: 12423 | K41: 53.947368 | L41: 3085.2308 | M41: 56.923077 | N41: 1370.7931 | O41: 72.413793 | P41: 287.85714 | Q41: 88.571429 | R41: 46.421053 | S41: 94.736842 | T41: 44 | U41: 100 | V41: 32848.877 | W41: 44.866321
C42: 社外へ一部委託 | D42: 515.31579 | E42: 5.2631579 | F42: 3398.5714 | G42: 17.857143 | H42: 2650.8611 | I42: 19.444444 | J42: 4848 | K42: 21.052632 | L42: 750.46154 | M42: 13.846154 | N42: 228.46552 | O42: 12.068966 | P42: 9.2857143 | Q42: 2.8571429 | R42: 2.5789474 | S42: 5.2631579 | V42: 12403.54 | W42: 16.941255
C43: 社外へ全部委託 | D43: 3607.2105 | E43: 36.842105 | F43: 10195.714 | G43: 53.571429 | H43: 5301.7222 | I43: 38.888889 | J43: 5151 | K43: 22.368421 | L43: 1584.3077 | M43: 29.230769 | N43: 261.10345 | O43: 13.793103 | P43: 27.857143 | Q43: 8.5714286 | V43: 26128.915 | W43: 35.687926
C44: 作成していない | D44: 515.31579 | E44: 5.2631579 | F44: 679.71429 | G44: 3.5714286 | J44: 606 | K44: 2.6315789 | N44: 32.637931 | O44: 1.7241379 | V44: 1833.668 | W44: 2.5044977
C45: 小 計 | D45: 9791 | E45: 100 | F45: 19032 | G45: 100 | H45: 13633 | I45: 100 | J45: 23028 | K45: 100 | L45: 5420 | M45: 100 | N45: 1893 | O45: 100 | P45: 325 | Q45: 100 | R45: 49 | S45: 100 | T45: 44 | U45: 100 | V45: 73215 | W45: 100
B46: 木造建築 工事業 | C46: 社内で作成 | D46: 2850.5455 | E46: 54.545455 | F46: 817.41379 | G46: 17.241379 | H46: 1075.7209 | I46: 37.209302 | J46: 1918.8 | K46: 57.777778 | L46: 184.70588 | M46: 58.823529 | N46: 76.521739 | O46: 69.565217 | P46: 39.416667 | Q46: 91.666667 | R46: 2 | S46: 100 | T46: 4 | U46: 100 | V46: 6969.1245 | W46: 41.851576
C47: 社外へ一部委託 | F47: 1144.3793 | G47: 24.137931 | H47: 470.62791 | I47: 16.27907 | J47: 369 | K47: 11.111111 | L47: 64.647059 | M47: 20.588235 | N47: 14.347826 | O47: 13.043478 | V47: 2063.0021 | W47: 12.388915
C48: 社外へ全部委託 | D48: 1425.2727 | E48: 27.272727 | F48: 2452.2414 | G48: 51.724138 | H48: 1210.186 | I48: 41.860465 | J48: 1033.2 | K48: 31.111111 | L48: 55.411765 | M48: 17.647059 | N48: 19.130435 | O48: 17.391304 | P48: 3.5833333 | Q48: 8.3333333 | V48: 6199.0257 | W48: 37.226914
C49: 作成していない | D49: 950.18182 | E49: 18.181818 | F49: 326.96552 | G49: 6.8965517 | H49: 134.46512 | I49: 4.6511628 | L49: 9.2352941 | M49: 2.9411765 | V49: 1420.8477 | W49: 8.5325952
C50: 小 計 | D50: 5226 | E50: 100 | F50: 4741 | G50: 100 | H50: 2891 | I50: 100 | J50: 3321 | K50: 100 | L50: 314 | M50: 100 | N50: 110 | O50: 100 | P50: 43 | Q50: 100 | R50: 2 | S50: 100 | T50: 4 | U50: 100 | V50: 16652 | W50: 100
B51: 小 計 | C51: 社内で作成 | D51: 8003.7033 | E51: 53.297618 | F51: 5575.4138 | G51: 23.452714 | H51: 6756.1376 | I51: 40.886817 | J51: 14341.8 | K51: 54.430149 | L51: 3269.9367 | M51: 57.027148 | N51: 1447.3148 | O51: 72.257356 | P51: 327.27381 | Q51: 88.9331 | R51: 48.421053 | S51: 94.94324 | T51: 48 | U51: 100 | V51: 39818.001 | W51: 44.3077
C52: 社外へ一部委託 | D52: 515.31579 | E52: 3.4315495 | F52: 4542.9507 | G52: 19.109707 | H52: 3121.489 | I52: 18.890638 | J52: 5217 | K52: 19.799613 | L52: 815.1086 | M52: 14.215357 | N52: 242.81334 | O52: 12.122483 | P52: 9.2857143 | Q52: 2.5232919 | R52: 2.5789474 | S52: 5.0567595 | V52: 14466.542 | W52: 16.097725
C53: 社外へ全部委託 | D53: 5032.4833 | E53: 33.511908 | F53: 12647.956 | G53: 53.203027 | H53: 6511.9083 | I53: 39.408789 | J53: 6184.2 | K53: 23.47034 | L53: 1639.7195 | M53: 28.596433 | N53: 280.23388 | O53: 13.990708 | P53: 31.440476 | Q53: 8.5436077 | V53: 32327.941 | W53: 35.973095
C54: 作成していない | D54: 1465.4976 | E54: 9.7589239 | F54: 1006.6798 | G54: 4.234551 | H54: 134.46512 | I54: 0.81375645 | J54: 606 | K54: 2.2998975 | L54: 9.2352941 | M54: 0.16106198 | N54: 32.637931 | O54: 1.6294524 | V54: 3254.5158 | W54: 3.6214804
C55: 小 計 | D55: 15017 | E55: 100 | F55: 23773 | G55: 100 | H55: 16524 | I55: 100 | J55: 26349 | K55: 100 | L55: 5734 | M55: 100 | N55: 2003 | O55: 100 | P55: 368 | Q55: 100 | R55: 51 | S55: 100 | T55: 48 | U55: 100 | V55: 89867 | W55: 100
A56: 職別 | B56: 大工工事業 | C56: 社内で作成 | D56: 909.6 | E56: 40 | F56: 279.63415 | G56: 12.195122 | H56: 443.2381 | I56: 30.952381 | J56: 694.97872 | K56: 51.06383 | L56: 41.28 | M56: 48 | N56: 21 | O56: 50 | P56: 1.6666667 | Q56: 33.333333 | V56: 2391.3976 | W56: 31.915089
C57: 社外へ一部委託 | D57: 151.6 | E57: 6.6666667 | F57: 391.4878 | G57: 17.073171 | H57: 272.7619 | I57: 19.047619 | J57: 173.74468 | K57: 12.765957 | L57: 6.88 | M57: 8 | N57: 10.5 | O57: 25 | P57: 1.6666667 | Q57: 33.333333 | V57: 1008.6411 | W57: 13.461111
C58: 社外へ全部委託 | D58: 454.8 | E58: 20 | F58: 1510.0244 | G58: 65.853659 | H58: 716 | I58: 50 | J58: 463.31915 | K58: 34.042553 | L58: 37.84 | M58: 44 | N58: 10.5 | O58: 25 | P58: 1.6666667 | Q58: 33.333333 | V58: 3194.1502 | W58: 42.628456
C59: 作成していない | D59: 758 | E59: 33.333333 | F59: 111.85366 | G59: 4.8780488 | J59: 28.957447 | K59: 2.1276596 | V59: 898.81111 | W59: 11.995344
C60: 小 計 | D60: 2274 | E60: 100 | F60: 2293 | G60: 100 | H60: 1432 | I60: 100 | J60: 1361 | K60: 100 | L60: 86 | M60: 100 | N60: 42 | O60: 100 | P60: 5 | Q60: 100 | V60: 7493 | W60: 100
A61: 職別 | B61: とび・土工・ コンクリート 工事業 | C61: 社内で作成 | D61: 222.61538 | E61: 15.384615 | F61: 2774.4 | G61: 35.555556 | H61: 1662.2791 | I61: 38.372093 | J61: 1512.408 | K61: 42.4 | L61: 169.92308 | M61: 51.648352 | N61: 117.75806 | O61: 79.032258 | P61: 28.111111 | Q61: 85.185185 | R61: 2 | S61: 100 | T61: 1 | U61: 100 | V61: 6490.4947 | W61: 36.746276
C62: 社外へ一部委託 | D62: 111.30769 | E62: 7.6923077 | F62: 1473.9 | G62: 18.888889 | H62: 856.32558 | I62: 19.767442 | J62: 656.328 | K62: 18.4 | L62: 43.384615 | M62: 13.186813 | N62: 12.016129 | O62: 8.0645161 | P62: 3.6666667 | Q62: 11.111111 | V62: 3156.9287 | W62: 17.873117
C63: 社外へ全部委託 | D63: 890.46154 | E63: 61.538462 | F63: 3468 | G63: 44.444444 | H63: 1763.0233 | I63: 40.697674 | J63: 1369.728 | K63: 38.4 | L63: 115.69231 | M63: 35.164835 | N63: 19.225806 | O63: 12.903226 | P63: 1.2222222 | Q63: 3.7037037 | V63: 7627.3531 | W63: 43.182659
C64: 作成していない | D64: 222.61538 | E64: 15.384615 | F64: 86.7 | G64: 1.1111111 | H64: 50.372093 | I64: 1.1627907 | J64: 28.536 | K64: 0.8 | V64: 388.22348 | W64: 2.1979476
C65: 小 計 | D65: 1447 | E65: 100 | F65: 7803 | G65: 100 | H65: 4332 | I65: 100 | J65: 3567 | K65: 100 | L65: 329 | M65: 100 | N65: 149 | O65: 100 | P65: 33 | Q65: 100 | R65: 2 | S65: 100 | T65: 1 | U65: 100 | V65: 17663 | W65: 100
B66: 鋼構造物 工事業 | C66: 社内で作成 | D66: 54.25 | E66: 25 | F66: 447.42857 | G66: 28.571429 | H66: 278.92857 | I66: 35.714286 | J66: 1184.2105 | K66: 63.157895 | L66: 89.860465 | M66: 53.488372 | N66: 60.175 | O66: 72.5 | P66: 9 | Q66: 100 | R66: 5 | S66: 100 | T66: 3 | U66: 100 | V66: 2131.8531 | W66: 45.291122
C67: 社外へ一部委託 | D67: 27.125 | E67: 12.5 | F67: 335.57143 | G67: 21.428571 | H67: 139.46429 | I67: 17.857143 | J67: 98.684211 | K67: 5.2631579 | L67: 19.534884 | M67: 11.627907 | N67: 6.225 | O67: 7.5 | V67: 626.60481 | W67: 13.312191
C68: 社外へ全部委託 | D68: 54.25 | E68: 25 | F68: 671.14286 | G68: 42.857143 | H68: 362.60714 | I68: 46.428571 | J68: 592.10526 | K68: 31.578947 | L68: 54.697674 | M68: 32.55814 | N68: 16.6 | O68: 20 | V68: 1751.4029 | W68: 37.208475
C69: 作成していない | D69: 81.375 | E69: 37.5 | F69: 111.85714 | G69: 7.1428571 | L69: 3.9069767 | M69: 2.3255814 | V69: 197.13912 | W69: 4.1882116
C70: 小 計 | D70: 217 | E70: 100 | F70: 1566 | G70: 100 | H70: 781 | I70: 100 | J70: 1875 | K70: 100 | L70: 168 | M70: 100 | N70: 83 | O70: 100 | P70: 9 | Q70: 100 | R70: 5 | S70: 100 | T70: 3 | U70: 100 | V70: 4707 | W70: 100
B71: 鉄筋工事業 | C71: 社内で作成 | D71: 1315.2 | E71: 60 | F71: 404.19355 | G71: 32.258065 | H71: 130.83333 | I71: 16.666667 | J71: 147.4 | K71: 20 | L71: 26.857143 | M71: 57.142857 | N71: 17.6 | O71: 80 | V71: 2042.084 | W71: 40.549722
C72: 社外へ一部委託 | F72: 121.25806 | G72: 9.6774194 | H72: 163.54167 | I72: 20.833333 | J72: 147.4 | K72: 20 | L72: 3.3571429 | M72: 7.1428571 | V72: 435.55687 | W72: 8.6488656
C73: 社外へ全部委託 | F73: 727.54839 | G73: 58.064516 | H73: 490.625 | I73: 62.5 | J73: 376.68889 | K73: 51.111111 | L73: 13.428571 | M73: 28.571429 | N73: 4.4 | O73: 20 | V73: 1612.6908 | W73: 32.02325
C74: 作成していない | D74: 876.8 | E74: 40 | J74: 65.511111 | K74: 8.8888889 | L74: 3.3571429 | M74: 7.1428571 | V74: 945.66825 | W74: 18.778162
C75: 小 計 | D75: 2192 | E75: 100 | F75: 1253 | G75: 100 | H75: 785 | I75: 100 | J75: 737 | K75: 100 | L75: 47 | M75: 100 | N75: 22 | O75: 100 | V75: 5036 | W75: 100
B76: 解体工事業 | C76: 社内で作成 | F76: 638.14286 | G76: 42.857143 | H76: 224.18182 | I76: 27.272727 | J76: 432.5625 | K76: 56.25 | L76: 24.32 | M76: 16 | N76: 25.9 | O76: 70 | P76: 7 | Q76: 100 | V76: 1352.1072 | W76: 37.105027
C77: 社外へ一部委託 | F77: 319.07143 | G77: 21.428571 | H77: 149.45455 | I77: 18.181818 | J77: 72.09375 | K77: 9.375 | L77: 42.56 | M77: 28 | N77: 11.1 | O77: 30 | V77: 594.27972 | W77: 16.308445
C78: 社外へ全部委託 | D78: 368 | E78: 100 | F78: 425.42857 | G78: 28.571429 | H78: 448.36364 | I78: 54.545455 | J78: 264.34375 | K78: 34.375 | L78: 85.12 | M78: 56 | V78: 1591.256 | W78: 43.667836
C79: 作成していない | F79: 106.35714 | G79: 7.1428571 | V79: 106.35714 | W79: 2.9186922
C80: 小 計 | D80: 368 | E80: 100 | F80: 1489 | G80: 100 | H80: 822 | I80: 100 | J80: 769 | K80: 100 | L80: 152 | M80: 100 | N80: 37 | O80: 100 | P80: 7 | Q80: 100 | V80: 3644 | W80: 100
B81: 躯体関係計 | C81: 社内で作成 | D81: 2501.6654 | E81: 38.499006 | F81: 4543.7991 | G81: 31.545398 | H81: 2739.4609 | I81: 33.60477 | J81: 3971.5597 | K81: 47.798288 | L81: 352.24068 | M81: 45.043566 | N81: 242.43306 | O81: 72.802722 | P81: 45.777778 | Q81: 84.773663 | R81: 7 | S81: 100 | T81: 4 | U81: 100 | V81: 14407.937 | W81: 37.381461
C82: 社外へ一部委託 | D82: 290.03269 | E82: 4.4634148 | F82: 2641.2887 | G82: 18.337189 | H82: 1581.548 | I82: 19.400736 | J82: 1148.2506 | K82: 13.81936 | L82: 115.71664 | M82: 14.797525 | N82: 39.841129 | O82: 11.964303 | P82: 5.3333333 | Q82: 9.8765432 | V82: 5822.0111 | W82: 15.105236
C83: 社外へ全部委託 | D83: 1767.5115 | E83: 27.200855 | F83: 6802.1442 | G83: 47.223995 | H83: 3780.619 | I83: 46.376583 | J83: 3066.1851 | K83: 36.901974 | L83: 306.77855 | M83: 39.229994 | N83: 50.725806 | O83: 15.232975 | P83: 2.8888889 | Q83: 5.3497942 | V83: 15776.853 | W83: 40.933122
C84: 作成していない | D84: 1938.7904 | E84: 29.836725 | F84: 416.76794 | G84: 2.8934181 | H84: 50.372093 | I84: 0.61791086 | J84: 123.00456 | K84: 1.4803774 | L84: 7.2641196 | M84: 0.92891555 | V84: 2536.1991 | W84: 6.5801808
C85: 小 計 | D85: 6498 | E85: 100 | F85: 14404 | G85: 100 | H85: 8152 | I85: 100 | J85: 8309 | K85: 100 | L85: 782 | M85: 100 | N85: 333 | O85: 100 | P85: 54 | Q85: 100 | R85: 7 | S85: 100 | T85: 4 | U85: 100 | V85: 38543 | W85: 100
B86: 左官工事業 | C86: 社内で作成 | D86: 497.5 | E86: 50 | F86: 328.8 | G86: 24 | H86: 170.54545 | I86: 36.363636 | J86: 141.6 | K86: 26.666667 | L86: 13.363636 | M86: 63.636364 | N86: 8 | O86: 50 | V86: 1159.8091 | W86: 34.091978
C87: 社外へ一部委託 | F87: 438.4 | G87: 32 | H87: 42.636364 | I87: 9.0909091 | J87: 88.5 | K87: 16.666667 | L87: 3.8181818 | M87: 18.181818 | V87: 573.35455 | W87: 16.853455
C88: 社外へ全部委託 | D88: 248.75 | E88: 25 | F88: 493.2 | G88: 36 | H88: 255.81818 | I88: 54.545455 | J88: 300.9 | K88: 56.666667 | L88: 3.8181818 | M88: 18.181818 | N88: 8 | O88: 50 | V88: 1310.4864 | W88: 38.521057
C89: 作成していない | D89: 248.75 | E89: 25 | F89: 109.6 | G89: 8 | V89: 358.35 | W89: 10.53351
C90: 小 計 | D90: 995 | E90: 100 | F90: 1370 | G90: 100 | H90: 469 | I90: 100 | J90: 531 | K90: 100 | L90: 21 | M90: 100 | N90: 16 | O90: 100 | V90: 3402 | W90: 100
B91: 石工事業 | C91: 社内で作成 | F91: 90.5 | G91: 16.666667 | H91: 16.083333 | I91: 8.3333333 | J91: 170.05882 | K91: 41.176471 | L91: 19.8 | M91: 60 | N91: 16 | O91: 100 | V91: 312.44216 | W91: 26.080314
C92: 社外へ一部委託 | H92: 16.083333 | I92: 8.3333333 | J92: 97.176471 | K92: 23.529412 | L92: 6.6 | M92: 20 | V92: 119.8598 | W92: 10.004992
C93: 社外へ全部委託 | F93: 452.5 | G93: 83.333333 | H93: 160.83333 | I93: 83.333333 | J93: 121.47059 | K93: 29.411765 | L93: 6.6 | M93: 20 | V93: 741.40392 | W93: 61.886805
C94: 作成していない | J94: 24.294118 | K94: 5.8823529 | V94: 24.294118 | W94: 2.0278896
C95: 小 計 | F95: 543 | G95: 100 | H95: 193 | I95: 100 | J95: 413 | K95: 100 | L95: 33 | M95: 100 | N95: 16 | O95: 100 | V95: 1198 | W95: 100
B96: 屋根工事業 | C96: 社内で作成 | D96: 426.66667 | E96: 55.555556 | F96: 310.1875 | G96: 21.875 | H96: 308.17391 | I96: 34.782609 | J96: 396.17391 | K96: 49.275362 | L96: 42.24 | M96: 48 | N96: 9.7142857 | O96: 57.142857 | V96: 1493.1563 | W96: 37.507066
C97: 社外へ一部委託 | F97: 310.1875 | G97: 21.875 | H97: 115.56522 | I97: 13.043478 | J97: 139.82609 | K97: 17.391304 | L97: 17.6 | M97: 20 | N97: 4.8571429 | O97: 28.571429 | V97: 588.03595 | W97: 14.771061
C98: 社外へ全部委託 | D98: 341.33333 | E98: 44.444444 | F98: 797.625 | G98: 56.25 | H98: 423.73913 | I98: 47.826087 | J98: 256.34783 | K98: 31.884058 | L98: 28.16 | M98: 32 | N98: 2.4285714 | O98: 14.285714 | V98: 1849.6339 | W98: 46.461539
C99: 作成していない | H99: 38.521739 | I99: 4.3478261 | J99: 11.652174 | K99: 1.4492754 | V99: 50.173913 | W99: 1.2603344
C100: 小 計 | D100: 768 | E100: 100 | F100: 1418 | G100: 100 | H100: 886 | I100: 100 | J100: 804 | K100: 100 | L100: 88 | M100: 100 | N100: 17 | O100: 100 | V100: 3981 | W100: 100
B101: ﾀｲﾙ・れんが・ ﾌﾞﾛｯｸ工事業 | C101: 社内で作成 | F101: 145.09091 | G101: 18.181818 | H101: 31.111111 | I101: 11.111111 | J101: 342.90909 | K101: 52.272727 | L101: 23.736842 | M101: 57.894737 | N101: 18.75 | O101: 75 | P101: 2 | Q101: 100 | V101: 563.59795 | W101: 30.630324
...

Sheet 4-1-6
A1: 表4－1－6 会計帳簿等の作成状況（経年変化）＜総勘定元帳＞
V3: （単位：社、％）
B4: 資本金 | C4: 個 人 | E4: 法 人 | U4: 合 計
A5: 年度 | B5: 作成状況 | E5: 500万円未満 | G5: 500万円以上 1000万円未満 | I5: 1000万円以上 3000万円未満 | K5: 3000万円以上 5000万円未満 | M5: 5000万円以上 1億円未満 | O5: 1億円以上 3億円未満 | Q5: 3億円以上 10億円未満 | S5: 10億円以上
A6: R06年度 | B6: 社内で作成 | C6: =IF('4-1-5'!D186<>"",'4-1-5'!D186,"") -> 19617.21 | D6: =IF('4-1-5'!E186<>"",'4-1-5'!E186,"") -> 40.358816 | E6: =IF('4-1-5'!F186<>"",'4-1-5'!F186,"") -> 28059.858 | F6: =IF('4-1-5'!G186<>"",'4-1-5'!G186,"") -> 30.641731 | G6: =IF('4-1-5'!H186<>"",'4-1-5'!H186,"") -> 20762.034 | H6: =IF('4-1-5'!I186<>"",'4-1-5'!I186,"") -> 35.797845 | I6: =IF('4-1-5'!J186<>"",'4-1-5'!J186,"") -> 41195.907 | J6: =IF('4-1-5'!K186<>"",'4-1-5'!K186,"") -> 48.630544 | ... V6: =IF('4-1-5'!W186<>"",'4-1-5'!W186,"") -> 40.22627
B7: 社外へ一部委託 | C7: =IF('4-1-5'!D187<>"",'4-1-5'!D187,"") -> 6073.9828 | D7: =IF('4-1-5'!E187<>"",'4-1-5'!E187,"") -> 12.496107 | E7: =IF('4-1-5'!F187<>"",'4-1-5'!F187,"") -> 17354.91 | F7: =IF('4-1-5'!G187<>"",'4-1-5'!G187,"") -> 18.951787 | G7: =IF('4-1-5'!H187<>"",'4-1-5'!H187,"") -> 10173.076 | H7: =IF('4-1-5'!I187<>"",'4-1-5'!I187,"") -> 17.540392 | I7: =IF('4-1-5'!J187<>"",'4-1-5'!J187,"") -> 16900.872 | J7: =IF('4-1-5'!K187<>"",'4-1-5'!K187,"") -> 19.950977 | ... V7: =IF('4-1-5'!W187<>"",'4-1-5'!W187,"") -> 17.671943
B8: 社外へ全部委託 | C8: =IF('4-1-5'!D188<>"",'4-1-5'!D188,"") -> 16664.408 | D8: =IF('4-1-5'!E188<>"",'4-1-5'!E188,"") -> 34.283968 | E8: =IF('4-1-5'!F188<>"",'4-1-5'!F188,"") -> 43592.917 | F8: =IF('4-1-5'!G188<>"",'4-1-5'!G188,"") -> 47.604033 | G8: =IF('4-1-5'!H188<>"",'4-1-5'!H188,"") -> 26489.715 | H8: =IF('4-1-5'!I188<>"",'4-1-5'!I188,"") -> 45.673498 | I8: =IF('4-1-5'!J188<>"",'4-1-5'!J188,"") -> 25186.724 | J8: =IF('4-1-5'!K188<>"",'4-1-5'!K188,"") -> 29.73218 | ... V8: =IF('4-1-5'!W188<>"",'4-1-5'!W188,"") -> 38.527263
B9: 作成していない | C9: =IF('4-1-5'!D189<>"",'4-1-5'!D189,"") -> 6251.3993 | D9: =IF('4-1-5'!E189<>"",'4-1-5'!E189,"") -> 12.861109 | E9: =IF('4-1-5'!F189<>"",'4-1-5'!F189,"") -> 2566.3143 | F9: =IF('4-1-5'!G189<>"",'4-1-5'!G189,"") -> 2.8024486 | G9: =IF('4-1-5'!H189<>"",'4-1-5'!H189,"") -> 573.17431 | H9: =IF('4-1-5'!I189<>"",'4-1-5'!I189,"") -> 0.98826565 | I9: =IF('4-1-5'!J189<>"",'4-1-5'!J189,"") -> 1428.4971 | J9: =IF('4-1-5'!K189<>"",'4-1-5'!K189,"") -> 1.6862984 | ... V9: =IF('4-1-5'!W189<>"",'4-1-5'!W189,"") -> 3.5745239
C10: =IF('4-1-5'!D190<>"",'4-1-5'!D190,"") -> 48607 | D10: =IF('4-1-5'!E190<>"",'4-1-5'!E190,"") -> 100 | E10: =IF('4-1-5'!F190<>"",'4-1-5'!F190,"") -> 91574 | F10: =IF('4-1-5'!G190<>"",'4-1-5'!G190,"") -> 100 | G10: =IF('4-1-5'!H190<>"",'4-1-5'!H190,"") -> 57998 | H10: =IF('4-1-5'!I190<>"",'4-1-5'!I190,"") -> 100 | I10: =IF('4-1-5'!J190<>"",'4-1-5'!J190,"") -> 84712 | J10: =IF('4-1-5'!K190<>"",'4-1-5'!K190,"") -> 100 | ... V10: =IF('4-1-5'!W190<>"",'4-1-5'!W190,"") -> 100
A11: 増減 | B11: 社内で作成 | D11: =IF(AND(ISNUMBER(D6),ISNUMBER(D16)),D6-D16,"") -> -3.5398881 | F11: =IF(AND(ISNUMBER(F6),ISNUMBER(F16)),F6-F16,"") -> -1.6682223 | H11: =IF(AND(ISNUMBER(H6),ISNUMBER(H16)),H6-H16,"") -> 1.3133231 | J11: =IF(AND(ISNUMBER(J6),ISNUMBER(J16)),J6-J16,"") -> 1.5204848 | L11: =IF(AND(ISNUMBER(L6),ISNUMBER(L16)),L6-L16,"") -> -0.88040349 | N11: =IF(AND(ISNUMBER(N6),ISNUMBER(N16)),N6-N16,"") -> -10.735427 | P11: =IF(AND(ISNUMBER(P6),ISNUMBER(P16)),P6-P16,"") -> 0.17627034 | R11: =IF(AND(ISNUMBER(R6),ISNUMBER(R16)),R6-R16,"") -> -0.88144296 | T11: =IF(AND(ISNUMBER(T6),ISNUMBER(T16)),T6-T16,"") -> 3.5415154 | V11: =IF(AND(ISNUMBER(V6),ISNUMBER(V16)),V6-V16,"") -> -2.0595543
B12: 社外へ一部委託 | D12: =IF(AND(ISNUMBER(D7),ISNUMBER(D17)),D7-D17,"") -> -2.3477735 | F12: =IF(AND(ISNUMBER(F7),ISNUMBER(F17)),F7-F17,"") -> 1.3202363 | H12: =IF(AND(ISNUMBER(H7),ISNUMBER(H17)),H7-H17,"") -> 1.3721795 | J12: =IF(AND(ISNUMBER(J7),ISNUMBER(J17)),J7-J17,"") -> 3.2137514 | L12: =IF(AND(ISNUMBER(L7),ISNUMBER(L17)),L7-L17,"") -> -1.5705065 | N12: =IF(AND(ISNUMBER(N7),ISNUMBER(N17)),N7-N17,"") -> 2.847486 | P12: =IF(AND(ISNUMBER(P7),ISNUMBER(P17)),P7-P17,"") -> 0.063644209 | R12: =IF(AND(ISNUMBER(R7),ISNUMBER(R17)),R7-R17,"") -> 3.7706502 | T12: =IF(AND(ISNUMBER(T7),ISNUMBER(T17)),T7-T17,"") | V12: =IF(AND(ISNUMBER(V7),ISNUMBER(V17)),V7-V17,"") -> 1.120083
B13: 社外へ全部委託 | D13: =IF(AND(ISNUMBER(D8),ISNUMBER(D18)),D8-D18,"") -> 12.119501 | F13: =IF(AND(ISNUMBER(F8),ISNUMBER(F18)),F8-F18,"") -> -0.80206897 | H13: =IF(AND(ISNUMBER(H8),ISNUMBER(H18)),H8-H18,"") -> -0.73886701 | J13: =IF(AND(ISNUMBER(J8),ISNUMBER(J18)),J8-J18,"") -> -6.1028584 | L13: =IF(AND(ISNUMBER(L8),ISNUMBER(L18)),L8-L18,"") -> 2.4330447 | N13: =IF(AND(ISNUMBER(N8),ISNUMBER(N18)),N8-N18,"") -> 6.9684156 | P13: =IF(AND(ISNUMBER(P8),ISNUMBER(P18)),P8-P18,"") -> -0.61614159 | R13: =IF(AND(ISNUMBER(R8),ISNUMBER(R18)),R8-R18,"") | T13: =IF(AND(ISNUMBER(T8),ISNUMBER(T18)),T8-T18,"") | V13: =IF(AND(ISNUMBER(V8),ISNUMBER(V18)),V8-V18,"") -> 0.52521239
B14: 作成していない | D14: =IF(AND(ISNUMBER(D9),ISNUMBER(D19)),D9-D19,"") -> -6.2318394 | F14: =IF(AND(ISNUMBER(F9),ISNUMBER(F19)),F9-F19,"") -> 1.1500549 | H14: =IF(AND(ISNUMBER(H9),ISNUMBER(H19)),H9-H19,"") -> -1.9466356 | J14: =IF(AND(ISNUMBER(J9),ISNUMBER(J19)),J9-J19,"") -> 1.3686222 | L14: =IF(AND(ISNUMBER(L9),ISNUMBER(L19)),L9-L19,"") -> 0.01786534 | N14: =IF(AND(ISNUMBER(N9),ISNUMBER(N19)),N9-N19,"") -> 0.91952528 | P14: =IF(AND(ISNUMBER(P9),ISNUMBER(P19)),P9-P19,"") -> 0.37622704 | R14: =IF(AND(ISNUMBER(R9),ISNUMBER(R19)),R9-R19,"") | T14: =IF(AND(ISNUMBER(T9),ISNUMBER(T19)),T9-T19,"") | V14: =IF(AND(ISNUMBER(V9),ISNUMBER(V19)),V9-V19,"") -> 0.41425893
C15: - | D15: - | E15: - | F15: - | G15: - | H15: - | I15: - | J15: - | K15: - | L15: - | M15: - | N15: - | O15: - | P15: - | Q15: - | R15: - | S15: - | T15: - | U15: - | V15: -
A16: R01年度 | B16: 社内で作成 | C16: 7140.912 | D16: 43.898704 | E16: 12041.178 | F16: 32.309953 | G16: 9165.3786 | H16: 34.484522 | I16: 25286.805 | J16: 47.11006 | K16: 5545.4622 | L16: 53.951589 | M16: 2913.0165 | N16: 77.828807 | O16: 501.01845 | P16: 87.009955 | Q16: 118.38403 | R16: 93.282544 | S16: 156.26275 | T16: 96.458485 | U16: 62868.418 | V16: 42.285824
B17: 社外へ一部委託 | C17: 2414.6235 | D17: 14.843881 | E17: 6570.8748 | F17: 17.631551 | G17: 4297.2261 | H17: 16.168212 | I17: 8983.8768 | J17: 16.737226 | K17: 1902.7511 | L17: 18.511792 | M17: 405.43225 | N17: 10.832176 | O17: 26.157053 | P17: 4.5425952 | Q17: 4.858396 | R17: 3.828249 | S17: 2.6666667 | T17: 1.6460905 | U17: 24608.467 | V17: 16.551861
B18: 社外へ全部委託 | C18: 3605.4482 | D18: 22.164467 | E18: 18039.844 | F18: 48.406102 | G18: 12335.589 | H18: 46.412365 | I18: 19234.822 | J18: 35.835038 | K18: 2808.7019 | L18: 27.325753 | M18: 422.06921 | N18: 11.276676 | O18: 46.308551 | P18: 8.0422286 | Q18: 3.6666667 | R18: 2.8892073 | S18: 3.0705882 | T18: 1.8954248 | U18: 56499.521 | V18: 38.002051
B19: 作成していない | C19: 3105.8107 | D19: 19.092948 | E19: 615.80922 | F19: 1.6523937 | G19: 780.04508 | H19: 2.9349013 | I19: 170.51592 | J19: 0.31767615 | K19: 21.674044 | L19: 0.21086594 | M19: 2.3333333 | N19: 0.062341065 | O19: 2.3333333 | P19: 0.40522106 | U19: 4698.5216 | V19: 3.1602649
C20: 16266.794 | D20: 100 | E20: 37267.707 | F20: 100 | G20: 26578.239 | H20: 100 | I20: 53676.02 | J20: 100 | K20: 10278.589 | L20: 100 | M20: 3742.8513 | N20: 100 | O20: 575.81739 | P20: 100 | Q20: 126.90909 | R20: 100 | S20: 162 | T20: 100 | U20: 148674.93 | V20: 100
A21: 増減 | B21: 社内で作成 | D21: =IF(AND(ISNUMBER(D16),ISNUMBER(D26)),D16-D26,"") -> -7.5140339 | F21: =IF(AND(ISNUMBER(F16),ISNUMBER(F26)),F16-F26,"") -> 1.5416352 | H21: =IF(AND(ISNUMBER(H16),ISNUMBER(H26)),H16-H26,"") -> -0.18323353 | J21: =IF(AND(ISNUMBER(J16),ISNUMBER(J26)),J16-J26,"") -> 2.2727716 | L21: =IF(AND(ISNUMBER(L16),ISNUMBER(L26)),L16-L26,"") -> -5.1614558 | N21: =IF(AND(ISNUMBER(N16),ISNUMBER(N26)),N16-N26,"") -> 0.72834377 | P21: =IF(AND(ISNUMBER(P16),ISNUMBER(P26)),P16-P26,"") -> -3.9138436 | R21: =IF(AND(ISNUMBER(R16),ISNUMBER(R26)),R16-R26,"") -> 3.8182521 | T21: =IF(AND(ISNUMBER(T16),ISNUMBER(T26)),T16-T26,"") -> -1.4746563 | V21: =IF(AND(ISNUMBER(V16),ISNUMBER(V26)),V16-V26,"") -> -0.4478523
B22: 社外へ一部委託 | D22: =IF(AND(ISNUMBER(D17),ISNUMBER(D27)),D17-D27,"") -> 4.5979186 | F22: =IF(AND(ISNUMBER(F17),ISNUMBER(F27)),F17-F27,"") -> -0.18221316 | H22: =IF(AND(ISNUMBER(H17),ISNUMBER(H27)),H17-H27,"") -> 1.071402 | J22: =IF(AND(ISNUMBER(J17),ISNUMBER(J27)),J17-J27,"") -> -3.7820428 | L22: =IF(AND(ISNUMBER(L17),ISNUMBER(L27)),L17-L27,"") -> 3.5445566 | N22: =IF(AND(ISNUMBER(N17),ISNUMBER(N27)),N17-N27,"") -> 0.43895003 | P22: =IF(AND(ISNUMBER(P17),ISNUMBER(P27)),P17-P27,"") -> 0.15503224 | R22: =IF(AND(ISNUMBER(R17),ISNUMBER(R27)),R17-R27,"") -> 0.88889937 | T22: =IF(AND(ISNUMBER(T17),ISNUMBER(T27)),T17-T27,"") -> 1.088602 | V22: =IF(AND(ISNUMBER(V17),ISNUMBER(V27)),V17-V27,"") -> -0.37528644
B23: 社外へ全部委託 | D23: =IF(AND(ISNUMBER(D18),ISNUMBER(D28)),D18-D28,"") -> -5.3020968 | F23: =IF(AND(ISNUMBER(F18),ISNUMBER(F28)),F18-F28,"") -> -1.8641434 | H23: =IF(AND(ISNUMBER(H18),ISNUMBER(H28)),H18-H28,"") -> -3.2932096 | J23: =IF(AND(ISNUMBER(J18),ISNUMBER(J28)),J18-J28,"") -> 1.5320265 | L23: =IF(AND(ISNUMBER(L18),ISNUMBER(L28)),L18-L28,"") -> 1.700354 | N23: =IF(AND(ISNUMBER(N18),ISNUMBER(N28)),N18-N28,"") -> -0.95401486 | P23: =IF(AND(ISNUMBER(P18),ISNUMBER(P28)),P18-P28,"") -> 3.3535903 | R23: =IF(AND(ISNUMBER(R18),ISNUMBER(R28)),R18-R28,"") -> -4.7071514 | T23: =IF(AND(ISNUMBER(T18),ISNUMBER(T28)),T18-T28,"") -> 0.38605428 | V23: =IF(AND(ISNUMBER(V18),ISNUMBER(V28)),V18-V28,"") -> -0.2652139
B24: 作成していない | D24: =IF(AND(ISNUMBER(D19),ISNUMBER(D29)),D19-D29,"") -> 8.2182121 | F24: =IF(AND(ISNUMBER(F19),ISNUMBER(F29)),F19-F29,"") -> 0.50472144 | H24: =IF(AND(ISNUMBER(H19),ISNUMBER(H29)),H19-H29,"") -> 2.4050412 | J24: =IF(AND(ISNUMBER(J19),ISNUMBER(J29)),J19-J29,"") -> -0.02275537 | L24: =IF(AND(ISNUMBER(L19),ISNUMBER(L29)),L19-L29,"") -> -0.083454788 | N24: =IF(AND(ISNUMBER(N19),ISNUMBER(N29)),N19-N29,"") -> -0.21327895 | P24: =IF(AND(ISNUMBER(P19),ISNUMBER(P29)),P19-P29,"") | R24: =IF(AND(ISNUMBER(R19),ISNUMBER(R29)),R19-R29,"") | T24: =IF(AND(ISNUMBER(T19),ISNUMBER(T29)),T19-T29,"") | V24: =IF(AND(ISNUMBER(V19),ISNUMBER(V29)),V19-V29,"") -> 1.0883526
C25: - | D25: - | E25: - | F25: - | G25: - | H25: - | I25: - | J25: - | K25: - | L25: - | M25: - | N25: - | O25: - | P25: - | Q25: - | R25: - | S25: - | T25: - | U25: - | V25: -
A26: H26年度 | B26: 社内で作成 | C26: 12684.913 | D26: 51.412738 | E26: 13060.592 | F26: 30.768318 | G26: 8553.4365 | H26: 34.667755 | I26: 28880.4 | J26: 44.837288 | K26: 6529.3499 | L26: 59.113044 | M26: 2930.2895 | N26: 77.100463 | O26: 549.90129 | P26: 90.923799 | Q26: 128.3067 | R26: 89.464292 | S26: 175.66844 | T26: 97.933141 | U26: 73492.857 | V26: 42.733676
B27: 社外へ一部委託 | C27: 2527.9559 | D27: 10.245962 | E27: 7561.6194 | F27: 17.813764 | G27: 3724.7756 | H27: 15.09681 | I27: 13216.783 | J27: 20.519269 | K27: 1653.2107 | L27: 14.967236 | M27: 395.00622 | N27: 10.393226 | O27: 26.535699 | P27: 4.3875629 | Q27: 4.2155172 | R27: 2.9393496 | S27: 1 | T27: 0.55748853 | U27: 29111.102 | V27: 16.927147
B28: 社外へ全部委託 | C28: 6776.7439 | D28: 27.466564 | E28: 21338.806 | F28: 50.270246 | G28: 12263.657 | H28: 49.705575 | I28: 22095.108 | J28: 34.303012 | K28: 2830.4615 | L28: 25.625399 | M28: 464.84112 | N28: 12.230691 | O28: 28.356583 | P28: 4.6886382 | Q28: 10.894444 | R28: 7.5963587 | S28: 2.7074468 | T28: 1.5093706 | U28: 65811.577 | V28: 38.267265
B29: 作成していない | C29: 2683.0915 | D29: 10.874736 | E29: 487.16602 | F29: 1.1476722 | G29: 130.73026 | H29: 0.52986011 | I29: 219.27728 | J29: 0.34043152 | K29: 32.509289 | L29: 0.29432073 | M29: 10.475248 | N29: 0.27562001 | U29: 3563.2496 | V29: 2.0719123
C30: 24672.704 | D30: 100 | E30: 42448.184 | F30: 100 | G30: 24672.6 | H30: 100 | I30: 64411.567 | J30: 100 | K30: 11045.531 | L30: 100 | M30: 3800.6121 | N30: 100 | O30: 604.79357 | P30: 100 | Q30: 143.41667 | R30: 100 | S30: 179.37589 | T30: 100 | U30: 171978.78 | V30: 100
A31: 増減 | B31: 社内で作成 | D31: =IF(AND(ISNUMBER(D26),ISNUMBER(D36)),D26-D36,"") -> 6.012738 | F31: =IF(AND(ISNUMBER(F26),ISNUMBER(F36)),F26-F36,"") -> -6.0316823 | H31: =IF(AND(ISNUMBER(H26),ISNUMBER(H36)),H26-H36,"") -> 2.2677551 | J31: =IF(AND(ISNUMBER(J26),ISNUMBER(J36)),J26-J36,"") -> -4.8627121 | L31: =IF(AND(ISNUMBER(L26),ISNUMBER(L36)),L26-L36,"") -> 0.81304446 | N31: =IF(AND(ISNUMBER(N26),ISNUMBER(N36)),N26-N36,"") -> 3.900463 | P31: =IF(AND(ISNUMBER(P26),ISNUMBER(P36)),P26-P36,"") -> -1.4762012 | R31: =IF(AND(ISNUMBER(R26),ISNUMBER(R36)),R26-R36,"") -> -9.6357083 | T31: =IF(AND(ISNUMBER(T26),ISNUMBER(T36)),T26-T36,"") -> 0.93314091 | V31: =IF(AND(ISNUMBER(V26),ISNUMBER(V36)),V26-V36,"") -> -2.1663238
B32: 社外へ一部委託 | D32: =IF(AND(ISNUMBER(D27),ISNUMBER(D37)),D27-D37,"") -> 1.9459621 | F32: =IF(AND(ISNUMBER(F27),ISNUMBER(F37)),F27-F37,"") -> 2.0137643 | H32: =IF(AND(ISNUMBER(H27),ISNUMBER(H37)),H27-H37,"") -> 0.096810222 | J32: =IF(AND(ISNUMBER(J27),ISNUMBER(J37)),J27-J37,"") -> 3.4192687 | L32: =IF(AND(ISNUMBER(L27),ISNUMBER(L37)),L27-L37,"") -> -0.83276436 | N32: =IF(AND(ISNUMBER(N27),ISNUMBER(N37)),N27-N37,"") -> 0.89322625 | P32: =IF(AND(ISNUMBER(P27),ISNUMBER(P37)),P27-P37,"") -> 1.0875629 | R32: =IF(AND(ISNUMBER(R27),ISNUMBER(R37)),R27-R37,"") -> 2.3393496 | T32: =IF(AND(ISNUMBER(T27),ISNUMBER(T37)),T27-T37,"") -> -0.44251147 | V32: =IF(AND(ISNUMBER(V27),ISNUMBER(V37)),V27-V37,"") -> 2.027147
B33: 社外へ全部委託 | D33: =IF(AND(ISNUMBER(D28),ISNUMBER(D38)),D28-D38,"") -> -7.1334364 | F33: =IF(AND(ISNUMBER(F28),ISNUMBER(F38)),F28-F38,"") -> 3.7702457 | H33: =IF(AND(ISNUMBER(H28),ISNUMBER(H38)),H28-H38,"") -> -2.7944254 | J33: =IF(AND(ISNUMBER(J28),ISNUMBER(J38)),J28-J38,"") -> 1.6030119 | L33: =IF(AND(ISNUMBER(L28),ISNUMBER(L38)),L28-L38,"") -> 0.22539918 | N33: =IF(AND(ISNUMBER(N28),ISNUMBER(N38)),N28-N38,"") -> -5.0693092 | P33: =IF(AND(ISNUMBER(P28),ISNUMBER(P38)),P28-P38,"") -> 0.28863822 | R33: =IF(AND(ISNUMBER(R28),ISNUMBER(R38)),R28-R38,"") -> 7.2963587 | T33: =IF(AND(ISNUMBER(T28),ISNUMBER(T38)),T28-T38,"") -> -0.59062945 | V33: =IF(AND(ISNUMBER(V28),ISNUMBER(V38)),V28-V38,"") -> 0.26726453
B34: 作成していない | D34: =IF(AND(ISNUMBER(D29),ISNUMBER(D39)),D29-D39,"") -> -0.8252637 | F34: =IF(AND(ISNUMBER(F29),ISNUMBER(F39)),F29-F39,"") -> 0.24767222 | H34: =IF(AND(ISNUMBER(H29),ISNUMBER(H39)),H29-H39,"") -> 0.52986011 | J34: =IF(AND(ISNUMBER(J29),ISNUMBER(J39)),J29-J39,"") -> -0.059568477 | L34: =IF(AND(ISNUMBER(L29),ISNUMBER(L39)),L29-L39,"") -> -0.20567927 | N34: =IF(AND(ISNUMBER(N29),ISNUMBER(N39)),N29-N39,"") | P34: =IF(AND(ISNUMBER(P29),ISNUMBER(P39)),P29-P39,"") | R34: =IF(AND(ISNUMBER(R29),ISNUMBER(R39)),R29-R39,"") | T34: =IF(AND(ISNUMBER(T29),ISNUMBER(T39)),T29-T39,"") | V34: =IF(AND(ISNUMBER(V29),ISNUMBER(V39)),V29-V39,"") -> -0.1280877
C35: - | D35: - | E35: - | F35: - | G35: - | H35: - | I35: - | J35: - | K35: - | L35: - | M35: - | N35: - | O35: - | P35: - | Q35: - | R35: - | S35: - | T35: - | U35: - | V35: -
A36: H23年度 | B36: 社内で作成 | C36: 11516.86 | D36: 45.4 | E36: 15281.73 | F36: 36.8 | G36: 7450.18 | H36: 32.4 | I36: 32241.34 | J36: 49.7 | K36: 6492.67 | L36: 58.3 | M36: 2745.54 | N36: 73.2 | O36: 561.55 | P36: 92.4 | Q36: 157.5 | R36: 99.1 | S36: 178.88 | T36: 97 | U36: 76626.26 | V36: 44.9
B37: 社外へ一部委託 | C37: 2117.45 | D37: 8.3 | E37: 6556.83 | F37: 15.8 | G37: 3454.69 | H37: 15 | I37: 11116.1 | J37: 17.1 | K37: 1764.15 | L37: 15.8 | M37: 356.42 | N37: 9.5 | O37: 19.77 | P37: 3.3 | Q37: 1 | R37: 0.6 | S37: 1.78 | T37: 1 | U37: 25388.18 | V37: 14.9
B38: 社外へ全部委託 | C38: 8775.55 | D38: 34.6 | E38: 19314.19 | F38: 46.5 | G38: 12056.76 | H38: 52.5 | I38: 21184.19 | J38: 32.7 | K38: 2826.6 | L38: 25.4 | M38: 648.37 | N38: 17.3 | O38: 26.61 | P38: 4.4 | Q38: 0.5 | R38: 0.3 | S38: 3.8 | T38: 2.1 | U38: 64836.56 | V38: 38
B39: 作成していない | C39: 2978.26 | D39: 11.7 | E39: 370.18 | F39: 0.9 | G39: 1.65 | H39: 0 | I39: 278.96 | J39: 0.4 | K39: 51.91 | L39: 0.5 | U39: 3680.97 | V39: 2.2
C40: 25388.12 | D40: 100 | E40: 41522.93 | F40: 100 | G40: 22963.28 | H40: 100 | I40: 64820.6 | J40: 100 | K40: 11135.34 | L40: 100 | M40: 3750.32 | N40: 100 | O40: 607.93 | P40: 100 | Q40: 159 | R40: 100 | S40: 184.45 | T40: 100 | U40: 170531.98 | V40: 100
A41: 増減 | B41: 社内で作成 | D41: =IF(AND(ISNUMBER(D36),ISNUMBER(D46)),D36-D46,"") -> -18.1 | F41: =IF(AND(ISNUMBER(F36),ISNUMBER(F46)),F36-F46,"") -> 0.3 | H41: =IF(AND(ISNUMBER(H36),ISNUMBER(H46)),H36-H46,"") -> -6.9 | J41: =IF(AND(ISNUMBER(J36),ISNUMBER(J46)),J36-J46,"") -> -0.9 | L41: =IF(AND(ISNUMBER(L36),ISNUMBER(L46)),L36-L46,"") -> -0.7 | N41: =IF(AND(ISNUMBER(N36),ISNUMBER(N46)),N36-N46,"") -> -0.9 | P41: =IF(AND(ISNUMBER(P36),ISNUMBER(P46)),P36-P46,"") -> -0.4 | R41: =IF(AND(ISNUMBER(R36),ISNUMBER(R46)),R36-R46,"") -> 3 | T41: =IF(AND(ISNUMBER(T36),ISNUMBER(T46)),T36-T46,"") -> 0.2 | V41: =IF(AND(ISNUMBER(V36),ISNUMBER(V46)),V36-V46,"") -> -4.6
B42: 社外へ一部委託 | D42: =IF(AND(ISNUMBER(D37),ISNUMBER(D47)),D37-D47,"") -> 3.6 | F42: =IF(AND(ISNUMBER(F37),ISNUMBER(F47)),F37-F47,"") -> -0.4 | H42: =IF(AND(ISNUMBER(H37),ISNUMBER(H47)),H37-H47,"") -> -3.1 | J42: =IF(AND(ISNUMBER(J37),ISNUMBER(J47)),J37-J47,"") -> 0.5 | L42: =IF(AND(ISNUMBER(L37),ISNUMBER(L47)),L37-L47,"") -> 1.2 | N42: =IF(AND(ISNUMBER(N37),ISNUMBER(N47)),N37-N47,"") -> -1.1 | P42: =IF(AND(ISNUMBER(P37),ISNUMBER(P47)),P37-P47,"") -> 1.5 | R42: =IF(AND(ISNUMBER(R37),ISNUMBER(R47)),R37-R47,"") | T42: =IF(AND(ISNUMBER(T37),ISNUMBER(T47)),T37-T47,"") -> -1.2 | V42: =IF(AND(ISNUMBER(V37),ISNUMBER(V47)),V37-V47,"") -> 0.5
B43: 社外へ全部委託 | D43: =IF(AND(ISNUMBER(D38),ISNUMBER(D48)),D38-D48,"") -> 13.4 | F43: =IF(AND(ISNUMBER(F38),ISNUMBER(F48)),F38-F48,"") -> 0 | H43: =IF(AND(ISNUMBER(H38),ISNUMBER(H48)),H38-H48,"") -> 10.7 | J43: =IF(AND(ISNUMBER(J38),ISNUMBER(J48)),J38-J48,"") -> 0.3 | L43: =IF(AND(ISNUMBER(L38),ISNUMBER(L48)),L38-L48,"") -> -0.9 | N43: =IF(AND(ISNUMBER(N38),ISNUMBER(N48)),N38-N48,"") -> 2.1 | P43: =IF(AND(ISNUMBER(P38),ISNUMBER(P48)),P38-P48,"") -> -0.7 | R43: =IF(AND(ISNUMBER(R38),ISNUMBER(R48)),R38-R48,"") -> -3.6 | T43: =IF(AND(ISNUMBER(T38),ISNUMBER(T48)),T38-T48,"") -> 1.1 | V43: =IF(AND(ISNUMBER(V38),ISNUMBER(V48)),V38-V48,"") -> 4.1
B44: 作成していない | D44: =IF(AND(ISNUMBER(D39),ISNUMBER(D49)),D39-D49,"") -> 1.1 | F44: =IF(AND(ISNUMBER(F39),ISNUMBER(F49)),F39-F49,"") -> 0 | H44: =IF(AND(ISNUMBER(H39),ISNUMBER(H49)),H39-H49,"") -> -0.8 | J44: =IF(AND(ISNUMBER(J39),ISNUMBER(J49)),J39-J49,"") -> 0 | L44: =IF(AND(ISNUMBER(L39),ISNUMBER(L49)),L39-L49,"") -> 0.4 | N44: =IF(AND(ISNUMBER(N39),ISNUMBER(N49)),N39-N49,"") | P44: =IF(AND(ISNUMBER(P39),ISNUMBER(P49)),P39-P49,"") | R44: =IF(AND(ISNUMBER(R39),ISNUMBER(R49)),R39-R49,"") | T44: =IF(AND(ISNUMBER(T39),ISNUMBER(T49)),T39-T49,"") | V44: =IF(AND(ISNUMBER(V39),ISNUMBER(V49)),V39-V49,"") -> 0
C45: - | D45: - | E45: - | F45: - | G45: - | H45: - | I45: - | J45: - | K45: - | L45: - | M45: - | N45: - | O45: - | P45: - | Q45: - | R45: - | S45: - | T45: - | U45: - | V45: -
A46: H20年度 | B46: 社内で作成 | C46: 18669.92 | D46: 63.5 | E46: 14773.23 | F46: 36.5 | G46: 8755.84 | H46: 39.3 | I46: 36275.79 | J46: 50.6 | K46: 7424.89 | L46: 59 | M46: 2975.74 | N46: 74.1 | O46: 649.27 | P46: 92.8 | Q46: 173.94 | R46: 96.1 | S46: 201 | T46: 96.8 | U46: 89899.64 | V46: 49.5
B47: 社外へ一部委託 | C47: 1382.75 | D47: 4.7 | E47: 6568.9 | F47: 16.2 | G47: 4038.78 | H47: 18.1 | I47: 11901.9 | J47: 16.6 | K47: 1840.81 | L47: 14.6 | M47: 423.65 | N47: 10.6 | O47: 12.4 | P47: 1.8 | S47: 4.48 | T47: 2.2 | U47: 26173.67 | V47: 14.4
B48: 社外へ全部委託 | C48: 6247.27 | D48: 21.2 | E48: 18824.11 | F48: 46.5 | G48: 9305.9 | H48: 41.8 | I48: 23277.94 | J48: 32.4 | K48: 3316.55 | L48: 26.3 | M48: 609.38 | N48: 15.2 | O48: 35.37 | P48: 5.1 | Q48: 7.01 | R48: 3.9 | S48: 2.17 | T48: 1 | U48: 61625.7 | V48: 33.9
B49: 作成していない | C49: 3110.06 | D49: 10.6 | E49: 358.68 | F49: 0.9 | G49: 179.2 | H49: 0.8 | I49: 302.65 | J49: 0.4 | K49: 9.26 | L49: 0.1 | M49: 5.71 | N49: 0.1 | O49: 2.95 | P49: 0.4 | U49: 3968.51 | V49: 2.2
C50: 29410 | D50: 100 | E50: 40524.92 | F50: 100 | G50: 22279.72 | H50: 100 | I50: 71758.28 | J50: 100 | K50: 12591.51 | L50: 100 | M50: 4014.48 | N50: 100 | O50: 700 | P50: 100 | Q50: 180.96 | R50: 100 | S50: 207.65 | T50: 100 | U50: 181667.52 | V50: 100
A51: 増減 | B51: 社内で作成 | D51: =IF(AND(ISNUMBER(D46),ISNUMBER(D56)),D46-D56,"") -> 12.2 | F51: =IF(AND(ISNUMBER(F46),ISNUMBER(F56)),F46-F56,"") -> -1.6 | H51: =IF(AND(ISNUMBER(H46),ISNUMBER(H56)),H46-H56,"") -> 3 | J51: =IF(AND(ISNUMBER(J46),ISNUMBER(J56)),J46-J56,"") -> -2.6 | L51: =IF(AND(ISNUMBER(L46),ISNUMBER(L56)),L46-L56,"") -> -1.5 | N51: =IF(AND(ISNUMBER(N46),ISNUMBER(N56)),N46-N56,"") -> 0 | P51: =IF(AND(ISNUMBER(P46),ISNUMBER(P56)),P46-P56,"") -> 0.8 | R51: =IF(AND(ISNUMBER(R46),ISNUMBER(R56)),R46-R56,"") -> 1.6 | T51: =IF(AND(ISNUMBER(T46),ISNUMBER(T56)),T46-T56,"") -> -0.4 | V51: =IF(AND(ISNUMBER(V46),ISNUMBER(V56)),V46-V56,"") -> 1.1
B52: 社外へ一部委託 | D52: =IF(AND(ISNUMBER(D47),ISNUMBER(D57)),D47-D57,"") -> -1.5 | F52: =IF(AND(ISNUMBER(F47),ISNUMBER(F57)),F47-F57,"") -> 0.7 | H52: =IF(AND(ISNUMBER(H47),ISNUMBER(H57)),H47-H57,"") -> 2 | J52: =IF(AND(ISNUMBER(J47),ISNUMBER(J57)),J47-J57,"") -> 1.5 | L52: =IF(AND(ISNUMBER(L47),ISNUMBER(L57)),L47-L57,"") -> 0.8 | N52: =IF(AND(ISNUMBER(N47),ISNUMBER(N57)),N47-N57,"") -> 1.3 | P52: =IF(AND(ISNUMBER(P47),ISNUMBER(P57)),P47-P57,"") -> -2.3 | R52: =IF(AND(ISNUMBER(R47),ISNUMBER(R57)),R47-R57,"") | T52: =IF(AND(ISNUMBER(T47),ISNUMBER(T57)),T47-T57,"") -> 1.3 | V52: =IF(AND(ISNUMBER(V47),ISNUMBER(V57)),V47-V57,"") -> 0.8
B53: 社外へ全部委託 | D53: =IF(AND(ISNUMBER(D48),ISNUMBER(D58)),D48-D58,"") -> -2.3 | F53: =IF(AND(ISNUMBER(F48),ISNUMBER(F58)),F48-F58,"") -> 1.3 | H53: =IF(AND(ISNUMBER(H48),ISNUMBER(H58)),H48-H58,"") -> -4.3 | J53: =IF(AND(ISNUMBER(J48),ISNUMBER(J58)),J48-J58,"") -> 1.1 | L53: =IF(AND(ISNUMBER(L48),ISNUMBER(L58)),L48-L58,"") -> 0.8 | N53: =IF(AND(ISNUMBER(N48),ISNUMBER(N58)),N48-N58,"") -> -1.3 | P53: =IF(AND(ISNUMBER(P48),ISNUMBER(P58)),P48-P58,"") -> 1.3 | R53: =IF(AND(ISNUMBER(R48),ISNUMBER(R58)),R48-R58,"") -> -0.5 | T53: =IF(AND(ISNUMBER(T48),ISNUMBER(T58)),T48-T58,"") -> -0.9 | V53: =IF(AND(ISNUMBER(V48),ISNUMBER(V58)),V48-V58,"") -> -0.3
B54: 作成していない | D54: =IF(AND(ISNUMBER(D49),ISNUMBER(D59)),D49-D59,"") -> -8.4 | F54: =IF(AND(ISNUMBER(F49),ISNUMBER(F59)),F49-F59,"") -> -0.3 | H54: =IF(AND(ISNUMBER(H49),ISNUMBER(H59)),H49-H59,"") -> -0.7 | J54: =IF(AND(ISNUMBER(J49),ISNUMBER(J59)),J49-J59,"") -> 0.1 | L54: =IF(AND(ISNUMBER(L49),ISNUMBER(L59)),L49-L59,"") -> -0.2 | N54: =IF(AND(ISNUMBER(N49),ISNUMBER(N59)),N49-N59,"") -> 0 | P54: =IF(AND(ISNUMBER(P49),ISNUMBER(P59)),P49-P59,"") -> 0.2 | R54: =IF(AND(ISNUMBER(R49),ISNUMBER(R59)),R49-R59,"") | T54: =IF(AND(ISNUMBER(T49),ISNUMBER(T59)),T49-T59,"") | V54: =IF(AND(ISNUMBER(V49),ISNUMBER(V59)),V49-V59,"") -> -1.6
C55: - | D55: - | E55: - | F55: - | G55: - | H55: - | I55: - | J55: - | K55: - | L55: - | M55: - | N55: - | O55: - | P55: - | Q55: - | R55: - | S55: - | T55: - | U55: - | V55: -
A56: H17年度 | B56: 社内で作成 | C56: 18166 | D56: 51.3 | E56: 18624 | F56: 38.1 | G56: 9929 | H56: 36.3 | I56: 43020 | J56: 53.2 | K56: 8581 | L56: 60.5 | M56: 3200 | N56: 74.1 | O56: 760 | P56: 92 | Q56: 201 | R56: 94.5 | S56: 242 | T56: 97.2 | U56: 102724 | V56: 48.4
B57: 社外へ一部委託 | C57: 2187 | D57: 6.2 | E57: 7556 | F57: 15.5 | G57: 4416 | H57: 16.1 | I57: 12215 | J57: 15.1 | K57: 1954 | L57: 13.8 | M57: 404 | N57: 9.3 | O57: 34 | P57: 4.1 | Q57: 2 | R57: 1 | S57: 2 | T57: 0.9 | U57: 28770 | V57: 13.6
B58: 社外へ全部委託 | C58: 8306 | D58: 23.5 | E58: 22068 | F58: 45.2 | G58: 12597 | H58: 46.1 | I58: 25300 | J58: 31.3 | K58: 3612 | L58: 25.5 | M58: 715 | N58: 16.5 | O58: 31 | P58: 3.8 | Q58: 9 | R58: 4.4 | S58: 5 | T58: 1.9 | U58: 72643 | V58: 34.2
B59: 作成していない | C59: 6725 | D59: 19 | E59: 589 | F59: 1.2 | G59: 405 | H59: 1.5 | I59: 278 | J59: 0.3 | K59: 45 | L59: 0.3 | M59: 3 | N59: 0.1 | O59: 2 | P59: 0.2 | U59: 8047 | V59: 3.8
C60: 35385 | D60: 100 | E60: 48838 | F60: 100 | G60: 27347 | H60: 100 | I60: 80813 | J60: 100 | K60: 14192 | L60: 100 | M60: 4321 | N60: 100 | O60: 826 | P60: 100 | Q60: 213 | R60: 100 | S60: 249 | T60: 100 | U60: 212184 | V60: 100
S61: =P102
S63: （単位：社、％）
B64: 年度 | C64: R06年度 | F64: R01年度 | I64: H26年度 | L64: H23年度 | O64: H20年度 | R64: H17年度
A65: 業 種
B66: 作成状況 | E66: 増減 | H66: 増減 | K66: 増減 | N66: 増減 | Q66: 増減
A67: 一般土木建築 | B67: 社内で作成 | C67: =IF('4-1-5'!V6<>"",'4-1-5'!V6,"") -> 3608.0266 | D67: =IF('4-1-5'!W6<>"",'4-1-5'!W6,"") -> 48.658484 | E67: =IF(AND(ISNUMBER(D67),ISNUMBER(G67)),D67-G67,"") -> -13.441551 | F67: 2201.0466 | G67: 62.100035 | H67: =IF(AND(ISNUMBER(G67),ISNUMBER(J67)),G67-J67,"") -> -1.3304384 | I67: 2661.7977 | J67: 63.430473 | K67: =IF(AND(ISNUMBER(J67),ISNUMBER(M67)),J67-M67,"") -> 2.4304735 | L67: 2586.49 | M67: 61 | N67: =M67-P67 -> 0 | O67: 3068.9 | P67: 61 | Q67: =P67-S67 -> 1.5 | R67: 3511 | S67: 59.5
B68: 社外へ一部委託 | C68: =IF('4-1-5'!V7<>"",'4-1-5'!V7,"") -> 1086.8924 | D68: =IF('4-1-5'!W7<>"",'4-1-5'!W7,"") -> 14.658023 | E68: =IF(AND(ISNUMBER(D68),ISNUMBER(G68)),D68-G68,"") -> 3.0369247 | F68: 411.89315 | G68: 11.621099 | H68: =IF(AND(ISNUMBER(G68),ISNUMBER(J68)),G68-J68,"") -> -1.3858662 | I68: 545.82454 | J68: 13.006965 | K68: =IF(AND(ISNUMBER(J68),ISNUMBER(M68)),J68-M68,"") -> 0.70696475 | L68: 520.32 | M68: 12.3 | N68: =M68-P68 -> -1.8 | O68: 711.62 | P68: 14.1 | Q68: =P68-S68 -> 1.1 | R68: 766 | S68: 13
B69: 社外へ全部委託 | C69: =IF('4-1-5'!V8<>"",'4-1-5'!V8,"") -> 2616.9619 | D69: =IF('4-1-5'!W8<>"",'4-1-5'!W8,"") -> 35.292811 | E69: =IF(AND(ISNUMBER(D69),ISNUMBER(G69)),D69-G69,"") -> 9.0139442 | F69: 931.41669 | G69: 26.278866 | H69: =IF(AND(ISNUMBER(G69),ISNUMBER(J69)),G69-J69,"") -> 3.4543318 | I69: 957.80924 | J69: 22.824535 | K69: =IF(AND(ISNUMBER(J69),ISNUMBER(M69)),J69-M69,"") -> -2.9754654 | L69: 1094.63 | M69: 25.8 | N69: =M69-P69 -> 1.6 | O69: 1215.96 | P69: 24.2 | Q69: =P69-S69 -> -2.7 | R69: 1586 | S69: 26.9
B70: 作成していない | C70: =IF('4-1-5'!V9<>"",'4-1-5'!V9,"") -> 103.11905 | D70: =IF('4-1-5'!W9<>"",'4-1-5'!W9,"") -> 1.3906817 | E70: =IF(AND(ISNUMBER(D70),ISNUMBER(G70)),D70-G70,"") | H70: =IF(AND(ISNUMBER(G70),ISNUMBER(J70)),G70-J70,"") | I70: 30.970588 | J70: 0.73802719 | K70: =IF(AND(ISNUMBER(J70),ISNUMBER(M70)),J70-M70,"") -> -0.16197281 | L70: 36.25 | M70: 0.9 | N70: =M70-P70 -> 0.2 | O70: 35.57 | P70: 0.7 | Q70: =P70-S70 -> 0 | R70: 42 | S70: 0.7
B71: 小 計 | C71: =IF('4-1-5'!V10<>"",'4-1-5'!V10,"") -> 7415 | D71: =IF('4-1-5'!W10<>"",'4-1-5'!W10,"") -> 100 | E71: - | F71: 3544.3564 | G71: 100 | H71: - | I71: 4196.4021 | J71: 100 | K71: - | L71: 4237.68 | M71: 100 | N71: - | O71: 5032.05 | P71: 100 | Q71: - | R71: 5905 | S71: 100
A72: 土木 | B72: 社内で作成 | C72: =IF('4-1-5'!V36<>"",'4-1-5'!V36,"") -> 14385.656 | D72: =IF('4-1-5'!W36<>"",'4-1-5'!W36,"") -> 37.070699 | E72: =IF(AND(ISNUMBER(D72),ISNUMBER(G72)),D72-G72,"") -> -5.5678264 | F72: 13415.192 | G72: 42.638526 | H72: =IF(AND(ISNUMBER(G72),ISNUMBER(J72)),G72-J72,"") -> 1.290596 | I72: 15410.784 | J72: 41.34793 | K72: =IF(AND(ISNUMBER(J72),ISNUMBER(M72)),J72-M72,"") -> -1.3520704 | L72: 16937.03 | M72: 42.7 | N72: =M72-P72 -> -4.4 | O72: 21677.53 | P72: 47.1 | Q72: =P72-S72 -> 0 | R72: 26316 | S72: 47.1
B73: 社外へ一部委託 | C73: =IF('4-1-5'!V37<>"",'4-1-5'!V37,"") -> 7526.2676 | D73: =IF('4-1-5'!W37<>"",'4-1-5'!W37,"") -> 19.394598 | E73: =IF(AND(ISNUMBER(D73),ISNUMBER(G73)),D73-G73,"") -> 3.0018617 | F73: 5157.5821 | G73: 16.392736 | H73: =IF(AND(ISNUMBER(G73),ISNUMBER(J73)),G73-J73,"") -> -2.5796439 | I73: 7071.1943 | J73: 18.97238 | K73: =IF(AND(ISNUMBER(J73),ISNUMBER(M73)),J73-M73,"") -> 1.6723799 | L73: 6843.93 | M73: 17.3 | N73: =M73-P73 -> 0.7 | O73: 7656.31 | P73: 16.6 | Q73: =P73-S73 -> 1.2 | R73: 8623 | S73: 15.4
B74: 社外へ全部委託 | C74: =IF('4-1-5'!V38<>"",'4-1-5'!V38,"") -> 15888.564 | D74: =IF('4-1-5'!W38<>"",'4-1-5'!W38,"") -> 40.943576 | E74: =IF(AND(ISNUMBER(D74),ISNUMBER(G74)),D74-G74,"") -> 1.4275155 | F74: 12432.783 | G74: 39.516061 | H74: =IF(AND(ISNUMBER(G74),ISNUMBER(J74)),G74-J74,"") -> 0.58628958 | I74: 14509.512 | J74: 38.929771 | K74: =IF(AND(ISNUMBER(J74),ISNUMBER(M74)),J74-M74,"") -> 0.32977099 | L74: 15285.2 | M74: 38.6 | N74: =M74-P74 -> 4.4 | O74: 15718.8 | P74: 34.2 | Q74: =P74-S74 -> -0.9 | R74: 19628 | S74: 35.1
B75: 作成していない | C75: =IF('4-1-5'!V39<>"",'4-1-5'!V39,"") -> 1005.5127 | D75: =IF('4-1-5'!W39<>"",'4-1-5'!W39,"") -> 2.5911269 | E75: =IF(AND(ISNUMBER(D75),ISNUMBER(G75)),D75-G75,"") -> 1.1384491 | F75: 457.0503 | G75: 1.4526778 | H75: =IF(AND(ISNUMBER(G75),ISNUMBER(J75)),G75-J75,"") -> 0.70275832 | I75: 279.50242 | J75: 0.74991945 | K75: =IF(AND(ISNUMBER(J75),ISNUMBER(M75)),J75-M75,"") -> -0.65008055 | L75: 558.58 | M75: 1.4 | N75: =M75-P75 -> -0.7 | O75: 968.6 | P75: 2.1 | Q75: =P75-S75 -> -0.3 | R75: 1364 | S75: 2.4
B76: 小 計 | C76: =IF('4-1-5'!V40<>"",'4-1-5'!V40,"") -> 38806 | D76: =IF('4-1-5'!W40<>"",'4-1-5'!W40,"") -> 100 | E76: - | F76: 31462.607 | G76: 100 | H76: - | I76: 37270.993 | J76: 100 | K76: - | L76: 39624.74 | M76: 100 | N76: - | O76: 46021.25 | P76: 100 | Q76: - | R76: 55931 | S76: 100
A77: 建築 | B77: 社内で作成 | C77: =IF('4-1-5'!V41<>"",'4-1-5'!V41,"") -> 32848.877 | D77: =IF('4-1-5'!W41<>"",'4-1-5'!W41,"") -> 44.866321 | E77: =IF(AND(ISNUMBER(D77),ISNUMBER(G77)),D77-G77,"") -> -0.43915376 | F77: 12210.112 | G77: 45.305474 | H77: =IF(AND(ISNUMBER(G77),ISNUMBER(J77)),G77-J77,"") -> 0.067699089 | I77: 14382.494 | J77: 45.237775 | K77: =IF(AND(ISNUMBER(J77),ISNUMBER(M77)),J77-M77,"") -> -8.4622247 | L77: 18331.61 | M77: 53.7 | N77: =M77-P77 -> -1 | O77: 18581.11 | P77: 54.7 | Q77: =P77-S77 -> 2.2 | R77: 22610 | S77: 52.5
B78: 社外へ一部委託 | C78: =IF('4-1-5'!V42<>"",'4-1-5'!V42,"") -> 12403.54 | D78: =IF('4-1-5'!W42<>"",'4-1-5'!W42,"") -> 16.941255 | E78: =IF(AND(ISNUMBER(D78),ISNUMBER(G78)),D78-G78,"") -> 0.67102185 | F78: 4384.931 | G78: 16.270233 | H78: =IF(AND(ISNUMBER(G78),ISNUMBER(J78)),G78-J78,"") -> 3.4752206 | I78: 4067.932 | J78: 12.795013 | K78: =IF(AND(ISNUMBER(J78),ISNUMBER(M78)),J78-M78,"") -> 1.6950129 | L78: 3794.95 | M78: 11.1 | N78: =M78-P78 -> -1.9 | O78: 4429.91 | P78: 13 | Q78: =P78-S78 -> 2 | R78: 4738 | S78: 11
B79: 社外へ全部委託 | C79: =IF('4-1-5'!V43<>"",'4-1-5'!V43,"") -> 26128.915 | D79: =IF('4-1-5'!W43<>"",'4-1-5'!W43,"") -> 35.687926 | E79: =IF(AND(ISNUMBER(D79),ISNUMBER(G79)),D79-G79,"") -> 3.2765775 | F79: 8735.0638 | G79: 32.411349 | H79: =IF(AND(ISNUMBER(G79),ISNUMBER(J79)),G79-J79,"") -> -8.4300037 | I79: 12984.735 | J79: 40.841353 | K79: =IF(AND(ISNUMBER(J79),ISNUMBER(M79)),J79-M79,"") -> 7.4413525 | L79: 11410.35 | M79: 33.4 | N79: =M79-P79 -> 2.5 | O79: 10504.4 | P79: 30.9 | Q79: =P79-S79 -> -0.8 | R79: 13637 | S79: 31.7
B80: 作成していない | C80: =IF('4-1-5'!V44<>"",'4-1-5'!V44,"") -> 1833.668 | D80: =IF('4-1-5'!W44<>"",'4-1-5'!W44,"") -> 2.5044977 | E80: =IF(AND(ISNUMBER(D80),ISNUMBER(G80)),D80-G80,"") -> -3.5084456 | F80: 1620.5263 | G80: 6.0129433 | H80: =IF(AND(ISNUMBER(G80),ISNUMBER(J80)),G80-J80,"") -> 4.887084 | I80: 357.94565 | J80: 1.1258593 | K80: =IF(AND(ISNUMBER(J80),ISNUMBER(M80)),J80-M80,"") -> -0.57414068 | L80: 579.62 | M80: 1.7 | N80: =M80-P80 -> 0.4 | O80: 449.14 | P80: 1.3 | Q80: =P80-S80 -> -3.6 | R80: 2092 | S80: 4.9
B81: 小 計 | C81: =IF('4-1-5'!V45<>"",'4-1-5'!V45,"") -> 73215 | D81: =IF('4-1-5'!W45<>"",'4-1-5'!W45,"") -> 100 | E81: - | F81: 26950.633 | G81: 100 | H81: - | I81: 31793.106 | J81: 100 | K81: - | L81: 34116.53 | M81: 100 | N81: - | O81: 33964.56 | P81: 100 | Q81: - | R81: 43077 | S81: 100
A82: 木造建築 | B82: 社内で作成 | C82: =IF('4-1-5'!V46<>"",'4-1-5'!V46,"") -> 6969.1245 | D82: =IF('4-1-5'!W46<>"",'4-1-5'!W46,"") -> 41.851576 | E82: =IF(AND(ISNUMBER(D82),ISNUMBER(G82)),D82-G82,"") -> -0.55050594 | F82: 4234.3771 | G82: 42.402082 | H82: =IF(AND(ISNUMBER(G82),ISNUMBER(J82)),G82-J82,"") -> -1.9604621 | I82: 6660.22 | J82: 44.362544 | K82: =IF(AND(ISNUMBER(J82),ISNUMBER(M82)),J82-M82,"") -> 1.0625443 | L82: 5517.32 | M82: 43.3 | N82: =M82-P82 -> -16 | O82: 8610.93 | P82: 59.3 | Q82: =P82-S82 -> 11.4 | R82: 8777 | S82: 47.9
B83: 社外へ一部委託 | C83: =IF('4-1-5'!V47<>"",'4-1-5'!V47,"") -> 2063.0021 | D83: =IF('4-1-5'!W47<>"",'4-1-5'!W47,"") -> 12.388915 | E83: =IF(AND(ISNUMBER(D83),ISNUMBER(G83)),D83-G83,"") -> -2.7994993 | F83: 1516.7527 | G83: 15.188414 | H83: =IF(AND(ISNUMBER(G83),ISNUMBER(J83)),G83-J83,"") -> 0.38289991 | I83: 2222.7756 | J83: 14.805514 | K83: =IF(AND(ISNUMBER(J83),ISNUMBER(M83)),J83-M83,"") -> 1.3055143 | L83: 1715.32 | M83: 13.5 | N83: =M83-P83 -> 3.4 | O83: 1464.74 | P83: 10.1 | Q83: =P83-S83 -> -0.3 | R83: 1898 | S83: 10.4
B84: 社外へ全部委託 | C84: =IF('4-1-5'!V48<>"",'4-1-5'!V48,"") -> 6199.0257 | D84: =IF('4-1-5'!W48<>"",'4-1-5'!W48,"") -> 37.226914 | E84: =IF(AND(ISNUMBER(D84),ISNUMBER(G84)),D84-G84,"") -> -2.2203007 | F84: 3939.2967 | G84: 39.447214 | H84: =IF(AND(ISNUMBER(G84),ISNUMBER(J84)),G84-J84,"") -> 3.1396037 | I84: 5450.9199 | J84: 36.307611 | K84: =IF(AND(ISNUMBER(J84),ISNUMBER(M84)),J84-M84,"") -> -0.29238924 | L84: 4673.02 | M84: 36.6 | N84: =M84-P84 -> 6.5 | O84: 4364.63 | P84: 30.1 | Q84: =P84-S84 -> -1.5 | R84: 5792 | S84: 31.6
B85: 作成していない | C85: =IF('4-1-5'!V49<>"",'4-1-5'!V49,"") -> 1420.8477 | D85: =IF('4-1-5'!W49<>"",'4-1-5'!W49,"") -> 8.5325952 | E85: =IF(AND(ISNUMBER(D85),ISNUMBER(G85)),D85-G85,"") -> 5.5703059 | F85: 295.82155 | G85: 2.9622892 | H85: =IF(AND(ISNUMBER(G85),ISNUMBER(J85)),G85-J85,"") -> -1.5620415 | I85: 679.24503 | J85: 4.5243307 | K85: =IF(AND(ISNUMBER(J85),ISNUMBER(M85)),J85-M85,"") -> -2.0756693 | L85: 845.15 | M85: 6.6 | N85: =M85-P85 -> 6.1 | O85: 71.99 | P85: 0.5 | Q85: =P85-S85 -> -9.6 | R85: 1851 | S85: 10.1
B86: 小 計 | C86: =IF('4-1-5'!V50<>"",'4-1-5'!V50,"") -> 16652 | D86: =IF('4-1-5'!W50<>"",'4-1-5'!W50,"") -> 100 | E86: - | F86: 9986.248 | G86: 100 | H86: - | I86: 15013.16 | J86: 100 | K86: - | L86: 12750.8 | M86: 100 | N86: - | O86: 14512.28 | P86: 100 | Q86: - | R86: 18318 | S86: 100
A87: 職別 | B87: 社内で作成 | C87: =IF('4-1-5'!V141<>"",'4-1-5'!V141,"") -> 35537.522 | D87: =IF('4-1-5'!W141<>"",'4-1-5'!W141,"") -> 34.953106 | E87: =IF(AND(ISNUMBER(D87),ISNUMBER(G87)),D87-G87,"") -> -4.7518835 | F87: 17131.7 | G87: 39.70499 | H87: =IF(AND(ISNUMBER(G87),ISNUMBER(J87)),G87-J87,"") -> 1.0522833 | I87: 17727.33 | J87: 38.652706 | K87: =IF(AND(ISNUMBER(J87),ISNUMBER(M87)),J87-M87,"") -> -0.54729381 | L87: 16891.98 | M87: 39.2 | N87: =M87-P87 -> -4.9 | O87: 19539.69 | P87: 44.1 | Q87: =P87-S87 -> -2.7 | R87: 22326 | S87: 46.8
B88: 社外へ一部委託 | C88: =IF('4-1-5'!V142<>"",'4-1-5'!V142,"") -> 17994.713 | D88: =IF('4-1-5'!W142<>"",'4-1-5'!W142,"") -> 17.698789 | E88: =IF(AND(ISNUMBER(D88),ISNUMBER(G88)),D88-G88,"") -> 1.1500548 | F88: 7140.3609 | G88: 16.548735 | H88: =IF(AND(ISNUMBER(G88),ISNUMBER(J88)),G88-J88,"") -> -0.82901783 | I88: 7969.9762 | J88: 17.377752 | K88: =IF(AND(ISNUMBER(J88),ISNUMBER(M88)),J88-M88,"") -> 1.7777524 | L88: 6721.19 | M88: 15.6 | N88: =M88-P88 -> 1.3 | O88: 6338.54 | P88: 14.3 | Q88: =P88-S88 -> 1.1 | R88: 6284 | S88: 13.2
B89: 社外へ全部委託 | C89: =IF('4-1-5'!V143<>"",'4-1-5'!V143,"") -> 43533.91 | D89: =IF('4-1-5'!W143<>"",'4-1-5'!W143,"") -> 42.817993 | E89: =IF(AND(ISNUMBER(D89),ISNUMBER(G89)),D89-G89,"") -> 2.7321313 | F89: 17296.037 | G89: 40.085862 | H89: =IF(AND(ISNUMBER(G89),ISNUMBER(J89)),G89-J89,"") -> -0.28671296 | I89: 18516.115 | J89: 40.372575 | K89: =IF(AND(ISNUMBER(J89),ISNUMBER(M89)),J89-M89,"") -> -3.027425 | L89: 18701.88 | M89: 43.4 | N89: =M89-P89 -> 5.9 | O89: 16584.31 | P89: 37.5 | Q89: =P89-S89 -> 0.6 | R89: 17607 | S89: 36.9
B90: 作成していない | C90: =IF('4-1-5'!V144<>"",'4-1-5'!V144,"") -> 4605.8548 | D90: =IF('4-1-5'!W144<>"",'4-1-5'!W144,"") -> 4.5301113 | E90: =IF(AND(ISNUMBER(D90),ISNUMBER(G90)),D90-G90,"") -> 0.86969742 | F90: 1579.3761 | G90: 3.6604139 | H90: =IF(AND(ISNUMBER(G90),ISNUMBER(J90)),G90-J90,"") -> 0.06344747 | I90: 1649.6804 | J90: 3.5969665 | K90: =IF(AND(ISNUMBER(J90),ISNUMBER(M90)),J90-M90,"") -> 1.6969665 | L90: 808.57 | M90: 1.9 | N90: =M90-P90 -> -2.2 | O90: 1818.32 | P90: 4.1 | Q90: =P90-S90 -> 1 | R90: 1491 | S90: 3.1
B91: 小 計 | C91: =IF('4-1-5'!V145<>"",'4-1-5'!V145,"") -> 101672 | D91: =IF('4-1-5'!W145<>"",'4-1-5'!W145,"") -> 100 | E91: - | F91: 43147.474 | G91: 100 | H91: - | I91: 45863.101 | J91: 100 | K91: - | L91: 43123.62 | M91: 100 | N91: - | O91: 44280.86 | P91: 100 | Q91: - | R91: 47708 | S91: 100
A92: 設備 | B92: 社内で作成 | C92: =IF('4-1-5'!V181<>"",'4-1-5'!V181,"") -> 29527.165 | D92: =IF('4-1-5'!W181<>"",'4-1-5'!W181,"") -> 43.612786 | E92: =IF(AND(ISNUMBER(D92),ISNUMBER(G92)),D92-G92,"") -> 2.8905686 | F92: 13675.99 | G92: 40.722218 | H92: =IF(AND(ISNUMBER(G92),ISNUMBER(J92)),G92-J92,"") -> -3.2771006 | I92: 16650.232 | J92: 43.999318 | K92: =IF(AND(ISNUMBER(J92),ISNUMBER(M92)),J92-M92,"") -> -0.60068157 | L92: 16361.84 | M92: 44.6 | N92: =M92-P92 -> -4.1 | O92: 18421.48 | P92: 48.7 | Q92: =P92-S92 -> 2.2 | R92: 19183 | S92: 46.5
B93: 社外へ一部委託 | C93: =IF('4-1-5'!V182<>"",'4-1-5'!V182,"") -> 12906.834 | D93: =IF('4-1-5'!W182<>"",'4-1-5'!W182,"") -> 19.063902 | E93: =IF(AND(ISNUMBER(D93),ISNUMBER(G93)),D93-G93,"") -> 1.2071348 | F93: 5996.9468 | G93: 17.856767 | H93: =IF(AND(ISNUMBER(G93),ISNUMBER(J93)),G93-J93,"") -> -1.2579593 | I93: 7233.399 | J93: 19.114726 | K93: =IF(AND(ISNUMBER(J93),ISNUMBER(M93)),J93-M93,"") -> 3.3147264 | L93: 5792.48 | M93: 15.8 | N93: =M93-P93 -> 1.1 | O93: 5572.54 | P93: 14.7 | Q93: =P93-S93 -> -1 | R93: 6461 | S93: 15.7
B94: 社外へ全部委託 | C94: =IF('4-1-5'!V183<>"",'4-1-5'!V183,"") -> 23319.156 | D94: =IF('4-1-5'!W183<>"",'4-1-5'!W183,"") -> 34.443313 | E94: =IF(AND(ISNUMBER(D94),ISNUMBER(G94)),D94-G94,"") -> -4.7571329 | F94: 13164.924 | G94: 39.200446 | H94: =IF(AND(ISNUMBER(G94),ISNUMBER(J94)),G94-J94,"") -> 3.8099328 | I94: 13392.486 | J94: 35.390513 | K94: =IF(AND(ISNUMBER(J94),ISNUMBER(M94)),J94-M94,"") -> -1.909487 | L94: 13671.49 | M94: 37.3 | N94: =M94-P94 -> 2.3 | O94: 13237.6 | P94: 35 | Q94: =P94-S94 -> 0.1 | R94: 14394 | S94: 34.9
B95: 作成していない | C95: =IF('4-1-5'!V184<>"",'4-1-5'!V184,"") -> 1949.8455 | D95: =IF('4-1-5'!W184<>"",'4-1-5'!W184,"") -> 2.8799987 | E95: =IF(AND(ISNUMBER(D95),ISNUMBER(G95)),D95-G95,"") -> 0.65942947 | F95: 745.74729 | G95: 2.2205693 | H95: =IF(AND(ISNUMBER(G95),ISNUMBER(J95)),G95-J95,"") -> 0.72512716 | I95: 565.90553 | J95: 1.4954421 | K95: =IF(AND(ISNUMBER(J95),ISNUMBER(M95)),J95-M95,"") -> -0.8045579 | L95: 852.8 | M95: 2.3 | N95: =M95-P95 -> 0.6 | O95: 624.89 | P95: 1.7 | Q95: =P95-S95 -> -1.2 | R95: 1208 | S95: 2.9
B96: 小 計 | C96: =IF('4-1-5'!V185<>"",'4-1-5'!V185,"") -> 67703 | D96: =IF('4-1-5'!W185<>"",'4-1-5'!W185,"") -> 100 | E96: - | F96: 33583.609 | G96: 100 | H96: - | I96: 37842.022 | J96: 100 | K96: - | L96: 36678.6 | M96: 100 | N96: - | O96: 37856.52 | P96: 100 | Q96: - | R96: 41245 | S96: 100
A97: 合 計 | B97: 社内で作成 | C97: =IF('4-1-5'!V186<>"",'4-1-5'!V186,"") -> 122876.37 | D97: =IF('4-1-5'!W186<>"",'4-1-5'!W186,"") -> 40.22627 | E97: =IF(AND(ISNUMBER(D97),ISNUMBER(G97)),D97-G97,"") -> -2.0595543 | F97: 62868.418 | G97: 42.285824 | H97: =IF(AND(ISNUMBER(G97),ISNUMBER(J97)),G97-J97,"") -> -0.4478523 | I97: 73492.857 | J97: 42.733676 | K97: =IF(AND(ISNUMBER(J97),ISNUMBER(M97)),J97-M97,"") -> -2.1663238 | L97: 76626.26 | M97: 44.9 | N97: =M97-P97 -> -4.6 | O97: 89899.64 | P97: 49.5 | Q97: =P97-S97 -> 1.1 | R97: 102724 | S97: 48.4
B98: 社外へ一部委託 | C98: =IF('4-1-5'!V187<>"",'4-1-5'!V187,"") -> 53981.249 | D98: =IF('4-1-5'!W187<>"",'4-1-5'!W187,"") -> 17.671943 | E98: =IF(AND(ISNUMBER(D98),ISNUMBER(G98)),D98-G98,"") -> 1.120083 | F98: 24608.467 | G98: 16.551861 | H98: =IF(AND(ISNUMBER(G98),ISNUMBER(J98)),G98-J98,"") -> -0.37528644 | I98: 29111.102 | J98: 16.927147 | K98: =IF(AND(ISNUMBER(J98),ISNUMBER(M98)),J98-M98,"") -> 2.027147 | L98: 25388.18 | M98: 14.9 | N98: =M98-P98 -> 0.5 | O98: 26173.67 | P98: 14.4 | Q98: =P98-S98 -> 0.8 | R98: 28770 | S98: 13.6
B99: 社外へ全部委託 | C99: =IF('4-1-5'!V188<>"",'4-1-5'!V188,"") -> 117686.53 | D99: =IF('4-1-5'!W188<>"",'4-1-5'!W188,"") -> 38.527263 | E99: =IF(AND(ISNUMBER(D99),ISNUMBER(G99)),D99-G99,"") -> 0.52521239 | F99: 56499.521 | G99: 38.002051 | H99: =IF(AND(ISNUMBER(G99),ISNUMBER(J99)),G99-J99,"") -> -0.2652139 | I99: 65811.577 | J99: 38.267265 | K99: =IF(AND(ISNUMBER(J99),ISNUMBER(M99)),J99-M99,"") -> 0.26726453 | L99: 64836.56 | M99: 38 | N99: =M99-P99 -> 4.1 | O99: 61625.7 | P99: 33.9 | Q99: =P99-S99 -> -0.3 | R99: 72643 | S99: 34.2
B100: 作成していない | C100: =IF('4-1-5'!V189<>"",'4-1-5'!V189,"") -> 10918.848 | D100: =IF('4-1-5'!W189<>"",'4-1-5'!W189,"") -> 3.5745239 | E100: =IF(AND(ISNUMBER(D100),ISNUMBER(G100)),D100-G100,"") -> 0.41425893 | F100: 4698.5216 | G100: 3.1602649 | H100: =IF(AND(ISNUMBER(G100),ISNUMBER(J100)),G100-J100,"") -> 1.0883526 | I100: 3563.2496 | J100: 2.0719123 | K100: =IF(AND(ISNUMBER(J100),ISNUMBER(M100)),J100-M100,"") -> -0.1280877 | L100: 3680.97 | M100: 2.2 | N100: =M100-P100 -> 0 | O100: 3968.51 | P100: 2.2 | Q100: =P100-S100 -> -1.6 | R100: 8047 | S100: 3.8
C101: =IF('4-1-5'!V190<>"",'4-1-5'!V190,"") -> 305463 | D101: =IF('4-1-5'!W190<>"",'4-1-5'!W190,"") -> 100 | E101: - | F101: 148674.93 | G101: 100 | H101: - | I101: 171978.78 | J101: 100 | K101: - | L101: 170531.98 | M101: 100 | N101: - | O101: 181667.52 | P101: 100 | Q101: - | R101: 212184 | S101: 100
P102: =SUBSTITUTE('4-1-5'!P192,"2．","（注）")

Sheet 4-1-7
A1: 表4－1－7 会計帳簿等の作成状況＜工事台帳＞
W3: （単位：社、％）
C4: 資本金 | D4: 個 人 | F4: 法 人 | V4: 合 計
A5: 業種 | C5: 作成状況 | F5: 500万円未満 | H5: 500万円以上 1000万円未満 | J5: 1000万円以上 3000万円未満 | L5: 3000万円以上 5000万円未満 | N5: 5000万円以上 1億円未満 | P5: 1億円以上 3億円未満 | R5: 3億円以上 10億円未満 | T5: 10億円以上
A6: 一般土木建築 | B6: 一般土木 建築工事業 | C6: 社内で作成 | D6: 396 | E6: 100 | F6: 462 | G6: 60 | H6: 541.14286 | I6: 57.142857 | J6: 2299.92 | K6: 84 | L6: 1284.2105 | M6: 84.210526 | N6: 730.69091 | O6: 92.727273 | P6: 164.7619 | Q6: 95.238095 | R6: 26 | S6: 100 | T6: 52 | U6: 100 | V6: 5956.7262 | W6: 80.333462
C7: 社外へ一部委託 | F7: 154 | G7: 20 | H7: 135.28571 | I7: 14.285714 | J7: 109.52 | K7: 4 | L7: 80.263158 | M7: 5.2631579 | N7: 42.981818 | O7: 5.4545455 | P7: 4.1190476 | Q7: 2.3809524 | V7: 526.16974 | W7: 7.096018
C8: 社外へ全部委託 | H8: 135.28571 | I8: 14.285714 | J8: 273.8 | K8: 10 | L8: 120.39474 | M8: 7.8947368 | V8: 529.48045 | W8: 7.1406669
C9: 作成していない | F9: 154 | G9: 20 | H9: 135.28571 | I9: 14.285714 | J9: 54.76 | K9: 2 | L9: 40.131579 | M9: 2.6315789 | N9: 14.327273 | O9: 1.8181818 | P9: 4.1190476 | Q9: 2.3809524 | V9: 402.62361 | W9: 5.4298532
C10: 小 計 | D10: 396 | E10: 100 | F10: 770 | G10: 100 | H10: 947 | I10: 100 | J10: 2738 | K10: 100 | L10: 1525 | M10: 100 | N10: 788 | O10: 100 | P10: 173 | Q10: 100 | R10: 26 | S10: 100 | T10: 52 | U10: 100 | V10: 7415 | W10: 100
A11: 土木 | B11: 土木工事業 | C11: 社内で作成 | D11: 1515.75 | E11: 75 | F11: 3362.125 | G11: 54.166667 | H11: 4405.678 | I11: 72.881356 | J11: 8719.7895 | K11: 73.684211 | L11: 3096.4878 | M11: 82.926829 | N11: 943.22034 | O11: 84.745763 | P11: 99.78125 | Q11: 96.875 | R11: 14.4 | S11: 80 | T11: 20 | U11: 100 | V11: 22177.232 | W11: 71.320893
C12: 社外へ一部委託 | F12: 517.25 | G12: 8.3333333 | H12: 307.37288 | I12: 5.0847458 | J12: 1245.6842 | K12: 10.526316 | L12: 455.36585 | M12: 12.195122 | N12: 94.322034 | O12: 8.4745763 | R12: 3.6 | S12: 20 | V12: 2623.595 | W12: 8.4373532
C13: 社外へ全部委託 | F13: 775.875 | G13: 12.5 | H13: 409.83051 | I13: 6.779661 | J13: 467.13158 | K13: 3.9473684 | L13: 91.073171 | M13: 2.4390244 | N13: 56.59322 | O13: 5.0847458 | V13: 1800.5035 | W13: 5.7903312
C14: 作成していない | D14: 505.25 | E14: 25 | F14: 1551.75 | G14: 25 | H14: 922.11864 | I14: 15.254237 | J14: 1401.3947 | K14: 11.842105 | L14: 91.073171 | M14: 2.4390244 | N14: 18.864407 | O14: 1.6949153 | P14: 3.21875 | Q14: 3.125 | V14: 4493.6697 | W14: 14.451422
C15: 小 計 | D15: 2021 | E15: 100 | F15: 6207 | G15: 100 | H15: 6045 | I15: 100 | J15: 11834 | K15: 100 | L15: 3734 | M15: 100 | N15: 1113 | O15: 100 | P15: 103 | Q15: 100 | R15: 18 | S15: 100 | T15: 20 | U15: 100 | V15: 31095 | W15: 100
B16: ほ装工事業 | C16: 社内で作成 | D16: 9.6666667 | E16: 33.333333 | F16: 397.17241 | G16: 44.827586 | H16: 505.04167 | I16: 70.833333 | J16: 1261.2381 | K16: 90.47619 | L16: 313.17391 | M16: 91.304348 | N16: 112.25806 | O16: 96.774194 | P16: 8 | Q16: 80 | T16: 6 | U16: 100 | V16: 2612.5508 | W16: 74.708345
C17: 社外へ一部委託 | F17: 61.103448 | G17: 6.8965517 | H17: 89.125 | I17: 12.5 | J17: 66.380952 | K17: 4.7619048 | L17: 7.4565217 | M17: 2.173913 | N17: 3.7419355 | O17: 3.2258065 | P17: 2 | Q17: 20 | V17: 229.80786 | W17: 6.5715716
C18: 社外へ全部委託 | F18: 152.75862 | G18: 17.241379 | H18: 29.708333 | I18: 4.1666667 | J18: 33.190476 | K18: 2.3809524 | L18: 7.4565217 | M18: 2.173913 | V18: 223.11395 | W18: 6.380153
C19: 作成していない | D19: 19.333333 | E19: 66.666667 | F19: 274.96552 | G19: 31.034483 | H19: 89.125 | I19: 12.5 | J19: 33.190476 | K19: 2.3809524 | L19: 14.913043 | M19: 4.3478261 | V19: 431.52737 | W19: 12.339931
C20: 小 計 | D20: 29 | E20: 100 | F20: 886 | G20: 100 | H20: 713 | I20: 100 | J20: 1394 | K20: 100 | L20: 343 | M20: 100 | N20: 116 | O20: 100 | P20: 10 | Q20: 100 | T20: 6 | U20: 100 | V20: 3497 | W20: 100
B21: しゅんせつ 工事業 | C21: 社内で作成 | J21: 46 | K21: 100 | L21: 18 | M21: 66.666667 | N21: 8 | O21: 100 | V21: 72 | W21: 48
C22: 社外へ一部委託
C23: 社外へ全部委託
C24: 作成していない | H24: 69 | I24: 100 | L24: 9 | M24: 33.333333 | V24: 78 | W24: 52
C25: 小 計 | H25: 69 | I25: 100 | J25: 46 | K25: 100 | L25: 27 | M25: 100 | N25: 8 | O25: 100 | V25: 150 | W25: 100
B26: 造園工事業 | C26: 社内で作成 | D26: 406 | E26: 100 | F26: 389.4 | G26: 60 | H26: 246 | I26: 66.666667 | J26: 602.55319 | K26: 85.106383 | L26: 134.48936 | M26: 91.489362 | N26: 28 | O26: 82.352941 | V26: 1806.4426 | W26: 78.099548
C27: 社外へ一部委託 | F27: 129.8 | G27: 20 | J27: 15.06383 | K27: 2.1276596 | L27: 6.2553191 | M27: 4.2553191 | N27: 2 | O27: 5.8823529 | V27: 153.11915 | W27: 6.6199373
C28: 社外へ全部委託 | J28: 15.06383 | K28: 2.1276596 | N28: 2 | O28: 5.8823529 | V28: 17.06383 | W28: 0.73773583
C29: 作成していない | F29: 129.8 | G29: 20 | H29: 123 | I29: 33.333333 | J29: 75.319149 | K29: 10.638298 | L29: 6.2553191 | M29: 4.2553191 | N29: 2 | O29: 5.8823529 | V29: 336.37447 | W29: 14.542779
C30: 小 計 | D30: 406 | E30: 100 | F30: 649 | G30: 100 | H30: 369 | I30: 100 | J30: 708 | K30: 100 | L30: 147 | M30: 100 | N30: 34 | O30: 100 | V30: 2313 | W30: 100
B31: 水道施設 工事業 | C31: 社内で作成 | F31: 208.92308 | G31: 53.846154 | H31: 285.33333 | I31: 66.666667 | J31: 518.08108 | K31: 78.378378 | L31: 143.1875 | M31: 90.625 | N31: 42.666667 | O31: 88.888889 | V31: 1198.1917 | W31: 68.428992
C32: 社外へ一部委託 | F32: 149.23077 | G32: 38.461538 | H32: 95.111111 | I32: 22.222222 | J32: 35.72973 | K32: 5.4054054 | L32: 4.9375 | M32: 3.125 | V32: 285.00911 | W32: 16.276934
C33: 社外へ全部委託 | F33: 29.846154 | G33: 7.6923077 | J33: 35.72973 | K33: 5.4054054 | L33: 4.9375 | M33: 3.125 | N33: 5.3333333 | O33: 11.111111 | P33: 3 | Q33: 100 | V33: 78.846717 | W33: 4.5029536
C34: 作成していない | D34: 65 | E34: 100 | H34: 47.555556 | I34: 11.111111 | J34: 71.459459 | K34: 10.810811 | L34: 4.9375 | M34: 3.125 | V34: 188.95252 | W34: 10.79112
C35: 小 計 | D35: 65 | E35: 100 | F35: 388 | G35: 100 | H35: 428 | I35: 100 | J35: 661 | K35: 100 | L35: 158 | M35: 100 | N35: 48 | O35: 100 | P35: 3 | Q35: 100 | V35: 1751 | W35: 100
B36: 小 計 | C36: 社内で作成 | D36: 1931.4167 | E36: 76.613116 | F36: 4357.6205 | G36: 53.599268 | H36: 5442.053 | I36: 71.380548 | J36: 11147.662 | K36: 76.129631 | L36: 3705.3386 | M36: 84.04034 | N36: 1134.1451 | O36: 85.985221 | P36: 107.78125 | Q36: 92.914871 | R36: 14.4 | S36: 80 | T36: 26 | U36: 100 | V36: 27866.417 | W36: 71.809557
C37: 社外へ一部委託 | F37: 857.38422 | G37: 10.545931 | H37: 491.60899 | I37: 6.4481767 | J37: 1362.8587 | K37: 9.3072371 | L37: 474.01519 | M37: 10.751082 | N37: 100.06397 | O37: 7.586351 | P37: 2 | Q37: 1.7241379 | R37: 3.6 | S37: 20 | V37: 3291.5311 | W37: 8.4820159
C38: 社外へ全部委託 | F38: 958.47977 | G38: 11.789419 | H38: 439.53884 | I38: 5.7651999 | J38: 551.11561 | K38: 3.7636797 | L38: 103.46719 | M38: 2.346727 | N38: 63.926554 | O38: 4.8465924 | P38: 3 | Q38: 2.5862069 | V38: 2119.528 | W38: 5.4618564
C39: 作成していない | D39: 589.58333 | E39: 23.386884 | F39: 1956.5155 | G39: 24.065382 | H39: 1250.7992 | I39: 16.406076 | J39: 1581.3638 | K39: 10.799452 | L39: 126.17903 | M39: 2.8618515 | N39: 20.864407 | O39: 1.5818352 | P39: 3.21875 | Q39: 2.7747845 | V39: 5528.5241 | W39: 14.24657
C40: 小 計 | D40: 2521 | E40: 100 | F40: 8130 | G40: 100 | H40: 7624 | I40: 100 | J40: 14643 | K40: 100 | L40: 4409 | M40: 100 | N40: 1319 | O40: 100 | P40: 116 | Q40: 100 | R40: 18 | S40: 100 | T40: 26 | U40: 100 | V40: 38806 | W40: 100
A41: 建築 | B41: 建築工事業 | C41: 社内で作成 | D41: 5153.1579 | E41: 52.631579 | F41: 12234.857 | G41: 64.285714 | H41: 9846.0556 | I41: 72.222222 | J41: 20907 | K41: 90.789474 | L41: 4836.3077 | M41: 89.230769 | N41: 1827.7241 | O41: 96.551724 | P41: 315.71429 | Q41: 97.142857 | R41: 49 | S41: 100 | T41: 44 | U41: 100 | V41: 55213.817 | W41: 75.413258
C42: 社外へ一部委託 | D42: 1030.6316 | E42: 10.526316 | F42: 2039.1429 | G42: 10.714286 | H42: 1893.4722 | I42: 13.888889 | J42: 606 | K42: 2.6315789 | L42: 83.384615 | M42: 1.5384615 | V42: 5652.6313 | W42: 7.7205918
C43: 社外へ全部委託 | D43: 1030.6316 | E43: 10.526316 | F43: 1359.4286 | G43: 7.1428571 | H43: 1136.0833 | I43: 8.3333333 | J43: 606 | K43: 2.6315789 | L43: 416.92308 | M43: 7.6923077 | N43: 32.637931 | O43: 1.7241379 | V43: 4581.7045 | W43: 6.2578768
C44: 作成していない | D44: 2576.5789 | E44: 26.315789 | F44: 3398.5714 | G44: 17.857143 | H44: 757.38889 | I44: 5.5555556 | J44: 909 | K44: 3.9473684 | L44: 83.384615 | M44: 1.5384615 | N44: 32.637931 | O44: 1.7241379 | P44: 9.2857143 | Q44: 2.8571429 | V44: 7766.8475 | W44: 10.608274
C45: 小 計 | D45: 9791 | E45: 100 | F45: 19032 | G45: 100 | H45: 13633 | I45: 100 | J45: 23028 | K45: 100 | L45: 5420 | M45: 100 | N45: 1893 | O45: 100 | P45: 325 | Q45: 100 | R45: 49 | S45: 100 | T45: 44 | U45: 100 | V45: 73215 | W45: 100
B46: 木造建築 工事業 | C46: 社内で作成 | D46: 2850.5455 | E46: 54.545455 | F46: 2615.7241 | G46: 55.172414 | H46: 2353.1395 | I46: 81.395349 | J46: 2952 | K46: 88.888889 | L46: 277.05882 | M46: 88.235294 | N46: 95.652174 | O46: 86.956522 | P46: 43 | Q46: 100 | R46: 2 | S46: 100 | T46: 4 | U46: 100 | V46: 11193.12 | W46: 67.217872
C47: 社外へ一部委託 | F47: 1144.3793 | G47: 24.137931 | H47: 268.93023 | I47: 9.3023256 | J47: 221.4 | K47: 6.6666667 | L47: 27.705882 | M47: 8.8235294 | V47: 1662.4154 | W47: 9.9832778
C48: 社外へ全部委託 | D48: 950.18182 | E48: 18.181818 | F48: 163.48276 | G48: 3.4482759 | H48: 67.232558 | I48: 2.3255814 | J48: 73.8 | K48: 2.2222222 | N48: 4.7826087 | O48: 4.3478261 | V48: 1259.4797 | W48: 7.5635344
C49: 作成していない | D49: 1425.2727 | E49: 27.272727 | F49: 817.41379 | G49: 17.241379 | H49: 201.69767 | I49: 6.9767442 | J49: 73.8 | K49: 2.2222222 | L49: 9.2352941 | M49: 2.9411765 | N49: 9.5652174 | O49: 8.6956522 | V49: 2536.9847 | W49: 15.235315
C50: 小 計 | D50: 5226 | E50: 100 | F50: 4741 | G50: 100 | H50: 2891 | I50: 100 | J50: 3321 | K50: 100 | L50: 314 | M50: 100 | N50: 110 | O50: 100 | P50: 43 | Q50: 100 | R50: 2 | S50: 100 | T50: 4 | U50: 100 | V50: 16652 | W50: 100
B51: 小 計 | C51: 社内で作成 | D51: 8003.7033 | E51: 53.297618 | F51: 14850.581 | G51: 62.468268 | H51: 12199.195 | I51: 73.827131 | J51: 23859 | K51: 90.549926 | L51: 5113.3665 | M51: 89.176256 | N51: 1923.3763 | O51: 96.024778 | P51: 358.71429 | Q51: 97.476708 | R51: 51 | S51: 100 | T51: 48 | U51: 100 | V51: 66406.937 | W51: 73.894685
C52: 社外へ一部委託 | D52: 1030.6316 | E52: 6.863099 | F52: 3183.5222 | G52: 13.391335 | H52: 2162.4025 | I52: 13.086435 | J52: 827.4 | K52: 3.1401571 | L52: 111.0905 | M52: 1.9373997 | V52: 7315.0467 | W52: 8.1398586
C53: 社外へ全部委託 | D53: 1980.8134 | E53: 13.190473 | F53: 1522.9113 | G53: 6.4060545 | H53: 1203.3159 | I53: 7.2822312 | J53: 679.8 | K53: 2.5799841 | L53: 416.92308 | M53: 7.2710687 | N53: 37.42054 | O53: 1.8682246 | V53: 5841.1842 | W53: 6.49981
C54: 作成していない | D54: 4001.8517 | E54: 26.648809 | F54: 4215.9852 | G54: 17.734342 | H54: 959.08656 | I54: 5.8042034 | J54: 982.8 | K54: 3.7299328 | L54: 92.61991 | M54: 1.6152757 | N54: 42.203148 | O54: 2.1069969 | P54: 9.2857143 | Q54: 2.5232919 | V54: 10303.832 | W54: 11.465646
C55: 小 計 | D55: 15017 | E55: 100 | F55: 23773 | G55: 100 | H55: 16524 | I55: 100 | J55: 26349 | K55: 100 | L55: 5734 | M55: 100 | N55: 2003 | O55: 100 | P55: 368 | Q55: 100 | R55: 51 | S55: 100 | T55: 48 | U55: 100 | V55: 89867 | W55: 100
A56: 職別 | B56: 大工工事業 | C56: 社内で作成 | D56: 1364.4 | E56: 60 | F56: 1230.3902 | G56: 53.658537 | H56: 818.28571 | I56: 57.142857 | J56: 1013.5106 | K56: 74.468085 | L56: 68.8 | M56: 80 | N56: 31.5 | O56: 75 | P56: 5 | Q56: 100 | V56: 4531.8866 | W56: 60.481604
C57: 社外へ一部委託 | F57: 223.70732 | G57: 9.7560976 | H57: 170.47619 | I57: 11.904762 | J57: 115.82979 | K57: 8.5106383 | L57: 13.76 | M57: 16 | N57: 7.875 | O57: 18.75 | V57: 531.64829 | W57: 7.0952662
C58: 社外へ全部委託 | D58: 151.6 | E58: 6.6666667 | F58: 167.78049 | G58: 7.3170732 | H58: 204.57143 | I58: 14.285714 | J58: 115.82979 | K58: 8.5106383 | N58: 2.625 | O58: 6.25 | V58: 642.4067 | W58: 8.5734246
C59: 作成していない | D59: 758 | E59: 33.333333 | F59: 671.12195 | G59: 29.268293 | H59: 238.66667 | I59: 16.666667 | J59: 115.82979 | K59: 8.5106383 | L59: 3.44 | M59: 4 | V59: 1787.0584 | W59: 23.849705
C60: 小 計 | D60: 2274 | E60: 100 | F60: 2293 | G60: 100 | H60: 1432 | I60: 100 | J60: 1361 | K60: 100 | L60: 86 | M60: 100 | N60: 42 | O60: 100 | P60: 5 | Q60: 100 | V60: 7493 | W60: 100
A61: 職別 | B61: とび・土工・ コンクリート 工事業 | C61: 社内で作成 | D61: 445.23077 | E61: 30.769231 | F61: 4855.2 | G61: 62.222222 | H61: 3022.3256 | I61: 69.767442 | J61: 2853.6 | K61: 80 | L61: 292.84615 | M61: 89.010989 | N61: 139.3871 | O61: 93.548387 | P61: 31.777778 | Q61: 96.296296 | R61: 2 | S61: 100 | T61: 1 | U61: 100 | V61: 11643.367 | W61: 65.919535
C62: 社外へ一部委託 | D62: 111.30769 | E62: 7.6923077 | F62: 433.5 | G62: 5.5555556 | H62: 503.72093 | I62: 11.627907 | J62: 171.216 | K62: 4.8 | L62: 10.846154 | M62: 3.2967033 | N62: 4.8064516 | O62: 3.2258065 | P62: 1.2222222 | Q62: 3.7037037 | V62: 1236.6195 | W62: 7.0011858
C63: 社外へ全部委託 | D63: 333.92308 | E63: 23.076923 | F63: 606.9 | G63: 7.7777778 | H63: 151.11628 | I63: 3.4883721 | J63: 114.144 | K63: 3.2 | L63: 18.076923 | M63: 5.4945055 | N63: 4.8064516 | O63: 3.2258065 | V63: 1228.9667 | W63: 6.9578595
C64: 作成していない | D64: 556.53846 | E64: 38.461538 | F64: 1907.4 | G64: 24.444444 | H64: 654.83721 | I64: 15.116279 | J64: 428.04 | K64: 12 | L64: 7.2307692 | M64: 2.1978022 | V64: 3554.0464 | W64: 20.12142
C65: 小 計 | D65: 1447 | E65: 100 | F65: 7803 | G65: 100 | H65: 4332 | I65: 100 | J65: 3567 | K65: 100 | L65: 329 | M65: 100 | N65: 149 | O65: 100 | P65: 33 | Q65: 100 | R65: 2 | S65: 100 | T65: 1 | U65: 100 | V65: 17663 | W65: 100
B66: 鋼構造物 工事業 | C66: 社内で作成 | D66: 81.375 | E66: 37.5 | F66: 1118.5714 | G66: 71.428571 | H66: 474.17857 | I66: 60.714286 | J66: 1546.0526 | K66: 82.45614 | L66: 132.83721 | M66: 79.069767 | N66: 80.925 | O66: 97.5 | P66: 9 | Q66: 100 | R66: 5 | S66: 100 | T66: 3 | U66: 100 | V66: 3450.9398 | W66: 73.315059
C67: 社外へ一部委託 | D67: 27.125 | E67: 12.5 | F67: 111.85714 | G67: 7.1428571 | H67: 55.785714 | I67: 7.1428571 | J67: 98.684211 | K67: 5.2631579 | L67: 23.44186 | M67: 13.953488 | V67: 316.89393 | W67: 6.732397
C68: 社外へ全部委託 | D68: 27.125 | E68: 12.5 | F68: 55.928571 | G68: 3.5714286 | H68: 27.892857 | I68: 3.5714286 | L68: 3.9069767 | M68: 2.3255814 | V68: 114.85341 | W68: 2.4400553
C69: 作成していない | D69: 81.375 | E69: 37.5 | F69: 279.64286 | G69: 17.857143 | H69: 223.14286 | I69: 28.571429 | J69: 230.26316 | K69: 12.280702 | L69: 7.8139535 | M69: 4.6511628 | N69: 2.075 | O69: 2.5 | V69: 824.31283 | W69: 17.512488
C70: 小 計 | D70: 217 | E70: 100 | F70: 1566 | G70: 100 | H70: 781 | I70: 100 | J70: 1875 | K70: 100 | L70: 168 | M70: 100 | N70: 83 | O70: 100 | P70: 9 | Q70: 100 | R70: 5 | S70: 100 | T70: 3 | U70: 100 | V70: 4707 | W70: 100
B71: 鉄筋工事業 | C71: 社内で作成 | F71: 646.70968 | G71: 51.612903 | H71: 523.33333 | I71: 66.666667 | J71: 556.84444 | K71: 75.555556 | L71: 33.571429 | M71: 71.428571 | N71: 22 | O71: 100 | V71: 1782.4589 | W71: 35.394338
C72: 社外へ一部委託 | F72: 121.25806 | G72: 9.6774194 | L72: 3.3571429 | M72: 7.1428571 | V72: 124.61521 | W72: 2.4744878
C73: 社外へ全部委託 | F73: 161.67742 | G73: 12.903226 | H73: 98.125 | I73: 12.5 | J73: 32.755556 | K73: 4.4444444 | L73: 3.3571429 | M73: 7.1428571 | V73: 295.91512 | W73: 5.8759952
C74: 作成していない | D74: 2192 | E74: 100 | F74: 323.35484 | G74: 25.806452 | H74: 163.54167 | I74: 20.833333 | J74: 147.4 | K74: 20 | L74: 6.7142857 | M74: 14.285714 | V74: 2833.0108 | W74: 56.255179
C75: 小 計 | D75: 2192 | E75: 100 | F75: 1253 | G75: 100 | H75: 785 | I75: 100 | J75: 737 | K75: 100 | L75: 47 | M75: 100 | N75: 22 | O75: 100 | V75: 5036 | W75: 100
B76: 解体工事業 | C76: 社内で作成 | F76: 850.85714 | G76: 57.142857 | H76: 448.36364 | I76: 54.545455 | J76: 600.78125 | K76: 78.125 | L76: 127.68 | M76: 84 | N76: 33.3 | O76: 90 | P76: 7 | Q76: 100 | V76: 2067.982 | W76: 56.75033
C77: 社外へ一部委託 | F77: 319.07143 | G77: 21.428571 | H77: 74.727273 | I77: 9.0909091 | J77: 24.03125 | K77: 3.125 | L77: 18.24 | M77: 12 | N77: 3.7 | O77: 10 | V77: 439.76995 | W77: 12.06833
C78: 社外へ全部委託 | D78: 368 | E78: 100 | H78: 74.727273 | I78: 9.0909091 | J78: 72.09375 | K78: 9.375 | V78: 514.82102 | W78: 14.12791
C79: 作成していない | F79: 319.07143 | G79: 21.428571 | H79: 224.18182 | I79: 27.272727 | J79: 72.09375 | K79: 9.375 | L79: 6.08 | M79: 4 | V79: 621.427 | W79: 17.05343
C80: 小 計 | D80: 368 | E80: 100 | F80: 1489 | G80: 100 | H80: 822 | I80: 100 | J80: 769 | K80: 100 | L80: 152 | M80: 100 | N80: 37 | O80: 100 | P80: 7 | Q80: 100 | V80: 3644 | W80: 100
B81: 躯体関係計 | C81: 社内で作成 | D81: 1891.0058 | E81: 29.101351 | F81: 8701.7285 | G81: 60.411889 | H81: 5286.4868 | I81: 64.848955 | J81: 6570.789 | K81: 79.080382 | L81: 655.73479 | M81: 83.853554 | N81: 307.1121 | O81: 92.225855 | P81: 52.777778 | Q81: 97.736626 | R81: 7 | S81: 100 | T81: 4 | U81: 100 | V81: 23476.635 | W81: 60.910242
C82: 社外へ一部委託 | D82: 138.43269 | E82: 2.1303892 | F82: 1209.394 | G82: 8.3962368 | H82: 804.71011 | I82: 9.8713212 | J82: 409.76125 | K82: 4.9315351 | L82: 69.645157 | M82: 8.9060303 | N82: 16.381452 | O82: 4.9193548 | P82: 1.2222222 | Q82: 2.2633745 | V82: 2649.5468 | W82: 6.8742621
C83: 社外へ全部委託 | D83: 880.64808 | E83: 13.552602 | F83: 992.28648 | G83: 6.8889647 | H83: 556.43284 | I83: 6.8257218 | J83: 334.82309 | K83: 4.0296437 | L83: 25.341043 | M83: 3.2405425 | N83: 7.4314516 | O83: 2.2316672 | V83: 2796.963 | W83: 7.256734
C84: 作成していない | D84: 3587.9135 | E84: 55.215658 | F84: 3500.5911 | G84: 24.302909 | H84: 1504.3702 | I84: 18.454002 | J84: 993.6267 | K84: 11.958439 | L84: 31.279008 | M84: 3.9998732 | N84: 2.075 | O84: 0.62312312 | V84: 9619.8555 | W84: 24.958762
