Workbook
Name ______________________ＴＢＬ１: [1]CSS編集画面!$B$10:$F$22
Name ______________________ＴＢＬ２: [1]CSS編集画面!$B$24:$I$35
Name _____________________ＴＢＬ１: [1]CSS編集画面!$B$10:$F$22
Name _____________________ＴＢＬ２: [1]CSS編集画面!$B$24:$I$35
Name ____________________ＴＢＬ１: [1]CSS編集画面!$B$10:$F$22
Name ____________________ＴＢＬ２: [1]CSS編集画面!$B$24:$I$35
Name ___________________ＴＢＬ１: [1]CSS編集画面!$B$10:$F$22
Name ___________________ＴＢＬ２: [1]CSS編集画面!$B$24:$I$35
Name __________________ＴＢＬ１: [1]CSS編集画面!$B$10:$F$22
Name __________________ＴＢＬ２: [1]CSS編集画面!$B$24:$I$35
Name _________________ＴＢＬ１: [1]CSS編集画面!$B$10:$F$22
Name _________________ＴＢＬ２: [1]CSS編集画面!$B$24:$I$35
Name ________________ＴＢＬ１: [1]CSS編集画面!$B$10:$F$22
Name ________________ＴＢＬ２: [1]CSS編集画面!$B$24:$I$35
Name _______________ＴＢＬ１: [1]CSS編集画面!$B$10:$F$22
Name _______________ＴＢＬ２: [1]CSS編集画面!$B$24:$I$35
Name ______________ＴＢＬ１: [1]CSS編集画面!$B$10:$F$22
Name ______________ＴＢＬ２: [1]CSS編集画面!$B$24:$I$35
Name _____________ＴＢＬ１: [1]CSS編集画面!$B$10:$F$22
Name _____________ＴＢＬ２: [1]CSS編集画面!$B$24:$I$35
Name ____________ＴＢＬ１: [1]CSS編集画面!$B$10:$F$22
Name ____________ＴＢＬ２: [1]CSS編集画面!$B$24:$I$35
Name ___________ＴＢＬ１: [1]CSS編集画面!$B$10:$F$22
Name ___________ＴＢＬ２: [1]CSS編集画面!$B$24:$I$35
Name __________ＴＢＬ１: [1]CSS編集画面!$B$10:$F$22
Name __________ＴＢＬ２: [1]CSS編集画面!$B$24:$I$35
Name _________ＴＢＬ１: [1]CSS編集画面!$B$10:$F$22
Name _________ＴＢＬ２: [1]CSS編集画面!$B$24:$I$35
Name ________ＴＢＬ１: [1]CSS編集画面!$B$10:$F$22
Name ________ＴＢＬ２: [1]CSS編集画面!$B$24:$I$35
Name _______ＴＢＬ１: [1]CSS編集画面!$B$10:$F$22
Name _______ＴＢＬ２: [1]CSS編集画面!$B$24:$I$35
Name ______ＴＢＬ１: [1]CSS編集画面!$B$10:$F$22
Name ______ＴＢＬ２: [1]CSS編集画面!$B$24:$I$35
Name _____ＴＢＬ１: [1]CSS編集画面!$B$10:$F$22
Name _____ＴＢＬ２: [1]CSS編集画面!$B$24:$I$35
Name ____ＴＢＬ１: [1]CSS編集画面!$B$10:$F$22
Name ____ＴＢＬ２: [1]CSS編集画面!$B$24:$I$35
Name ___ＴＢＬ１: [1]CSS編集画面!$B$10:$F$22
Name ___ＴＢＬ２: [1]CSS編集画面!$B$24:$I$35
Name __ＴＢＬ１: [1]CSS編集画面!$B$10:$F$22
Name __ＴＢＬ２: [1]CSS編集画面!$B$24:$I$35
Name _ＴＢＬ１: [1]CSS編集画面!$B$10:$F$22
Name _ＴＢＬ２: [1]CSS編集画面!$B$24:$I$35
Name PAGE1: #REF!
Name PAGE10: #REF!
Name PAGE100: #REF!
Name PAGE1000: #REF!
Name PAGE1001: #REF!
Name PAGE1002: #REF!
Name PAGE1003: #REF!
Name PAGE1004: #REF!
Name PAGE1005: #REF!
Name PAGE1006: #REF!
Name PAGE1007: #REF!
Name PAGE1008: #REF!
Name PAGE1009: #REF!
Name PAGE101: #REF!
Name PAGE1010: #REF!
Name PAGE1011: #REF!

Sheet 4-1-1
A1: 表4－1－1 会計帳簿等の作成状況＜資金繰表等＞
W3: （単位：社、％）
C4: 資本金 | D4: 個 人 | F4: 法 人 | V4: 合 計
A5: 業種 | C5: 作成状況 | F5: 500万円未満 | H5: 500万円以上 1000万円未満 | J5: 1000万円以上 3000万円未満 | L5: 3000万円以上 5000万円未満 | N5: 5000万円以上 1億円未満 | P5: 1億円以上 3億円未満 | R5: 3億円以上 10億円未満 | T5: 10億円以上
A6: 一般土木建築 | B6: 一般土木 建築工事業 | C6: 社内で作成 | D6: 198 | E6: 50 | F6: 462 | G6: 60 | H6: 541.14286 | I6: 57.142857 | J6: 1807.08 | K6: 66 | L6: 1043.4211 | M6: 68.421053 | N6: 616.07273 | O6: 78.181818 | P6: 160.64286 | Q6: 92.857143 | R6: 26 | S6: 100 | T6: 52 | U6: 100 | V6: 4906.3595 | W6: 66.168031
C7: 社外へ一部委託 | J7: 219.04 | K7: 8 | L7: 80.263158 | M7: 5.2631579 | N7: 71.636364 | O7: 9.0909091 | P7: 4.1190476 | Q7: 2.3809524 | V7: 375.05857 | W7: 5.0581061
C8: 社外へ全部委託 | H8: 135.28571 | I8: 14.285714 | J8: 219.04 | K8: 8 | L8: 40.131579 | M8: 2.6315789 | N8: 28.654545 | O8: 3.6363636 | V8: 423.11184 | W8: 5.706161
C9: 作成していない | D9: 198 | E9: 50 | F9: 308 | G9: 40 | H9: 270.57143 | I9: 28.571429 | J9: 492.84 | K9: 18 | L9: 361.18421 | M9: 23.684211 | N9: 71.636364 | O9: 9.0909091 | P9: 8.2380952 | Q9: 4.7619048 | V9: 1710.4701 | W9: 23.067702
C10: 小 計 | D10: 396 | E10: 100 | F10: 770 | G10: 100 | H10: 947 | I10: 100 | J10: 2738 | K10: 100 | L10: 1525 | M10: 100 | N10: 788 | O10: 100 | P10: 173 | Q10: 100 | R10: 26 | S10: 100 | T10: 52 | U10: 100 | V10: 7415 | W10: 100
A11: 土木 | B11: 土木工事業 | C11: 社内で作成 | D11: 505.25 | E11: 25 | F11: 2586.25 | G11: 41.666667 | H11: 2458.9831 | I11: 40.677966 | J11: 5917 | K11: 50 | L11: 2686.6585 | M11: 71.95122 | N11: 811.16949 | O11: 72.881356 | P11: 93.34375 | Q11: 90.625 | R11: 18 | S11: 100 | T11: 20 | U11: 100 | V11: 15096.655 | W11: 48.550104
C12: 社外へ一部委託 | D12: 168.41667 | E12: 8.3333333 | F12: 387.9375 | G12: 6.25 | H12: 204.91525 | I12: 3.3898305 | J12: 1401.3947 | K12: 11.842105 | L12: 318.7561 | M12: 8.5365854 | N12: 94.322034 | O12: 8.4745763 | V12: 2575.7423 | W12: 8.2834613
C13: 社外へ全部委託 | F13: 517.25 | G13: 8.3333333 | H13: 819.66102 | I13: 13.559322 | J13: 622.84211 | K13: 5.2631579 | L13: 136.60976 | M13: 3.6585366 | N13: 37.728814 | O13: 3.3898305 | P13: 3.21875 | Q13: 3.125 | V13: 2137.3104 | W13: 6.8734859
C14: 作成していない | D14: 1347.3333 | E14: 66.666667 | F14: 2715.5625 | G14: 43.75 | H14: 2561.4407 | I14: 42.372881 | J14: 3892.7632 | K14: 32.894737 | L14: 591.97561 | M14: 15.853659 | N14: 169.77966 | O14: 15.254237 | P14: 6.4375 | Q14: 6.25 | V14: 11285.292 | W14: 36.292949
C15: 小 計 | D15: 2021 | E15: 100 | F15: 6207 | G15: 100 | H15: 6045 | I15: 100 | J15: 11834 | K15: 100 | L15: 3734 | M15: 100 | N15: 1113 | O15: 100 | P15: 103 | Q15: 100 | R15: 18 | S15: 100 | T15: 20 | U15: 100 | V15: 31095 | W15: 100
B16: ほ装工事業 | C16: 社内で作成 | D16: 4.8333333 | E16: 16.666667 | F16: 336.06897 | G16: 37.931034 | H16: 207.95833 | I16: 29.166667 | J16: 929.33333 | K16: 66.666667 | L16: 231.15217 | M16: 67.391304 | N16: 82.322581 | O16: 70.967742 | P16: 10 | Q16: 100 | T16: 6 | U16: 100 | V16: 1807.6687 | W16: 51.691985
C17: 社外へ一部委託 | D17: 4.8333333 | E17: 16.666667 | F17: 61.103448 | G17: 6.8965517 | H17: 89.125 | I17: 12.5 | J17: 66.380952 | K17: 4.7619048 | L17: 7.4565217 | M17: 2.173913 | N17: 7.483871 | O17: 6.4516129 | V17: 236.38313 | W17: 6.7595976
C18: 社外へ全部委託 | D18: 4.8333333 | E18: 16.666667 | F18: 183.31034 | G18: 20.689655 | H18: 118.83333 | I18: 16.666667 | L18: 14.913043 | M18: 4.3478261 | V18: 321.89005 | W18: 9.2047485
C19: 作成していない | D19: 14.5 | E19: 50 | F19: 305.51724 | G19: 34.482759 | H19: 297.08333 | I19: 41.666667 | J19: 398.28571 | K19: 28.571429 | L19: 89.478261 | M19: 26.086957 | N19: 26.193548 | O19: 22.580645 | V19: 1131.0581 | W19: 32.343669
C20: 小 計 | D20: 29 | E20: 100 | F20: 886 | G20: 100 | H20: 713 | I20: 100 | J20: 1394 | K20: 100 | L20: 343 | M20: 100 | N20: 116 | O20: 100 | P20: 10 | Q20: 100 | T20: 6 | U20: 100 | V20: 3497 | W20: 100
B21: しゅんせつ 工事業 | C21: 社内で作成 | J21: 46 | K21: 100 | L21: 27 | M21: 100 | N21: 8 | O21: 100 | V21: 81 | W21: 54
C22: 社外へ一部委託 | H22: 69 | I22: 100 | V22: 69 | W22: 46
C23: 社外へ全部委託
C24: 作成していない
C25: 小 計 | H25: 69 | I25: 100 | J25: 46 | K25: 100 | L25: 27 | M25: 100 | N25: 8 | O25: 100 | V25: 150 | W25: 100
B26: 造園工事業 | C26: 社内で作成 | D26: 406 | E26: 100 | F26: 129.8 | G26: 20 | H26: 215.25 | I26: 58.333333 | J26: 421.78723 | K26: 59.574468 | L26: 90.702128 | M26: 61.702128 | N26: 26 | O26: 76.470588 | V26: 1289.5394 | W26: 55.75181
C27: 社外へ一部委託 | F27: 129.8 | G27: 20 | J27: 75.319149 | K27: 10.638298 | L27: 9.3829787 | M27: 6.3829787 | N27: 2 | O27: 5.8823529 | V27: 216.50213 | W27: 9.3602303
C28: 社外へ全部委託 | F28: 259.6 | G28: 40 | H28: 30.75 | I28: 8.3333333 | J28: 30.12766 | K28: 4.2553191 | L28: 3.1276596 | M28: 2.1276596 | V28: 323.60532 | W28: 13.990719
C29: 作成していない | F29: 129.8 | G29: 20 | H29: 123 | I29: 33.333333 | J29: 180.76596 | K29: 25.531915 | L29: 43.787234 | M29: 29.787234 | N29: 6 | O29: 17.647059 | V29: 483.35319 | W29: 20.897241
C30: 小 計 | D30: 406 | E30: 100 | F30: 649 | G30: 100 | H30: 369 | I30: 100 | J30: 708 | K30: 100 | L30: 147 | M30: 100 | N30: 34 | O30: 100 | V30: 2313 | W30: 100
B31: 水道施設 工事業 | C31: 社内で作成 | F31: 119.38462 | G31: 30.769231 | H31: 237.77778 | I31: 55.555556 | J31: 410.89189 | K31: 62.162162 | L31: 98.75 | M31: 62.5 | N31: 32 | O31: 66.666667 | P31: 3 | Q31: 100 | V31: 901.80429 | W31: 51.502244
C32: 社外へ一部委託 | F32: 89.538462 | G32: 23.076923 | L32: 19.75 | M32: 12.5 | V32: 109.28846 | W32: 6.2414884
C33: 社外へ全部委託 | F33: 29.846154 | G33: 7.6923077 | H33: 95.111111 | I33: 22.222222 | J33: 17.864865 | K33: 2.7027027 | N33: 5.3333333 | O33: 11.111111 | V33: 148.15546 | W33: 8.4611915
C34: 作成していない | D34: 65 | E34: 100 | F34: 149.23077 | G34: 38.461538 | H34: 95.111111 | I34: 22.222222 | J34: 232.24324 | K34: 35.135135 | L34: 39.5 | M34: 25 | N34: 10.666667 | O34: 22.222222 | V34: 591.75179 | W34: 33.795077
C35: 小 計 | D35: 65 | E35: 100 | F35: 388 | G35: 100 | H35: 428 | I35: 100 | J35: 661 | K35: 100 | L35: 158 | M35: 100 | N35: 48 | O35: 100 | P35: 3 | Q35: 100 | V35: 1751 | W35: 100
B36: 小 計 | C36: 社内で作成 | D36: 916.08333 | E36: 36.338093 | F36: 3171.5036 | G36: 39.009884 | H36: 3119.9692 | I36: 40.922995 | J36: 7725.0125 | K36: 52.755668 | L36: 3134.2628 | M36: 71.087839 | N36: 959.49207 | O36: 72.743902 | P36: 106.34375 | Q36: 91.675647 | R36: 18 | S36: 100 | T36: 26 | U36: 100 | V36: 19176.667 | W36: 49.416758
C37: 社外へ一部委託 | D37: 173.25 | E37: 6.8722729 | F37: 668.37941 | G37: 8.221149 | H37: 363.04025 | I37: 4.7618082 | J37: 1543.0948 | K37: 10.538106 | L37: 355.3456 | M37: 8.0595509 | N37: 103.8059 | O37: 7.8700459 | V37: 3206.916 | W37: 8.2639695
C38: 社外へ全部委託 | D38: 4.8333333 | E38: 0.19172286 | F38: 990.0065 | G38: 12.177202 | H38: 1064.3555 | I38: 13.960591 | J38: 670.83463 | K38: 4.581265 | L38: 154.65046 | M38: 3.5076085 | N38: 43.062147 | O38: 3.2647572 | P38: 3.21875 | Q38: 2.7747845 | V38: 2930.9613 | W38: 7.5528559
C39: 作成していない | D39: 1426.8333 | E39: 56.597911 | F39: 3300.1105 | G39: 40.591765 | H39: 3076.6351 | I39: 40.354605 | J39: 4704.0581 | K39: 32.124961 | L39: 764.7411 | M39: 17.345001 | N39: 212.63988 | O39: 16.121295 | P39: 6.4375 | Q39: 5.549569 | V39: 13491.456 | W39: 34.766416
C40: 小 計 | D40: 2521 | E40: 100 | F40: 8130 | G40: 100 | H40: 7624 | I40: 100 | J40: 14643 | K40: 100 | L40: 4409 | M40: 100 | N40: 1319 | O40: 100 | P40: 116 | Q40: 100 | R40: 18 | S40: 100 | T40: 26 | U40: 100 | V40: 38806 | W40: 100
A41: 建築 | B41: 建築工事業 | C41: 社内で作成 | D41: 4122.5263 | E41: 42.105263 | F41: 7476.8571 | G41: 39.285714 | H41: 7195.1944 | I41: 52.777778 | J41: 17877 | K41: 77.631579 | L41: 4002.4615 | M41: 73.846154 | N41: 1664.5345 | O41: 87.931034 | P41: 297.14286 | Q41: 91.428571 | R41: 46.421053 | S41: 94.736842 | T41: 44 | U41: 100 | V41: 42726.138 | W41: 58.357082
...

Sheet 4-1-2
A1: 表4－1－2 会計帳簿等の作成状況（経年変化）＜資金繰表等＞
V3: （単位：社、％）
B4: 資本金 | C4: 個 人 | E4: 法 人 | U4: 合 計
A5: 年度 | B5: 作成状況 | E5: 500万円未満 | G5: 500万円以上 1000万円未満 | I5: 1000万円以上 3000万円未満 | K5: 3000万円以上 5000万円未満 | M5: 5000万円以上 1億円未満 | O5: 1億円以上 3億円未満 | Q5: 3億円以上 10億円未満 | S5: 10億円以上
A6: R06年度 | B6: 社内で作成 | C6: =IF('4-1-1'!D186<>"",'4-1-1'!D186,"") -> 10586.134 | D6: =IF('4-1-1'!E186<>"",'4-1-1'!E186,"") -> 21.779032 | E6: =IF('4-1-1'!F186<>"",'4-1-1'!F186,"") -> 35209.071 | F6: =IF('4-1-1'!G186<>"",'4-1-1'!G186,"") -> 38.448764 | G6: =IF('4-1-1'!H186<>"",'4-1-1'!H186,"") -> 26266.787 | H6: =IF('4-1-1'!I186<>"",'4-1-1'!I186,"") -> 45.289126 | I6: =IF('4-1-1'!J186<>"",'4-1-1'!J186,"") -> 55048.076 | J6: =IF('4-1-1'!K186<>"",'4-1-1'!K186,"") -> 64.982619 | ... V6: =IF('4-1-1'!W186<>"",'4-1-1'!W186,"") -> 47.228732
B7: 社外へ一部委託 | C7: =IF('4-1-1'!D187<>"",'4-1-1'!D187,"") -> 1577.7204 | D7: =IF('4-1-1'!E187<>"",'4-1-1'!E187,"") -> 3.2458707 | E7: =IF('4-1-1'!F187<>"",'4-1-1'!F187,"") -> 8939.806 | F7: =IF('4-1-1'!G187<>"",'4-1-1'!G187,"") -> 9.7623845 | G7: =IF('4-1-1'!H187<>"",'4-1-1'!H187,"") -> 4523.5189 | H7: =IF('4-1-1'!I187<>"",'4-1-1'!I187,"") -> 7.7994395 | I7: =IF('4-1-1'!J187<>"",'4-1-1'!J187,"") -> 5293.5091 | J7: =IF('4-1-1'!K187<>"",'4-1-1'!K187,"") -> 6.2488303 | ... V7: =IF('4-1-1'!W187<>"",'4-1-1'!W187,"") -> 7.1529812
B8: 社外へ全部委託 | C8: =IF('4-1-1'!D188<>"",'4-1-1'!D188,"") -> 3172.6105 | D8: =IF('4-1-1'!E188<>"",'4-1-1'!E188,"") -> 6.527065 | E8: =IF('4-1-1'!F188<>"",'4-1-1'!F188,"") -> 9311.7438 | F8: =IF('4-1-1'!G188<>"",'4-1-1'!G188,"") -> 10.168545 | G8: =IF('4-1-1'!H188<>"",'4-1-1'!H188,"") -> 8141.9252 | H8: =IF('4-1-1'!I188<>"",'4-1-1'!I188,"") -> 14.038286 | I8: =IF('4-1-1'!J188<>"",'4-1-1'!J188,"") -> 4822.3486 | J8: =IF('4-1-1'!K188<>"",'4-1-1'!K188,"") -> 5.6926392 | ... V8: =IF('4-1-1'!W188<>"",'4-1-1'!W188,"") -> 8.6130425
B9: 作成していない | C9: =IF('4-1-1'!D189<>"",'4-1-1'!D189,"") -> 33270.535 | D9: =IF('4-1-1'!E189<>"",'4-1-1'!E189,"") -> 68.448032 | E9: =IF('4-1-1'!F189<>"",'4-1-1'!F189,"") -> 38113.379 | F9: =IF('4-1-1'!G189<>"",'4-1-1'!G189,"") -> 41.620306 | G9: =IF('4-1-1'!H189<>"",'4-1-1'!H189,"") -> 19065.769 | H9: =IF('4-1-1'!I189<>"",'4-1-1'!I189,"") -> 32.873149 | I9: =IF('4-1-1'!J189<>"",'4-1-1'!J189,"") -> 19548.066 | J9: =IF('4-1-1'!K189<>"",'4-1-1'!K189,"") -> 23.075911 | ... V9: =IF('4-1-1'!W189<>"",'4-1-1'!W189,"") -> 37.005244
C10: =IF('4-1-1'!D190<>"",'4-1-1'!D190,"") -> 48607 | D10: =IF('4-1-1'!E190<>"",'4-1-1'!E190,"") -> 100 | E10: =IF('4-1-1'!F190<>"",'4-1-1'!F190,"") -> 91574 | F10: =IF('4-1-1'!G190<>"",'4-1-1'!G190,"") -> 100 | G10: =IF('4-1-1'!H190<>"",'4-1-1'!H190,"") -> 57998 | H10: =IF('4-1-1'!I190<>"",'4-1-1'!I190,"") -> 100 | I10: =IF('4-1-1'!J190<>"",'4-1-1'!J190,"") -> 84712 | J10: =IF('4-1-1'!K190<>"",'4-1-1'!K190,"") -> 100 | ... V10: =IF('4-1-1'!W190<>"",'4-1-1'!W190,"") -> 100
A11: 増減 | B11: 社内で作成 | D11: =IF(AND(ISNUMBER(D6),ISNUMBER(D16)),D6-D16,"") -> -6.4209679 | F11: =IF(AND(ISNUMBER(F6),ISNUMBER(F16)),F6-F16,"") -> -0.25123606 | H11: =IF(AND(ISNUMBER(H6),ISNUMBER(H16)),H6-H16,"") -> 1.6891257 | J11: =IF(AND(ISNUMBER(J6),ISNUMBER(J16)),J6-J16,"") -> -3.4173807 | L11: =IF(AND(ISNUMBER(L6),ISNUMBER(L16)),L6-L16,"") -> -5.489172 | N11: =IF(AND(ISNUMBER(N6),ISNUMBER(N16)),N6-N16,"") -> -6.9426375 | P11: =IF(AND(ISNUMBER(P6),ISNUMBER(P16)),P6-P16,"") -> -2.824952 | R11: =IF(AND(ISNUMBER(R6),ISNUMBER(R16)),R6-R16,"") -> 0.90371517 | T11: =IF(AND(ISNUMBER(T6),ISNUMBER(T16)),T6-T16,"") -> 1.6 | V11: =IF(AND(ISNUMBER(V6),ISNUMBER(V16)),V6-V16,"") -> -6.4712679
B12: 社外へ一部委託 | D12: =IF(AND(ISNUMBER(D7),ISNUMBER(D17)),D7-D17,"") -> 0.34587072 | F12: =IF(AND(ISNUMBER(F7),ISNUMBER(F17)),F7-F17,"") -> 2.1623845 | H12: =IF(AND(ISNUMBER(H7),ISNUMBER(H17)),H7-H17,"") -> -3.9005605 | J12: =IF(AND(ISNUMBER(J7),ISNUMBER(J17)),J7-J17,"") -> 1.6488303 | L12: =IF(AND(ISNUMBER(L7),ISNUMBER(L17)),L7-L17,"") -> 3.3139831 | N12: =IF(AND(ISNUMBER(N7),ISNUMBER(N17)),N7-N17,"") -> 4.323858 | P12: =IF(AND(ISNUMBER(P7),ISNUMBER(P17)),P7-P17,"") -> 0.32859848 | R12: =IF(AND(ISNUMBER(R7),ISNUMBER(R17)),R7-R17,"") | T12: =IF(AND(ISNUMBER(T7),ISNUMBER(T17)),T7-T17,"") | V12: =IF(AND(ISNUMBER(V7),ISNUMBER(V17)),V7-V17,"") -> 0.85298124
B13: 社外へ全部委託 | D13: =IF(AND(ISNUMBER(D8),ISNUMBER(D18)),D8-D18,"") -> -1.772935 | F13: =IF(AND(ISNUMBER(F8),ISNUMBER(F18)),F8-F18,"") -> -0.83145459 | H13: =IF(AND(ISNUMBER(H8),ISNUMBER(H18)),H8-H18,"") -> 5.1382861 | J13: =IF(AND(ISNUMBER(J8),ISNUMBER(J18)),J8-J18,"") -> 2.0926392 | L13: =IF(AND(ISNUMBER(L8),ISNUMBER(L18)),L8-L18,"") -> 0.31952985 | N13: =IF(AND(ISNUMBER(N8),ISNUMBER(N18)),N8-N18,"") -> 1.7357018 | P13: =IF(AND(ISNUMBER(P8),ISNUMBER(P18)),P8-P18,"") -> -1.0909744 | R13: =IF(AND(ISNUMBER(R8),ISNUMBER(R18)),R8-R18,"") | T13: =IF(AND(ISNUMBER(T8),ISNUMBER(T18)),T8-T18,"") | V13: =IF(AND(ISNUMBER(V8),ISNUMBER(V18)),V8-V18,"") -> 1.8130425
B14: 作成していない | D14: =IF(AND(ISNUMBER(D9),ISNUMBER(D19)),D9-D19,"") -> 7.8480322 | F14: =IF(AND(ISNUMBER(F9),ISNUMBER(F19)),F9-F19,"") -> -0.97969383 | H14: =IF(AND(ISNUMBER(H9),ISNUMBER(H19)),H9-H19,"") -> -3.0268514 | J14: =IF(AND(ISNUMBER(J9),ISNUMBER(J19)),J9-J19,"") -> -0.22408883 | L14: =IF(AND(ISNUMBER(L9),ISNUMBER(L19)),L9-L19,"") -> 1.8556591 | N14: =IF(AND(ISNUMBER(N9),ISNUMBER(N19)),N9-N19,"") -> 0.88307772 | P14: =IF(AND(ISNUMBER(P9),ISNUMBER(P19)),P9-P19,"") -> 3.5873279 | R14: =IF(AND(ISNUMBER(R9),ISNUMBER(R19)),R9-R19,"") -> 0.79628483 | T14: =IF(AND(ISNUMBER(T9),ISNUMBER(T19)),T9-T19,"") | V14: =IF(AND(ISNUMBER(V9),ISNUMBER(V19)),V9-V19,"") -> 3.8052441
C15: - | D15: - | E15: - | F15: - | G15: - | H15: - | I15: - | J15: - | K15: - | L15: - | M15: - | N15: - | O15: - | P15: - | Q15: - | R15: - | S15: - | T15: - | U15: - | V15: -
A16: R01年度 | B16: 社内で作成 | C16: 4397 | D16: 28.2 | E16: 14016 | F16: 38.7 | G16: 11104 | H16: 43.6 | I16: 36335 | J16: 68.4 | K16: 7968 | L16: 78.1 | M16: 3286 | N16: 88.4 | O16: 544 | P16: 94.1 | Q16: 123 | R16: 97.2 | S16: 159 | T16: 98.4 | U16: 77934 | V16: 53.7
B17: 社外へ一部委託 | C17: 455 | D17: 2.9 | E17: 2755 | F17: 7.6 | G17: 2974 | H17: 11.7 | I17: 2470 | J17: 4.6 | K17: 381 | L17: 3.7 | M17: 95 | N17: 2.6 | O17: 13 | P17: 2.3 | S17: 3 | T17: 1.6 | U17: 9145 | V17: 6.3
B18: 社外へ全部委託 | C18: 1291 | D18: 8.3 | E18: 4001 | F18: 11 | G18: 2257 | H18: 8.9 | I18: 1915 | J18: 3.6 | K18: 429 | L18: 4.2 | M18: 33 | N18: 0.9 | O18: 10 | P18: 1.7 | Q18: 2 | R18: 1.7 | U18: 9938 | V18: 6.8
B19: 作成していない | C19: 9459 | D19: 60.6 | E19: 15435 | F19: 42.6 | G19: 9148 | H19: 35.9 | I19: 12393 | J19: 23.3 | K19: 1428 | L19: 14 | M19: 303 | N19: 8.1 | O19: 11 | P19: 1.9 | Q19: 1 | R19: 1.1 | U19: 48179 | V19: 33.2
C20: 15602 | D20: 100 | E20: 36206 | F20: 100 | G20: 25483 | H20: 100 | I20: 53114 | J20: 100 | K20: 10206 | L20: 100 | M20: 3717 | N20: 100 | O20: 578 | P20: 100 | Q20: 127 | R20: 100 | S20: 162 | T20: 100 | U20: 145196 | V20: 100
A21: 増減 | B21: 社内で作成 | D21: =IF(AND(ISNUMBER(D16),ISNUMBER(D26)),D16-D26,"") -> -6.4577497 | F21: =IF(AND(ISNUMBER(F16),ISNUMBER(F26)),F16-F26,"") -> -8.1660382 | H21: =IF(AND(ISNUMBER(H16),ISNUMBER(H26)),H16-H26,"") -> -4.3838827 | J21: =IF(AND(ISNUMBER(J16),ISNUMBER(J26)),J16-J26,"") -> -2.0122984 | L21: =IF(AND(ISNUMBER(L16),ISNUMBER(L26)),L16-L26,"") -> -2.1224988 | N21: =IF(AND(ISNUMBER(N16),ISNUMBER(N26)),N16-N26,"") -> -0.86400361 | P21: =IF(AND(ISNUMBER(P16),ISNUMBER(P26)),P16-P26,"") -> 1.0715767 | R21: =IF(AND(ISNUMBER(R16),ISNUMBER(R26)),R16-R26,"") -> 6.6510676 | T21: =IF(AND(ISNUMBER(T16),ISNUMBER(T26)),T16-T26,"") -> 5.4192156 | V21: =IF(AND(ISNUMBER(V16),ISNUMBER(V26)),V16-V26,"") -> -4.0418462
B22: 社外へ一部委託 | D22: =IF(AND(ISNUMBER(D17),ISNUMBER(D27)),D17-D27,"") -> -1.0075414 | F22: =IF(AND(ISNUMBER(F17),ISNUMBER(F27)),F17-F27,"") -> -1.4059307 | H22: =IF(AND(ISNUMBER(H17),ISNUMBER(H27)),H17-H27,"") -> 4.6172972 | J22: =IF(AND(ISNUMBER(J17),ISNUMBER(J27)),J17-J27,"") -> -1.0239024 | L22: =IF(AND(ISNUMBER(L17),ISNUMBER(L27)),L17-L27,"") -> -0.10917723 | N22: =IF(AND(ISNUMBER(N17),ISNUMBER(N27)),N17-N27,"") -> 0.23905837 | P22: =IF(AND(ISNUMBER(P17),ISNUMBER(P27)),P17-P27,"") -> 0.40616679 | R22: =IF(AND(ISNUMBER(R17),ISNUMBER(R27)),R17-R27,"") | T22: =IF(AND(ISNUMBER(T17),ISNUMBER(T27)),T17-T27,"") -> -3.3802309 | V22: =IF(AND(ISNUMBER(V17),ISNUMBER(V27)),V17-V27,"") -> 0.080301419
B23: 社外へ全部委託 | D23: =IF(AND(ISNUMBER(D18),ISNUMBER(D28)),D18-D28,"") -> 5.4847996 | F23: =IF(AND(ISNUMBER(F18),ISNUMBER(F28)),F18-F28,"") -> 3.5720252 | H23: =IF(AND(ISNUMBER(H18),ISNUMBER(H28)),H18-H28,"") -> -0.18080899 | J23: =IF(AND(ISNUMBER(J18),ISNUMBER(J28)),J18-J28,"") -> -0.43275062 | L23: =IF(AND(ISNUMBER(L18),ISNUMBER(L28)),L18-L28,"") -> 1.4041749 | N23: =IF(AND(ISNUMBER(N18),ISNUMBER(N28)),N18-N28,"") -> -0.43475374 | P23: =IF(AND(ISNUMBER(P18),ISNUMBER(P28)),P18-P28,"") -> 1.1157786 | R23: =IF(AND(ISNUMBER(R18),ISNUMBER(R28)),R18-R28,"") -> 0.64247531 | T23: =IF(AND(ISNUMBER(T18),ISNUMBER(T28)),T18-T28,"") | V23: =IF(AND(ISNUMBER(V18),ISNUMBER(V28)),V18-V28,"") -> 1.5413464
B24: 作成していない | D24: =IF(AND(ISNUMBER(D19),ISNUMBER(D29)),D19-D29,"") -> 1.9804914 | F24: =IF(AND(ISNUMBER(F19),ISNUMBER(F29)),F19-F29,"") -> 5.8999438 | H24: =IF(AND(ISNUMBER(H19),ISNUMBER(H29)),H19-H29,"") -> 0.0473944 | J24: =IF(AND(ISNUMBER(J19),ISNUMBER(J29)),J19-J29,"") -> 3.3689514 | L24: =IF(AND(ISNUMBER(L19),ISNUMBER(L29)),L19-L29,"") -> 0.8275012 | N24: =IF(AND(ISNUMBER(N19),ISNUMBER(N29)),N19-N29,"") -> 1.059699 | P24: =IF(AND(ISNUMBER(P19),ISNUMBER(P29)),P19-P29,"") -> -2.5935221 | R24: =IF(AND(ISNUMBER(R19),ISNUMBER(R29)),R19-R29,"") -> -4.4704048 | T24: =IF(AND(ISNUMBER(T19),ISNUMBER(T29)),T19-T29,"") | V24: =IF(AND(ISNUMBER(V19),ISNUMBER(V29)),V19-V29,"") -> 2.4201984
C25: - | D25: - | E25: - | F25: - | G25: - | H25: - | I25: - | J25: - | K25: - | L25: - | M25: - | N25: - | O25: - | P25: - | Q25: - | R25: - | S25: - | T25: - | U25: - | V25: -
A26: H26年度 | B26: 社内で作成 | C26: 7862.0887 | D26: 34.65775 | E26: 19180.832 | F26: 46.866038 | G26: 11348.511 | H26: 47.983883 | I26: 44579.953 | J26: 70.412298 | K26: 8777.1661 | L26: 80.222499 | M26: 3370.6034 | N26: 89.264004 | O26: 562.62993 | P26: 93.028423 | Q26: 129.86226 | R26: 90.548932 | S26: 166.78511 | T26: 92.980784 | U26: 95978.432 | V26: 57.741846
B27: 社外へ一部委託 | C27: 886.42331 | D27: 3.9075414 | E27: 3685.8512 | F27: 9.0059307 | G27: 1675.1069 | H27: 7.0827028 | I27: 3560.6465 | J27: 5.6239024 | K27: 416.76315 | L27: 3.8091772 | M27: 89.149015 | N27: 2.3609416 | O27: 11.453782 | P27: 1.8938332 | Q27: 4.0488506 | R27: 2.8231381 | S27: 8.9333333 | T27: 4.9802309 | U27: 10338.376 | V27: 6.2196986
B28: 社外へ全部委託 | C28: 638.62643 | D28: 2.8152004 | E28: 3040.0422 | F28: 7.4279748 | G28: 2147.6724 | H28: 9.080809 | I28: 2553.2448 | J28: 4.0327506 | K28: 305.89201 | L28: 2.7958251 | M28: 50.400222 | N28: 1.3347537 | O28: 3.5333333 | P28: 0.58422138 | Q28: 1.5166667 | R28: 1.0575247 | U28: 8740.9281 | V28: 5.2586536
B29: 作成していない | C29: 13297.799 | D29: 58.619509 | E29: 15020.207 | F29: 36.700056 | G29: 8479.3825 | H29: 35.852606 | I29: 12618.892 | J29: 19.931049 | K29: 1441.2068 | L29: 13.172499 | M29: 265.84135 | N29: 7.040301 | O29: 27.176533 | P29: 4.4935221 | Q29: 7.9888889 | R29: 5.5704048 | S29: 3.6574468 | T29: 2.0389847 | U29: 51162.152 | V29: 30.779802
C30: 22684.937 | D30: 100 | E30: 40926.932 | F30: 100 | G30: 23650.673 | H30: 100 | I30: 63312.737 | J30: 100 | K30: 10941.028 | L30: 100 | M30: 3775.994 | N30: 100 | O30: 604.79357 | P30: 100 | Q30: 143.41667 | R30: 100 | S30: 179.37589 | T30: 100 | U30: 166219.89 | V30: 100
A31: 増減 | B31: 社内で作成 | D31: =IF(AND(ISNUMBER(D26),ISNUMBER(D36)),D26-D36,"") -> 2.3577497 | F31: =IF(AND(ISNUMBER(F26),ISNUMBER(F36)),F26-F36,"") -> 0.46603819 | H31: =IF(AND(ISNUMBER(H26),ISNUMBER(H36)),H26-H36,"") -> -0.016117341 | J31: =IF(AND(ISNUMBER(J26),ISNUMBER(J36)),J26-J36,"") -> -2.9877016 | L31: =IF(AND(ISNUMBER(L26),ISNUMBER(L36)),L26-L36,"") -> 1.4224988 | N31: =IF(AND(ISNUMBER(N26),ISNUMBER(N36)),N26-N36,"") -> -0.13599639 | P31: =IF(AND(ISNUMBER(P26),ISNUMBER(P36)),P26-P36,"") -> -1.1715767 | R31: =IF(AND(ISNUMBER(R26),ISNUMBER(R36)),R26-R36,"") -> -9.1510676 | T31: =IF(AND(ISNUMBER(T26),ISNUMBER(T36)),T26-T36,"") -> -4.3192156 | V31: =IF(AND(ISNUMBER(V26),ISNUMBER(V36)),V26-V36,"") -> -0.75815384
B32: 社外へ一部委託 | D32: =IF(AND(ISNUMBER(D27),ISNUMBER(D37)),D27-D37,"") -> 1.6075414 | F32: =IF(AND(ISNUMBER(F27),ISNUMBER(F37)),F27-F37,"") -> 2.0059307 | H32: =IF(AND(ISNUMBER(H27),ISNUMBER(H37)),H27-H37,"") -> -0.11729725 | J32: =IF(AND(ISNUMBER(J27),ISNUMBER(J37)),J27-J37,"") -> 0.92390236 | L32: =IF(AND(ISNUMBER(L27),ISNUMBER(L37)),L27-L37,"") -> 0.40917723 | N32: =IF(AND(ISNUMBER(N27),ISNUMBER(N37)),N27-N37,"") -> 0.86094163 | P32: =IF(AND(ISNUMBER(P27),ISNUMBER(P37)),P27-P37,"") -> -0.50616679 | R32: =IF(AND(ISNUMBER(R27),ISNUMBER(R37)),R27-R37,"") | T32: =IF(AND(ISNUMBER(T27),ISNUMBER(T37)),T27-T37,"") | V32: =IF(AND(ISNUMBER(V27),ISNUMBER(V37)),V27-V37,"") -> 1.1196986
B33: 社外へ全部委託 | D33: =IF(AND(ISNUMBER(D28),ISNUMBER(D38)),D28-D38,"") -> -1.4847996 | F33: =IF(AND(ISNUMBER(F28),ISNUMBER(F38)),F28-F38,"") -> 0.32797485 | H33: =IF(AND(ISNUMBER(H28),ISNUMBER(H38)),H28-H38,"") -> 0.98080899 | J33: =IF(AND(ISNUMBER(J28),ISNUMBER(J38)),J28-J38,"") -> 0.33275062 | L33: =IF(AND(ISNUMBER(L28),ISNUMBER(L38)),L28-L38,"") -> 0.39582513 | N33: =IF(AND(ISNUMBER(N28),ISNUMBER(N38)),N28-N38,"") -> 0.034753742 | P33: =IF(AND(ISNUMBER(P28),ISNUMBER(P38)),P28-P38,"") -> 0.28422138 | R33: =IF(AND(ISNUMBER(R28),ISNUMBER(R38)),R28-R38,"") -> 0.75752469 | T33: =IF(AND(ISNUMBER(T28),ISNUMBER(T38)),T28-T38,"") | V33: =IF(AND(ISNUMBER(V28),ISNUMBER(V38)),V28-V38,"") -> 0.15865362
B34: 作成していない | D34: =IF(AND(ISNUMBER(D29),ISNUMBER(D39)),D29-D39,"") -> -2.4804914 | F34: =IF(AND(ISNUMBER(F29),ISNUMBER(F39)),F29-F39,"") -> -2.8999438 | H34: =IF(AND(ISNUMBER(H29),ISNUMBER(H39)),H29-H39,"") -> -0.8473944 | J34: =IF(AND(ISNUMBER(J29),ISNUMBER(J39)),J29-J39,"") -> 1.8310486 | L34: =IF(AND(ISNUMBER(L29),ISNUMBER(L39)),L29-L39,"") -> -2.2275012 | N34: =IF(AND(ISNUMBER(N29),ISNUMBER(N39)),N29-N39,"") -> -0.65969898 | P34: =IF(AND(ISNUMBER(P29),ISNUMBER(P39)),P29-P39,"") -> 1.3935221 | R34: =IF(AND(ISNUMBER(R29),ISNUMBER(R39)),R29-R39,"") | T34: =IF(AND(ISNUMBER(T29),ISNUMBER(T39)),T29-T39,"") | V34: =IF(AND(ISNUMBER(V29),ISNUMBER(V39)),V29-V39,"") -> -0.62019836
C35: - | D35: - | E35: - | F35: - | G35: - | H35: - | I35: - | J35: - | K35: - | L35: - | M35: - | N35: - | O35: - | P35: - | Q35: - | R35: - | S35: - | T35: - | U35: - | V35: -
A36: H23年度 | B36: 社内で作成 | C36: 7371.51 | D36: 32.3 | E36: 18277.67 | F36: 46.4 | G36: 10799.98 | H36: 48 | I36: 46054.28 | J36: 73.4 | K36: 8563.09 | L36: 78.8 | M36: 3323.56 | N36: 89.4 | O36: 570.77 | P36: 94.2 | Q36: 158.5 | R36: 99.7 | S36: 181 | T36: 97.3 | U36: 95300.37 | V36: 58.5
B37: 社外へ一部委託 | C37: 535.16 | D37: 2.3 | E37: 2740.07 | F37: 7 | G37: 1615.72 | H37: 7.2 | I37: 2970.22 | J37: 4.7 | K37: 367.18 | L37: 3.4 | M37: 57.02 | N37: 1.5 | O37: 14.6 | P37: 2.4 | U37: 8299.97 | V37: 5.1
B38: 社外へ全部委託 | C38: 969.74 | D38: 4.3 | E38: 2794.82 | F38: 7.1 | G38: 1812.05 | H38: 8.1 | I38: 2351.58 | J38: 3.7 | K38: 260.2 | L38: 2.4 | M38: 50.19 | N38: 1.3 | O38: 2 | P38: 0.3 | Q38: 0.5 | R38: 0.3 | S38: 5 | T38: 2.7 | U38: 8246.07 | V38: 5.1
B39: 作成していない | C39: 13928.29 | D39: 61.1 | E39: 15581.06 | F39: 39.6 | G39: 8253.58 | H39: 36.7 | I39: 11333.37 | J39: 18.1 | K39: 1673.96 | L39: 15.4 | M39: 288.21 | N39: 7.7 | O39: 18.55 | P39: 3.1 | U39: 51077.01 | V39: 31.4
C40: 22804.7 | D40: 100 | E40: 39393.61 | F40: 100 | G40: 22481.33 | H40: 100 | I40: 62709.45 | J40: 100 | K40: 10864.43 | L40: 100 | M40: 3718.97 | N40: 100 | O40: 605.92 | P40: 100 | Q40: 159 | R40: 100 | S40: 186 | T40: 100 | U40: 162923.42 | V40: 100
A41: 増減 | B41: 社内で作成 | D41: =IF(AND(ISNUMBER(D36),ISNUMBER(D46)),D36-D46,"") -> 1.5 | F41: =IF(AND(ISNUMBER(F36),ISNUMBER(F46)),F36-F46,"") -> -3.2 | H41: =IF(AND(ISNUMBER(H36),ISNUMBER(H46)),H36-H46,"") -> -4.3 | J41: =IF(AND(ISNUMBER(J36),ISNUMBER(J46)),J36-J46,"") -> -2.3 | L41: =IF(AND(ISNUMBER(L36),ISNUMBER(L46)),L36-L46,"") -> -4.2 | N41: =IF(AND(ISNUMBER(N36),ISNUMBER(N46)),N36-N46,"") -> 0.4 | P41: =IF(AND(ISNUMBER(P36),ISNUMBER(P46)),P36-P46,"") -> -2.6 | R41: =IF(AND(ISNUMBER(R36),ISNUMBER(R46)),R36-R46,"") -> 1.7 | T41: =IF(AND(ISNUMBER(T36),ISNUMBER(T46)),T36-T46,"") -> -0.2 | V41: =IF(AND(ISNUMBER(V36),ISNUMBER(V46)),V36-V46,"") -> -2.5
...

Sheet 4-1-3
A1: 表4－1－3 会計帳簿等の作成状況＜仕訳帳＞
W3: （単位：社、％）
C4: 資本金 | D4: 個 人 | F4: 法 人 | V4: 合 計
A5: 業種 | C5: 作成状況 | F5: 500万円未満 | H5: 500万円以上 1000万円未満 | J5: 1000万円以上 3000万円未満 | L5: 3000万円以上 5000万円未満 | N5: 5000万円以上 1億円未満 | P5: 1億円以上 3億円未満 | R5: 3億円以上 10億円未満 | T5: 10億円以上
A6: 一般土木建築 | B6: 一般土木 建築工事業 | C6: 社内で作成 | D6: 297 | E6: 75 | F6: 462 | G6: 60 | H6: 676.42857 | I6: 71.428571 | J6: 2299.92 | K6: 84 | L6: 1203.9474 | M6: 78.947368 | N6: 644.72727 | O6: 81.818182 | P6: 160.64286 | Q6: 92.857143 | R6: 26 | S6: 100 | T6: 52 | U6: 100 | V6: 5822.6661 | W6: 78.525503
C7: 社外へ一部委託 | F7: 154 | G7: 20 | J7: 164.28 | K7: 6 | L7: 240.78947 | M7: 15.789474 | N7: 57.309091 | O7: 7.2727273 | P7: 4.1190476 | Q7: 2.3809524 | V7: 620.49761 | W7: 8.3681404
C8: 社外へ全部委託 | F8: 154 | G8: 20 | H8: 270.57143 | I8: 28.571429 | J8: 273.8 | K8: 10 | L8: 80.263158 | M8: 5.2631579 | N8: 57.309091 | O8: 7.2727273 | P8: 4.1190476 | Q8: 2.3809524 | V8: 840.06272 | W8: 11.329234
C9: 作成していない | D9: 99 | E9: 25 | N9: 28.654545 | O9: 3.6363636 | P9: 4.1190476 | Q9: 2.3809524 | V9: 131.77359 | W9: 1.777122
C10: 小 計 | D10: 396 | E10: 100 | F10: 770 | G10: 100 | H10: 947 | I10: 100 | J10: 2738 | K10: 100 | L10: 1525 | M10: 100 | N10: 788 | O10: 100 | P10: 173 | Q10: 100 | R10: 26 | S10: 100 | T10: 52 | U10: 100 | V10: 7415 | W10: 100
A11: 土木 | B11: 土木工事業 | C11: 社内で作成 | D11: 842.08333 | E11: 41.666667 | F11: 3232.8125 | G11: 52.083333 | H11: 3176.1864 | I11: 52.542373 | J11: 7785.5263 | K11: 65.789474 | L11: 2868.8049 | M11: 76.829268 | N11: 773.44068 | O11: 69.491525 | P11: 96.5625 | Q11: 93.75 | R11: 14.4 | S11: 80 | T11: 20 | U11: 100 | V11: 18809.817 | W11: 60.491451
C12: 社外へ一部委託 | D12: 168.41667 | E12: 8.3333333 | F12: 775.875 | G12: 12.5 | H12: 1229.4915 | I12: 20.338983 | J12: 1868.5263 | K12: 15.789474 | L12: 637.5122 | M12: 17.073171 | N12: 169.77966 | O12: 15.254237 | P12: 3.21875 | Q12: 3.125 | R12: 3.6 | S12: 20 | V12: 4856.4201 | W12: 15.61801
C13: 社外へ全部委託 | D13: 336.83333 | E13: 16.666667 | F13: 1939.6875 | G13: 31.25 | H13: 1331.9492 | I13: 22.033898 | J13: 1089.9737 | K13: 9.2105263 | L13: 227.68293 | M13: 6.097561 | N13: 150.91525 | O13: 13.559322 | V13: 5077.0419 | W13: 16.327518
C14: 作成していない | D14: 673.66667 | E14: 33.333333 | F14: 258.625 | G14: 4.1666667 | H14: 307.37288 | I14: 5.0847458 | J14: 1089.9737 | K14: 9.2105263 | N14: 18.864407 | O14: 1.6949153 | P14: 3.21875 | Q14: 3.125 | V14: 2351.7214 | W14: 7.563021
C15: 小 計 | D15: 2021 | E15: 100 | F15: 6207 | G15: 100 | H15: 6045 | I15: 100 | J15: 11834 | K15: 100 | L15: 3734 | M15: 100 | N15: 1113 | O15: 100 | P15: 103 | Q15: 100 | R15: 18 | S15: 100 | T15: 20 | U15: 100 | V15: 31095 | W15: 100
B16: ほ装工事業 | C16: 社内で作成 | D16: 9.6666667 | E16: 33.333333 | F16: 397.17241 | G16: 44.827586 | H16: 445.625 | I16: 62.5 | J16: 1028.9048 | K16: 73.809524 | L16: 268.43478 | M16: 78.26087 | N16: 104.77419 | O16: 90.322581 | P16: 8 | Q16: 80 | T16: 6 | U16: 100 | V16: 2268.5778 | W16: 64.872114
C17: 社外へ一部委託 | D17: 4.8333333 | E17: 16.666667 | F17: 91.655172 | G17: 10.344828 | H17: 59.416667 | I17: 8.3333333 | J17: 199.14286 | K17: 14.285714 | L17: 44.73913 | M17: 13.043478 | N17: 11.225806 | O17: 9.6774194 | P17: 2 | Q17: 20 | V17: 413.01297 | W17: 11.810494
C18: 社外へ全部委託 | D18: 9.6666667 | E18: 33.333333 | F18: 366.62069 | G18: 41.37931 | H18: 178.25 | I18: 25 | J18: 132.7619 | K18: 9.5238095 | L18: 14.913043 | M18: 4.3478261 | V18: 702.2123 | W18: 20.08042
C19: 作成していない | D19: 4.8333333 | E19: 16.666667 | F19: 30.551724 | G19: 3.4482759 | H19: 29.708333 | I19: 4.1666667 | J19: 33.190476 | K19: 2.3809524 | L19: 14.913043 | M19: 4.3478261 | V19: 113.19691 | W19: 3.236972
C20: 小 計 | D20: 29 | E20: 100 | F20: 886 | G20: 100 | H20: 713 | I20: 100 | J20: 1394 | K20: 100 | L20: 343 | M20: 100 | N20: 116 | O20: 100 | P20: 10 | Q20: 100 | T20: 6 | U20: 100 | V20: 3497 | W20: 100
B21: しゅんせつ 工事業 | C21: 社内で作成 | J21: 30.666667 | K21: 66.666667 | L21: 18 | M21: 66.666667 | N21: 8 | O21: 100 | V21: 56.666667 | W21: 37.777778
C22: 社外へ一部委託 | L22: 9 | M22: 33.333333 | V22: 9 | W22: 6
C23: 社外へ全部委託 | H23: 69 | I23: 100 | J23: 15.333333 | K23: 33.333333 | V23: 84.333333 | W23: 56.222222
C24: 作成していない
C25: 小 計 | H25: 69 | I25: 100 | J25: 46 | K25: 100 | L25: 27 | M25: 100 | N25: 8 | O25: 100 | V25: 150 | W25: 100
B26: 造園工事業 | C26: 社内で作成 | D26: 406 | E26: 100 | F26: 129.8 | G26: 20 | H26: 276.75 | I26: 75 | J26: 497.10638 | K26: 70.212766 | L26: 121.97872 | M26: 82.978723 | N26: 26 | O26: 76.470588 | V26: 1457.6351 | W26: 63.019244
C27: 社外へ一部委託 | F27: 389.4 | G27: 60 | H27: 61.5 | I27: 16.666667 | J27: 90.382979 | K27: 12.765957 | L27: 15.638298 | M27: 10.638298 | N27: 2 | O27: 5.8823529 | V27: 558.92128 | W27: 24.164344
C28: 社外へ全部委託 | F28: 129.8 | G28: 20 | J28: 105.44681 | K28: 14.893617 | L28: 3.1276596 | M28: 2.1276596 | N28: 6 | O28: 17.647059 | V28: 244.37447 | W28: 10.56526
C29: 作成していない | H29: 30.75 | I29: 8.3333333 | J29: 15.06383 | K29: 2.1276596 | L29: 6.2553191 | M29: 4.2553191 | V29: 52.069149 | W29: 2.2511521
C30: 小 計 | D30: 406 | E30: 100 | F30: 649 | G30: 100 | H30: 369 | I30: 100 | J30: 708 | K30: 100 | L30: 147 | M30: 100 | N30: 34 | O30: 100 | V30: 2313 | W30: 100
B31: 水道施設 工事業 | C31: 社内で作成 | D31: 65 | E31: 100 | F31: 238.76923 | G31: 61.538462 | H31: 237.77778 | I31: 55.555556 | J31: 482.35135 | K31: 72.972973 | L31: 118.5 | M31: 75 | N31: 37.333333 | O31: 77.777778 | V31: 1179.7317 | W31: 67.37474
C32: 社外へ一部委託 | F32: 89.538462 | G32: 23.076923 | H32: 47.555556 | I32: 11.111111 | J32: 71.459459 | K32: 10.810811 | L32: 19.75 | M32: 12.5 | N32: 10.666667 | O32: 22.222222 | V32: 238.97014 | W32: 13.647638
C33: 社外へ全部委託 | F33: 59.692308 | G33: 15.384615 | H33: 95.111111 | I33: 22.222222 | J33: 71.459459 | K33: 10.810811 | L33: 19.75 | M33: 12.5 | P33: 3 | Q33: 100 | V33: 249.01288 | W33: 14.221181
C34: 作成していない | H34: 47.555556 | I34: 11.111111 | J34: 35.72973 | K34: 5.4054054 | V34: 83.285285 | W34: 4.7564412
C35: 小 計 | D35: 65 | E35: 100 | F35: 388 | G35: 100 | H35: 428 | I35: 100 | J35: 661 | K35: 100 | L35: 158 | M35: 100 | N35: 48 | O35: 100 | P35: 3 | Q35: 100 | V35: 1751 | W35: 100
B36: 小 計 | C36: 社内で作成 | D36: 1322.75 | E36: 52.469258 | F36: 3998.5541 | G36: 49.182708 | H36: 4136.3392 | I36: 54.254187 | J36: 9824.5555 | K36: 67.093871 | L36: 3395.7184 | M36: 77.017881 | N36: 949.5482 | O36: 71.990008 | P36: 104.5625 | Q36: 90.140086 | R36: 14.4 | S36: 80 | T36: 26 | U36: 100 | V36: 23772.428 | W36: 61.259671
C37: 社外へ一部委託 | D37: 173.25 | E37: 6.8722729 | F37: 1346.4686 | G37: 16.56173 | H37: 1397.9637 | I37: 18.336356 | J37: 2229.5116 | K37: 15.225784 | L37: 726.63962 | M37: 16.480826 | N37: 193.67213 | O37: 14.683255 | P37: 5.21875 | Q37: 4.4989224 | R37: 3.6 | S37: 20 | V37: 6076.3245 | W37: 15.658209
C38: 社外へ全部委託 | D38: 346.5 | E38: 13.744546 | F38: 2495.8005 | G38: 30.698653 | H38: 1674.3103 | I38: 21.961048 | J38: 1414.9752 | K38: 9.6631509 | L38: 265.47363 | M38: 6.0211755 | N38: 156.91525 | O38: 11.896532 | P38: 3 | Q38: 2.5862069 | V38: 6356.9748 | W38: 16.381423
C39: 作成していない | D39: 678.5 | E39: 26.913923 | F39: 289.17672 | G39: 3.5569093 | H39: 415.38677 | I39: 5.4484099 | J39: 1173.9577 | K39: 8.017194 | L39: 21.168363 | M39: 0.48011709 | N39: 18.864407 | O39: 1.4302052 | P39: 3.21875 | Q39: 2.7747845 | V39: 2600.2727 | W39: 6.7006977
C40: 小 計 | D40: 2521 | E40: 100 | F40: 8130 | G40: 100 | H40: 7624 | I40: 100 | J40: 14643 | K40: 100 | L40: 4409 | M40: 100 | N40: 1319 | O40: 100 | P40: 116 | Q40: 100 | R40: 18 | S40: 100 | T40: 26 | U40: 100 | V40: 38806 | W40: 100
A41: 建築 | B41: 建築工事業 | C41: 社内で作成 | D41: 6183.7895 | E41: 63.157895 | F41: 9516 | G41: 50 | H41: 7195.1944 | I41: 52.777778 | J41: 17271 | K41: 75 | L41: 4419.3846 | M41: 81.538462 | N41: 1566.6207 | O41: 82.758621 | P41: 315.71429 | Q41: 97.142857 | R41: 46.421053 | S41: 94.736842 | T41: 44 | U41: 100 | V41: 46558.125 | W41: 63.590964
...

Sheet 4-1-4
A1: 表4－1－4 会計帳簿等の作成状況（経年変化）＜仕訳帳＞
V3: （単位：社、％）
B4: 資本金 | C4: 個 人 | E4: 法 人 | U4: 合 計
A5: 年度 | B5: 作成状況 | E5: 500万円未満 | G5: 500万円以上 1000万円未満 | I5: 1000万円以上 3000万円未満 | K5: 3000万円以上 5000万円未満 | M5: 5000万円以上 1億円未満 | O5: 1億円以上 3億円未満 | Q5: 3億円以上 10億円未満 | S5: 10億円以上
A6: R06年度 | B6: 社内で作成 | C6: =IF('4-1-3'!D186<>"",'4-1-3'!D186,"") -> 24294.935 | D6: =IF('4-1-3'!E186<>"",'4-1-3'!E186,"") -> 49.982379 | E6: =IF('4-1-3'!F186<>"",'4-1-3'!F186,"") -> 46960.999 | F6: =IF('4-1-3'!G186<>"",'4-1-3'!G186,"") -> 51.282023 | G6: =IF('4-1-3'!H186<>"",'4-1-3'!H186,"") -> 31699.063 | H6: =IF('4-1-3'!I186<>"",'4-1-3'!I186,"") -> 54.655442 | I6: =IF('4-1-3'!J186<>"",'4-1-3'!J186,"") -> 60812.07 | J6: =IF('4-1-3'!K186<>"",'4-1-3'!K186,"") -> 71.786843 | ... V6: =IF('4-1-3'!W186<>"",'4-1-3'!W186,"") -> 59.544798
B7: 社外へ一部委託 | C7: =IF('4-1-3'!D187<>"",'4-1-3'!D187,"") -> 4691.7286 | D7: =IF('4-1-3'!E187<>"",'4-1-3'!E187,"") -> 9.6523724 | E7: =IF('4-1-3'!F187<>"",'4-1-3'!F187,"") -> 17452.053 | F7: =IF('4-1-3'!G187<>"",'4-1-3'!G187,"") -> 19.057869 | G7: =IF('4-1-3'!H187<>"",'4-1-3'!H187,"") -> 10304.839 | H7: =IF('4-1-3'!I187<>"",'4-1-3'!I187,"") -> 17.767576 | I7: =IF('4-1-3'!J187<>"",'4-1-3'!J187,"") -> 12141.771 | J7: =IF('4-1-3'!K187<>"",'4-1-3'!K187,"") -> 14.333 | ... V7: =IF('4-1-3'!W187<>"",'4-1-3'!W187,"") -> 15.475857
B8: 社外へ全部委託 | C8: =IF('4-1-3'!D188<>"",'4-1-3'!D188,"") -> 8678.3902 | D8: =IF('4-1-3'!E188<>"",'4-1-3'!E188,"") -> 17.854198 | E8: =IF('4-1-3'!F188<>"",'4-1-3'!F188,"") -> 20055.63 | F8: =IF('4-1-3'!G188<>"",'4-1-3'!G188,"") -> 21.901009 | G8: =IF('4-1-3'!H188<>"",'4-1-3'!H188,"") -> 12705.006 | H8: =IF('4-1-3'!I188<>"",'4-1-3'!I188,"") -> 21.905937 | I8: =IF('4-1-3'!J188<>"",'4-1-3'!J188,"") -> 8777.7586 | J8: =IF('4-1-3'!K188<>"",'4-1-3'!K188,"") -> 10.361883 | ... V8: =IF('4-1-3'!W188<>"",'4-1-3'!W188,"") -> 16.936102
B9: 作成していない | C9: =IF('4-1-3'!D189<>"",'4-1-3'!D189,"") -> 10941.946 | D9: =IF('4-1-3'!E189<>"",'4-1-3'!E189,"") -> 22.51105 | E9: =IF('4-1-3'!F189<>"",'4-1-3'!F189,"") -> 7105.3174 | F9: =IF('4-1-3'!G189<>"",'4-1-3'!G189,"") -> 7.7590991 | G9: =IF('4-1-3'!H189<>"",'4-1-3'!H189,"") -> 3289.0927 | H9: =IF('4-1-3'!I189<>"",'4-1-3'!I189,"") -> 5.6710451 | I9: =IF('4-1-3'!J189<>"",'4-1-3'!J189,"") -> 2980.4002 | J9: =IF('4-1-3'!K189<>"",'4-1-3'!K189,"") -> 3.5182739 | ... V9: =IF('4-1-3'!W189<>"",'4-1-3'!W189,"") -> 8.0432437
C10: =IF('4-1-3'!D190<>"",'4-1-3'!D190,"") -> 48607 | D10: =IF('4-1-3'!E190<>"",'4-1-3'!E190,"") -> 100 | E10: =IF('4-1-3'!F190<>"",'4-1-3'!F190,"") -> 91574 | F10: =IF('4-1-3'!G190<>"",'4-1-3'!G190,"") -> 100 | G10: =IF('4-1-3'!H190<>"",'4-1-3'!H190,"") -> 57998 | H10: =IF('4-1-3'!I190<>"",'4-1-3'!I190,"") -> 100 | I10: =IF('4-1-3'!J190<>"",'4-1-3'!J190,"") -> 84712 | J10: =IF('4-1-3'!K190<>"",'4-1-3'!K190,"") -> 100 | ... V10: =IF('4-1-3'!W190<>"",'4-1-3'!W190,"") -> 100
A11: 増減 | B11: 社内で作成 | D11: =IF(AND(ISNUMBER(D6),ISNUMBER(D16)),D6-D16,"") -> -13.209796 | F11: =IF(AND(ISNUMBER(F6),ISNUMBER(F16)),F6-F16,"") -> -10.815902 | H11: =IF(AND(ISNUMBER(H6),ISNUMBER(H16)),H6-H16,"") -> -9.3419826 | J11: =IF(AND(ISNUMBER(J6),ISNUMBER(J16)),J6-J16,"") -> -4.6974414 | L11: =IF(AND(ISNUMBER(L6),ISNUMBER(L16)),L6-L16,"") -> -3.4349589 | N11: =IF(AND(ISNUMBER(N6),ISNUMBER(N16)),N6-N16,"") -> -9.1790522 | P11: =IF(AND(ISNUMBER(P6),ISNUMBER(P16)),P6-P16,"") -> -0.62501252 | R11: =IF(AND(ISNUMBER(R6),ISNUMBER(R16)),R6-R16,"") -> -0.53261718 | T11: =IF(AND(ISNUMBER(T6),ISNUMBER(T16)),T6-T16,"") -> 4.0084829 | V11: =IF(AND(ISNUMBER(V6),ISNUMBER(V16)),V6-V16,"") -> -10.512653
B12: 社外へ一部委託 | D12: =IF(AND(ISNUMBER(D7),ISNUMBER(D17)),D7-D17,"") -> 4.0934613 | F12: =IF(AND(ISNUMBER(F7),ISNUMBER(F17)),F7-F17,"") -> 6.4493694 | H12: =IF(AND(ISNUMBER(H7),ISNUMBER(H17)),H7-H17,"") -> 4.2415089 | J12: =IF(AND(ISNUMBER(J7),ISNUMBER(J17)),J7-J17,"") -> 2.3009331 | L12: =IF(AND(ISNUMBER(L7),ISNUMBER(L17)),L7-L17,"") -> 3.7849434 | N12: =IF(AND(ISNUMBER(N7),ISNUMBER(N17)),N7-N17,"") -> 3.2891962 | P12: =IF(AND(ISNUMBER(P7),ISNUMBER(P17)),P7-P17,"") -> 2.2412714 | R12: =IF(AND(ISNUMBER(R7),ISNUMBER(R17)),R7-R17,"") -> 1.1235914 | T12: =IF(AND(ISNUMBER(T7),ISNUMBER(T17)),T7-T17,"") -> -0.94450986 | V12: =IF(AND(ISNUMBER(V7),ISNUMBER(V17)),V7-V17,"") -> 4.1219258
B13: 社外へ全部委託 | D13: =IF(AND(ISNUMBER(D8),ISNUMBER(D18)),D8-D18,"") -> 5.6652305 | F13: =IF(AND(ISNUMBER(F8),ISNUMBER(F18)),F8-F18,"") -> 3.5980915 | H13: =IF(AND(ISNUMBER(H8),ISNUMBER(H18)),H8-H18,"") -> 5.3043652 | J13: =IF(AND(ISNUMBER(J8),ISNUMBER(J18)),J8-J18,"") -> 0.61601871 | L13: =IF(AND(ISNUMBER(L8),ISNUMBER(L18)),L8-L18,"") -> 0.22902242 | N13: =IF(AND(ISNUMBER(N8),ISNUMBER(N18)),N8-N18,"") -> 3.7293291 | P13: =IF(AND(ISNUMBER(P8),ISNUMBER(P18)),P8-P18,"") -> -2.6106995 | R13: =IF(AND(ISNUMBER(R8),ISNUMBER(R18)),R8-R18,"") | T13: =IF(AND(ISNUMBER(T8),ISNUMBER(T18)),T8-T18,"") | V13: =IF(AND(ISNUMBER(V8),ISNUMBER(V18)),V8-V18,"") -> 3.9699646
B14: 作成していない | D14: =IF(AND(ISNUMBER(D9),ISNUMBER(D19)),D9-D19,"") -> 3.4511044 | F14: =IF(AND(ISNUMBER(F9),ISNUMBER(F19)),F9-F19,"") -> 0.76844062 | H14: =IF(AND(ISNUMBER(H9),ISNUMBER(H19)),H9-H19,"") -> -0.20389144 | J14: =IF(AND(ISNUMBER(J9),ISNUMBER(J19)),J9-J19,"") -> 1.7804896 | L14: =IF(AND(ISNUMBER(L9),ISNUMBER(L19)),L9-L19,"") -> -0.57900686 | N14: =IF(AND(ISNUMBER(N9),ISNUMBER(N19)),N9-N19,"") -> 2.1605269 | P14: =IF(AND(ISNUMBER(P9),ISNUMBER(P19)),P9-P19,"") | R14: =IF(AND(ISNUMBER(R9),ISNUMBER(R19)),R9-R19,"") | T14: =IF(AND(ISNUMBER(T9),ISNUMBER(T19)),T9-T19,"") | V14: =IF(AND(ISNUMBER(V9),ISNUMBER(V19)),V9-V19,"") -> 2.4207622
C15: - | D15: - | E15: - | F15: - | G15: - | H15: - | I15: - | J15: - | K15: - | L15: - | M15: - | N15: - | O15: - | P15: - | Q15: - | R15: - | S15: - | T15: - | U15: - | V15: -
A16: R01年度 | B16: 社内で作成 | C16: 10358.567 | D16: 63.192175 | E16: 22983.544 | F16: 62.097924 | G16: 16822.541 | H16: 63.997424 | I16: 40923.4 | J16: 76.484284 | K16: 8505.5315 | L16: 82.54481 | M16: 3351.2434 | N16: 89.785559 | O16: 535.71923 | P16: 92.873224 | Q16: 121.30069 | R16: 95.580777 | S16: 151.9947 | T16: 93.823887 | U16: 103753.84 | V16: 70.057451
B17: 社外へ一部委託 | C17: 911.22598 | D17: 5.5589111 | E17: 4666.6297 | F17: 12.6085 | G17: 3555.4996 | H17: 13.526067 | I17: 6437.8335 | J17: 12.032067 | K17: 984.04561 | L17: 9.5500037 | M17: 243.95262 | N17: 6.5359091 | O17: 5.8833333 | P17: 1.019945 | Q17: 4.858396 | R17: 3.828249 | S17: 5.0416667 | T17: 3.1121399 | U17: 16814.97 | V17: 11.353931
B18: 社外へ全部委託 | C18: 1998.0359 | D18: 12.188968 | E18: 6774.2346 | F18: 18.302917 | G18: 4363.9355 | H18: 16.601572 | I18: 5214.5865 | J18: 9.7458646 | K18: 705.97172 | L18: 6.8513416 | M18: 108.2786 | N18: 2.9009694 | O18: 35.225942 | P18: 6.106831 | Q18: 0.75 | R18: 0.59097421 | S18: 1.6 | T18: 0.98765432 | U18: 19202.619 | V18: 12.966137
B19: 作成していない | C19: 3124.3381 | D19: 19.059946 | E19: 2587.3668 | F19: 6.9906585 | G19: 1544.3022 | H19: 5.8749365 | I19: 929.81248 | J19: 1.7377843 | K19: 108.58964 | L19: 1.0538449 | M19: 29.02248 | N19: 0.77756203 | S19: 3.3636364 | T19: 2.0763187 | U19: 8326.7953 | V19: 5.6224814
C20: 16392.167 | D20: 100 | E20: 37011.775 | F20: 100 | G20: 26286.278 | H20: 100 | I20: 53505.633 | J20: 100 | K20: 10304.138 | L20: 100 | M20: 3732.4971 | N20: 100 | O20: 576.8285 | P20: 100 | Q20: 126.90909 | R20: 100 | S20: 162 | T20: 100 | U20: 148098.23 | V20: 100
A21: 増減 | B21: 社内で作成 | D21: =IF(AND(ISNUMBER(D16),ISNUMBER(D26)),D16-D26,"") -> -0.69624609 | F21: =IF(AND(ISNUMBER(F16),ISNUMBER(F26)),F16-F26,"") -> -1.8846803 | H21: =IF(AND(ISNUMBER(H16),ISNUMBER(H26)),H16-H26,"") -> -2.3589675 | J21: =IF(AND(ISNUMBER(J16),ISNUMBER(J26)),J16-J26,"") -> -1.3888855 | L21: =IF(AND(ISNUMBER(L16),ISNUMBER(L26)),L16-L26,"") -> -3.2658256 | N21: =IF(AND(ISNUMBER(N16),ISNUMBER(N26)),N16-N26,"") -> -0.35008595 | P21: =IF(AND(ISNUMBER(P16),ISNUMBER(P26)),P16-P26,"") -> -0.68248633 | R21: =IF(AND(ISNUMBER(R16),ISNUMBER(R26)),R16-R26,"") -> 0.27492014 | T21: =IF(AND(ISNUMBER(T16),ISNUMBER(T26)),T16-T26,"") -> -1.2846453 | V21: =IF(AND(ISNUMBER(V16),ISNUMBER(V26)),V16-V26,"") -> -1.6545863
B22: 社外へ一部委託 | D22: =IF(AND(ISNUMBER(D17),ISNUMBER(D27)),D17-D27,"") -> -2.8482222 | F22: =IF(AND(ISNUMBER(F17),ISNUMBER(F27)),F17-F27,"") -> -1.4373456 | H22: =IF(AND(ISNUMBER(H17),ISNUMBER(H27)),H17-H27,"") -> 0.60138964 | J22: =IF(AND(ISNUMBER(J17),ISNUMBER(J27)),J17-J27,"") -> -0.32971906 | L22: =IF(AND(ISNUMBER(L17),ISNUMBER(L27)),L17-L27,"") -> 1.8211503 | N22: =IF(AND(ISNUMBER(N17),ISNUMBER(N27)),N17-N27,"") -> 0.3402618 | P22: =IF(AND(ISNUMBER(P17),ISNUMBER(P27)),P17-P27,"") -> -3.6956256 | R22: =IF(AND(ISNUMBER(R17),ISNUMBER(R27)),R17-R27,"") -> 0.54026486 | T22: =IF(AND(ISNUMBER(T17),ISNUMBER(T27)),T17-T27,"") -> -1.7793277 | V22: =IF(AND(ISNUMBER(V17),ISNUMBER(V27)),V17-V27,"") -> -0.46523465
B23: 社外へ全部委託 | D23: =IF(AND(ISNUMBER(D18),ISNUMBER(D28)),D18-D28,"") -> 0.63544058 | F23: =IF(AND(ISNUMBER(F18),ISNUMBER(F28)),F18-F28,"") -> 2.4263287 | H23: =IF(AND(ISNUMBER(H18),ISNUMBER(H28)),H18-H28,"") -> 1.5299296 | J23: =IF(AND(ISNUMBER(J18),ISNUMBER(J28)),J18-J28,"") -> 1.6562879 | L23: =IF(AND(ISNUMBER(L18),ISNUMBER(L28)),L18-L28,"") -> 1.2963666 | N23: =IF(AND(ISNUMBER(N18),ISNUMBER(N28)),N18-N28,"") -> -0.0216054 | P23: =IF(AND(ISNUMBER(P18),ISNUMBER(P28)),P18-P28,"") -> 4.3781119 | R23: =IF(AND(ISNUMBER(R18),ISNUMBER(R28)),R18-R28,"") -> -0.815185 | T23: =IF(AND(ISNUMBER(T18),ISNUMBER(T28)),T18-T28,"") | V23: =IF(AND(ISNUMBER(V18),ISNUMBER(V28)),V18-V28,"") -> 1.7882365
B24: 作成していない | D24: =IF(AND(ISNUMBER(D19),ISNUMBER(D29)),D19-D29,"") -> 2.9090277 | F24: =IF(AND(ISNUMBER(F19),ISNUMBER(F29)),F19-F29,"") -> 0.89569716 | H24: =IF(AND(ISNUMBER(H19),ISNUMBER(H29)),H19-H29,"") -> 0.22764825 | J24: =IF(AND(ISNUMBER(J19),ISNUMBER(J29)),J19-J29,"") -> 0.062316616 | L24: =IF(AND(ISNUMBER(L19),ISNUMBER(L29)),L19-L29,"") -> 0.14830864 | N24: =IF(AND(ISNUMBER(N19),ISNUMBER(N29)),N19-N29,"") -> 0.031429557 | P24: =IF(AND(ISNUMBER(P19),ISNUMBER(P29)),P19-P29,"") | R24: =IF(AND(ISNUMBER(R19),ISNUMBER(R29)),R19-R29,"") | T24: =IF(AND(ISNUMBER(T19),ISNUMBER(T29)),T19-T29,"") | V24: =IF(AND(ISNUMBER(V19),ISNUMBER(V29)),V19-V29,"") -> 0.33158446
C25: - | D25: - | E25: - | F25: - | G25: - | H25: - | I25: - | J25: - | K25: - | L25: - | M25: - | N25: - | O25: - | P25: - | Q25: - | R25: - | S25: - | T25: - | U25: - | V25: -
A26: H26年度 | B26: 社内で作成 | C26: 15299.868 | D26: 63.888421 | E26: 26775.567 | F26: 63.982604 | G26: 16183.764 | H26: 66.356392 | I26: 49948.164 | J26: 77.87317 | K26: 9447.8907 | L26: 85.810635 | M26: 3436.6168 | N26: 90.135645 | O26: 565.81892 | P26: 93.55571 | Q26: 136.68448 | R26: 95.305857 | S26: 170.60177 | T26: 95.108532 | U26: 121964.98 | V26: 71.712037
B27: 社外へ一部委託 | C27: 2013.3231 | D27: 8.4071333 | E27: 5877.9332 | F27: 14.045846 | G27: 3152.2196 | H27: 12.924677 | I27: 7928.8991 | J27: 12.361786 | K27: 850.95935 | L27: 7.7288534 | M27: 236.22248 | N27: 6.1956474 | O27: 28.519468 | P27: 4.7155706 | Q27: 4.7155172 | R27: 3.2879841 | S27: 8.7741135 | T27: 4.8914677 | U27: 20101.566 | V27: 11.819166
B28: 社外へ全部委託 | C28: 2766.8151 | D28: 11.553527 | E28: 6644.0661 | F28: 15.876589 | G28: 3675.8463 | H28: 15.071643 | I28: 5188.687 | J28: 8.0895767 | K28: 611.61179 | L28: 5.554975 | M28: 111.4295 | N28: 2.9225748 | O28: 10.455182 | P28: 1.7287191 | Q28: 2.0166667 | R28: 1.4061592 | U28: 19010.928 | V28: 11.1779
B29: 作成していない | C29: 3867.7888 | D29: 16.150918 | E29: 2550.6314 | F29: 6.0949613 | G29: 1377.3259 | H29: 5.6472883 | I29: 1074.6517 | J29: 1.6754677 | K29: 99.701022 | L29: 0.90553631 | M29: 28.447917 | N29: 0.74613247 | U29: 8998.5468 | V29: 5.290897
C30: 23947.795 | D30: 100 | E30: 41848.197 | F30: 100 | G30: 24389.156 | H30: 100 | I30: 64140.402 | J30: 100 | K30: 11010.163 | L30: 100 | M30: 3812.7167 | N30: 100 | O30: 604.79357 | P30: 100 | Q30: 143.41667 | R30: 100 | S30: 179.37589 | T30: 100 | U30: 170076.02 | V30: 100
A31: 増減 | B31: 社内で作成 | D31: =IF(AND(ISNUMBER(D26),ISNUMBER(D36)),D26-D36,"") -> 4.3884214 | F31: =IF(AND(ISNUMBER(F26),ISNUMBER(F36)),F26-F36,"") -> -0.71739551 | H31: =IF(AND(ISNUMBER(H26),ISNUMBER(H36)),H26-H36,"") -> 2.3563919 | J31: =IF(AND(ISNUMBER(J26),ISNUMBER(J36)),J26-J36,"") -> -3.7268302 | L31: =IF(AND(ISNUMBER(L26),ISNUMBER(L36)),L26-L36,"") -> -1.4893647 | N31: =IF(AND(ISNUMBER(N26),ISNUMBER(N36)),N26-N36,"") -> -0.56435461 | P31: =IF(AND(ISNUMBER(P26),ISNUMBER(P36)),P26-P36,"") -> -3.2442897 | R31: =IF(AND(ISNUMBER(R26),ISNUMBER(R36)),R26-R36,"") -> -3.7941433 | T31: =IF(AND(ISNUMBER(T26),ISNUMBER(T36)),T26-T36,"") -> -1.2914677 | V31: =IF(AND(ISNUMBER(V26),ISNUMBER(V36)),V26-V36,"") -> -0.88796301
B32: 社外へ一部委託 | D32: =IF(AND(ISNUMBER(D27),ISNUMBER(D37)),D27-D37,"") -> 2.7071333 | F32: =IF(AND(ISNUMBER(F27),ISNUMBER(F37)),F27-F37,"") -> 1.0458456 | H32: =IF(AND(ISNUMBER(H27),ISNUMBER(H37)),H27-H37,"") -> 0.52467727 | J32: =IF(AND(ISNUMBER(J27),ISNUMBER(J37)),J27-J37,"") -> 2.8617859 | L32: =IF(AND(ISNUMBER(L27),ISNUMBER(L37)),L27-L37,"") -> 1.5288534 | N32: =IF(AND(ISNUMBER(N27),ISNUMBER(N37)),N27-N37,"") -> 1.2956474 | P32: =IF(AND(ISNUMBER(P27),ISNUMBER(P37)),P27-P37,"") -> 2.7155706 | R32: =IF(AND(ISNUMBER(R27),ISNUMBER(R37)),R27-R37,"") -> 2.6879841 | T32: =IF(AND(ISNUMBER(T27),ISNUMBER(T37)),T27-T37,"") -> 1.2914677 | V32: =IF(AND(ISNUMBER(V27),ISNUMBER(V37)),V27-V37,"") -> 1.9191656
B33: 社外へ全部委託 | D33: =IF(AND(ISNUMBER(D28),ISNUMBER(D38)),D28-D38,"") -> -6.6464728 | F33: =IF(AND(ISNUMBER(F28),ISNUMBER(F38)),F28-F38,"") -> 0.57658861 | H33: =IF(AND(ISNUMBER(H28),ISNUMBER(H38)),H28-H38,"") -> -2.5283574 | J33: =IF(AND(ISNUMBER(J28),ISNUMBER(J38)),J28-J38,"") -> 1.2895767 | L33: =IF(AND(ISNUMBER(L28),ISNUMBER(L38)),L28-L38,"") -> 0.654975 | N33: =IF(AND(ISNUMBER(N28),ISNUMBER(N38)),N28-N38,"") -> -0.47742521 | P33: =IF(AND(ISNUMBER(P28),ISNUMBER(P38)),P28-P38,"") -> 0.42871911 | R33: =IF(AND(ISNUMBER(R28),ISNUMBER(R38)),R28-R38,"") -> 1.1061592 | T33: =IF(AND(ISNUMBER(T28),ISNUMBER(T38)),T28-T38,"") | V33: =IF(AND(ISNUMBER(V28),ISNUMBER(V38)),V28-V38,"") -> -0.5220996
B34: 作成していない | D34: =IF(AND(ISNUMBER(D29),ISNUMBER(D39)),D29-D39,"") -> -0.34908193 | F34: =IF(AND(ISNUMBER(F29),ISNUMBER(F39)),F29-F39,"") -> -0.80503871 | H34: =IF(AND(ISNUMBER(H29),ISNUMBER(H39)),H29-H39,"") -> -0.45271173 | J34: =IF(AND(ISNUMBER(J29),ISNUMBER(J39)),J29-J39,"") -> -0.42453233 | L34: =IF(AND(ISNUMBER(L29),ISNUMBER(L39)),L29-L39,"") -> -0.69446369 | N34: =IF(AND(ISNUMBER(N29),ISNUMBER(N39)),N29-N39,"") -> -0.35386753 | P34: =IF(AND(ISNUMBER(P29),ISNUMBER(P39)),P29-P39,"") | R34: =IF(AND(ISNUMBER(R29),ISNUMBER(R39)),R29-R39,"") | T34: =IF(AND(ISNUMBER(T29),ISNUMBER(T39)),T29-T39,"") | V34: =IF(AND(ISNUMBER(V29),ISNUMBER(V39)),V29-V39,"") -> -0.50910301
C35: - | D35: - | E35: - | F35: - | G35: - | H35: - | I35: - | J35: - | K35: - | L35: - | M35: - | N35: - | O35: - | P35: - | Q35: - | R35: - | S35: - | T35: - | U35: - | V35: -
A36: H23年度 | B36: 社内で作成 | C36: 14467.29 | D36: 59.5 | E36: 26910.75 | F36: 64.7 | G36: 14498.23 | H36: 64 | I36: 52645.41 | J36: 81.6 | K36: 9645.84 | L36: 87.3 | M36: 3381.84 | N36: 90.7 | O36: 588.2 | P36: 96.8 | Q36: 157.5 | R36: 99.1 | S36: 177.88 | T36: 96.4 | U36: 122472.94 | V36: 72.6
B37: 社外へ一部委託 | C37: 1386.43 | D37: 5.7 | E37: 5413.59 | F37: 13 | G37: 2802.14 | H37: 12.4 | I37: 6147.78 | J37: 9.5 | K37: 682.19 | L37: 6.2 | M37: 181.6 | N37: 4.9 | O37: 11.99 | P37: 2 | Q37: 1 | R37: 0.6 | S37: 6.57 | T37: 3.6 | U37: 16633.29 | V37: 9.9
B38: 社外へ全部委託 | C38: 4433.39 | D38: 18.2 | E38: 6350.81 | F38: 15.3 | G38: 3978.05 | H38: 17.6 | I38: 4371.3 | J38: 6.8 | K38: 541.17 | L38: 4.9 | M38: 126.51 | N38: 3.4 | O38: 7.74 | P38: 1.3 | Q38: 0.5 | R38: 0.3 | U38: 19809.48 | V38: 11.7
B39: 作成していない | C39: 4014.73 | D39: 16.5 | E39: 2887.73 | F39: 6.9 | G39: 1382.87 | H39: 6.1 | I39: 1365.26 | J39: 2.1 | K39: 177.43 | L39: 1.6 | M39: 39.62 | N39: 1.1 | U39: 9867.65 | V39: 5.8
C40: 24301.85 | D40: 100 | E40: 41562.88 | F40: 100 | G40: 22661.29 | H40: 100 | I40: 64529.75 | J40: 100 | K40: 11046.63 | L40: 100 | M40: 3729.58 | N40: 100 | O40: 607.93 | P40: 100 | Q40: 159 | R40: 100 | S40: 184.45 | T40: 100 | U40: 168783.36 | V40: 100
A41: 増減 | B41: 社内で作成 | D41: =IF(AND(ISNUMBER(D36),ISNUMBER(D46)),D36-D46,"") -> -12.1 | F41: =IF(AND(ISNUMBER(F36),ISNUMBER(F46)),F36-F46,"") -> -4 | H41: =IF(AND(ISNUMBER(H36),ISNUMBER(H46)),H36-H46,"") -> -6.3 | J41: =IF(AND(ISNUMBER(J36),ISNUMBER(J46)),J36-J46,"") -> -0.6 | L41: =IF(AND(ISNUMBER(L36),ISNUMBER(L46)),L36-L46,"") -> 0.5 | N41: =IF(AND(ISNUMBER(N36),ISNUMBER(N46)),N36-N46,"") -> -0.2 | P41: =IF(AND(ISNUMBER(P36),ISNUMBER(P46)),P36-P46,"") -> 2.6 | R41: =IF(AND(ISNUMBER(R36),ISNUMBER(R46)),R36-R46,"") -> 0.2 | T41: =IF(AND(ISNUMBER(T36),ISNUMBER(T46)),T36-T46,"") -> 0.4 | V41: =IF(AND(ISNUMBER(V36),ISNUMBER(V46)),V36-V46,"") -> -4.1
...

Sheet 4-1-5
A1: 表4－1－5 会計帳簿等の作成状況＜総勘定元帳＞
W3: （単位：社、％）
C4: 資本金 | D4: 個 人 | F4: 法 人 | V4: 合 計
A5: 業種 | C5: 作成状況 | F5: 500万円未満 | H5: 500万円以上 1000万円未満 | J5: 1000万円以上 3000万円未満 | L5: 3000万円以上 5000万円未満 | N5: 5000万円以上 1億円未満 | P5: 1億円以上 3億円未満 | R5: 3億円以上 10億円未満 | T5: 10億円以上
A6: 一般土木建築 | B6: 一般土木 建築工事業 | C6: 社内で作成 | D6: 297 | E6: 75 | F6: 308 | G6: 40 | H6: 270.57143 | I6: 28.571429 | J6: 1314.24 | K6: 48 | L6: 682.23684 | M6: 44.736842 | N6: 501.45455 | O6: 63.636364 | P6: 156.52381 | Q6: 90.47619 | R6: 26 | S6: 100 | T6: 52 | U6: 100 | V6: 3608.0266 | W6: 48.658484
C7: 社外へ一部委託 | F7: 154 | G7: 20 | H7: 135.28571 | I7: 14.285714 | J7: 438.08 | K7: 16 | L7: 240.78947 | M7: 15.789474 | N7: 114.61818 | O7: 14.545455 | P7: 4.1190476 | Q7: 2.3809524 | V7: 1086.8924 | W7: 14.658023
C8: 社外へ全部委託 | F8: 308 | G8: 40 | H8: 541.14286 | I8: 57.142857 | J8: 985.68 | K8: 36 | L8: 601.97368 | M8: 39.473684 | N8: 171.92727 | O8: 21.818182 | P8: 8.2380952 | Q8: 4.7619048 | V8: 2616.9619 | W8: 35.292811
C9: 作成していない | D9: 99 | E9: 25 | P9: 4.1190476 | Q9: 2.3809524 | V9: 103.11905 | W9: 1.3906817
C10: 小 計 | D10: 396 | E10: 100 | F10: 770 | G10: 100 | H10: 947 | I10: 100 | J10: 2738 | K10: 100 | L10: 1525 | M10: 100 | N10: 788 | O10: 100 | P10: 173 | Q10: 100 | R10: 26 | S10: 100 | T10: 52 | U10: 100 | V10: 7415 | W10: 100
A11: 土木 | B11: 土木工事業 | C11: 社内で作成 | D11: 673.66667 | E11: 33.333333 | F11: 1551.75 | G11: 25 | H11: 1536.8644 | I11: 25.423729 | J11: 4671.3158 | K11: 39.473684 | L11: 1730.3902 | M11: 46.341463 | N11: 584.79661 | O11: 52.542373 | P11: 90.125 | Q11: 87.5 | R11: 10.8 | S11: 60 | T11: 20 | U11: 100 | V11: 10869.709 | W11: 34.956452
C12: 社外へ一部委託 | D12: 168.41667 | E12: 8.3333333 | F12: 1034.5 | G12: 16.666667 | H12: 1024.5763 | I12: 16.949153 | J12: 2958.5 | K12: 25 | L12: 819.65854 | M12: 21.95122 | N12: 207.50847 | O12: 18.644068 | R12: 7.2 | S12: 40 | V12: 6220.3599 | W12: 20.004374
C13: 社外へ全部委託 | D13: 673.66667 | E13: 33.333333 | F13: 3491.4375 | G13: 56.25 | H13: 3381.1017 | I13: 55.932203 | J13: 4048.4737 | K13: 34.210526 | L13: 1183.9512 | M13: 31.707317 | N13: 301.83051 | O13: 27.118644 | P13: 9.65625 | Q13: 9.375 | V13: 13090.118 | W13: 42.097178
C14: 作成していない | D14: 505.25 | E14: 25 | F14: 129.3125 | G14: 2.0833333 | H14: 102.45763 | I14: 1.6949153 | J14: 155.71053 | K14: 1.3157895 | N14: 18.864407 | O14: 1.6949153 | P14: 3.21875 | Q14: 3.125 | V14: 914.81381 | W14: 2.9419965
C15: 小 計 | D15: 2021 | E15: 100 | F15: 6207 | G15: 100 | H15: 6045 | I15: 100 | J15: 11834 | K15: 100 | L15: 3734 | M15: 100 | N15: 1113 | O15: 100 | P15: 103 | Q15: 100 | R15: 18 | S15: 100 | T15: 20 | U15: 100 | V15: 31095 | W15: 100
B16: ほ装工事業 | C16: 社内で作成 | D16: 4.8333333 | E16: 16.666667 | F16: 183.31034 | G16: 20.689655 | H16: 237.66667 | I16: 33.333333 | J16: 929.33333 | K16: 66.666667 | L16: 201.32609 | M16: 58.695652 | N16: 93.548387 | O16: 80.645161 | P16: 8 | Q16: 80 | T16: 6 | U16: 100 | V16: 1664.0182 | W16: 47.584162
C17: 社外へ一部委託 | D17: 4.8333333 | E17: 16.666667 | F17: 61.103448 | G17: 6.8965517 | H17: 178.25 | I17: 25 | J17: 99.571429 | K17: 7.1428571 | L17: 52.195652 | M17: 15.217391 | N17: 11.225806 | O17: 9.6774194 | P17: 2 | Q17: 20 | V17: 409.17967 | W17: 11.700877
C18: 社外へ全部委託 | D18: 9.6666667 | E18: 33.333333 | F18: 641.58621 | G18: 72.413793 | H18: 297.08333 | I18: 41.666667 | J18: 331.90476 | K18: 23.809524 | L18: 74.565217 | M18: 21.73913 | N18: 11.225806 | O18: 9.6774194 | V18: 1366.032 | W18: 39.062968
C19: 作成していない | D19: 9.6666667 | E19: 33.333333 | J19: 33.190476 | K19: 2.3809524 | L19: 14.913043 | M19: 4.3478261 | V19: 57.770186 | W19: 1.6519927
C20: 小 計 | D20: 29 | E20: 100 | F20: 886 | G20: 100 | H20: 713 | I20: 100 | J20: 1394 | K20: 100 | L20: 343 | M20: 100 | N20: 116 | O20: 100 | P20: 10 | Q20: 100 | T20: 6 | U20: 100 | V20: 3497 | W20: 100
B21: しゅんせつ 工事業 | C21: 社内で作成 | J21: 30.666667 | K21: 66.666667 | L21: 18 | M21: 66.666667 | N21: 8 | O21: 100 | V21: 56.666667 | W21: 37.777778
C22: 社外へ一部委託 | L22: 9 | M22: 33.333333 | V22: 9 | W22: 6
C23: 社外へ全部委託 | H23: 69 | I23: 100 | J23: 15.333333 | K23: 33.333333 | V23: 84.333333 | W23: 56.222222
C24: 作成していない
C25: 小 計 | H25: 69 | I25: 100 | J25: 46 | K25: 100 | L25: 27 | M25: 100 | N25: 8 | O25: 100 | V25: 150 | W25: 100
B26: 造園工事業 | C26: 社内で作成 | D26: 406 | E26: 100 | H26: 215.25 | I26: 58.333333 | J26: 361.53191 | K26: 51.06383 | L26: 93.829787 | M26: 63.829787 | N26: 20 | O26: 58.823529 | V26: 1096.6117 | W26: 47.410796
C27: 社外へ一部委託 | F27: 389.4 | G27: 60 | J27: 60.255319 | K27: 8.5106383 | L27: 25.021277 | M27: 17.021277 | N27: 4 | O27: 11.764706 | V27: 478.6766 | W27: 20.695054
C28: 社外へ全部委託 | F28: 259.6 | G28: 40 | H28: 153.75 | I28: 41.666667 | J28: 271.14894 | K28: 38.297872 | L28: 28.148936 | M28: 19.148936 | N28: 10 | O28: 29.411765 | V28: 722.64787 | W28: 31.242883
C29: 作成していない | J29: 15.06383 | K29: 2.1276596 | V29: 15.06383 | W29: 0.65126804
C30: 小 計 | D30: 406 | E30: 100 | F30: 649 | G30: 100 | H30: 369 | I30: 100 | J30: 708 | K30: 100 | L30: 147 | M30: 100 | N30: 34 | O30: 100 | V30: 2313 | W30: 100
B31: 水道施設 工事業 | C31: 社内で作成 | D31: 65 | E31: 100 | F31: 89.538462 | G31: 23.076923 | H31: 190.22222 | I31: 44.444444 | J31: 267.97297 | K31: 40.540541 | L31: 59.25 | M31: 37.5 | N31: 26.666667 | O31: 55.555556 | V31: 698.65032 | W31: 39.900076
C32: 社外へ一部委託 | F32: 179.07692 | G32: 46.153846 | H32: 47.555556 | I32: 11.111111 | J32: 142.91892 | K32: 21.621622 | L32: 39.5 | M32: 25 | V32: 409.0514 | W32: 23.361016
C33: 社外へ全部委託 | F33: 119.38462 | G33: 30.769231 | H33: 190.22222 | I33: 44.444444 | J33: 232.24324 | K33: 35.135135 | L33: 59.25 | M33: 37.5 | N33: 21.333333 | O33: 44.444444 | P33: 3 | Q33: 100 | V33: 625.43341 | W33: 35.718642
C34: 作成していない | J34: 17.864865 | K34: 2.7027027 | V34: 17.864865 | W34: 1.0202664
C35: 小 計 | D35: 65 | E35: 100 | F35: 388 | G35: 100 | H35: 428 | I35: 100 | J35: 661 | K35: 100 | L35: 158 | M35: 100 | N35: 48 | O35: 100 | P35: 3 | Q35: 100 | V35: 1751 | W35: 100
B36: 小 計 | C36: 社内で作成 | D36: 1149.5 | E36: 45.596985 | F36: 1824.5988 | G36: 22.44279 | H36: 2180.0033 | I36: 28.593957 | J36: 6260.8207 | K36: 42.756407 | L36: 2102.7961 | M36: 47.693266 | N36: 733.01166 | O36: 55.573288 | P36: 98.125 | Q36: 84.590517 | R36: 10.8 | S36: 60 | T36: 26 | U36: 100 | V36: 14385.656 | W36: 37.070699
C37: 社外へ一部委託 | D37: 173.25 | E37: 6.8722729 | F37: 1664.0804 | G37: 20.468393 | H37: 1250.3818 | I37: 16.400601 | J37: 3261.2457 | K37: 22.271704 | L37: 945.37547 | M37: 21.441948 | N37: 222.73428 | O37: 16.886602 | P37: 2 | Q37: 1.7241379 | R37: 7.2 | S37: 40 | V37: 7526.2676 | W37: 19.394598
C38: 社外へ全部委託 | D38: 683.33333 | E38: 27.105646 | F38: 4512.0083 | G38: 55.498257 | H38: 4091.1573 | I38: 53.661559 | J38: 4899.104 | K38: 33.456969 | L38: 1345.9154 | M38: 30.526545 | N38: 344.38965 | O38: 26.109905 | P38: 12.65625 | Q38: 10.91056 | V38: 15888.564 | W38: 40.943576
C39: 作成していない | D39: 514.91667 | E39: 20.425096 | F39: 129.3125 | G39: 1.5905597 | H39: 102.45763 | I39: 1.3438828 | J39: 221.8297 | K39: 1.5149197 | L39: 14.913043 | M39: 0.33824095 | N39: 18.864407 | O39: 1.4302052 | P39: 3.21875 | Q39: 2.7747845 | V39: 1005.5127 | W39: 2.5911269
C40: 小 計 | D40: 2521 | E40: 100 | F40: 8130 | G40: 100 | H40: 7624 | I40: 100 | J40: 14643 | K40: 100 | L40: 4409 | M40: 100 | N40: 1319 | O40: 100 | P40: 116 | Q40: 100 | R40: 18 | S40: 100 | T40: 26 | U40: 100 | V40: 38806 | W40: 100
A41: 建築 | B41: 建築工事業 | C41: 社内で作成 | D41: 5153.1579 | E41: 52.631579 | F41: 4758 | G41: 25 | H41: 5680.4167 | I41: 41.666667 | J41: 12423 | K41: 53.947368 | L41: 3085.2308 | M41: 56.923077 | N41: 1370.7931 | O41: 72.413793 | P41: 287.85714 | Q41: 88.571429 | R41: 46.421053 | S41: 94.736842 | T41: 44 | U41: 100 | V41: 32848.877 | W41: 44.866321
...

Sheet 4-1-6
A1: 表4－1－6 会計帳簿等の作成状況（経年変化）＜総勘定元帳＞
V3: （単位：社、％）
B4: 資本金 | C4: 個 人 | E4: 法 人 | U4: 合 計
A5: 年度 | B5: 作成状況 | E5: 500万円未満 | G5: 500万円以上 1000万円未満 | I5: 1000万円以上 3000万円未満 | K5: 3000万円以上 5000万円未満 | M5: 5000万円以上 1億円未満 | O5: 1億円以上 3億円未満 | Q5: 3億円以上 10億円未満 | S5: 10億円以上
A6: R06年度 | B6: 社内で作成 | C6: =IF('4-1-5'!D186<>"",'4-1-5'!D186,"") -> 19617.21 | D6: =IF('4-1-5'!E186<>"",'4-1-5'!E186,"") -> 40.358816 | E6: =IF('4-1-5'!F186<>"",'4-1-5'!F186,"") -> 28059.858 | F6: =IF('4-1-5'!G186<>"",'4-1-5'!G186,"") -> 30.641731 | G6: =IF('4-1-5'!H186<>"",'4-1-5'!H186,"") -> 20762.034 | H6: =IF('4-1-5'!I186<>"",'4-1-5'!I186,"") -> 35.797845 | I6: =IF('4-1-5'!J186<>"",'4-1-5'!J186,"") -> 41195.907 | J6: =IF('4-1-5'!K186<>"",'4-1-5'!K186,"") -> 48.630544 | ... V6: =IF('4-1-5'!W186<>"",'4-1-5'!W186,"") -> 40.22627
