Workbook
Name ______________________ＴＢＬ１: [1]CSS編集画面!$B$10:$F$22
Name ______________________ＴＢＬ２: [1]CSS編集画面!$B$24:$I$35
Name _____________________ＴＢＬ１: [1]CSS編集画面!$B$10:$F$22
Name _____________________ＴＢＬ２: [1]CSS編集画面!$B$24:$I$35
Name ____________________ＴＢＬ１: [1]CSS編集画面!$B$10:$F$22
Name ____________________ＴＢＬ２: [1]CSS編集画面!$B$24:$I$35
Name ___________________ＴＢＬ１: [1]CSS編集画面!$B$10:$F$22
Name ___________________ＴＢＬ２: [1]CSS編集画面!$B$24:$I$35
Name __________________ＴＢＬ１: [1]CSS編集画面!$B$10:$F$22
Name __________________ＴＢＬ２: [1]CSS編集画面!$B$24:$I$35
Name _________________ＴＢＬ１: [1]CSS編集画面!$B$10:$F$22
Name _________________ＴＢＬ２: [1]CSS編集画面!$B$24:$I$35
Name ________________ＴＢＬ１: [1]CSS編集画面!$B$10:$F$22
Name ________________ＴＢＬ２: [1]CSS編集画面!$B$24:$I$35
Name _______________ＴＢＬ１: [1]CSS編集画面!$B$10:$F$22
Name _______________ＴＢＬ２: [1]CSS編集画面!$B$24:$I$35
Name ______________ＴＢＬ１: [1]CSS編集画面!$B$10:$F$22
Name ______________ＴＢＬ２: [1]CSS編集画面!$B$24:$I$35
Name _____________ＴＢＬ１: [1]CSS編集画面!$B$10:$F$22
Name _____________ＴＢＬ２: [1]CSS編集画面!$B$24:$I$35
Name ____________ＴＢＬ１: [1]CSS編集画面!$B$10:$F$22
Name ____________ＴＢＬ２: [1]CSS編集画面!$B$24:$I$35
Name ___________ＴＢＬ１: [1]CSS編集画面!$B$10:$F$22
Name ___________ＴＢＬ２: [1]CSS編集画面!$B$24:$I$35
Name __________ＴＢＬ１: [1]CSS編集画面!$B$10:$F$22
Name __________ＴＢＬ２: [1]CSS編集画面!$B$24:$I$35
Name _________ＴＢＬ１: [1]CSS編集画面!$B$10:$F$22
Name _________ＴＢＬ２: [1]CSS編集画面!$B$24:$I$35
Name ________ＴＢＬ１: [1]CSS編集画面!$B$10:$F$22
Name ________ＴＢＬ２: [1]CSS編集画面!$B$24:$I$35
Name _______ＴＢＬ１: [1]CSS編集画面!$B$10:$F$22
Name _______ＴＢＬ２: [1]CSS編集画面!$B$24:$I$35
Name ______ＴＢＬ１: [1]CSS編集画面!$B$10:$F$22
Name ______ＴＢＬ２: [1]CSS編集画面!$B$24:$I$35
Name _____ＴＢＬ１: [1]CSS編集画面!$B$10:$F$22
Name _____ＴＢＬ２: [1]CSS編集画面!$B$24:$I$35
Name ____ＴＢＬ１: [1]CSS編集画面!$B$10:$F$22
Name ____ＴＢＬ２: [1]CSS編集画面!$B$24:$I$35
Name ___ＴＢＬ１: [1]CSS編集画面!$B$10:$F$22
Name ___ＴＢＬ２: [1]CSS編集画面!$B$24:$I$35
Name __ＴＢＬ１: [1]CSS編集画面!$B$10:$F$22
Name __ＴＢＬ２: [1]CSS編集画面!$B$24:$I$35
Name _ＴＢＬ１: [1]CSS編集画面!$B$10:$F$22
Name _ＴＢＬ２: [1]CSS編集画面!$B$24:$I$35
Name PAGE1: #REF!
Name PAGE10: #REF!
Name PAGE100: #REF!
Name PAGE1000: #REF!
Name PAGE1001: #REF!
Name PAGE1002: #REF!
Name PAGE1003: #REF!
Name PAGE1004: #REF!
Name PAGE1005: #REF!
Name PAGE1006: #REF!
Name PAGE1007: #REF!
Name PAGE1008: #REF!
Name PAGE1009: #REF!
Name PAGE101: #REF!
Name PAGE1010: #REF!
Name PAGE1011: #REF!

Sheet 4-2-1
A1: 表4－2－1 実行予算書の作成状況
W3: （単位：社、％）
C4: 資本金 | D4: 個 人 | F4: 法 人 | V4: 合 計
A5: 業種 | C5: 作成状況 | F5: 500万円未満 | H5: 500万円以上 1000万円未満 | J5: 1000万円以上 3000万円未満 | L5: 3000万円以上 5000万円未満 | N5: 5000万円以上 1億円未満 | P5: 1億円以上 3億円未満 | R5: 3億円以上 10億円未満 | T5: 10億円以上
A6: 一般土木建築 | B6: 一般土木 建築工事業 | C6: 受注前から原価を詳細に算出し実行予算書を作成 | D6: 99 | E6: 25 | F6: 462 | G6: 60 | H6: 135.28571 | I6: 14.285714 | J6: 711.88 | K6: 26 | L6: 321.05263 | M6: 21.052632 | N6: 214.90909 | O6: 27.272727 | P6: 70.02381 | Q6: 40.47619 | R6: 8.6666667 | S6: 33.333333 | T6: 10.4 | U6: 20 | V6: 2033.2179 | W6: 27.420336
C7: 見積書等とは別に実行予算書を作成 | H7: 405.85714 | I7: 42.857143 | J7: 602.36 | K7: 22 | L7: 481.57895 | M7: 31.578947 | N7: 372.50909 | O7: 47.272727 | P7: 78.261905 | Q7: 45.238095 | R7: 17.333333 | S7: 66.666667 | T7: 33.8 | U7: 65 | V7: 1991.7004 | W7: 26.860424
C8: 見積書等に多少の修正をして作成 | F8: 154 | G8: 20 | H8: 405.85714 | I8: 42.857143 | J8: 930.92 | K8: 34 | L8: 441.44737 | M8: 28.947368 | N8: 157.6 | O8: 20 | P8: 24.714286 | Q8: 14.285714 | T8: 7.8 | U8: 15 | V8: 2122.3388 | W8: 28.622236
C9: 見積書等をそのまま実行予算書に転用 | D9: 297 | E9: 75 | J9: 164.28 | K9: 6 | L9: 80.263158 | M9: 5.2631579 | N9: 14.327273 | O9: 1.8181818 | V9: 555.87043 | W9: 7.4965668
C10: 作成していない | F10: 154 | G10: 20 | J10: 328.56 | K10: 12 | L10: 200.65789 | M10: 13.157895 | N10: 28.654545 | O10: 3.6363636 | V10: 711.87244 | W10: 9.6004375
C11: 小 計 | D11: 396 | E11: 100 | F11: 770 | G11: 100 | H11: 947 | I11: 100 | J11: 2738 | K11: 100 | L11: 1525 | M11: 100 | N11: 788 | O11: 100 | P11: 173 | Q11: 100 | R11: 26 | S11: 100 | T11: 52 | U11: 100 | V11: 7415 | W11: 100
A12: 土 木 | B12: 土木工事業 | C12: 受注前から原価を詳細に算出し実行予算書を作成 | F12: 1163.8125 | G12: 18.75 | H12: 1229.4915 | I12: 20.338983 | J12: 3114.2105 | K12: 26.315789 | L12: 956.26829 | M12: 25.609756 | N12: 377.28814 | O12: 33.898305 | P12: 25.75 | Q12: 25 | R12: 7.2 | S12: 40 | T12: 7.5 | U12: 37.5 | V12: 6881.521 | W12: 22.130635
C13: 見積書等とは別に実行予算書を作成 | F13: 775.875 | G13: 12.5 | H13: 204.91525 | I13: 3.3898305 | J13: 2335.6579 | K13: 19.736842 | L13: 865.19512 | M13: 23.170732 | N13: 396.15254 | O13: 35.59322 | P13: 48.28125 | Q13: 46.875 | R13: 3.6 | S13: 20 | T13: 12.5 | U13: 62.5 | V13: 4642.1771 | W13: 14.929015
C14: 見積書等に多少の修正をして作成 | D14: 673.66667 | E14: 33.333333 | F14: 646.5625 | G14: 10.416667 | H14: 1536.8644 | I14: 25.423729 | J14: 2179.9474 | K14: 18.421053 | L14: 1183.9512 | M14: 31.707317 | N14: 188.64407 | O14: 16.949153 | P14: 19.3125 | Q14: 18.75 | R14: 7.2 | S14: 40 | V14: 6436.1487 | W14: 20.69834
C15: 見積書等をそのまま実行予算書に転用 | D15: 505.25 | E15: 25 | F15: 905.1875 | G15: 14.583333 | H15: 717.20339 | I15: 11.864407 | J15: 1868.5263 | K15: 15.789474 | L15: 364.29268 | M15: 9.7560976 | N15: 56.59322 | O15: 5.0847458 | P15: 3.21875 | Q15: 3.125 | V15: 4420.2719 | W15: 14.215378
C16: 作成していない | D16: 842.08333 | E16: 41.666667 | F16: 2715.5625 | G16: 43.75 | H16: 2356.5254 | I16: 38.983051 | J16: 2335.6579 | K16: 19.736842 | L16: 364.29268 | M16: 9.7560976 | N16: 94.322034 | O16: 8.4745763 | P16: 6.4375 | Q16: 6.25 | V16: 8714.8814 | W16: 28.026632
C17: 小 計 | D17: 2021 | E17: 100 | F17: 6207 | G17: 100 | H17: 6045 | I17: 100 | J17: 11834 | K17: 100 | L17: 3734 | M17: 100 | N17: 1113 | O17: 100 | P17: 103 | Q17: 100 | R17: 18 | S17: 100 | T17: 20 | U17: 100 | V17: 31095 | W17: 100
B18: ほ装工事業 | C18: 受注前から原価を詳細に算出し実行予算書を作成 | F18: 152.75862 | G18: 17.241379 | H18: 178.25 | I18: 25 | J18: 365.09524 | K18: 26.190476 | L18: 149.13043 | M18: 43.478261 | N18: 48.645161 | O18: 41.935484 | V18: 893.87945 | W18: 25.561323
C19: 見積書等とは別に実行予算書を作成 | F19: 30.551724 | G19: 3.4482759 | H19: 118.83333 | I19: 16.666667 | J19: 398.28571 | K19: 28.571429 | L19: 59.652174 | M19: 17.391304 | N19: 37.419355 | O19: 32.258065 | P19: 6 | Q19: 60 | V19: 650.7423 | W19: 18.608587
C20: 見積書等に多少の修正をして作成 | D20: 4.8333333 | E20: 16.666667 | F20: 213.86207 | G20: 24.137931 | H20: 89.125 | I20: 12.5 | J20: 365.09524 | K20: 26.190476 | L20: 96.934783 | M20: 28.26087 | N20: 14.967742 | O20: 12.903226 | P20: 4 | Q20: 40 | T20: 6 | U20: 100 | V20: 794.81816 | W20: 22.728572
C21: 見積書等をそのまま実行予算書に転用 | F21: 61.103448 | G21: 6.8965517 | H21: 29.708333 | I21: 4.1666667 | J21: 66.380952 | K21: 4.7619048 | L21: 7.4565217 | M21: 2.173913 | N21: 7.483871 | O21: 6.4516129 | V21: 172.13313 | W21: 4.9223085
C22: 作成していない | D22: 24.166667 | E22: 83.333333 | F22: 427.72414 | G22: 48.275862 | H22: 297.08333 | I22: 41.666667 | J22: 199.14286 | K22: 14.285714 | L22: 29.826087 | M22: 8.6956522 | N22: 7.483871 | O22: 6.4516129 | V22: 985.42695 | W22: 28.179209
C23: 小 計 | D23: 29 | F23: 886 | G23: 100 | H23: 713 | I23: 100 | J23: 1394 | K23: 100 | L23: 343 | M23: 100 | N23: 116 | O23: 100 | P23: 10 | Q23: 100 | T23: 6 | U23: 100 | V23: 3497 | W23: 100
B24: しゅんせつ 工事業 | C24: 受注前から原価を詳細に算出し実行予算書を作成 | L24: 9 | M24: 33.333333 | N24: 8 | O24: 100 | V24: 17 | W24: 11.333333
C25: 見積書等とは別に実行予算書を作成 | J25: 30.666667 | K25: 66.666667 | L25: 9 | M25: 33.333333 | V25: 39.666667 | W25: 26.444444
C26: 見積書等に多少の修正をして作成 | L26: 9 | M26: 33.333333 | V26: 9 | W26: 6
C27: 見積書等をそのまま実行予算書に転用 | J27: 15.333333 | K27: 33.333333 | V27: 15.333333 | W27: 10.222222
C28: 作成していない | H28: 69 | I28: 100 | V28: 69 | W28: 46
C29: 小 計 | H29: 69 | J29: 46 | K29: 100 | L29: 27 | M29: 100 | N29: 8 | O29: 100 | V29: 150 | W29: 100
B30: 造園工事業 | C30: 受注前から原価を詳細に算出し実行予算書を作成 | D30: 203 | E30: 50 | F30: 129.8 | G30: 20 | H30: 153.75 | I30: 41.666667 | J30: 150.6383 | K30: 21.276596 | L30: 43.787234 | M30: 29.787234 | N30: 6 | O30: 17.647059 | V30: 686.97553 | W30: 29.700628
C31: 見積書等とは別に実行予算書を作成 | H31: 30.75 | I31: 8.3333333 | J31: 180.76596 | K31: 25.531915 | L31: 37.531915 | M31: 25.531915 | N31: 16 | O31: 47.058824 | V31: 265.04787 | W31: 11.459052
C32: 見積書等に多少の修正をして作成 | F32: 129.8 | G32: 20 | H32: 30.75 | I32: 8.3333333 | J32: 120.51064 | K32: 17.021277 | L32: 34.404255 | M32: 23.404255 | N32: 4 | O32: 11.764706 | V32: 319.46489 | W32: 13.811712
C33: 見積書等をそのまま実行予算書に転用 | D33: 203 | E33: 50 | F33: 129.8 | G33: 20 | H33: 30.75 | I33: 8.3333333 | J33: 90.382979 | K33: 12.765957 | L33: 12.510638 | M33: 8.5106383 | N33: 2 | O33: 5.8823529 | V33: 468.44362 | W33: 20.252642
C34: 作成していない | F34: 259.6 | G34: 40 | H34: 123 | I34: 33.333333 | J34: 165.70213 | K34: 23.404255 | L34: 18.765957 | M34: 12.765957 | N34: 6 | O34: 17.647059 | V34: 573.06809 | W34: 24.775966
C35: 小 計 | D35: 406 | E35: 100 | F35: 649 | G35: 100 | H35: 369 | I35: 100 | J35: 708 | K35: 100 | L35: 147 | M35: 100 | N35: 34 | O35: 100 | V35: 2313 | W35: 100
A36: 土 木 | B36: 水道施設 工事業 | C36: 受注前から原価を詳細に算出し実行予算書を作成 | F36: 119.38462 | G36: 30.769231 | H36: 47.555556 | I36: 11.111111 | J36: 178.64865 | K36: 27.027027 | L36: 64.1875 | M36: 40.625 | N36: 16 | O36: 33.333333 | V36: 425.77632 | W36: 24.31618
C37: 見積書等とは別に実行予算書を作成 | H37: 47.555556 | I37: 11.111111 | J37: 125.05405 | K37: 18.918919 | L37: 24.6875 | M37: 15.625 | N37: 10.666667 | O37: 22.222222 | P37: 3 | Q37: 100 | V37: 210.96378 | W37: 12.048188
C38: 見積書等に多少の修正をして作成 | F38: 119.38462 | G38: 30.769231 | H38: 142.66667 | I38: 33.333333 | J38: 214.37838 | K38: 32.432432 | L38: 44.4375 | M38: 28.125 | N38: 16 | O38: 33.333333 | V38: 536.86716 | W38: 30.660603
C39: 見積書等をそのまま実行予算書に転用 | D39: 65 | E39: 100 | F39: 29.846154 | G39: 7.6923077 | J39: 53.594595 | K39: 8.1081081 | L39: 9.875 | M39: 6.25 | N39: 5.3333333 | O39: 11.111111 | V39: 163.64908 | W39: 9.3460355
C40: 作成していない | F40: 119.38462 | G40: 30.769231 | H40: 190.22222 | I40: 44.444444 | J40: 89.324324 | K40: 13.513514 | L40: 14.8125 | M40: 9.375 | V40: 413.74366 | W40: 23.628993
C41: 小 計 | D41: 65 | F41: 388 | G41: 100 | H41: 428 | I41: 100 | J41: 661 | K41: 100 | L41: 158 | M41: 100 | N41: 48 | O41: 100 | P41: 3 | V41: 1751 | W41: 100
B42: 小 計 | C42: 受注前から原価を詳細に算出し実行予算書を作成 | D42: 203 | E42: 8.0523602 | F42: 1565.7557 | G42: 19.258988 | H42: 1609.0471 | I42: 21.105025 | J42: 3808.5927 | K42: 26.009648 | L42: 1222.3735 | M42: 27.724506 | N42: 455.9333 | O42: 34.566588 | P42: 25.75 | Q42: 22.198276 | R42: 7.2 | S42: 40 | T42: 7.5 | U42: 28.846154 | V42: 8905.1523 | W42: 22.947875
C43: 見積書等とは別に実行予算書を作成 | F43: 806.42672 | G43: 9.9191479 | H43: 402.05414 | I43: 5.2735328 | J43: 3070.4303 | K43: 20.968588 | L43: 996.06671 | M43: 22.59167 | N43: 460.23856 | O43: 34.892992 | P43: 57.28125 | Q43: 49.380388 | R43: 3.6 | S43: 20 | T43: 12.5 | U43: 48.076923 | V43: 5808.5977 | W43: 14.968298
C44: 見積書等に多少の修正をして作成 | D44: 678.5 | E44: 26.913923 | F44: 1109.6092 | G44: 13.648329 | H44: 1799.4061 | I44: 23.601864 | J44: 2879.9316 | K44: 19.667634 | L44: 1368.7278 | M44: 31.04395 | N44: 223.61181 | O44: 16.953132 | P44: 23.3125 | Q44: 20.096983 | R44: 7.2 | S44: 40 | T44: 6 | U44: 23.076923 | V44: 8096.2989 | W44: 20.863524
C45: 見積書等をそのまま実行予算書に転用 | D45: 773.25 | E45: 30.672352 | F45: 1125.9371 | G45: 13.849165 | H45: 777.66172 | I45: 10.20018 | J45: 2094.2182 | K45: 14.301838 | L45: 394.13484 | M45: 8.9393251 | N45: 71.410425 | O45: 5.4139822 | P45: 3.21875 | Q45: 2.7747845 | V45: 5239.831 | W45: 13.502631
C46: 作成していない | D46: 866.25 | E46: 34.361365 | F46: 3522.2713 | G46: 43.32437 | H46: 3035.831 | I46: 39.819399 | J46: 2789.8272 | K46: 19.052293 | L46: 427.69723 | M46: 9.7005495 | N46: 107.8059 | O46: 8.1733059 | P46: 6.4375 | Q46: 5.549569 | V46: 10756.12 | W46: 27.717673
C47: 小 計 | D47: 2521 | E47: 100 | F47: 8130 | G47: 100 | H47: 7624 | I47: 100 | J47: 14643 | K47: 100 | L47: 4409 | M47: 100 | N47: 1319 | O47: 100 | P47: 116 | Q47: 100 | R47: 18 | S47: 100 | T47: 26 | U47: 100 | V47: 38806 | W47: 100
A48: 建 築 | B48: 建築工事業 | C48: 受注前から原価を詳細に算出し実行予算書を作成 | D48: 2061.2632 | E48: 21.052632 | F48: 6797.1429 | G48: 35.714286 | H48: 4544.3333 | I48: 33.333333 | J48: 9999 | K48: 43.421053 | L48: 2168 | M48: 40 | N48: 554.84483 | O48: 29.310345 | P48: 148.57143 | Q48: 45.714286 | R48: 15.473684 | S48: 31.578947 | T48: 8.8 | U48: 20 | V48: 26297.429 | W48: 35.91809
C49: 見積書等とは別に実行予算書を作成 | D49: 1030.6316 | E49: 10.526316 | H49: 3029.5556 | I49: 22.222222 | J49: 4848 | K49: 21.052632 | L49: 1417.5385 | M49: 26.153846 | N49: 554.84483 | O49: 29.310345 | P49: 83.571429 | Q49: 25.714286 | R49: 18.052632 | S49: 36.842105 | T49: 17.6 | U49: 40 | V49: 10999.794 | W49: 15.023963
C50: 見積書等に多少の修正をして作成 | D50: 1545.9474 | E50: 15.789474 | F50: 3398.5714 | G50: 17.857143 | H50: 2272.1667 | I50: 16.666667 | J50: 5151 | K50: 22.368421 | L50: 1334.1538 | M50: 24.615385 | N50: 620.12069 | O50: 32.758621 | P50: 74.285714 | Q50: 22.857143 | R50: 12.894737 | S50: 26.315789 | T50: 17.6 | U50: 40 | V50: 14426.74 | W50: 19.704624
C51: 見積書等をそのまま実行予算書に転用 | D51: 2061.2632 | E51: 21.052632 | F51: 1359.4286 | G51: 7.1428571 | H51: 1514.7778 | I51: 11.111111 | J51: 1212 | K51: 5.2631579 | L51: 250.15385 | M51: 4.6153846 | N51: 65.275862 | O51: 3.4482759 | P51: 9.2857143 | Q51: 2.8571429 | R51: 2.5789474 | S51: 5.2631579 | V51: 6474.7639 | W51: 8.8434937
C52: 作成していない | D52: 3091.8947 | E52: 31.578947 | F52: 7476.8571 | G52: 39.285714 | H52: 2272.1667 | I52: 16.666667 | J52: 1818 | K52: 7.8947368 | L52: 250.15385 | M52: 4.6153846 | N52: 97.913793 | O52: 5.1724138 | P52: 9.2857143 | Q52: 2.8571429 | V52: 15016.272 | W52: 20.50983
C53: 小 計 | D53: 9791 | E53: 100 | F53: 19032 | G53: 100 | H53: 13633 | I53: 100 | J53: 23028 | K53: 100 | L53: 5420 | M53: 100 | N53: 1893 | O53: 100 | P53: 325 | Q53: 100 | R53: 49 | S53: 100 | T53: 44 | U53: 100 | V53: 73215 | W53: 100
B54: 木造建築 工事業 | C54: 受注前から原価を詳細に算出し実行予算書を作成 | D54: 950.18182 | E54: 18.181818 | F54: 2288.7586 | G54: 48.275862 | H54: 1344.6512 | I54: 46.511628 | J54: 1402.2 | K54: 42.222222 | L54: 147.76471 | M54: 47.058824 | N54: 33.478261 | O54: 30.434783 | P54: 21.5 | Q54: 50 | V54: 6188.5346 | W54: 37.163912
C55: 見積書等とは別に実行予算書を作成 | D55: 475.09091 | E55: 9.0909091 | F55: 163.48276 | G55: 3.4482759 | H55: 403.39535 | I55: 13.953488 | J55: 516.6 | K55: 15.555556 | L55: 55.411765 | M55: 17.647059 | N55: 28.695652 | O55: 26.086957 | P55: 3.5833333 | Q55: 8.3333333 | T55: 4 | U55: 100 | V55: 1650.2598 | W55: 9.9102796
C56: 見積書等に多少の修正をして作成 | D56: 475.09091 | E56: 9.0909091 | F56: 980.89655 | G56: 20.689655 | H56: 605.09302 | I56: 20.930233 | J56: 590.4 | K56: 17.777778 | L56: 64.647059 | M56: 20.588235 | N56: 33.478261 | O56: 30.434783 | P56: 7.1666667 | Q56: 16.666667 | R56: 2 | S56: 100 | V56: 2758.7725 | W56: 16.567214
C57: 見積書等をそのまま実行予算書に転用 | D57: 950.18182 | E57: 18.181818 | F57: 653.93103 | G57: 13.793103 | H57: 67.232558 | I57: 2.3255814 | J57: 221.4 | K57: 6.6666667 | L57: 36.941176 | M57: 11.764706 | N57: 9.5652174 | O57: 8.6956522 | V57: 1939.2518 | W57: 11.645759
C58: 作成していない | D58: 2375.4545 | E58: 45.454545 | F58: 653.93103 | G58: 13.793103 | H58: 470.62791 | I58: 16.27907 | J58: 590.4 | K58: 17.777778 | L58: 9.2352941 | M58: 2.9411765 | N58: 4.7826087 | O58: 4.3478261 | P58: 10.75 | Q58: 25 | V58: 4115.1814 | W58: 24.712836
C59: 小 計 | D59: 5226 | F59: 4741 | G59: 100 | H59: 2891 | I59: 100 | J59: 3321 | K59: 100 | L59: 314 | M59: 100 | N59: 110 | O59: 100 | P59: 43 | Q59: 100 | R59: 2 | S59: 100 | T59: 4 | V59: 16652 | W59: 100
B60: 小 計 | C60: 受注前から原価を詳細に算出し実行予算書を作成 | D60: 3011.445 | E60: 20.053572 | F60: 9085.9015 | G60: 38.219415 | H60: 5888.9845 | I60: 35.638977 | J60: 11401.2 | K60: 43.269953 | L60: 2315.7647 | M60: 40.386549 | N60: 588.32309 | O60: 29.372096 | P60: 170.07143 | Q60: 46.215062 | R60: 15.473684 | S60: 30.340557 | T60: 8.8 | U60: 18.333333 | V60: 32485.964 | W60: 36.148935
C61: 見積書等とは別に実行予算書を作成 | D61: 1505.7225 | E61: 10.026786 | F61: 163.48276 | G61: 0.68768249 | H61: 3432.9509 | I61: 20.775544 | J61: 5364.6 | K61: 20.359786 | L61: 1472.9502 | M61: 25.688005 | N61: 583.54048 | O61: 29.133324 | P61: 87.154762 | Q61: 23.683359 | R61: 18.052632 | S61: 35.397317 | T61: 21.6 | U61: 45 | V61: 12650.054 | W61: 14.076418
C62: 見積書等に多少の修正をして作成 | D62: 2021.0383 | E62: 13.458336 | F62: 4379.468 | G62: 18.422025 | H62: 2877.2597 | I62: 17.41261 | J62: 5741.4 | K62: 21.789821 | L62: 1398.8009 | M62: 24.394854 | N62: 653.59895 | O62: 32.631001 | P62: 81.452381 | Q62: 22.133799 | R62: 14.894737 | S62: 29.205366 | T62: 17.6 | U62: 36.666667 | V62: 17185.513 | W62: 19.123274
C63: 見積書等をそのまま実行予算書に転用 | D63: 3011.445 | E63: 20.053572 | F63: 2013.3596 | G63: 8.4691019 | H63: 1582.0103 | I63: 9.5740156 | J63: 1433.4 | K63: 5.4400547 | L63: 287.09502 | M63: 5.0068891 | N63: 74.841079 | O63: 3.7364493 | P63: 9.2857143 | Q63: 2.5232919 | R63: 2.5789474 | S63: 5.0567595 | V63: 8414.0157 | W63: 9.3627424
C64: 作成していない | D64: 5467.3493 | E64: 36.407733 | F64: 8130.7882 | G64: 34.201776 | H64: 2742.7946 | I64: 16.598854 | J64: 2408.4 | K64: 9.1403848 | L64: 259.38914 | M64: 4.5237032 | N64: 102.6964 | O64: 5.1271294 | P64: 20.035714 | Q64: 5.4444876 | V64: 19131.453 | W64: 21.28863
C65: 小 計 | D65: 15017 | E65: 100 | F65: 23773 | G65: 100 | H65: 16524 | I65: 100 | J65: 26349 | K65: 100 | L65: 5734 | M65: 100 | N65: 2003 | O65: 100 | P65: 368 | Q65: 100 | R65: 51 | S65: 100 | T65: 48 | U65: 100 | V65: 89867 | W65: 100
A66: 職 別 | B66: 大工工事業 | C66: 受注前から原価を詳細に算出し実行予算書を作成 | D66: 303.2 | E66: 13.333333 | F66: 503.34146 | G66: 21.95122 | H66: 238.66667 | I66: 16.666667 | J66: 318.53191 | K66: 23.404255 | L66: 34.4 | M66: 40 | N66: 18.375 | O66: 43.75 | P66: 1.6666667 | Q66: 33.333333 | V66: 1418.1817 | W66: 18.926754
C67: 見積書等とは別に実行予算書を作成 | D67: 303.2 | E67: 13.333333 | F67: 55.926829 | G67: 2.4390244 | H67: 68.190476 | I67: 4.7619048 | J67: 144.78723 | K67: 10.638298 | L67: 27.52 | M67: 32 | N67: 10.5 | O67: 25 | V67: 610.12454 | W67: 8.1425936
C68: 見積書等に多少の修正をして作成 | D68: 454.8 | E68: 20 | F68: 391.4878 | G68: 17.073171 | H68: 409.14286 | I68: 28.571429 | J68: 434.3617 | K68: 31.914894 | L68: 17.2 | M68: 20 | N68: 7.875 | O68: 18.75 | P68: 1.6666667 | Q68: 33.333333 | V68: 1716.534 | W68: 22.908502
C69: 見積書等をそのまま実行予算書に転用 | D69: 151.6 | E69: 6.6666667 | F69: 391.4878 | G69: 17.073171 | H69: 204.57143 | I69: 14.285714 | J69: 115.82979 | K69: 8.5106383 | L69: 6.88 | M69: 8 | P69: 1.6666667 | Q69: 33.333333 | V69: 872.03569 | W69: 11.638005
C70: 作成していない | D70: 1061.2 | E70: 46.666667 | F70: 950.7561 | G70: 41.463415 | H70: 511.42857 | I70: 35.714286 | J70: 347.48936 | K70: 25.531915 | N70: 5.25 | O70: 12.5 | V70: 2876.124 | W70: 38.384146
C71: 小 計 | D71: 2274 | F71: 2293 | G71: 100 | H71: 1432 | I71: 100 | J71: 1361 | K71: 100 | L71: 86 | M71: 100 | N71: 42 | O71: 100 | P71: 5 | V71: 7493 | W71: 100
B72: とび・土工・ コンクリート 工事業 | C72: 受注前から原価を詳細に算出し実行予算書を作成 | D72: 111.30769 | E72: 7.6923077 | F72: 1907.4 | G72: 24.444444 | H72: 1158.5581 | I72: 26.744186 | J72: 941.688 | K72: 26.4 | L72: 119.30769 | M72: 36.263736 | N72: 48.064516 | O72: 32.258065 | P72: 22 | Q72: 66.666667 | T72: 0.5 | U72: 50 | V72: 4308.826 | W72: 24.394644
C73: 見積書等とは別に実行予算書を作成 | D73: 111.30769 | E73: 7.6923077 | F73: 433.5 | G73: 5.5555556 | H73: 453.34884 | I73: 10.465116 | J73: 428.04 | K73: 12 | L73: 43.384615 | M73: 13.186813 | N73: 45.66129 | O73: 30.645161 | P73: 4.8888889 | Q73: 14.814815 | R73: 1 | S73: 50 | T73: 0.5 | U73: 50 | V73: 1521.6313 | W73: 8.6147955
C74: 見積書等に多少の修正をして作成 | D74: 333.92308 | E74: 23.076923 | F74: 1040.4 | G74: 13.333333 | H74: 654.83721 | I74: 15.116279 | J74: 913.152 | K74: 25.6 | L74: 72.307692 | M74: 21.978022 | N74: 43.258065 | O74: 29.032258 | P74: 4.8888889 | Q74: 14.814815 | R74: 1 | S74: 50 | V74: 3063.7669 | W74: 17.345677
C75: 見積書等をそのまま実行予算書に転用 | F75: 1734 | G75: 22.222222 | H75: 503.72093 | I75: 11.627907 | J75: 428.04 | K75: 12 | L75: 39.769231 | M75: 12.087912 | N75: 4.8064516 | O75: 3.2258065 | V75: 2710.3366 | W75: 15.344713
C76: 作成していない | D76: 890.46154 | E76: 61.538462 | F76: 2687.7 | G76: 34.444444 | H76: 1561.5349 | I76: 36.046512 | J76: 856.08 | K76: 24 | L76: 54.230769 | M76: 16.483516 | N76: 7.2096774 | O76: 4.8387097 | P76: 1.2222222 | Q76: 3.7037037 | V76: 6058.4391 | W76: 34.30017
C77: 小 計 | D77: 1447 | E77: 100 | F77: 7803 | G77: 100 | H77: 4332 | I77: 100 | J77: 3567 | K77: 100 | L77: 329 | M77: 100 | N77: 149 | O77: 100 | P77: 33 | Q77: 100 | R77: 2 | S77: 100 | T77: 1 | U77: 100 | V77: 17663 | W77: 100
B78: 鋼構造物 工事業 | C78: 受注前から原価を詳細に算出し実行予算書を作成 | D78: 54.25 | E78: 25 | F78: 335.57143 | G78: 21.428571 | H78: 139.46429 | I78: 17.857143 | J78: 559.21053 | K78: 29.824561 | L78: 58.604651 | M78: 34.883721 | N78: 31.125 | O78: 37.5 | T78: 1 | U78: 33.333333 | V78: 1179.2259 | W78: 25.0526
C79: 見積書等とは別に実行予算書を作成 | F79: 111.85714 | G79: 7.1428571 | H79: 139.46429 | I79: 17.857143 | J79: 361.84211 | K79: 19.298246 | L79: 27.348837 | M79: 16.27907 | N79: 22.825 | O79: 27.5 | P79: 2.25 | Q79: 25 | T79: 2 | U79: 66.666667 | V79: 667.58737 | W79: 14.182863
C80: 見積書等に多少の修正をして作成 | D80: 27.125 | E80: 12.5 | F80: 335.57143 | G80: 21.428571 | H80: 111.57143 | I80: 14.285714 | J80: 328.94737 | K80: 17.54386 | L80: 42.976744 | M80: 25.581395 | N80: 16.6 | O80: 20 | P80: 6.75 | Q80: 75 | R80: 5 | S80: 100 | V80: 874.54197 | W80: 18.579604
C81: 見積書等をそのまま実行予算書に転用 | D81: 54.25 | E81: 25 | F81: 335.57143 | G81: 21.428571 | H81: 139.46429 | I81: 17.857143 | J81: 296.05263 | K81: 15.789474 | L81: 11.72093 | M81: 6.9767442 | N81: 8.3 | O81: 10 | V81: 845.35928 | W81: 17.959619
C82: 作成していない | D82: 81.375 | E82: 37.5 | F82: 447.42857 | G82: 28.571429 | H82: 251.03571 | I82: 32.142857 | J82: 328.94737 | K82: 17.54386 | L82: 27.348837 | M82: 16.27907 | N82: 4.15 | O82: 5 | V82: 1140.2855 | W82: 24.225313
C83: 小 計 | D83: 217 | E83: 100 | F83: 1566 | G83: 100 | H83: 781 | I83: 100 | J83: 1875 | K83: 100 | L83: 168 | M83: 100 | N83: 83 | O83: 100 | P83: 9 | Q83: 100 | R83: 5 | S83: 100 | T83: 3 | U83: 100 | V83: 4707 | W83: 100
B84: 鉄筋工事業 | C84: 受注前から原価を詳細に算出し実行予算書を作成 | F84: 80.83871 | G84: 6.4516129 | H84: 98.125 | I84: 12.5 | J84: 131.02222 | K84: 17.777778 | L84: 6.7142857 | M84: 14.285714 | V84: 316.70022 | W84: 6.2887255
C85: 見積書等とは別に実行予算書を作成 | J85: 49.133333 | K85: 6.6666667 | L85: 10.071429 | M85: 21.428571 | N85: 4.4 | O85: 20 | V85: 63.604762 | W85: 1.2630016
C86: 見積書等に多少の修正をして作成 | F86: 161.67742 | G86: 12.903226 | H86: 261.66667 | I86: 33.333333 | J86: 163.77778 | K86: 22.222222 | L86: 23.5 | M86: 50 | N86: 17.6 | O86: 80 | V86: 628.22186 | W86: 12.47462
C87: 見積書等をそのまま実行予算書に転用 | D87: 438.4 | E87: 20 | F87: 242.51613 | G87: 19.354839 | H87: 65.416667 | I87: 8.3333333 | J87: 114.64444 | K87: 15.555556 | V87: 860.97724 | W87: 17.09645
C88: 作成していない | D88: 1753.6 | E88: 80 | F88: 767.96774 | G88: 61.290323 | H88: 359.79167 | I88: 45.833333 | J88: 278.42222 | K88: 37.777778 | L88: 6.7142857 | M88: 14.285714 | V88: 3166.4959 | W88: 62.877202
C89: 小 計 | D89: 2192 | E89: 100 | F89: 1253 | G89: 100 | H89: 785 | I89: 100 | J89: 737 | K89: 100 | L89: 47 | M89: 100 | N89: 22 | O89: 100 | V89: 5036 | W89: 100
B90: 解体工事業 | C90: 受注前から原価を詳細に算出し実行予算書を作成 | F90: 425.42857 | G90: 28.571429 | H90: 224.18182 | I90: 27.272727 | J90: 168.21875 | K90: 21.875 | L90: 36.48 | M90: 24 | N90: 14.8 | O90: 40 | P90: 7 | Q90: 100 | V90: 876.10914 | W90: 24.042512
C91: 見積書等とは別に実行予算書を作成 | F91: 106.35714 | G91: 7.1428571 | J91: 96.125 | K91: 12.5 | L91: 18.24 | M91: 12 | N91: 11.1 | O91: 30 | V91: 231.82214 | W91: 6.3617493
C92: 見積書等に多少の修正をして作成 | F92: 212.71429 | G92: 14.285714 | H92: 74.727273 | I92: 9.0909091 | J92: 192.25 | K92: 25 | L92: 54.72 | M92: 36 | N92: 7.4 | O92: 20 | V92: 541.81156 | W92: 14.868594
C93: 見積書等をそのまま実行予算書に転用 | F93: 319.07143 | G93: 21.428571 | H93: 149.45455 | I93: 18.181818 | J93: 168.21875 | K93: 21.875 | L93: 12.16 | M93: 8 | N93: 3.7 | O93: 10 | V93: 652.60472 | W93: 17.909021
C94: 作成していない | D94: 368 | E94: 100 | F94: 425.42857 | G94: 28.571429 | H94: 373.63636 | I94: 45.454545 | J94: 144.1875 | K94: 18.75 | L94: 30.4 | M94: 20 | V94: 1341.6524 | W94: 36.818124
C95: 小 計 | D95: 368 | E95: 100 | F95: 1489 | G95: 100 | H95: 822 | I95: 100 | J95: 769 | K95: 100 | L95: 152 | M95: 100 | N95: 37 | O95: 100 | P95: 7 | V95: 3644 | W95: 100
B96: 躯体関係計 | C96: 受注前から原価を詳細に算出し実行予算書を作成 | D96: 468.75769 | E96: 7.2138765 | F96: 3252.5802 | G96: 22.58109 | H96: 1858.9959 | I96: 22.80417 | J96: 2118.6714 | K96: 25.498513 | L96: 255.50663 | M96: 32.673482 | N96: 112.36452 | O96: 33.743098 | P96: 30.666667 | Q96: 56.790123 | T96: 1.5 | U96: 37.5 | V96: 8099.043 | W96: 21.013006
C97: 見積書等とは別に実行予算書を作成 | D97: 414.50769 | E97: 6.3790042 | F97: 707.64111 | G97: 4.9128097 | H97: 661.0036 | I97: 8.1084838 | J97: 1079.9277 | K97: 12.997084 | L97: 126.56488 | M97: 16.184767 | N97: 94.48629 | O97: 28.374261 | P97: 7.1388889 | Q97: 13.220165 | R97: 1 | S97: 14.285714 | T97: 2.5 | U97: 62.5 | V97: 3094.7701 | W97: 8.0293961
C98: 見積書等に多少の修正をして作成 | D98: 815.84808 | E98: 12.555372 | F98: 2141.8509 | G98: 14.869834 | H98: 1511.9454 | I98: 18.546926 | J98: 2032.4888 | K98: 24.461293 | L98: 210.70444 | M98: 26.944301 | N98: 92.733065 | O98: 27.847767 | P98: 13.305556 | Q98: 24.639918 | R98: 6 | S98: 85.714286 | V98: 6824.8764 | W98: 17.707175
C99: 見積書等をそのまま実行予算書に転用 | D99: 644.25 | E99: 9.9145891 | F99: 3022.6468 | G99: 20.984774 | H99: 1062.6279 | I99: 13.03518 | J99: 1122.7856 | K99: 13.512885 | L99: 70.530161 | M99: 9.0192022 | N99: 16.806452 | O99: 5.0469825 | P99: 1.6666667 | Q99: 3.0864198 | V99: 5941.3135 | W99: 15.414767
C100: 作成していない | D100: 4154.6365 | E100: 63.937158 | F100: 5279.281 | G100: 36.651493 | H100: 3057.4272 | I100: 37.50524 | J100: 1955.1265 | K100: 23.530226 | L100: 118.69389 | M100: 15.178247 | N100: 16.609677 | O100: 4.9878911 | P100: 1.2222222 | Q100: 2.2633745 | V100: 14582.997 | W100: 37.835656
C101: 小 計 | D101: 6498 | E101: 100 | F101: 14404 | G101: 100 | H101: 8152 | I101: 100 | J101: 8309 | K101: 100 | L101: 782 | M101: 100 | N101: 333 | O101: 100 | P101: 54 | Q101: 100 | R101: 7 | S101: 100 | T101: 4 | U101: 100 | V101: 38543 | W101: 100
...

Sheet 4-2-2
A1: 表4－2－2 実行予算書の作成状況（経年変化①：資本金別）
V3: （単位：社、％）
B4: 資本金 | C4: 個 人 | E4: 法 人 | U4: 合 計
A5: 年度 | B5: 作成状況 | E5: 500万円未満 | G5: 500万円以上 1000万円未満 | I5: 1000万円以上 3000万円未満 | K5: 3000万円以上 5000万円未満 | M5: 5000万円以上 1億円未満 | O5: 1億円以上 3億円未満 | Q5: 3億円以上 10億円未満 | S5: 10億円以上
A6: R06年度 | B6: 受注前から原価を詳細に算出し実行予算書を作成 | C6: =IF('4-2-1'!D222<>"",'4-2-1'!D222,"") -> 6962.8568 | D6: =IF('4-2-1'!E222<>"",'4-2-1'!E222,"") -> 14.324803 | E6: =IF('4-2-1'!F222<>"",'4-2-1'!F222,"") -> 25294.77 | F6: =IF('4-2-1'!G222<>"",'4-2-1'!G222,"") -> 27.622218 | G6: =IF('4-2-1'!H222<>"",'4-2-1'!H222,"") -> 16334.257 | H6: =IF('4-2-1'!I222<>"",'4-2-1'!I222,"") -> 28.163483 | I6: =IF('4-2-1'!J222<>"",'4-2-1'!J222,"") -> 28750.392 | J6: =IF('4-2-1'!K222<>"",'4-2-1'!K222,"") -> 33.938983 | ... V6: =IF('4-2-1'!W222<>"",'4-2-1'!W222,"") -> 27.826584
B7: 見積書等とは別に実行予算書を作成 | C7: =IF('4-2-1'!D223<>"",'4-2-1'!D223,"") -> 2122.2778 | D7: =IF('4-2-1'!E223<>"",'4-2-1'!E223,"") -> 4.3661979 | E7: =IF('4-2-1'!F223<>"",'4-2-1'!F223,"") -> 3934.6335 | F7: =IF('4-2-1'!G223<>"",'4-2-1'!G223,"") -> 4.296671 | G7: =IF('4-2-1'!H223<>"",'4-2-1'!H223,"") -> 6509.0764 | H7: =IF('4-2-1'!I223<>"",'4-2-1'!I223,"") -> 11.222932 | I7: =IF('4-2-1'!J223<>"",'4-2-1'!J223,"") -> 15367.606 | J7: =IF('4-2-1'!K223<>"",'4-2-1'!K223,"") -> 18.141002 | ... V7: =IF('4-2-1'!W223<>"",'4-2-1'!W223,"") -> 11.139724
B8: 見積書等に多少の修正をして作成 | C8: =IF('4-2-1'!D224<>"",'4-2-1'!D224,"") -> 5504.2932 | D8: =IF('4-2-1'!E224<>"",'4-2-1'!E224,"") -> 11.324075 | E8: =IF('4-2-1'!F224<>"",'4-2-1'!F224,"") -> 16923.261 | F8: =IF('4-2-1'!G224<>"",'4-2-1'!G224,"") -> 18.480421 | G8: =IF('4-2-1'!H224<>"",'4-2-1'!H224,"") -> 10943.465 | H8: =IF('4-2-1'!I224<>"",'4-2-1'!I224,"") -> 18.868694 | I8: =IF('4-2-1'!J224<>"",'4-2-1'!J224,"") -> 18324.155 | J8: =IF('4-2-1'!K224<>"",'4-2-1'!K224,"") -> 21.63112 | ... V8: =IF('4-2-1'!W224<>"",'4-2-1'!W224,"") -> 18.823108
B9: 見積書等をそのまま実行予算書に転用 | C9: =IF('4-2-1'!D225<>"",'4-2-1'!D225,"") -> 11686.764 | D9: =IF('4-2-1'!E225<>"",'4-2-1'!E225,"") -> 24.043376 | E9: =IF('4-2-1'!F225<>"",'4-2-1'!F225,"") -> 12152.959 | F9: =IF('4-2-1'!G225<>"",'4-2-1'!G225,"") -> 13.271189 | G9: =IF('4-2-1'!H225<>"",'4-2-1'!H225,"") -> 6640.503 | H9: =IF('4-2-1'!I225<>"",'4-2-1'!I225,"") -> 11.449538 | I9: =IF('4-2-1'!J225<>"",'4-2-1'!J225,"") -> 8804.5793 | J9: =IF('4-2-1'!K225<>"",'4-2-1'!K225,"") -> 10.393544 | ... V9: =IF('4-2-1'!W225<>"",'4-2-1'!W225,"") -> 13.274148
B10: 作成していない | C10: =IF('4-2-1'!D226<>"",'4-2-1'!D226,"") -> 22330.808 | D10: =IF('4-2-1'!E226<>"",'4-2-1'!E226,"") -> 45.941548 | E10: =IF('4-2-1'!F226<>"",'4-2-1'!F226,"") -> 33268.377 | F10: =IF('4-2-1'!G226<>"",'4-2-1'!G226,"") -> 36.329501 | G10: =IF('4-2-1'!H226<>"",'4-2-1'!H226,"") -> 17570.699 | H10: =IF('4-2-1'!I226<>"",'4-2-1'!I226,"") -> 30.295353 | I10: =IF('4-2-1'!J226<>"",'4-2-1'!J226,"") -> 13465.269 | J10: =IF('4-2-1'!K226<>"",'4-2-1'!K226,"") -> 15.89535 | ... V10: =IF('4-2-1'!W226<>"",'4-2-1'!W226,"") -> 28.936436
C11: =IF('4-2-1'!D227<>"",'4-2-1'!D227,"") -> 48607 | D11: =IF('4-2-1'!E227<>"",'4-2-1'!E227,"") -> 100 | E11: =IF('4-2-1'!F227<>"",'4-2-1'!F227,"") -> 91574 | F11: =IF('4-2-1'!G227<>"",'4-2-1'!G227,"") -> 100 | G11: =IF('4-2-1'!H227<>"",'4-2-1'!H227,"") -> 57998 | H11: =IF('4-2-1'!I227<>"",'4-2-1'!I227,"") -> 100 | I11: =IF('4-2-1'!J227<>"",'4-2-1'!J227,"") -> 84712 | J11: =IF('4-2-1'!K227<>"",'4-2-1'!K227,"") -> 100 | ... V11: =IF('4-2-1'!W227<>"",'4-2-1'!W227,"") -> 100
A12: 増減 | B12: 受注前から原価を詳細に算出し実行予算書を作成 | D12: =IF(AND(ISNUMBER(D6),ISNUMBER(D18)),D6-D18,"") -> -4.181792 | F12: =IF(AND(ISNUMBER(F6),ISNUMBER(F18)),F6-F18,"") -> 6.506554 | H12: =IF(AND(ISNUMBER(H6),ISNUMBER(H18)),H6-H18,"") -> -1.7356189 | J12: =IF(AND(ISNUMBER(J6),ISNUMBER(J18)),J6-J18,"") -> -0.30601842 | L12: =IF(AND(ISNUMBER(L6),ISNUMBER(L18)),L6-L18,"") -> 1.4540109 | N12: =IF(AND(ISNUMBER(N6),ISNUMBER(N18)),N6-N18,"") -> -5.1332669 | P12: =IF(AND(ISNUMBER(P6),ISNUMBER(P18)),P6-P18,"") -> 5.1773873 | R12: =IF(AND(ISNUMBER(R6),ISNUMBER(R18)),R6-R18,"") -> -1.1434892 | T12: =IF(AND(ISNUMBER(T6),ISNUMBER(T18)),T6-T18,"") -> -5.7329214 | V12: =IF(AND(ISNUMBER(V6),ISNUMBER(V18)),V6-V18,"") -> -0.45170342
B13: 見積書等とは別に実行予算書を作成 | D13: =IF(AND(ISNUMBER(D7),ISNUMBER(D19)),D7-D19,"") -> -2.5988639 | F13: =IF(AND(ISNUMBER(F7),ISNUMBER(F19)),F7-F19,"") -> -4.8595 | H13: =IF(AND(ISNUMBER(H7),ISNUMBER(H19)),H7-H19,"") -> 0.2529346 | J13: =IF(AND(ISNUMBER(J7),ISNUMBER(J19)),J7-J19,"") -> 0.4778007 | L13: =IF(AND(ISNUMBER(L7),ISNUMBER(L19)),L7-L19,"") -> -3.7043685 | N13: =IF(AND(ISNUMBER(N7),ISNUMBER(N19)),N7-N19,"") -> -2.3379532 | P13: =IF(AND(ISNUMBER(P7),ISNUMBER(P19)),P7-P19,"") -> -10.790152 | R13: =IF(AND(ISNUMBER(R7),ISNUMBER(R19)),R7-R19,"") -> -3.3099238 | T13: =IF(AND(ISNUMBER(T7),ISNUMBER(T19)),T7-T19,"") -> 1.4101141 | V13: =IF(AND(ISNUMBER(V7),ISNUMBER(V19)),V7-V19,"") -> -3.2066132
B14: 見積書等に多少の修正をして作成 | D14: =IF(AND(ISNUMBER(D8),ISNUMBER(D20)),D8-D20,"") -> -6.0231781 | F14: =IF(AND(ISNUMBER(F8),ISNUMBER(F20)),F8-F20,"") -> -1.6902592 | H14: =IF(AND(ISNUMBER(H8),ISNUMBER(H20)),H8-H20,"") -> -2.0587371 | J14: =IF(AND(ISNUMBER(J8),ISNUMBER(J20)),J8-J20,"") -> -1.5843779 | L14: =IF(AND(ISNUMBER(L8),ISNUMBER(L20)),L8-L20,"") -> 2.8936309 | N14: =IF(AND(ISNUMBER(N8),ISNUMBER(N20)),N8-N20,"") -> 3.2239033 | P14: =IF(AND(ISNUMBER(P8),ISNUMBER(P20)),P8-P20,"") -> 1.5199816 | R14: =IF(AND(ISNUMBER(R8),ISNUMBER(R20)),R8-R20,"") -> 4.3214499 | T14: =IF(AND(ISNUMBER(T8),ISNUMBER(T20)),T8-T20,"") -> 6.4431512 | V14: =IF(AND(ISNUMBER(V8),ISNUMBER(V20)),V8-V20,"") -> -2.4823026
B15: 見積書等をそのまま実行予算書に転用 | D15: =IF(AND(ISNUMBER(D9),ISNUMBER(D21)),D9-D21,"") -> 6.8065705 | F15: =IF(AND(ISNUMBER(F9),ISNUMBER(F21)),F9-F21,"") -> -1.991014 | H15: =IF(AND(ISNUMBER(H9),ISNUMBER(H21)),H9-H21,"") -> -1.0736862 | J15: =IF(AND(ISNUMBER(J9),ISNUMBER(J21)),J9-J21,"") -> -0.32085902 | L15: =IF(AND(ISNUMBER(L9),ISNUMBER(L21)),L9-L21,"") -> -0.1378604 | N15: =IF(AND(ISNUMBER(N9),ISNUMBER(N21)),N9-N21,"") -> 0.25333166 | P15: =IF(AND(ISNUMBER(P9),ISNUMBER(P21)),P9-P21,"") -> 1.480535 | R15: =IF(AND(ISNUMBER(R9),ISNUMBER(R21)),R9-R21,"") -> 0.7393526 | T15: =IF(AND(ISNUMBER(T9),ISNUMBER(T21)),T9-T21,"") | V15: =IF(AND(ISNUMBER(V9),ISNUMBER(V21)),V9-V21,"") -> 0.82466662
B16: 作成していない | D16: =IF(AND(ISNUMBER(D10),ISNUMBER(D22)),D10-D22,"") -> 5.9972635 | F16: =IF(AND(ISNUMBER(F10),ISNUMBER(F22)),F10-F22,"") -> 2.0342192 | H16: =IF(AND(ISNUMBER(H10),ISNUMBER(H22)),H10-H22,"") -> 4.6151075 | J16: =IF(AND(ISNUMBER(J10),ISNUMBER(J22)),J10-J22,"") -> 1.7334546 | L16: =IF(AND(ISNUMBER(L10),ISNUMBER(L22)),L10-L22,"") -> -0.50541285 | N16: =IF(AND(ISNUMBER(N10),ISNUMBER(N22)),N10-N22,"") -> 3.9939851 | P16: =IF(AND(ISNUMBER(P10),ISNUMBER(P22)),P10-P22,"") -> 2.6122485 | R16: =IF(AND(ISNUMBER(R10),ISNUMBER(R22)),R10-R22,"") | T16: =IF(AND(ISNUMBER(T10),ISNUMBER(T22)),T10-T22,"") | V16: =IF(AND(ISNUMBER(V10),ISNUMBER(V22)),V10-V22,"") -> 5.3159527
C17: - | D17: - | E17: - | F17: - | G17: - | H17: - | I17: - | J17: - | K17: - | L17: - | M17: - | N17: - | O17: - | P17: - | Q17: - | R17: - | S17: - | T17: - | U17: - | V17: -
A18: R01年度 | B18: 受注前から原価を詳細に算出し実行予算書を作成 | C18: 3298.3309 | D18: 18.506595 | E18: 8107.261 | F18: 21.115664 | G18: 7899.165 | H18: 29.899101 | I18: 18407.116 | J18: 34.245002 | K18: 3334.3631 | L18: 32.357285 | M18: 1410.6314 | N18: 38.018398 | O18: 211.22754 | P18: 37.428563 | Q18: 47.546525 | R18: 38.505675 | S18: 55.080704 | T18: 34.721361 | U18: 42770.723 | V18: 28.278287
B19: 見積書等とは別に実行予算書を作成 | C19: 1241.3455 | D19: 6.9650618 | E19: 3515.4693 | F19: 9.156171 | G19: 2898.2083 | H19: 10.969998 | I19: 9494.1914 | J19: 17.663201 | K19: 2907.4873 | L19: 28.214802 | M19: 1279.8612 | N19: 34.493967 | O19: 236.02092 | P19: 41.821838 | Q19: 50.908681 | R19: 41.228525 | S19: 75.247282 | T19: 47.433817 | U19: 21698.74 | V19: 14.346337
B20: 見積書等に多少の修正をして作成 | C20: 3091.7077 | D20: 17.347253 | E20: 7744.4389 | F20: 20.17068 | G20: 5528.9029 | H20: 20.927431 | I20: 12478.62 | J20: 23.215498 | K20: 2453.1612 | L20: 23.805937 | M20: 773.15527 | N20: 20.837566 | O20: 106.51671 | P20: 18.87428 | Q20: 22.845489 | R20: 18.501478 | S20: 24.944742 | T20: 15.724479 | U20: 32224.293 | V20: 21.305411
B21: 見積書等をそのまま実行予算書に転用 | C21: 3072.0233 | D21: 17.236806 | E21: 5859.8521 | F21: 15.262203 | G21: 3308.5614 | H21: 12.523224 | I21: 5759.1257 | J21: 10.714403 | K21: 680.68583 | L21: 6.605503 | M21: 141.55076 | N21: 3.8149818 | O21: 3.1666667 | P21: 0.561119 | Q21: 1.4285714 | R21: 1.1569322 | S21: 3.3636364 | T21: 2.1203438 | U21: 18829.758 | V21: 12.449481
B22: 作成していない | C22: 7119.0552 | D22: 39.944284 | E22: 13167.514 | F22: 34.295282 | G22: 6784.5684 | H22: 25.680246 | I22: 7612.1955 | J22: 14.161895 | K22: 929.13214 | L22: 9.0164726 | M22: 105.19285 | N22: 2.8350877 | O22: 7.4166667 | P22: 1.3141998 | Q22: 0.75 | R22: 0.60738942 | U22: 35725.825 | V22: 23.620483
C23: 17822.463 | D23: 100 | E23: 38394.535 | F23: 100 | G23: 26419.406 | H23: 100 | I23: 53751.249 | J23: 100 | K23: 10304.83 | L23: 100 | M23: 3710.3915 | N23: 100 | O23: 564.3485 | P23: 100 | Q23: 123.47927 | R23: 100 | S23: 158.63636 | T23: 100 | U23: 151249.34 | V23: 100
A24: 増減 | B24: 受注前から原価を詳細に算出し実行予算書を作成 | D24: =IF(AND(ISNUMBER(D18),ISNUMBER(D30)),D18-D30,"") -> -2.4799983 | F24: =IF(AND(ISNUMBER(F18),ISNUMBER(F30)),F18-F30,"") -> -2.6993823 | H24: =IF(AND(ISNUMBER(H18),ISNUMBER(H30)),H18-H30,"") -> 2.3109691 | J24: =IF(AND(ISNUMBER(J18),ISNUMBER(J30)),J18-J30,"") -> 2.4572212 | L24: =IF(AND(ISNUMBER(L18),ISNUMBER(L30)),L18-L30,"") -> -2.3479484 | N24: =IF(AND(ISNUMBER(N18),ISNUMBER(N30)),N18-N30,"") -> 2.8913782 | P24: =IF(AND(ISNUMBER(P18),ISNUMBER(P30)),P18-P30,"") -> 7.4098298 | R24: =IF(AND(ISNUMBER(R18),ISNUMBER(R30)),R18-R30,"") -> 11.986343 | T24: =IF(AND(ISNUMBER(T18),ISNUMBER(T30)),T18-T30,"") -> -7.8892834 | V24: =IF(AND(ISNUMBER(V18),ISNUMBER(V30)),V18-V30,"") -> 0.50047305
B25: 見積書等とは別に実行予算書を作成 | D25: =IF(AND(ISNUMBER(D19),ISNUMBER(D31)),D19-D31,"") -> -0.038650955 | F25: =IF(AND(ISNUMBER(F19),ISNUMBER(F31)),F19-F31,"") -> 0.21952256 | H25: =IF(AND(ISNUMBER(H19),ISNUMBER(H31)),H19-H31,"") -> 1.9796976 | J25: =IF(AND(ISNUMBER(J19),ISNUMBER(J31)),J19-J31,"") -> -2.3119417 | L25: =IF(AND(ISNUMBER(L19),ISNUMBER(L31)),L19-L31,"") -> -0.21941696 | N25: =IF(AND(ISNUMBER(N19),ISNUMBER(N31)),N19-N31,"") -> -0.44073705 | P25: =IF(AND(ISNUMBER(P19),ISNUMBER(P31)),P19-P31,"") -> -1.10004 | R25: =IF(AND(ISNUMBER(R19),ISNUMBER(R31)),R19-R31,"") -> -11.823095 | T25: =IF(AND(ISNUMBER(T19),ISNUMBER(T31)),T19-T31,"") -> 7.7035467 | V25: =IF(AND(ISNUMBER(V19),ISNUMBER(V31)),V19-V31,"") -> -0.28007124
B26: 見積書等に多少の修正をして作成 | D26: =IF(AND(ISNUMBER(D20),ISNUMBER(D32)),D20-D32,"") -> -1.9896685 | F26: =IF(AND(ISNUMBER(F20),ISNUMBER(F32)),F20-F32,"") -> 2.2194852 | H26: =IF(AND(ISNUMBER(H20),ISNUMBER(H32)),H20-H32,"") -> -0.65331799 | J26: =IF(AND(ISNUMBER(J20),ISNUMBER(J32)),J20-J32,"") -> -1.6709578 | L26: =IF(AND(ISNUMBER(L20),ISNUMBER(L32)),L20-L32,"") -> -0.66675994 | N26: =IF(AND(ISNUMBER(N20),ISNUMBER(N32)),N20-N32,"") -> -2.0870751 | P26: =IF(AND(ISNUMBER(P20),ISNUMBER(P32)),P20-P32,"") -> -5.069997 | R26: =IF(AND(ISNUMBER(R20),ISNUMBER(R32)),R20-R32,"") -> 2.806112 | T26: =IF(AND(ISNUMBER(T20),ISNUMBER(T32)),T20-T32,"") -> -1.9346071 | V26: =IF(AND(ISNUMBER(V20),ISNUMBER(V32)),V20-V32,"") -> -0.443237
B27: 見積書等をそのまま実行予算書に転用 | D27: =IF(AND(ISNUMBER(D21),ISNUMBER(D33)),D21-D33,"") -> 2.0413878 | F27: =IF(AND(ISNUMBER(F21),ISNUMBER(F33)),F21-F33,"") -> 1.725291 | H27: =IF(AND(ISNUMBER(H21),ISNUMBER(H33)),H21-H33,"") -> -1.0568406 | J27: =IF(AND(ISNUMBER(J21),ISNUMBER(J33)),J21-J33,"") -> 1.1881043 | L27: =IF(AND(ISNUMBER(L21),ISNUMBER(L33)),L21-L33,"") -> 0.62776511 | N27: =IF(AND(ISNUMBER(N21),ISNUMBER(N33)),N21-N33,"") -> -0.39319318 | P27: =IF(AND(ISNUMBER(P21),ISNUMBER(P33)),P21-P33,"") -> -0.81410783 | R27: =IF(AND(ISNUMBER(R21),ISNUMBER(R33)),R21-R33,"") -> 0.5061478 | T27: =IF(AND(ISNUMBER(T21),ISNUMBER(T33)),T21-T33,"") | V27: =IF(AND(ISNUMBER(V21),ISNUMBER(V33)),V21-V33,"") -> 0.84571472
B28: 作成していない | D28: =IF(AND(ISNUMBER(D22),ISNUMBER(D34)),D22-D34,"") -> 2.46693 | F28: =IF(AND(ISNUMBER(F22),ISNUMBER(F34)),F22-F34,"") -> -1.4649165 | H28: =IF(AND(ISNUMBER(H22),ISNUMBER(H34)),H22-H34,"") -> -2.5805081 | J28: =IF(AND(ISNUMBER(J22),ISNUMBER(J34)),J22-J34,"") -> 0.33757412 | L28: =IF(AND(ISNUMBER(L22),ISNUMBER(L34)),L22-L34,"") -> 2.6063602 | N28: =IF(AND(ISNUMBER(N22),ISNUMBER(N34)),N22-N34,"") -> 0.029627117 | P28: =IF(AND(ISNUMBER(P22),ISNUMBER(P34)),P22-P34,"") -> -0.42568498 | R28: =IF(AND(ISNUMBER(R22),ISNUMBER(R34)),R22-R34,"") -> -3.4755081 | T28: =IF(AND(ISNUMBER(T22),ISNUMBER(T34)),T22-T34,"") | V28: =IF(AND(ISNUMBER(V22),ISNUMBER(V34)),V22-V34,"") -> -0.62287954
C29: - | D29: - | E29: - | F29: - | G29: - | H29: - | I29: - | J29: - | K29: - | L29: - | M29: - | N29: - | O29: - | P29: - | Q29: - | R29: - | S29: - | T29: - | U29: - | V29: -
A30: H26年度 | B30: 受注前から原価を詳細に算出し実行予算書を作成 | C30: 5845.9157 | D30: 20.986593 | E30: 10263.911 | F30: 23.815046 | G30: 6909.0302 | H30: 27.588132 | I30: 20348.919 | J30: 31.787781 | K30: 3818.4327 | L30: 34.705233 | M30: 1338.2041 | N30: 35.12702 | O30: 180.96622 | P30: 30.018733 | Q30: 38.033142 | R30: 26.519332 | S30: 75.485512 | T30: 42.610644 | U30: 48818.898 | V30: 27.777814
B31: 見積書等とは別に実行予算書を作成 | C31: 1950.9176 | D31: 7.0037127 | E31: 3851.5552 | F31: 8.9366485 | G31: 2251.4846 | H31: 8.9903003 | I31: 12787.07 | J31: 19.975143 | K31: 3128.4663 | L31: 28.434219 | M31: 1330.8776 | N31: 34.934704 | O31: 258.75209 | P31: 42.921878 | Q31: 76.084866 | R31: 53.051621 | S31: 70.382877 | T31: 39.73027 | U31: 25705.591 | V31: 14.626408
B32: 見積書等に多少の修正をして作成 | C32: 5386.3919 | D32: 19.336922 | E32: 7736.6833 | F32: 17.951195 | G32: 5404.5719 | H32: 21.580749 | I32: 15931.042 | J32: 24.886456 | K32: 2692.601 | L32: 24.472697 | M32: 873.34045 | N32: 22.924641 | O32: 144.3467 | P32: 23.944277 | Q32: 22.50977 | R32: 15.695366 | S32: 31.283384 | T32: 17.659086 | U32: 38222.771 | V32: 21.748648
B33: 見積書等をそのまま実行予算書に転用 | C33: 4232.7563 | D33: 15.195418 | E33: 5834.1968 | F33: 13.536912 | G33: 3400.9217 | H33: 13.580065 | I33: 6098.2518 | J33: 9.5262991 | K33: 657.69878 | L33: 5.9777379 | M33: 160.31525 | N33: 4.208175 | O33: 8.2904762 | P33: 1.3752268 | Q33: 0.93333333 | R33: 0.65078443 | U33: 20393.364 | V33: 11.603766
B34: 作成していない | C34: 10439.496 | D34: 37.477354 | E34: 15412.084 | F34: 35.760198 | G34: 7077.4781 | H34: 28.260754 | I34: 8849.6265 | J34: 13.824321 | K34: 705.27066 | L34: 6.4101124 | M34: 106.87724 | N34: 2.8054606 | O34: 10.488796 | P34: 1.7398847 | Q34: 5.8555556 | R34: 4.0828975 | U34: 42607.177 | V34: 24.243363
C35: 27855.478 | D35: 100 | E35: 43098.431 | F35: 100 | G35: 25043.487 | H35: 100 | I35: 64014.91 | J35: 100 | K35: 11002.469 | L35: 100 | M35: 3809.6146 | N35: 100 | O35: 602.84427 | P35: 100 | Q35: 143.41667 | R35: 100 | S35: 177.15177 | T35: 100 | U35: 175747.8 | V35: 100
A36: 増減 | B36: 受注前から原価を詳細に算出し実行予算書を作成 | D36: =IF(AND(ISNUMBER(D30),ISNUMBER(D42)),D30-D42,"") -> -7.513407 | F36: =IF(AND(ISNUMBER(F30),ISNUMBER(F42)),F30-F42,"") -> -2.8849539 | H36: =IF(AND(ISNUMBER(H30),ISNUMBER(H42)),H30-H42,"") -> 0.58813237 | J36: =IF(AND(ISNUMBER(J30),ISNUMBER(J42)),J30-J42,"") -> 1.3877808 | L36: =IF(AND(ISNUMBER(L30),ISNUMBER(L42)),L30-L42,"") -> 0.70523344 | N36: =IF(AND(ISNUMBER(N30),ISNUMBER(N42)),N30-N42,"") -> -4.7729801 | P36: =IF(AND(ISNUMBER(P30),ISNUMBER(P42)),P30-P42,"") -> 0.81873343 | R36: =IF(AND(ISNUMBER(R30),ISNUMBER(R42)),R30-R42,"") -> -17.280668 | T36: =IF(AND(ISNUMBER(T30),ISNUMBER(T42)),T30-T42,"") -> -4.6893558 | V36: =IF(AND(ISNUMBER(V30),ISNUMBER(V42)),V30-V42,"") -> -1.4221857
B37: 見積書等とは別に実行予算書を作成 | D37: =IF(AND(ISNUMBER(D31),ISNUMBER(D43)),D31-D43,"") -> -1.2962873 | F37: =IF(AND(ISNUMBER(F31),ISNUMBER(F43)),F31-F43,"") -> -1.4633515 | H37: =IF(AND(ISNUMBER(H31),ISNUMBER(H43)),H31-H43,"") -> -2.0096997 | J37: =IF(AND(ISNUMBER(J31),ISNUMBER(J43)),J31-J43,"") -> -2.7248569 | L37: =IF(AND(ISNUMBER(L31),ISNUMBER(L43)),L31-L43,"") -> -3.4657806 | N37: =IF(AND(ISNUMBER(N31),ISNUMBER(N43)),N31-N43,"") -> 1.3347039 | P37: =IF(AND(ISNUMBER(P31),ISNUMBER(P43)),P31-P43,"") -> 0.82187829 | R37: =IF(AND(ISNUMBER(R31),ISNUMBER(R43)),R31-R43,"") -> 10.651621 | T37: =IF(AND(ISNUMBER(T31),ISNUMBER(T43)),T31-T43,"") -> 6.1302698 | V37: =IF(AND(ISNUMBER(V31),ISNUMBER(V43)),V31-V43,"") -> -1.9735917
B38: 見積書等に多少の修正をして作成 | D38: =IF(AND(ISNUMBER(D32),ISNUMBER(D44)),D32-D44,"") -> -0.16307818 | F38: =IF(AND(ISNUMBER(F32),ISNUMBER(F44)),F32-F44,"") -> -5.9488051 | H38: =IF(AND(ISNUMBER(H32),ISNUMBER(H44)),H32-H44,"") -> -2.8192512 | J38: =IF(AND(ISNUMBER(J32),ISNUMBER(J44)),J32-J44,"") -> -2.213544 | L38: =IF(AND(ISNUMBER(L32),ISNUMBER(L44)),L32-L44,"") -> 1.2726968 | N38: =IF(AND(ISNUMBER(N32),ISNUMBER(N44)),N32-N44,"") -> 1.7246407 | P38: =IF(AND(ISNUMBER(P32),ISNUMBER(P44)),P32-P44,"") -> -3.2557233 | R38: =IF(AND(ISNUMBER(R32),ISNUMBER(R44)),R32-R44,"") -> 4.5953656 | T38: =IF(AND(ISNUMBER(T32),ISNUMBER(T44)),T32-T44,"") -> -1.440914 | V38: =IF(AND(ISNUMBER(V32),ISNUMBER(V44)),V32-V44,"") -> -2.5513519
B39: 見積書等をそのまま実行予算書に転用 | D39: =IF(AND(ISNUMBER(D33),ISNUMBER(D45)),D33-D45,"") -> 1.695418 | F39: =IF(AND(ISNUMBER(F33),ISNUMBER(F45)),F33-F45,"") -> 1.2369124 | H39: =IF(AND(ISNUMBER(H33),ISNUMBER(H45)),H33-H45,"") -> -0.21993523 | J39: =IF(AND(ISNUMBER(J33),ISNUMBER(J45)),J33-J45,"") -> 2.8262991 | L39: =IF(AND(ISNUMBER(L33),ISNUMBER(L45)),L33-L45,"") -> 0.2777379 | N39: =IF(AND(ISNUMBER(N33),ISNUMBER(N45)),N33-N45,"") -> 1.608175 | P39: =IF(AND(ISNUMBER(P33),ISNUMBER(P45)),P33-P45,"") -> 0.17522683 | R39: =IF(AND(ISNUMBER(R33),ISNUMBER(R45)),R33-R45,"") -> -0.44921557 | T39: =IF(AND(ISNUMBER(T33),ISNUMBER(T45)),T33-T45,"") | V39: =IF(AND(ISNUMBER(V33),ISNUMBER(V45)),V33-V45,"") -> 1.6037665
B40: 作成していない | D40: =IF(AND(ISNUMBER(D34),ISNUMBER(D46)),D34-D46,"") -> 7.1773544 | F40: =IF(AND(ISNUMBER(F34),ISNUMBER(F46)),F34-F46,"") -> 9.0601981 | H40: =IF(AND(ISNUMBER(H34),ISNUMBER(H46)),H34-H46,"") -> 4.3607538 | J40: =IF(AND(ISNUMBER(J34),ISNUMBER(J46)),J34-J46,"") -> 0.72432093 | L40: =IF(AND(ISNUMBER(L34),ISNUMBER(L46)),L34-L46,"") -> 1.1101124 | N40: =IF(AND(ISNUMBER(N34),ISNUMBER(N46)),N34-N46,"") -> 0.10546059 | P40: =IF(AND(ISNUMBER(P34),ISNUMBER(P46)),P34-P46,"") -> 1.3398847 | R40: =IF(AND(ISNUMBER(R34),ISNUMBER(R46)),R34-R46,"") -> 2.4828975 | T40: =IF(AND(ISNUMBER(T34),ISNUMBER(T46)),T34-T46,"") | V40: =IF(AND(ISNUMBER(V34),ISNUMBER(V46)),V34-V46,"") -> 4.2433628
C41: - | D41: - | E41: - | F41: - | G41: - | H41: - | I41: - | J41: - | K41: - | L41: - | M41: - | N41: - | O41: - | P41: - | Q41: - | R41: - | S41: - | T41: - | U41: - | V41: -
A42: H23年度 | B42: 受注前から原価を詳細に算出し実行予算書を作成 | C42: 8574.85 | D42: 28.5 | E42: 11397.21 | F42: 26.7 | G42: 6371.42 | H42: 27 | I42: 19456.06 | J42: 30.4 | K42: 3753.05 | L42: 34 | M42: 1493 | N42: 39.9 | O42: 176.46 | P42: 29.2 | Q42: 68.83 | R42: 43.8 | S42: 89.26 | T42: 47.3 | U42: 51380.14 | V42: 29.2
B43: 見積書等とは別に実行予算書を作成 | C43: 2486.22 | D43: 8.3 | E43: 4444.42 | F43: 10.4 | G43: 2585.8 | H43: 11 | I43: 14551.65 | J43: 22.7 | K43: 3524.66 | L43: 31.9 | M43: 1259.09 | N43: 33.6 | O43: 254.63 | P43: 42.1 | Q43: 66.61 | R43: 42.4 | S43: 63.46 | T43: 33.6 | U43: 29236.53 | V43: 16.6
B44: 見積書等に多少の修正をして作成 | C44: 5853.05 | D44: 19.5 | E44: 10228.75 | F44: 23.9 | G44: 5751.94 | H44: 24.4 | I44: 17325.06 | J44: 27.1 | K44: 2561.26 | L44: 23.2 | M44: 793.05 | N44: 21.2 | O44: 164.22 | P44: 27.2 | Q44: 17.51 | R44: 11.1 | S44: 36.03 | T44: 19.1 | U44: 42730.87 | V44: 24.3
B45: 見積書等をそのまま実行予算書に転用 | C45: 4051.33 | D45: 13.5 | E45: 5234.33 | F45: 12.3 | G45: 3251.16 | H45: 13.8 | I45: 4262.32 | J45: 6.7 | K45: 625.19 | L45: 5.7 | M45: 96.03 | N45: 2.6 | O45: 6.97 | P45: 1.2 | Q45: 1.75 | R45: 1.1 | U45: 17529.09 | V45: 10
B46: 作成していない | C46: 9111.4 | D46: 30.3 | E46: 11420.06 | F46: 26.7 | G46: 5636.15 | H46: 23.9 | I46: 8387.62 | J46: 13.1 | K46: 588.96 | L46: 5.3 | M46: 101.95 | N46: 2.7 | O46: 2.41 | P46: 0.4 | Q46: 2.56 | R46: 1.6 | U46: 35251.1 | V46: 20
C47: 30076.85 | D47: 100 | E47: 42724.76 | F47: 100 | G47: 23596.47 | H47: 100 | I47: 63982.71 | J47: 100 | K47: 11053.12 | L47: 100 | M47: 3743.12 | N47: 100 | O47: 604.69 | P47: 100 | Q47: 157.25 | R47: 100 | S47: 188.75 | T47: 100 | U47: 176127.73 | V47: 100
A48: 増減 | B48: 受注前から原価を詳細に算出し実行予算書を作成 | D48: =IF(AND(ISNUMBER(D42),ISNUMBER(D54)),D42-D54,"") -> 2.9 | F48: =IF(AND(ISNUMBER(F42),ISNUMBER(F54)),F42-F54,"") -> 0.2 | H48: =IF(AND(ISNUMBER(H42),ISNUMBER(H54)),H42-H54,"") -> -0.9 | J48: =IF(AND(ISNUMBER(J42),ISNUMBER(J54)),J42-J54,"") -> -2.2 | L48: =IF(AND(ISNUMBER(L42),ISNUMBER(L54)),L42-L54,"") -> 3.3 | N48: =IF(AND(ISNUMBER(N42),ISNUMBER(N54)),N42-N54,"") -> 5 | P48: =IF(AND(ISNUMBER(P42),ISNUMBER(P54)),P42-P54,"") -> -5.7 | R48: =IF(AND(ISNUMBER(R42),ISNUMBER(R54)),R42-R54,"") -> 11.7 | T48: =IF(AND(ISNUMBER(T42),ISNUMBER(T54)),T42-T54,"") -> -3.3 | V48: =IF(AND(ISNUMBER(V42),ISNUMBER(V54)),V42-V54,"") -> -0.2
B49: 見積書等とは別に実行予算書を作成 | D49: =IF(AND(ISNUMBER(D43),ISNUMBER(D55)),D43-D55,"") -> 1.2 | F49: =IF(AND(ISNUMBER(F43),ISNUMBER(F55)),F43-F55,"") -> -0.3 | H49: =IF(AND(ISNUMBER(H43),ISNUMBER(H55)),H43-H55,"") -> 1.8 | J49: =IF(AND(ISNUMBER(J43),ISNUMBER(J55)),J43-J55,"") -> 1 | L49: =IF(AND(ISNUMBER(L43),ISNUMBER(L55)),L43-L55,"") -> 0 | N49: =IF(AND(ISNUMBER(N43),ISNUMBER(N55)),N43-N55,"") -> -2 | P49: =IF(AND(ISNUMBER(P43),ISNUMBER(P55)),P43-P55,"") -> 5.4 | R49: =IF(AND(ISNUMBER(R43),ISNUMBER(R55)),R43-R55,"") -> -4.5 | T49: =IF(AND(ISNUMBER(T43),ISNUMBER(T55)),T43-T55,"") -> 2.9 | V49: =IF(AND(ISNUMBER(V43),ISNUMBER(V55)),V43-V55,"") -> 0.4
B50: 見積書等に多少の修正をして作成 | D50: =IF(AND(ISNUMBER(D44),ISNUMBER(D56)),D44-D56,"") -> 1.7 | F50: =IF(AND(ISNUMBER(F44),ISNUMBER(F56)),F44-F56,"") -> 0.6 | H50: =IF(AND(ISNUMBER(H44),ISNUMBER(H56)),H44-H56,"") -> -0.1 | J50: =IF(AND(ISNUMBER(J44),ISNUMBER(J56)),J44-J56,"") -> 0.5 | L50: =IF(AND(ISNUMBER(L44),ISNUMBER(L56)),L44-L56,"") -> -2.7 | N50: =IF(AND(ISNUMBER(N44),ISNUMBER(N56)),N44-N56,"") -> -1.5 | P50: =IF(AND(ISNUMBER(P44),ISNUMBER(P56)),P44-P56,"") -> 1.1 | R50: =IF(AND(ISNUMBER(R44),ISNUMBER(R56)),R44-R56,"") -> -7.7 | T50: =IF(AND(ISNUMBER(T44),ISNUMBER(T56)),T44-T56,"") -> 0.4 | V50: =IF(AND(ISNUMBER(V44),ISNUMBER(V56)),V44-V56,"") -> 0.5
B51: 見積書等をそのまま実行予算書に転用 | D51: =IF(AND(ISNUMBER(D45),ISNUMBER(D57)),D45-D57,"") -> -4.5 | F51: =IF(AND(ISNUMBER(F45),ISNUMBER(F57)),F45-F57,"") -> 1.4 | H51: =IF(AND(ISNUMBER(H45),ISNUMBER(H57)),H45-H57,"") -> 2.1 | J51: =IF(AND(ISNUMBER(J45),ISNUMBER(J57)),J45-J57,"") -> -0.6 | L51: =IF(AND(ISNUMBER(L45),ISNUMBER(L57)),L45-L57,"") -> 0.9 | N51: =IF(AND(ISNUMBER(N45),ISNUMBER(N57)),N45-N57,"") -> -0.1 | P51: =IF(AND(ISNUMBER(P45),ISNUMBER(P57)),P45-P57,"") -> -0.6 | R51: =IF(AND(ISNUMBER(R45),ISNUMBER(R57)),R45-R57,"") | T51: =IF(AND(ISNUMBER(T45),ISNUMBER(T57)),T45-T57,"") | V51: =IF(AND(ISNUMBER(V45),ISNUMBER(V57)),V45-V57,"") -> -0.3
B52: 作成していない | D52: =IF(AND(ISNUMBER(D46),ISNUMBER(D58)),D46-D58,"") -> -1.2 | F52: =IF(AND(ISNUMBER(F46),ISNUMBER(F58)),F46-F58,"") -> -2 | H52: =IF(AND(ISNUMBER(H46),ISNUMBER(H58)),H46-H58,"") -> -2.8 | J52: =IF(AND(ISNUMBER(J46),ISNUMBER(J58)),J46-J58,"") -> 1.3 | L52: =IF(AND(ISNUMBER(L46),ISNUMBER(L58)),L46-L58,"") -> -1.5 | N52: =IF(AND(ISNUMBER(N46),ISNUMBER(N58)),N46-N58,"") -> -1.3 | P52: =IF(AND(ISNUMBER(P46),ISNUMBER(P58)),P46-P58,"") -> 0 | R52: =IF(AND(ISNUMBER(R46),ISNUMBER(R58)),R46-R58,"") -> -0.6 | T52: =IF(AND(ISNUMBER(T46),ISNUMBER(T58)),T46-T58,"") | V52: =IF(AND(ISNUMBER(V46),ISNUMBER(V58)),V46-V58,"") -> -0.3
C53: - | D53: - | E53: - | F53: - | G53: - | H53: - | I53: - | J53: - | K53: - | L53: - | M53: - | N53: - | O53: - | P53: - | Q53: - | R53: - | S53: - | T53: - | U53: - | V53: -
A54: H20年度 | B54: 受注前から原価を詳細に算出し実行予算書を作成 | C54: 8723.31 | D54: 25.6 | E54: 10974.6 | F54: 26.5 | G54: 6274.91 | H54: 27.9 | I54: 23376.21 | J54: 32.6 | K54: 3830.3 | L54: 30.7 | M54: 1395.43 | N54: 34.9 | O54: 242.24 | P54: 34.9 | Q54: 57.93 | R54: 32.1 | S54: 105.06 | T54: 50.6 | U54: 54980 | V54: 29.4
B55: 見積書等とは別に実行予算書を作成 | C55: 2403.17 | D55: 7.1 | E55: 4417.08 | F55: 10.7 | G55: 2068.56 | H55: 9.2 | I55: 15575.26 | J55: 21.7 | K55: 3990.49 | L55: 31.9 | M55: 1423.31 | N55: 35.6 | O55: 254.58 | P55: 36.7 | Q55: 84.83 | R55: 46.9 | S55: 63.7 | T55: 30.7 | U55: 30281 | V55: 16.2
B56: 見積書等に多少の修正をして作成 | C56: 6056.4 | D56: 17.8 | E56: 9637.12 | F56: 23.3 | G56: 5508.83 | H56: 24.5 | I56: 19029.92 | J56: 26.6 | K56: 3230.5 | L56: 25.9 | M56: 908.64 | N56: 22.7 | O56: 180.76 | P56: 26.1 | Q56: 34.02 | R56: 18.8 | S56: 38.88 | T56: 18.7 | U56: 44625.07 | V56: 23.8
B57: 見積書等をそのまま実行予算書に転用 | C57: 6140.88 | D57: 18 | E57: 4514.59 | F57: 10.9 | G57: 2632.65 | H57: 11.7 | I57: 5241.49 | J57: 7.3 | K57: 595.07 | L57: 4.8 | M57: 108.7 | N57: 2.7 | O57: 12.71 | P57: 1.8 | U57: 19246.09 | V57: 10.3
B58: 作成していない | C58: 10750.3 | D58: 31.5 | E58: 11897.91 | F58: 28.7 | G58: 5992.43 | H58: 26.7 | I58: 8434.31 | J58: 11.8 | K58: 850.37 | L58: 6.8 | M58: 161.41 | N58: 4 | O58: 3.05 | P58: 0.4 | Q58: 3.96 | R58: 2.2 | U58: 38093.73 | V58: 20.3
C59: 34074.06 | D59: 100 | E59: 41441.31 | F59: 100 | G59: 22477.39 | H59: 100 | I59: 71657.18 | J59: 100 | K59: 12496.74 | L59: 100 | M59: 3997.49 | N59: 100 | O59: 693.34 | P59: 100 | Q59: 180.74 | R59: 100 | S59: 207.65 | T59: 100 | U59: 187225.9 | V59: 100
A60: 増減 | B60: 受注前から原価を詳細に算出し実行予算書を作成 | D60: =IF(AND(ISNUMBER(D54),ISNUMBER(D66)),D54-D66,"") -> 1.2 | F60: =IF(AND(ISNUMBER(F54),ISNUMBER(F66)),F54-F66,"") -> 5.9 | H60: =IF(AND(ISNUMBER(H54),ISNUMBER(H66)),H54-H66,"") -> 2.2 | J60: =IF(AND(ISNUMBER(J54),ISNUMBER(J66)),J54-J66,"") -> -0.4 | L60: =IF(AND(ISNUMBER(L54),ISNUMBER(L66)),L54-L66,"") -> -3.4 | N60: =IF(AND(ISNUMBER(N54),ISNUMBER(N66)),N54-N66,"") -> -2.2 | P60: =IF(AND(ISNUMBER(P54),ISNUMBER(P66)),P54-P66,"") -> -4.8 | R60: =IF(AND(ISNUMBER(R54),ISNUMBER(R66)),R54-R66,"") -> 8.9 | T60: =IF(AND(ISNUMBER(T54),ISNUMBER(T66)),T54-T66,"") -> 9.2 | V60: =IF(AND(ISNUMBER(V54),ISNUMBER(V66)),V54-V66,"") -> 1.6
B61: 見積書等とは別に実行予算書を作成 | D61: =IF(AND(ISNUMBER(D55),ISNUMBER(D67)),D55-D67,"") -> 0.2 | F61: =IF(AND(ISNUMBER(F55),ISNUMBER(F67)),F55-F67,"") -> -1.3 | H61: =IF(AND(ISNUMBER(H55),ISNUMBER(H67)),H55-H67,"") -> 0.1 | J61: =IF(AND(ISNUMBER(J55),ISNUMBER(J67)),J55-J67,"") -> 0.1 | L61: =IF(AND(ISNUMBER(L55),ISNUMBER(L67)),L55-L67,"") -> 3.3 | N61: =IF(AND(ISNUMBER(N55),ISNUMBER(N67)),N55-N67,"") -> 1.8 | P61: =IF(AND(ISNUMBER(P55),ISNUMBER(P67)),P55-P67,"") -> -6.2 | R61: =IF(AND(ISNUMBER(R55),ISNUMBER(R67)),R55-R67,"") -> -8.4 | T61: =IF(AND(ISNUMBER(T55),ISNUMBER(T67)),T55-T67,"") -> -9.1 | V61: =IF(AND(ISNUMBER(V55),ISNUMBER(V67)),V55-V67,"") -> 0.4
B62: 見積書等に多少の修正をして作成 | D62: =IF(AND(ISNUMBER(D56),ISNUMBER(D68)),D56-D68,"") -> 2.4 | F62: =IF(AND(ISNUMBER(F56),ISNUMBER(F68)),F56-F68,"") -> 1.1 | H62: =IF(AND(ISNUMBER(H56),ISNUMBER(H68)),H56-H68,"") -> 0 | J62: =IF(AND(ISNUMBER(J56),ISNUMBER(J68)),J56-J68,"") -> -0.2 | L62: =IF(AND(ISNUMBER(L56),ISNUMBER(L68)),L56-L68,"") -> -0.1 | N62: =IF(AND(ISNUMBER(N56),ISNUMBER(N68)),N56-N68,"") -> 0.2 | P62: =IF(AND(ISNUMBER(P56),ISNUMBER(P68)),P56-P68,"") -> 12.1 | R62: =IF(AND(ISNUMBER(R56),ISNUMBER(R68)),R56-R68,"") -> -1.2 | T62: =IF(AND(ISNUMBER(T56),ISNUMBER(T68)),T56-T68,"") -> 1.6 | V62: =IF(AND(ISNUMBER(V56),ISNUMBER(V68)),V56-V68,"") -> 0.8
B63: 見積書等をそのまま実行予算書に転用 | D63: =IF(AND(ISNUMBER(D57),ISNUMBER(D69)),D57-D69,"") -> 0.4 | F63: =IF(AND(ISNUMBER(F57),ISNUMBER(F69)),F57-F69,"") -> -1.4 | H63: =IF(AND(ISNUMBER(H57),ISNUMBER(H69)),H57-H69,"") -> -0.9 | J63: =IF(AND(ISNUMBER(J57),ISNUMBER(J69)),J57-J69,"") -> 0.2 | L63: =IF(AND(ISNUMBER(L57),ISNUMBER(L69)),L57-L69,"") -> 0 | N63: =IF(AND(ISNUMBER(N57),ISNUMBER(N69)),N57-N69,"") -> -0.2 | P63: =IF(AND(ISNUMBER(P57),ISNUMBER(P69)),P57-P69,"") -> 0.5 | R63: =IF(AND(ISNUMBER(R57),ISNUMBER(R69)),R57-R69,"") | T63: =IF(AND(ISNUMBER(T57),ISNUMBER(T69)),T57-T69,"") | V63: =IF(AND(ISNUMBER(V57),ISNUMBER(V69)),V57-V69,"") -> -0.5
B64: 作成していない | D64: =IF(AND(ISNUMBER(D58),ISNUMBER(D70)),D58-D70,"") -> -4.2 | F64: =IF(AND(ISNUMBER(F58),ISNUMBER(F70)),F58-F70,"") -> -4.2 | H64: =IF(AND(ISNUMBER(H58),ISNUMBER(H70)),H58-H70,"") -> -1.5 | J64: =IF(AND(ISNUMBER(J58),ISNUMBER(J70)),J58-J70,"") -> 0.3 | L64: =IF(AND(ISNUMBER(L58),ISNUMBER(L70)),L58-L70,"") -> 0.4 | N64: =IF(AND(ISNUMBER(N58),ISNUMBER(N70)),N58-N70,"") -> 0.2 | P64: =IF(AND(ISNUMBER(P58),ISNUMBER(P70)),P58-P70,"") -> -1.7 | R64: =IF(AND(ISNUMBER(R58),ISNUMBER(R70)),R58-R70,"") -> 0.7 | T64: =IF(AND(ISNUMBER(T58),ISNUMBER(T70)),T58-T70,"") | V64: =IF(AND(ISNUMBER(V58),ISNUMBER(V70)),V58-V70,"") -> -2.4
C65: - | D65: - | E65: - | F65: - | G65: - | H65: - | I65: - | J65: - | K65: - | L65: - | M65: - | N65: - | O65: - | P65: - | Q65: - | R65: - | S65: - | T65: - | U65: - | V65: -
A66: H17年度 | B66: 受注前から原価を詳細に算出し実行予算書を作成 | C66: 10758 | D66: 24.4 | E66: 10217 | F66: 20.6 | G66: 7217 | H66: 25.7 | I66: 26671 | J66: 33 | K66: 4816 | L66: 34.1 | M66: 1604 | N66: 37.1 | O66: 325 | P66: 39.7 | Q66: 49 | R66: 23.2 | S66: 103 | T66: 41.4 | U66: 61760 | V66: 27.8
B67: 見積書等とは別に実行予算書を作成 | C67: 3067 | D67: 6.9 | E67: 5965 | F67: 12 | G67: 2544 | H67: 9.1 | I67: 17472 | J67: 21.6 | K67: 4051 | L67: 28.6 | M67: 1458 | N67: 33.8 | O67: 352 | P67: 42.9 | Q67: 117 | R67: 55.3 | S67: 99 | T67: 39.8 | U67: 35124 | V67: 15.8
B68: 見積書等に多少の修正をして作成 | C68: 6787 | D68: 15.4 | E68: 11018 | F68: 22.2 | G68: 6870 | H68: 24.5 | I68: 21658 | J68: 26.8 | K68: 3680 | L68: 26 | M68: 971 | N68: 22.5 | O68: 115 | P68: 14 | Q68: 42 | R68: 20 | S68: 42 | T68: 17.1 | U68: 51184 | V68: 23
B69: 見積書等をそのまま実行予算書に転用 | C69: 7764 | D69: 17.6 | E69: 6100 | F69: 12.3 | G69: 3548 | H69: 12.6 | I69: 5773 | J69: 7.1 | K69: 684 | L69: 4.8 | M69: 123 | N69: 2.9 | O69: 10 | P69: 1.3 | S69: 4 | T69: 1.7 | U69: 24007 | V69: 10.8
B70: 作成していない | C70: 15759 | D70: 35.7 | E70: 16325 | F70: 32.9 | G70: 7907 | H70: 28.2 | I70: 9312 | J70: 11.5 | K70: 909 | L70: 6.4 | M70: 162 | N70: 3.8 | O70: 17 | P70: 2.1 | Q70: 3 | R70: 1.5 | U70: 50395 | V70: 22.7
C71: 44135 | D71: 100 | E71: 49625 | F71: 100 | G71: 28086 | H71: 100 | I71: 80886 | J71: 100 | K71: 14140 | L71: 100 | M71: 4319 | N71: 100 | O71: 819 | P71: 100 | Q71: 212 | R71: 100 | S71: 248 | T71: 100 | U71: 222470 | V71: 100
S72: =SUBSTITUTE('4-2-1'!Q229,"2．","")

Sheet 4-2-3
A1: 表4－2－3 実行予算書の作成状況（経年変化②：6業種別）
S3: （単位：社、％）
B4: 年度 | C4: R06年度 | F4: R01年度 | I4: H26年度 | L4: H23年度 | O4: H20年度 | R4: H17年度
A5: 業 種
B6: 作成状況 | E6: 増減 | H6: 増減 | K6: 増減 | N6: 増減 | Q6: 増減
A7: 一般土木建築 | B7: 受注前から原価を詳細に算出し実行予算書を作成 | C7: =IF('4-2-1'!V6<>"",'4-2-1'!V6,"") -> 2033.2179 | D7: =IF('4-2-1'!W6<>"",'4-2-1'!W6,"") -> 27.420336 | E7: =IF(AND(ISNUMBER(D7),ISNUMBER(G7)),D7-G7,"") -> -3.4918332 | F7: 1107.5017 | G7: 30.912169 | H7: =IF(AND(ISNUMBER(G7),ISNUMBER(J7)),G7-J7,"") -> 3.6098374 | I7: 1147.3159 | J7: 27.302332 | K7: =IF(AND(ISNUMBER(J7),ISNUMBER(M7)),J7-M7,"") -> -5.4976682 | L7: 1448.06 | M7: 32.8 | N7: =M7-P7 -> 4.2 | O7: 1436 | P7: 28.6 | Q7: =P7-S7 -> -3 | R7: 1859 | S7: 31.6
B8: 見積書等とは別に実行予算書を作成 | C8: =IF('4-2-1'!V7<>"",'4-2-1'!V7,"") -> 1991.7004 | D8: =IF('4-2-1'!W7<>"",'4-2-1'!W7,"") -> 26.860424 | E8: =IF(AND(ISNUMBER(D8),ISNUMBER(G8)),D8-G8,"") -> -2.5872927 | F8: 1055.0342 | G8: 29.447716 | H8: =IF(AND(ISNUMBER(G8),ISNUMBER(J8)),G8-J8,"") -> -1.9766631 | I8: 1320.5353 | J8: 31.424379 | K8: =IF(AND(ISNUMBER(J8),ISNUMBER(M8)),J8-M8,"") -> -0.075620533 | L8: 1392.6 | M8: 31.5 | N8: =M8-P8 -> -1.2 | O8: 1642.55 | P8: 32.7 | Q8: =P8-S8 -> 4.4 | R8: 1668 | S8: 28.3
B9: 見積書等に多少の修正をして作成 | C9: =IF('4-2-1'!V8<>"",'4-2-1'!V8,"") -> 2122.3388 | D9: =IF('4-2-1'!W8<>"",'4-2-1'!W8,"") -> 28.622236 | E9: =IF(AND(ISNUMBER(D9),ISNUMBER(G9)),D9-G9,"") -> 2.5917896 | F9: 932.60239 | G9: 26.030446 | H9: =IF(AND(ISNUMBER(G9),ISNUMBER(J9)),G9-J9,"") -> -2.6322187 | I9: 1204.4807 | J9: 28.662665 | K9: =IF(AND(ISNUMBER(J9),ISNUMBER(M9)),J9-M9,"") -> 5.8626651 | L9: 1009.01 | M9: 22.8 | N9: =M9-P9 -> -2.8 | O9: 1285.8 | P9: 25.6 | Q9: =P9-S9 -> 0 | R9: 1505 | S9: 25.6
B10: 見積書等をそのまま実行予算書に転用 | C10: =IF('4-2-1'!V9<>"",'4-2-1'!V9,"") -> 555.87043 | D10: =IF('4-2-1'!W9<>"",'4-2-1'!W9,"") -> 7.4965668 | E10: =IF(AND(ISNUMBER(D10),ISNUMBER(G10)),D10-G10,"") -> 1.8684184 | F10: 201.64175 | G10: 5.6281484 | H10: =IF(AND(ISNUMBER(G10),ISNUMBER(J10)),G10-J10,"") -> 1.6872331 | I10: 165.60765 | J10: 3.9409153 | K10: =IF(AND(ISNUMBER(J10),ISNUMBER(M10)),J10-M10,"") -> -3.2590847 | L10: 317.37 | M10: 7.2 | N10: =M10-P10 -> 3.3 | O10: 194.02 | P10: 3.9 | Q10: =P10-S10 -> -2 | R10: 345 | S10: 5.9
B11: 作成していない | C11: =IF('4-2-1'!V10<>"",'4-2-1'!V10,"") -> 711.87244 | D11: =IF('4-2-1'!W10<>"",'4-2-1'!W10,"") -> 9.6004375 | E11: =IF(AND(ISNUMBER(D11),ISNUMBER(G11)),D11-G11,"") -> 1.6189179 | F11: 285.95684 | G11: 7.9815196 | H11: =IF(AND(ISNUMBER(G11),ISNUMBER(J11)),G11-J11,"") -> -0.68818867 | I11: 364.32399 | J11: 8.6697083 | K11: =IF(AND(ISNUMBER(J11),ISNUMBER(M11)),J11-M11,"") -> 2.9697083 | L11: 253.96 | M11: 5.7 | N11: =M11-P11 -> -3.5 | O11: 460.9 | P11: 9.2 | Q11: =P11-S11 -> 0.5 | R11: 514 | S11: 8.7
B12: 小 計 | C12: =IF('4-2-1'!V11<>"",'4-2-1'!V11,"") -> 7415 | D12: =IF('4-2-1'!W11<>"",'4-2-1'!W11,"") -> 100 | E12: - | F12: 3582.7368 | G12: 100 | H12: - | I12: 4202.2636 | J12: 100 | K12: - | L12: 4421 | M12: 100 | N12: - | O12: 5019.28 | P12: 100 | Q12: - | R12: 5891 | S12: 100
A13: 土木 | B13: 受注前から原価を詳細に算出し実行予算書を作成 | C13: =IF('4-2-1'!V42<>"",'4-2-1'!V42,"") -> 8905.1523 | D13: =IF('4-2-1'!W42<>"",'4-2-1'!W42,"") -> 22.947875 | E13: =IF(AND(ISNUMBER(D13),ISNUMBER(G13)),D13-G13,"") -> -3.1284879 | F13: 8212.6793 | G13: 26.076363 | H13: =IF(AND(ISNUMBER(G13),ISNUMBER(J13)),G13-J13,"") -> 1.5423794 | I13: 9210.3188 | J13: 24.533983 | K13: =IF(AND(ISNUMBER(J13),ISNUMBER(M13)),J13-M13,"") -> -3.5660168 | L13: 11150.49 | M13: 28.1 | N13: =M13-P13 -> 1.2 | O13: 12497.18 | P13: 26.9 | Q13: =P13-S13 -> 1.8 | R13: 14296 | S13: 25.1
B14: 見積書等とは別に実行予算書を作成 | C14: =IF('4-2-1'!V43<>"",'4-2-1'!V43,"") -> 5808.5977 | D14: =IF('4-2-1'!W43<>"",'4-2-1'!W43,"") -> 14.968298 | E14: =IF(AND(ISNUMBER(D14),ISNUMBER(G14)),D14-G14,"") -> -1.1411626 | F14: 5073.6307 | G14: 16.109461 | H14: =IF(AND(ISNUMBER(G14),ISNUMBER(J14)),G14-J14,"") -> -4.3211909 | I14: 7669.8843 | J14: 20.430651 | K14: =IF(AND(ISNUMBER(J14),ISNUMBER(M14)),J14-M14,"") -> -1.0693486 | L14: 8514.18 | M14: 21.5 | N14: =M14-P14 -> 1.2 | O14: 9425.91 | P14: 20.3 | Q14: =P14-S14 -> 0.5 | R14: 11285 | S14: 19.8
B15: 見積書等に多少の修正をして作成 | C15: =IF('4-2-1'!V44<>"",'4-2-1'!V44,"") -> 8096.2989 | D15: =IF('4-2-1'!W44<>"",'4-2-1'!W44,"") -> 20.863524 | E15: =IF(AND(ISNUMBER(D15),ISNUMBER(G15)),D15-G15,"") -> -2.7774575 | F15: 7445.6625 | G15: 23.640981 | H15: =IF(AND(ISNUMBER(G15),ISNUMBER(J15)),G15-J15,"") -> 2.4602465 | I15: 7951.4735 | J15: 21.180735 | K15: =IF(AND(ISNUMBER(J15),ISNUMBER(M15)),J15-M15,"") -> -2.7192655 | L15: 9487.59 | M15: 23.9 | N15: =M15-P15 -> -0.7 | O15: 11410.7 | P15: 24.6 | Q15: =P15-S15 -> 0 | R15: 14000 | S15: 24.6
B16: 見積書等をそのまま実行予算書に転用 | C16: =IF('4-2-1'!V45<>"",'4-2-1'!V45,"") -> 5239.831 | D16: =IF('4-2-1'!W45<>"",'4-2-1'!W45,"") -> 13.502631 | E16: =IF(AND(ISNUMBER(D16),ISNUMBER(G16)),D16-G16,"") -> 1.3704552 | F16: 3820.9957 | G16: 12.132176 | H16: =IF(AND(ISNUMBER(G16),ISNUMBER(J16)),G16-J16,"") -> -1.0577634 | I16: 4951.6438 | J16: 13.189939 | K16: =IF(AND(ISNUMBER(J16),ISNUMBER(M16)),J16-M16,"") -> 4.8899393 | L16: 3273.07 | M16: 8.3 | N16: =M16-P16 -> -0.7 | O16: 4154.57 | P16: 9 | Q16: =P16-S16 -> -0.2 | R16: 5251 | S16: 9.2
B17: 作成していない | C17: =IF('4-2-1'!V46<>"",'4-2-1'!V46,"") -> 10756.12 | D17: =IF('4-2-1'!W46<>"",'4-2-1'!W46,"") -> 27.717673 | E17: =IF(AND(ISNUMBER(D17),ISNUMBER(G17)),D17-G17,"") -> 5.6766527 | F17: 6941.7592 | G17: 22.04102 | H17: =IF(AND(ISNUMBER(G17),ISNUMBER(J17)),G17-J17,"") -> 1.3763284 | I17: 7757.7454 | J17: 20.664692 | K17: =IF(AND(ISNUMBER(J17),ISNUMBER(M17)),J17-M17,"") -> 2.4646915 | L17: 7196.85 | M17: 18.2 | N17: =M17-P17 -> -1 | O17: 8887.44 | P17: 19.2 | Q17: =P17-S17 -> -2 | R17: 12033 | S17: 21.2
B18: 小 計 | C18: =IF('4-2-1'!V47<>"",'4-2-1'!V47,"") -> 38806 | D18: =IF('4-2-1'!W47<>"",'4-2-1'!W47,"") -> 100 | E18: - | F18: 31494.727 | G18: 100 | H18: - | I18: 37541.066 | J18: 100 | K18: - | L18: 39622.17 | M18: 100 | N18: - | O18: 46375.8 | P18: 100 | Q18: - | R18: 56866 | S18: 100
A19: 建築 | B19: 受注前から原価を詳細に算出し実行予算書を作成 | C19: =IF('4-2-1'!V48<>"",'4-2-1'!V48,"") -> 26297.429 | D19: =IF('4-2-1'!W48<>"",'4-2-1'!W48,"") -> 35.91809 | E19: =IF(AND(ISNUMBER(D19),ISNUMBER(G19)),D19-G19,"") -> -5.2811524 | F19: 11657.857 | G19: 41.199242 | H19: =IF(AND(ISNUMBER(G19),ISNUMBER(J19)),G19-J19,"") -> 1.8516024 | I19: 12675.577 | J19: 39.34764 | K19: =IF(AND(ISNUMBER(J19),ISNUMBER(M19)),J19-M19,"") -> 1.5476397 | L19: 13519.5 | M19: 37.8 | N19: =M19-P19 -> -0.5 | O19: 13650.42 | P19: 38.3 | Q19: =P19-S19 -> 1.9 | R19: 17118 | S19: 36.4
B20: 見積書等とは別に実行予算書を作成 | C20: =IF('4-2-1'!V49<>"",'4-2-1'!V49,"") -> 10999.794 | D20: =IF('4-2-1'!W49<>"",'4-2-1'!W49,"") -> 15.023963 | E20: =IF(AND(ISNUMBER(D20),ISNUMBER(G20)),D20-G20,"") -> -3.43641 | F20: 5223.6007 | G20: 18.460373 | H20: =IF(AND(ISNUMBER(G20),ISNUMBER(J20)),G20-J20,"") -> 3.9490713 | I20: 4674.7181 | J20: 14.511302 | K20: =IF(AND(ISNUMBER(J20),ISNUMBER(M20)),J20-M20,"") -> -6.4886983 | L20: 7508.19 | M20: 21 | N20: =M20-P20 -> 5.8 | O20: 5427.01 | P20: 15.2 | Q20: =P20-S20 -> -2.2 | R20: 8180 | S20: 17.4
B21: 見積書等に多少の修正をして作成 | C21: =IF('4-2-1'!V50<>"",'4-2-1'!V50,"") -> 14426.74 | D21: =IF('4-2-1'!W50<>"",'4-2-1'!W50,"") -> 19.704624 | E21: =IF(AND(ISNUMBER(D21),ISNUMBER(G21)),D21-G21,"") -> 0.51550607 | F21: 5429.8085 | G21: 19.189118 | H21: =IF(AND(ISNUMBER(G21),ISNUMBER(J21)),G21-J21,"") -> -6.4838999 | I21: 8270.3897 | J21: 25.673018 | K21: =IF(AND(ISNUMBER(J21),ISNUMBER(M21)),J21-M21,"") -> -2.5269822 | L21: 10095.46 | M21: 28.2 | N21: =M21-P21 -> 2.7 | O21: 9109.74 | P21: 25.5 | Q21: =P21-S21 -> 3.2 | R21: 10501 | S21: 22.3
B22: 見積書等をそのまま実行予算書に転用 | C22: =IF('4-2-1'!V51<>"",'4-2-1'!V51,"") -> 6474.7639 | D22: =IF('4-2-1'!W51<>"",'4-2-1'!W51,"") -> 8.8434937 | E22: =IF(AND(ISNUMBER(D22),ISNUMBER(G22)),D22-G22,"") -> -0.6987596 | F22: 2700.1037 | G22: 9.5422532 | H22: =IF(AND(ISNUMBER(G22),ISNUMBER(J22)),G22-J22,"") -> 4.1954388 | I22: 1722.4402 | J22: 5.3468144 | K22: =IF(AND(ISNUMBER(J22),ISNUMBER(M22)),J22-M22,"") -> 2.0468144 | L22: 1182.4 | M22: 3.3 | N22: =M22-P22 -> -7.1 | O22: 3714.46 | P22: 10.4 | Q22: =P22-S22 -> 2.8 | R22: 3581 | S22: 7.6
B23: 作成していない | C23: =IF('4-2-1'!V52<>"",'4-2-1'!V52,"") -> 15016.272 | D23: =IF('4-2-1'!W52<>"",'4-2-1'!W52,"") -> 20.50983 | E23: =IF(AND(ISNUMBER(D23),ISNUMBER(G23)),D23-G23,"") -> 8.900816 | F23: 3284.9202 | G23: 11.609014 | H23: =IF(AND(ISNUMBER(G23),ISNUMBER(J23)),G23-J23,"") -> -3.5122126 | I23: 4871.2012 | J23: 15.121226 | K23: =IF(AND(ISNUMBER(J23),ISNUMBER(M23)),J23-M23,"") -> 5.4212264 | L23: 3475.31 | M23: 9.7 | N23: =M23-P23 -> -0.9 | O23: 3774.99 | P23: 10.6 | Q23: =P23-S23 -> -5.8 | R23: 7710 | S23: 16.4
B24: 小 計 | C24: =IF('4-2-1'!V53<>"",'4-2-1'!V53,"") -> 73215 | D24: =IF('4-2-1'!W53<>"",'4-2-1'!W53,"") -> 100 | E24: - | F24: 28296.29 | G24: 100 | H24: - | I24: 32214.326 | J24: 100 | K24: - | L24: 35780.86 | M24: 100 | N24: - | O24: 35676.62 | P24: 100 | Q24: - | R24: 47089 | S24: 100
A25: 木造建築 | B25: 受注前から原価を詳細に算出し実行予算書を作成 | C25: =IF('4-2-1'!V54<>"",'4-2-1'!V54,"") -> 6188.5346 | D25: =IF('4-2-1'!W54<>"",'4-2-1'!W54,"") -> 37.163912 | E25: =IF(AND(ISNUMBER(D25),ISNUMBER(G25)),D25-G25,"") -> 5.3510742 | F25: 3258.2902 | G25: 31.812837 | H25: =IF(AND(ISNUMBER(G25),ISNUMBER(J25)),G25-J25,"") -> -4.3471086 | I25: 5776.5156 | J25: 36.159946 | K25: =IF(AND(ISNUMBER(J25),ISNUMBER(M25)),J25-M25,"") -> -1.8400539 | L25: 5348.9 | M25: 38 | N25: =M25-P25 -> 6.4 | O25: 5166.37 | P25: 31.6 | Q25: =P25-S25 -> -5.9 | R25: 7778 | S25: 37.5
B26: 見積書等とは別に実行予算書を作成 | C26: =IF('4-2-1'!V55<>"",'4-2-1'!V55,"") -> 1650.2598 | D26: =IF('4-2-1'!W55<>"",'4-2-1'!W55,"") -> 9.9102796 | E26: =IF(AND(ISNUMBER(D26),ISNUMBER(G26)),D26-G26,"") -> -6.7109038 | F26: 1702.3517 | G26: 16.621183 | H26: =IF(AND(ISNUMBER(G26),ISNUMBER(J26)),G26-J26,"") -> 4.4343234 | I26: 1946.8388 | J26: 12.18686 | K26: =IF(AND(ISNUMBER(J26),ISNUMBER(M26)),J26-M26,"") -> -4.6131399 | L26: 2362.93 | M26: 16.8 | N26: =M26-P26 -> 2 | O26: 2422.24 | P26: 14.8 | Q26: =P26-S26 -> 5.8 | R26: 1869 | S26: 9
B27: 見積書等に多少の修正をして作成 | C27: =IF('4-2-1'!V56<>"",'4-2-1'!V56,"") -> 2758.7725 | D27: =IF('4-2-1'!W56<>"",'4-2-1'!W56,"") -> 16.567214 | E27: =IF(AND(ISNUMBER(D27),ISNUMBER(G27)),D27-G27,"") -> -4.2346867 | F27: 2130.5433 | G27: 20.801901 | H27: =IF(AND(ISNUMBER(G27),ISNUMBER(J27)),G27-J27,"") -> 0.66076174 | I27: 3217.527 | J27: 20.141139 | K27: =IF(AND(ISNUMBER(J27),ISNUMBER(M27)),J27-M27,"") -> -1.1588611 | L27: 2999.67 | M27: 21.3 | N27: =M27-P27 -> -4 | O27: 4137.07 | P27: 25.3 | Q27: =P27-S27 -> 4.8 | R27: 4242 | S27: 20.5
B28: 見積書等をそのまま実行予算書に転用 | C28: =IF('4-2-1'!V57<>"",'4-2-1'!V57,"") -> 1939.2518 | D28: =IF('4-2-1'!W57<>"",'4-2-1'!W57,"") -> 11.645759 | E28: =IF(AND(ISNUMBER(D28),ISNUMBER(G28)),D28-G28,"") -> -1.1414116 | F28: 1309.6698 | G28: 12.787171 | H28: =IF(AND(ISNUMBER(G28),ISNUMBER(J28)),G28-J28,"") -> 0.033914382 | I28: 2037.3201 | J28: 12.753256 | K28: =IF(AND(ISNUMBER(J28),ISNUMBER(M28)),J28-M28,"") -> 0.9532563 | L28: 1665.36 | M28: 11.8 | N28: =M28-P28 -> 0.9 | O28: 1778.41 | P28: 10.9 | Q28: =P28-S28 -> -5.5 | R28: 3391 | S28: 16.4
B29: 作成していない | C29: =IF('4-2-1'!V58<>"",'4-2-1'!V58,"") -> 4115.1814 | D29: =IF('4-2-1'!W58<>"",'4-2-1'!W58,"") -> 24.712836 | E29: =IF(AND(ISNUMBER(D29),ISNUMBER(G29)),D29-G29,"") -> 6.7359279 | F29: 1841.2058 | G29: 17.976908 | H29: =IF(AND(ISNUMBER(G29),ISNUMBER(J29)),G29-J29,"") -> -0.7818909 | I29: 2996.6995 | J29: 18.758799 | K29: =IF(AND(ISNUMBER(J29),ISNUMBER(M29)),J29-M29,"") -> 6.6587987 | L29: 1698.64 | M29: 12.1 | N29: =M29-P29 -> -5.2 | O29: 2834.79 | P29: 17.3 | Q29: =P29-S29 -> 0.7 | R29: 3450 | S29: 16.6
B30: 小 計 | C30: =IF('4-2-1'!V59<>"",'4-2-1'!V59,"") -> 16652 | D30: =IF('4-2-1'!W59<>"",'4-2-1'!W59,"") -> 100 | E30: - | F30: 10242.061 | G30: 100 | H30: - | I30: 15974.901 | J30: 100 | K30: - | L30: 14075.51 | M30: 100 | N30: - | O30: 16338.89 | P30: 100 | Q30: - | R30: 20730 | S30: 100
A31: 職別 | B31: 受注前から原価を詳細に算出し実行予算書を作成 | C31: =IF('4-2-1'!V168<>"",'4-2-1'!V168,"") -> 22704.217 | D31: =IF('4-2-1'!W168<>"",'4-2-1'!W168,"") -> 22.330845 | E31: =IF(AND(ISNUMBER(D31),ISNUMBER(G31)),D31-G31,"") -> 0.4909361 | F31: 9647.9033 | G31: 21.839909 | H31: =IF(AND(ISNUMBER(G31),ISNUMBER(J31)),G31-J31,"") -> -0.36989459 | I31: 10530.556 | J31: 22.209804 | K31: =IF(AND(ISNUMBER(J31),ISNUMBER(M31)),J31-M31,"") -> 0.10980392 | L31: 9898 | M31: 22.1 | N31: =M31-P31 -> -2.6 | O31: 11192.13 | P31: 24.7 | Q31: =P31-S31 -> 2.3 | R31: 11204 | S31: 22.4
B32: 見積書等とは別に実行予算書を作成 | C32: =IF('4-2-1'!V169<>"",'4-2-1'!V169,"") -> 7306.6282 | D32: =IF('4-2-1'!W169<>"",'4-2-1'!W169,"") -> 7.1864704 | E32: =IF(AND(ISNUMBER(D32),ISNUMBER(G32)),D32-G32,"") -> -2.9118196 | F32: 4460.9767 | G32: 10.09829 | H32: =IF(AND(ISNUMBER(G32),ISNUMBER(J32)),G32-J32,"") -> -0.076130894 | I32: 4824.0998 | J32: 10.174421 | K32: =IF(AND(ISNUMBER(J32),ISNUMBER(M32)),J32-M32,"") -> 0.97442091 | L32: 4133.06 | M32: 9.2 | N32: =M32-P32 -> -1.9 | O32: 5015.97 | P32: 11.1 | Q32: =P32-S32 -> -0.1 | R32: 5613 | S32: 11.2
B33: 見積書等に多少の修正をして作成 | C33: =IF('4-2-1'!V170<>"",'4-2-1'!V170,"") -> 16340.475 | D33: =IF('4-2-1'!W170<>"",'4-2-1'!W170,"") -> 16.071756 | E33: =IF(AND(ISNUMBER(D33),ISNUMBER(G33)),D33-G33,"") -> -4.3655569 | F33: 9028.2983 | G33: 20.437313 | H33: =IF(AND(ISNUMBER(G33),ISNUMBER(J33)),G33-J33,"") -> 1.1941655 | I33: 9123.9455 | J33: 19.243147 | K33: =IF(AND(ISNUMBER(J33),ISNUMBER(M33)),J33-M33,"") -> -3.7568529 | L33: 10299.5 | M33: 23 | N33: =M33-P33 -> 1.2 | O33: 9882.38 | P33: 21.8 | Q33: =P33-S33 -> 0.1 | R33: 10875 | S33: 21.7
B34: 見積書等をそのまま実行予算書に転用 | C34: =IF('4-2-1'!V171<>"",'4-2-1'!V171,"") -> 17631.869 | D34: =IF('4-2-1'!W171<>"",'4-2-1'!W171,"") -> 17.341912 | E34: =IF(AND(ISNUMBER(D34),ISNUMBER(G34)),D34-G34,"") -> 3.1709208 | F34: 6260.1154 | G34: 14.170991 | H34: =IF(AND(ISNUMBER(G34),ISNUMBER(J34)),G34-J34,"") -> -0.65195363 | I34: 7028.1509 | J34: 14.822945 | K34: =IF(AND(ISNUMBER(J34),ISNUMBER(M34)),J34-M34,"") -> -0.17705514 | L34: 6696.25 | M34: 15 | N34: =M34-P34 -> 3.6 | O34: 5151.06 | P34: 11.4 | Q34: =P34-S34 -> -2.3 | R34: 6841 | S34: 13.7
B35: 作成していない | C35: =IF('4-2-1'!V172<>"",'4-2-1'!V172,"") -> 37688.81 | D35: =IF('4-2-1'!W172<>"",'4-2-1'!W172,"") -> 37.069016 | E35: =IF(AND(ISNUMBER(D35),ISNUMBER(G35)),D35-G35,"") -> 3.6155195 | F35: 14778.271 | G35: 33.453497 | H35: =IF(AND(ISNUMBER(G35),ISNUMBER(J35)),G35-J35,"") -> -0.09618639 | I35: 15907.246 | J35: 33.549683 | K35: =IF(AND(ISNUMBER(J35),ISNUMBER(M35)),J35-M35,"") -> 2.8496832 | L35: 13748.13 | M35: 30.7 | N35: =M35-P35 -> -0.4 | O35: 14100.45 | P35: 31.1 | Q35: =P35-S35 -> 0 | R35: 15585 | S35: 31.1
B36: 小 計 | C36: =IF('4-2-1'!V173<>"",'4-2-1'!V173,"") -> 101672 | D36: =IF('4-2-1'!W173<>"",'4-2-1'!W173,"") -> 100 | E36: - | F36: 44175.565 | G36: 100 | H36: - | I36: 47413.999 | J36: 100 | K36: - | L36: 44774.95 | M36: 100 | N36: - | O36: 45341.98 | P36: 100 | Q36: - | R36: 50118 | S36: 100
A37: 設備 | B37: 受注前から原価を詳細に算出し実行予算書を作成 | C37: =IF('4-2-1'!V216<>"",'4-2-1'!V216,"") -> 18871.367 | D37: =IF('4-2-1'!W216<>"",'4-2-1'!W216,"") -> 27.873753 | E37: =IF(AND(ISNUMBER(D37),ISNUMBER(G37)),D37-G37,"") -> 1.3135817 | F37: 8886.491 | G37: 26.560171 | H37: =IF(AND(ISNUMBER(G37),ISNUMBER(J37)),G37-J37,"") -> 1.8770804 | I37: 9478.6142 | J37: 24.683091 | K37: =IF(AND(ISNUMBER(J37),ISNUMBER(M37)),J37-M37,"") -> -2.0169093 | L37: 10015.18 | M37: 26.7 | N37: =M37-P37 -> -2 | O37: 11037.89 | P37: 28.7 | Q37: =P37-S37 -> 5.9 | R37: 9505 | S37: 22.8
B38: 見積書等とは別に実行予算書を作成 | C38: =IF('4-2-1'!V217<>"",'4-2-1'!V217,"") -> 6270.7541 | D38: =IF('4-2-1'!W217<>"",'4-2-1'!W217,"") -> 9.262151 | E38: =IF(AND(ISNUMBER(D38),ISNUMBER(G38)),D38-G38,"") -> -3.2405426 | F38: 4183.1461 | G38: 12.502694 | H38: =IF(AND(ISNUMBER(G38),ISNUMBER(J38)),G38-J38,"") -> -1.2195559 | I38: 5269.5147 | J38: 13.72225 | K38: =IF(AND(ISNUMBER(J38),ISNUMBER(M38)),J38-M38,"") -> -0.47775046 | L38: 5325.58 | M38: 14.2 | N38: =M38-P38 -> -2.3 | O38: 6347.32 | P38: 16.5 | Q38: =P38-S38 -> 0.9 | R38: 6510 | S38: 15.6
B39: 見積書等に多少の修正をして作成 | C39: =IF('4-2-1'!V218<>"",'4-2-1'!V218,"") -> 13753.006 | D39: =IF('4-2-1'!W218<>"",'4-2-1'!W218,"") -> 20.313731 | E39: =IF(AND(ISNUMBER(D39),ISNUMBER(G39)),D39-G39,"") -> -1.3773061 | F39: 7257.3783 | G39: 21.691037 | H39: =IF(AND(ISNUMBER(G39),ISNUMBER(J39)),G39-J39,"") -> -0.32635841 | I39: 8454.9542 | J39: 22.017396 | K39: =IF(AND(ISNUMBER(J39),ISNUMBER(M39)),J39-M39,"") -> -1.5826041 | L39: 8839.64 | M39: 23.6 | N39: =M39-P39 -> 0.7 | O39: 8799.38 | P39: 22.9 | Q39: =P39-S39 -> -1.2 | R39: 10060 | S39: 24.1
B40: 見積書等をそのまま実行予算書に転用 | C40: =IF('4-2-1'!V219<>"",'4-2-1'!V219,"") -> 8706.0242 | D40: =IF('4-2-1'!W219<>"",'4-2-1'!W219,"") -> 12.859141 | E40: =IF(AND(ISNUMBER(D40),ISNUMBER(G40)),D40-G40,"") -> -0.70185265 | F40: 4537.2316 | G40: 13.560994 | H40: =IF(AND(ISNUMBER(G40),ISNUMBER(J40)),G40-J40,"") -> 1.8733473 | I40: 4488.2017 | J40: 11.687646 | K40: =IF(AND(ISNUMBER(J40),ISNUMBER(M40)),J40-M40,"") -> -0.0123537 | L40: 4394.63 | M40: 11.7 | N40: =M40-P40 -> 0.6 | O40: 4253.57 | P40: 11.1 | Q40: =P40-S40 -> 0.1 | R40: 4597 | S40: 11
B41: 作成していない | C41: =IF('4-2-1'!V220<>"",'4-2-1'!V220,"") -> 20101.849 | D41: =IF('4-2-1'!W220<>"",'4-2-1'!W220,"") -> 29.691224 | E41: =IF(AND(ISNUMBER(D41),ISNUMBER(G41)),D41-G41,"") -> 4.0061197 | F41: 8593.7115 | G41: 25.685104 | H41: =IF(AND(ISNUMBER(G41),ISNUMBER(J41)),G41-J41,"") -> -2.2045133 | I41: 10709.96 | J41: 27.889618 | K41: =IF(AND(ISNUMBER(J41),ISNUMBER(M41)),J41-M41,"") -> 4.1896176 | L41: 8878.21 | M41: 23.7 | N41: =M41-P41 -> 2.8 | O41: 8035.17 | P41: 20.9 | Q41: =P41-S41 -> -5.7 | R41: 11102 | S41: 26.6
B42: 小 計 | C42: =IF('4-2-1'!V221<>"",'4-2-1'!V221,"") -> 67703 | D42: =IF('4-2-1'!W221<>"",'4-2-1'!W221,"") -> 100 | E42: - | F42: 33457.959 | G42: 100 | H42: - | I42: 38401.245 | J42: 100 | K42: - | L42: 37453.24 | M42: 100 | N42: - | O42: 38473.32 | P42: 100 | Q42: - | R42: 41774 | S42: 100
A43: 合 計 | B43: 受注前から原価を詳細に算出し実行予算書を作成 | C43: =IF('4-2-1'!V222<>"",'4-2-1'!V222,"") -> 84999.918 | D43: =IF('4-2-1'!W222<>"",'4-2-1'!W222,"") -> 27.826584 | E43: =IF(AND(ISNUMBER(D43),ISNUMBER(G43)),D43-G43,"") -> -0.45170342 | F43: 42770.723 | G43: 28.278287 | H43: =IF(AND(ISNUMBER(G43),ISNUMBER(J43)),G43-J43,"") -> 0.50047305 | I43: 48818.898 | J43: 27.777814 | K43: =IF(AND(ISNUMBER(J43),ISNUMBER(M43)),J43-M43,"") -> -1.4221857 | L43: 51380.14 | M43: 29.2 | N43: =M43-P43 -> -0.2 | O43: 54980 | P43: 29.4 | Q43: =P43-S43 -> 1.6 | R43: 61760 | S43: 27.8
B44: 見積書等とは別に実行予算書を作成 | C44: =IF('4-2-1'!V223<>"",'4-2-1'!V223,"") -> 34027.735 | D44: =IF('4-2-1'!W223<>"",'4-2-1'!W223,"") -> 11.139724 | E44: =IF(AND(ISNUMBER(D44),ISNUMBER(G44)),D44-G44,"") -> -3.2066132 | F44: 21698.74 | G44: 14.346337 | H44: =IF(AND(ISNUMBER(G44),ISNUMBER(J44)),G44-J44,"") -> -0.28007124 | I44: 25705.591 | J44: 14.626408 | K44: =IF(AND(ISNUMBER(J44),ISNUMBER(M44)),J44-M44,"") -> -1.9735917 | L44: 29236.53 | M44: 16.6 | N44: =M44-P44 -> 0.4 | O44: 30281 | P44: 16.2 | Q44: =P44-S44 -> 0.4 | R44: 35124 | S44: 15.8
B45: 見積書等に多少の修正をして作成 | C45: =IF('4-2-1'!V224<>"",'4-2-1'!V224,"") -> 57497.632 | D45: =IF('4-2-1'!W224<>"",'4-2-1'!W224,"") -> 18.823108 | E45: =IF(AND(ISNUMBER(D45),ISNUMBER(G45)),D45-G45,"") -> -2.4823026 | F45: 32224.293 | G45: 21.305411 | H45: =IF(AND(ISNUMBER(G45),ISNUMBER(J45)),G45-J45,"") -> -0.443237 | I45: 38222.771 | J45: 21.748648 | K45: =IF(AND(ISNUMBER(J45),ISNUMBER(M45)),J45-M45,"") -> -2.5513519 | L45: 42730.87 | M45: 24.3 | N45: =M45-P45 -> 0.5 | O45: 44625.07 | P45: 23.8 | Q45: =P45-S45 -> 0.8 | R45: 51184 | S45: 23
B46: 見積書等をそのまま実行予算書に転用 | C46: =IF('4-2-1'!V225<>"",'4-2-1'!V225,"") -> 40547.61 | D46: =IF('4-2-1'!W225<>"",'4-2-1'!W225,"") -> 13.274148 | E46: =IF(AND(ISNUMBER(D46),ISNUMBER(G46)),D46-G46,"") -> 0.82466662 | F46: 18829.758 | G46: 12.449481 | H46: =IF(AND(ISNUMBER(G46),ISNUMBER(J46)),G46-J46,"") -> 0.84571472 | I46: 20393.364 | J46: 11.603766 | K46: =IF(AND(ISNUMBER(J46),ISNUMBER(M46)),J46-M46,"") -> 1.6037665 | L46: 17529.09 | M46: 10 | N46: =M46-P46 -> -0.3 | O46: 19246.09 | P46: 10.3 | Q46: =P46-S46 -> -0.5 | R46: 24007 | S46: 10.8
B47: 作成していない | C47: =IF('4-2-1'!V226<>"",'4-2-1'!V226,"") -> 88390.105 | D47: =IF('4-2-1'!W226<>"",'4-2-1'!W226,"") -> 28.936436 | E47: =IF(AND(ISNUMBER(D47),ISNUMBER(G47)),D47-G47,"") -> 5.3159527 | F47: 35725.825 | G47: 23.620483 | H47: =IF(AND(ISNUMBER(G47),ISNUMBER(J47)),G47-J47,"") -> -0.62287954 | I47: 42607.177 | J47: 24.243363 | K47: =IF(AND(ISNUMBER(J47),ISNUMBER(M47)),J47-M47,"") -> 4.2433628 | L47: 35251.1 | M47: 20 | N47: =M47-P47 -> -0.3 | O47: 38093.73 | P47: 20.3 | Q47: =P47-S47 -> -2.4 | R47: 50395 | S47: 22.7
C48: =IF('4-2-1'!V227<>"",'4-2-1'!V227,"") -> 305463 | D48: =IF('4-2-1'!W227<>"",'4-2-1'!W227,"") -> 100 | E48: - | F48: 151249.34 | G48: 100 | H48: - | I48: 175747.8 | J48: 100 | K48: - | L48: 176127.73 | M48: 100 | N48: - | O48: 187225.9 | P48: 100 | Q48: - | R48: 222470 | S48: 100
P49: =SUBSTITUTE('4-2-1'!Q229,"2．","（注）")
