Workbook
Name ______________________ＴＢＬ１: [1]CSS編集画面!$B$10:$F$22
Name ______________________ＴＢＬ２: [1]CSS編集画面!$B$24:$I$35
Name _____________________ＴＢＬ１: [1]CSS編集画面!$B$10:$F$22
Name _____________________ＴＢＬ２: [1]CSS編集画面!$B$24:$I$35
Name ____________________ＴＢＬ１: [1]CSS編集画面!$B$10:$F$22
Name ____________________ＴＢＬ２: [1]CSS編集画面!$B$24:$I$35
Name ___________________ＴＢＬ１: [1]CSS編集画面!$B$10:$F$22
Name ___________________ＴＢＬ２: [1]CSS編集画面!$B$24:$I$35
Name __________________ＴＢＬ１: [1]CSS編集画面!$B$10:$F$22
Name __________________ＴＢＬ２: [1]CSS編集画面!$B$24:$I$35
Name _________________ＴＢＬ１: [1]CSS編集画面!$B$10:$F$22
Name _________________ＴＢＬ２: [1]CSS編集画面!$B$24:$I$35
Name ________________ＴＢＬ１: [1]CSS編集画面!$B$10:$F$22
Name ________________ＴＢＬ２: [1]CSS編集画面!$B$24:$I$35
Name _______________ＴＢＬ１: [1]CSS編集画面!$B$10:$F$22
Name _______________ＴＢＬ２: [1]CSS編集画面!$B$24:$I$35
Name ______________ＴＢＬ１: [1]CSS編集画面!$B$10:$F$22
Name ______________ＴＢＬ２: [1]CSS編集画面!$B$24:$I$35
Name _____________ＴＢＬ１: [1]CSS編集画面!$B$10:$F$22
Name _____________ＴＢＬ２: [1]CSS編集画面!$B$24:$I$35
Name ____________ＴＢＬ１: [1]CSS編集画面!$B$10:$F$22
Name ____________ＴＢＬ２: [1]CSS編集画面!$B$24:$I$35
Name ___________ＴＢＬ１: [1]CSS編集画面!$B$10:$F$22
Name ___________ＴＢＬ２: [1]CSS編集画面!$B$24:$I$35
Name __________ＴＢＬ１: [1]CSS編集画面!$B$10:$F$22
Name __________ＴＢＬ２: [1]CSS編集画面!$B$24:$I$35
Name _________ＴＢＬ１: [1]CSS編集画面!$B$10:$F$22
Name _________ＴＢＬ２: [1]CSS編集画面!$B$24:$I$35
Name ________ＴＢＬ１: [1]CSS編集画面!$B$10:$F$22
Name ________ＴＢＬ２: [1]CSS編集画面!$B$24:$I$35
Name _______ＴＢＬ１: [1]CSS編集画面!$B$10:$F$22
Name _______ＴＢＬ２: [1]CSS編集画面!$B$24:$I$35
Name ______ＴＢＬ１: [1]CSS編集画面!$B$10:$F$22
Name ______ＴＢＬ２: [1]CSS編集画面!$B$24:$I$35
Name _____ＴＢＬ１: [1]CSS編集画面!$B$10:$F$22
Name _____ＴＢＬ２: [1]CSS編集画面!$B$24:$I$35
Name ____ＴＢＬ１: [1]CSS編集画面!$B$10:$F$22
Name ____ＴＢＬ２: [1]CSS編集画面!$B$24:$I$35
Name ___ＴＢＬ１: [1]CSS編集画面!$B$10:$F$22
Name ___ＴＢＬ２: [1]CSS編集画面!$B$24:$I$35
Name __ＴＢＬ１: [1]CSS編集画面!$B$10:$F$22
Name __ＴＢＬ２: [1]CSS編集画面!$B$24:$I$35
Name _ＴＢＬ１: [1]CSS編集画面!$B$10:$F$22
Name _ＴＢＬ２: [1]CSS編集画面!$B$24:$I$35
Name PAGE1: #REF!
Name PAGE10: #REF!
Name PAGE100: #REF!
Name PAGE1000: #REF!
Name PAGE1001: #REF!
Name PAGE1002: #REF!
Name PAGE1003: #REF!
Name PAGE1004: #REF!
Name PAGE1005: #REF!
Name PAGE1006: #REF!
Name PAGE1007: #REF!
Name PAGE1008: #REF!
Name PAGE1009: #REF!
Name PAGE101: #REF!
Name PAGE1010: #REF!
Name PAGE1011: #REF!

Sheet 7-1-1
A1: 表7－1－1 社団法人への加入状況
W3: （単位：社、％）
C4: 資本金 | D4: 個 人 | F4: 法 人 | V4: 合 計
A5: 業種 | C5: 種別 | F5: 500万円未満 | H5: 500万円以上 1000万円未満 | J5: 1000万円以上 3000万円未満 | L5: 3000万円以上 5000万円未満 | N5: 5000万円以上 1億円未満 | P5: 1億円以上 3億円未満 | R5: 3億円以上 10億円未満 | T5: 10億円以上
A6: 一般土木建築 | B6: 一般土木建築 工事業 | C6: 加入 | D6: 297 | E6: 75 | H6: 270.57143 | I6: 28.571429 | J6: 1752.32 | K6: 64 | L6: 1284.2105 | M6: 84.210526 | N6: 659.05455 | O6: 83.636364 | P6: 156.52381 | Q6: 90.47619 | R6: 26 | S6: 100 | T6: 52 | U6: 100 | V6: 4497.6803 | W6: 60.656511
C7: 未加入 | D7: 99 | E7: 25 | F7: 770 | G7: 100 | H7: 676.42857 | I7: 71.428571 | J7: 985.68 | K7: 36 | L7: 240.78947 | M7: 15.789474 | N7: 128.94545 | O7: 16.363636 | P7: 16.47619 | Q7: 9.5238095 | V7: 2917.3197 | W7: 39.343489
A8: 土木 | B8: 土木工事業 | C8: 加入 | D8: 336.83333 | E8: 16.666667 | F8: 905.1875 | G8: 14.583333 | H8: 1741.7797 | I8: 28.813559 | J8: 6384.1316 | K8: 53.947368 | L8: 2413.439 | M8: 64.634146 | N8: 735.71186 | O8: 66.101695 | P8: 77.25 | Q8: 75 | R8: 14.4 | S8: 80 | T8: 17.5 | U8: 87.5 | V8: 12626.233 | W8: 40.605348
C9: 未加入 | D9: 1684.1667 | E9: 83.333333 | F9: 5301.8125 | G9: 85.416667 | H9: 4303.2203 | I9: 71.186441 | J9: 5449.8684 | K9: 46.052632 | L9: 1320.561 | M9: 35.365854 | N9: 377.28814 | O9: 33.898305 | P9: 25.75 | Q9: 25 | R9: 3.6 | S9: 20 | T9: 2.5 | U9: 12.5 | V9: 18468.767 | W9: 59.394652
B10: ほ装工事業 | C10: 加入 | D10: 4.8333333 | E10: 16.666667 | F10: 122.2069 | G10: 13.793103 | H10: 207.95833 | I10: 29.166667 | J10: 763.38095 | K10: 54.761905 | L10: 208.78261 | M10: 60.869565 | N10: 82.322581 | O10: 70.967742 | P10: 8 | Q10: 80 | T10: 6 | U10: 100 | V10: 1403.4847 | W10: 40.133964
C11: 未加入 | D11: 24.166667 | E11: 83.333333 | F11: 763.7931 | G11: 86.206897 | H11: 505.04167 | I11: 70.833333 | J11: 630.61905 | K11: 45.238095 | L11: 134.21739 | M11: 39.130435 | N11: 33.677419 | O11: 29.032258 | P11: 2 | Q11: 20 | V11: 2093.5153 | W11: 59.866036
B12: しゅんせつ 工事業 | C12: 加入 | J12: 30.666667 | K12: 66.666667 | L12: 9 | M12: 33.333333 | N12: 8 | O12: 100 | V12: 47.666667 | W12: 31.777778
C13: 未加入 | H13: 69 | I13: 100 | J13: 15.333333 | K13: 33.333333 | L13: 18 | M13: 66.666667 | V13: 102.33333 | W13: 68.222222
B14: 造園工事業 | C14: 加入 | F14: 259.6 | G14: 40 | H14: 215.25 | I14: 58.333333 | J14: 466.97872 | K14: 65.957447 | L14: 118.85106 | M14: 80.851064 | N14: 30 | O14: 88.235294 | V14: 1090.6798 | W14: 47.154336
C15: 未加入 | D15: 406 | E15: 100 | F15: 389.4 | G15: 60 | H15: 153.75 | I15: 41.666667 | J15: 241.02128 | K15: 34.042553 | L15: 28.148936 | M15: 19.148936 | N15: 4 | O15: 11.764706 | V15: 1222.3202 | W15: 52.845664
B16: 水道施設工事業 | C16: 加入 | F16: 119.38462 | G16: 30.769231 | H16: 95.111111 | I16: 22.222222 | J16: 250.10811 | K16: 37.837838 | L16: 88.875 | M16: 56.25 | N16: 26.666667 | O16: 55.555556 | P16: 3 | Q16: 100 | V16: 583.1455 | W16: 33.303569
C17: 未加入 | D17: 65 | E17: 100 | F17: 268.61538 | G17: 69.230769 | H17: 332.88889 | I17: 77.777778 | J17: 410.89189 | K17: 62.162162 | L17: 69.125 | M17: 43.75 | N17: 21.333333 | O17: 44.444444 | V17: 1167.8545 | W17: 66.696431
A18: 小 計 | C18: 加入 | D18: 341.66667 | E18: 13.552823 | F18: 1406.379 | G18: 17.298635 | H18: 2260.0991 | I18: 29.644532 | J18: 7895.266 | K18: 53.918364 | L18: 2838.9477 | M18: 64.389832 | N18: 882.70111 | O18: 66.921995 | P18: 88.25 | Q18: 76.077586 | R18: 14.4 | S18: 80 | T18: 23.5 | U18: 90.384615 | V18: 15751.21 | W18: 40.589624
C19: 未加入 | D19: 2179.3333 | E19: 86.447177 | F19: 6723.621 | G19: 82.701365 | H19: 5363.9009 | I19: 70.355468 | J19: 6747.734 | K19: 46.081636 | L19: 1570.0523 | M19: 35.610168 | N19: 436.29889 | O19: 33.078005 | P19: 27.75 | Q19: 23.922414 | R19: 3.6 | S19: 20 | T19: 2.5 | U19: 9.6153846 | V19: 23054.79 | W19: 59.410376
A20: 建築 | B20: 建築工事業 | C20: 加入 | D20: 2061.2632 | E20: 21.052632 | F20: 2039.1429 | G20: 10.714286 | H20: 4165.6389 | I20: 30.555556 | J20: 7878 | K20: 34.210526 | L20: 2168 | M20: 40 | N20: 1207.6034 | O20: 63.793103 | P20: 213.57143 | Q20: 65.714286 | R20: 41.263158 | S20: 84.210526 | T20: 44 | U20: 100 | V20: 19818.483 | W20: 27.068883
C21: 未加入 | D21: 7729.7368 | E21: 78.947368 | F21: 16992.857 | G21: 89.285714 | H21: 9467.3611 | I21: 69.444444 | J21: 15150 | K21: 65.789474 | L21: 3252 | M21: 60 | N21: 685.39655 | O21: 36.206897 | P21: 111.42857 | Q21: 34.285714 | R21: 7.7368421 | S21: 15.789474 | V21: 53396.517 | W21: 72.931117
B22: 木造建築工事業 | C22: 加入 | D22: 950.18182 | E22: 18.181818 | F22: 653.93103 | G22: 13.793103 | H22: 470.62791 | I22: 16.27907 | J22: 738 | K22: 22.222222 | L22: 166.23529 | M22: 52.941176 | N22: 33.478261 | O22: 30.434783 | P22: 21.5 | Q22: 50 | T22: 4 | U22: 100 | V22: 3037.9543 | W22: 18.24378
C23: 未加入 | D23: 4275.8182 | E23: 81.818182 | F23: 4087.069 | G23: 86.206897 | H23: 2420.3721 | I23: 83.72093 | J23: 2583 | K23: 77.777778 | L23: 147.76471 | M23: 47.058824 | N23: 76.521739 | O23: 69.565217 | P23: 21.5 | Q23: 50 | R23: 2 | S23: 100 | V23: 13614.046 | W23: 81.75622
A24: 小 計 | C24: 加入 | D24: 3011.445 | E24: 20.053572 | F24: 2693.0739 | G24: 11.328288 | H24: 4636.2668 | I24: 28.057775 | J24: 8616 | K24: 32.699533 | L24: 2334.2353 | M24: 40.708673 | N24: 1241.0817 | O24: 61.961144 | P24: 235.07143 | Q24: 63.878106 | R24: 41.263158 | S24: 80.908153 | T24: 48 | U24: 100 | V24: 22856.437 | W24: 25.433627
C25: 未加入 | D25: 12005.555 | E25: 79.946428 | F25: 21079.926 | G25: 88.671712 | H25: 11887.733 | I25: 71.942225 | J25: 17733 | K25: 67.300467 | L25: 3399.7647 | M25: 59.291327 | N25: 761.91829 | O25: 38.038856 | P25: 132.92857 | Q25: 36.121894 | R25: 9.7368421 | S25: 19.091847 | V25: 67010.563 | W25: 74.566373
A26: 職別 | B26: 大工工事業 | C26: 加入 | D26: 151.6 | E26: 6.6666667 | F26: 559.26829 | G26: 24.390244 | H26: 238.66667 | I26: 16.666667 | J26: 434.3617 | K26: 31.914894 | L26: 27.52 | M26: 32 | N26: 15.75 | O26: 37.5 | P26: 1.6666667 | Q26: 33.333333 | V26: 1428.8333 | W26: 19.068909
C27: 未加入 | D27: 2122.4 | E27: 93.333333 | F27: 1733.7317 | G27: 75.609756 | H27: 1193.3333 | I27: 83.333333 | J27: 926.6383 | K27: 68.085106 | L27: 58.48 | M27: 68 | N27: 26.25 | O27: 62.5 | P27: 3.3333333 | Q27: 66.666667 | V27: 6064.1667 | W27: 80.931091
B28: とび・土工・ コンクリート 工事業 | C28: 加入 | D28: 111.30769 | E28: 7.6923077 | F28: 1387.2 | G28: 17.777778 | H28: 1208.9302 | I28: 27.906977 | J28: 1341.192 | K28: 37.6 | L28: 155.46154 | M28: 47.252747 | N28: 74.5 | O28: 50 | P28: 15.888889 | Q28: 48.148148 | R28: 2 | S28: 100 | T28: 0.5 | U28: 50 | V28: 4296.9804 | W28: 24.327579
C29: 未加入 | D29: 1335.6923 | E29: 92.307692 | F29: 6415.8 | G29: 82.222222 | H29: 3123.0698 | I29: 72.093023 | J29: 2225.808 | K29: 62.4 | L29: 173.53846 | M29: 52.747253 | N29: 74.5 | O29: 50 | P29: 17.111111 | Q29: 51.851852 | T29: 0.5 | U29: 50 | V29: 13366.02 | W29: 75.672421
B30: 鋼構造物工事業 | C30: 加入 | F30: 447.42857 | G30: 28.571429 | H30: 223.14286 | I30: 28.571429 | J30: 427.63158 | K30: 22.807018 | L30: 85.953488 | M30: 51.162791 | N30: 35.275 | O30: 42.5 | P30: 4.5 | Q30: 50 | R30: 5 | S30: 100 | T30: 3 | U30: 100 | V30: 1231.9315 | W30: 26.172328
C31: 未加入 | D31: 217 | E31: 100 | F31: 1118.5714 | G31: 71.428571 | H31: 557.85714 | I31: 71.428571 | J31: 1447.3684 | K31: 77.192982 | L31: 82.046512 | M31: 48.837209 | N31: 47.725 | O31: 57.5 | P31: 4.5 | Q31: 50 | V31: 3475.0685 | W31: 73.827672
B32: 鉄筋工事業 | C32: 加入 | F32: 282.93548 | G32: 22.580645 | H32: 228.95833 | I32: 29.166667 | J32: 327.55556 | K32: 44.444444 | L32: 26.857143 | M32: 57.142857 | N32: 22 | O32: 100 | V32: 888.30652 | W32: 17.639129
C33: 未加入 | D33: 2192 | E33: 100 | F33: 970.06452 | G33: 77.419355 | H33: 556.04167 | I33: 70.833333 | J33: 409.44444 | K33: 55.555556 | L33: 20.142857 | M33: 42.857143 | V33: 4147.6935 | W33: 82.360871
B34: 解体工事業 | C34: 加入 | F34: 212.71429 | G34: 14.285714 | H34: 149.45455 | I34: 18.181818 | J34: 480.625 | K34: 62.5 | L34: 42.56 | M34: 28 | N34: 25.9 | O34: 70 | P34: 7 | Q34: 100 | V34: 918.25383 | W34: 25.199062
C35: 未加入 | D35: 368 | E35: 100 | F35: 1276.2857 | G35: 85.714286 | H35: 672.54545 | I35: 81.818182 | J35: 288.375 | K35: 37.5 | L35: 109.44 | M35: 72 | N35: 11.1 | O35: 30 | V35: 2725.7462 | W35: 74.800938
B36: 躯体関係計 | C36: 加入 | D36: 262.90769 | E36: 4.0459786 | F36: 2889.5466 | G36: 20.060724 | H36: 2049.1526 | I36: 25.136809 | J36: 3011.3658 | K36: 36.242217 | L36: 338.35217 | M36: 43.267541 | N36: 173.425 | O36: 52.07958 | P36: 29.055556 | Q36: 53.806584 | R36: 7 | S36: 100 | T36: 3.5 | U36: 87.5 | V36: 8764.3055 | W36: 22.739033
C37: 未加入 | D37: 6235.0923 | E37: 95.954021 | F37: 11514.453 | G37: 79.939276 | H37: 6102.8474 | I37: 74.863191 | J37: 5297.6342 | K37: 63.757783 | L37: 443.64783 | M37: 56.732459 | N37: 159.575 | O37: 47.92042 | P37: 24.944444 | Q37: 46.193416 | T37: 0.5 | U37: 12.5 | V37: 29778.694 | W37: 77.260967
B38: 左官工事業 | C38: 加入 | D38: 248.75 | E38: 25 | F38: 383.6 | G38: 28 | H38: 127.90909 | I38: 27.272727 | J38: 159.3 | K38: 30 | L38: 7.6363636 | M38: 36.363636 | V38: 927.19545 | W38: 27.254423
C39: 未加入 | D39: 746.25 | E39: 75 | F39: 986.4 | G39: 72 | H39: 341.09091 | I39: 72.727273 | J39: 371.7 | K39: 70 | L39: 13.363636 | M39: 63.636364 | N39: 16 | O39: 100 | V39: 2474.8045 | W39: 72.745577
B40: 石工事業 | C40: 加入 | F40: 90.5 | G40: 16.666667 | H40: 16.083333 | I40: 8.3333333 | J40: 72.882353 | K40: 17.647059 | L40: 6.6 | M40: 20 | N40: 8 | O40: 50 | V40: 194.06569 | W40: 16.199139
C41: 未加入 | F41: 452.5 | G41: 83.333333 | H41: 176.91667 | I41: 91.666667 | J41: 340.11765 | K41: 82.352941 | L41: 26.4 | M41: 80 | N41: 8 | O41: 50 | V41: 1003.9343 | W41: 83.800861
...

Sheet 7-1-2
A1: 表7－1－2 社団法人への加入状況（経年変化）
A3: （経年変化①） | S3: （単位：社、％）
B4: 年度 | C4: R06年度 | F4: R01年度 | I4: H26年度 | L4: H23年度 | O4: H20年度 | R4: H17年度
A6: 業種 | E6: 増減 | H6: 増減 | K6: 増減 | N6: 増減 | Q6: 増減
A7: 一般土木建築 | B7: 加入 | C7: =IF('7-1-1'!V6<>"",'7-1-1'!V6,"") -> 4497.6803 | D7: =IF('7-1-1'!W6<>"",'7-1-1'!W6,"") -> 60.656511 | E7: =IF(AND(ISNUMBER(D7),ISNUMBER(G7)),D7-G7,"") -> -5.5434887 | F7: 2364 | G7: 66.2 | H7: =IF(AND(ISNUMBER(G7),ISNUMBER(J7)),G7-J7,"") -> -3.6736252 | I7: 2845.3414 | J7: 69.873625 | K7: =IF(AND(ISNUMBER(J7),ISNUMBER(M7)),J7-M7,"") -> 7.8736252 | L7: 2655.98 | M7: 62 | N7: =M7-P7 -> -2.5 | O7: 3164 | P7: 64.5 | Q7: =P7-S7 -> -3.6 | R7: 3909 | S7: 68.1
B8: 未加入 | C8: =IF('7-1-1'!V7<>"",'7-1-1'!V7,"") -> 2917.3197 | D8: =IF('7-1-1'!W7<>"",'7-1-1'!W7,"") -> 39.343489 | E8: =IF(AND(ISNUMBER(D8),ISNUMBER(G8)),D8-G8,"") -> 5.5434887 | F8: 1209 | G8: 33.8 | H8: =IF(AND(ISNUMBER(G8),ISNUMBER(J8)),G8-J8,"") -> 3.6736252 | I8: 1226.7836 | J8: 30.126375 | K8: =IF(AND(ISNUMBER(J8),ISNUMBER(M8)),J8-M8,"") -> -7.8736252 | L8: 1625.02 | M8: 38 | N8: =M8-P8 -> 2.5 | O8: 1742 | P8: 35.5 | Q8: =P8-S8 -> 3.6 | R8: 1828 | S8: 31.9
A9: 土木 | B9: 加入 | C9: =IF('7-1-1'!V18<>"",'7-1-1'!V18,"") -> 15751.21 | D9: =IF('7-1-1'!W18<>"",'7-1-1'!W18,"") -> 40.589624 | E9: =IF(AND(ISNUMBER(D9),ISNUMBER(G9)),D9-G9,"") -> -1.6103757 | F9: 13359 | G9: 42.2 | H9: =IF(AND(ISNUMBER(G9),ISNUMBER(J9)),G9-J9,"") -> -6.4295771 | I9: 17494.398 | J9: 48.629577 | K9: =IF(AND(ISNUMBER(J9),ISNUMBER(M9)),J9-M9,"") -> 3.0295771 | L9: 17174.24 | M9: 45.6 | N9: =M9-P9 -> -4.2 | O9: 21750 | P9: 49.8 | Q9: =P9-S9 -> -1.4 | R9: 27686 | S9: 51.2
B10: 未加入 | C10: =IF('7-1-1'!V19<>"",'7-1-1'!V19,"") -> 23054.79 | D10: =IF('7-1-1'!W19<>"",'7-1-1'!W19,"") -> 59.410376 | E10: =IF(AND(ISNUMBER(D10),ISNUMBER(G10)),D10-G10,"") -> 1.6103757 | F10: 18304 | G10: 57.8 | H10: =IF(AND(ISNUMBER(G10),ISNUMBER(J10)),G10-J10,"") -> 6.4295771 | I10: 18480.412 | J10: 51.370423 | K10: =IF(AND(ISNUMBER(J10),ISNUMBER(M10)),J10-M10,"") -> -3.0295771 | L10: 20466.83 | M10: 54.4 | N10: =M10-P10 -> 4.2 | O10: 21912 | P10: 50.2 | Q10: =P10-S10 -> 1.4 | R10: 26429 | S10: 48.8
A11: 建築 | B11: 加入 | C11: =IF('7-1-1'!V20<>"",'7-1-1'!V20,"") -> 19818.483 | D11: =IF('7-1-1'!W20<>"",'7-1-1'!W20,"") -> 27.068883 | E11: =IF(AND(ISNUMBER(D11),ISNUMBER(G11)),D11-G11,"") -> -11.731117 | F11: 10582 | G11: 38.8 | H11: =IF(AND(ISNUMBER(G11),ISNUMBER(J11)),G11-J11,"") -> 7.0718775 | I11: 9478.9718 | J11: 31.728123 | K11: =IF(AND(ISNUMBER(J11),ISNUMBER(M11)),J11-M11,"") -> -4.1718775 | L11: 11386.4 | M11: 35.9 | N11: =M11-P11 -> -2.4 | O11: 12618 | P11: 38.3 | Q11: =P11-S11 -> 4 | R11: 13849 | S11: 34.3
B12: 未加入 | C12: =IF('7-1-1'!V21<>"",'7-1-1'!V21,"") -> 53396.517 | D12: =IF('7-1-1'!W21<>"",'7-1-1'!W21,"") -> 72.931117 | E12: =IF(AND(ISNUMBER(D12),ISNUMBER(G12)),D12-G12,"") -> 11.731117 | F12: 16664 | G12: 61.2 | H12: =IF(AND(ISNUMBER(G12),ISNUMBER(J12)),G12-J12,"") -> -7.0718775 | I12: 20396.643 | J12: 68.271877 | K12: =IF(AND(ISNUMBER(J12),ISNUMBER(M12)),J12-M12,"") -> 4.1718775 | L12: 20294.95 | M12: 64.1 | N12: =M12-P12 -> 2.4 | O12: 20333 | P12: 61.7 | Q12: =P12-S12 -> -4 | R12: 26548 | S12: 65.7
A13: 木造建築 | B13: 加入 | C13: =IF('7-1-1'!V22<>"",'7-1-1'!V22,"") -> 3037.9543 | D13: =IF('7-1-1'!W22<>"",'7-1-1'!W22,"") -> 18.24378 | E13: =IF(AND(ISNUMBER(D13),ISNUMBER(G13)),D13-G13,"") -> -5.6562196 | F13: 2424 | G13: 23.9 | H13: =IF(AND(ISNUMBER(G13),ISNUMBER(J13)),G13-J13,"") -> -1.0088087 | I13: 3446.1809 | J13: 24.908809 | K13: =IF(AND(ISNUMBER(J13),ISNUMBER(M13)),J13-M13,"") -> 2.5088087 | L13: 2798.34 | M13: 22.4 | N13: =M13-P13 -> 3.9 | O13: 2507 | P13: 18.5 | Q13: =P13-S13 -> -6.1 | R13: 4057 | S13: 24.6
B14: 未加入 | C14: =IF('7-1-1'!V23<>"",'7-1-1'!V23,"") -> 13614.046 | D14: =IF('7-1-1'!W23<>"",'7-1-1'!W23,"") -> 81.75622 | E14: =IF(AND(ISNUMBER(D14),ISNUMBER(G14)),D14-G14,"") -> 5.6562196 | F14: 7726 | G14: 76.1 | H14: =IF(AND(ISNUMBER(G14),ISNUMBER(J14)),G14-J14,"") -> 1.0088087 | I14: 10389.009 | J14: 75.091191 | K14: =IF(AND(ISNUMBER(J14),ISNUMBER(M14)),J14-M14,"") -> -2.5088087 | L14: 9719.89 | M14: 77.6 | N14: =M14-P14 -> -3.9 | O14: 11072 | P14: 81.5 | Q14: =P14-S14 -> 6.1 | R14: 12458 | S14: 75.4
A15: 職別 | B15: 加入 | C15: =IF('7-1-1'!V60<>"",'7-1-1'!V60,"") -> 22101.428 | D15: =IF('7-1-1'!W60<>"",'7-1-1'!W60,"") -> 21.73797 | E15: =IF(AND(ISNUMBER(D15),ISNUMBER(G15)),D15-G15,"") -> -3.3620304 | F15: 10862 | G15: 25.1 | H15: =IF(AND(ISNUMBER(G15),ISNUMBER(J15)),G15-J15,"") -> 1.8580543 | I15: 9923.9238 | J15: 23.241946 | K15: =IF(AND(ISNUMBER(J15),ISNUMBER(M15)),J15-M15,"") -> -0.65805431 | L15: 9216.94 | M15: 23.9 | N15: =M15-P15 -> -1.1 | O15: 10103 | P15: 25 | Q15: =P15-S15 -> -0.5 | R15: 11185 | S15: 25.5
B16: 未加入 | C16: =IF('7-1-1'!V61<>"",'7-1-1'!V61,"") -> 79570.572 | D16: =IF('7-1-1'!W61<>"",'7-1-1'!W61,"") -> 78.26203 | E16: =IF(AND(ISNUMBER(D16),ISNUMBER(G16)),D16-G16,"") -> 3.3620304 | F16: 32405 | G16: 74.9 | H16: =IF(AND(ISNUMBER(G16),ISNUMBER(J16)),G16-J16,"") -> -1.8580543 | I16: 32774.411 | J16: 76.758054 | K16: =IF(AND(ISNUMBER(J16),ISNUMBER(M16)),J16-M16,"") -> 0.65805431 | L16: 29402.56 | M16: 76.1 | N16: =M16-P16 -> 1.1 | O16: 30266 | P16: 75 | Q16: =P16-S16 -> 0.5 | R16: 32662 | S16: 74.5
A17: 設備 | B17: 加入 | C17: =IF('7-1-1'!V76<>"",'7-1-1'!V76,"") -> 14812.959 | D17: =IF('7-1-1'!W76<>"",'7-1-1'!W76,"") -> 21.879324 | E17: =IF(AND(ISNUMBER(D17),ISNUMBER(G17)),D17-G17,"") -> -7.6206761 | F17: 9805 | G17: 29.5 | H17: =IF(AND(ISNUMBER(G17),ISNUMBER(J17)),G17-J17,"") -> -0.93916778 | I17: 10300.226 | J17: 30.439168 | K17: =IF(AND(ISNUMBER(J17),ISNUMBER(M17)),J17-M17,"") -> -0.16083222 | L17: 10182.92 | M17: 30.6 | N17: =M17-P17 -> -2.3 | O17: 11238 | P17: 32.9 | Q17: =P17-S17 -> -1.9 | R17: 12682 | S17: 34.8
B18: 未加入 | C18: =IF('7-1-1'!V77<>"",'7-1-1'!V77,"") -> 52890.041 | D18: =IF('7-1-1'!W77<>"",'7-1-1'!W77,"") -> 78.120676 | E18: =IF(AND(ISNUMBER(D18),ISNUMBER(G18)),D18-G18,"") -> 7.6206761 | F18: 23439 | G18: 70.5 | H18: =IF(AND(ISNUMBER(G18),ISNUMBER(J18)),G18-J18,"") -> 0.93916778 | I18: 23538.498 | J18: 69.560832 | K18: =IF(AND(ISNUMBER(J18),ISNUMBER(M18)),J18-M18,"") -> 0.16083222 | L18: 23122.51 | M18: 69.4 | N18: =M18-P18 -> 2.3 | O18: 22893 | P18: 67.1 | Q18: =P18-S18 -> 1.9 | R18: 23752 | S18: 65.2
A19: 合 計 | B19: 加入 | C19: =IF('7-1-1'!V78<>"",'7-1-1'!V78,"") -> 80019.714 | D19: =IF('7-1-1'!W78<>"",'7-1-1'!W78,"") -> 26.196205 | E19: =IF(AND(ISNUMBER(D19),ISNUMBER(G19)),D19-G19,"") -> -6.9037948 | F19: 49395 | G19: 33.1 | H19: =IF(AND(ISNUMBER(G19),ISNUMBER(J19)),G19-J19,"") -> -0.26916866 | I19: 53489.041 | J19: 33.369169 | K19: =IF(AND(ISNUMBER(J19),ISNUMBER(M19)),J19-M19,"") -> -0.43083134 | L19: 53414.81 | M19: 33.8 | N19: =M19-P19 -> -2.4 | O19: 61380 | P19: 36.2 | Q19: =P19-S19 -> -1 | R19: 73369 | S19: 37.2
B20: 未加入 | C20: =IF('7-1-1'!V79<>"",'7-1-1'!V79,"") -> 225443.29 | D20: =IF('7-1-1'!W79<>"",'7-1-1'!W79,"") -> 73.803795 | E20: =IF(AND(ISNUMBER(D20),ISNUMBER(G20)),D20-G20,"") -> 6.9037948 | F20: 99747 | G20: 66.9 | H20: =IF(AND(ISNUMBER(G20),ISNUMBER(J20)),G20-J20,"") -> 0.26916866 | I20: 106805.76 | J20: 66.630831 | K20: =IF(AND(ISNUMBER(J20),ISNUMBER(M20)),J20-M20,"") -> 0.43083134 | L20: 104631.76 | M20: 66.2 | N20: =M20-P20 -> 2.4 | O20: 108218 | P20: 63.8 | Q20: =P20-S20 -> 1 | R20: 123676 | S20: 62.8
O21: （注） | P21: 1．( )の数値は加入＋未加入を100とした場合の構成比
A24: （経年変化②） | V24: （単位：社、％）
B25: 資本金 | C25: 個人 | E25: 法 人 | U25: 合 計
E26: 500万円未満 | G26: 500万円以上 1000万円未満 | I26: 1000万円以上 3000万円未満 | K26: 3000万円以上 5000万円未満 | M26: 5000万円以上 1億円未満 | O26: 1億円以上 3億円未満 | Q26: 3億円以上 10億円未満 | S26: 10億円以上
A27: 年度
A28: R06年度 | B28: 加入 | C28: =IF('7-1-1'!D78<>"",'7-1-1'!D78,"") -> 6693.5412 | D28: =IF('7-1-1'!E78<>"",'7-1-1'!E78,"") -> 13.770735 | E28: =IF('7-1-1'!F78<>"",'7-1-1'!F78,"") -> 14946.562 | F28: =IF('7-1-1'!G78<>"",'7-1-1'!G78,"") -> 16.32184 | G28: =IF('7-1-1'!H78<>"",'7-1-1'!H78,"") -> 13273.722 | H28: =IF('7-1-1'!I78<>"",'7-1-1'!I78,"") -> 22.886517 | I28: =IF('7-1-1'!J78<>"",'7-1-1'!J78,"") -> 32365.158 | J28: =IF('7-1-1'!K78<>"",'7-1-1'!K78,"") -> 38.206107 | ... V28: =IF('7-1-1'!W78<>"",'7-1-1'!W78,"") -> 26.196205
B29: 未加入 | C29: =IF('7-1-1'!D79<>"",'7-1-1'!D79,"") -> 41913.459 | D29: =IF('7-1-1'!E79<>"",'7-1-1'!E79,"") -> 86.229265 | E29: =IF('7-1-1'!F79<>"",'7-1-1'!F79,"") -> 76627.438 | F29: =IF('7-1-1'!G79<>"",'7-1-1'!G79,"") -> 83.67816 | G29: =IF('7-1-1'!H79<>"",'7-1-1'!H79,"") -> 44724.278 | H29: =IF('7-1-1'!I79<>"",'7-1-1'!I79,"") -> 77.113483 | I29: =IF('7-1-1'!J79<>"",'7-1-1'!J79,"") -> 52346.842 | J29: =IF('7-1-1'!K79<>"",'7-1-1'!K79,"") -> 61.793893 | ... V29: =IF('7-1-1'!W79<>"",'7-1-1'!W79,"") -> 73.803795
A30: 増減 | B30: 加入 | D30: =IF(AND(ISNUMBER(D28),ISNUMBER(D32)),D28-D32,"") -> -1.8292649 | F30: =IF(AND(ISNUMBER(F28),ISNUMBER(F32)),F28-F32,"") -> -0.97815959 | H30: =IF(AND(ISNUMBER(H28),ISNUMBER(H32)),H28-H32,"") -> -8.113483 | J30: =IF(AND(ISNUMBER(J28),ISNUMBER(J32)),J28-J32,"") -> -4.1938926 | L30: =IF(AND(ISNUMBER(L28),ISNUMBER(L32)),L28-L32,"") -> -6.3458618 | N30: =IF(AND(ISNUMBER(N28),ISNUMBER(N32)),N28-N32,"") -> -9.4611349 | P30: =IF(AND(ISNUMBER(P28),ISNUMBER(P32)),P28-P32,"") -> -13.354854 | R30: =IF(AND(ISNUMBER(R28),ISNUMBER(R32)),R28-R32,"") -> 12.924871 | T30: =IF(AND(ISNUMBER(T28),ISNUMBER(T32)),T28-T32,"") -> -1.7236994 | V30: =IF(AND(ISNUMBER(V28),ISNUMBER(V32)),V28-V32,"") -> -6.9037948
B31: 未加入 | D31: =IF(AND(ISNUMBER(D29),ISNUMBER(D33)),D29-D33,"") -> 1.8292649 | F31: =IF(AND(ISNUMBER(F29),ISNUMBER(F33)),F29-F33,"") -> 0.97815959 | H31: =IF(AND(ISNUMBER(H29),ISNUMBER(H33)),H29-H33,"") -> 8.113483 | J31: =IF(AND(ISNUMBER(J29),ISNUMBER(J33)),J29-J33,"") -> 4.1938926 | L31: =IF(AND(ISNUMBER(L29),ISNUMBER(L33)),L29-L33,"") -> 6.3458618 | N31: =IF(AND(ISNUMBER(N29),ISNUMBER(N33)),N29-N33,"") -> 9.4611349 | P31: =IF(AND(ISNUMBER(P29),ISNUMBER(P33)),P29-P33,"") -> 13.354854 | R31: =IF(AND(ISNUMBER(R29),ISNUMBER(R33)),R29-R33,"") -> -12.924871 | T31: =IF(AND(ISNUMBER(T29),ISNUMBER(T33)),T29-T33,"") -> 1.7236994 | V31: =IF(AND(ISNUMBER(V29),ISNUMBER(V33)),V29-V33,"") -> 6.9037948
A32: R01年度 | B32: 加入 | C32: 2739 | D32: 15.6 | E32: 6412 | F32: 17.3 | G32: 8166 | H32: 31 | I32: 22652 | J32: 42.4 | K32: 6069 | L32: 59.3 | M32: 2671 | N32: 72.4 | O32: 448 | P32: 77.8 | Q32: 87 | R32: 68.2 | S32: 151 | T32: 93.4 | U32: 49395 | V32: 33.1
B33: 未加入 | C33: 14797 | D33: 84.4 | E33: 30662 | F33: 82.7 | G33: 18196 | H33: 69 | I33: 30727 | J33: 57.6 | K33: 4167 | L33: 40.7 | M33: 1019 | N33: 27.6 | O33: 128 | P33: 22.2 | Q33: 40 | R33: 31.8 | S33: 11 | T33: 6.6 | U33: 99747 | V33: 66.9
A34: 増減 | B34: 加入 | D34: =D32-D36 -> -3.2196286 | F34: =F32-F36 -> 0.26012863 | H34: =H32-H36 -> 10.194984 | J34: =J32-J36 -> -4.2957563 | L34: =L32-L36 -> 0.47511024 | N34: =N32-N36 -> 3.641526 | P34: =P32-P36 -> 6.1774379 | R34: =R32-R36 -> -8.8071259 | T34: =T32-T36 -> -1.7921556 | V34: =V32-V36 -> -0.26916866
B35: 未加入 | D35: =D33-D37 -> 3.2196286 | F35: =F33-F37 -> -0.26012863 | H35: =H33-H37 -> -10.194984 | J35: =J33-J37 -> 4.2957563 | L35: =L33-L37 -> -0.47511024 | N35: =N33-N37 -> -3.641526 | P35: =P33-P37 -> -6.1774379 | R35: =R33-R37 -> 8.8071259 | T35: =T33-T37 -> 1.7921556 | V35: =V33-V37 -> 0.26916866
A36: H26年度 | B36: 加入 | C36: 4275.5411 | D36: 18.819629 | E36: 6619.2362 | F36: 17.039871 | G36: 4749.6296 | H36: 20.805016 | I36: 28287.693 | J36: 46.695756 | K36: 6248.454 | L36: 58.82489 | M36: 2593.648 | N36: 68.758474 | O36: 436.0206 | P36: 71.622562 | Q36: 108.06667 | R36: 77.007126 | S36: 170.75177 | T36: 95.192156 | U36: 53489.041 | V36: 33.369169
B37: 未加入 | C37: 18442.979 | D37: 81.180371 | E37: 32226.34 | F37: 82.960129 | G37: 18079.623 | H37: 79.194984 | I37: 32291.031 | J37: 53.304244 | K37: 4373.6722 | L37: 41.17511 | M37: 1178.466 | N37: 31.241526 | O37: 172.75489 | P37: 28.377438 | Q37: 32.266667 | R37: 22.992874 | S37: 8.6241135 | T37: 4.8078444 | U37: 106805.76 | V37: 66.630831
A38: 増減 | B38: 加入 | D38: =D36-D40 -> 3.3196286 | F38: =F36-F40 -> -3.1601286 | H38: =H36-H40 -> -1.994984 | J38: =J36-J40 -> 0.39575632 | L38: =L36-L40 -> -0.075110238 | N38: =N36-N40 -> 0.55847399 | P38: =P36-P40 -> 3.1225621 | R38: =R36-R40 -> -0.79287411 | T38: =T36-T40 -> -1.0078444 | V38: =V36-V40 -> -0.43083134
B39: 未加入 | D39: =D37-D41 -> -3.3196286 | F39: =F37-F41 -> 3.1601286 | H39: =H37-H41 -> 1.994984 | J39: =J37-J41 -> -0.39575632 | L39: =L37-L41 -> 0.075110238 | N39: =N37-N41 -> -0.55847399 | P39: =P37-P41 -> -3.1225621 | R39: =R37-R41 -> 0.79287411 | T39: =T37-T41 -> 1.0078444 | V39: =V37-V41 -> 0.43083134
A40: H23年度 | B40: 加入 | C40: 3558.34 | D40: 15.5 | E40: 7848.34 | F40: 20.2 | G40: 4827.14 | H40: 22.8 | I40: 27695.17 | J40: 46.3 | K40: 6300.1 | L40: 58.9 | M40: 2473.71 | N40: 68.2 | O40: 409.65 | P40: 68.5 | Q40: 121.54 | R40: 77.8 | S40: 180.83 | T40: 96.2 | U40: 53414.81 | V40: 33.8
B41: 未加入 | C41: 19428.57 | D41: 84.5 | E41: 31021.36 | F41: 79.8 | G41: 16319.66 | H41: 77.2 | I41: 32078.23 | J41: 53.7 | K41: 4400.81 | L41: 41.1 | M41: 1152.48 | N41: 31.8 | O41: 188.8 | P41: 31.5 | Q41: 34.76 | R41: 22.2 | S41: 7.08 | T41: 3.8 | U41: 104631.76 | V41: 66.2
A42: 増減 | B42: 加入 | D42: =D40-D44 -> -0.7 | F42: =F40-F44 -> 2.9 | H42: =H40-H44 -> -0.9 | J42: =J40-J44 -> -5.4 | L42: =L40-L44 -> -3.3 | N42: =N40-N44 -> 1.5 | P42: =P40-P44 -> -3.3 | R42: =R40-R44 -> 0.1 | T42: =T40-T44 -> 2.8 | V42: =V40-V44 -> -2.4
B43: 未加入 | D43: =D41-D45 -> 0.7 | F43: =F41-F45 -> -2.9 | H43: =H41-H45 -> 0.9 | J43: =J41-J45 -> 5.4 | L43: =L41-L45 -> 3.3 | N43: =N41-N45 -> -1.5 | P43: =P41-P45 -> 3.3 | R43: =R41-R45 -> -0.1 | T43: =T41-T45 -> -2.8 | V43: =V41-V45 -> 2.4
A44: H20年度 | B44: 加入 | C44: 4704 | D44: 16.2 | E44: 6298 | F44: 17.3 | G44: 4780 | H44: 23.7 | I44: 34677 | J44: 51.7 | K44: 7484 | L44: 62.2 | M44: 2607 | N44: 66.7 | O44: 497 | P44: 71.8 | Q44: 141 | R44: 77.7 | S44: 192 | T44: 93.4 | U44: 61380 | V44: 36.2
...

Sheet 7-1-3
A1: 表7－1－3 社団法人への加入状況（下請比率、次数別集計）
A3: （概要） | M3: （単位：社、％）
A4: 下請比率、次数 | B4: ０％超 50％未満 | D4: ５０％以上１００％以下 | L4: 合 計
F5: 一次下請 | H5: 二次下請 | J5: 三次以下下請
A6: 加入 | B6: 31366.218 | C6: 38.644731 | D6: 40047.602 | E6: 21.204352 | F6: 31932.395 | G6: 23.021052 | H6: 7247.0685 | I6: 16.924135 | J6: 868.13841 | K6: 11.836265 | L6: 71413.82 | M6: 26.446567
A7: 未加入 | B7: 49799.356 | C7: 61.355269 | D7: 148817.41 | E7: 78.795648 | F7: 106777.14 | G7: 76.978948 | H7: 35573.839 | I7: 83.075865 | J7: 6466.4251 | K7: 88.163735 | L7: 198616.77 | M7: 73.553433
F8: （注） | G8: 1．( )の数値は加入＋未加入を100とした場合の構成比
A11: （下請比率別詳細）
A12: 下請比率、次数 | B12: ０％超１０％未満 | J12: １０％以上２０％未満 | R12: ２０％以上３０％未満
B13: 一次下請 | D13: 二次下請 | F13: 三次以下下請 | H13: 小 計 | J13: 一次下請 | L13: 二次下請 | N13: 三次以下下請 | P13: 小 計 | R13: 一次下請 | T13: 二次下請 | V13: 三次以下下請 | X13: 小 計
A14: 加入 | B14: 10002.464 | C14: 44.583926 | D14: 226.47089 | E14: 46.658901 | H14: 10228.935 | I14: 44.418837 | J14: 5775.0077 | K14: 38.243635 | L14: 113.23544 | M14: 20.996506 | P14: 5888.2431 | Q14: 37.391037 | R14: 4869.1241 | S14: 35.267568 | T14: 377.45148 | U14: 49.99168 | X14: 5246.5756 | Y14: 36.03104
A15: 未加入 | B15: 12432.671 | C15: 55.416074 | D15: 258.90464 | E15: 53.341099 | F15: 107.86123 | G15: 100 | H15: 12799.437 | I15: 55.581163 | J15: 9325.5644 | K15: 61.756365 | L15: 426.0707 | M15: 79.003494 | N15: 107.86123 | O15: 100 | P15: 9859.4963 | Q15: 62.608963 | R15: 8937.1132 | S15: 64.732432 | T15: 377.57712 | U15: 50.00832 | X15: 9314.6903 | Y15: 63.96896
A18: 下請比率、次数 | B18: ３０％以上４０％未満 | J18: ４０％以上５０％未満 | R18: ５０％以上６０％未満
B19: 一次下請 | D19: 二次下請 | F19: 三次以下下請 | H19: 小 計 | J19: 一次下請 | L19: 二次下請 | N19: 三次以下下請 | P19: 小 計 | R19: 一次下請 | T19: 二次下請 | V19: 三次以下下請 | X19: 小 計
A20: 加入 | B20: 4227.4566 | C20: 33.933746 | D20: 415.19663 | E20: 36.660565 | H20: 4642.6532 | I20: 33.759087 | J20: 4982.3596 | K20: 37.862551 | L20: 377.45148 | M20: 41.169619 | P20: 5359.8111 | Q20: 38.077954 | R20: 3699.0245 | S20: 31.462654 | T20: 339.70633 | U20: 39.368448 | X20: 4038.7309 | Y20: 32.003221
A21: 未加入 | B21: 8230.5153 | C21: 66.066254 | D21: 717.34627 | E21: 63.339435 | F21: 161.79184 | G21: 100 | H21: 9109.6534 | I21: 66.240913 | J21: 8176.7103 | K21: 62.137449 | L21: 539.36896 | M21: 58.830381 | P21: 8716.0793 | Q21: 61.922046 | R21: 8057.8494 | S21: 68.537346 | T21: 523.1835 | U21: 60.631552 | X21: 8581.0329 | Y21: 67.996779
A24: 下請比率、次数 | B24: ６０％以上７０％未満 | J24: ７０％以上８０％未満 | R24: ８０％以上９０％未満
B25: 一次下請 | D25: 二次下請 | F25: 三次以下下請 | H25: 小 計 | J25: 一次下請 | L25: 二次下請 | N25: 三次以下下請 | P25: 小 計 | R25: 一次下請 | T25: 二次下請 | V25: 三次以下下請 | X25: 小 計
A26: 加入 | B26: 4453.9275 | C26: 32.13473 | D26: 339.70633 | E26: 21.720523 | H26: 4793.6338 | I26: 30.650071 | J26: 3699.0245 | K26: 30.082713 | L26: 717.15782 | M26: 34.096889 | P26: 4416.1823 | Q26: 30.554616 | R26: 4416.1823 | S26: 26.673085 | T26: 905.88356 | U26: 25.45031 | V26: 37.745148 | W26: 11.664725 | X26: 5359.8111 | Y26: 26.222549
A27: 未加入 | B27: 9406.2404 | C27: 67.86527 | D27: 1224.2815 | E27: 78.279477 | F27: 215.72246 | G27: 100 | H27: 10846.244 | I27: 69.349929 | J27: 8597.1556 | K27: 69.917287 | L27: 1386.1361 | M27: 65.903111 | N27: 53.930614 | O27: 100 | P27: 10037.222 | Q27: 69.445384 | R27: 12140.516 | S27: 73.326915 | T27: 2653.537 | U27: 74.54969 | V27: 285.83854 | W27: 88.335275 | X27: 15079.892 | Y27: 73.777451
A30: 下請比率、次数 | B30: ９０％以上１００％未満 | J30: １００％ | R30: 合 計
B31: 一次下請 | D31: 二次下請 | F31: 三次以下下請 | H31: 小 計 | J31: 一次下請 | L31: 二次下請 | N31: 三次以下下請 | P31: 小 計 | R31: 一次下請 | T31: 二次下請 | V31: 三次以下下請
A32: 加入 | B32: 5359.8111 | C32: 21.6051 | D32: 1207.8447 | E32: 19.47502 | F32: 75.490296 | G32: 10.767439 | H32: 6643.1461 | I32: 20.948894 | J32: 10304.425 | K32: 17.338312 | L32: 3736.7697 | M32: 13.098009 | N32: 754.90296 | O32: 12.49792 | P32: 14796.098 | Q32: 15.740352 | R32: 61788.808 | S32: 28.649896 | T32: 8756.8744 | U32: 18.771442 | V32: 868.13841 | W32: 11.256868 | X32: 71413.82 | Y32: 26.446567
A33: 未加入 | B33: 19448.272 | C33: 78.3949 | D33: 4994.1759 | E33: 80.52498 | F33: 625.60769 | G33: 89.232561 | H33: 25068.055 | I33: 79.051106 | J33: 49127.112 | K33: 82.661688 | L33: 24792.525 | M33: 86.901991 | N33: 5285.3258 | O33: 87.50208 | P33: 79204.963 | Q33: 84.259648 | R33: 153879.72 | S33: 71.350104 | T33: 37893.107 | U33: 81.228558 | V33: 6843.9395 | W33: 88.743132 | X33: 198616.77 | Y33: 73.553433
Q34: （注） | R34: 1．( )の数値は加入＋未加入を100とした場合の構成比
