Workbook
Name ______________________ＴＢＬ１: [1]CSS編集画面!$B$10:$F$22
Name ______________________ＴＢＬ２: [1]CSS編集画面!$B$24:$I$35
Name _____________________ＴＢＬ１: [1]CSS編集画面!$B$10:$F$22
Name _____________________ＴＢＬ２: [1]CSS編集画面!$B$24:$I$35
Name ____________________ＴＢＬ１: [1]CSS編集画面!$B$10:$F$22
Name ____________________ＴＢＬ２: [1]CSS編集画面!$B$24:$I$35
Name ___________________ＴＢＬ１: [1]CSS編集画面!$B$10:$F$22
Name ___________________ＴＢＬ２: [1]CSS編集画面!$B$24:$I$35
Name __________________ＴＢＬ１: [1]CSS編集画面!$B$10:$F$22
Name __________________ＴＢＬ２: [1]CSS編集画面!$B$24:$I$35
Name _________________ＴＢＬ１: [1]CSS編集画面!$B$10:$F$22
Name _________________ＴＢＬ２: [1]CSS編集画面!$B$24:$I$35
Name ________________ＴＢＬ１: [1]CSS編集画面!$B$10:$F$22
Name ________________ＴＢＬ２: [1]CSS編集画面!$B$24:$I$35
Name _______________ＴＢＬ１: [1]CSS編集画面!$B$10:$F$22
Name _______________ＴＢＬ２: [1]CSS編集画面!$B$24:$I$35
Name ______________ＴＢＬ１: [1]CSS編集画面!$B$10:$F$22
Name ______________ＴＢＬ２: [1]CSS編集画面!$B$24:$I$35
Name _____________ＴＢＬ１: [1]CSS編集画面!$B$10:$F$22
Name _____________ＴＢＬ２: [1]CSS編集画面!$B$24:$I$35
Name ____________ＴＢＬ１: [1]CSS編集画面!$B$10:$F$22
Name ____________ＴＢＬ２: [1]CSS編集画面!$B$24:$I$35
Name ___________ＴＢＬ１: [1]CSS編集画面!$B$10:$F$22
Name ___________ＴＢＬ２: [1]CSS編集画面!$B$24:$I$35
Name __________ＴＢＬ１: [1]CSS編集画面!$B$10:$F$22
Name __________ＴＢＬ２: [1]CSS編集画面!$B$24:$I$35
Name _________ＴＢＬ１: [1]CSS編集画面!$B$10:$F$22
Name _________ＴＢＬ２: [1]CSS編集画面!$B$24:$I$35
Name ________ＴＢＬ１: [1]CSS編集画面!$B$10:$F$22
Name ________ＴＢＬ２: [1]CSS編集画面!$B$24:$I$35
Name _______ＴＢＬ１: [1]CSS編集画面!$B$10:$F$22
Name _______ＴＢＬ２: [1]CSS編集画面!$B$24:$I$35
Name ______ＴＢＬ１: [1]CSS編集画面!$B$10:$F$22
Name ______ＴＢＬ２: [1]CSS編集画面!$B$24:$I$35
Name _____ＴＢＬ１: [1]CSS編集画面!$B$10:$F$22
Name _____ＴＢＬ２: [1]CSS編集画面!$B$24:$I$35
Name ____ＴＢＬ１: [1]CSS編集画面!$B$10:$F$22
Name ____ＴＢＬ２: [1]CSS編集画面!$B$24:$I$35
Name ___ＴＢＬ１: [1]CSS編集画面!$B$10:$F$22
Name ___ＴＢＬ２: [1]CSS編集画面!$B$24:$I$35
Name __ＴＢＬ１: [1]CSS編集画面!$B$10:$F$22
Name __ＴＢＬ２: [1]CSS編集画面!$B$24:$I$35
Name _ＴＢＬ１: [1]CSS編集画面!$B$10:$F$22
Name _ＴＢＬ２: [1]CSS編集画面!$B$24:$I$35
Name PAGE1: #REF!
Name PAGE10: #REF!
Name PAGE100: #REF!
Name PAGE1000: #REF!
Name PAGE1001: #REF!
Name PAGE1002: #REF!
Name PAGE1003: #REF!
Name PAGE1004: #REF!
Name PAGE1005: #REF!
Name PAGE1006: #REF!
Name PAGE1007: #REF!
Name PAGE1008: #REF!
Name PAGE1009: #REF!
Name PAGE101: #REF!
Name PAGE1010: #REF!
Name PAGE1011: #REF!

Sheet 7-2-1
A1: 表7－2－1 事業協同組合への加入状況
W3: （単位：社、％）
C4: 資本金 | D4: 個 人 | F4: 法 人 | V4: 合 計
A5: 業種 | C5: 種別 | F5: 500万円未満 | H5: 500万円以上 1000万円未満 | J5: 1000万円以上 3000万円未満 | L5: 3000万円以上 5000万円未満 | N5: 5000万円以上 1億円未満 | P5: 1億円以上 3億円未満 | R5: 3億円以上 10億円未満 | T5: 10億円以上
A6: 一般土木建築 | B6: 一般土木建築 工事業 | C6: 加入 | D6: 198 | E6: 50 | F6: 308 | G6: 40 | H6: 135.28571 | I6: 14.285714 | J6: 1095.2 | K6: 40 | L6: 561.84211 | M6: 36.842105 | N6: 358.18182 | O6: 45.454545 | P6: 61.785714 | Q6: 35.714286 | R6: 4.3333333 | S6: 16.666667 | T6: 7.8 | U6: 15 | V6: 2730.4287 | W6: 36.823044
C7: 未加入 | D7: 198 | E7: 50 | F7: 462 | G7: 60 | H7: 811.71429 | I7: 85.714286 | J7: 1642.8 | K7: 60 | L7: 963.15789 | M7: 63.157895 | N7: 429.81818 | O7: 54.545455 | P7: 111.21429 | Q7: 64.285714 | R7: 21.666667 | S7: 83.333333 | T7: 44.2 | U7: 85 | V7: 4684.5713 | W7: 63.176956
A8: 土木 | B8: 土木工事業 | C8: 加入 | F8: 1163.8125 | G8: 18.75 | H8: 1434.4068 | I8: 23.728814 | J8: 4515.6053 | K8: 38.157895 | L8: 1366.0976 | M8: 36.585366 | N8: 433.88136 | O8: 38.983051 | P8: 35.40625 | Q8: 34.375 | R8: 3.6 | S8: 20 | T8: 7.5 | U8: 37.5 | V8: 8960.3097 | W8: 28.815918
C9: 未加入 | D9: 2021 | E9: 100 | F9: 5043.1875 | G9: 81.25 | H9: 4610.5932 | I9: 76.271186 | J9: 7318.3947 | K9: 61.842105 | L9: 2367.9024 | M9: 63.414634 | N9: 679.11864 | O9: 61.016949 | P9: 67.59375 | Q9: 65.625 | R9: 14.4 | S9: 80 | T9: 12.5 | U9: 62.5 | V9: 22134.69 | W9: 71.184082
B10: ほ装工事業 | C10: 加入 | D10: 4.8333333 | E10: 16.666667 | F10: 30.551724 | G10: 3.4482759 | H10: 148.54167 | I10: 20.833333 | J10: 365.09524 | K10: 26.190476 | L10: 134.21739 | M10: 39.130435 | N10: 52.387097 | O10: 45.16129 | P10: 4 | Q10: 40 | V10: 739.62645 | W10: 21.150313
C11: 未加入 | D11: 24.166667 | E11: 83.333333 | F11: 855.44828 | G11: 96.551724 | H11: 564.45833 | I11: 79.166667 | J11: 1028.9048 | K11: 73.809524 | L11: 208.78261 | M11: 60.869565 | N11: 63.612903 | O11: 54.83871 | P11: 6 | Q11: 60 | T11: 6 | U11: 100 | V11: 2757.3735 | W11: 78.849687
B12: しゅんせつ 工事業 | C12: 加入 | J12: 15.333333 | K12: 33.333333 | V12: 15.333333 | W12: 10.222222
C13: 未加入 | H13: 69 | I13: 100 | J13: 30.666667 | K13: 66.666667 | L13: 27 | M13: 100 | N13: 8 | O13: 100 | V13: 134.66667 | W13: 89.777778
B14: 造園工事業 | C14: 加入 | H14: 61.5 | I14: 16.666667 | J14: 331.40426 | K14: 46.808511 | L14: 81.319149 | M14: 55.319149 | N14: 14 | O14: 41.176471 | V14: 488.2234 | W14: 21.1078
C15: 未加入 | D15: 406 | E15: 100 | F15: 649 | G15: 100 | H15: 307.5 | I15: 83.333333 | J15: 376.59574 | K15: 53.191489 | L15: 65.680851 | M15: 44.680851 | N15: 20 | O15: 58.823529 | V15: 1824.7766 | W15: 78.8922
B16: 水道施設工事業 | C16: 加入 | F16: 149.23077 | G16: 38.461538 | H16: 190.22222 | I16: 44.444444 | J16: 500.21622 | K16: 75.675676 | L16: 93.8125 | M16: 59.375 | N16: 32 | O16: 66.666667 | V16: 965.48171 | W16: 55.138875
C17: 未加入 | D17: 65 | E17: 100 | F17: 238.76923 | G17: 61.538462 | H17: 237.77778 | I17: 55.555556 | J17: 160.78378 | K17: 24.324324 | L17: 64.1875 | M17: 40.625 | N17: 16 | O17: 33.333333 | P17: 3 | Q17: 100 | V17: 785.51829 | W17: 44.861125
A18: 小 計 | C18: 加入 | D18: 4.8333333 | E18: 0.19172286 | F18: 1343.595 | G18: 16.526384 | H18: 1834.6707 | I18: 24.064411 | J18: 5727.6543 | K18: 39.115306 | L18: 1675.4466 | M18: 38.000603 | N18: 532.26845 | O18: 40.353939 | P18: 39.40625 | Q18: 33.970905 | R18: 3.6 | S18: 20 | T18: 7.5 | U18: 28.846154 | V18: 11168.975 | W18: 28.781566
C19: 未加入 | D19: 2516.1667 | E19: 99.808277 | F19: 6786.405 | G19: 83.473616 | H19: 5789.3293 | I19: 75.935589 | J19: 8915.3457 | K19: 60.884694 | L19: 2733.5534 | M19: 61.999397 | N19: 786.73155 | O19: 59.646061 | P19: 76.59375 | Q19: 66.029095 | R19: 14.4 | S19: 80 | T19: 18.5 | U19: 71.153846 | V19: 27637.025 | W19: 71.218434
A20: 建築 | B20: 建築工事業 | C20: 加入 | D20: 2576.5789 | E20: 26.315789 | F20: 3398.5714 | G20: 17.857143 | H20: 3029.5556 | I20: 22.222222 | J20: 7575 | K20: 32.894737 | L20: 2334.7692 | M20: 43.076923 | N20: 881.22414 | O20: 46.551724 | P20: 130 | Q20: 40 | R20: 12.894737 | S20: 26.315789 | V20: 19938.594 | W20: 27.232936
C21: 未加入 | D21: 7214.4211 | E21: 73.684211 | F21: 15633.429 | G21: 82.142857 | H21: 10603.444 | I21: 77.777778 | J21: 15453 | K21: 67.105263 | L21: 3085.2308 | M21: 56.923077 | N21: 1011.7759 | O21: 53.448276 | P21: 195 | Q21: 60 | R21: 36.105263 | S21: 73.684211 | T21: 44 | U21: 100 | V21: 53276.406 | W21: 72.767064
B22: 木造建築工事業 | C22: 加入 | D22: 1900.3636 | E22: 36.363636 | F22: 490.44828 | G22: 10.344828 | H22: 201.69767 | I22: 6.9767442 | J22: 369 | K22: 11.111111 | L22: 73.882353 | M22: 23.529412 | N22: 19.130435 | O22: 17.391304 | P22: 7.1666667 | Q22: 16.666667 | V22: 3061.689 | W22: 18.386314
C23: 未加入 | D23: 3325.6364 | E23: 63.636364 | F23: 4250.5517 | G23: 89.655172 | H23: 2689.3023 | I23: 93.023256 | J23: 2952 | K23: 88.888889 | L23: 240.11765 | M23: 76.470588 | N23: 90.869565 | O23: 82.608696 | P23: 35.833333 | Q23: 83.333333 | R23: 2 | S23: 100 | T23: 4 | U23: 100 | V23: 13590.311 | W23: 81.613686
A24: 小 計 | C24: 加入 | D24: 4476.9426 | E24: 29.812496 | F24: 3889.0197 | G24: 16.358977 | H24: 3231.2532 | I24: 19.554909 | J24: 7944 | K24: 30.149152 | L24: 2408.6516 | M24: 42.00648 | N24: 900.35457 | O24: 44.950303 | P24: 137.16667 | Q24: 37.273551 | R24: 12.894737 | S24: 25.283798 | V24: 23000.283 | W24: 25.593692
C25: 未加入 | D25: 10540.057 | E25: 70.187504 | F25: 19883.98 | G25: 83.641023 | H25: 13292.747 | I25: 80.445091 | J25: 18405 | K25: 69.850848 | L25: 3325.3484 | M25: 57.99352 | N25: 1102.6454 | O25: 55.049697 | P25: 230.83333 | Q25: 62.726449 | R25: 38.105263 | S25: 74.716202 | T25: 48 | U25: 100 | V25: 66866.717 | W25: 74.406308
A26: 職別 | B26: 大工工事業 | C26: 加入 | D26: 909.6 | E26: 40 | F26: 503.34146 | G26: 21.95122 | H26: 409.14286 | I26: 28.571429 | J26: 521.23404 | K26: 38.297872 | L26: 30.96 | M26: 36 | N26: 21 | O26: 50 | V26: 2395.2784 | W26: 31.966881
C27: 未加入 | D27: 1364.4 | E27: 60 | F27: 1789.6585 | G27: 78.04878 | H27: 1022.8571 | I27: 71.428571 | J27: 839.76596 | K27: 61.702128 | L27: 55.04 | M27: 64 | N27: 21 | O27: 50 | P27: 5 | Q27: 100 | V27: 5097.7216 | W27: 68.033119
B28: とび・土工・ コンクリート 工事業 | C28: 加入 | D28: 222.61538 | E28: 15.384615 | F28: 1040.4 | G28: 13.333333 | H28: 503.72093 | I28: 11.627907 | J28: 1198.512 | K28: 33.6 | L28: 90.384615 | M28: 27.472527 | N28: 57.677419 | O28: 38.709677 | P28: 7.3333333 | Q28: 22.222222 | V28: 3120.6437 | W28: 17.667688
C29: 未加入 | D29: 1224.3846 | E29: 84.615385 | F29: 6762.6 | G29: 86.666667 | H29: 3828.2791 | I29: 88.372093 | J29: 2368.488 | K29: 66.4 | L29: 238.61538 | M29: 72.527473 | N29: 91.322581 | O29: 61.290323 | P29: 25.666667 | Q29: 77.777778 | R29: 2 | S29: 100 | T29: 1 | U29: 100 | V29: 14542.356 | W29: 82.332312
B30: 鋼構造物工事業 | C30: 加入 | D30: 27.125 | E30: 12.5 | F30: 783 | G30: 50 | H30: 278.92857 | I30: 35.714286 | J30: 953.94737 | K30: 50.877193 | L30: 78.139535 | M30: 46.511628 | N30: 35.275 | O30: 42.5 | P30: 2.25 | Q30: 25 | V30: 2158.6655 | W30: 45.860749
C31: 未加入 | D31: 189.875 | E31: 87.5 | F31: 783 | G31: 50 | H31: 502.07143 | I31: 64.285714 | J31: 921.05263 | K31: 49.122807 | L31: 89.860465 | M31: 53.488372 | N31: 47.725 | O31: 57.5 | P31: 6.75 | Q31: 75 | R31: 5 | S31: 100 | T31: 3 | U31: 100 | V31: 2548.3345 | W31: 54.139251
B32: 鉄筋工事業 | C32: 加入 | D32: 876.8 | E32: 40 | F32: 282.93548 | G32: 22.580645 | H32: 556.04167 | I32: 70.833333 | J32: 507.71111 | K32: 68.888889 | L32: 30.214286 | M32: 64.285714 | N32: 22 | O32: 100 | V32: 2275.7025 | W32: 45.188692
C33: 未加入 | D33: 1315.2 | E33: 60 | F33: 970.06452 | G33: 77.419355 | H33: 228.95833 | I33: 29.166667 | J33: 229.28889 | K33: 31.111111 | L33: 16.785714 | M33: 35.714286 | V33: 2760.2975 | W33: 54.811308
B34: 解体工事業 | C34: 加入 | F34: 212.71429 | G34: 14.285714 | H34: 224.18182 | I34: 27.272727 | J34: 288.375 | K34: 37.5 | L34: 30.4 | M34: 20 | N34: 14.8 | O34: 40 | P34: 7 | Q34: 100 | V34: 777.4711 | W34: 21.33565
C35: 未加入 | D35: 368 | E35: 100 | F35: 1276.2857 | G35: 85.714286 | H35: 597.81818 | I35: 72.727273 | J35: 480.625 | K35: 62.5 | L35: 121.6 | M35: 80 | N35: 22.2 | O35: 60 | V35: 2866.5289 | W35: 78.66435
B36: 躯体関係計 | C36: 加入 | D36: 2036.1404 | E36: 31.334878 | F36: 2822.3912 | G36: 19.594496 | H36: 1972.0158 | I36: 24.190577 | J36: 3469.7795 | K36: 41.759291 | L36: 260.09844 | M36: 33.26067 | N36: 150.75242 | O36: 45.270997 | P36: 16.583333 | Q36: 30.709877 | V36: 10727.761 | W36: 27.833228
C37: 未加入 | D37: 4461.8596 | E37: 68.665122 | F37: 11581.609 | G37: 80.405504 | H37: 6179.9842 | I37: 75.809423 | J37: 4839.2205 | K37: 58.240709 | L37: 521.90156 | M37: 66.73933 | N37: 182.24758 | O37: 54.729003 | P37: 37.416667 | Q37: 69.290123 | R37: 7 | S37: 100 | T37: 4 | U37: 100 | V37: 27815.239 | W37: 72.166772
B38: 左官工事業 | C38: 加入 | D38: 497.5 | E38: 50 | F38: 657.6 | G38: 48 | H38: 170.54545 | I38: 36.363636 | J38: 247.8 | K38: 46.666667 | L38: 13.363636 | M38: 63.636364 | N38: 8 | O38: 50 | V38: 1594.8091 | W38: 46.878574
C39: 未加入 | D39: 497.5 | E39: 50 | F39: 712.4 | G39: 52 | H39: 298.45455 | I39: 63.636364 | J39: 283.2 | K39: 53.333333 | L39: 7.6363636 | M39: 36.363636 | N39: 8 | O39: 50 | V39: 1807.1909 | W39: 53.121426
B40: 石工事業 | C40: 加入 | F40: 181 | G40: 33.333333 | H40: 32.166667 | I40: 16.666667 | J40: 72.882353 | K40: 17.647059 | V40: 286.04902 | W40: 23.877214
C41: 未加入 | F41: 362 | G41: 66.666667 | H41: 160.83333 | I41: 83.333333 | J41: 340.11765 | K41: 82.352941 | L41: 33 | M41: 100 | N41: 16 | O41: 100 | V41: 911.95098 | W41: 76.122786
...

Sheet 7-2-2
A1: 表7－2－2 事業協同組合への加入状況（経年変化）
A3: （経年変化①） | S3: （単位：社、％）
B4: 年度 | C4: R06年度 | F4: R01年度 | I4: H26年度 | L4: H23年度 | O4: H20年度 | R4: H17年度
A6: 業種 | E6: 増減 | H6: 増減 | K6: 増減 | N6: 増減 | Q6: 増減
A7: 一般土木建築 | B7: 加入 | C7: =IF('7-2-1'!V6<>"",'7-2-1'!V6,"") -> 2730.4287 | D7: =IF('7-2-1'!W6<>"",'7-2-1'!W6,"") -> 36.823044 | E7: =IF(AND(ISNUMBER(D7),ISNUMBER(G7)),D7-G7,"") -> -12.776956 | F7: 1771 | G7: 49.6 | H7: =IF(AND(ISNUMBER(G7),ISNUMBER(J7)),G7-J7,"") -> -1.0105133 | I7: 1985.2264 | J7: 50.610513 | K7: =IF(AND(ISNUMBER(J7),ISNUMBER(M7)),J7-M7,"") -> 2.1105133 | L7: 2002.5 | M7: 48.5 | N7: =M7-P7 -> -1.5 | O7: 2480 | P7: 50 | Q7: =P7-S7 -> -1.7 | R7: 2895 | S7: 51.7
B8: 未加入 | C8: =IF('7-2-1'!V7<>"",'7-2-1'!V7,"") -> 4684.5713 | D8: =IF('7-2-1'!W7<>"",'7-2-1'!W7,"") -> 63.176956 | E8: =IF(AND(ISNUMBER(D8),ISNUMBER(G8)),D8-G8,"") -> 12.776956 | F8: 1802 | G8: 50.4 | H8: =IF(AND(ISNUMBER(G8),ISNUMBER(J8)),G8-J8,"") -> 1.0105133 | I8: 1937.3309 | J8: 49.389487 | K8: =IF(AND(ISNUMBER(J8),ISNUMBER(M8)),J8-M8,"") -> -2.1105133 | L8: 2122.55 | M8: 51.5 | N8: =M8-P8 -> 1.5 | O8: 2477 | P8: 50 | Q8: =P8-S8 -> 1.7 | R8: 2701 | S8: 48.3
A9: 土木 | B9: 加入 | C9: =IF('7-2-1'!V18<>"",'7-2-1'!V18,"") -> 11168.975 | D9: =IF('7-2-1'!W18<>"",'7-2-1'!W18,"") -> 28.781566 | E9: =IF(AND(ISNUMBER(D9),ISNUMBER(G9)),D9-G9,"") -> -11.718434 | F9: 12821 | G9: 40.5 | H9: =IF(AND(ISNUMBER(G9),ISNUMBER(J9)),G9-J9,"") -> -2.3709612 | I9: 15283.669 | J9: 42.870961 | K9: =IF(AND(ISNUMBER(J9),ISNUMBER(M9)),J9-M9,"") -> 0.67096116 | L9: 16232.85 | M9: 42.2 | N9: =M9-P9 -> -1.9 | O9: 19891 | P9: 44.1 | Q9: =P9-S9 -> 0.6 | R9: 22983 | S9: 43.5
B10: 未加入 | C10: =IF('7-2-1'!V19<>"",'7-2-1'!V19,"") -> 27637.025 | D10: =IF('7-2-1'!W19<>"",'7-2-1'!W19,"") -> 71.218434 | E10: =IF(AND(ISNUMBER(D10),ISNUMBER(G10)),D10-G10,"") -> 11.718434 | F10: 18841 | G10: 59.5 | H10: =IF(AND(ISNUMBER(G10),ISNUMBER(J10)),G10-J10,"") -> 2.3709612 | I10: 20366.73 | J10: 57.129039 | K10: =IF(AND(ISNUMBER(J10),ISNUMBER(M10)),J10-M10,"") -> -0.67096116 | L10: 22210.55 | M10: 57.8 | N10: =M10-P10 -> 1.9 | O10: 25218 | P10: 55.9 | Q10: =P10-S10 -> -0.6 | R10: 29894 | S10: 56.5
A11: 建築 | B11: 加入 | C11: =IF('7-2-1'!V20<>"",'7-2-1'!V20,"") -> 19938.594 | D11: =IF('7-2-1'!W20<>"",'7-2-1'!W20,"") -> 27.232936 | E11: =IF(AND(ISNUMBER(D11),ISNUMBER(G11)),D11-G11,"") -> -10.167064 | F11: 10196 | G11: 37.4 | H11: =IF(AND(ISNUMBER(G11),ISNUMBER(J11)),G11-J11,"") -> 8.7737144 | I11: 8625.0574 | J11: 28.626286 | K11: =IF(AND(ISNUMBER(J11),ISNUMBER(M11)),J11-M11,"") -> -7.1737144 | L11: 12035.98 | M11: 35.8 | N11: =M11-P11 -> 4.1 | O11: 10831 | P11: 31.7 | Q11: =P11-S11 -> -7.4 | R11: 16394 | S11: 39.1
B12: 未加入 | C12: =IF('7-2-1'!V21<>"",'7-2-1'!V21,"") -> 53276.406 | D12: =IF('7-2-1'!W21<>"",'7-2-1'!W21,"") -> 72.767064 | E12: =IF(AND(ISNUMBER(D12),ISNUMBER(G12)),D12-G12,"") -> 10.167064 | F12: 17049 | G12: 62.6 | H12: =IF(AND(ISNUMBER(G12),ISNUMBER(J12)),G12-J12,"") -> -8.7737144 | I12: 21504.794 | J12: 71.373714 | K12: =IF(AND(ISNUMBER(J12),ISNUMBER(M12)),J12-M12,"") -> 7.1737144 | L12: 21589.17 | M12: 64.2 | N12: =M12-P12 -> -4.1 | O12: 23318 | P12: 68.3 | Q12: =P12-S12 -> 7.4 | R12: 25549 | S12: 60.9
A13: 木造建築 | B13: 加入 | C13: =IF('7-2-1'!V22<>"",'7-2-1'!V22,"") -> 3061.689 | D13: =IF('7-2-1'!W22<>"",'7-2-1'!W22,"") -> 18.386314 | E13: =IF(AND(ISNUMBER(D13),ISNUMBER(G13)),D13-G13,"") -> -18.713686 | F13: 3762 | G13: 37.1 | H13: =IF(AND(ISNUMBER(G13),ISNUMBER(J13)),G13-J13,"") -> 4.3641113 | I13: 4816.489 | J13: 32.735889 | K13: =IF(AND(ISNUMBER(J13),ISNUMBER(M13)),J13-M13,"") -> -0.36411134 | L13: 4432.61 | M13: 33.1 | N13: =M13-P13 -> 1.7 | O13: 4628 | P13: 31.4 | Q13: =P13-S13 -> -3.8 | R13: 6092 | S13: 35.2
B14: 未加入 | C14: =IF('7-2-1'!V23<>"",'7-2-1'!V23,"") -> 13590.311 | D14: =IF('7-2-1'!W23<>"",'7-2-1'!W23,"") -> 81.613686 | E14: =IF(AND(ISNUMBER(D14),ISNUMBER(G14)),D14-G14,"") -> 18.713686 | F14: 6389 | G14: 62.9 | H14: =IF(AND(ISNUMBER(G14),ISNUMBER(J14)),G14-J14,"") -> -4.3641113 | I14: 9896.6872 | J14: 67.264111 | K14: =IF(AND(ISNUMBER(J14),ISNUMBER(M14)),J14-M14,"") -> 0.36411134 | L14: 8943.32 | M14: 66.9 | N14: =M14-P14 -> -1.7 | O14: 10091 | P14: 68.6 | Q14: =P14-S14 -> 3.8 | R14: 11226 | S14: 64.8
A15: 職別 | B15: 加入 | C15: =IF('7-2-1'!V60<>"",'7-2-1'!V60,"") -> 33198.596 | D15: =IF('7-2-1'!W60<>"",'7-2-1'!W60,"") -> 32.652644 | E15: =IF(AND(ISNUMBER(D15),ISNUMBER(G15)),D15-G15,"") -> -7.3473564 | F15: 17299 | G15: 40 | H15: =IF(AND(ISNUMBER(G15),ISNUMBER(J15)),G15-J15,"") -> 6.0486498 | I15: 15028.118 | J15: 33.95135 | K15: =IF(AND(ISNUMBER(J15),ISNUMBER(M15)),J15-M15,"") -> -6.0486498 | L15: 16679.56 | M15: 40 | N15: =M15-P15 -> 3 | O15: 15789 | P15: 37 | Q15: =P15-S15 -> -0.9 | R15: 17388 | S15: 37.9
B16: 未加入 | C16: =IF('7-2-1'!V61<>"",'7-2-1'!V61,"") -> 68473.404 | D16: =IF('7-2-1'!W61<>"",'7-2-1'!W61,"") -> 67.347356 | E16: =IF(AND(ISNUMBER(D16),ISNUMBER(G16)),D16-G16,"") -> 7.3473564 | F16: 25967 | G16: 60 | H16: =IF(AND(ISNUMBER(G16),ISNUMBER(J16)),G16-J16,"") -> -6.0486498 | I16: 29235.565 | J16: 66.04865 | K16: =IF(AND(ISNUMBER(J16),ISNUMBER(M16)),J16-M16,"") -> 6.0486498 | L16: 25068.4 | M16: 60 | N16: =M16-P16 -> -3 | O16: 26909 | P16: 63 | Q16: =P16-S16 -> 0.9 | R16: 28461 | S16: 62.1
A17: 設備 | B17: 加入 | C17: =IF('7-2-1'!V76<>"",'7-2-1'!V76,"") -> 27395.592 | D17: =IF('7-2-1'!W76<>"",'7-2-1'!W76,"") -> 40.464369 | E17: =IF(AND(ISNUMBER(D17),ISNUMBER(G17)),D17-G17,"") -> -9.1356313 | F17: 16488 | G17: 49.6 | H17: =IF(AND(ISNUMBER(G17),ISNUMBER(J17)),G17-J17,"") -> 0.64831431 | I17: 17959.898 | J17: 48.951686 | K17: =IF(AND(ISNUMBER(J17),ISNUMBER(M17)),J17-M17,"") -> -5.0483143 | L17: 19557.39 | M17: 54 | N17: =M17-P17 -> -1.4 | O17: 20366 | P17: 55.4 | Q17: =P17-S17 -> -1.1 | R17: 22763 | S17: 56.5
B18: 未加入 | C18: =IF('7-2-1'!V77<>"",'7-2-1'!V77,"") -> 40307.408 | D18: =IF('7-2-1'!W77<>"",'7-2-1'!W77,"") -> 59.535631 | E18: =IF(AND(ISNUMBER(D18),ISNUMBER(G18)),D18-G18,"") -> 9.1356313 | F18: 16756 | G18: 50.4 | H18: =IF(AND(ISNUMBER(G18),ISNUMBER(J18)),G18-J18,"") -> -0.64831431 | I18: 18729.13 | J18: 51.048314 | K18: =IF(AND(ISNUMBER(J18),ISNUMBER(M18)),J18-M18,"") -> 5.0483143 | L18: 16652.25 | M18: 46 | N18: =M18-P18 -> 1.4 | O18: 16423 | P18: 44.6 | Q18: =P18-S18 -> 1.1 | R18: 17558 | S18: 43.5
A19: 合 計 | B19: 加入 | C19: =IF('7-2-1'!V78<>"",'7-2-1'!V78,"") -> 97493.874 | D19: =IF('7-2-1'!W78<>"",'7-2-1'!W78,"") -> 31.916754 | E19: =IF(AND(ISNUMBER(D19),ISNUMBER(G19)),D19-G19,"") -> -9.8832462 | F19: 62337 | G19: 41.8 | H19: =IF(AND(ISNUMBER(G19),ISNUMBER(J19)),G19-J19,"") -> 3.2809459 | I19: 63698.457 | J19: 38.519054 | K19: =IF(AND(ISNUMBER(J19),ISNUMBER(M19)),J19-M19,"") -> -3.7809459 | L19: 70940.89 | M19: 42.3 | N19: =M19-P19 -> 0.8 | O19: 73986 | P19: 41.5 | Q19: =P19-S19 -> -1.9 | R19: 88514 | S19: 43.4
B20: 未加入 | C20: =IF('7-2-1'!V79<>"",'7-2-1'!V79,"") -> 207969.13 | D20: =IF('7-2-1'!W79<>"",'7-2-1'!W79,"") -> 68.083246 | E20: =IF(AND(ISNUMBER(D20),ISNUMBER(G20)),D20-G20,"") -> 9.8832462 | F20: 86805 | G20: 58.2 | H20: =IF(AND(ISNUMBER(G20),ISNUMBER(J20)),G20-J20,"") -> -3.2809459 | I20: 101670.24 | J20: 61.480946 | K20: =IF(AND(ISNUMBER(J20),ISNUMBER(M20)),J20-M20,"") -> 3.7809459 | L20: 96586.25 | M20: 57.7 | N20: =M20-P20 -> -0.8 | O20: 104436 | P20: 58.5 | Q20: =P20-S20 -> 1.9 | R20: 115389 | S20: 56.6
P21: （注） | Q21: 1．( )の数値は加入＋未加入を100とした場合の構成比
A24: （経年変化②） | V24: （単位：社、％）
B25: 資本金 | C25: 個人 | E25: 法 人 | U25: 合 計
E26: 500万円未満 | G26: 500万円以上 1000万円未満 | I26: 1000万円以上 3000万円未満 | K26: 3000万円以上 5000万円未満 | M26: 5000万円以上 1億円未満 | O26: 1億円以上 3億円未満 | Q26: 3億円以上 10億円未満 | S26: 10億円以上
A27: 年度
A28: R06年度 | B28: 加入 | C28: =IF('7-2-1'!D78<>"",'7-2-1'!D78,"") -> 15389.948 | D28: =IF('7-2-1'!E78<>"",'7-2-1'!E78,"") -> 31.661999 | E28: =IF('7-2-1'!F78<>"",'7-2-1'!F78,"") -> 22387.834 | F28: =IF('7-2-1'!G78<>"",'7-2-1'!G78,"") -> 24.447806 | G28: =IF('7-2-1'!H78<>"",'7-2-1'!H78,"") -> 17338.62 | H28: =IF('7-2-1'!I78<>"",'7-2-1'!I78,"") -> 29.895203 | I28: =IF('7-2-1'!J78<>"",'7-2-1'!J78,"") -> 32701.45 | J28: =IF('7-2-1'!K78<>"",'7-2-1'!K78,"") -> 38.603091 | ... V28: =IF('7-2-1'!W78<>"",'7-2-1'!W78,"") -> 31.916754
B29: 未加入 | C29: =IF('7-2-1'!D79<>"",'7-2-1'!D79,"") -> 33217.052 | D29: =IF('7-2-1'!E79<>"",'7-2-1'!E79,"") -> 68.338001 | E29: =IF('7-2-1'!F79<>"",'7-2-1'!F79,"") -> 69186.166 | F29: =IF('7-2-1'!G79<>"",'7-2-1'!G79,"") -> 75.552194 | G29: =IF('7-2-1'!H79<>"",'7-2-1'!H79,"") -> 40659.38 | H29: =IF('7-2-1'!I79<>"",'7-2-1'!I79,"") -> 70.104797 | I29: =IF('7-2-1'!J79<>"",'7-2-1'!J79,"") -> 52010.55 | J29: =IF('7-2-1'!K79<>"",'7-2-1'!K79,"") -> 61.396909 | ... V29: =IF('7-2-1'!W79<>"",'7-2-1'!W79,"") -> 68.083246
A30: 増減 | B30: 加入 | D30: =IF(AND(ISNUMBER(D28),ISNUMBER(D32)),D28-D32,"") -> -11.638001 | F30: =IF(AND(ISNUMBER(F28),ISNUMBER(F32)),F28-F32,"") -> -7.1521935 | H30: =IF(AND(ISNUMBER(H28),ISNUMBER(H32)),H28-H32,"") -> -11.504797 | J30: =IF(AND(ISNUMBER(J28),ISNUMBER(J32)),J28-J32,"") -> -7.496909 | L30: =IF(AND(ISNUMBER(L28),ISNUMBER(L32)),L28-L32,"") -> -9.0025438 | N30: =IF(AND(ISNUMBER(N28),ISNUMBER(N32)),N28-N32,"") -> -5.0723003 | P30: =IF(AND(ISNUMBER(P28),ISNUMBER(P32)),P28-P32,"") -> -7.5249193 | R30: =IF(AND(ISNUMBER(R28),ISNUMBER(R32)),R28-R32,"") -> -10.841125 | T30: =IF(AND(ISNUMBER(T28),ISNUMBER(T32)),T28-T32,"") -> -23.890173 | V30: =IF(AND(ISNUMBER(V28),ISNUMBER(V32)),V28-V32,"") -> -9.8832462
B31: 未加入 | D31: =IF(AND(ISNUMBER(D29),ISNUMBER(D33)),D29-D33,"") -> 11.638001 | F31: =IF(AND(ISNUMBER(F29),ISNUMBER(F33)),F29-F33,"") -> 7.1521935 | H31: =IF(AND(ISNUMBER(H29),ISNUMBER(H33)),H29-H33,"") -> 11.504797 | J31: =IF(AND(ISNUMBER(J29),ISNUMBER(J33)),J29-J33,"") -> 7.496909 | L31: =IF(AND(ISNUMBER(L29),ISNUMBER(L33)),L29-L33,"") -> 9.0025438 | N31: =IF(AND(ISNUMBER(N29),ISNUMBER(N33)),N29-N33,"") -> 5.0723003 | P31: =IF(AND(ISNUMBER(P29),ISNUMBER(P33)),P29-P33,"") -> 7.5249193 | R31: =IF(AND(ISNUMBER(R29),ISNUMBER(R33)),R29-R33,"") -> 10.841125 | T31: =IF(AND(ISNUMBER(T29),ISNUMBER(T33)),T29-T33,"") -> 23.890173 | V31: =IF(AND(ISNUMBER(V29),ISNUMBER(V33)),V29-V33,"") -> 9.8832462
A32: R01年度 | B32: 加入 | C32: 7593 | D32: 43.3 | E32: 11703 | F32: 31.6 | G32: 10911 | H32: 41.4 | I32: 24604 | J32: 46.1 | K32: 5293 | L32: 51.7 | M32: 1882 | N32: 51 | O32: 245 | P32: 42.6 | Q32: 38 | R32: 30.2 | S32: 66 | T32: 41 | U32: 62337 | V32: 41.8
B33: 未加入 | C33: 9943 | D33: 56.7 | E33: 25371 | F33: 68.4 | G33: 15451 | H33: 58.6 | I33: 28775 | J33: 53.9 | K33: 4943 | L33: 48.3 | M33: 1807 | N33: 49 | O33: 330 | P33: 57.4 | Q33: 89 | R33: 69.8 | S33: 96 | T33: 59 | U33: 86805 | V33: 58.2
A34: 増減 | B34: 加入 | D34: =IF(AND(ISNUMBER(D32),ISNUMBER(D36)),D32-D36,"") -> 11.197268 | F34: =IF(AND(ISNUMBER(F32),ISNUMBER(F36)),F32-F36,"") -> 2.6790356 | H34: =IF(AND(ISNUMBER(H32),ISNUMBER(H36)),H32-H36,"") -> 7.7022099 | J34: =IF(AND(ISNUMBER(J32),ISNUMBER(J36)),J32-J36,"") -> -1.1105698 | L34: =IF(AND(ISNUMBER(L32),ISNUMBER(L36)),L32-L36,"") -> 1.7433357 | N34: =IF(AND(ISNUMBER(N32),ISNUMBER(N36)),N32-N36,"") -> 5.0141157 | P34: =IF(AND(ISNUMBER(P32),ISNUMBER(P36)),P32-P36,"") -> 6.9435741 | R34: =IF(AND(ISNUMBER(R32),ISNUMBER(R36)),R32-R36,"") -> -1.6865611 | T34: =IF(AND(ISNUMBER(T32),ISNUMBER(T36)),T32-T36,"") -> 10.231721 | V34: =IF(AND(ISNUMBER(V32),ISNUMBER(V36)),V32-V36,"") -> 3.2809459
B35: 未加入 | D35: =IF(AND(ISNUMBER(D33),ISNUMBER(D37)),D33-D37,"") -> -11.197268 | F35: =IF(AND(ISNUMBER(F33),ISNUMBER(F37)),F33-F37,"") -> -2.6790356 | H35: =IF(AND(ISNUMBER(H33),ISNUMBER(H37)),H33-H37,"") -> -7.7022099 | J35: =IF(AND(ISNUMBER(J33),ISNUMBER(J37)),J33-J37,"") -> 1.1105698 | L35: =IF(AND(ISNUMBER(L33),ISNUMBER(L37)),L33-L37,"") -> -1.7433357 | N35: =IF(AND(ISNUMBER(N33),ISNUMBER(N37)),N33-N37,"") -> -5.0141157 | P35: =IF(AND(ISNUMBER(P33),ISNUMBER(P37)),P33-P37,"") -> -6.9435741 | R35: =IF(AND(ISNUMBER(R33),ISNUMBER(R37)),R33-R37,"") -> 1.6865611 | T35: =IF(AND(ISNUMBER(T33),ISNUMBER(T37)),T33-T37,"") -> -10.231721 | V35: =IF(AND(ISNUMBER(V33),ISNUMBER(V37)),V33-V37,"") -> -3.2809459
A36: H26年度 | B36: 加入 | C36: 8183.8348 | D36: 32.102732 | E36: 11724.75 | F36: 28.920964 | G36: 8061.5713 | H36: 33.69779 | I36: 28456.667 | J36: 47.21057 | K36: 5266.3728 | L36: 49.956664 | M36: 1695.8782 | N36: 45.985884 | O36: 210.73747 | P36: 35.656426 | Q36: 45.092912 | R36: 31.886561 | S36: 53.552736 | T36: 30.768279 | U36: 63698.457 | V36: 38.519054
B37: 未加入 | C37: 17308.808 | D37: 67.897268 | E37: 28815.91 | F37: 71.079036 | G37: 15861.574 | H37: 66.30221 | I37: 31819.384 | J37: 52.78943 | K37: 5275.5096 | L37: 50.043336 | M37: 1991.9452 | N37: 54.014116 | O37: 380.28495 | P37: 64.343574 | Q37: 96.323755 | R37: 68.113439 | S37: 120.49904 | T37: 69.231721 | U37: 101670.24 | V37: 61.480946
A38: 増減 | B38: 加入 | D38: =IF(AND(ISNUMBER(D36),ISNUMBER(D40)),D36-D40,"") -> -8.4972676 | F38: =IF(AND(ISNUMBER(F36),ISNUMBER(F40)),F36-F40,"") -> -5.3790356 | H38: =IF(AND(ISNUMBER(H36),ISNUMBER(H40)),H36-H40,"") -> -2.9022099 | J38: =IF(AND(ISNUMBER(J36),ISNUMBER(J40)),J36-J40,"") -> -1.1894302 | L38: =IF(AND(ISNUMBER(L36),ISNUMBER(L40)),L36-L40,"") -> -3.6433357 | N38: =IF(AND(ISNUMBER(N36),ISNUMBER(N40)),N36-N40,"") -> -4.1141157 | P38: =IF(AND(ISNUMBER(P36),ISNUMBER(P40)),P36-P40,"") -> 0.25642589 | R38: =IF(AND(ISNUMBER(R36),ISNUMBER(R40)),R36-R40,"") -> 1.8865611 | T38: =IF(AND(ISNUMBER(T36),ISNUMBER(T40)),T36-T40,"") -> 6.0682792 | V38: =IF(AND(ISNUMBER(V36),ISNUMBER(V40)),V36-V40,"") -> -3.7809459
B39: 未加入 | D39: =IF(AND(ISNUMBER(D37),ISNUMBER(D41)),D37-D41,"") -> 8.4972676 | F39: =IF(AND(ISNUMBER(F37),ISNUMBER(F41)),F37-F41,"") -> 5.3790356 | H39: =IF(AND(ISNUMBER(H37),ISNUMBER(H41)),H37-H41,"") -> 2.9022099 | J39: =IF(AND(ISNUMBER(J37),ISNUMBER(J41)),J37-J41,"") -> 1.1894302 | L39: =IF(AND(ISNUMBER(L37),ISNUMBER(L41)),L37-L41,"") -> 3.6433357 | N39: =IF(AND(ISNUMBER(N37),ISNUMBER(N41)),N37-N41,"") -> 4.1141157 | P39: =IF(AND(ISNUMBER(P37),ISNUMBER(P41)),P37-P41,"") -> -0.25642589 | R39: =IF(AND(ISNUMBER(R37),ISNUMBER(R41)),R37-R41,"") -> -1.8865611 | T39: =IF(AND(ISNUMBER(T37),ISNUMBER(T41)),T37-T41,"") -> -6.0682792 | V39: =IF(AND(ISNUMBER(V37),ISNUMBER(V41)),V37-V41,"") -> 3.7809459
A40: H23年度 | B40: 加入 | C40: 11029.36 | D40: 40.6 | E40: 14056.93 | F40: 34.3 | G40: 8262.92 | H40: 36.6 | I40: 29671.3 | J40: 48.4 | K40: 5802.15 | L40: 53.6 | M40: 1818.5 | N40: 50.1 | O40: 209.97 | P40: 35.4 | Q40: 45.62 | R40: 30 | S40: 44.13 | T40: 24.7 | U40: 70940.89 | V40: 42.3
B41: 未加入 | C41: 16165.9 | D41: 59.4 | E41: 26948.88 | F41: 65.7 | G41: 14341.72 | H41: 63.4 | I41: 31663.18 | J41: 51.6 | K41: 5029.35 | L41: 46.4 | M41: 1813.26 | N41: 49.9 | O41: 382.87 | P41: 64.6 | Q41: 106.37 | R41: 70 | S41: 134.71 | T41: 75.3 | U41: 96586.25 | V41: 57.7
A42: 増減 | B42: 加入 | D42: =D40-D44 -> 13.1 | F42: =F40-F44 -> -1 | H42: =H40-H44 -> 1.5 | J42: =J40-J44 -> -2.3 | L42: =L40-L44 -> 0.4 | N42: =N40-N44 -> 1.6 | P42: =P40-P44 -> -4.8 | R42: =R40-R44 -> -0.7 | T42: =T40-T44 -> -10.5 | V42: =V40-V44 -> 0.8
B43: 未加入 | D43: =D41-D45 -> -13.1 | F43: =F41-F45 -> 1 | H43: =H41-H45 -> -1.5 | J43: =J41-J45 -> 2.3 | L43: =L41-L45 -> -0.4 | N43: =N41-N45 -> -1.6 | P43: =P41-P45 -> 4.8 | R43: =R41-R45 -> 0.7 | T43: =T41-T45 -> 10.5 | V43: =V41-V45 -> -0.8
A44: H20年度 | B44: 加入 | C44: 8686 | D44: 27.5 | E44: 13767 | F44: 35.3 | G44: 7364 | H44: 35.1 | I44: 35368 | J44: 50.7 | K44: 6506 | L44: 53.2 | M44: 1892 | N44: 48.5 | O44: 277 | P44: 40.2 | Q44: 55 | R44: 30.7 | S44: 71 | T44: 35.2 | U44: 73986 | V44: 41.5
...

Sheet 7-2-3
A1: 表7－2－3 事業協同組合への加入状況（下請比率、次数別集計）
A3: （概要） | M3: （単位：社、％）
A4: 下請比率、次数 | B4: ０％超 50％未満 | D4: ５０％以上１００％以下 | L4: 合 計
F5: 一次下請 | H5: 二次下請 | J5: 三次以下下請
A6: 加入 | B6: 31623.433 | C6: 38.961633 | D6: 57578.073 | E6: 30.486363 | F6: 45116.098 | G6: 32.525591 | H6: 10541.144 | I6: 24.616817 | J6: 1920.8308 | K6: 26.188753 | L6: 89201.507 | M6: 33.033853
A7: 未加入 | B7: 49542.141 | C7: 61.038367 | D7: 131286.94 | E7: 69.513637 | F7: 93593.442 | G7: 67.474409 | H7: 32279.763 | I7: 75.383183 | J7: 5413.7328 | K7: 73.811247 | L7: 180829.08 | M7: 66.966147
F8: （注） | G8: 1．( )の数値は加入＋未加入を100とした場合の構成比
A11: （下請比率別詳細）
A12: 下請比率、次数 | B12: ０％超１０％未満 | J12: １０％以上２０％未満 | R12: ２０％以上３０％未満
B13: 一次下請 | D13: 二次下請 | F13: 三次以下下請 | H13: 小 計 | J13: 一次下請 | L13: 二次下請 | N13: 三次以下下請 | P13: 小 計 | R13: 一次下請 | T13: 二次下請 | V13: 三次以下下請 | X13: 小 計
A14: 加入 | B14: 7870.7212 | C14: 35.08212 | D14: 140.54859 | E14: 28.95667 | F14: 46.849531 | G14: 43.435006 | H14: 8058.1193 | I14: 34.992136 | J14: 6090.439 | K14: 40.332505 | L14: 187.39812 | M14: 34.748005 | P14: 6277.8371 | Q14: 39.865005 | R14: 5996.74 | S14: 43.435006 | T14: 327.94672 | U14: 43.435006 | X14: 6324.6867 | Y14: 43.435006
A15: 未加入 | B15: 14564.414 | C15: 64.91788 | D15: 344.82694 | E15: 71.04333 | F15: 61.011698 | G15: 56.564994 | H15: 14970.253 | I15: 65.007864 | J15: 9010.133 | K15: 59.667495 | L15: 351.90802 | M15: 65.251995 | N15: 107.86123 | O15: 100 | P15: 9469.9023 | Q15: 60.134995 | R15: 7809.4973 | S15: 56.564994 | T15: 427.08189 | U15: 56.564994 | X15: 8236.5792 | Y15: 56.564994
A18: 下請比率、次数 | B18: ３０％以上４０％未満 | J18: ４０％以上５０％未満 | R18: ５０％以上６０％未満
B19: 一次下請 | D19: 二次下請 | F19: 三次以下下請 | H19: 小 計 | J19: 一次下請 | L19: 二次下請 | N19: 三次以下下請 | P19: 小 計 | R19: 一次下請 | T19: 二次下請 | V19: 三次以下下請 | X19: 小 計
A20: 加入 | B20: 5153.4484 | C20: 41.366672 | D20: 187.39812 | E20: 16.546669 | H20: 5340.8465 | I20: 38.836005 | J20: 5153.4484 | K20: 39.16271 | L20: 468.49531 | M20: 51.100007 | P20: 5621.9437 | Q20: 39.940235 | R20: 3982.2101 | S20: 33.871335 | T20: 281.09719 | U20: 32.576254 | X20: 4263.3073 | Y20: 33.782782
A21: 未加入 | B21: 7304.5235 | C21: 58.633328 | D21: 945.14478 | E21: 83.453331 | F21: 161.79184 | G21: 100 | H21: 8411.4602 | I21: 61.163995 | J21: 8005.6215 | K21: 60.83729 | L21: 448.32514 | M21: 48.899993 | P21: 8453.9467 | Q21: 60.059765 | R21: 7774.6638 | S21: 66.128665 | T21: 581.79265 | U21: -32.576254 | X21: 8356.4565 | Y21: 66.217218
A24: 下請比率、次数 | B24: ６０％以上７０％未満 | J24: ７０％以上８０％未満 | R24: ８０％以上９０％未満
B25: 一次下請 | D25: 二次下請 | F25: 三次以下下請 | H25: 小 計 | J25: 一次下請 | L25: 二次下請 | N25: 三次以下下請 | P25: 小 計 | R25: 一次下請 | T25: 二次下請 | V25: 三次以下下請 | X25: 小 計
A26: 加入 | B26: 5949.8904 | C26: 42.927982 | D26: 562.19437 | E26: 35.946212 | F26: 46.849531 | G26: 21.717503 | H26: 6558.9343 | I26: 41.937247 | J26: 4216.4578 | K26: 34.290794 | L26: 749.59249 | M26: 35.638979 | N26: 46.849531 | O26: 86.870011 | P26: 5012.8998 | Q26: 34.683176 | R26: 5949.8904 | S26: 35.936454 | T26: 1264.9373 | U26: 35.537732 | V26: 46.849531 | W26: 14.478335 | X26: 7261.6773 | Y26: 35.527313
A27: 未加入 | B27: 7910.2775 | C27: 57.072018 | D27: 1001.7934 | E27: 64.053788 | F27: 168.87293 | G27: 78.282497 | H27: 9080.9439 | I27: 58.062753 | J27: 8079.7223 | K27: 65.709206 | L27: 1353.7015 | M27: 64.361021 | N27: 7.0810835 | O27: 13.129989 | P27: 9440.5049 | Q27: 65.316824 | R27: 10606.808 | S27: 64.063546 | T27: 2294.4832 | U27: 64.462268 | V27: 276.73416 | W27: 85.521665 | X27: 13178.026 | Y27: 64.472687
A30: 下請比率、次数 | B30: ９０％以上１００％未満 | J30: １００％ | R30: 合 計
B31: 一次下請 | D31: 二次下請 | F31: 三次以下下請 | H31: 小 計 | J31: 一次下請 | L31: 二次下請 | N31: 三次以下下請 | P31: 小 計 | R31: 一次下請 | T31: 二次下請 | V31: 三次以下下請
A32: 加入 | B32: 8620.3137 | C32: 34.748005 | D32: 1686.5831 | E32: 27.194091 | F32: 234.24765 | G32: 33.411543 | H32: 10541.144 | I32: 33.241076 | J32: 16397.336 | K32: 27.590294 | L32: 5996.74 | M32: 21.019587 | N32: 1546.0345 | O32: 25.595628 | P32: 23940.11 | Q32: 25.467915 | R32: 75380.895 | S32: 34.9522 | T32: 11852.931 | U32: 25.408223 | V32: 1967.6803 | W32: 25.514269 | X32: 89201.507 | Y32: 33.033853
A33: 未加入 | B33: 16187.769 | C33: 65.251995 | D33: 4515.4375 | E33: 72.805909 | F33: 466.85033 | G33: 66.588457 | H33: 21170.057 | I33: 66.758924 | J33: 43034.201 | K33: 72.409706 | L33: 22532.555 | M33: 78.980413 | N33: 4494.1943 | O33: 74.404372 | P33: 70060.951 | Q33: 74.532085 | R33: 140287.63 | S33: 65.0478 | T33: 34797.05 | U33: 74.591777 | V33: 5744.3976 | W33: 74.485731 | X33: 180829.08 | Y33: 66.966147
Q34: （注） | R34: 1．( )の数値は加入＋未加入を100とした場合の構成比
