Workbook
Name OLE_LINK7: ×表Ⅱ・4!#REF!
Name RZK_DD: #REF!
Name RZK_DD: #REF!
Name RZK_DD: #REF!
Name RZK_DD: #REF!
Name RZK_TTL: #REF!
Name RZK_TTL: #REF!
Name RZK_TTL: #REF!
Name RZK_TTL: #REF!
Name san: #REF!
Name san: #REF!
Name san: #REF!
Name デ１: [1]デフレータ!#REF!
Name デフレータ: [1]デフレータ!#REF!
Name デフレータ: [1]デフレータ!#REF!
Name デフレータ: [1]デフレータ!#REF!
Name デフレータ: [1]デフレータ!#REF!

Sheet 表Ⅱ・8
B1: 表－Ⅱ・８ 濃縮汚泥量（全国量（ｍ３／年））
B2: No. | C2: 都道府県名 | D2: 令和5年度
B3: 1 | C3: 北海道 | D3: 4027310.8
B4: 2 | C4: 青森県 | D4: 527771.26
B5: 3 | C5: 岩手県 | D5: 478665.43
B6: 4 | C6: 宮城県 | D6: 1648999.6
B7: 5 | C7: 秋田県 | D7: 344864.8
B8: 6 | C8: 山形県 | D8: 641466
B9: 7 | C9: 福島県 | D9: 888624.89
B10: 8 | C10: 茨城県 | D10: 1790269.5
B11: 9 | C11: 栃木県 | D11: 942085.63
B12: 10 | C12: 群馬県 | D12: 1157554.9
B13: 11 | C13: 埼玉県 | D13: 4313291.7
B14: 12 | C14: 千葉県 | D14: 3533862.3
... B49: 47 | C49: 沖縄県 | D49: 906666.4
B50: 合計 | D50: 76816538

Sheet 表Ⅲ・2
B1: 表－Ⅲ・２ 産業廃棄物の業種別排出量（令和５年度実績値）
B3: 業種 | D3: 令和５年度 | F3: 令和４年度（参考）
D4: 排出量（千ｔ） | E4: 割合（%） | F4: 排出量（千ｔ） | G4: 割合（%）
B5: 農業、林業 | D5: =表Ⅲ・5!Y5 -> 80702.271 | E5: =D5/D$87*100 -> 21.974774 | F5: 81619.319 | G5: 21.819335
C6: 耕種農業 | D6: =表Ⅲ・5!Y6 -> 15.344045 | E6: =D6/D$87*100 -> 0.004178097 | F6: 21.171117 | G6: 0.0056596859
C7: 畜産農業 | D7: =表Ⅲ・5!Y7 -> 80510.04 | E7: =D7/D$87*100 -> 21.922431 | F7: 81383.493 | G7: 21.756292
C8: 林業大分類 | D8: =表Ⅲ・5!Y8 -> 17.101156 | E8: =D8/D$87*100 -> 0.0046565485 | F8: 17.523545 | G8: 0.0046845785
C9: 上記以外の農業 | D9: =表Ⅲ・5!Y9 -> 0 | E9: =D9/D$87*100 -> 0 | F9: 0 | G9: 0
B10: 漁 業 | D10: =表Ⅲ・5!Y10 -> 8.0676823 | E10: =D10/D$87*100 -> 0.0021967845 | F10: 6.8324535 | G10: 0.0018265234
C11: 漁 業 | D11: =表Ⅲ・5!Y11 -> 1.6673825 | E11: =D11/D$87*100 -> 0.00045401886 | F11: 1.1937817 | G11: 0.00031913428
C12: 水産養殖業 | D12: =表Ⅲ・5!Y12 -> 1.6468651 | E12: =D12/D$87*100 -> 0.00044843211 | F12: 0.2846848 | G12: 7.6104937e-05
B13: 鉱 業 | D13: =表Ⅲ・5!Y13 -> 5849.1602 | E13: =D13/D$87*100 -> 1.5926934 | F13: 8931.4065 | G13: 2.3876376
B14: 建設業 | D14: =表Ⅲ・5!Y14 -> 79914.455 | E14: =D14/D$87*100 -> 21.760256 | F14: 80234.89 | G14: 21.449235
B15: 製造業 | D15: =表Ⅲ・5!Y15 -> 95669.263 | E15: =D15/D$87*100 -> 26.050202 | F15: 98054.963 | G15: 26.213085
C16: 食料品製造業 | D16: =表Ⅲ・5!Y16 -> 8865.4425 | E16: =D16/D$87*100 -> 2.4140101 | F16: 8639.6873 | G16: 2.3096521
C17: 飲料・たばこ・飼料製造業 | D17: =表Ⅲ・5!Y17 -> 2507.7278 | E17: =D17/D$87*100 -> 0.68284016 | F17: 2516.6906 | G17: 0.67278821
C18: 繊維工業 | D18: =表Ⅲ・5!Y18 -> 572.2741 | E18: =D18/D$87*100 -> 0.15582701 | F18: 695.35687 | G18: 0.18589012
C19: 木材・木製品製造業 | D19: =表Ⅲ・5!Y19 -> 751.77182 | E19: =D19/D$87*100 -> 0.20470323 | F19: 899.07549 | G19: 0.24035032
C20: 家具・装備品製造業 | D20: =表Ⅲ・5!Y20 -> 201.68962 | E20: =D20/D$87*100 -> 0.054918948 | F20: 177.54297 | G20: 0.047462654
C21: パルプ・紙・紙加工品製造業 | D21: =表Ⅲ・5!Y21 -> 27295.164 | E21: =D21/D$87*100 -> 7.4323196 | F21: 27780.748 | G21: 7.4266418
C22: 印刷・同関連業 | D22: =表Ⅲ・5!Y22 -> 471.60626 | E22: =D22/D$87*100 -> 0.12841573 | F22: 513.1691 | G22: 0.13718576
C23: 化学工業 | D23: =表Ⅲ・5!Y23 -> 9764.9272 | E23: =D23/D$87*100 -> 2.6589347 | F23: 9306.0536 | G23: 2.4877922
C24: 石油製品・石炭製品製造業 | D24: =表Ⅲ・5!Y24 -> 1117.3984 | E24: =D24/D$87*100 -> 0.30426129 | F24: 1151.2718 | G24: 0.30777009
C25: プラスチック製品製造業 | D25: =表Ⅲ・5!Y25 -> 988.18376 | E25: =D25/D$87*100 -> 0.26907688 | F25: 1004.2683 | G25: 0.26847157
C26: ゴム製品製造業 | D26: =表Ⅲ・5!Y26 -> 269.16699 | E26: =D26/D$87*100 -> 0.073292657 | F26: 297.85221 | G26: 0.079624988
C27: なめし革・同製品・毛皮製造業 | D27: =表Ⅲ・5!Y27 -> 17.51818 | E27: =D27/D$87*100 -> 0.0047701017 | F27: 17.374045 | G27: 0.0046446125
... C39: その他の製造業 | D39: =表Ⅲ・5!Y39 -> 690.46711 | E39: =D39/D$87*100 -> 0.18801031 | F39: 610.55528 | G39: 0.16322006
B40: 電気･ガス・熱供給・水道業 | D40: =表Ⅲ・5!Y40 -> 97315.846 | E40: =D40/D$87*100 -> 26.498557 | F40: 98262.765 | G40: 26.268636
C41: 電気業 | D41: =表Ⅲ・5!Y41 -> 11021.476 | E41: =D41/D$87*100 -> 3.0010859 | F41: 11250.67 | G41: 3.0076475
C42: ガス業 | D42: =表Ⅲ・5!Y42 -> 13.198021 | E42: =D42/D$87*100 -> 0.0035937468 | F42: 12.373916 | G42: 0.0033079254
C43: 熱供給業 | D43: =表Ⅲ・5!Y43 -> 103.24189 | E43: =D43/D$87*100 -> 0.028112186 | F43: 149.53959 | G43: 0.039976496
C44: 上水道業 | D44: =表Ⅲ・5!Y44 -> 9220.2104 | E44: =D44/D$87*100 -> 2.5106114 | F44: 8939.8134 | G44: 2.389885
C45: 下水道業 | D45: =表Ⅲ・5!Y45 -> 76957.718 | E45: =D45/D$87*100 -> 20.955153 | F45: 77910.368 | G45: 20.827819
B46: 情報通信業 | D46: =表Ⅲ・5!Y46 -> 77.301783 | E46: =D46/D$87*100 -> 0.02104884 | F46: 92.488866 | G46: 0.024725097
C47: 通信業 | D47: =表Ⅲ・5!Y47 -> 12.957696 | E47: =D47/D$87*100 -> 0.0035283076 | F47: 45.493873 | G47: 0.012161901
C48: 放送業 | D48: =表Ⅲ・5!Y48 -> 11.834417 | E48: =D48/D$87*100 -> 0.0032224452 | F48: 27.758637 | G48: 0.0074207311
C49: 情報サービス業 | D49: =表Ⅲ・5!Y49 -> 5.3191656 | E49: =D49/D$87*100 -> 0.0014483789 | F49: 10.818706 | G49: 0.0028921705
C50: インターネット付随サービス業 | D50: =表Ⅲ・5!Y50 -> 1.6036689 | E50: =D50/D$87*100 -> 0.00043667 | F50: 1.6935877 | G50: 0.00045274769
C51: 映像・音声・文字情報制作業 | D51: =表Ⅲ・5!Y51 -> 3.4522485 | E51: =D51/D$87*100 -> 0.00094002782 | F51: 5.4375613 | G51: 0.0014536261
B52: 運輸業 | D52: =表Ⅲ・5!Y52 -> 694.61595 | E52: =D52/D$87*100 -> 0.18914001 | F52: 599.52574 | G52: 0.16027153
...

Sheet 表Ⅲ・3
B1: 表－Ⅲ・３ 産業廃棄物の業種別排出量（令和５年度実績値）
B3: 種類 | C3: 令和５年度 | E3: 令和４年度（参考）
C4: 排出量（千ｔ） | D4: 割合（%） | E4: 排出量（千ｔ） | F4: 割合（%）
B5: 燃え殻 | C5: =表Ⅲ・5!F87 -> 2385.7712 | D5: =C5/$C$24*100 -> 0.64963207 | E5: 2234.6213 | F5: 0.59738247
B6: 汚 泥 | C6: =表Ⅲ・5!G87 -> 154538.54 | D6: =C6/$C$24*100 -> 42.079973 | E6: 158317.41 | F6: 42.323076
B7: 廃 油 | C7: =表Ⅲ・5!H87 -> 3288.734 | D7: =C7/$C$24*100 -> 0.89550376 | E7: 2953.1491 | F7: 0.78946688
B8: 廃 酸 | C8: =表Ⅲ・5!I87 -> 2889.3559 | D8: =C8/$C$24*100 -> 0.78675535 | E8: 3047.2503 | F8: 0.81462302
B9: 廃アルカリ | C9: =表Ⅲ・5!J87 -> 2594.8254 | D9: =C9/$C$24*100 -> 0.70655635 | E9: 2458.2648 | F9: 0.65716922
B10: 廃プラスチック類 | C10: =表Ⅲ・5!K87 -> 7855.9534 | D10: =C10/$C$24*100 -> 2.1391319 | E10: 7411.4489 | F10: 1.9813065
B11: 紙くず | C11: =表Ⅲ・5!L87 -> 819.77691 | D11: =C11/$C$24*100 -> 0.22322064 | E11: 802.98625 | F11: 0.21466273
B12: 木くず | C12: =表Ⅲ・5!M87 -> 8225.5731 | D12: =C12/$C$24*100 -> 2.2397772 | E12: 7579.0888 | F12: 2.0261218
B13: 繊維くず | C13: =表Ⅲ・5!N87 -> 89.800128 | D13: =C13/$C$24*100 -> 0.024452069 | E13: 88.374558 | F13: 0.023625217
B14: 動植物性残さ | C14: =表Ⅲ・5!O87 -> 2221.9475 | D14: =C14/$C$24*100 -> 0.60502379 | E14: 2323.5445 | F14: 0.62115436
B15: 動物系固形不要物 | C15: =表Ⅲ・5!P87 -> 82.462869 | D15: =C15/$C$24*100 -> 0.022454175 | E15: 78.543058 | F15: 0.020996957
B16: ゴムくず | C16: =表Ⅲ・5!Q87 -> 31.890783 | D16: =C16/$C$24*100 -> 0.0086836806 | E16: 15.375786 | F16: 0.0041104168
B17: 金属くず | C17: =表Ⅲ・5!R87 -> 6944.483 | D17: =C17/$C$24*100 -> 1.8909436 | E17: 6678.6911 | F17: 1.785418
B18: ガラスくず、コンクリートくず及び陶磁器くず | C18: =表Ⅲ・5!S87 -> 8345.7385 | D18: =C18/$C$24*100 -> 2.2724976 | E18: 8169.1668 | F18: 2.1838676
B19: 鉱さい | C19: =表Ⅲ・5!T87 -> 11126.085 | D19: =C19/$C$24*100 -> 3.0295702 | E19: 12029.326 | F19: 3.2158061
B20: がれき類 | C20: =表Ⅲ・5!U87 -> 60680.354 | D20: =C20/$C$24*100 -> 16.522919 | E20: 61851.733 | F20: 16.534856
B21: 動物のふん尿 | C21: =表Ⅲ・5!V87 -> 80363.101 | D21: =C21/$C$24*100 -> 21.88242 | E21: 81185.734 | F21: 21.703425
B22: 動物の死体 | C22: =表Ⅲ・5!W87 -> 135.2043 | D22: =C22/$C$24*100 -> 0.036815369 | E22: 167.56781 | F22: 0.044795991
B23: ばいじん | C23: =表Ⅲ・5!X87 -> 14630.013 | D23: =C23/$C$24*100 -> 3.9836702 | E23: 16676.492 | F23: 4.4581353
B24: 合 計 | C24: =表Ⅲ・5!Y87 -> 367249.61 | D24: =C24/$C$24*100 -> 100 | E24: 374068.77 | F24: 100

Sheet 表Ⅲ・4
B1: 表－Ⅲ・４ 産業廃棄物の地域別排出量（令和５年度実績値）
B3: 地域別 | C3: 令和５年度 | E3: 令和４年度（参考）
C4: 排出量（千ｔ） | D4: 割合（%） | E4: 排出量（千ｔ） | F4: 割合（%） | G4: 増減量 | H4: 昨年比 | I4: 増減率 | J4: 増減率順位
B5: 北海道 | C5: =E20 -> 0 | D5: =C5/C$13*100 -> #DIV/0! | E5: 35278.941 | F5: 9.4311378 | G5: =C5-E5 -> -35278.941 | H5: =(C5/E5)*100 -> 0 | I5: =H5-100 -> -100 | J5: =_xlfn.RANK.EQ(I5,$I$5:$I$12) -> 1
B6: 東北 | C6: =SUM(E21:E26) -> 0 | D6: =C6/C$13*100 -> #DIV/0! | E6: 36005.033 | F6: 9.6252443 | G6: =C6-E6 -> -36005.033 | H6: =(C6/E6)*100 -> 0 | I6: =H6-100 -> -100 | J6: =_xlfn.RANK.EQ(I6,$I$5:$I$12) -> 1
B7: 関東 | C7: =SUM(E27:E33) -> 0 | D7: =C7/C$13*100 -> #DIV/0! | E7: 97620.708 | F7: 26.096995 | G7: =C7-E7 -> -97620.708 | H7: =(C7/E7)*100 -> 0 | I7: =H7-100 -> -100 | J7: =_xlfn.RANK.EQ(I7,$I$5:$I$12) -> 1
B8: 中部 | C8: =SUM(E34:E42) -> 0 | D8: =C8/C$13*100 -> #DIV/0! | E8: 62224.446 | F8: 16.634494 | G8: =C8-E8 -> -62224.446 | H8: =(C8/E8)*100 -> 0 | I8: =H8-100 -> -100 | J8: =_xlfn.RANK.EQ(I8,$I$5:$I$12) -> 1
B9: 近畿 | C9: =SUM(E43:E49) -> 0 | D9: =C9/C$13*100 -> #DIV/0! | E9: 51450.179 | F9: 13.754203 | G9: =C9-E9 -> -51450.179 | H9: =(C9/E9)*100 -> 0 | I9: =H9-100 -> -100 | J9: =_xlfn.RANK.EQ(I9,$I$5:$I$12) -> 1
B10: 中国 | C10: =SUM(E50:E54) -> 0 | D10: =C10/C$13*100 -> #DIV/0! | E10: 24878.345 | F10: 6.650741 | G10: =C10-E10 -> -24878.345 | H10: =(C10/E10)*100 -> 0 | I10: =H10-100 -> -100 | J10: =_xlfn.RANK.EQ(I10,$I$5:$I$12) -> 1
B11: 四国 | C11: =SUM(E55:E58) -> 0 | D11: =C11/C$13*100 -> #DIV/0! | E11: 14327.803 | F11: 3.8302591 | G11: =C11-E11 -> -14327.803 | H11: =(C11/E11)*100 -> 0 | I11: =H11-100 -> -100 | J11: =_xlfn.RANK.EQ(I11,$I$5:$I$12) -> 1
B12: 九州 | C12: =SUM(E59:E66) -> 0 | D12: =C12/C$13*100 -> #DIV/0! | E12: 52283.315 | F12: 13.976926 | G12: =C12-E12 -> -52283.315 | H12: =(C12/E12)*100 -> 0 | I12: =H12-100 -> -100 | J12: =_xlfn.RANK.EQ(I12,$I$5:$I$12) -> 1
B13: 合 計 | C13: =E67 -> 0 | D13: 100 | E13: 374068.77 | F13: 100 | G13: =C13-E13 -> -374068.77 | H13: =(C13/E13)*100 -> 0 | I13: =H13-100 -> -100 | J13: =_xlfn.XLOOKUP(B13,$E$72:$E$79,$A$72:$A$79,"")
B14: ※ 各地域の産業廃棄物の量は四捨五入しているため、合算した値は合計値と異なる場合がある。

Sheet 表Ⅲ・5
B1: 表－Ⅲ・５ 令和５年度実績値 業種別・種類別排出量推計値一覧表
D3: 全国 | F3: 令和５年度 | Y3: (単位：千ｔ/年)
B4: 大分類 | C4: 番号 | D4: 産業分類 | E4: コード | F4: 燃え殻 | G4: 汚 泥 | H4: 廃 油 | I4: 廃 酸 | J4: 廃アルカリ | K4: 廃プラス チック類 | L4: 紙くず | M4: 木くず | N4: 繊維くず | O4: 動植物性 残 渣 | P4: 動物系固形不要物 | Q4: ゴムくず | R4: 金属くず | S4: ガラスくず及び 陶磁器くず | T4: 鉱さい | U4: がれき類 | V4: 動物の ふん尿 | W4: 動物の死体 | X4: ばいじん | Y4: 合 計
B5: 農業、 | D5: 農業大分類 | E5: Ａ | F5: 0.32798248 | G5: 33.148187 | H5: 0.50908047 | I5: 3.7727968 | J5: 0.12514327 | K5: 71.526372 | L5: 0 | M5: 81.090246 | N5: 0 | O5: 0 | P5: 0 | Q5: 0.022474626 | R5: 1.6623717 | S5: 2.0568146 | T5: 0 | U5: 9.7243647 | V5: 80363.101 | W5: 135.2043 | X5: 0 | Y5: 80702.271
B6: 林業 | C6: 1 | D6: 耕種農業 | E6: A011 | F6: 0 | G6: 0 | H6: 0.0024853145 | I6: 0 | J6: 0 | K6: 14.910142 | L6: 0 | M6: 0.0092792926 | N6: 0 | O6: 0 | P6: 0 | Q6: 0 | R6: 0 | S6: 0.42213805 | T6: 0 | U6: 0 | V6: 0 | W6: 0 | X6: 0 | Y6: 15.344045
C7: 2 | D7: 畜産農業 | E7: A012 | F7: 0.001971 | G7: 0.170158 | H7: 0.189336 | I7: 0 | J7: 0.001819 | K7: 10.40978 | L7: 0 | M7: 0.0042025436 | N7: 0 | O7: 0 | P7: 0 | Q7: 0.010512 | R7: 0.53836426 | S7: 3.5e-05 | T7: 0 | U7: 0.40828133 | V7: 80363.101 | W7: 135.2043 | X7: 0 | Y7: 80510.04
C8: 3 | D8: 林業大分類 | E8: A02 | F8: 0 | G8: 0 | H8: 0.0082442333 | I8: 0 | J8: 0 | K8: 0.06074925 | L8: 0 | M8: 16.743883 | N8: 0 | O8: 0 | P8: 0 | Q8: 0 | R8: 0.11634832 | S8: 0.03163691 | T8: 0 | U8: 0.14029441 | V8: 0 | W8: 0 | X8: 0 | Y8: 17.101156
C9: 4 | D9: 上記以外の農業 | F9: 0 | G9: 0 | H9: 0 | I9: 0 | J9: 0 | K9: 0 | L9: 0 | M9: 0 | N9: 0 | O9: 0 | P9: 0 | Q9: 0 | R9: 0 | S9: 0 | T9: 0 | U9: 0 | V9: 0 | W9: 0 | X9: 0
B10: 漁 業 | D10: 漁業大分類 | E10: B | F10: 0.003627 | G10: 2.0584945 | H10: 0.18570855 | I10: 0.025493644 | J10: 0.0475556 | K10: 4.7793132 | L10: 0 | M10: 0.18061165 | N10: 0 | O10: 0 | P10: 0 | Q10: 4.3387516e-05 | R10: 0.61996075 | S10: 0.12180395 | T10: 0 | U10: 0.04506997 | V10: 0 | W10: 0 | X10: 0 | Y10: 8.0676823
C11: 5 | D11: 漁 業 | E11: B03 | F11: 0 | G11: 0 | H11: 0.00010611365 | I11: 0 | J11: 0 | K11: 1.5924242 | L11: 0 | M11: 0 | N11: 0 | O11: 0 | P11: 0 | Q11: 0 | R11: 0.074852132 | S11: 0 | T11: 0 | U11: 0 | V11: 0 | W11: 0 | X11: 0 | Y11: 1.6673825
C12: 6 | D12: 水産養殖業 | E12: B04 | F12: 0 | G12: 0.88990889 | H12: 0 | I12: 0 | J12: 0 | K12: 0.67433006 | L12: 0 | M12: 0 | N12: 0 | O12: 0 | P12: 0 | Q12: 0 | R12: 0.082626189 | S12: 0 | T12: 0 | U12: 0 | V12: 0 | W12: 0 | X12: 0 | Y12: 1.6468651
B13: 鉱 業 | C13: 7 | D13: 鉱業 | E13: C | F13: 0.034505215 | G13: 5606.9843 | H13: 8.7052972 | I13: 15.878532 | J13: 22.818164 | K13: 38.248659 | L13: 0 | M13: 11.076189 | N13: 0 | O13: 0 | P13: 0 | Q13: 0.14787371 | R13: 2.2712518 | S13: 35.030649 | T13: 16.260245 | U13: 91.634537 | V13: 0 | W13: 0 | X13: 0.070047173 | Y13: 5849.1602
B14: 建設業 | C14: 8 | D14: 建設業 | E14: D | F14: 68.525956 | G14: 9864.8627 | H14: 125.54489 | I14: 23.110901 | J14: 40.274312 | K14: 1464.0923 | L14: 305.31824 | M14: 6255.3545 | N14: 70.378063 | O14: 0 | P14: 0 | Q14: 3.1736682 | R14: 906.93417 | S14: 3116.0067 | T14: 91.143349 | U14: 57554.182 | V14: 0 | W14: 0 | X14: 25.553129 | Y14: 79914.455
B15: 製造業 | D15: 製造業大分類 | E15: E | F15: 935.21521 | G15: 50001.96 | H15: 2636.4994 | I15: 2737.7092 | J15: 2403.9845 | K15: 3743.0351 | L15: 513.1199 | M15: 1373.3171 | N15: 19.422065 | O15: 2221.9475 | P15: 61.293572 | Q15: 23.337349 | R15: 5302.9291 | S15: 4697.1396 | T15: 10991.795 | U15: 2007.797 | V15: 0 | W15: 0 | X15: 5998.7618 | Y15: 95669.263
C16: 9 | D16: 食料品製造業 | E16: E9 | F16: 24.626882 | G16: 6440.8066 | H16: 105.3061 | I16: 96.216749 | J16: 47.037202 | K16: 394.00158 | L16: 0 | M16: 14.271983 | N16: 0 | O16: 1579.3172 | P16: 61.293572 | Q16: 0.059716898 | R16: 26.889351 | S16: 31.086974 | T16: 0.00021676416 | U16: 7.2869144 | V16: 0 | W16: 0 | X16: 37.241507 | Y16: 8865.4425
C17: 10 | D17: 飲料・たばこ・飼料製造業 | E17: E10 | F17: 1.7154742 | G17: 1350.6701 | H17: 2.4921029 | I17: 557.67508 | J17: 34.13266 | K17: 54.595014 | L17: 0 | M17: 8.0779981 | N17: 0 | O17: 482.70518 | P17: 0 | Q17: 0.0071254535 | R17: 4.0733116 | S17: 10.402514 | T17: 2.04629e-05 | U17: 0.68435075 | V17: 0 | W17: 0 | X17: 0.49686184 | Y17: 2507.7278
C18: 11 | D18: 繊維工業 | E18: E11 | F18: 27.2083 | G18: 261.37227 | H18: 12.025778 | I18: 9.5680374 | J18: 18.296054 | K18: 143.81008 | L18: 0 | M18: 4.1070552 | N18: 18.955065 | O18: 0 | P18: 0 | Q18: 0.011454036 | R18: 3.8372443 | S18: 0.65269593 | T18: 0.025024984 | U18: 1.5533861 | V18: 0 | W18: 0 | X18: 70.851654 | Y18: 572.2741
C19: 12 | D19: 木材・木製品製造業 | E19: E12 | F19: 45.817018 | G19: 4.3159956 | H19: 2.9179897 | I19: 0.34898064 | J19: 0.92450365 | K19: 23.649524 | L19: 0 | M19: 625.74789 | N19: 0 | O19: 0 | P19: 0 | Q19: 0.0038533654 | R19: 7.7669498 | S19: 19.207964 | T19: 0.0021749414 | U19: 9.3525962 | V19: 0 | W19: 0 | X19: 11.716383 | Y19: 751.77182
C20: 13 | D20: 家具・装備品製造業 | E20: E13 | F20: 0.53689667 | G20: 35.088377 | H20: 3.0064047 | I20: 0.92340568 | J20: 0.7874682 | K20: 28.083496 | L20: 0 | M20: 110.083 | N20: 0 | O20: 0 | P20: 0 | Q20: 0.0046627061 | R20: 11.998054 | S20: 6.5788852 | T20: 0.0021451495 | U20: 4.5907634 | V20: 0 | W20: 0 | X20: 0.0060645163 | Y20: 201.68962
C21: 14 | D21: パルプ・紙・紙加工品製造業 | E21: E14 | F21: 255.39659 | G21: 25364.314 | H21: 15.619885 | I21: 0.60019086 | J21: 21.727416 | K21: 464.6886 | L21: 301.66253 | M21: 82.214758 | N21: 0 | O21: 0 | P21: 0 | Q21: 0.0018880226 | R21: 22.292567 | S21: 7.732084 | T21: 2.52094 | U21: 1.310744 | V21: 0 | W21: 0 | X21: 755.08209 | Y21: 27295.164
C22: 15 | D22: 印刷・同関連業 | E22: E15 | F22: 1.211274 | G22: 46.65149 | H22: 31.977468 | I22: 7.5838902 | J22: 32.036444 | K22: 158.03869 | L22: 131.38537 | M22: 6.5840972 | N22: 0 | O22: 0 | P22: 0 | Q22: 0.011145278 | R22: 14.533142 | S22: 1.366611 | T22: 0.10583506 | U22: 0.36902467 | V22: 0 | W22: 0 | X22: 39.751773 | Y22: 471.60626
C23: 16 | D23: 化学工業 | E23: E16 | F23: 370.97717 | G23: 5258.9786 | H23: 1030.1775 | I23: 733.64833 | J23: 1293.6668 | K23: 344.3663 | L23: 0 | M23: 46.612779 | N23: 0 | O23: 71.983093 | P23: 0 | Q23: 1.0135309 | R23: 68.957286 | S23: 48.408414 | T23: 52.991027 | U23: 35.532771 | V23: 0 | W23: 0 | X23: 407.61358 | Y23: 9764.9272
C24: 17 | D24: 石油製品・石炭製品製造業 | E24: E17 | F24: 7.3427973 | G24: 450.52237 | H24: 118.01854 | I24: 49.704824 | J24: 39.988995 | K24: 20.086929 | L24: 0 | M24: 3.237212 | N24: 0 | O24: 0 | P24: 0 | Q24: 0.15323088 | R24: 9.721802 | S24: 66.442609 | T24: 0.57783885 | U24: 264.33356 | V24: 0 | W24: 0 | X24: 87.26767 | Y24: 1117.3984
C25: 18 | D25: プラスチック製品製造業 | E25: E18 | F25: 3.8958477 | G25: 148.28671 | H25: 56.307085 | I25: 16.721572 | J25: 28.78613 | K25: 637.62354 | L25: 0 | M25: 28.951819 | N25: 0 | O25: 0 | P25: 0 | Q25: 0.25516434 | R25: 25.739868 | S25: 16.637632 | T25: 0.0020404709 | U25: 4.4573633 | V25: 0 | W25: 0 | X25: 20.518993 | Y25: 988.18376
C26: 19 | D26: ゴム製品製造業 | E26: E19 | F26: 0.11408455 | G26: 36.803937 | H26: 13.643724 | I26: 0.25443552 | J26: 1.9832215 | K26: 174.91599 | L26: 0 | M26: 4.7969171 | N26: 0 | O26: 0 | P26: 0 | Q26: 16.357441 | R26: 13.925952 | S26: 6.1281318 | T26: 0.03810887 | U26: 0.20185182 | V26: 0 | W26: 0 | X26: 0.0031977495 | Y26: 269.16699
C27: 20 | D27: なめし革・同製品・毛皮製造業 | E27: E20 | F27: 0.000246 | G27: 10.810682 | H27: 2.477763 | I27: 0.017060132 | J27: 0.15832752 | K27: 3.3989861 | L27: 0 | M27: 0.51030963 | N27: 0 | O27: 0 | P27: 0 | Q27: 0.016736758 | R27: 0.10283799 | S27: 0.025230668 | T27: 0 | U27: 0 | V27: 0 | W27: 0 | X27: 0 | Y27: 17.51818
... C39: 32 | D39: その他の製造業 | E39: E32 | F39: 9.2633082 | G39: 168.87507 | H39: 39.925283 | I39: 6.3343762 | J39: 52.718432 | K39: 147.18127 | L39: 0 | M39: 26.606005 | N39: 0 | O39: 0 | P39: 0 | Q39: 0.042961249 | R39: 23.960216 | S39: 48.903706 | T39: 18.287037 | U39: 65.854768 | V39: 0 | W39: 0 | X39: 82.514676 | Y39: 690.46711
B40: 電気･ガス | D40: インフラ大分類 | E40: F | F40: 1304.739 | G40: 87170.363 | H40: 21.186526 | I40: 2.8220779 | J40: 4.8533451 | K40: 15.527266 | L40: 0 | M40: 8.4170056 | N40: 0 | O40: 0 | P40: 0 | Q40: 0.0016124779 | R40: 21.365302 | S40: 10.738962 | T40: 16.012564 | U40: 187.74986 | V40: 0 | W40: 0 | X40: 8552.0699 | Y40: 97315.846
B41: ･熱供給･ | C41: 33 | D41: 電気業 | E41: F33 | F41: 1211.298 | G41: 1142.5999 | H41: 10.177341 | I41: 2.2808739 | J41: 3.3581844 | K41: 10.794238 | L41: 0 | M41: 4.4897945 | N41: 0 | O41: 0 | P41: 0 | Q41: 0.00036297846 | R41: 11.004913 | S41: 9.5438499 | T41: 13.646375 | U41: 107.78098 | V41: 0 | W41: 0 | X41: 8494.5015 | Y41: 11021.476
B42: 水道業 | C42: 34 | D42: ガス業 | E42: F34 | F42: 0 | G42: 1.0709299 | H42: 0.25336571 | I42: 0.0021622237 | J42: 0.004127857 | K42: 1.3776207 | L42: 0 | M42: 3.1767106 | N42: 0 | O42: 0 | P42: 0 | Q42: 0 | R42: 1.9069095 | S42: 0.1442765 | T42: 0.69196333 | U42: 4.5699547 | V42: 0 | W42: 0 | X42: 0 | Y42: 13.198021
C43: 35 | D43: 熱供給業 | E43: F35 | F43: 34.339795 | G43: 67.53789 | H43: 0.016673664 | I43: 1.2741573e-05 | J43: 0.0010385525 | K43: 0.039569693 | L43: 0 | M43: 0.064764182 | N43: 0 | O43: 0 | P43: 0 | Q43: 0 | R43: 0.023703228 | S43: 0.15722577 | T43: 0.004648287 | U43: 6.1207123e-05 | V43: 0 | W43: 0 | X43: 1.0565107 | Y43: 103.24189
C44: 36 | D44: 上水道業 | E44: F361 | F44: 4.9077937 | G44: 9142.6159 | H44: 0.031104736 | I44: 0.33724152 | J44: 1.4640753 | K44: 0.98245884 | L44: 0 | M44: 0.44505078 | N44: 0 | O44: 0 | P44: 0 | Q44: 0 | R44: 0.64898962 | S44: 0.73735118 | T44: 0.13914002 | U44: 67.901328 | V44: 0 | W44: 0 | X44: 0 | Y44: 9220.2104
C45: 37 | D45: 下水道業 | E45: F363 | F45: 54.19345 | G45: 76816.538 | H45: 10.70804 | I45: 0.20178756 | J45: 0.025918971 | K45: 2.3333786 | L45: 0 | M45: 0.24068552 | N45: 0 | O45: 0 | P45: 0 | Q45: 5.0125008e-05 | R45: 7.7807872 | S45: 0.1562584 | T45: 1.5304365 | U45: 7.4975343 | V45: 0 | W45: 0 | X45: 56.511944 | Y45: 76957.718
B46: 情報通信業 | D46: 情報大分類 | E46: G | F46: 0.44202802 | G46: 1.5270172 | H46: 0.83182658 | I46: 0.41159147 | J46: 5.928527 | K46: 12.757478 | L46: 1.3387737 | M46: 1.8366792 | N46: 0 | O46: 0 | P46: 0 | Q46: 2.3767128 | R46: 12.023948 | S46: 4.3235206 | T46: 0.015 | U46: 33.488681 | V46: 0 | W46: 0 | X46: 0 | Y46: 77.301783
C47: 38 | D47: 通信業 | E47: G37 | F47: 0 | G47: 0.0079679368 | H47: 0.081070044 | I47: 0 | J47: 0 | K47: 5.505844 | L47: 0 | M47: 0 | N47: 0 | O47: 0 | P47: 0 | Q47: 0 | R47: 2.5834807 | S47: 4.0329163 | T47: 0 | U47: 0.74641675 | V47: 0 | W47: 0 | X47: 0 | Y47: 12.957696
C48: 39 | D48: 放送業 | E48: G38 | F48: 0 | G48: 0.21620216 | H48: 6e-05 | I48: 0 | J48: 0.0019292895 | K48: 3.1417809 | L48: 0 | M48: 0.011715744 | N48: 0 | O48: 0 | P48: 0 | Q48: 0 | R48: 7.3111096 | S48: 0.028271618 | T48: 0 | U48: 1.1233481 | V48: 0 | W48: 0 | X48: 0 | Y48: 11.834417
C49: 40 | D49: 情報サービス業 | E49: G39 | F49: 0 | G49: 0.61730425 | H49: 0.001037 | I49: 0 | J49: 0 | K49: 3.0337201 | L49: 0 | M49: 0.0003359113 | N49: 0 | O49: 0 | P49: 0 | Q49: 0 | R49: 1.4475316 | S49: 0.21923675 | T49: 0 | U49: 0 | V49: 0 | W49: 0 | X49: 0 | Y49: 5.3191656
C50: 41 | D50: インターネット付随サービス業 | E50: G40 | F50: 0 | G50: 0 | H50: 0.09816292 | I50: 0 | J50: 1.5002505 | K50: 0.0035306649 | L50: 0 | M50: 0 | N50: 0 | O50: 0 | P50: 0 | Q50: 0 | R50: 0.0017247406 | S50: 0 | T50: 0 | U50: 0 | V50: 0 | W50: 0 | X50: 0 | Y50: 1.6036689
C51: 42 | D51: 映像・音声・文字情報制作業 | E51: G41 | F51: 0 | G51: 0.0075563317 | H51: 0.65149662 | I51: 0.063459609 | J51: 0.023410121 | K51: 1.072602 | L51: 0.90344947 | M51: 0 | N51: 0 | O51: 0 | P51: 0 | Q51: 0 | R51: 0.68010115 | S51: 0.043095862 | T51: 0 | U51: 0.0070772723 | V51: 0 | W51: 0 | X51: 0 | Y51: 3.4522485
B52: 運輸業 | D52: 運輸大分類 | E52: H | F52: 0.78151819 | G52: 55.92255 | H52: 44.543053 | I52: 2.8112758 | J52: 2.6716121 | K52: 243.61534 | L52: 0 | M52: 135.73039 | N52: 0 | O52: 0 | P52: 0 | Q52: 0.12946683 | R52: 48.697752 | S52: 9.3778456 | T52: 0.32298675 | U52: 140.13198 | V52: 0 | W52: 0 | X52: 9.8801857 | Y52: 694.61595
...

Sheet 表Ⅲ・6
C1: 表－Ⅲ・６ 令和５年度実績値 都道府県別・種類別排出量推計値一覧表
X3: (単位：千ｔ/年)
B4: 大分類 | C4: No. | D4: 都道府県名 | E4: 燃え殻 | F4: 汚 泥 | G4: 廃 油 | H4: 廃 酸 | I4: 廃アルカリ | J4: 廃プラス チック類 | K4: 紙くず | L4: 木くず | M4: 繊維くず | N4: 動植物性 残 渣 | O4: 動物系 固形不要物 | P4: ゴムくず | Q4: 金属くず | R4: ガラスくず 及び 陶磁器くず | S4: 鉱さい | T4: がれき類 | U4: 動物の ふん尿 | V4: 動物の死体 | W4: ばいじん | X4: 合 計
C5: 1 | D5: 北海道 | E5: 324.29784 | F5: 8004.2278 | G5: 46.519884 | H5: 31.475622 | I5: 4.7162735 | J5: 406.0382 | K5: 9.0318767 | L5: 600.16564 | M5: 2.4433661 | N5: 101.97305 | O5: 1.747 | P5: 0.51920116 | Q5: 93.118368 | R5: 404.35845 | S5: 103.30525 | T5: 4615.833 | U5: 20176.01 | V5: 42.789924 | W5: 1254.1504 | X5: 36222.721
C6: 2 | D6: 青森県 | E6: 12.67252 | F6: 1273.3006 | G6: 12.436853 | H6: 7.4979349 | I6: 10.005654 | J6: 49.653494 | K6: 5.087 | L6: 81.678531 | M6: 0.931 | N6: 43.255 | O6: 3.293 | P6: 0.008358723 | Q6: 20.478176 | R6: 69.521582 | S6: 24.680155 | T6: 919.46706 | U6: 2104.1921 | V6: 0.66582844 | W6: 31.22977 | X6: 4670.0547
C7: 3 | D7: 岩手県 | E7: 15.028414 | F7: 796.63473 | G7: 13.251261 | H7: 7.852956 | I7: 11.238757 | J7: 58.896451 | K7: 3.494453 | L7: 89.251964 | M7: 0.981177 | N7: 15.058705 | O7: 0.747 | P7: 0.04692 | Q7: 11.59089 | R7: 89.665515 | S7: 91.67255 | T7: 785.64109 | U7: 3828.5419 | V7: 2.8197635 | W7: 37.09787 | X7: 5859.5124
C8: 4 | D8: 宮城県 | E8: 24.23425 | F8: 5685.3942 | G8: 35.311035 | H8: 11.324661 | I8: 9.8607861 | J8: 150.89599 | K8: 9.4488988 | L8: 293.18167 | M8: 2.8864043 | N8: 30.480501 | O8: 0.28558796 | P8: 0.10882799 | Q8: 44.688905 | R8: 227.24661 | S8: 32.789073 | T8: 1475.9558 | U8: 1704.8205 | V8: 1.5659459 | W8: 123.32698 | X8: 9863.8065
C9: 5 | D9: 秋田県 | E9: 33.441699 | F9: 1165.3881 | G9: 17.529954 | H9: 7.0704797 | I9: 8.060427 | J9: 46.823194 | K9: 0.688 | L9: 95.226483 | M9: 0.384 | N9: 8.981 | O9: 2.402 | P9: 0.087650932 | Q9: 19.708422 | R9: 65.66626 | S9: 150.02696 | T9: 606.90229 | U9: 1057.1513 | V9: 0.2801237 | W9: 15.062628 | X9: 3300.881
C10: 6 | D10: 山形県 | E10: 14.372927 | F10: 1211.7215 | G10: 94.008905 | H10: 13.05153 | I10: 30.019623 | J10: 86.083214 | K10: 10.881124 | L10: 92.82009 | M10: 0.45467808 | N10: 25.58014 | O10: 0.8190437 | P10: 0.083034609 | Q10: 37.583141 | R10: 50.633449 | S10: 21.659129 | T10: 729.58256 | U10: 983.1421 | V10: 1.5911195 | W10: 224.36122 | X10: 3628.4485
C11: 7 | D11: 福島県 | E11: 254.39885 | F11: 3032.9947 | G11: 30.041657 | H11: 14.01265 | I11: 83.081248 | J11: 260.91805 | K11: 6.7552008 | L11: 373.4296 | M11: 2.6294261 | N11: 8.9875245 | O11: 0 | P11: 0.024982394 | Q11: 29.49005 | R11: 169.79659 | S11: 106.22807 | T11: 1486.9827 | U11: 1144.3155 | V11: 0.93080486 | W11: 1204.7285 | X11: 8209.7461
C12: 8 | D12: 茨城県 | E12: 97.616995 | F12: 5616.1476 | G12: 153.67873 | H12: 92.384504 | I12: 57.538067 | J12: 162.54805 | K12: 48 | L12: 207.56575 | M12: 0 | N12: 85 | O12: 0 | P12: 2.0029136 | Q12: 72.202534 | R12: 318.0373 | S12: 160.33847 | T12: 1153.6358 | U12: 2483.3063 | V12: 2.785818 | W12: 901.25696 | X12: 11614.046
C13: 9 | D13: 栃木県 | E13: 21.505514 | F13: 2587.9203 | G13: 41.357693 | H13: 26.852064 | I13: 13.633987 | J13: 258.76042 | K13: 20.79895 | L13: 148.86758 | M13: 0.62866825 | N13: 33.131111 | O13: 0.022713918 | P13: 3.3136251 | Q13: 83.773059 | R13: 157.19337 | S13: 243.42773 | T13: 776.73768 | U13: 2755.0163 | V13: 3.6853192 | W13: 28.204662 | X13: 7204.8308
C14: 10 | D14: 群馬県 | E14: 4.0648451 | F14: 1514.8663 | G14: 38.431115 | H14: 7.2353228 | I14: 16.374223 | J14: 41.915739 | K14: 1.80228 | L14: 42.844017 | M14: 0.10244 | N14: 98.89901 | O14: 0 | P14: 0.01597615 | Q14: 11.37829 | R14: 151.08782 | S14: 53.798009 | T14: 332.74255 | U14: 2923.4613 | V14: 1.5601255 | W14: 15.629619 | X14: 5256.209
C15: 11 | D15: 埼玉県 | E15: 8.8734865 | F15: 6209.5502 | G15: 89.211346 | H15: 63.917595 | I15: 71.686531 | J15: 450.84256 | K15: 91.305013 | L15: 196.97376 | M15: 4.4752264 | N15: 87.95249 | O15: 0.13996537 | P15: 0.58682163 | Q15: 156.94834 | R15: 470.49397 | S15: 98.364868 | T15: 1771.1559 | U15: 577.95231 | V15: 1.6612377 | W15: 17.636869 | X15: 10369.728
C16: 12 | D16: 千葉県 | E16: 56.117166 | F16: 7215.1955 | G16: 266.74626 | H16: 161.4363 | I16: 217.53889 | J16: 391.04315 | K16: 19.627793 | L16: 421.47056 | M16: 0.62837047 | N16: 63.74222 | O16: 1.47799 | P16: 0.12297923 | Q16: 1510.9919 | R16: 466.24734 | S16: 1944.9399 | T16: 1909.9614 | U16: 2876.9694 | V16: 11.573359 | W16: 1665.7148 | X16: 19201.545
... C51: 47 | D51: 沖縄県 | E51: 15.823537 | F51: 1163.5996 | G51: 7.8909452 | H51: 0.042563911 | I51: 0.51215152 | J51: 19.775392 | K51: 4.089642 | L51: 48.544152 | M51: 0.19100634 | N51: 186.376 | O51: 1.2702694 | P51: 0.051762347 | Q51: 59.4955 | R51: 87.356459 | S51: 26.817711 | T51: 273.95543 | U51: 1323.8926 | V51: 4.57944 | W51: 86.51848 | X51: 3310.7827
C52: 全国 | E52: 2385.7712 | F52: 154538.54 | G52: 3288.734 | H52: 2889.3559 | I52: 2594.8254 | J52: 7855.9534 | K52: 819.77691 | L52: 8225.5731 | M52: 89.800128 | N52: 2221.9475 | O52: 82.462869 | P52: 31.890783 | Q52: 6944.483 | R52: 8345.7385 | S52: 11126.085 | T52: 60680.354 | U52: 80363.101 | V52: 135.2043 | W52: 14630.013 | X52: 367249.61
C53: ※四捨五入により、各項目の合算値と合計値が合致しない場合がある。
C54: ※動物の死体の原単位については令和３年度農業保険制度家畜共済統計表（農林水産省）の動物の死亡率を用いて推計した。

Sheet 表Ⅲ・7
B1: 表－Ⅲ・７ 令和５年度実績値 業種別・種類別全国共通原単位一覧表
D3: 全国 | F3: 令和５年度
B4: 大分類 | C4: 番号 | D4: 産業分類 | E4: コード | F4: 単位 | G4: 燃え殻 | H4: 汚 泥 | I4: 廃 油 | J4: 廃 酸 | K4: 廃アルカリ | L4: 廃プラス チック類 | M4: 紙くず | N4: 木くず | O4: 繊維くず | P4: 動植物性 残 渣 | Q4: 動物系固形不要物 | R4: ゴムくず | S4: 金属くず | T4: ガラスくず及び 陶磁器くず | U4: 鉱さい | V4: がれき類 | W4: 動物の ふん尿 | X4: 動物の死体 | Y4: ばいじん | AA4: 合 計
D5: 農業，林業大分類 | E5: A
C6: 1 | D6: 耕種農業 | E6: A011 | F6: t/千a
B7: 農業，林業 | C7: 2 | D7: 畜産農業 | E7: A012 | F7: t/頭羽
C8: 3 | D8: 林業 | E8: A02 | F8: t/千人
C9: 4 | D9: 上記以外の農業，林業
D10: 漁業大分類 | E10: B
B11: 漁 業 | C11: 5 | D11: 漁業 | E11: B03 | F11: t/千人 | G11: 0 | H11: 0 | I11: 0 | J11: 0 | K11: 0 | L11: 78.654405 | N11: 0 | R11: 0 | S11: 12.100678 | T11: 0 | U11: 0 | V11: 0 | Y11: 0
C12: 6 | D12: 水産養殖業 | E12: B04 | F12: t/千人 | G12: 0 | H12: 0 | I12: 0 | J12: 0 | K12: 0 | L12: 94.152626 | N12: 0 | R12: 0 | S12: 0 | T12: 0 | U12: 0 | V12: 0 | Y12: 0
B13: 鉱 業 | C13: 7 | D13: 鉱業，採石業，砂利採取業 | E13: C | F13: t/千人 | G13: 1.802307 | H13: 303186.54 | I13: 449.84989 | J13: 734.59347 | K13: 1136.9309 | L13: 2048.9223 | N13: 565.26527 | R13: 5.5032662 | S13: 117.06205 | T13: 1365.0208 | U13: 848.48606 | V13: 1018.7904 | Y13: 3.5872584
B14: 建設業 | C14: 8 | D14: 建設業 | E14: D | F14: t/十億円 | G14: 1.1892641 | H14: 153.34911 | I14: 1.2255035 | J14: 0.41242433 | K14: 0.69430962 | L14: 23.711258 | M14: 4.7796983 | N14: 103.47115 | O14: 1.0493495 | R14: 0.051848463 | S14: 14.024636 | T14: 49.89136 | U14: 1.3949265 | V14: 894.01049 | Y14: 0.4348241
D15: 製造業大分類 | E15: E
C16: 9 | D16: 食料品製造業 | E16: E09 | F16: t/十億円 | G16: 0.19021421 | H16: 183.56814 | I16: 2.8260094 | J16: 1.8898327 | K16: 1.5970512 | L16: 12.660883 | N16: 0.33125528 | R16: 0.001378537 | S16: 0.80404977 | T16: 1.1262279 | U16: 0 | V16: 0.059528229 | Y16: 0.048594258
C17: 10 | D17: 飲料・たばこ・飼料製造業 | E17: E10 | F17: t/十億円 | G17: 0.023928123 | H17: 130.62587 | I17: 0.25909232 | J17: 62.013879 | K17: 4.1999258 | L17: 5.1010376 | N17: 0.7526829 | R17: 0.00034711426 | S17: 0.2820821 | T17: 0.49352957 | U17: 0 | V17: 0.020682684 | Y17: 0.031595944
C18: 11 | D18: 繊維工業 | E18: E11 | F18: t/十億円 | G18: 1.5193152 | H18: 46.47779 | I18: 2.2705637 | J18: 0.92893376 | K18: 6.1106033 | L18: 28.294484 | N18: 0.84799284 | R18: 0.0038839033 | S18: 0.43879734 | T18: 0.10593493 | U18: 0.0086412237 | V18: 0.031543657 | Y18: 12.426268
C19: 12 | D19: 木材・木製品製造業 | E19: E12 | F19: t/十億円 | G19: 7.942771 | H19: 0.43255417 | I19: 0.70466249 | J19: 0.045160905 | K19: 0.3181966 | L19: 5.0242288 | N19: 154.17045 | R19: 0.0013971056 | S19: 0.84678504 | T19: 1.675027 | U19: 0 | V19: 2.4333605 | Y19: 3.4287201
C20: 13 | D20: 家具・装備品製造業 | E20: E13 | F20: t/十億円 | G20: 0.19050648 | H20: 8.2798516 | I20: 1.8968764 | J20: 0.27195644 | K20: 0.32150713 | L20: 13.900344 | N20: 35.014562 | R20: 0.002089185 | S20: 4.408324 | T20: 3.4641712 | U20: 0.0010245477 | V20: 0.46517815 | Y20: 0.0013375296
C21: 14 | D21: パルプ・紙・紙加工品製造業 | E21: E14 | F21: t/十億円 | G21: 19.452719 | H21: 2485.7936 | I21: 2.2005952 | J21: 0.049334388 | K21: 3.3160861 | L21: 56.088661 | N21: 11.327032 | R21: 0.00031366926 | S21: 0.71992341 | T21: 0.23061792 | U21: 0.16746808 | V21: 0.15837974 | Y21: 60.182178
C22: 15 | D22: 印刷・同関連業 | E22: E15 | F22: t/十億円 | G22: 0.39560041 | H22: 14.073117 | I22: 8.3611568 | J22: 1.7920519 | K22: 9.591583 | L22: 39.385756 | N22: 1.8246342 | R22: 0.0010541913 | S22: 2.1905448 | T22: 0.32865952 | U22: 0.035325205 | V22: 0.014245765 | Y22: 0.012036811
C23: 16 | D23: 化学工業 | E23: E16 | F23: t/十億円 | G23: 13.003323 | H23: 141.98891 | I23: 33.65146 | J23: 20.223508 | K23: 38.916874 | L23: 10.64884 | N23: 1.3801093 | R23: 0.038554846 | S23: 2.1627113 | T23: 1.3707501 | U23: 1.4706384 | V23: 0.37216713 | Y23: 13.482384
C24: 17 | D24: 石油製品・石炭製品製造業 | E24: E17 | F24: t/十億円 | G24: 0.32126891 | H24: 22.794966 | I24: 6.1458644 | J24: 3.0910638 | K24: 2.472708 | L24: 0.51984737 | N24: 0.19529355 | R24: 0 | S24: 0.161807 | T24: 1.9424639 | U24: 0.039067323 | V24: 6.6930504 | Y24: 5.8214796
B25: 製造業 | C25: 18 | D25: プラスチック製品製造業 | E25: E18 | F25: t/十億円 | G25: 0.2992978 | H25: 11.301239 | I25: 4.0887699 | J25: 1.3650195 | K25: 2.3981656 | L25: 45.404397 | N25: 1.9174543 | R25: 0.0090277861 | S25: 0.87918011 | T25: 0.70849814 | U25: 4.7500149e-06 | V25: 0.25122452 | Y25: 1.122265
C26: 19 | D26: ゴム製品製造業 | E26: E19 | F26: t/十億円 | G26: 0.017776241 | H26: 8.5878072 | I26: 3.5059158 | J26: 0.078198284 | K26: 0.54618317 | L26: 42.397451 | N26: 1.097589 | R26: 2.5535963 | S26: 3.404196 | T26: 1.2294977 | U26: 0.011916137 | V26: 0.0473642 | Y26: 0.00099640621
C27: 20 | D27: なめし革・同製品・毛皮製造業 | E27: E20 | F27: t/十億円 | G27: 0.0022850665 | H27: 81.054347 | I27: 17.224464 | J27: 0.06250531 | K27: 1.4506349 | L27: 28.996479 | N27: 4.4170076 | R27: 0.15436014 | S27: 0.48814127 | T27: 0.00065022937 | U27: 0 | V27: 0 | Y27: 0
C28: 21 | D28: 窯業・土石製品製造業 | E28: E21 | F28: t/十億円 | G28: 6.6779175 | H28: 413.31885 | I28: 8.0649876 | J28: 2.0391415 | K28: 14.405238 | L28: 6.9272361 | N28: 5.3270745 | R28: 0.0089316162 | S28: 2.285627 | T28: 436.47781 | U28: 4.0968935 | V28: 93.786531 | Y28: 4.891416
C29: 22 | D29: 鉄鋼業 | E29: E22 | F29: t/十億円 | G29: 1.7899989 | H29: 74.26548 | I29: 9.5326853 | J29: 25.569674 | K29: 7.1987391 | L29: 6.3245259 | N29: 1.1684 | R29: 0.00078626291 | S29: 122.03077 | T29: 6.6848114 | U29: 303.47782 | V29: 14.429835 | Y29: 170.62108
C30: 23 | D30: 非鉄金属製造業 | E30: E23 | F30: t/十億円 | G30: 0.26373728 | H30: 24.378272 | I30: 4.3901179 | J30: 2.7487321 | K30: 6.7352214 | L30: 6.2533598 | N30: 2.8760593 | R30: 0.001227683 | S30: 1.2208326 | T30: 1.0931149 | U30: 23.268623 | V30: 0.48170866 | Y30: 0.41281686
C31: 24 | D31: 金属製品製造業 | E31: E24 | F31: t/十億円 | G31: 0.18434199 | H31: 98.807567 | I31: 6.5600904 | J31: 11.511164 | K31: 5.7948832 | L31: 5.5093194 | N31: 3.4433871 | R31: 0.37442287 | S31: 13.447126 | T31: 2.2173422 | U31: 1.9677883 | V31: 1.3255642 | Y31: 0.22659981
C32: 25 | D32: はん用機械器具製造業 | E32: E25 | F32: t/十億円 | G32: 0.0077541026 | H32: 15.938334 | I32: 9.5805004 | J32: 0.74703086 | K32: 2.1532504 | L32: 5.0038191 | N32: 3.1614607 | R32: 0.0033383257 | S32: 4.8557752 | T32: 0.32697166 | U32: 3.1966579 | V32: 0.35797683 | Y32: 0.019845835
C33: 26 | D33: 生産用機械器具製造業 | E33: E26 | F33: t/十億円 | G33: 0.0077678332 | H33: 4.8059327 | I33: 5.602108 | J33: 0.92539518 | K33: 0.91067374 | L33: 4.8446067 | N33: 2.7676611 | R33: 0.00055490447 | S33: 3.3401025 | T33: 0.28827735 | U33: 2.4353408 | V33: 0.12416961 | Y33: 0.0007730933
C34: 27 | D34: 業務用機械器具製造業 | E34: E27 | F34: t/十億円 | G34: 0.014354794 | H34: 6.0068923 | I34: 9.7003495 | J34: 0.42711601 | K34: 1.8997577 | L34: 11.962463 | N34: 1.0571846 | R34: 0.00040909861 | S34: 2.171228 | T34: 0.8822018 | U34: 0.0049228331 | V34: 0.053867294 | Y34: 0
C35: 28 | D35: 電子部品・デバイス・電子回路製造業 | E35: E28 | F35: t/十億円 | G35: 0.0035827561 | H35: 38.708753 | I35: 4.5378894 | J35: 26.234242 | K35: 10.908826 | L35: 6.2364125 | N35: 0.42363009 | R35: 3.3560875e-05 | S35: 1.2790182 | T35: 0.3693717 | U35: 0.00035135524 | V35: 0.017425079 | Y35: 0.00013547123
C36: 29 | D36: 電気機械器具製造業 | E36: E29 | F36: t/十億円 | G36: 0.0084789026 | H36: 35.394199 | I36: 1.6271086 | J36: 1.9647943 | K36: 4.5049254 | L36: 3.9753347 | N36: 0.94934229 | R36: 0.00068892106 | S36: 5.6786535 | T36: 0.82775185 | U36: 0.027218136 | V36: 0.24640525 | Y36: 0.00050109606
C37: 30 | D37: 情報通信機械器具製造業 | E37: E30 | F37: t/十億円 | G37: 5.1179035e-05 | H37: 1.1729618 | I37: 1.3712819 | J37: 0.57548317 | K37: 8.1750804 | L37: 4.3559545 | N37: 0.65398187 | R37: 0 | S37: 2.6357125 | T37: 0.061246377 | U37: 0 | V37: 0.027085281 | Y37: 0
... C39: 32 | D39: その他の製造業 | E39: E32 | F39: t/十億円 | G39: 1.9796448 | H39: 43.748303 | I39: 11.370343 | J39: 1.6863126 | K39: 15.977546 | L39: 40.328466 | N39: 5.217538 | R39: 0.01275566 | S39: 2.0632948 | T39: 14.21252 | U39: 2.7450696 | V39: 15.010179 | Y39: 4.0902157
D40: 電気・ガス・熱供給・水道業大分類 | E40: F
B41: 電気･ガス | C41: 33 | D41: 電気業 | E41: F33 | F41: t/千人 | G41: 7910.74 | H41: 7987.3621 | I41: 41.054148 | J41: 20.870849 | K41: 33.728668 | L41: 54.609512 | N41: 48.183855 | R41: 0.0037246208 | S41: 34.744777 | T41: 71.294816 | U41: 140.35794 | V41: 636.65308 | Y41: 50794.329
B42: ･熱供給･ | C42: 34 | D42: ガス業 | E42: F34 | F42: t/千人 | G42: 0 | H42: 38.709614 | I42: 2.0278064 | J42: 0.15389492 | K42: 0.2870274 | L42: 47.656511 | N42: 204.96071 | R42: 0 | S42: 47.531544 | T42: 7.4836323 | U42: 45.354982 | V42: 272.80717 | Y42: 0
...

Sheet 表Ⅲ・8
B1: 表－Ⅲ・８ 令和５年度実績値 業種別・種類別活動量指標合計（有回答）一覧表
D3: 全国 | F3: 令和５年度
B4: 大分類 | C4: 番号 | D4: 産業分類 | E4: コード | F4: 単位 | G4: 燃え殻 | H4: 汚 泥 | I4: 廃 油 | J4: 廃 酸 | K4: 廃アルカリ | L4: 廃プラス チック類 | M4: 紙くず | N4: 木くず | O4: 繊維くず | P4: 動植物性 残 渣 | Q4: 動物系固形不要物 | R4: ゴムくず | S4: 金属くず | T4: ガラスくず及び 陶磁器くず | U4: 鉱さい | V4: がれき類 | W4: 動物の ふん尿 | X4: 動物の死体 | Y4: ばいじん | Z4: 合 計
D5: 農業，林業大分類 | E5: A
C6: 1 | D6: 耕種農業 | E6: A011 | F6: 千a | L6: 143.0256
B7: 農業，林業 | C7: 2 | D7: 畜産農業 | E7: A012 | F7: 頭羽 | G7: 744.71 | H7: 744.71 | I7: 2138 | K7: 744.71 | L7: 13020.29 | N7: 1393.29 | R7: 744.71 | S7: 2138 | T7: 744.71 | V7: 2138 | W7: 78808.91 | X7: 69903.41
C8: 3 | D8: 林業 | E8: A02 | F8: 千人 | I8: 2.2956 | L8: 6.5138 | N8: 3.5684 | S8: 2.2956 | T8: 0.6488 | V8: 2.0612
C9: 4 | D9: 上記以外の農業，林業
D10: 漁業大分類 | E10: B
B11: 漁 業 | C11: 5 | D11: 漁業 | E11: B03 | F11: 千人 | L11: 0.8264 | S11: 0.8264
C12: 6 | D12: 水産養殖業 | E12: B04 | F12: 千人 | L12: 0.2018
B13: 鉱 業 | C13: 7 | D13: 鉱業，採石業，砂利採取業 | E13: C | F13: 千人 | G13: 1.5452 | H13: 12.0322 | I13: 11.7298 | J13: 1.8678 | K13: 3.506 | L13: 13.6608 | N13: 9.6582 | R13: 1.5102 | S13: 11.0146 | T13: 10.1152 | U13: 1.6778 | V13: 8.8516 | Y13: 1.697
B14: 建設業 | C14: 8 | D14: 建設業 | E14: D | F14: 十億円 | G14: 52610.681 | H14: 55268.395 | I14: 53989.814 | J14: 46765.024 | K14: 49507.263 | L14: 53989.814 | M14: 55268.395 | N14: 55268.395 | O14: 53664.795 | R14: 38670.155 | S14: 55268.395 | T14: 55268.395 | U14: 45863.79 | V14: 55268.395 | Y14: 39815.067
D15: 製造業大分類 | E15: E
C16: 9 | D16: 食料品製造業 | E16: E09 | F16: 十億円 | G16: 23746.329 | H16: 24681.209 | I16: 24681.209 | J16: 24347.009 | K16: 22432.475 | L16: 24681.209 | N16: 20050.045 | P16: 24681.209 | Q16: 7381.593 | R16: 8772.695 | S16: 24681.209 | T16: 24681.209 | V16: 18988.371 | Y16: 12521.139
C17: 10 | D17: 飲料・たばこ・飼料製造業 | E17: E10 | F17: 十億円 | G17: 4905.895 | H17: 8074.104 | I17: 7257.536 | J17: 6860.455 | K17: 3346.275 | L17: 8074.104 | N17: 5667.969 | P17: 8074.104 | R17: 846.616 | S17: 7409.43 | T17: 7404.262 | V17: 3032.428 | Y17: 734.855
C18: 11 | D18: 繊維工業 | E18: E11 | F18: 十億円 | G18: 2165.363 | H18: 2508.259 | I18: 2653.9 | J18: 1917.371 | K18: 1965.146 | L18: 2892.124 | N18: 2488.968 | O18: 2494.219 | R18: 222.472 | S18: 2526.052 | T18: 2552.509 | U18: 24.41 | V18: 1181.625 | Y18: 735.957
C19: 12 | D19: 木材・木製品製造業 | E19: E12 | F19: 十億円 | G19: 2492.499 | H19: 2048.492 | I19: 2070.874 | J19: 632.68 | K19: 783.741 | L19: 2745.871 | N19: 2745.871 | R19: 351.375 | S19: 2262.678 | T19: 2410.704 | V19: 1617.083 | Y19: 1346.906
C20: 13 | D20: 家具・装備品製造業 | E20: E13 | F20: 十億円 | G20: 705.353 | H20: 1196.824 | I20: 1252.132 | J20: 461.976 | K20: 697.881 | L20: 1489.328 | N20: 1495.294 | R20: 84.751 | S20: 1365.211 | T20: 1299.433 | U20: 43.103 | V20: 555.1 | Y20: 99.882
C21: 14 | D21: パルプ・紙・紙加工品製造業 | E21: E14 | F21: 十億円 | G21: 5680.229 | H21: 5998.671 | I21: 5993.846 | J21: 5292.396 | K21: 5242.118 | L21: 5998.671 | M21: 5885.215 | N21: 5690.713 | R21: 570.908 | S21: 5927.419 | T21: 5517.92 | U21: 954.472 | V21: 4147.796 | Y21: 5117.537
C22: 15 | D22: 印刷・同関連業 | E22: E15 | F22: 十億円 | G22: 609.894 | H22: 2709.529 | I22: 2995.81 | J22: 2747.681 | K22: 2787.85 | L22: 2995.81 | M22: 2759.004 | N22: 2707.848 | R22: 234.559 | S22: 2833.723 | T22: 2530.788 | U22: 761.637 | V22: 1230.92 | Y22: 107.696
C23: 16 | D23: 化学工業 | E23: E16 | F23: 十億円 | G23: 25462.108 | H23: 26215.282 | I23: 26215.282 | J23: 26205.613 | K23: 26205.613 | L23: 26215.282 | N23: 23614.653 | P23: 21534.086 | R23: 10330.579 | S23: 26207.003 | T23: 26215.282 | U23: 9900.768 | V23: 22152.699 | Y23: 15136.944
C24: 17 | D24: 石油製品・石炭製品製造業 | E24: E17 | F24: 十億円 | G24: 11297.996 | H24: 14066.232 | I24: 14125.474 | J24: 13159.321 | K24: 13839.692 | L24: 14104.868 | N24: 13966.974 | S24: 14002.752 | T24: 13999.515 | U24: 2514.004 | V24: 12204.402 | Y24: 12773.677
B25: 製造業 | C25: 18 | D25: プラスチック製品製造業 | E25: E18 | F25: 十億円 | G25: 4681.67 | H25: 10270.867 | I25: 10311.772 | J25: 9759.72 | K25: 10175.047 | L25: 10399.954 | N25: 9576.039 | R25: 3195.939 | S25: 10379.122 | T25: 9265.167 | U25: 116.618 | V25: 6923.399 | Y25: 4107.867
C26: 19 | D26: ゴム製品製造業 | E26: E19 | F26: 十億円 | G26: 746.759 | H26: 3109.934 | I26: 3041.244 | J26: 2286.706 | K26: 2919.267 | L26: 3197.345 | N26: 2815.691 | R26: 2159.273 | S26: 2913.247 | T26: 2989.256 | U26: 293.514 | V26: 1374.815 | Y26: 46.146
C27: 20 | D27: なめし革・同製品・毛皮製造業 | E27: E20 | F27: 十億円 | G27: 2.613 | H27: 57.400457 | I27: 64.339457 | J27: 27.119 | K27: 29.063 | L27: 107.65551 | N27: 73.118 | R27: 22.478 | S27: 27.435 | T27: 4.957
C28: 21 | D28: 窯業・土石製品製造業 | E28: E21 | F28: 十億円 | G28: 4945.354 | H28: 6547.246 | I28: 6178.994 | J28: 5656.692 | K28: 5775.09 | L28: 6547.246 | N28: 6126.449 | R28: 2730.552 | S28: 6431.933 | T28: 6547.246 | U28: 5097.371 | V28: 6192.276 | Y28: 4233.846
C29: 22 | D29: 鉄鋼業 | E29: E22 | F29: 十億円 | G29: 12079.611 | H29: 16998.364 | I29: 17044.202 | J29: 16862.015 | K29: 14772.005 | L29: 17015.683 | N29: 16617.036 | R29: 4703.381 | S29: 16962.341 | T29: 15995.059 | U29: 16082.976 | V29: 14843.421 | Y29: 14227.136
C30: 23 | D30: 非鉄金属製造業 | E30: E23 | F30: 十億円 | G30: 4464.962 | H30: 8965.4112 | I30: 8928.4832 | J30: 7130.0363 | K30: 7588.99 | L30: 8977.8472 | N30: 8352.4092 | R30: 1249.506 | S30: 8824.7629 | T30: 8830.525 | U30: 7517.8389 | V30: 7289.0872 | Y30: 6400.459
C31: 24 | D31: 金属製品製造業 | E31: E24 | F31: 十億円 | G31: 8430.573 | H31: 12496.909 | I31: 12496.909 | J31: 12443.688 | K31: 12385.516 | L31: 12496.909 | N31: 11616.933 | R31: 3727.978 | S31: 12496.909 | T31: 12496.909 | U31: 9314.598 | V31: 10470.942 | Y31: 5770.753
C32: 25 | D32: はん用機械器具製造業 | E32: E25 | F32: 十億円 | G32: 2989.495 | H32: 8471.176 | I32: 8511.846 | J32: 7261.871 | K32: 7395.19 | L32: 8497.558 | N32: 7951.537 | R32: 3369.763 | S32: 8480.728 | T32: 7683.928 | U32: 5784.352 | V32: 5780.48 | Y32: 4180.538
C33: 26 | D33: 生産用機械器具製造業 | E33: E26 | F33: 十億円 | G33: 12780.091 | H33: 18584.674 | I33: 18092.446 | J33: 17934.429 | K33: 18063.421 | L33: 18092.446 | N33: 17088.664 | R33: 7666.295 | S33: 18092.446 | T33: 18025.313 | U33: 13125.92 | V33: 12777.246 | Y33: 4470.601
C34: 27 | D34: 業務用機械器具製造業 | E34: E27 | F34: 十億円 | G34: 2892.977 | H34: 5239.101 | I34: 5538.508 | J34: 5042.733 | K34: 5194.533 | L34: 5566.185 | N34: 4401.939 | R34: 563.583 | S34: 5264.142 | T34: 5251.076 | U34: 2354.907 | V34: 2176.447
C35: 28 | D35: 電子部品・デバイス・電子回路製造業 | E35: E28 | F35: 十億円 | G35: 5887.859 | H35: 14742.51 | I35: 14763.282 | J35: 14448.179 | K35: 14448.179 | L35: 14763.282 | N35: 13433.503 | R35: 710.024 | S35: 14763.282 | T35: 14218.412 | U35: 1362.783 | V35: 8298.836 | Y35: 506.429
C36: 29 | D36: 電気機械器具製造業 | E36: E29 | F36: 十億円 | G36: 6468.999 | H36: 16302.567 | I36: 16302.567 | J36: 14856.37 | K36: 15043.79 | L36: 16302.567 | N36: 13395.366 | R36: 8660.38 | S36: 16276.262 | T36: 15109.283 | U36: 8692.652 | V36: 10319.074 | Y36: 3134.175
C37: 30 | D37: 情報通信機械器具製造業 | E37: E30 | F37: 十億円 | G37: 98.582 | H37: 4561.07 | I37: 4713.2223 | J37: 3832.323 | K37: 4432.808 | L37: 4799.5038 | N37: 4071.3685 | S37: 4546.9835 | T37: 4472.8735 | U37: 98.582 | V37: 2055.482
C38: 31 | D38: 輸送用機械器具製造業 | E38: E31 | F38: 十億円 | G38: 58443.878 | H38: 65431.53 | I38: 65431.53 | J38: 63444.461 | K38: 64670.175 | L38: 65393.596 | N38: 59564.346 | R38: 45383.15 | S38: 65415.701 | T38: 64461.745 | U38: 57837.286 | V38: 60511.615 | Y38: 51554.63
C39: 32 | D39: その他の製造業 | E39: E32 | F39: 十億円 | G39: 1682.364 | H39: 3027.679 | I39: 2686.687 | J39: 2261.04 | K39: 2315.609 | L39: 3055.259 | N39: 2586.297 | R39: 667.847 | S39: 2704.186 | T39: 2637.377 | U39: 667.578 | V39: 2022.753 | Y39: 654.771
D40: 電気・ガス・熱供給・水道業大分類 | E40: F
B41: 電気･ガス | C41: 33 | D41: 電気業 | E41: F33 | F41: 千人 | G41: 68.5834 | H41: 69.6698 | I41: 64.676 | J41: 43.9634 | K41: 57.4026 | L41: 69.783 | N41: 54.4392 | R41: 0.5824 | S41: 68.047 | T41: 69.783 | U41: 31.323 | V41: 58.8144 | Y41: 66.2508
...

Sheet 表Ⅲ・9
B1: 表―Ⅲ・９ 産業廃棄物排出・処理状況一覧表（令和５年度実施値）
L2: （単位：千ｔ/年）
B3: 廃棄物名 | C3: 排出量 | D3: 直接再生利用量 | E3: 直接最終処分量 | F3: 中間処理 | J3: 再生利用量 計 | K3: 減量化量 | L3: 最終処分量 計
F4: 中間処理量 | G4: 処理残渣量 | H4: 中間処理後 再生利用量 | I4: 中間処理後 最終処分量
C5: （Ａ） | D5: （Ｂ） | E5: （Ｃ） | F5: （Ｄ） | G5: （Ｅ） | H5: （Ｆ） | I5: （Ｇ） | J5: （Ｂ）＋（Ｆ） | K5: （Ｄ）－（Ｅ） | L5: （Ｃ）＋（Ｇ）
B6: 燃 え 殻 | C6: =P8 -> 2385.7712 | D6: =Q8 -> 92.901369 | E6: =R8 -> 386.45394 | F6: =S8 -> 1906.4159 | G6: =T8 -> 1733.4184 | H6: =U8 -> 1673.7886 | I6: =V8 -> 59.629764 | J6: =W8 -> 1766.69 | ... L6: =Y8 -> 446.08371 | P6: 排出量(補正後） | Q6: 直接再生利用量 | R6: 直接最終処分量 | S6: 中間処理量 | T6: 処理残渣量 | U6: 処理後再生利用量 | V6: 処理後最終処分量 | W6: 再生利用量合計 | X6: 減量化量 | Y6: 最終処分量合計
B7: 構成比 | D7: =D6/$C6 -> 0.038939765 | E7: =E6/$C6 -> 0.16198282 | F7: =F6/$C6 -> 0.79907742 | G7: =G6/$C6 -> 0.72656521 | H7: =H6/$C6 -> 0.70157129 | I7: =I6/$C6 -> 0.024993915 | J7: =J6/$C6 -> 0.74051106 | K7: =K6/$C6 -> 0.072512208 | L7: =L6/$C6 -> 0.18697673 | O7: 廃 棄 物 名 | P7: ④+⑧+⑨ | Q7: ①：（8） | R7: ②：(11)+(14：ハ） | S7: ③：(4)+(13：ｲ) | T7: ⑤：(6)+(15) | U7: ⑥：（9）+（17） | V7: ⑦：(10)+(14：ﾆ)+(18) | W7: ⑧：(8)+(9)+(17) | X7: ④:(7)+(16) | Y7: ⑨：(11)+(14：ハ）+(10)+(14：ﾆ)+(18)
B8: 汚 泥 | C8: =P9 -> 154538.54 | D8: =Q9 -> 609.31643 | E8: =R9 -> 653.9228 | F8: =S9 -> 153275.3 | G8: =T9 -> 11946.648 | H8: =U9 -> 11106.919 | I8: =V9 -> 839.72901 | J8: =W9 -> 11716.235 | ... L8: =Y9 -> 1493.6518 | O8: 燃 え 殻 | P8: =Y37 -> 2385.7712 | Q8: =P37 -> 92.901369 | R8: =Q37 -> 386.45394 | S8: =R37 -> 1906.4159 | T8: =T37 -> 1733.4184 | U8: =U37 -> 1673.7886 | V8: =V37 -> 59.629764 | W8: =W37 -> 1766.69 | X8: =S37 -> 172.99754 | Y8: =X37 -> 446.08371
B9: 構成比 | D9: =D8/$C8 -> 0.0039428122 | E9: =E8/$C8 -> 0.0042314546 | F9: =F8/$C8 -> 0.99182573 | G9: =G8/$C8 -> 0.077305301 | H9: =H8/$C8 -> 0.071871517 | I9: =I8/$C8 -> 0.0054337839 | J9: =J8/$C8 -> 0.07581433 | K9: =K8/$C8 -> 0.91452043 | L9: =L8/$C8 -> 0.0096652385 | O9: 汚 泥 | P9: =Y38 -> 154538.54 | Q9: =P38 -> 609.31643 | R9: =Q38 -> 653.9228 | S9: =R38 -> 153275.3 | T9: =T38 -> 11946.648 | U9: =U38 -> 11106.919 | V9: =V38 -> 839.72901 | W9: =W38 -> 11716.235 | X9: =S38 -> 141328.65 | Y9: =X38 -> 1493.6518
B10: 廃 油 | C10: =P10 -> 3288.734 | D10: =Q10 -> 319.41619 | E10: =R10 -> 1.662172 | F10: =S10 -> 2967.6557 | G10: =T10 -> 1248.0965 | H10: =U10 -> 1197.8148 | I10: =V10 -> 50.281706 | J10: =W10 -> 1517.231 | ... L10: =Y10 -> 51.943878 | O10: 廃 油 | P10: =Y39 -> 3288.734 | Q10: =P39 -> 319.41619 | R10: =Q39 -> 1.662172 | S10: =R39 -> 2967.6557 | T10: =T39 -> 1248.0965 | U10: =U39 -> 1197.8148 | V10: =V39 -> 50.281706 | W10: =W39 -> 1517.231 | X10: =S39 -> 1719.5592 | Y10: =X39 -> 51.943878
B11: 構成比 | D11: =D10/$C10 -> 0.09712436 | E11: =E10/$C10 -> 0.00050541393 | F11: =F10/$C10 -> 0.90237023 | G11: =G10/$C10 -> 0.37950667 | H11: =H10/$C10 -> 0.36421759 | I11: =I10/$C10 -> 0.015289077 | J11: =J10/$C10 -> 0.46134195 | K11: =K10/$C10 -> 0.52286356 | L11: =L10/$C10 -> 0.01579449 | O11: 廃 酸 | P11: =Y40 -> 2889.3559 | Q11: =P40 -> 94.772249 | R11: =Q40 -> 0.26091192 | S11: =R40 -> 2794.3228 | T11: =T40 -> 897.398 | U11: =U40 -> 858.42675 | V11: =V40 -> 38.971252 | W11: =W40 -> 953.199 | X11: =S40 -> 1896.9248 | Y11: =X40 -> 39.232164
B12: 廃 酸 | C12: =P11 -> 2889.3559 | D12: =Q11 -> 94.772249 | E12: =R11 -> 0.26091192 | F12: =S11 -> 2794.3228 | G12: =T11 -> 897.398 | H12: =U11 -> 858.42675 | I12: =V11 -> 38.971252 | J12: =W11 -> 953.199 | ... L12: =Y11 -> 39.232164 | O12: 廃 ア ル カ リ | P12: =Y41 -> 2594.8254 | Q12: =P41 -> 45.314403 | R12: =Q41 -> 0.13820063 | S12: =R41 -> 2549.3728 | T12: =T41 -> 573.4934 | U12: =U41 -> 536.56956 | V12: =V41 -> 36.923838 | W12: =W41 -> 581.88397 | X12: =S41 -> 1975.8794 | Y12: =X41 -> 37.062039
B13: 構成比 | D13: =D12/$C12 -> 0.032800476 | E13: =E12/$C12 -> 9.0301066e-05 | F13: =F12/$C12 -> 0.96710922 | G13: =G12/$C12 -> 0.31058756 | H13: =H12/$C12 -> 0.29709969 | I13: =I12/$C12 -> 0.013487868 | J13: =J12/$C12 -> 0.32990017 | K13: =K12/$C12 -> 0.65652166 | L13: =L12/$C12 -> 0.013578169 | O13: 廃プラスチック類 | P13: =Y42 -> 7855.9534 | Q13: =P42 -> 111.66585 | R13: =Q42 -> 298.43179 | S13: =R42 -> 7445.8558 | T13: =T42 -> 5633.7493 | U13: =U42 -> 4837.8824 | V13: =V42 -> 795.8669 | W13: =W42 -> 4949.5482 | X13: =S42 -> 1812.1065 | Y13: =X42 -> 1094.2987
B14: 廃 ア ル カ リ | C14: =P12 -> 2594.8254 | D14: =Q12 -> 45.314403 | E14: =R12 -> 0.13820063 | F14: =S12 -> 2549.3728 | G14: =T12 -> 573.4934 | H14: =U12 -> 536.56956 | I14: =V12 -> 36.923838 | J14: =W12 -> 581.88397 | ... L14: =Y12 -> 37.062039 | O14: 紙 く ず | P14: =Y43 -> 819.77691 | Q14: =P43 -> 57.734806 | R14: =Q43 -> 15.866073 | S14: =R43 -> 746.17603 | T14: =T43 -> 637.85725 | U14: =U43 -> 613.15532 | V14: =V43 -> 24.701931 | W14: =W43 -> 670.89012 | X14: =S43 -> 108.31879 | Y14: =X43 -> 40.568004
B15: 構成比 | D15: =D14/$C14 -> 0.017463373 | E15: =E14/$C14 -> 5.326009e-05 | F15: =F14/$C14 -> 0.98248337 | G15: =G14/$C14 -> 0.22101425 | H15: =H14/$C14 -> 0.20678446 | I15: =I14/$C14 -> 0.014229797 | J15: =J14/$C14 -> 0.22424783 | K15: =K14/$C14 -> 0.76146911 | L15: =L14/$C14 -> 0.014283057 | O15: 木 く ず | P15: =Y44 -> 8225.5731 | Q15: =P44 -> 97.156615 | R15: =Q44 -> 60.218767 | S15: =R44 -> 8068.1977 | T15: =T44 -> 7002.2253 | U15: =U44 -> 6846.3494 | V15: =V44 -> 155.87583 | W15: =W44 -> 6943.506 | X15: =S44 -> 1065.9724 | Y15: =X44 -> 216.0946
B16: 廃プラスチック類 | C16: =P13 -> 7855.9534 | D16: =Q13 -> 111.66585 | E16: =R13 -> 298.43179 | F16: =S13 -> 7445.8558 | G16: =T13 -> 5633.7493 | H16: =U13 -> 4837.8824 | I16: =V13 -> 795.8669 | J16: =W13 -> 4949.5482 | ... L16: =Y13 -> 1094.2987 | O16: 繊 維 く ず | P16: =Y45 -> 89.800128 | Q16: =P45 -> 1.2158896 | R16: =Q45 -> 2.0824526 | S16: =R45 -> 86.501786 | T16: =T45 -> 58.446515 | U16: =U45 -> 49.059694 | V16: =V45 -> 9.3868219 | W16: =W45 -> 50.275583 | X16: =S45 -> 28.05527 | Y16: =X45 -> 11.469274
B17: 構成比 | D17: =D16/$C16 -> 0.014214169 | E17: =E16/$C16 -> 0.037987979 | F17: =F16/$C16 -> 0.94779785 | G17: =G16/$C16 -> 0.7171312 | H17: =H16/$C16 -> 0.61582371 | I17: =I16/$C16 -> 0.10130749 | J17: =J16/$C16 -> 0.63003788 | K17: =K16/$C16 -> 0.23066666 | L17: =L16/$C16 -> 0.13929547 | O17: 動植物性残渣 | P17: =Y46 -> 2221.9475 | Q17: =P46 -> 208.19778 | R17: =Q46 -> 11.215375 | S17: =R46 -> 2002.5343 | T17: =T46 -> 1248.3055 | U17: =U46 -> 1212.8454 | V17: =V46 -> 35.460174 | W17: =W46 -> 1421.0432 | X17: =S46 -> 754.22877 | Y17: =X46 -> 46.675549
B18: 紙 く ず | C18: =P14 -> 819.77691 | D18: =Q14 -> 57.734806 | E18: =R14 -> 15.866073 | F18: =S14 -> 746.17603 | G18: =T14 -> 637.85725 | H18: =U14 -> 613.15532 | I18: =V14 -> 24.701931 | J18: =W14 -> 670.89012 | ... L18: =Y14 -> 40.568004 | O18: 動物系固形不要物 | P18: =Y47 -> 82.462869 | Q18: =P47 -> 21.237212 | R18: =Q47 -> 0 | S18: =R47 -> 61.225656 | T18: =T47 -> 50.345857 | U18: =U47 -> 49.119421 | V18: =V47 -> 1.2264357 | W18: =W47 -> 70.356633 | X18: =S47 -> 10.8798 | Y18: =X47 -> 1.2264357
B19: 構成比 | D19: =D18/$C18 -> 0.07042746 | E19: =E18/$C18 -> 0.019354135 | F19: =F18/$C18 -> 0.9102184 | G19: =G18/$C18 -> 0.77808637 | H19: =H18/$C18 -> 0.74795387 | I19: =I18/$C18 -> 0.030132504 | J19: =J18/$C18 -> 0.81838133 | K19: =K18/$C18 -> 0.13213203 | L19: =L18/$C18 -> 0.049486638 | O19: ゴ ム く ず | P19: =Y48 -> 31.890783 | Q19: =P48 -> 1.1697181 | R19: =Q48 -> 0.55003912 | S19: =R48 -> 30.171025 | T19: =T48 -> 26.460953 | U19: =U48 -> 18.8862 | V19: =V48 -> 7.5747533 | W19: =W48 -> 20.055918 | X19: =S48 -> 3.7100726 | Y19: =X48 -> 8.1247924
B20: 木 く ず | C20: =P15 -> 8225.5731 | D20: =Q15 -> 97.156615 | E20: =R15 -> 60.218767 | F20: =S15 -> 8068.1977 | G20: =T15 -> 7002.2253 | H20: =U15 -> 6846.3494 | I20: =V15 -> 155.87583 | J20: =W15 -> 6943.506 | ... L20: =Y15 -> 216.0946 | O20: 金 属 く ず | P20: =Y49 -> 6944.483 | Q20: =P49 -> 3066.2761 | R20: =Q49 -> 59.166172 | S20: =R49 -> 3819.0407 | T20: =T49 -> 3705.4379 | U20: =U49 -> 3557.8496 | V20: =V49 -> 147.58827 | W20: =W49 -> 6624.1257 | X20: =S49 -> 113.60285 | Y20: =X49 -> 206.75444
B21: 構成比 | D21: =D20/$C20 -> 0.011811531 | E21: =E20/$C20 -> 0.0073209206 | F21: =F20/$C20 -> 0.98086755 | G21: =G20/$C20 -> 0.85127507 | H21: =H20/$C20 -> 0.83232492 | I21: =I20/$C20 -> 0.018950148 | J21: =J20/$C20 -> 0.84413645 | K21: =K20/$C20 -> 0.12959248 | L21: =L20/$C20 -> 0.026271069 | O21: ガラスくず、コンクリート及び陶磁器くず | P21: =Y50 -> 8345.7385 | Q21: =P50 -> 202.86315 | R21: =Q50 -> 484.14771 | S21: =R50 -> 7658.7276 | T21: =T50 -> 7079.5847 | U21: =U50 -> 6458.3271 | V21: =V50 -> 621.25768 | W21: =W50 -> 6661.1902 | X21: =S50 -> 579.14284 | Y21: =X50 -> 1105.4054
B22: 繊 維 く ず | C22: =P16 -> 89.800128 | D22: =Q16 -> 1.2158896 | E22: =R16 -> 2.0824526 | F22: =S16 -> 86.501786 | G22: =T16 -> 58.446515 | H22: =U16 -> 49.059694 | I22: =V16 -> 9.3868219 | J22: =W16 -> 50.275583 | ... L22: =Y16 -> 11.469274 | O22: 鉱 さ い | P22: =Y51 -> 11126.085 | Q22: =P51 -> 1783.1292 | R22: =Q51 -> 610.1782 | S22: =R51 -> 8732.7772 | T22: =T51 -> 8524.4838 | U22: =U51 -> 8368.9202 | V22: =V51 -> 155.56359 | W22: =W51 -> 10152.049 | X22: =S51 -> 208.29337 | Y22: =X51 -> 765.74179
B23: 構成比 | D23: =D22/$C22 -> 0.013539954 | E23: =E22/$C22 -> 0.023189862 | F23: =F22/$C22 -> 0.96327018 | G23: =G22/$C22 -> 0.65085114 | H23: =H22/$C22 -> 0.54632098 | I23: =I22/$C22 -> 0.10453016 | J23: =J22/$C22 -> 0.55986093 | K23: =K22/$C22 -> 0.31241905 | L23: =L22/$C22 -> 0.12772002 | O23: がれき類 | P23: =Y52 -> 60680.354 | Q23: =P52 -> 584.20041 | R23: =Q52 -> 813.38042 | S23: =R52 -> 59282.773 | T23: =T52 -> 58405.845 | U23: =U52 -> 57606.024 | V23: =V52 -> 799.82142 | W23: =W52 -> 58190.224 | X23: =S52 -> 876.92784 | Y23: =X52 -> 1613.2018
B24: 動植物性残渣 | C24: =P17 -> 2221.9475 | D24: =Q17 -> 208.19778 | E24: =R17 -> 11.215375 | F24: =S17 -> 2002.5343 | G24: =T17 -> 1248.3055 | H24: =U17 -> 1212.8454 | I24: =V17 -> 35.460174 | J24: =W17 -> 1421.0432 | ... L24: =Y17 -> 46.675549 | O24: 動物のふん尿 | P24: =Y53 -> 80363.101 | Q24: =P53 -> 65777.823 | R24: =Q53 -> 0.42897557 | S24: =R53 -> 14584.849 | T24: =T53 -> 10537.444 | U24: =U53 -> 10492.916 | V24: =V53 -> 44.527591 | W24: =W53 -> 76270.739 | X24: =S53 -> 4047.4054 | Y24: =X53 -> 44.956566
B25: 構成比 | D25: =D24/$C24 -> 0.093700587 | E25: =E24/$C24 -> 0.0050475427 | F25: =F24/$C24 -> 0.90125187 | G25: =G24/$C24 -> 0.56180696 | H25: =H24/$C24 -> 0.5458479 | I25: =I24/$C24 -> 0.015959051 | J25: =J24/$C24 -> 0.63954849 | K25: =K24/$C24 -> 0.33944491 | L25: =L24/$C24 -> 0.021006594 | O25: 動物の死体 | P25: =Y54 -> 135.2043 | Q25: =P54 -> 4.8311412 | R25: =Q54 -> 0.6692467 | S25: =R54 -> 129.70391 | T25: =T54 -> 91.153506 | U25: =U54 -> 84.925468 | V25: =V54 -> 6.2280381 | W25: =W54 -> 89.756609 | X25: =S54 -> 38.550405 | Y25: =X54 -> 6.8972848
B26: 動物系固形不要物 | C26: =P18 -> 82.462869 | D26: =Q18 -> 21.237212 | E26: =R18 -> 0 | F26: =S18 -> 61.225656 | G26: =T18 -> 50.345857 | H26: =U18 -> 49.119421 | I26: =V18 -> 1.2264357 | J26: =W18 -> 70.356633 | ... L26: =Y18 -> 1.2264357 | O26: ば い じ ん | P26: =Y55 -> 14630.013 | Q26: =P55 -> 2179.2899 | R26: =Q55 -> 1296.3878 | S26: =R55 -> 11154.336 | T26: =T55 -> 10180.302 | U26: =U55 -> 9959.9782 | V26: =V55 -> 220.32402 | W26: =W55 -> 12139.268 | X26: =S55 -> 974.03333 | Y26: =X55 -> 1516.7118
B27: 構成比 | D27: =D26/$C26 -> 0.25753667 | E27: =E26/$C26 -> 0 | F27: =F26/$C26 -> 0.74246333 | G27: =G26/$C26 -> 0.61052759 | H27: =H26/$C26 -> 0.59565501 | I27: =I26/$C26 -> 0.014872581 | J27: =J26/$C26 -> 0.85319168 | K27: =K26/$C26 -> 0.13193574 | L27: =L26/$C26 -> 0.014872581 | O27: 合計値 | P27: =Y56 -> 367249.61 | Q27: =P56 -> 75258.512 | R27: =Q56 -> 4695.1611 | S27: =R56 -> 287295.93 | T27: =T56 -> 129580.7 | U27: =U56 -> 125529.76 | V27: =V56 -> 4050.939 | W27: =W56 -> 200788.27 | X27: =S56 -> 157715.24 | Y27: =X56 -> 8746.1001
B28: ゴ ム く ず | C28: =P19 -> 31.890783 | D28: =Q19 -> 1.1697181 | E28: =R19 -> 0.55003912 | F28: =S19 -> 30.171025 | G28: =T19 -> 26.460953 | H28: =U19 -> 18.8862 | I28: =V19 -> 7.5747533 | J28: =W19 -> 20.055918 | ... L28: =Y19 -> 8.1247924
B29: 構成比 | D29: =D28/$C28 -> 0.036678877 | E29: =E28/$C28 -> 0.017247589 | F29: =F28/$C28 -> 0.94607353 | G29: =G28/$C28 -> 0.8297367 | H29: =H28/$C28 -> 0.59221499 | I29: =I28/$C28 -> 0.23752171 | J29: =J28/$C28 -> 0.62889387 | K29: =K28/$C28 -> 0.11633683 | L29: =L28/$C28 -> 0.2547693
B30: 金 属 く ず | C30: =P20 -> 6944.483 | D30: =Q20 -> 3066.2761 | E30: =R20 -> 59.166172 | F30: =S20 -> 3819.0407 | G30: =T20 -> 3705.4379 | H30: =U20 -> 3557.8496 | I30: =V20 -> 147.58827 | J30: =W20 -> 6624.1257 | ... L30: =Y20 -> 206.75444
B31: 構成比 | D31: =D30/$C30 -> 0.44154131 | E31: =E30/$C30 -> 0.0085198814 | F31: =F30/$C30 -> 0.54993881 | G31: =G30/$C30 -> 0.53358009 | H31: =H30/$C30 -> 0.5123275 | I31: =I30/$C30 -> 0.021252592 | J31: =J30/$C30 -> 0.95386881 | K31: =K30/$C30 -> 0.016358719 | L31: =L30/$C30 -> 0.029772474
B32: ガラスくず、コンクリートくず 及び陶磁器くず | C32: =P21 -> 8345.7385 | D32: =Q21 -> 202.86315 | E32: =R21 -> 484.14771 | F32: =S21 -> 7658.7276 | G32: =T21 -> 7079.5847 | H32: =U21 -> 6458.3271 | I32: =V21 -> 621.25768 | J32: =W21 -> 6661.1902 | ... L32: =Y21 -> 1105.4054
B33: 構成比 | D33: =D32/$C32 -> 0.024307394 | E33: =E32/$C32 -> 0.058011369 | F33: =F32/$C32 -> 0.91768124 | G33: =G32/$C32 -> 0.8482874 | H33: =H32/$C32 -> 0.77384729 | I33: =I32/$C32 -> 0.074440109 | J33: =J32/$C32 -> 0.79815468 | K33: =K32/$C32 -> 0.06939384 | L33: =L32/$C32 -> 0.13245148
B34: 鉱 さ い | C34: =P22 -> 11126.085 | D34: =Q22 -> 1783.1292 | E34: =R22 -> 610.1782 | F34: =S22 -> 8732.7772 | G34: =T22 -> 8524.4838 | H34: =U22 -> 8368.9202 | I34: =V22 -> 155.56359 | J34: =W22 -> 10152.049 | ... L34: =Y22 -> 765.74179
B35: 構成比 | D35: =D34/$C34 -> 0.16026565 | E35: =E34/$C34 -> 0.054842132 | F35: =F34/$C34 -> 0.78489221 | G35: =G34/$C34 -> 0.76617104 | H35: =H34/$C34 -> 0.75218916 | I35: =I34/$C34 -> 0.013981881 | J35: =J34/$C34 -> 0.91245481 | K35: =K34/$C34 -> 0.018721174 | L35: =L34/$C34 -> 0.068824013 | P35: 直接再生利用量 | Q35: 直接最終処分量 | R35: 中間処理量 | S35: 減量化量 | T35: 処理残渣量 | U35: 処理後再生利用量 | V35: 処理後最終処分量 | W35: 再生利用量合計 | X35: 最終処分量合計 | Y35: 排出量(補正後） | Z35: 再生 | AA35: 減量化 | AB35: 最終
B36: がれき類 | C36: =P23 -> 60680.354 | D36: =Q23 -> 584.20041 | E36: =R23 -> 813.38042 | F36: =S23 -> 59282.773 | G36: =T23 -> 58405.845 | H36: =U23 -> 57606.024 | I36: =V23 -> 799.82142 | J36: =W23 -> 58190.224 | ... L36: =Y23 -> 1613.2018 | O36: 廃 棄 物 名 | P36: ①：（8） | Q36: ②：(11)+(14：ハ） | R36: ③：(4)+(13：ｲ) | S36: ④:(7)+(16) | T36: ⑤：(6)+(15) | U36: ⑥：（9）+（17） | V36: ⑦：(10)+(14：ﾆ)+(18) | W36: ⑧：(8)+(9)+(17) | X36: ⑨：(11)+(14：ハ）+(10)+(14：ﾆ)+(18) | Y36: ④+⑧+⑨
B37: 構成比 | D37: =D36/$C36 -> 0.0096275049 | E37: =E36/$C36 -> 0.013404345 | F37: =F36/$C36 -> 0.97696815 | G37: =G36/$C36 -> 0.96251656 | H37: =H36/$C36 -> 0.94933566 | I37: =I36/$C36 -> 0.013180896 | J37: =J36/$C36 -> 0.95896317 | K37: =K36/$C36 -> 0.014451594 | L37: =L36/$C36 -> 0.026585241 | O37: 燃 え 殻 | P37: 92.901369 | Q37: 386.45394 | R37: 1906.4159 | S37: 172.99754 | T37: 1733.4184 | U37: 1673.7886 | V37: 59.629764 | W37: 1766.69 | X37: 446.08371 | Y37: 2385.7712 | Z37: =W37 -> 1766.69 | AA37: =S37 -> 172.99754 | AB37: =X37 -> 446.08371
B38: 動物のふん尿 | C38: =P24 -> 80363.101 | D38: =Q24 -> 65777.823 | E38: =R24 -> 0.42897557 | F38: =S24 -> 14584.849 | G38: =T24 -> 10537.444 | H38: =U24 -> 10492.916 | I38: =V24 -> 44.527591 | J38: =W24 -> 76270.739 | ... L38: =Y24 -> 44.956566 | O38: 汚 泥 | P38: 609.31643 | Q38: 653.9228 | R38: 153275.3 | S38: 141328.65 | T38: 11946.648 | U38: 11106.919 | V38: 839.72901 | W38: 11716.235 | X38: 1493.6518 | Y38: 154538.54 | Z38: =W38 -> 11716.235 | AA38: =S38 -> 141328.65 | AB38: =X38 -> 1493.6518
B39: 構成比 | D39: =D38/$C38 -> 0.81850777 | E39: =E38/$C38 -> 5.3379668e-06 | F39: =F38/$C38 -> 0.18148689 | G39: =G38/$C38 -> 0.13112291 | H39: =H38/$C38 -> 0.13056883 | I39: =I38/$C38 -> 0.00055408004 | J39: =J38/$C38 -> 0.9490766 | K39: =K38/$C38 -> 0.050363978 | L39: =L38/$C38 -> 0.00055941801 | O39: 廃 油 | P39: 319.41619 | Q39: 1.662172 | R39: 2967.6557 | S39: 1719.5592 | T39: 1248.0965 | U39: 1197.8148 | V39: 50.281706 | W39: 1517.231 | X39: 51.943878 | Y39: 3288.734 | Z39: =W39 -> 1517.231 | AA39: =S39 -> 1719.5592 | AB39: =X39 -> 51.943878
B40: 動物の死体 | C40: =P25 -> 135.2043 | D40: =Q25 -> 4.8311412 | E40: =R25 -> 0.6692467 | F40: =S25 -> 129.70391 | G40: =T25 -> 91.153506 | H40: =U25 -> 84.925468 | I40: =V25 -> 6.2280381 | J40: =W25 -> 89.756609 | ... L40: =Y25 -> 6.8972848 | O40: 廃 酸 | P40: 94.772249 | Q40: 0.26091192 | R40: 2794.3228 | S40: 1896.9248 | T40: 897.398 | U40: 858.42675 | V40: 38.971252 | W40: 953.199 | X40: 39.232164 | Y40: 2889.3559 | Z40: =W40 -> 953.199 | AA40: =S40 -> 1896.9248 | AB40: =X40 -> 39.232164
...

Sheet 表Ⅲ・1
B1: 表―Ⅲ・１ 都道府県実態調査の実施状況（令和５年度）
C2: 報告書P２２で利用
B6: №都道府県 | D6: 調査年度
D7: 平成20年度 | E7: 平成21年度 | F7: 平成22年度 | G7: 平成23年度 | H7: 平成24年度 | I7: 平成25年度 | J7: 平成26年度 | K7: 平成27年度 | L7: 平成28年度 | M7: 平成29年度 | N7: 平成30年度 | O7: 令和元年度 | P7: 令和２年度 | Q7: 令和３年度 | R7: 令和４年度 | S7: 令和５年度
B8: 1 | C8: 北海道 | D8: ○ | H8: ○ | I8: ○ | J8: ○ | K8: ○ | L8: ○ | M8: ○ | N8: ○ | P8: ○※ | Q8: ▲
B9: 2 | C9: 青森県 | D9: ○ | I9: ○ | N9: ○※ | S9: ▲
