Workbook
Name OLE_LINK7: ×表Ⅱ・4!#REF!
Name RZK_DD: #REF!
Name RZK_DD: #REF!
Name RZK_DD: #REF!
Name RZK_DD: #REF!
Name RZK_TTL: #REF!
Name RZK_TTL: #REF!
Name RZK_TTL: #REF!
Name RZK_TTL: #REF!
Name san: #REF!
Name san: #REF!
Name san: #REF!
Name デ１: [1]デフレータ!#REF!
Name デフレータ: [1]デフレータ!#REF!
Name デフレータ: [1]デフレータ!#REF!
Name デフレータ: [1]デフレータ!#REF!
Name デフレータ: [1]デフレータ!#REF!

Sheet 表Ⅱ・8
B1: 表－Ⅱ・８ 濃縮汚泥量（全国量（ｍ３／年））
B2: No. | C2: 都道府県名 | D2: 令和5年度
B3: 1 | C3: 北海道 | D3: 4027310.8
B4: 2 | C4: 青森県 | D4: 527771.26
B5: 3 | C5: 岩手県 | D5: 478665.43
B6: 4 | C6: 宮城県 | D6: 1648999.6
B7: 5 | C7: 秋田県 | D7: 344864.8
B8: 6 | C8: 山形県 | D8: 641466
B9: 7 | C9: 福島県 | D9: 888624.89
B10: 8 | C10: 茨城県 | D10: 1790269.5
B11: 9 | C11: 栃木県 | D11: 942085.63
B12: 10 | C12: 群馬県 | D12: 1157554.9
B13: 11 | C13: 埼玉県 | D13: 4313291.7
B14: 12 | C14: 千葉県 | D14: 3533862.3
... B49: 47 | C49: 沖縄県 | D49: 906666.4
B50: 合計 | D50: 76816538

Sheet 表Ⅲ・2
B1: 表－Ⅲ・２ 産業廃棄物の業種別排出量（令和５年度実績値）
B3: 業種 | D3: 令和５年度 | F3: 令和４年度（参考）
D4: 排出量（千ｔ） | E4: 割合（%） | F4: 排出量（千ｔ） | G4: 割合（%）
B5: 農業、林業 | D5: =表Ⅲ・5!Y5 -> 80702.271 | E5: =D5/D$87*100 -> 21.974774 | F5: 81619.319 | G5: 21.819335
C6: 耕種農業 | D6: =表Ⅲ・5!Y6 -> 15.344045 | E6: =D6/D$87*100 -> 0.004178097 | F6: 21.171117 | G6: 0.0056596859
C7: 畜産農業 | D7: =表Ⅲ・5!Y7 -> 80510.04 | E7: =D7/D$87*100 -> 21.922431 | F7: 81383.493 | G7: 21.756292
C8: 林業大分類 | D8: =表Ⅲ・5!Y8 -> 17.101156 | E8: =D8/D$87*100 -> 0.0046565485 | F8: 17.523545 | G8: 0.0046845785
C9: 上記以外の農業 | D9: =表Ⅲ・5!Y9 -> 0 | E9: =D9/D$87*100 -> 0 | F9: 0 | G9: 0
B10: 漁 業 | D10: =表Ⅲ・5!Y10 -> 8.0676823 | E10: =D10/D$87*100 -> 0.0021967845 | F10: 6.8324535 | G10: 0.0018265234
C11: 漁 業 | D11: =表Ⅲ・5!Y11 -> 1.6673825 | E11: =D11/D$87*100 -> 0.00045401886 | F11: 1.1937817 | G11: 0.00031913428
C12: 水産養殖業 | D12: =表Ⅲ・5!Y12 -> 1.6468651 | E12: =D12/D$87*100 -> 0.00044843211 | F12: 0.2846848 | G12: 7.6104937e-05
B13: 鉱 業 | D13: =表Ⅲ・5!Y13 -> 5849.1602 | E13: =D13/D$87*100 -> 1.5926934 | F13: 8931.4065 | G13: 2.3876376
B14: 建設業 | D14: =表Ⅲ・5!Y14 -> 79914.455 | E14: =D14/D$87*100 -> 21.760256 | F14: 80234.89 | G14: 21.449235
B15: 製造業 | D15: =表Ⅲ・5!Y15 -> 95669.263 | E15: =D15/D$87*100 -> 26.050202 | F15: 98054.963 | G15: 26.213085
C16: 食料品製造業 | D16: =表Ⅲ・5!Y16 -> 8865.4425 | E16: =D16/D$87*100 -> 2.4140101 | F16: 8639.6873 | G16: 2.3096521
C17: 飲料・たばこ・飼料製造業 | D17: =表Ⅲ・5!Y17 -> 2507.7278 | E17: =D17/D$87*100 -> 0.68284016 | F17: 2516.6906 | G17: 0.67278821
C18: 繊維工業 | D18: =表Ⅲ・5!Y18 -> 572.2741 | E18: =D18/D$87*100 -> 0.15582701 | F18: 695.35687 | G18: 0.18589012
C19: 木材・木製品製造業 | D19: =表Ⅲ・5!Y19 -> 751.77182 | E19: =D19/D$87*100 -> 0.20470323 | F19: 899.07549 | G19: 0.24035032
C20: 家具・装備品製造業 | D20: =表Ⅲ・5!Y20 -> 201.68962 | E20: =D20/D$87*100 -> 0.054918948 | F20: 177.54297 | G20: 0.047462654
C21: パルプ・紙・紙加工品製造業 | D21: =表Ⅲ・5!Y21 -> 27295.164 | E21: =D21/D$87*100 -> 7.4323196 | F21: 27780.748 | G21: 7.4266418
C22: 印刷・同関連業 | D22: =表Ⅲ・5!Y22 -> 471.60626 | E22: =D22/D$87*100 -> 0.12841573 | F22: 513.1691 | G22: 0.13718576
C23: 化学工業 | D23: =表Ⅲ・5!Y23 -> 9764.9272 | E23: =D23/D$87*100 -> 2.6589347 | F23: 9306.0536 | G23: 2.4877922
C24: 石油製品・石炭製品製造業 | D24: =表Ⅲ・5!Y24 -> 1117.3984 | E24: =D24/D$87*100 -> 0.30426129 | F24: 1151.2718 | G24: 0.30777009
C25: プラスチック製品製造業 | D25: =表Ⅲ・5!Y25 -> 988.18376 | E25: =D25/D$87*100 -> 0.26907688 | F25: 1004.2683 | G25: 0.26847157
C26: ゴム製品製造業 | D26: =表Ⅲ・5!Y26 -> 269.16699 | E26: =D26/D$87*100 -> 0.073292657 | F26: 297.85221 | G26: 0.079624988
C27: なめし革・同製品・毛皮製造業 | D27: =表Ⅲ・5!Y27 -> 17.51818 | E27: =D27/D$87*100 -> 0.0047701017 | F27: 17.374045 | G27: 0.0046446125
... C39: その他の製造業 | D39: =表Ⅲ・5!Y39 -> 690.46711 | E39: =D39/D$87*100 -> 0.18801031 | F39: 610.55528 | G39: 0.16322006
B40: 電気･ガス・熱供給・水道業 | D40: =表Ⅲ・5!Y40 -> 97315.846 | E40: =D40/D$87*100 -> 26.498557 | F40: 98262.765 | G40: 26.268636
C41: 電気業 | D41: =表Ⅲ・5!Y41 -> 11021.476 | E41: =D41/D$87*100 -> 3.0010859 | F41: 11250.67 | G41: 3.0076475
C42: ガス業 | D42: =表Ⅲ・5!Y42 -> 13.198021 | E42: =D42/D$87*100 -> 0.0035937468 | F42: 12.373916 | G42: 0.0033079254
C43: 熱供給業 | D43: =表Ⅲ・5!Y43 -> 103.24189 | E43: =D43/D$87*100 -> 0.028112186 | F43: 149.53959 | G43: 0.039976496
C44: 上水道業 | D44: =表Ⅲ・5!Y44 -> 9220.2104 | E44: =D44/D$87*100 -> 2.5106114 | F44: 8939.8134 | G44: 2.389885
C45: 下水道業 | D45: =表Ⅲ・5!Y45 -> 76957.718 | E45: =D45/D$87*100 -> 20.955153 | F45: 77910.368 | G45: 20.827819
B46: 情報通信業 | D46: =表Ⅲ・5!Y46 -> 77.301783 | E46: =D46/D$87*100 -> 0.02104884 | F46: 92.488866 | G46: 0.024725097
C47: 通信業 | D47: =表Ⅲ・5!Y47 -> 12.957696 | E47: =D47/D$87*100 -> 0.0035283076 | F47: 45.493873 | G47: 0.012161901
C48: 放送業 | D48: =表Ⅲ・5!Y48 -> 11.834417 | E48: =D48/D$87*100 -> 0.0032224452 | F48: 27.758637 | G48: 0.0074207311
C49: 情報サービス業 | D49: =表Ⅲ・5!Y49 -> 5.3191656 | E49: =D49/D$87*100 -> 0.0014483789 | F49: 10.818706 | G49: 0.0028921705
C50: インターネット付随サービス業 | D50: =表Ⅲ・5!Y50 -> 1.6036689 | E50: =D50/D$87*100 -> 0.00043667 | F50: 1.6935877 | G50: 0.00045274769
C51: 映像・音声・文字情報制作業 | D51: =表Ⅲ・5!Y51 -> 3.4522485 | E51: =D51/D$87*100 -> 0.00094002782 | F51: 5.4375613 | G51: 0.0014536261
B52: 運輸業 | D52: =表Ⅲ・5!Y52 -> 694.61595 | E52: =D52/D$87*100 -> 0.18914001 | F52: 599.52574 | G52: 0.16027153
C53: 鉄道業 | D53: =表Ⅲ・5!Y53 -> 31.942634 | E53: =D53/D$87*100 -> 0.0086977993 | F53: 69.418854 | G53: 0.018557778
C54: 道路旅客運送業 | D54: =表Ⅲ・5!Y54 -> 18.794629 | E54: =D54/D$87*100 -> 0.0051176717 | F54: 23.685042 | G54: 0.0063317347
C55: 道路貨物運送業 | D55: =表Ⅲ・5!Y55 -> 192.55281 | E55: =D55/D$87*100 -> 0.052431046 | F55: 276.74609 | G55: 0.073982677
C56: 上記以外の運輸通信業 | D56: =表Ⅲ・5!Y56 -> 147.25103 | E56: =D56/D$87*100 -> 0.040095626 | F56: 93.49805 | G56: 0.024994883
B57: 卸売・小売業 | D57: =表Ⅲ・5!Y57 -> 2099.4309 | E57: =D57/D$87*100 -> 0.57166322 | F57: 1983.7867 | G57: 0.53032673
C58: 各種商品卸売業 | D58: =表Ⅲ・5!Y58 -> 24.072778 | E58: =D58/D$87*100 -> 0.0065548819 | F58: 28.792228 | G58: 0.0076970415
C59: 木材・竹材卸売業 | D59: =表Ⅲ・5!Y59 -> 50.009422 | E59: =D59/D$87*100 -> 0.013617284 | F59: 46.085278 | G59: 0.012320001
C60: 各種商品小売業 | D60: =表Ⅲ・5!Y60 -> 88.522486 | E60: =D60/D$87*100 -> 0.024104175 | F60: 59.676096 | G60: 0.015953242
C61: 自動車小売業 | D61: =表Ⅲ・5!Y61 -> 381.3721 | E61: =D61/D$87*100 -> 0.10384548 | F61: 508.48688 | G61: 0.13593406
C62: 機械器具小売業 | D62: =表Ⅲ・5!Y62 -> 34.043344 | E62: =D62/D$87*100 -> 0.009269811 | F62: 75.967812 | G62: 0.020308515
C63: 家具・建具・畳小売業 | D63: =表Ⅲ・5!Y63 -> 9.4000895 | E63: =D63/D$87*100 -> 0.0025595915 | F63: 7.0216481 | G63: 0.0018771009
C64: じゅう器小売業 | D64: =表Ⅲ・5!Y64 -> 1.8830259 | E64: =D64/D$87*100 -> 0.00051273736 | F64: 2.4429543 | G64: 0.00065307626
C65: 燃料小売業 | D65: =表Ⅲ・5!Y65 -> 154.55721 | E65: =D65/D$87*100 -> 0.042085058 | F65: 427.98356 | G65: 0.11441307
C66: 上記以外の卸売・小売業 | D66: =表Ⅲ・5!Y66 -> 335.44252 | E66: =D66/D$87*100 -> 0.091339109 | F66: 401.01261 | G66: 0.10720291
B67: 不動産業、物品賃貸業 | D67: =表Ⅲ・5!Y67 -> 231.27721 | E67: =D67/D$87*100 -> 0.062975483 | F67: 254.77089 | G67: 0.068108036
C68: 物品賃借業 | D68: =表Ⅲ・5!Y68 -> 230.72075 | E68: =D68/D$87*100 -> 0.062823961 | F68: 254.70333 | G68: 0.068089975
B69: 学術研究、専門・技術サービス業 | D69: =表Ⅲ・5!Y69 -> 277.88541 | E69: =D69/D$87*100 -> 0.075666634 | F69: 461.54058 | G69: 0.12338388
C70: 学術開発研究機関 | D70: =表Ⅲ・5!Y70 -> 205.42792 | E70: =D70/D$87*100 -> 0.055936866 | F70: 429.65394 | G70: 0.11485961
C71: 写真業 | D71: =表Ⅲ・5!Y71 -> 24.437472 | E71: =D71/D$87*100 -> 0.0066541861 | F71: 18.043351 | G71: 0.0048235384
B72: 飲食店、宿泊業 | D72: =表Ⅲ・5!Y72 -> 358.88391 | E72: =D72/D$87*100 -> 0.097722068 | F72: 275.43627 | G72: 0.073632523
C73: 一般飲食店 | D73: =表Ⅲ・5!Y73 -> 182.63041 | E73: =D73/D$87*100 -> 0.049729232 | F73: 146.95409 | G73: 0.039285313
C74: 上記以外の飲食店、宿泊業 | D74: =表Ⅲ・5!Y74 -> 67.130083 | E74: =D74/D$87*100 -> 0.018279144 | F74: 75.995495 | G74: 0.020315915
B75: 生活関連サービス、娯楽業 | D75: =表Ⅲ・5!Y75 -> 157.74678 | E75: =D75/D$87*100 -> 0.042953561 | F75: 161.15496 | G75: 0.043081639
C76: 洗濯業 | D76: =表Ⅲ・5!Y76 -> 78.695849 | E76: =D76/D$87*100 -> 0.021428437 | F76: 66.021305 | G76: 0.01764951
B77: 教育、学習支援業 | D77: =表Ⅲ・5!Y77 -> 195.0212 | E77: =D77/D$87*100 -> 0.053103174 | F77: 213.95983 | G77: 0.057197992
B78: 医療、福祉 | D78: =表Ⅲ・5!Y78 -> 605.72247 | E78: =D78/D$87*100 -> 0.16493482 | F78: 507.99477 | G78: 0.13580251
C79: 医療業 | D79: =表Ⅲ・5!Y79 -> 448.06874 | E79: =D79/D$87*100 -> 0.1220066 | F79: 407.71188 | G79: 0.10899383
C80: 上記以外の医療、福祉 | D80: =表Ⅲ・5!Y80 -> 141.20539 | E80: =D80/D$87*100 -> 0.038449432 | F80: 92.554519 | G80: 0.024742648
B81: 複合サービス事業 | D81: =表Ⅲ・5!Y81 -> 161.39624 | E81: =D81/D$87*100 -> 0.043947289 | F81: 178.48888 | G81: 0.047715525
B82: サービス業 | D82: =表Ⅲ・5!Y82 -> 2518.4578 | E82: =D82/D$87*100 -> 0.68576188 | F82: 1966.7978 | G82: 0.52578508
C83: 自動車整備業 | D83: =表Ⅲ・5!Y83 -> 454.604 | E83: =D83/D$87*100 -> 0.12378611 | F83: 785.05067 | G83: 0.20986801
C84: と蓄場 | D84: =表Ⅲ・5!Y84 -> 326.82414 | E84: =D84/D$87*100 -> 0.088992372 | F84: 83.115323 | G84: 0.022219263
C85: 上記以外のサービス業 | D85: =表Ⅲ・5!Y85 -> 302.71081 | E85: =D85/D$87*100 -> 0.08242645 | F85: 713.39465 | G85: 0.19071216
B86: 公 務 | D86: =表Ⅲ・5!Y86 -> 412.80332 | E86: =D86/D$87*100 -> 0.11240402 | F86: 262.64987 | G86: 0.070214327
B87: 合 計 | D87: =表Ⅲ・5!Y87 -> 367249.61 | E87: =D87/D$87*100 -> 100 | F87: 374068.77 | G87: 100

Sheet 表Ⅲ・3
B1: 表－Ⅲ・３ 産業廃棄物の業種別排出量（令和５年度実績値）
B3: 種類 | C3: 令和５年度 | E3: 令和４年度（参考）
C4: 排出量（千ｔ） | D4: 割合（%） | E4: 排出量（千ｔ） | F4: 割合（%）
B5: 燃え殻 | C5: =表Ⅲ・5!F87 -> 2385.7712 | D5: =C5/$C$24*100 -> 0.64963207 | E5: 2234.6213 | F5: 0.59738247
B6: 汚 泥 | C6: =表Ⅲ・5!G87 -> 154538.54 | D6: =C6/$C$24*100 -> 42.079973 | E6: 158317.41 | F6: 42.323076
B7: 廃 油 | C7: =表Ⅲ・5!H87 -> 3288.734 | D7: =C7/$C$24*100 -> 0.89550376 | E7: 2953.1491 | F7: 0.78946688
B8: 廃 酸 | C8: =表Ⅲ・5!I87 -> 2889.3559 | D8: =C8/$C$24*100 -> 0.78675535 | E8: 3047.2503 | F8: 0.81462302
B9: 廃アルカリ | C9: =表Ⅲ・5!J87 -> 2594.8254 | D9: =C9/$C$24*100 -> 0.70655635 | E9: 2458.2648 | F9: 0.65716922
B10: 廃プラスチック類 | C10: =表Ⅲ・5!K87 -> 7855.9534 | D10: =C10/$C$24*100 -> 2.1391319 | E10: 7411.4489 | F10: 1.9813065
B11: 紙くず | C11: =表Ⅲ・5!L87 -> 819.77691 | D11: =C11/$C$24*100 -> 0.22322064 | E11: 802.98625 | F11: 0.21466273
B12: 木くず | C12: =表Ⅲ・5!M87 -> 8225.5731 | D12: =C12/$C$24*100 -> 2.2397772 | E12: 7579.0888 | F12: 2.0261218
B13: 繊維くず | C13: =表Ⅲ・5!N87 -> 89.800128 | D13: =C13/$C$24*100 -> 0.024452069 | E13: 88.374558 | F13: 0.023625217
B14: 動植物性残さ | C14: =表Ⅲ・5!O87 -> 2221.9475 | D14: =C14/$C$24*100 -> 0.60502379 | E14: 2323.5445 | F14: 0.62115436
B15: 動物系固形不要物 | C15: =表Ⅲ・5!P87 -> 82.462869 | D15: =C15/$C$24*100 -> 0.022454175 | E15: 78.543058 | F15: 0.020996957
B16: ゴムくず | C16: =表Ⅲ・5!Q87 -> 31.890783 | D16: =C16/$C$24*100 -> 0.0086836806 | E16: 15.375786 | F16: 0.0041104168
B17: 金属くず | C17: =表Ⅲ・5!R87 -> 6944.483 | D17: =C17/$C$24*100 -> 1.8909436 | E17: 6678.6911 | F17: 1.785418
B18: ガラスくず、コンクリートくず及び陶磁器くず | C18: =表Ⅲ・5!S87 -> 8345.7385 | D18: =C18/$C$24*100 -> 2.2724976 | E18: 8169.1668 | F18: 2.1838676
B19: 鉱さい | C19: =表Ⅲ・5!T87 -> 11126.085 | D19: =C19/$C$24*100 -> 3.0295702 | E19: 12029.326 | F19: 3.2158061
B20: がれき類 | C20: =表Ⅲ・5!U87 -> 60680.354 | D20: =C20/$C$24*100 -> 16.522919 | E20: 61851.733 | F20: 16.534856
B21: 動物のふん尿 | C21: =表Ⅲ・5!V87 -> 80363.101 | D21: =C21/$C$24*100 -> 21.88242 | E21: 81185.734 | F21: 21.703425
B22: 動物の死体 | C22: =表Ⅲ・5!W87 -> 135.2043 | D22: =C22/$C$24*100 -> 0.036815369 | E22: 167.56781 | F22: 0.044795991
B23: ばいじん | C23: =表Ⅲ・5!X87 -> 14630.013 | D23: =C23/$C$24*100 -> 3.9836702 | E23: 16676.492 | F23: 4.4581353
B24: 合 計 | C24: =表Ⅲ・5!Y87 -> 367249.61 | D24: =C24/$C$24*100 -> 100 | E24: 374068.77 | F24: 100

Sheet 表Ⅲ・4
B1: 表－Ⅲ・４ 産業廃棄物の地域別排出量（令和５年度実績値）
B3: 地域別 | C3: 令和５年度 | E3: 令和４年度（参考）
C4: 排出量（千ｔ） | D4: 割合（%） | E4: 排出量（千ｔ） | F4: 割合（%） | G4: 増減量 | H4: 昨年比 | I4: 増減率 | J4: 増減率順位
B5: 北海道 | C5: =E20 -> 0 | D5: =C5/C$13*100 -> #DIV/0! | E5: 35278.941 | F5: 9.4311378 | G5: =C5-E5 -> -35278.941 | H5: =(C5/E5)*100 -> 0 | I5: =H5-100 -> -100 | J5: =_xlfn.RANK.EQ(I5,$I$5:$I$12) -> 1
B6: 東北 | C6: =SUM(E21:E26) -> 0 | D6: =C6/C$13*100 -> #DIV/0! | E6: 36005.033 | F6: 9.6252443 | G6: =C6-E6 -> -36005.033 | H6: =(C6/E6)*100 -> 0 | I6: =H6-100 -> -100 | J6: =_xlfn.RANK.EQ(I6,$I$5:$I$12) -> 1
B7: 関東 | C7: =SUM(E27:E33) -> 0 | D7: =C7/C$13*100 -> #DIV/0! | E7: 97620.708 | F7: 26.096995 | G7: =C7-E7 -> -97620.708 | H7: =(C7/E7)*100 -> 0 | I7: =H7-100 -> -100 | J7: =_xlfn.RANK.EQ(I7,$I$5:$I$12) -> 1
B8: 中部 | C8: =SUM(E34:E42) -> 0 | D8: =C8/C$13*100 -> #DIV/0! | E8: 62224.446 | F8: 16.634494 | G8: =C8-E8 -> -62224.446 | H8: =(C8/E8)*100 -> 0 | I8: =H8-100 -> -100 | J8: =_xlfn.RANK.EQ(I8,$I$5:$I$12) -> 1
B9: 近畿 | C9: =SUM(E43:E49) -> 0 | D9: =C9/C$13*100 -> #DIV/0! | E9: 51450.179 | F9: 13.754203 | G9: =C9-E9 -> -51450.179 | H9: =(C9/E9)*100 -> 0 | I9: =H9-100 -> -100 | J9: =_xlfn.RANK.EQ(I9,$I$5:$I$12) -> 1
B10: 中国 | C10: =SUM(E50:E54) -> 0 | D10: =C10/C$13*100 -> #DIV/0! | E10: 24878.345 | F10: 6.650741 | G10: =C10-E10 -> -24878.345 | H10: =(C10/E10)*100 -> 0 | I10: =H10-100 -> -100 | J10: =_xlfn.RANK.EQ(I10,$I$5:$I$12) -> 1
B11: 四国 | C11: =SUM(E55:E58) -> 0 | D11: =C11/C$13*100 -> #DIV/0! | E11: 14327.803 | F11: 3.8302591 | G11: =C11-E11 -> -14327.803 | H11: =(C11/E11)*100 -> 0 | I11: =H11-100 -> -100 | J11: =_xlfn.RANK.EQ(I11,$I$5:$I$12) -> 1
B12: 九州 | C12: =SUM(E59:E66) -> 0 | D12: =C12/C$13*100 -> #DIV/0! | E12: 52283.315 | F12: 13.976926 | G12: =C12-E12 -> -52283.315 | H12: =(C12/E12)*100 -> 0 | I12: =H12-100 -> -100 | J12: =_xlfn.RANK.EQ(I12,$I$5:$I$12) -> 1
B13: 合 計 | C13: =E67 -> 0 | D13: 100 | E13: 374068.77 | F13: 100 | G13: =C13-E13 -> -374068.77 | H13: =(C13/E13)*100 -> 0 | I13: =H13-100 -> -100 | J13: =_xlfn.XLOOKUP(B13,$E$72:$E$79,$A$72:$A$79,"")
B14: ※ 各地域の産業廃棄物の量は四捨五入しているため、合算した値は合計値と異なる場合がある。

Sheet 表Ⅲ・5
B1: 表－Ⅲ・５ 令和５年度実績値 業種別・種類別排出量推計値一覧表
D3: 全国 | F3: 令和５年度 | Y3: (単位：千ｔ/年)
B4: 大分類 | C4: 番号 | D4: 産業分類 | E4: コード | F4: 燃え殻 | G4: 汚 泥 | H4: 廃 油 | I4: 廃 酸 | J4: 廃アルカリ | K4: 廃プラス チック類 | L4: 紙くず | M4: 木くず | N4: 繊維くず | O4: 動植物性 残 渣 | P4: 動物系固形不要物 | Q4: ゴムくず | R4: 金属くず | S4: ガラスくず及び 陶磁器くず | T4: 鉱さい | U4: がれき類 | V4: 動物の ふん尿 | W4: 動物の死体 | X4: ばいじん | Y4: 合 計
B5: 農業、 | D5: 農業大分類 | E5: Ａ | F5: 0.32798248 | G5: 33.148187 | H5: 0.50908047 | I5: 3.7727968 | J5: 0.12514327 | K5: 71.526372 | L5: 0 | M5: 81.090246 | N5: 0 | O5: 0 | P5: 0 | Q5: 0.022474626 | R5: 1.6623717 | S5: 2.0568146 | T5: 0 | U5: 9.7243647 | V5: 80363.101 | W5: 135.2043 | X5: 0 | Y5: 80702.271
B6: 林業 | C6: 1 | D6: 耕種農業 | E6: A011 | F6: 0 | G6: 0 | H6: 0.0024853145 | I6: 0 | J6: 0 | K6: 14.910142 | L6: 0 | M6: 0.0092792926 | N6: 0 | O6: 0 | P6: 0 | Q6: 0 | R6: 0 | S6: 0.42213805 | T6: 0 | U6: 0 | V6: 0 | W6: 0 | X6: 0 | Y6: 15.344045
C7: 2 | D7: 畜産農業 | E7: A012 | F7: 0.001971 | G7: 0.170158 | H7: 0.189336 | I7: 0 | J7: 0.001819 | K7: 10.40978 | L7: 0 | M7: 0.0042025436 | N7: 0 | O7: 0 | P7: 0 | Q7: 0.010512 | R7: 0.53836426 | S7: 3.5e-05 | T7: 0 | U7: 0.40828133 | V7: 80363.101 | W7: 135.2043 | X7: 0 | Y7: 80510.04
C8: 3 | D8: 林業大分類 | E8: A02 | F8: 0 | G8: 0 | H8: 0.0082442333 | I8: 0 | J8: 0 | K8: 0.06074925 | L8: 0 | M8: 16.743883 | N8: 0 | O8: 0 | P8: 0 | Q8: 0 | R8: 0.11634832 | S8: 0.03163691 | T8: 0 | U8: 0.14029441 | V8: 0 | W8: 0 | X8: 0 | Y8: 17.101156
C9: 4 | D9: 上記以外の農業 | F9: 0 | G9: 0 | H9: 0 | I9: 0 | J9: 0 | K9: 0 | L9: 0 | M9: 0 | N9: 0 | O9: 0 | P9: 0 | Q9: 0 | R9: 0 | S9: 0 | T9: 0 | U9: 0 | V9: 0 | W9: 0 | X9: 0
B10: 漁 業 | D10: 漁業大分類 | E10: B | F10: 0.003627 | G10: 2.0584945 | H10: 0.18570855 | I10: 0.025493644 | J10: 0.0475556 | K10: 4.7793132 | L10: 0 | M10: 0.18061165 | N10: 0 | O10: 0 | P10: 0 | Q10: 4.3387516e-05 | R10: 0.61996075 | S10: 0.12180395 | T10: 0 | U10: 0.04506997 | V10: 0 | W10: 0 | X10: 0 | Y10: 8.0676823
C11: 5 | D11: 漁 業 | E11: B03 | F11: 0 | G11: 0 | H11: 0.00010611365 | I11: 0 | J11: 0 | K11: 1.5924242 | L11: 0 | M11: 0 | N11: 0 | O11: 0 | P11: 0 | Q11: 0 | R11: 0.074852132 | S11: 0 | T11: 0 | U11: 0 | V11: 0 | W11: 0 | X11: 0 | Y11: 1.6673825
C12: 6 | D12: 水産養殖業 | E12: B04 | F12: 0 | G12: 0.88990889 | H12: 0 | I12: 0 | J12: 0 | K12: 0.67433006 | L12: 0 | M12: 0 | N12: 0 | O12: 0 | P12: 0 | Q12: 0 | R12: 0.082626189 | S12: 0 | T12: 0 | U12: 0 | V12: 0 | W12: 0 | X12: 0 | Y12: 1.6468651
B13: 鉱 業 | C13: 7 | D13: 鉱業 | E13: C | F13: 0.034505215 | G13: 5606.9843 | H13: 8.7052972 | I13: 15.878532 | J13: 22.818164 | K13: 38.248659 | L13: 0 | M13: 11.076189 | N13: 0 | O13: 0 | P13: 0 | Q13: 0.14787371 | R13: 2.2712518 | S13: 35.030649 | T13: 16.260245 | U13: 91.634537 | V13: 0 | W13: 0 | X13: 0.070047173 | Y13: 5849.1602
B14: 建設業 | C14: 8 | D14: 建設業 | E14: D | F14: 68.525956 | G14: 9864.8627 | H14: 125.54489 | I14: 23.110901 | J14: 40.274312 | K14: 1464.0923 | L14: 305.31824 | M14: 6255.3545 | N14: 70.378063 | O14: 0 | P14: 0 | Q14: 3.1736682 | R14: 906.93417 | S14: 3116.0067 | T14: 91.143349 | U14: 57554.182 | V14: 0 | W14: 0 | X14: 25.553129 | Y14: 79914.455
B15: 製造業 | D15: 製造業大分類 | E15: E | F15: 935.21521 | G15: 50001.96 | H15: 2636.4994 | I15: 2737.7092 | J15: 2403.9845 | K15: 3743.0351 | L15: 513.1199 | M15: 1373.3171 | N15: 19.422065 | O15: 2221.9475 | P15: 61.293572 | Q15: 23.337349 | R15: 5302.9291 | S15: 4697.1396 | T15: 10991.795 | U15: 2007.797 | V15: 0 | W15: 0 | X15: 5998.7618 | Y15: 95669.263
C16: 9 | D16: 食料品製造業 | E16: E9 | F16: 24.626882 | G16: 6440.8066 | H16: 105.3061 | I16: 96.216749 | J16: 47.037202 | K16: 394.00158 | L16: 0 | M16: 14.271983 | N16: 0 | O16: 1579.3172 | P16: 61.293572 | Q16: 0.059716898 | R16: 26.889351 | S16: 31.086974 | T16: 0.00021676416 | U16: 7.2869144 | V16: 0 | W16: 0 | X16: 37.241507 | Y16: 8865.4425
C17: 10 | D17: 飲料・たばこ・飼料製造業 | E17: E10 | F17: 1.7154742 | G17: 1350.6701 | H17: 2.4921029 | I17: 557.67508 | J17: 34.13266 | K17: 54.595014 | L17: 0 | M17: 8.0779981 | N17: 0 | O17: 482.70518 | P17: 0 | Q17: 0.0071254535 | R17: 4.0733116 | S17: 10.402514 | T17: 2.04629e-05 | U17: 0.68435075 | V17: 0 | W17: 0 | X17: 0.49686184 | Y17: 2507.7278
C18: 11 | D18: 繊維工業 | E18: E11 | F18: 27.2083 | G18: 261.37227 | H18: 12.025778 | I18: 9.5680374 | J18: 18.296054 | K18: 143.81008 | L18: 0 | M18: 4.1070552 | N18: 18.955065 | O18: 0 | P18: 0 | Q18: 0.011454036 | R18: 3.8372443 | S18: 0.65269593 | T18: 0.025024984 | U18: 1.5533861 | V18: 0 | W18: 0 | X18: 70.851654 | Y18: 572.2741
C19: 12 | D19: 木材・木製品製造業 | E19: E12 | F19: 45.817018 | G19: 4.3159956 | H19: 2.9179897 | I19: 0.34898064 | J19: 0.92450365 | K19: 23.649524 | L19: 0 | M19: 625.74789 | N19: 0 | O19: 0 | P19: 0 | Q19: 0.0038533654 | R19: 7.7669498 | S19: 19.207964 | T19: 0.0021749414 | U19: 9.3525962 | V19: 0 | W19: 0 | X19: 11.716383 | Y19: 751.77182
C20: 13 | D20: 家具・装備品製造業 | E20: E13 | F20: 0.53689667 | G20: 35.088377 | H20: 3.0064047 | I20: 0.92340568 | J20: 0.7874682 | K20: 28.083496 | L20: 0 | M20: 110.083 | N20: 0 | O20: 0 | P20: 0 | Q20: 0.0046627061 | R20: 11.998054 | S20: 6.5788852 | T20: 0.0021451495 | U20: 4.5907634 | V20: 0 | W20: 0 | X20: 0.0060645163 | Y20: 201.68962
C21: 14 | D21: パルプ・紙・紙加工品製造業 | E21: E14 | F21: 255.39659 | G21: 25364.314 | H21: 15.619885 | I21: 0.60019086 | J21: 21.727416 | K21: 464.6886 | L21: 301.66253 | M21: 82.214758 | N21: 0 | O21: 0 | P21: 0 | Q21: 0.0018880226 | R21: 22.292567 | S21: 7.732084 | T21: 2.52094 | U21: 1.310744 | V21: 0 | W21: 0 | X21: 755.08209 | Y21: 27295.164
C22: 15 | D22: 印刷・同関連業 | E22: E15 | F22: 1.211274 | G22: 46.65149 | H22: 31.977468 | I22: 7.5838902 | J22: 32.036444 | K22: 158.03869 | L22: 131.38537 | M22: 6.5840972 | N22: 0 | O22: 0 | P22: 0 | Q22: 0.011145278 | R22: 14.533142 | S22: 1.366611 | T22: 0.10583506 | U22: 0.36902467 | V22: 0 | W22: 0 | X22: 39.751773 | Y22: 471.60626
C23: 16 | D23: 化学工業 | E23: E16 | F23: 370.97717 | G23: 5258.9786 | H23: 1030.1775 | I23: 733.64833 | J23: 1293.6668 | K23: 344.3663 | L23: 0 | M23: 46.612779 | N23: 0 | O23: 71.983093 | P23: 0 | Q23: 1.0135309 | R23: 68.957286 | S23: 48.408414 | T23: 52.991027 | U23: 35.532771 | V23: 0 | W23: 0 | X23: 407.61358 | Y23: 9764.9272
C24: 17 | D24: 石油製品・石炭製品製造業 | E24: E17 | F24: 7.3427973 | G24: 450.52237 | H24: 118.01854 | I24: 49.704824 | J24: 39.988995 | K24: 20.086929 | L24: 0 | M24: 3.237212 | N24: 0 | O24: 0 | P24: 0 | Q24: 0.15323088 | R24: 9.721802 | S24: 66.442609 | T24: 0.57783885 | U24: 264.33356 | V24: 0 | W24: 0 | X24: 87.26767 | Y24: 1117.3984
C25: 18 | D25: プラスチック製品製造業 | E25: E18 | F25: 3.8958477 | G25: 148.28671 | H25: 56.307085 | I25: 16.721572 | J25: 28.78613 | K25: 637.62354 | L25: 0 | M25: 28.951819 | N25: 0 | O25: 0 | P25: 0 | Q25: 0.25516434 | R25: 25.739868 | S25: 16.637632 | T25: 0.0020404709 | U25: 4.4573633 | V25: 0 | W25: 0 | X25: 20.518993 | Y25: 988.18376
C26: 19 | D26: ゴム製品製造業 | E26: E19 | F26: 0.11408455 | G26: 36.803937 | H26: 13.643724 | I26: 0.25443552 | J26: 1.9832215 | K26: 174.91599 | L26: 0 | M26: 4.7969171 | N26: 0 | O26: 0 | P26: 0 | Q26: 16.357441 | R26: 13.925952 | S26: 6.1281318 | T26: 0.03810887 | U26: 0.20185182 | V26: 0 | W26: 0 | X26: 0.0031977495 | Y26: 269.16699
C27: 20 | D27: なめし革・同製品・毛皮製造業 | E27: E20 | F27: 0.000246 | G27: 10.810682 | H27: 2.477763 | I27: 0.017060132 | J27: 0.15832752 | K27: 3.3989861 | L27: 0 | M27: 0.51030963 | N27: 0 | O27: 0 | P27: 0 | Q27: 0.016736758 | R27: 0.10283799 | S27: 0.025230668 | T27: 0 | U27: 0 | V27: 0 | W27: 0 | X27: 0 | Y27: 17.51818
... C39: 32 | D39: その他の製造業 | E39: E32 | F39: 9.2633082 | G39: 168.87507 | H39: 39.925283 | I39: 6.3343762 | J39: 52.718432 | K39: 147.18127 | L39: 0 | M39: 26.606005 | N39: 0 | O39: 0 | P39: 0 | Q39: 0.042961249 | R39: 23.960216 | S39: 48.903706 | T39: 18.287037 | U39: 65.854768 | V39: 0 | W39: 0 | X39: 82.514676 | Y39: 690.46711
B40: 電気･ガス | D40: インフラ大分類 | E40: F | F40: 1304.739 | G40: 87170.363 | H40: 21.186526 | I40: 2.8220779 | J40: 4.8533451 | K40: 15.527266 | L40: 0 | M40: 8.4170056 | N40: 0 | O40: 0 | P40: 0 | Q40: 0.0016124779 | R40: 21.365302 | S40: 10.738962 | T40: 16.012564 | U40: 187.74986 | V40: 0 | W40: 0 | X40: 8552.0699 | Y40: 97315.846
B41: ･熱供給･ | C41: 33 | D41: 電気業 | E41: F33 | F41: 1211.298 | G41: 1142.5999 | H41: 10.177341 | I41: 2.2808739 | J41: 3.3581844 | K41: 10.794238 | L41: 0 | M41: 4.4897945 | N41: 0 | O41: 0 | P41: 0 | Q41: 0.00036297846 | R41: 11.004913 | S41: 9.5438499 | T41: 13.646375 | U41: 107.78098 | V41: 0 | W41: 0 | X41: 8494.5015 | Y41: 11021.476
B42: 水道業 | C42: 34 | D42: ガス業 | E42: F34 | F42: 0 | G42: 1.0709299 | H42: 0.25336571 | I42: 0.0021622237 | J42: 0.004127857 | K42: 1.3776207 | L42: 0 | M42: 3.1767106 | N42: 0 | O42: 0 | P42: 0 | Q42: 0 | R42: 1.9069095 | S42: 0.1442765 | T42: 0.69196333 | U42: 4.5699547 | V42: 0 | W42: 0 | X42: 0 | Y42: 13.198021
C43: 35 | D43: 熱供給業 | E43: F35 | F43: 34.339795 | G43: 67.53789 | H43: 0.016673664 | I43: 1.2741573e-05 | J43: 0.0010385525 | K43: 0.039569693 | L43: 0 | M43: 0.064764182 | N43: 0 | O43: 0 | P43: 0 | Q43: 0 | R43: 0.023703228 | S43: 0.15722577 | T43: 0.004648287 | U43: 6.1207123e-05 | V43: 0 | W43: 0 | X43: 1.0565107 | Y43: 103.24189
C44: 36 | D44: 上水道業 | E44: F361 | F44: 4.9077937 | G44: 9142.6159 | H44: 0.031104736 | I44: 0.33724152 | J44: 1.4640753 | K44: 0.98245884 | L44: 0 | M44: 0.44505078 | N44: 0 | O44: 0 | P44: 0 | Q44: 0 | R44: 0.64898962 | S44: 0.73735118 | T44: 0.13914002 | U44: 67.901328 | V44: 0 | W44: 0 | X44: 0 | Y44: 9220.2104
C45: 37 | D45: 下水道業 | E45: F363 | F45: 54.19345 | G45: 76816.538 | H45: 10.70804 | I45: 0.20178756 | J45: 0.025918971 | K45: 2.3333786 | L45: 0 | M45: 0.24068552 | N45: 0 | O45: 0 | P45: 0 | Q45: 5.0125008e-05 | R45: 7.7807872 | S45: 0.1562584 | T45: 1.5304365 | U45: 7.4975343 | V45: 0 | W45: 0 | X45: 56.511944 | Y45: 76957.718
B46: 情報通信業 | D46: 情報大分類 | E46: G | F46: 0.44202802 | G46: 1.5270172 | H46: 0.83182658 | I46: 0.41159147 | J46: 5.928527 | K46: 12.757478 | L46: 1.3387737 | M46: 1.8366792 | N46: 0 | O46: 0 | P46: 0 | Q46: 2.3767128 | R46: 12.023948 | S46: 4.3235206 | T46: 0.015 | U46: 33.488681 | V46: 0 | W46: 0 | X46: 0 | Y46: 77.301783
C47: 38 | D47: 通信業 | E47: G37 | F47: 0 | G47: 0.0079679368 | H47: 0.081070044 | I47: 0 | J47: 0 | K47: 5.505844 | L47: 0 | M47: 0 | N47: 0 | O47: 0 | P47: 0 | Q47: 0 | R47: 2.5834807 | S47: 4.0329163 | T47: 0 | U47: 0.74641675 | V47: 0 | W47: 0 | X47: 0 | Y47: 12.957696
C48: 39 | D48: 放送業 | E48: G38 | F48: 0 | G48: 0.21620216 | H48: 6e-05 | I48: 0 | J48: 0.0019292895 | K48: 3.1417809 | L48: 0 | M48: 0.011715744 | N48: 0 | O48: 0 | P48: 0 | Q48: 0 | R48: 7.3111096 | S48: 0.028271618 | T48: 0 | U48: 1.1233481 | V48: 0 | W48: 0 | X48: 0 | Y48: 11.834417
C49: 40 | D49: 情報サービス業 | E49: G39 | F49: 0 | G49: 0.61730425 | H49: 0.001037 | I49: 0 | J49: 0 | K49: 3.0337201 | L49: 0 | M49: 0.0003359113 | N49: 0 | O49: 0 | P49: 0 | Q49: 0 | R49: 1.4475316 | S49: 0.21923675 | T49: 0 | U49: 0 | V49: 0 | W49: 0 | X49: 0 | Y49: 5.3191656
C50: 41 | D50: インターネット付随サービス業 | E50: G40 | F50: 0 | G50: 0 | H50: 0.09816292 | I50: 0 | J50: 1.5002505 | K50: 0.0035306649 | L50: 0 | M50: 0 | N50: 0 | O50: 0 | P50: 0 | Q50: 0 | R50: 0.0017247406 | S50: 0 | T50: 0 | U50: 0 | V50: 0 | W50: 0 | X50: 0 | Y50: 1.6036689
C51: 42 | D51: 映像・音声・文字情報制作業 | E51: G41 | F51: 0 | G51: 0.0075563317 | H51: 0.65149662 | I51: 0.063459609 | J51: 0.023410121 | K51: 1.072602 | L51: 0.90344947 | M51: 0 | N51: 0 | O51: 0 | P51: 0 | Q51: 0 | R51: 0.68010115 | S51: 0.043095862 | T51: 0 | U51: 0.0070772723 | V51: 0 | W51: 0 | X51: 0 | Y51: 3.4522485
B52: 運輸業 | D52: 運輸大分類 | E52: H | F52: 0.78151819 | G52: 55.92255 | H52: 44.543053 | I52: 2.8112758 | J52: 2.6716121 | K52: 243.61534 | L52: 0 | M52: 135.73039 | N52: 0 | O52: 0 | P52: 0 | Q52: 0.12946683 | R52: 48.697752 | S52: 9.3778456 | T52: 0.32298675 | U52: 140.13198 | V52: 0 | W52: 0 | X52: 9.8801857 | Y52: 694.61595
C53: 43 | D53: 鉄道業 | E53: H42 | F53: 0.002 | G53: 7.9646915 | H53: 2.0142289 | I53: 0.0023980516 | J53: 0.20666972 | K53: 7.9988489 | L53: 0 | M53: 3.9031117 | N53: 0 | O53: 0 | P53: 0 | Q53: 0.017815782 | R53: 5.8358087 | S53: 0.69401526 | T53: 0.0019624169 | U53: 3.3010827 | V53: 0 | W53: 0 | X53: 0 | Y53: 31.942634
C54: 44 | D54: 道路旅客運送業 | E54: H43 | F54: 0 | G54: 3.2343784 | H54: 2.5349011 | I54: 0 | J54: 0.063144881 | K54: 10.389343 | L54: 0 | M54: 0.028793004 | N54: 0 | O54: 0 | P54: 0 | Q54: 0.00097726714 | R54: 2.2567756 | S54: 0.13537414 | T54: 0 | U54: 0.13318562 | V54: 0 | W54: 0 | X54: 0.017755744 | Y54: 18.794629
C55: 45 | D55: 道路貨物運送業 | E55: H44 | F55: 0.017720822 | G55: 6.8054783 | H55: 14.064712 | I55: 0.7937655 | J55: 0.12794177 | K55: 84.47655 | L55: 0 | M55: 60.867016 | N55: 0 | O55: 0 | P55: 0 | Q55: 0.013536047 | R55: 20.675497 | S55: 1.6212072 | T55: 0 | U55: 3.0893826 | V55: 0 | W55: 0 | X55: 0 | Y55: 192.55281
C56: 46 | D56: 上記以外の運輸通信業 | F56: 0 | G56: 15.067303 | H56: 0.44651392 | I56: 0.040632623 | J56: 0.40229853 | K56: 17.400498 | L56: 0 | M56: 10.3219 | N56: 0 | O56: 0 | P56: 0 | Q56: 0 | R56: 3.7893927 | S56: 0.93934346 | T56: 0 | U56: 98.843144 | V56: 0 | W56: 0 | X56: 0 | Y56: 147.25103
B57: 卸売・小売業 | D57: 卸・小売大分類 | E57: I | F57: 8.2287059 | G57: 268.6393 | H57: 203.23939 | I57: 14.62146 | J57: 33.497934 | K57: 922.16525 | L57: 0 | M57: 88.483698 | N57: 0 | O57: 0 | P57: 0 | Q57: 1.174983 | R57: 272.87694 | S57: 133.69581 | T57: 0.59082 | U57: 151.43499 | V57: 0 | W57: 0 | X57: 0.78164873 | Y57: 2099.4309
C58: 47 | D58: 各種商品卸売業 | E58: I50 | F58: 0 | G58: 1.7883122 | H58: 2.4100746 | I58: 0.02259 | J58: 2.0269601 | K58: 14.302593 | L58: 0 | M58: 0.42173321 | N58: 0 | O58: 0 | P58: 0 | Q58: 0 | R58: 1.4856145 | S58: 1.5967565 | T58: 0 | U58: 0.018143417 | V58: 0 | W58: 0 | X58: 0 | Y58: 24.072778
C59: 48 | D59: 木材・竹材卸売業 | E59: I5311 | F59: 0 | G59: 0.22347312 | H59: 0.066824892 | I59: 0.025631 | J59: 0.008651 | K59: 5.5077486 | L59: 0 | M59: 16.164705 | N59: 0 | O59: 0 | P59: 0 | Q59: 0.000256 | R59: 6.9961356 | S59: 15.143326 | T59: 0 | U59: 5.8726708 | V59: 0 | W59: 0 | X59: 0 | Y59: 50.009422
C60: 49 | D60: 各種商品小売業 | E60: I56 | F60: 0.014842308 | G60: 8.6386991 | H60: 5.0946409 | I60: 0.00093361752 | J60: 0.59059518 | K60: 44.912721 | L60: 0 | M60: 10.047018 | N60: 0 | O60: 0 | P60: 0 | Q60: 0 | R60: 6.9128457 | S60: 8.4448945 | T60: 0 | U60: 3.865296 | V60: 0 | W60: 0 | X60: 0 | Y60: 88.522486
C61: 50 | D61: 自動車小売業 | E61: I591 | F61: 0.0078520478 | G61: 32.944156 | H61: 59.674353 | I61: 1.1190143 | J61: 10.922824 | K61: 206.7848 | L61: 0 | M61: 0.24463866 | N61: 0 | O61: 0 | P61: 0 | Q61: 0.32778849 | R61: 60.857454 | S61: 7.5384343 | T61: 0 | U61: 0.95078715 | V61: 0 | W61: 0 | X61: 0 | Y61: 381.3721
C62: 51 | D62: 機械器具小売業 | E62: I593 | F62: 0 | G62: 3.1835583 | H62: 3.9034003 | I62: 0.031715385 | J62: 0.14273296 | K62: 16.260091 | L62: 0 | M62: 0.84963929 | N62: 0 | O62: 0 | P62: 0 | Q62: 0.20934582 | R62: 4.6233384 | S62: 3.470132 | T62: 0 | U62: 1.3693905 | V62: 0 | W62: 0 | X62: 0 | Y62: 34.043344
C63: 52 | D63: 家具・建具・畳小売業 | E63: I601 | F63: 0.18455475 | G63: 0.51324493 | H63: 0.0024963238 | I63: 0 | J63: 0 | K63: 4.5864814 | L63: 0 | M63: 0.36927836 | N63: 0 | O63: 0 | P63: 0 | Q63: 0.0010776256 | R63: 0.55097898 | S63: 3.036641 | T63: 0 | U63: 0.15533614 | V63: 0 | W63: 0 | X63: 0 | Y63: 9.4000895
C64: 53 | D64: じゅう器小売業 | E64: I602 | F64: 0 | G64: 0 | H64: 0 | I64: 0 | J64: 0 | K64: 1.460807 | L64: 0 | M64: 0.31874588 | N64: 0 | O64: 0 | P64: 0 | Q64: 0 | R64: 0.018876487 | S64: 0.084175914 | T64: 0 | U64: 0.00042064246 | V64: 0 | W64: 0 | X64: 0 | Y64: 1.8830259
C65: 54 | D65: 燃料小売業 | E65: I603 | F65: 0.025553735 | G65: 50.908286 | H65: 36.867354 | I65: 0 | J65: 0.032726437 | K65: 52.302696 | L65: 0 | M65: 0.723591 | N65: 0 | O65: 0 | P65: 0 | Q65: 0.0029219796 | R65: 6.7743324 | S65: 3.0271555 | T65: 0 | U65: 3.8925914 | V65: 0 | W65: 0 | X65: 0 | Y65: 154.55721
C66: 55 | D66: 上記以外の卸売・小売業 | F66: 0.1109071 | G66: 23.582362 | H66: 11.967854 | I66: 4.0720888 | J66: 2.3943073 | K66: 128.21551 | L66: 0 | M66: 15.308307 | N66: 0 | O66: 0 | P66: 0 | Q66: 0.3132224 | R66: 62.835885 | S66: 52.289319 | T66: 0 | U66: 34.352759 | V66: 0 | W66: 0 | X66: 0 | Y66: 335.44252
B67: 不動産業、 | D67: 不動産・物品賃借大分類 | E67: K | F67: 0.018283871 | G67: 27.255479 | H67: 5.5055006 | I67: 0.067684196 | J67: 0.23432584 | K67: 46.318041 | L67: 0 | M67: 28.668201 | N67: 0 | O67: 0 | P67: 0 | Q67: 0.2456077 | R67: 25.684332 | S67: 39.835558 | T67: 0.37646826 | U67: 57.066091 | V67: 0 | W67: 0 | X67: 0.001641563 | Y67: 231.27721
B68: 物品賃借業 | C68: 56 | D68: 物品賃借業 | E68: K70 | F68: 0.017283871 | G68: 27.255479 | H68: 5.5055006 | I68: 0.045948196 | J68: 0.10703931 | K68: 46.318041 | L68: 0 | M68: 28.668201 | N68: 0 | O68: 0 | P68: 0 | Q68: 0.21563314 | R68: 25.684332 | S68: 39.835558 | T68: 0 | U68: 57.066091 | V68: 0 | W68: 0 | X68: 0.001641563 | Y68: 230.72075
B69: 学術研究，専門 | D69: 学術研究、専門・技術サービス業 | E69: L | F69: 0.6395322 | G69: 60.728188 | H69: 8.4161991 | I69: 13.563802 | J69: 8.2277658 | K69: 28.201561 | L69: 0 | M69: 11.48819 | N69: 0 | O69: 0 | P69: 0 | Q69: 0.48438472 | R69: 21.470878 | S69: 58.286357 | T69: 0.74947949 | U69: 65.19076 | V69: 0 | W69: 0 | X69: 0.4383169 | Y69: 277.88541
B70: ・技術サービス業 | C70: 57 | D70: 学術開発研究機関 | E70: L71 | F70: 0.0040521653 | G70: 60.382364 | H70: 8.4161991 | I70: 5.6293261 | J70: 2.5298717 | K70: 26.697807 | L70: 0 | M70: 11.408157 | N70: 0 | O70: 0 | P70: 0 | Q70: 0 | R70: 21.467165 | S70: 49.414579 | T70: 0.6192457 | U70: 18.859154 | V70: 0 | W70: 0 | X70: 0 | Y70: 205.42792
C71: 58 | D71: 写真業 | E71: L746 | F71: 0 | G71: 0.34582364 | H71: 0 | I71: 7.9344754 | J71: 5.6978941 | K71: 1.5037536 | L71: 0 | M71: 0.080033791 | N71: 0 | O71: 0 | P71: 0 | Q71: 0 | R71: 0.0037133105 | S71: 8.8717782 | T71: 0 | U71: 0 | V71: 0 | W71: 0 | X71: 0 | Y71: 24.437472
B72: 宿泊業，飲食 | D72: 飲食店、宿泊業大分類 | E72: Ｍ | F72: 0.96383459 | G72: 128.42815 | H72: 91.951792 | I72: 0.0054042129 | J72: 0.021898217 | K72: 90.856155 | L72: 0 | M72: 3.2631943 | N72: 0 | O72: 0 | P72: 0 | Q72: 0.011109312 | R72: 14.677713 | S72: 15.130173 | T72: 0 | U72: 13.574482 | V72: 0 | W72: 0 | X72: 0 | Y72: 358.88391
B73: サービス業 | C73: 59 | D73: 一般飲食店 | E73: M76 | F73: 0.13205021 | G73: 66.895519 | H73: 77.560481 | I73: 0 | J73: 0.0027238952 | K73: 27.556058 | L73: 0 | M73: 0.19729657 | N73: 0 | O73: 0 | P73: 0 | Q73: 9.2392548e-06 | R73: 5.0942603 | S73: 5.1918737 | T73: 0 | U73: 0.00013520124 | V73: 0 | W73: 0 | X73: 0 | Y73: 182.63041
C74: 60 | D74: 上記以外の飲食店、宿泊業 | F74: 0.31151095 | G74: 27.70503 | H74: 5.081228 | I74: 0 | J74: 0 | K74: 22.515838 | L74: 0 | M74: 2.1474155 | N74: 0 | O74: 0 | P74: 0 | Q74: 2.2224059e-08 | R74: 3.5338494 | S74: 5.8342041 | T74: 0 | U74: 0.0010066146 | V74: 0 | W74: 0 | X74: 0 | Y74: 67.130083
B75: 生活関連サービス、娯楽業 | D75: 生活関連サービス、娯楽業 | E75: N | F75: 1.4105546 | G75: 74.295686 | H75: 3.797012 | I75: 9.7557026 | J75: 0.16905472 | K75: 50.820695 | L75: 0 | M75: 4.4350511 | N75: 0 | O75: 0 | P75: 0 | Q75: 0 | R75: 5.6712676 | S75: 2.0810389 | T75: 0 | U75: 5.2576789 | V75: 0 | W75: 0 | X75: 0.053043283 | Y75: 157.74678
C76: 61 | D76: 洗濯業 | E76: N781 | F76: 0.82177588 | G76: 42.02259 | H76: 2.6327142 | I76: 0.79271563 | J76: 0.058002631 | K76: 26.399115 | L76: 0 | M76: 2.5399635 | N76: 0 | O76: 0 | P76: 0 | Q76: 0 | R76: 3.3276196 | S76: 0.10135217 | T76: 0 | U76: 0 | V76: 0 | W76: 0 | X76: 0 | Y76: 78.695849
B77: 教育、学習支援業 | C77: 64 | D77: 教育、学習支援業大分類 | E77: O | F77: 0.063272642 | G77: 82.187842 | H77: 2.4479306 | I77: 0.91822595 | J77: 0.58644318 | K77: 51.137612 | L77: 0 | M77: 6.2032917 | N77: 0 | O77: 0 | P77: 0 | Q77: 0.0039096274 | R77: 27.73218 | S77: 13.007284 | T77: 0.067928201 | U77: 10.665276 | V77: 0 | W77: 0 | X77: 0 | Y77: 195.0212
B78: 医療、福祉 | D78: 医療、福祉大分類 | E78: P | F78: 6.0910442 | G78: 74.513014 | H78: 25.771854 | I78: 23.18872 | J78: 25.782279 | K78: 352.56531 | L78: 0 | M78: 3.2249914 | N78: 0 | O78: 0 | P78: 0 | Q78: 0.45684701 | R78: 47.850426 | S78: 32.478007 | T78: 0.0067942692 | U78: 11.768017 | V78: 0 | W78: 0 | X78: 2.0251674 | Y78: 605.72247
C79: 62 | D79: 医療業 | E79: P83 | F79: 0.27457084 | G79: 42.087063 | H79: 15.327738 | I79: 13.273625 | J79: 13.520475 | K79: 291.89328 | L79: 0 | M79: 3.1031955 | N79: 0 | O79: 0 | P79: 0 | Q79: 0.42192392 | R79: 36.517745 | S79: 28.952915 | T79: 0 | U79: 2.6962111 | V79: 0 | W79: 0 | X79: 0 | Y79: 448.06874
C80: 63 | D80: 上記以外の医療、福祉 | F80: 0.049748831 | G80: 32.425952 | H80: 10.444117 | I80: 9.9150951 | J80: 12.261804 | K80: 60.672026 | L80: 0 | M80: 0.12179593 | N80: 0 | O80: 0 | P80: 0 | Q80: 0.00056992612 | R80: 11.332681 | S80: 3.5250916 | T80: 0 | U80: 0.45650732 | V80: 0 | W80: 0 | X80: 0 | Y80: 141.20539 | Z80: 21086101
B81: 複合サービス事業 | C81: 65 | D81: 複合サービス事業大分類 | E81: Q | F81: 4.6798511 | G81: 11.538338 | H81: 4.9563249 | I81: 3.0017303 | J81: 0.82348462 | K81: 53.06771 | L81: 0 | M81: 41.538224 | N81: 0 | O81: 0 | P81: 0 | Q81: 7.7334518e-05 | R81: 14.971821 | S81: 5.3402111 | T81: 0 | U81: 21.451975 | V81: 0 | W81: 0 | X81: 0.0264964 | Y81: 161.39624
B82: サービス業 | D82: サービス業大分類 | E82: R | F82: 31.993058 | G82: 787.54487 | H82: 89.970866 | I82: 37.435799 | J82: 42.161479 | K82: 648.18494 | L82: 0 | M82: 160.61855 | N82: 0 | O82: 0 | P82: 21.169297 | Q82: 0.29732839 | R82: 202.67019 | S82: 162.61964 | T82: 8.6966662 | U82: 295.97538 | V82: 0 | W82: 0 | X82: 29.119723 | Y82: 2518.4578
C83: 66 | D83: 自動車整備業 | E83: R891 | F83: 0.031016064 | G83: 200.2726 | H83: 21.847814 | I83: 1.1617609 | J83: 6.0448325 | K83: 139.6136 | L83: 0 | M83: 27.464743 | N83: 0 | O83: 0 | P83: 0 | Q83: 0.093753283 | R83: 51.571114 | S83: 6.260205 | T83: 0 | U83: 0.2425586 | V83: 0 | W83: 0 | X83: 0 | Y83: 454.604
C84: 67 | D84: と蓄場 | E84: R952 | F84: 0 | G84: 307.66814 | H84: 0.00079528884 | I84: 0 | J84: 0.00058805391 | K84: 13.965717 | L84: 0 | M84: 0 | N84: 0 | O84: 0 | P84: 5.1883215 | Q84: 0 | R84: 0.00057397771 | S84: 0 | T84: 0 | U84: 0 | V84: 0 | W84: 0 | X84: 0 | Y84: 326.82414
C85: 68 | D85: 上記以外のサービス業 | F85: 2.6626903 | G85: 40.696381 | H85: 1.9552865 | I85: 20.818668 | J85: 0.75763944 | K85: 116.24578 | L85: 0 | M85: 25.340668 | N85: 0 | O85: 0 | P85: 0 | Q85: 0.0082658037 | R85: 16.961224 | S85: 12.744195 | T85: 0.0029372486 | U85: 64.401225 | V85: 0 | W85: 0 | X85: 0.11585346 | Y85: 302.71081
B86: 公 務 | C86: 69 | D86: 公務大分類 | E86: S | F86: 21.613245 | G86: 286.57917 | H86: 14.671396 | I86: 0.25553536 | J86: 2.6176135 | K86: 19.054234 | L86: 0 | M86: 10.646967 | N86: 0 | O86: 0 | P86: 0 | Q86: 0.027334348 | R86: 14.37345 | S86: 8.4684581 | T86: 0.047492466 | U86: 23.216245 | V86: 0 | W86: 0 | X86: 11.232175 | Y86: 412.80332
D87: 合 計 | F87: 2385.7712 | G87: 154538.54 | H87: 3288.734 | I87: 2889.3559 | J87: 2594.8254 | K87: 7855.9534 | L87: 819.77691 | M87: 8225.5731 | N87: 89.800128 | O87: 2221.9475 | P87: 82.462869 | Q87: 31.890783 | R87: 6944.483 | S87: 8345.7385 | T87: 11126.085 | U87: 60680.354 | V87: 80363.101 | W87: 135.2043 | X87: 14630.013 | Y87: 367249.61
B88: ※大分類のみの回答で、かつ中分類への配分ができない都道府県があるため、中分類の合算値と大分類の値が合致しない項目がある。
B89: ※四捨五入により、各項目の合算値と合計値が合致しない場合がある。
B90: ※空欄は該当値が無いもの、「0」表示は500t/年未満である事を示している。
B91: ※動物の死体の原単位については令和３年度農業保険制度家畜共済統計表（農林水産省）の動物の死亡率を用いて推計した。

Sheet 表Ⅲ・6
C1: 表－Ⅲ・６ 令和５年度実績値 都道府県別・種類別排出量推計値一覧表
X3: (単位：千ｔ/年)
B4: 大分類 | C4: No. | D4: 都道府県名 | E4: 燃え殻 | F4: 汚 泥 | G4: 廃 油 | H4: 廃 酸 | I4: 廃アルカリ | J4: 廃プラス チック類 | K4: 紙くず | L4: 木くず | M4: 繊維くず | N4: 動植物性 残 渣 | O4: 動物系 固形不要物 | P4: ゴムくず | Q4: 金属くず | R4: ガラスくず 及び 陶磁器くず | S4: 鉱さい | T4: がれき類 | U4: 動物の ふん尿 | V4: 動物の死体 | W4: ばいじん | X4: 合 計
C5: 1 | D5: 北海道 | E5: 324.29784 | F5: 8004.2278 | G5: 46.519884 | H5: 31.475622 | I5: 4.7162735 | J5: 406.0382 | K5: 9.0318767 | L5: 600.16564 | M5: 2.4433661 | N5: 101.97305 | O5: 1.747 | P5: 0.51920116 | Q5: 93.118368 | R5: 404.35845 | S5: 103.30525 | T5: 4615.833 | U5: 20176.01 | V5: 42.789924 | W5: 1254.1504 | X5: 36222.721
C6: 2 | D6: 青森県 | E6: 12.67252 | F6: 1273.3006 | G6: 12.436853 | H6: 7.4979349 | I6: 10.005654 | J6: 49.653494 | K6: 5.087 | L6: 81.678531 | M6: 0.931 | N6: 43.255 | O6: 3.293 | P6: 0.008358723 | Q6: 20.478176 | R6: 69.521582 | S6: 24.680155 | T6: 919.46706 | U6: 2104.1921 | V6: 0.66582844 | W6: 31.22977 | X6: 4670.0547
C7: 3 | D7: 岩手県 | E7: 15.028414 | F7: 796.63473 | G7: 13.251261 | H7: 7.852956 | I7: 11.238757 | J7: 58.896451 | K7: 3.494453 | L7: 89.251964 | M7: 0.981177 | N7: 15.058705 | O7: 0.747 | P7: 0.04692 | Q7: 11.59089 | R7: 89.665515 | S7: 91.67255 | T7: 785.64109 | U7: 3828.5419 | V7: 2.8197635 | W7: 37.09787 | X7: 5859.5124
C8: 4 | D8: 宮城県 | E8: 24.23425 | F8: 5685.3942 | G8: 35.311035 | H8: 11.324661 | I8: 9.8607861 | J8: 150.89599 | K8: 9.4488988 | L8: 293.18167 | M8: 2.8864043 | N8: 30.480501 | O8: 0.28558796 | P8: 0.10882799 | Q8: 44.688905 | R8: 227.24661 | S8: 32.789073 | T8: 1475.9558 | U8: 1704.8205 | V8: 1.5659459 | W8: 123.32698 | X8: 9863.8065
C9: 5 | D9: 秋田県 | E9: 33.441699 | F9: 1165.3881 | G9: 17.529954 | H9: 7.0704797 | I9: 8.060427 | J9: 46.823194 | K9: 0.688 | L9: 95.226483 | M9: 0.384 | N9: 8.981 | O9: 2.402 | P9: 0.087650932 | Q9: 19.708422 | R9: 65.66626 | S9: 150.02696 | T9: 606.90229 | U9: 1057.1513 | V9: 0.2801237 | W9: 15.062628 | X9: 3300.881
C10: 6 | D10: 山形県 | E10: 14.372927 | F10: 1211.7215 | G10: 94.008905 | H10: 13.05153 | I10: 30.019623 | J10: 86.083214 | K10: 10.881124 | L10: 92.82009 | M10: 0.45467808 | N10: 25.58014 | O10: 0.8190437 | P10: 0.083034609 | Q10: 37.583141 | R10: 50.633449 | S10: 21.659129 | T10: 729.58256 | U10: 983.1421 | V10: 1.5911195 | W10: 224.36122 | X10: 3628.4485
C11: 7 | D11: 福島県 | E11: 254.39885 | F11: 3032.9947 | G11: 30.041657 | H11: 14.01265 | I11: 83.081248 | J11: 260.91805 | K11: 6.7552008 | L11: 373.4296 | M11: 2.6294261 | N11: 8.9875245 | O11: 0 | P11: 0.024982394 | Q11: 29.49005 | R11: 169.79659 | S11: 106.22807 | T11: 1486.9827 | U11: 1144.3155 | V11: 0.93080486 | W11: 1204.7285 | X11: 8209.7461
C12: 8 | D12: 茨城県 | E12: 97.616995 | F12: 5616.1476 | G12: 153.67873 | H12: 92.384504 | I12: 57.538067 | J12: 162.54805 | K12: 48 | L12: 207.56575 | M12: 0 | N12: 85 | O12: 0 | P12: 2.0029136 | Q12: 72.202534 | R12: 318.0373 | S12: 160.33847 | T12: 1153.6358 | U12: 2483.3063 | V12: 2.785818 | W12: 901.25696 | X12: 11614.046
C13: 9 | D13: 栃木県 | E13: 21.505514 | F13: 2587.9203 | G13: 41.357693 | H13: 26.852064 | I13: 13.633987 | J13: 258.76042 | K13: 20.79895 | L13: 148.86758 | M13: 0.62866825 | N13: 33.131111 | O13: 0.022713918 | P13: 3.3136251 | Q13: 83.773059 | R13: 157.19337 | S13: 243.42773 | T13: 776.73768 | U13: 2755.0163 | V13: 3.6853192 | W13: 28.204662 | X13: 7204.8308
C14: 10 | D14: 群馬県 | E14: 4.0648451 | F14: 1514.8663 | G14: 38.431115 | H14: 7.2353228 | I14: 16.374223 | J14: 41.915739 | K14: 1.80228 | L14: 42.844017 | M14: 0.10244 | N14: 98.89901 | O14: 0 | P14: 0.01597615 | Q14: 11.37829 | R14: 151.08782 | S14: 53.798009 | T14: 332.74255 | U14: 2923.4613 | V14: 1.5601255 | W14: 15.629619 | X14: 5256.209
C15: 11 | D15: 埼玉県 | E15: 8.8734865 | F15: 6209.5502 | G15: 89.211346 | H15: 63.917595 | I15: 71.686531 | J15: 450.84256 | K15: 91.305013 | L15: 196.97376 | M15: 4.4752264 | N15: 87.95249 | O15: 0.13996537 | P15: 0.58682163 | Q15: 156.94834 | R15: 470.49397 | S15: 98.364868 | T15: 1771.1559 | U15: 577.95231 | V15: 1.6612377 | W15: 17.636869 | X15: 10369.728
C16: 12 | D16: 千葉県 | E16: 56.117166 | F16: 7215.1955 | G16: 266.74626 | H16: 161.4363 | I16: 217.53889 | J16: 391.04315 | K16: 19.627793 | L16: 421.47056 | M16: 0.62837047 | N16: 63.74222 | O16: 1.47799 | P16: 0.12297923 | Q16: 1510.9919 | R16: 466.24734 | S16: 1944.9399 | T16: 1909.9614 | U16: 2876.9694 | V16: 11.573359 | W16: 1665.7148 | X16: 19201.545
... C51: 47 | D51: 沖縄県 | E51: 15.823537 | F51: 1163.5996 | G51: 7.8909452 | H51: 0.042563911 | I51: 0.51215152 | J51: 19.775392 | K51: 4.089642 | L51: 48.544152 | M51: 0.19100634 | N51: 186.376 | O51: 1.2702694 | P51: 0.051762347 | Q51: 59.4955 | R51: 87.356459 | S51: 26.817711 | T51: 273.95543 | U51: 1323.8926 | V51: 4.57944 | W51: 86.51848 | X51: 3310.7827
C52: 全国 | E52: 2385.7712 | F52: 154538.54 | G52: 3288.734 | H52: 2889.3559 | I52: 2594.8254 | J52: 7855.9534 | K52: 819.77691 | L52: 8225.5731 | M52: 89.800128 | N52: 2221.9475 | O52: 82.462869 | P52: 31.890783 | Q52: 6944.483 | R52: 8345.7385 | S52: 11126.085 | T52: 60680.354 | U52: 80363.101 | V52: 135.2043 | W52: 14630.013 | X52: 367249.61
C53: ※四捨五入により、各項目の合算値と合計値が合致しない場合がある。
C54: ※動物の死体の原単位については令和３年度農業保険制度家畜共済統計表（農林水産省）の動物の死亡率を用いて推計した。

Sheet 表Ⅲ・7
B1: 表－Ⅲ・７ 令和５年度実績値 業種別・種類別全国共通原単位一覧表
D3: 全国 | F3: 令和５年度
B4: 大分類 | C4: 番号 | D4: 産業分類 | E4: コード | F4: 単位 | G4: 燃え殻 | H4: 汚 泥 | I4: 廃 油 | J4: 廃 酸 | K4: 廃アルカリ | L4: 廃プラス チック類 | M4: 紙くず | N4: 木くず | O4: 繊維くず | P4: 動植物性 残 渣 | Q4: 動物系固形不要物 | R4: ゴムくず | S4: 金属くず | T4: ガラスくず及び 陶磁器くず | U4: 鉱さい | V4: がれき類 | W4: 動物の ふん尿 | X4: 動物の死体 | Y4: ばいじん | AA4: 合 計
D5: 農業，林業大分類 | E5: A
C6: 1 | D6: 耕種農業 | E6: A011 | F6: t/千a
B7: 農業，林業 | C7: 2 | D7: 畜産農業 | E7: A012 | F7: t/頭羽
C8: 3 | D8: 林業 | E8: A02 | F8: t/千人
C9: 4 | D9: 上記以外の農業，林業
D10: 漁業大分類 | E10: B
B11: 漁 業 | C11: 5 | D11: 漁業 | E11: B03 | F11: t/千人 | G11: 0 | H11: 0 | I11: 0 | J11: 0 | K11: 0 | L11: 78.654405 | N11: 0 | R11: 0 | S11: 12.100678 | T11: 0 | U11: 0 | V11: 0 | Y11: 0
C12: 6 | D12: 水産養殖業 | E12: B04 | F12: t/千人 | G12: 0 | H12: 0 | I12: 0 | J12: 0 | K12: 0 | L12: 94.152626 | N12: 0 | R12: 0 | S12: 0 | T12: 0 | U12: 0 | V12: 0 | Y12: 0
B13: 鉱 業 | C13: 7 | D13: 鉱業，採石業，砂利採取業 | E13: C | F13: t/千人 | G13: 1.802307 | H13: 303186.54 | I13: 449.84989 | J13: 734.59347 | K13: 1136.9309 | L13: 2048.9223 | N13: 565.26527 | R13: 5.5032662 | S13: 117.06205 | T13: 1365.0208 | U13: 848.48606 | V13: 1018.7904 | Y13: 3.5872584
B14: 建設業 | C14: 8 | D14: 建設業 | E14: D | F14: t/十億円 | G14: 1.1892641 | H14: 153.34911 | I14: 1.2255035 | J14: 0.41242433 | K14: 0.69430962 | L14: 23.711258 | M14: 4.7796983 | N14: 103.47115 | O14: 1.0493495 | R14: 0.051848463 | S14: 14.024636 | T14: 49.89136 | U14: 1.3949265 | V14: 894.01049 | Y14: 0.4348241
D15: 製造業大分類 | E15: E
C16: 9 | D16: 食料品製造業 | E16: E09 | F16: t/十億円 | G16: 0.19021421 | H16: 183.56814 | I16: 2.8260094 | J16: 1.8898327 | K16: 1.5970512 | L16: 12.660883 | N16: 0.33125528 | R16: 0.001378537 | S16: 0.80404977 | T16: 1.1262279 | U16: 0 | V16: 0.059528229 | Y16: 0.048594258
C17: 10 | D17: 飲料・たばこ・飼料製造業 | E17: E10 | F17: t/十億円 | G17: 0.023928123 | H17: 130.62587 | I17: 0.25909232 | J17: 62.013879 | K17: 4.1999258 | L17: 5.1010376 | N17: 0.7526829 | R17: 0.00034711426 | S17: 0.2820821 | T17: 0.49352957 | U17: 0 | V17: 0.020682684 | Y17: 0.031595944
C18: 11 | D18: 繊維工業 | E18: E11 | F18: t/十億円 | G18: 1.5193152 | H18: 46.47779 | I18: 2.2705637 | J18: 0.92893376 | K18: 6.1106033 | L18: 28.294484 | N18: 0.84799284 | R18: 0.0038839033 | S18: 0.43879734 | T18: 0.10593493 | U18: 0.0086412237 | V18: 0.031543657 | Y18: 12.426268
C19: 12 | D19: 木材・木製品製造業 | E19: E12 | F19: t/十億円 | G19: 7.942771 | H19: 0.43255417 | I19: 0.70466249 | J19: 0.045160905 | K19: 0.3181966 | L19: 5.0242288 | N19: 154.17045 | R19: 0.0013971056 | S19: 0.84678504 | T19: 1.675027 | U19: 0 | V19: 2.4333605 | Y19: 3.4287201
C20: 13 | D20: 家具・装備品製造業 | E20: E13 | F20: t/十億円 | G20: 0.19050648 | H20: 8.2798516 | I20: 1.8968764 | J20: 0.27195644 | K20: 0.32150713 | L20: 13.900344 | N20: 35.014562 | R20: 0.002089185 | S20: 4.408324 | T20: 3.4641712 | U20: 0.0010245477 | V20: 0.46517815 | Y20: 0.0013375296
C21: 14 | D21: パルプ・紙・紙加工品製造業 | E21: E14 | F21: t/十億円 | G21: 19.452719 | H21: 2485.7936 | I21: 2.2005952 | J21: 0.049334388 | K21: 3.3160861 | L21: 56.088661 | N21: 11.327032 | R21: 0.00031366926 | S21: 0.71992341 | T21: 0.23061792 | U21: 0.16746808 | V21: 0.15837974 | Y21: 60.182178
C22: 15 | D22: 印刷・同関連業 | E22: E15 | F22: t/十億円 | G22: 0.39560041 | H22: 14.073117 | I22: 8.3611568 | J22: 1.7920519 | K22: 9.591583 | L22: 39.385756 | N22: 1.8246342 | R22: 0.0010541913 | S22: 2.1905448 | T22: 0.32865952 | U22: 0.035325205 | V22: 0.014245765 | Y22: 0.012036811
C23: 16 | D23: 化学工業 | E23: E16 | F23: t/十億円 | G23: 13.003323 | H23: 141.98891 | I23: 33.65146 | J23: 20.223508 | K23: 38.916874 | L23: 10.64884 | N23: 1.3801093 | R23: 0.038554846 | S23: 2.1627113 | T23: 1.3707501 | U23: 1.4706384 | V23: 0.37216713 | Y23: 13.482384
C24: 17 | D24: 石油製品・石炭製品製造業 | E24: E17 | F24: t/十億円 | G24: 0.32126891 | H24: 22.794966 | I24: 6.1458644 | J24: 3.0910638 | K24: 2.472708 | L24: 0.51984737 | N24: 0.19529355 | R24: 0 | S24: 0.161807 | T24: 1.9424639 | U24: 0.039067323 | V24: 6.6930504 | Y24: 5.8214796
B25: 製造業 | C25: 18 | D25: プラスチック製品製造業 | E25: E18 | F25: t/十億円 | G25: 0.2992978 | H25: 11.301239 | I25: 4.0887699 | J25: 1.3650195 | K25: 2.3981656 | L25: 45.404397 | N25: 1.9174543 | R25: 0.0090277861 | S25: 0.87918011 | T25: 0.70849814 | U25: 4.7500149e-06 | V25: 0.25122452 | Y25: 1.122265
C26: 19 | D26: ゴム製品製造業 | E26: E19 | F26: t/十億円 | G26: 0.017776241 | H26: 8.5878072 | I26: 3.5059158 | J26: 0.078198284 | K26: 0.54618317 | L26: 42.397451 | N26: 1.097589 | R26: 2.5535963 | S26: 3.404196 | T26: 1.2294977 | U26: 0.011916137 | V26: 0.0473642 | Y26: 0.00099640621
C27: 20 | D27: なめし革・同製品・毛皮製造業 | E27: E20 | F27: t/十億円 | G27: 0.0022850665 | H27: 81.054347 | I27: 17.224464 | J27: 0.06250531 | K27: 1.4506349 | L27: 28.996479 | N27: 4.4170076 | R27: 0.15436014 | S27: 0.48814127 | T27: 0.00065022937 | U27: 0 | V27: 0 | Y27: 0
C28: 21 | D28: 窯業・土石製品製造業 | E28: E21 | F28: t/十億円 | G28: 6.6779175 | H28: 413.31885 | I28: 8.0649876 | J28: 2.0391415 | K28: 14.405238 | L28: 6.9272361 | N28: 5.3270745 | R28: 0.0089316162 | S28: 2.285627 | T28: 436.47781 | U28: 4.0968935 | V28: 93.786531 | Y28: 4.891416
C29: 22 | D29: 鉄鋼業 | E29: E22 | F29: t/十億円 | G29: 1.7899989 | H29: 74.26548 | I29: 9.5326853 | J29: 25.569674 | K29: 7.1987391 | L29: 6.3245259 | N29: 1.1684 | R29: 0.00078626291 | S29: 122.03077 | T29: 6.6848114 | U29: 303.47782 | V29: 14.429835 | Y29: 170.62108
C30: 23 | D30: 非鉄金属製造業 | E30: E23 | F30: t/十億円 | G30: 0.26373728 | H30: 24.378272 | I30: 4.3901179 | J30: 2.7487321 | K30: 6.7352214 | L30: 6.2533598 | N30: 2.8760593 | R30: 0.001227683 | S30: 1.2208326 | T30: 1.0931149 | U30: 23.268623 | V30: 0.48170866 | Y30: 0.41281686
C31: 24 | D31: 金属製品製造業 | E31: E24 | F31: t/十億円 | G31: 0.18434199 | H31: 98.807567 | I31: 6.5600904 | J31: 11.511164 | K31: 5.7948832 | L31: 5.5093194 | N31: 3.4433871 | R31: 0.37442287 | S31: 13.447126 | T31: 2.2173422 | U31: 1.9677883 | V31: 1.3255642 | Y31: 0.22659981
C32: 25 | D32: はん用機械器具製造業 | E32: E25 | F32: t/十億円 | G32: 0.0077541026 | H32: 15.938334 | I32: 9.5805004 | J32: 0.74703086 | K32: 2.1532504 | L32: 5.0038191 | N32: 3.1614607 | R32: 0.0033383257 | S32: 4.8557752 | T32: 0.32697166 | U32: 3.1966579 | V32: 0.35797683 | Y32: 0.019845835
C33: 26 | D33: 生産用機械器具製造業 | E33: E26 | F33: t/十億円 | G33: 0.0077678332 | H33: 4.8059327 | I33: 5.602108 | J33: 0.92539518 | K33: 0.91067374 | L33: 4.8446067 | N33: 2.7676611 | R33: 0.00055490447 | S33: 3.3401025 | T33: 0.28827735 | U33: 2.4353408 | V33: 0.12416961 | Y33: 0.0007730933
C34: 27 | D34: 業務用機械器具製造業 | E34: E27 | F34: t/十億円 | G34: 0.014354794 | H34: 6.0068923 | I34: 9.7003495 | J34: 0.42711601 | K34: 1.8997577 | L34: 11.962463 | N34: 1.0571846 | R34: 0.00040909861 | S34: 2.171228 | T34: 0.8822018 | U34: 0.0049228331 | V34: 0.053867294 | Y34: 0
C35: 28 | D35: 電子部品・デバイス・電子回路製造業 | E35: E28 | F35: t/十億円 | G35: 0.0035827561 | H35: 38.708753 | I35: 4.5378894 | J35: 26.234242 | K35: 10.908826 | L35: 6.2364125 | N35: 0.42363009 | R35: 3.3560875e-05 | S35: 1.2790182 | T35: 0.3693717 | U35: 0.00035135524 | V35: 0.017425079 | Y35: 0.00013547123
C36: 29 | D36: 電気機械器具製造業 | E36: E29 | F36: t/十億円 | G36: 0.0084789026 | H36: 35.394199 | I36: 1.6271086 | J36: 1.9647943 | K36: 4.5049254 | L36: 3.9753347 | N36: 0.94934229 | R36: 0.00068892106 | S36: 5.6786535 | T36: 0.82775185 | U36: 0.027218136 | V36: 0.24640525 | Y36: 0.00050109606
C37: 30 | D37: 情報通信機械器具製造業 | E37: E30 | F37: t/十億円 | G37: 5.1179035e-05 | H37: 1.1729618 | I37: 1.3712819 | J37: 0.57548317 | K37: 8.1750804 | L37: 4.3559545 | N37: 0.65398187 | R37: 0 | S37: 2.6357125 | T37: 0.061246377 | U37: 0 | V37: 0.027085281 | Y37: 0
... C39: 32 | D39: その他の製造業 | E39: E32 | F39: t/十億円 | G39: 1.9796448 | H39: 43.748303 | I39: 11.370343 | J39: 1.6863126 | K39: 15.977546 | L39: 40.328466 | N39: 5.217538 | R39: 0.01275566 | S39: 2.0632948 | T39: 14.21252 | U39: 2.7450696 | V39: 15.010179 | Y39: 4.0902157
D40: 電気・ガス・熱供給・水道業大分類 | E40: F
B41: 電気･ガス | C41: 33 | D41: 電気業 | E41: F33 | F41: t/千人 | G41: 7910.74 | H41: 7987.3621 | I41: 41.054148 | J41: 20.870849 | K41: 33.728668 | L41: 54.609512 | N41: 48.183855 | R41: 0.0037246208 | S41: 34.744777 | T41: 71.294816 | U41: 140.35794 | V41: 636.65308 | Y41: 50794.329
B42: ･熱供給･ | C42: 34 | D42: ガス業 | E42: F34 | F42: t/千人 | G42: 0 | H42: 38.709614 | I42: 2.0278064 | J42: 0.15389492 | K42: 0.2870274 | L42: 47.656511 | N42: 204.96071 | R42: 0 | S42: 47.531544 | T42: 7.4836323 | U42: 45.354982 | V42: 272.80717 | Y42: 0
B43: 水道業 | C43: 35 | D43: 熱供給業 | E43: F35 | F43: t/千人 | G43: 4042.3951 | H43: 189071 | I43: 35.664421 | J43: 0 | K43: 2.3047842 | L43: 89.729077 | N43: 177.37471 | R43: 0 | S43: 31.789079 | T43: 458.06237 | U43: 13.286713 | V43: 0 | Y43: 2533.8578
C44: 36 | D44: 上水道業 | E44: F361 | F44: t/千人 | G44: 0.076207218 | H44: 45.019051 | I44: 0.0002196733 | J44: 0.00073500466 | K44: 0.00017120308 | L44: 0.0040636684 | N44: 0.006454661 | R44: 0 | S44: 0.0033925637 | T44: 0.00084103043 | U44: 0.0019931118 | V44: 0.85368528 | Y44: 0
C45: 37 | D45: 下水道業 | E45: F363 | F45: t/千人 | G45: 0.01751751 | H45: 380.28029 | I45: 0.00067103762 | J45: 0.00091408235 | K45: 0.00029920786 | L45: 0.022651171 | N45: 0.00013998614 | R45: 8.2377412e-07 | S45: 0.0085460904 | T45: 0.0013394223 | U45: 0.028090698 | V45: 0.046318551 | Y45: 0.26750184
D46: 情報通信業大分類 | E46: G
C47: 38 | D47: 通信業 | E47: G37 | F47: t/千人 | G47: 0 | H47: 0 | I47: 0 | J47: 0 | K47: 0 | L47: 23.190159 | N47: 0 | R47: 0 | S47: 0 | T47: 11.59508 | U47: 0 | V47: 0
B48: 情報通信業 | C48: 39 | D48: 放送業 | E48: G38 | F48: t/千人 | G48: 0 | H48: 0 | I48: 0 | J48: 0 | K48: 0 | L48: 12.090774 | N48: 0 | R48: 0 | S48: 13.020833 | T48: 0 | U48: 0 | V48: 0
C49: 40 | D49: 情報サービス業 | E49: G39 | F49: t/千人 | G49: 0 | H49: 0 | I49: 0 | J49: 0 | K49: 0 | L49: 2.6331188 | N49: 0 | R49: 0 | S49: 0 | T49: 0 | U49: 0 | V49: 0
C50: 41 | D50: インターネット付随サービス業 | E50: G40 | F50: t/千人
C51: 42 | D51: 映像・音声・文字情報制作業 | E51: G41 | F51: t/千人 | G51: 0 | H51: 0 | I51: 0.33095049 | J51: 0 | K51: 0 | L51: 0.66190098 | N51: 0 | R51: 0 | S51: 0.33095049 | T51: 0 | U51: 0 | V51: 0
D52: 運輸業，郵便業大分類 | E52: H
B53: 運輸業， | C53: 43 | D53: 鉄道業 | E53: H42 | F53: t/千人 | I53: 0.043147776 | L53: 0.15090543 | S53: 2.3841941
B54: 郵便業 | C54: 44 | D54: 道路旅客運送業 | E54: H43 | F54: t/千人 | I54: 0.20976612 | L54: 1.3223651 | S54: 1.8235416
C55: 45 | D55: 道路貨物運送業 | E55: H44 | F55: t/千人 | I55: 0.40283553 | L55: 9.3497635 | S55: 1.7105773
C56: 46 | D56: 上記以外の運輸業，郵便業 | F56: t/千人 | I56: 0.23473268 | L56: 32.132575 | S56: 0.42019089
D57: 卸売業，小売業大分類 | E57: I
C58: 47 | D58: 各種商品卸売業 | E58: I50 | F58: t/千人
C59: 48 | D59: 木材・竹材卸売業 | E59: I5311 | F59: t/千人
C60: 49 | D60: 各種商品小売業 | E60: I56 | F60: t/千人
B61: 卸売業， | C61: 50 | D61: 自動車小売業 | E61: I591 | F61: t/千人
B62: 小売業 | C62: 51 | D62: 機械器具小売業 | E62: I593 | F62: t/千人
C63: 52 | D63: 家具・建具・畳小売業 | E63: I601 | F63: t/千人
C64: 53 | D64: じゅう器小売業 | E64: I602 | F64: t/千人
C65: 54 | D65: 燃料小売業 | E65: I605 | F65: t/千人
C66: 55 | D66: 上記以外の卸売業，小売業 | F66: t/千人
B67: 不動産業， | D67: 不動産業，物品賃貸業大分類 | E67: K
B68: 物品賃貸業 | C68: 56 | D68: 物品賃貸業 | E68: K70 | F68: t/千人 | G68: 0.21132889 | H68: 27.486059 | I68: 44.601295 | J68: 0.49957159 | K68: 1.2358175 | L68: 89.639106 | N68: 64.633985 | R68: 0 | S68: 55.59594 | T68: 353.31276 | U68: 0 | V68: 240.28236 | Y68: 0
B69: 学術研究，専門 | D69: 学術研究，専門・技術サービス業大分類 | E69: L
B70: ・技術サービス業 | C70: 57 | D70: 学術・開発研究機関 | E70: L71 | F70: t/千人 | G70: 0 | H70: 56.808481 | I70: 1.8625731 | J70: 27.938597 | K70: 0 | L70: 25.144737 | N70: 3.7251463 | R70: 0 | S70: 7.4502926 | T70: 0 | U70: 0 | V70: 0 | Y70: 0
C71: 58 | D71: 写真業 | E71: L746 | F71: t/千人 | G71: 0 | H71: 6.391537 | I71: 0 | J71: 562.45525 | K71: 309.98954 | L71: 9.5873055 | N71: 0 | R71: 0 | S71: 0 | T71: 3.1957685 | U71: 0 | V71: 0 | Y71: 0
B72: 宿泊業，飲食 | D72: 宿泊業，飲食サービス業大分類 | E72: M
B73: サービス業 | C73: 59 | D73: 飲食店 | E73: M76 | F73: t/千人 | G73: 0 | H73: 43.655626 | I73: 51.578719 | J73: 0 | K73: 0 | L73: 7.9676514 | N73: 0 | R73: 0 | S73: 1.3817789 | T73: 1.1248833 | U73: 0 | V73: 0 | Y73: 0
C74: 60 | D74: 上記以外の宿泊業，飲食サービス業 | F74: t/千人 | G74: 0.81659422 | H74: 33.524469 | I74: 4.8607909 | J74: 0 | K74: 0 | L74: 45.19066 | N74: 5.8177382 | R74: 0 | S74: 7.763631 | T74: 17.991168 | U74: 0 | V74: 0 | Y74: 0
B75: 生活関連サー | D75: 生活関連サービス業，娯楽業大分類 | E75: N
B76: ビス業，娯楽業 | C76: 61 | D76: 洗濯業 | E76: N781 | F76: t/千人 | G76: 0.086381148 | H76: 91.982971 | I76: 9.8287659 | J76: 17.268085 | K76: 1.327012 | L76: 46.953662 | N76: 0.93189371 | R76: 0 | S76: 1.3261234 | T76: 0.19280272 | U76: 0 | V76: 0 | Y76: 0
B77: 教育，学習支援業 | C77: 62 | D77: 教育，学習支援業 | E77: O | F77: t/千人 | G77: 0.019965085 | H77: 28.94399 | I77: 0.5711612 | J77: 0.23249969 | K77: 0.19661837 | L77: 14.888586 | N77: 1.3561654 | R77: 0.001285495 | S77: 6.546635 | T77: 3.2891119 | U77: 0.022141213 | V77: 3.4050417 | Y77: 0
D78: 医療，福祉大分類 | E78: P
B79: 医療，福祉 | C79: 63 | D79: 医療業 | E79: P83 | F79: t/千床 | G79: 0 | H79: 6.4526133 | I79: 5.5172011 | J79: 3.6773712 | K79: 0.32551156 | L79: 61.048891 | N79: 0.015364366 | R79: 1.1215987 | S79: 9.4190078 | T79: 4.2200327 | U79: 0 | V79: 2.6404909 | Y79: 0
C80: 64 | D80: 上記以外の医療，福祉 | F80: t/千人 | G80: 0 | H80: 2.3680617 | I80: 0.8143293 | J80: 0.2606469 | K80: 0.0489841 | L80: 32.167304 | N80: 0 | R80: 0 | S80: 0.90990778 | T80: 0.17669136 | U80: 0 | V80: 0.12425205 | Y80: 0
B81: 教育、学習支援業 | C81: 65 | D81: 複合サービス事業 | E81: Q | F81: t/千人 | G81: 11.972196 | H81: 29.709366 | I81: 12.808789 | J81: 7.8670823 | K81: 1.6515758 | L81: 132.21939 | N81: 108.47068 | R81: 0.00018683671 | S81: 39.259979 | T81: 8.3629433 | U81: 0 | V81: 52.707322 | Y81: 0
D82: サービス業大分類 | E82: R
B83: サービス業 | C83: 66 | D83: 自動車整備業 | E83: R891 | F83: t/千人
C84: 67 | D84: と畜場 | E84: R952 | F84: t/千頭
C85: 68 | D85: 上記以外のサービス業 | F85: t/千人
B86: 公務 | C86: 69 | D86: 公務 | E86: Ｓ | F86: t/千人 | G86: 9.1648988 | H86: 114.85561 | I86: 6.2299544 | J86: 0.079919611 | K86: 1.0581266 | L86: 7.6510671 | N86: 4.4725051 | R86: 0.011635995 | S86: 6.1048737 | T86: 3.5147702 | U86: 0.0050556117 | V86: 9.2961854 | Y86: 4.644422
B87: ※空欄は該当値が無いものを示している。

Sheet 表Ⅲ・8
B1: 表－Ⅲ・８ 令和５年度実績値 業種別・種類別活動量指標合計（有回答）一覧表
D3: 全国 | F3: 令和５年度
B4: 大分類 | C4: 番号 | D4: 産業分類 | E4: コード | F4: 単位 | G4: 燃え殻 | H4: 汚 泥 | I4: 廃 油 | J4: 廃 酸 | K4: 廃アルカリ | L4: 廃プラス チック類 | M4: 紙くず | N4: 木くず | O4: 繊維くず | P4: 動植物性 残 渣 | Q4: 動物系固形不要物 | R4: ゴムくず | S4: 金属くず | T4: ガラスくず及び 陶磁器くず | U4: 鉱さい | V4: がれき類 | W4: 動物の ふん尿 | X4: 動物の死体 | Y4: ばいじん | Z4: 合 計
D5: 農業，林業大分類 | E5: A
C6: 1 | D6: 耕種農業 | E6: A011 | F6: 千a | L6: 143.0256
B7: 農業，林業 | C7: 2 | D7: 畜産農業 | E7: A012 | F7: 頭羽 | G7: 744.71 | H7: 744.71 | I7: 2138 | K7: 744.71 | L7: 13020.29 | N7: 1393.29 | R7: 744.71 | S7: 2138 | T7: 744.71 | V7: 2138 | W7: 78808.91 | X7: 69903.41
C8: 3 | D8: 林業 | E8: A02 | F8: 千人 | I8: 2.2956 | L8: 6.5138 | N8: 3.5684 | S8: 2.2956 | T8: 0.6488 | V8: 2.0612
C9: 4 | D9: 上記以外の農業，林業
D10: 漁業大分類 | E10: B
B11: 漁 業 | C11: 5 | D11: 漁業 | E11: B03 | F11: 千人 | L11: 0.8264 | S11: 0.8264
C12: 6 | D12: 水産養殖業 | E12: B04 | F12: 千人 | L12: 0.2018
B13: 鉱 業 | C13: 7 | D13: 鉱業，採石業，砂利採取業 | E13: C | F13: 千人 | G13: 1.5452 | H13: 12.0322 | I13: 11.7298 | J13: 1.8678 | K13: 3.506 | L13: 13.6608 | N13: 9.6582 | R13: 1.5102 | S13: 11.0146 | T13: 10.1152 | U13: 1.6778 | V13: 8.8516 | Y13: 1.697
B14: 建設業 | C14: 8 | D14: 建設業 | E14: D | F14: 十億円 | G14: 52610.681 | H14: 55268.395 | I14: 53989.814 | J14: 46765.024 | K14: 49507.263 | L14: 53989.814 | M14: 55268.395 | N14: 55268.395 | O14: 53664.795 | R14: 38670.155 | S14: 55268.395 | T14: 55268.395 | U14: 45863.79 | V14: 55268.395 | Y14: 39815.067
D15: 製造業大分類 | E15: E
C16: 9 | D16: 食料品製造業 | E16: E09 | F16: 十億円 | G16: 23746.329 | H16: 24681.209 | I16: 24681.209 | J16: 24347.009 | K16: 22432.475 | L16: 24681.209 | N16: 20050.045 | P16: 24681.209 | Q16: 7381.593 | R16: 8772.695 | S16: 24681.209 | T16: 24681.209 | V16: 18988.371 | Y16: 12521.139
C17: 10 | D17: 飲料・たばこ・飼料製造業 | E17: E10 | F17: 十億円 | G17: 4905.895 | H17: 8074.104 | I17: 7257.536 | J17: 6860.455 | K17: 3346.275 | L17: 8074.104 | N17: 5667.969 | P17: 8074.104 | R17: 846.616 | S17: 7409.43 | T17: 7404.262 | V17: 3032.428 | Y17: 734.855
C18: 11 | D18: 繊維工業 | E18: E11 | F18: 十億円 | G18: 2165.363 | H18: 2508.259 | I18: 2653.9 | J18: 1917.371 | K18: 1965.146 | L18: 2892.124 | N18: 2488.968 | O18: 2494.219 | R18: 222.472 | S18: 2526.052 | T18: 2552.509 | U18: 24.41 | V18: 1181.625 | Y18: 735.957
C19: 12 | D19: 木材・木製品製造業 | E19: E12 | F19: 十億円 | G19: 2492.499 | H19: 2048.492 | I19: 2070.874 | J19: 632.68 | K19: 783.741 | L19: 2745.871 | N19: 2745.871 | R19: 351.375 | S19: 2262.678 | T19: 2410.704 | V19: 1617.083 | Y19: 1346.906
C20: 13 | D20: 家具・装備品製造業 | E20: E13 | F20: 十億円 | G20: 705.353 | H20: 1196.824 | I20: 1252.132 | J20: 461.976 | K20: 697.881 | L20: 1489.328 | N20: 1495.294 | R20: 84.751 | S20: 1365.211 | T20: 1299.433 | U20: 43.103 | V20: 555.1 | Y20: 99.882
C21: 14 | D21: パルプ・紙・紙加工品製造業 | E21: E14 | F21: 十億円 | G21: 5680.229 | H21: 5998.671 | I21: 5993.846 | J21: 5292.396 | K21: 5242.118 | L21: 5998.671 | M21: 5885.215 | N21: 5690.713 | R21: 570.908 | S21: 5927.419 | T21: 5517.92 | U21: 954.472 | V21: 4147.796 | Y21: 5117.537
C22: 15 | D22: 印刷・同関連業 | E22: E15 | F22: 十億円 | G22: 609.894 | H22: 2709.529 | I22: 2995.81 | J22: 2747.681 | K22: 2787.85 | L22: 2995.81 | M22: 2759.004 | N22: 2707.848 | R22: 234.559 | S22: 2833.723 | T22: 2530.788 | U22: 761.637 | V22: 1230.92 | Y22: 107.696
C23: 16 | D23: 化学工業 | E23: E16 | F23: 十億円 | G23: 25462.108 | H23: 26215.282 | I23: 26215.282 | J23: 26205.613 | K23: 26205.613 | L23: 26215.282 | N23: 23614.653 | P23: 21534.086 | R23: 10330.579 | S23: 26207.003 | T23: 26215.282 | U23: 9900.768 | V23: 22152.699 | Y23: 15136.944
C24: 17 | D24: 石油製品・石炭製品製造業 | E24: E17 | F24: 十億円 | G24: 11297.996 | H24: 14066.232 | I24: 14125.474 | J24: 13159.321 | K24: 13839.692 | L24: 14104.868 | N24: 13966.974 | S24: 14002.752 | T24: 13999.515 | U24: 2514.004 | V24: 12204.402 | Y24: 12773.677
B25: 製造業 | C25: 18 | D25: プラスチック製品製造業 | E25: E18 | F25: 十億円 | G25: 4681.67 | H25: 10270.867 | I25: 10311.772 | J25: 9759.72 | K25: 10175.047 | L25: 10399.954 | N25: 9576.039 | R25: 3195.939 | S25: 10379.122 | T25: 9265.167 | U25: 116.618 | V25: 6923.399 | Y25: 4107.867
C26: 19 | D26: ゴム製品製造業 | E26: E19 | F26: 十億円 | G26: 746.759 | H26: 3109.934 | I26: 3041.244 | J26: 2286.706 | K26: 2919.267 | L26: 3197.345 | N26: 2815.691 | R26: 2159.273 | S26: 2913.247 | T26: 2989.256 | U26: 293.514 | V26: 1374.815 | Y26: 46.146
C27: 20 | D27: なめし革・同製品・毛皮製造業 | E27: E20 | F27: 十億円 | G27: 2.613 | H27: 57.400457 | I27: 64.339457 | J27: 27.119 | K27: 29.063 | L27: 107.65551 | N27: 73.118 | R27: 22.478 | S27: 27.435 | T27: 4.957
C28: 21 | D28: 窯業・土石製品製造業 | E28: E21 | F28: 十億円 | G28: 4945.354 | H28: 6547.246 | I28: 6178.994 | J28: 5656.692 | K28: 5775.09 | L28: 6547.246 | N28: 6126.449 | R28: 2730.552 | S28: 6431.933 | T28: 6547.246 | U28: 5097.371 | V28: 6192.276 | Y28: 4233.846
C29: 22 | D29: 鉄鋼業 | E29: E22 | F29: 十億円 | G29: 12079.611 | H29: 16998.364 | I29: 17044.202 | J29: 16862.015 | K29: 14772.005 | L29: 17015.683 | N29: 16617.036 | R29: 4703.381 | S29: 16962.341 | T29: 15995.059 | U29: 16082.976 | V29: 14843.421 | Y29: 14227.136
C30: 23 | D30: 非鉄金属製造業 | E30: E23 | F30: 十億円 | G30: 4464.962 | H30: 8965.4112 | I30: 8928.4832 | J30: 7130.0363 | K30: 7588.99 | L30: 8977.8472 | N30: 8352.4092 | R30: 1249.506 | S30: 8824.7629 | T30: 8830.525 | U30: 7517.8389 | V30: 7289.0872 | Y30: 6400.459
C31: 24 | D31: 金属製品製造業 | E31: E24 | F31: 十億円 | G31: 8430.573 | H31: 12496.909 | I31: 12496.909 | J31: 12443.688 | K31: 12385.516 | L31: 12496.909 | N31: 11616.933 | R31: 3727.978 | S31: 12496.909 | T31: 12496.909 | U31: 9314.598 | V31: 10470.942 | Y31: 5770.753
C32: 25 | D32: はん用機械器具製造業 | E32: E25 | F32: 十億円 | G32: 2989.495 | H32: 8471.176 | I32: 8511.846 | J32: 7261.871 | K32: 7395.19 | L32: 8497.558 | N32: 7951.537 | R32: 3369.763 | S32: 8480.728 | T32: 7683.928 | U32: 5784.352 | V32: 5780.48 | Y32: 4180.538
C33: 26 | D33: 生産用機械器具製造業 | E33: E26 | F33: 十億円 | G33: 12780.091 | H33: 18584.674 | I33: 18092.446 | J33: 17934.429 | K33: 18063.421 | L33: 18092.446 | N33: 17088.664 | R33: 7666.295 | S33: 18092.446 | T33: 18025.313 | U33: 13125.92 | V33: 12777.246 | Y33: 4470.601
C34: 27 | D34: 業務用機械器具製造業 | E34: E27 | F34: 十億円 | G34: 2892.977 | H34: 5239.101 | I34: 5538.508 | J34: 5042.733 | K34: 5194.533 | L34: 5566.185 | N34: 4401.939 | R34: 563.583 | S34: 5264.142 | T34: 5251.076 | U34: 2354.907 | V34: 2176.447
C35: 28 | D35: 電子部品・デバイス・電子回路製造業 | E35: E28 | F35: 十億円 | G35: 5887.859 | H35: 14742.51 | I35: 14763.282 | J35: 14448.179 | K35: 14448.179 | L35: 14763.282 | N35: 13433.503 | R35: 710.024 | S35: 14763.282 | T35: 14218.412 | U35: 1362.783 | V35: 8298.836 | Y35: 506.429
C36: 29 | D36: 電気機械器具製造業 | E36: E29 | F36: 十億円 | G36: 6468.999 | H36: 16302.567 | I36: 16302.567 | J36: 14856.37 | K36: 15043.79 | L36: 16302.567 | N36: 13395.366 | R36: 8660.38 | S36: 16276.262 | T36: 15109.283 | U36: 8692.652 | V36: 10319.074 | Y36: 3134.175
C37: 30 | D37: 情報通信機械器具製造業 | E37: E30 | F37: 十億円 | G37: 98.582 | H37: 4561.07 | I37: 4713.2223 | J37: 3832.323 | K37: 4432.808 | L37: 4799.5038 | N37: 4071.3685 | S37: 4546.9835 | T37: 4472.8735 | U37: 98.582 | V37: 2055.482
C38: 31 | D38: 輸送用機械器具製造業 | E38: E31 | F38: 十億円 | G38: 58443.878 | H38: 65431.53 | I38: 65431.53 | J38: 63444.461 | K38: 64670.175 | L38: 65393.596 | N38: 59564.346 | R38: 45383.15 | S38: 65415.701 | T38: 64461.745 | U38: 57837.286 | V38: 60511.615 | Y38: 51554.63
C39: 32 | D39: その他の製造業 | E39: E32 | F39: 十億円 | G39: 1682.364 | H39: 3027.679 | I39: 2686.687 | J39: 2261.04 | K39: 2315.609 | L39: 3055.259 | N39: 2586.297 | R39: 667.847 | S39: 2704.186 | T39: 2637.377 | U39: 667.578 | V39: 2022.753 | Y39: 654.771
D40: 電気・ガス・熱供給・水道業大分類 | E40: F
B41: 電気･ガス | C41: 33 | D41: 電気業 | E41: F33 | F41: 千人 | G41: 68.5834 | H41: 69.6698 | I41: 64.676 | J41: 43.9634 | K41: 57.4026 | L41: 69.783 | N41: 54.4392 | R41: 0.5824 | S41: 68.047 | T41: 69.783 | U41: 31.323 | V41: 58.8144 | Y41: 66.2508
B42: ･熱供給･ | C42: 34 | D42: ガス業 | E42: F34 | F42: 千人 | H42: 9.0354 | I42: 8.443 | J42: 1.459 | K42: 3.599 | L42: 13.373 | N42: 9.698 | S42: 13.285 | T42: 11.4476 | U42: 3.367 | V42: 12.536
B43: 水道業 | C43: 35 | D43: 熱供給業 | E43: F35 | F43: 千人 | G43: 0.2596 | H43: 0.3304 | I43: 0.059 | K43: 0.059 | L43: 0.3304 | N43: 0.3058 | S43: 0.3058 | T43: 0.3058 | U43: 0.2468 | Y43: 0.0246
C44: 36 | D44: 上水道業 | E44: F361 | F44: 千人 | G44: 9506.299 | H44: 62214.273 | I44: 43667.771 | J44: 44900.343 | K44: 40012.213 | L44: 51396.062 | N44: 29263.19 | S44: 49652.009 | T44: 45497.102 | U44: 4976.967 | V44: 43469.512
C45: 37 | D45: 下水道業 | E45: F363 | F45: 千人 | G45: 32114 | H45: 48557 | I45: 40947 | J45: 14306 | K45: 17187 | L45: 41675 | N45: 20532 | R45: 903 | S45: 34014 | T45: 29724 | U45: 4655 | V45: 19161 | Y45: 21856
D46: 情報通信業大分類 | E46: G
C47: 38 | D47: 通信業 | E47: G37 | F47: 千人 | I47: 0.6342 | L47: 0.6612 | S47: 0.6342 | T47: 0.027
B48: 情報通信業 | C48: 39 | D48: 放送業 | E48: G38 | F48: 千人 | H48: 0.4442 | I48: 0.4442 | L48: 1.0752 | S48: 1.0752 | T48: 0.4442 | V48: 0.4442
C49: 40 | D49: 情報サービス業 | E49: G39 | F49: 千人 | I49: 1.5428 | L49: 3.418 | S49: 1.5428
C50: 41 | D50: インターネット付随サービス業 | E50: G40 | F50: 千人
C51: 42 | D51: 映像・音声・文字情報制作業 | E51: G41 | F51: 千人 | H51: 2.376 | I51: 0.6456 | L51: 3.0216 | M51: 3.0216 | S51: 3.0216 | T51: 2.376 | V51: 2.376
D52: 運輸業，郵便業大分類 | E52: H
B53: 運輸業， | C53: 43 | D53: 鉄道業 | E53: H42 | F53: 千人 | G53: 2.296 | H53: 7.4904 | I53: 6.7774 | J53: 2.296 | L53: 8.946 | N53: 8.629 | R53: 4.1644 | S53: 7.916 | T53: 7.599 | V53: 7.599
B54: 郵便業 | C54: 44 | D54: 道路旅客運送業 | E54: H43 | F54: 千人 | H54: 15.3838 | I54: 15.3838 | K54: 13.3176 | L54: 15.3838 | S54: 15.3838 | T54: 10.3546 | Y54: 5.6578
C55: 45 | D55: 道路貨物運送業 | E55: H44 | F55: 千人 | G55: 26.4542 | H55: 72.7766 | I55: 72.7766 | J55: 26.4542 | K55: 35.8546 | L55: 72.7766 | N55: 72.7766 | S55: 72.7766 | T55: 62.3088 | V55: 44.3618
C56: 46 | D56: 上記以外の運輸業，郵便業 | F56: 千人 | H56: 5.1548 | I56: 2.0144 | L56: 5.1548 | N56: 5.1548 | S56: 5.1548 | V56: 2.0144
D57: 卸売業，小売業大分類 | E57: I
C58: 47 | D58: 各種商品卸売業 | E58: I50 | F58: 千人 | H58: 0.1894 | I58: 0.1894 | L58: 0.1894 | N58: 0.1894 | S58: 0.1894 | T58: 0.1894 | V58: 0.1894
C59: 48 | D59: 木材・竹材卸売業 | E59: I5311 | F59: 千人 | H59: 0.49553762 | I59: 0.49553762 | J59: 0.49553762 | K59: 0.86586863 | L59: 0.86586863 | N59: 0.86586863 | R59: 0.49553762 | S59: 0.86586863 | T59: 0.86586863 | V59: 0.86586863
C60: 49 | D60: 各種商品小売業 | E60: I56 | F60: 千人 | H60: 1.6902 | I60: 1.6902 | K60: 1.2228 | L60: 1.6902 | N60: 1.2228 | S60: 1.6902 | T60: 0.4674 | V60: 0.4674
B61: 卸売業， | C61: 50 | D61: 自動車小売業 | E61: I591 | F61: 千人 | H61: 23.8778 | I61: 23.8778 | J61: 11.286 | K61: 23.8778 | L61: 23.8778 | N61: 6.6982 | R61: 6.6982 | S61: 23.8778 | T61: 19.29 | V61: 6.6982
B62: 小売業 | C62: 51 | D62: 機械器具小売業 | E62: I593 | F62: 千人 | H62: 6.2332 | I62: 6.2332 | J62: 1.8488 | K62: 6.2332 | L62: 7.8524 | N62: 4.3844 | R62: 4.3844 | S62: 7.8524 | T62: 7.8524 | V62: 7.8524
C63: 52 | D63: 家具・建具・畳小売業 | E63: I601 | F63: 千人 | I63: 0.5208 | L63: 1.1486 | N63: 0.6278 | R63: 0.6278 | S63: 0.6278 | T63: 1.1486 | V63: 0.6278
C64: 53 | D64: じゅう器小売業 | E64: I602 | F64: 千人 | L64: 0.3572
C65: 54 | D65: 燃料小売業 | E65: I605 | F65: 千人 | H65: 15.3524 | I65: 15.3524 | K65: 4.2738 | L65: 15.3524 | S65: 15.3524 | T65: 12.9826 | V65: 10.1412
C66: 55 | D66: 上記以外の卸売業，小売業 | F66: 千人 | G66: 46.669069 | H66: 259.88401 | I66: 259.88401 | J66: 119.85033 | K66: 259.88401 | L66: 259.88401 | N66: 259.88401 | R66: 213.21494 | S66: 259.88401 | T66: 259.88401 | V66: 259.88401
B67: 不動産業， | D67: 不動産業，物品賃貸業大分類 | E67: K
B68: 物品賃貸業 | C68: 56 | D68: 物品賃貸業 | E68: K70 | F68: 千人 | G68: 5.0828 | H68: 8.1682 | I68: 14.9388 | J68: 6.2616 | K68: 6.5468 | L68: 14.9388 | N68: 11.4142 | S68: 13.4748 | T68: 13.4748 | V68: 12.146
B69: 学術研究，専門 | D69: 学術研究，専門・技術サービス業大分類 | E69: L
B70: ・技術サービス業 | C70: 57 | D70: 学術・開発研究機関 | E70: L71 | F70: 千人 | H70: 1.1714 | I70: 1.1714 | J70: 1.1714 | K70: 0.9776 | L70: 1.1714 | N70: 1.1714 | S70: 1.1714 | T70: 0.9776 | V70: 0.9776
C71: 58 | D71: 写真業 | E71: L746 | F71: 千人 | H71: 0.3174 | J71: 0.3174 | K71: 0.3174 | L71: 0.3174 | T71: 0.3174
B72: 宿泊業，飲食 | D72: 宿泊業，飲食サービス業大分類 | E72: M
B73: サービス業 | C73: 59 | D73: 飲食店 | E73: M76 | F73: 千人 | H73: 58.3132 | I73: 58.3132 | L73: 58.3132 | S73: 58.3132 | T73: 46.0256
C74: 60 | D74: 上記以外の宿泊業，飲食サービス業 | F74: 千人 | G74: 31.3406 | H74: 38.2846 | I74: 38.2846 | L74: 38.2846 | N74: 31.3406 | S74: 38.2846 | T74: 38.2846
B75: 生活関連サー | D75: 生活関連サービス業，娯楽業大分類 | E75: N
B76: ビス業，娯楽業 | C76: 61 | D76: 洗濯業 | E76: N781 | F76: 千人 | G76: 2.0912 | H76: 11.5766 | I76: 6.6642 | J76: 6.6642 | K76: 6.6642 | L76: 11.5766 | N76: 6.8658 | S76: 7.0036 | T76: 4.9124
B77: 教育，学習支援業 | C77: 62 | D77: 教育，学習支援業 | E77: O | F77: 千人 | G77: 367.56 | H77: 1083.78 | I77: 1129.92 | J77: 1054.34 | K77: 1086.82 | L77: 1563.6 | N77: 834.26 | R77: 46.94 | S77: 1129.92 | T77: 1061.18 | U77: 178.1 | V77: 982.28
D78: 医療，福祉大分類 | E78: P
B79: 医療，福祉 | C79: 63 | D79: 医療業 | E79: P83 | F79: 千床 | G79: 73.795 | H79: 131.763 | I79: 131.763 | J79: 117.271 | K79: 117.271 | L79: 131.763 | N79: 49.16 | R79: 56.322 | S79: 131.763 | T79: 131.763 | V79: 48.417
C80: 64 | D80: 上記以外の医療，福祉 | F80: 千人 | H80: 118.0818 | I80: 109.7778 | J80: 109.7778 | K80: 62.2526 | L80: 144.0942 | S80: 118.0818 | T80: 144.0942 | V80: 70.5566
B81: 教育、学習支援業 | C81: 65 | D81: 複合サービス事業 | E81: Q | F81: 人 | G81: 51.3972 | H81: 107.4812 | I81: 106.741 | J81: 110.7744 | K81: 107.1676 | L81: 137.9666 | N81: 71.8556 | R81: 22.5972 | S81: 123.863 | T81: 93.3906 | V81: 77.9534
D82: サービス業大分類 | E82: R
B83: サービス業 | C83: 66 | D83: 自動車整備業 | E83: R891 | F83: 千人 | G83: 3.9374 | H83: 22.7134 | I83: 21.8548 | J83: 1.9024 | K83: 21.5122 | L83: 22.7134 | N83: 17.7352 | S83: 21.8548 | T83: 22.7134 | V83: 18.4364
C84: 67 | D84: と畜場 | E84: R952 | F84: 千人 | I84: 5.484
C85: 68 | D85: 上記以外のサービス業 | F85: 千人 | G85: 1242.821 | H85: 1309.865 | I85: 1309.865 | J85: 67.044 | K85: 103.0392 | L85: 1338.32 | N85: 1300.807 | R85: 37.513 | S85: 1338.32 | T85: 1338.32 | U85: 37.513 | V85: 1272.352 | Y85: 1206.8258
B86: 公務 | C86: 69 | D86: 公務 | E86: Ｓ | F86: 千人 | G86: 281.08 | H86: 593.4 | I86: 593.4 | J86: 494.14 | K86: 576.3 | L86: 593.4 | N86: 344.34 | R86: 145.8 | S86: 593.4 | T86: 593.4 | U86: 151.02 | V86: 510.62 | Y86: 151.02
D87: 合計

Sheet 表Ⅲ・9
B1: 表―Ⅲ・９ 産業廃棄物排出・処理状況一覧表（令和５年度実施値）
L2: （単位：千ｔ/年）
B3: 廃棄物名 | C3: 排出量 | D3: 直接再生利用量 | E3: 直接最終処分量 | F3: 中間処理 | J3: 再生利用量 計 | K3: 減量化量 | L3: 最終処分量 計
F4: 中間処理量 | G4: 処理残渣量 | H4: 中間処理後 再生利用量 | I4: 中間処理後 最終処分量
C5: （Ａ） | D5: （Ｂ） | E5: （Ｃ） | F5: （Ｄ） | G5: （Ｅ） | H5: （Ｆ） | I5: （Ｇ） | J5: （Ｂ）＋（Ｆ） | K5: （Ｄ）－（Ｅ） | L5: （Ｃ）＋（Ｇ）
B6: 燃 え 殻 | C6: =P8 -> 2385.7712 | D6: =Q8 -> 92.901369 | E6: =R8 -> 386.45394 | F6: =S8 -> 1906.4159 | G6: =T8 -> 1733.4184 | H6: =U8 -> 1673.7886 | I6: =V8 -> 59.629764 | J6: =W8 -> 1766.69 | ... L6: =Y8 -> 446.08371 | P6: 排出量(補正後） | Q6: 直接再生利用量 | R6: 直接最終処分量 | S6: 中間処理量 | T6: 処理残渣量 | U6: 処理後再生利用量 | V6: 処理後最終処分量 | W6: 再生利用量合計 | X6: 減量化量 | Y6: 最終処分量合計
B7: 構成比 | D7: =D6/$C6 -> 0.038939765 | E7: =E6/$C6 -> 0.16198282 | F7: =F6/$C6 -> 0.79907742 | G7: =G6/$C6 -> 0.72656521 | H7: =H6/$C6 -> 0.70157129 | I7: =I6/$C6 -> 0.024993915 | J7: =J6/$C6 -> 0.74051106 | K7: =K6/$C6 -> 0.072512208 | L7: =L6/$C6 -> 0.18697673 | O7: 廃 棄 物 名 | P7: ④+⑧+⑨ | Q7: ①：（8） | R7: ②：(11)+(14：ハ） | S7: ③：(4)+(13：ｲ) | T7: ⑤：(6)+(15) | U7: ⑥：（9）+（17） | V7: ⑦：(10)+(14：ﾆ)+(18) | W7: ⑧：(8)+(9)+(17) | X7: ④:(7)+(16) | Y7: ⑨：(11)+(14：ハ）+(10)+(14：ﾆ)+(18)
B8: 汚 泥 | C8: =P9 -> 154538.54 | D8: =Q9 -> 609.31643 | E8: =R9 -> 653.9228 | F8: =S9 -> 153275.3 | G8: =T9 -> 11946.648 | H8: =U9 -> 11106.919 | I8: =V9 -> 839.72901 | J8: =W9 -> 11716.235 | ... L8: =Y9 -> 1493.6518 | O8: 燃 え 殻 | P8: =Y37 -> 2385.7712 | Q8: =P37 -> 92.901369 | R8: =Q37 -> 386.45394 | S8: =R37 -> 1906.4159 | T8: =T37 -> 1733.4184 | U8: =U37 -> 1673.7886 | V8: =V37 -> 59.629764 | W8: =W37 -> 1766.69 | X8: =S37 -> 172.99754 | Y8: =X37 -> 446.08371
B9: 構成比 | D9: =D8/$C8 -> 0.0039428122 | E9: =E8/$C8 -> 0.0042314546 | F9: =F8/$C8 -> 0.99182573 | G9: =G8/$C8 -> 0.077305301 | H9: =H8/$C8 -> 0.071871517 | I9: =I8/$C8 -> 0.0054337839 | J9: =J8/$C8 -> 0.07581433 | K9: =K8/$C8 -> 0.91452043 | L9: =L8/$C8 -> 0.0096652385 | O9: 汚 泥 | P9: =Y38 -> 154538.54 | Q9: =P38 -> 609.31643 | R9: =Q38 -> 653.9228 | S9: =R38 -> 153275.3 | T9: =T38 -> 11946.648 | U9: =U38 -> 11106.919 | V9: =V38 -> 839.72901 | W9: =W38 -> 11716.235 | X9: =S38 -> 141328.65 | Y9: =X38 -> 1493.6518
B10: 廃 油 | C10: =P10 -> 3288.734 | D10: =Q10 -> 319.41619 | E10: =R10 -> 1.662172 | F10: =S10 -> 2967.6557 | G10: =T10 -> 1248.0965 | H10: =U10 -> 1197.8148 | I10: =V10 -> 50.281706 | J10: =W10 -> 1517.231 | ... L10: =Y10 -> 51.943878 | O10: 廃 油 | P10: =Y39 -> 3288.734 | Q10: =P39 -> 319.41619 | R10: =Q39 -> 1.662172 | S10: =R39 -> 2967.6557 | T10: =T39 -> 1248.0965 | U10: =U39 -> 1197.8148 | V10: =V39 -> 50.281706 | W10: =W39 -> 1517.231 | X10: =S39 -> 1719.5592 | Y10: =X39 -> 51.943878
B11: 構成比 | D11: =D10/$C10 -> 0.09712436 | E11: =E10/$C10 -> 0.00050541393 | F11: =F10/$C10 -> 0.90237023 | G11: =G10/$C10 -> 0.37950667 | H11: =H10/$C10 -> 0.36421759 | I11: =I10/$C10 -> 0.015289077 | J11: =J10/$C10 -> 0.46134195 | K11: =K10/$C10 -> 0.52286356 | L11: =L10/$C10 -> 0.01579449 | O11: 廃 酸 | P11: =Y40 -> 2889.3559 | Q11: =P40 -> 94.772249 | R11: =Q40 -> 0.26091192 | S11: =R40 -> 2794.3228 | T11: =T40 -> 897.398 | U11: =U40 -> 858.42675 | V11: =V40 -> 38.971252 | W11: =W40 -> 953.199 | X11: =S40 -> 1896.9248 | Y11: =X40 -> 39.232164
B12: 廃 酸 | C12: =P11 -> 2889.3559 | D12: =Q11 -> 94.772249 | E12: =R11 -> 0.26091192 | F12: =S11 -> 2794.3228 | G12: =T11 -> 897.398 | H12: =U11 -> 858.42675 | I12: =V11 -> 38.971252 | J12: =W11 -> 953.199 | ... L12: =Y11 -> 39.232164 | O12: 廃 ア ル カ リ | P12: =Y41 -> 2594.8254 | Q12: =P41 -> 45.314403 | R12: =Q41 -> 0.13820063 | S12: =R41 -> 2549.3728 | T12: =T41 -> 573.4934 | U12: =U41 -> 536.56956 | V12: =V41 -> 36.923838 | W12: =W41 -> 581.88397 | X12: =S41 -> 1975.8794 | Y12: =X41 -> 37.062039
B13: 構成比 | D13: =D12/$C12 -> 0.032800476 | E13: =E12/$C12 -> 9.0301066e-05 | F13: =F12/$C12 -> 0.96710922 | G13: =G12/$C12 -> 0.31058756 | H13: =H12/$C12 -> 0.29709969 | I13: =I12/$C12 -> 0.013487868 | J13: =J12/$C12 -> 0.32990017 | K13: =K12/$C12 -> 0.65652166 | L13: =L12/$C12 -> 0.013578169 | O13: 廃プラスチック類 | P13: =Y42 -> 7855.9534 | Q13: =P42 -> 111.66585 | R13: =Q42 -> 298.43179 | S13: =R42 -> 7445.8558 | T13: =T42 -> 5633.7493 | U13: =U42 -> 4837.8824 | V13: =V42 -> 795.8669 | W13: =W42 -> 4949.5482 | X13: =S42 -> 1812.1065 | Y13: =X42 -> 1094.2987
B14: 廃 ア ル カ リ | C14: =P12 -> 2594.8254 | D14: =Q12 -> 45.314403 | E14: =R12 -> 0.13820063 | F14: =S12 -> 2549.3728 | G14: =T12 -> 573.4934 | H14: =U12 -> 536.56956 | I14: =V12 -> 36.923838 | J14: =W12 -> 581.88397 | ... L14: =Y12 -> 37.062039 | O14: 紙 く ず | P14: =Y43 -> 819.77691 | Q14: =P43 -> 57.734806 | R14: =Q43 -> 15.866073 | S14: =R43 -> 746.17603 | T14: =T43 -> 637.85725 | U14: =U43 -> 613.15532 | V14: =V43 -> 24.701931 | W14: =W43 -> 670.89012 | X14: =S43 -> 108.31879 | Y14: =X43 -> 40.568004
B15: 構成比 | D15: =D14/$C14 -> 0.017463373 | E15: =E14/$C14 -> 5.326009e-05 | F15: =F14/$C14 -> 0.98248337 | G15: =G14/$C14 -> 0.22101425 | H15: =H14/$C14 -> 0.20678446 | I15: =I14/$C14 -> 0.014229797 | J15: =J14/$C14 -> 0.22424783 | K15: =K14/$C14 -> 0.76146911 | L15: =L14/$C14 -> 0.014283057 | O15: 木 く ず | P15: =Y44 -> 8225.5731 | Q15: =P44 -> 97.156615 | R15: =Q44 -> 60.218767 | S15: =R44 -> 8068.1977 | T15: =T44 -> 7002.2253 | U15: =U44 -> 6846.3494 | V15: =V44 -> 155.87583 | W15: =W44 -> 6943.506 | X15: =S44 -> 1065.9724 | Y15: =X44 -> 216.0946
B16: 廃プラスチック類 | C16: =P13 -> 7855.9534 | D16: =Q13 -> 111.66585 | E16: =R13 -> 298.43179 | F16: =S13 -> 7445.8558 | G16: =T13 -> 5633.7493 | H16: =U13 -> 4837.8824 | I16: =V13 -> 795.8669 | J16: =W13 -> 4949.5482 | ... L16: =Y13 -> 1094.2987 | O16: 繊 維 く ず | P16: =Y45 -> 89.800128 | Q16: =P45 -> 1.2158896 | R16: =Q45 -> 2.0824526 | S16: =R45 -> 86.501786 | T16: =T45 -> 58.446515 | U16: =U45 -> 49.059694 | V16: =V45 -> 9.3868219 | W16: =W45 -> 50.275583 | X16: =S45 -> 28.05527 | Y16: =X45 -> 11.469274
B17: 構成比 | D17: =D16/$C16 -> 0.014214169 | E17: =E16/$C16 -> 0.037987979 | F17: =F16/$C16 -> 0.94779785 | G17: =G16/$C16 -> 0.7171312 | H17: =H16/$C16 -> 0.61582371 | I17: =I16/$C16 -> 0.10130749 | J17: =J16/$C16 -> 0.63003788 | K17: =K16/$C16 -> 0.23066666 | L17: =L16/$C16 -> 0.13929547 | O17: 動植物性残渣 | P17: =Y46 -> 2221.9475 | Q17: =P46 -> 208.19778 | R17: =Q46 -> 11.215375 | S17: =R46 -> 2002.5343 | T17: =T46 -> 1248.3055 | U17: =U46 -> 1212.8454 | V17: =V46 -> 35.460174 | W17: =W46 -> 1421.0432 | X17: =S46 -> 754.22877 | Y17: =X46 -> 46.675549
B18: 紙 く ず | C18: =P14 -> 819.77691 | D18: =Q14 -> 57.734806 | E18: =R14 -> 15.866073 | F18: =S14 -> 746.17603 | G18: =T14 -> 637.85725 | H18: =U14 -> 613.15532 | I18: =V14 -> 24.701931 | J18: =W14 -> 670.89012 | ... L18: =Y14 -> 40.568004 | O18: 動物系固形不要物 | P18: =Y47 -> 82.462869 | Q18: =P47 -> 21.237212 | R18: =Q47 -> 0 | S18: =R47 -> 61.225656 | T18: =T47 -> 50.345857 | U18: =U47 -> 49.119421 | V18: =V47 -> 1.2264357 | W18: =W47 -> 70.356633 | X18: =S47 -> 10.8798 | Y18: =X47 -> 1.2264357
B19: 構成比 | D19: =D18/$C18 -> 0.07042746 | E19: =E18/$C18 -> 0.019354135 | F19: =F18/$C18 -> 0.9102184 | G19: =G18/$C18 -> 0.77808637 | H19: =H18/$C18 -> 0.74795387 | I19: =I18/$C18 -> 0.030132504 | J19: =J18/$C18 -> 0.81838133 | K19: =K18/$C18 -> 0.13213203 | L19: =L18/$C18 -> 0.049486638 | O19: ゴ ム く ず | P19: =Y48 -> 31.890783 | Q19: =P48 -> 1.1697181 | R19: =Q48 -> 0.55003912 | S19: =R48 -> 30.171025 | T19: =T48 -> 26.460953 | U19: =U48 -> 18.8862 | V19: =V48 -> 7.5747533 | W19: =W48 -> 20.055918 | X19: =S48 -> 3.7100726 | Y19: =X48 -> 8.1247924
B20: 木 く ず | C20: =P15 -> 8225.5731 | D20: =Q15 -> 97.156615 | E20: =R15 -> 60.218767 | F20: =S15 -> 8068.1977 | G20: =T15 -> 7002.2253 | H20: =U15 -> 6846.3494 | I20: =V15 -> 155.87583 | J20: =W15 -> 6943.506 | ... L20: =Y15 -> 216.0946 | O20: 金 属 く ず | P20: =Y49 -> 6944.483 | Q20: =P49 -> 3066.2761 | R20: =Q49 -> 59.166172 | S20: =R49 -> 3819.0407 | T20: =T49 -> 3705.4379 | U20: =U49 -> 3557.8496 | V20: =V49 -> 147.58827 | W20: =W49 -> 6624.1257 | X20: =S49 -> 113.60285 | Y20: =X49 -> 206.75444
B21: 構成比 | D21: =D20/$C20 -> 0.011811531 | E21: =E20/$C20 -> 0.0073209206 | F21: =F20/$C20 -> 0.98086755 | G21: =G20/$C20 -> 0.85127507 | H21: =H20/$C20 -> 0.83232492 | I21: =I20/$C20 -> 0.018950148 | J21: =J20/$C20 -> 0.84413645 | K21: =K20/$C20 -> 0.12959248 | L21: =L20/$C20 -> 0.026271069 | O21: ガラスくず、コンクリート及び陶磁器くず | P21: =Y50 -> 8345.7385 | Q21: =P50 -> 202.86315 | R21: =Q50 -> 484.14771 | S21: =R50 -> 7658.7276 | T21: =T50 -> 7079.5847 | U21: =U50 -> 6458.3271 | V21: =V50 -> 621.25768 | W21: =W50 -> 6661.1902 | X21: =S50 -> 579.14284 | Y21: =X50 -> 1105.4054
B22: 繊 維 く ず | C22: =P16 -> 89.800128 | D22: =Q16 -> 1.2158896 | E22: =R16 -> 2.0824526 | F22: =S16 -> 86.501786 | G22: =T16 -> 58.446515 | H22: =U16 -> 49.059694 | I22: =V16 -> 9.3868219 | J22: =W16 -> 50.275583 | ... L22: =Y16 -> 11.469274 | O22: 鉱 さ い | P22: =Y51 -> 11126.085 | Q22: =P51 -> 1783.1292 | R22: =Q51 -> 610.1782 | S22: =R51 -> 8732.7772 | T22: =T51 -> 8524.4838 | U22: =U51 -> 8368.9202 | V22: =V51 -> 155.56359 | W22: =W51 -> 10152.049 | X22: =S51 -> 208.29337 | Y22: =X51 -> 765.74179
B23: 構成比 | D23: =D22/$C22 -> 0.013539954 | E23: =E22/$C22 -> 0.023189862 | F23: =F22/$C22 -> 0.96327018 | G23: =G22/$C22 -> 0.65085114 | H23: =H22/$C22 -> 0.54632098 | I23: =I22/$C22 -> 0.10453016 | J23: =J22/$C22 -> 0.55986093 | K23: =K22/$C22 -> 0.31241905 | L23: =L22/$C22 -> 0.12772002 | O23: がれき類 | P23: =Y52 -> 60680.354 | Q23: =P52 -> 584.20041 | R23: =Q52 -> 813.38042 | S23: =R52 -> 59282.773 | T23: =T52 -> 58405.845 | U23: =U52 -> 57606.024 | V23: =V52 -> 799.82142 | W23: =W52 -> 58190.224 | X23: =S52 -> 876.92784 | Y23: =X52 -> 1613.2018
B24: 動植物性残渣 | C24: =P17 -> 2221.9475 | D24: =Q17 -> 208.19778 | E24: =R17 -> 11.215375 | F24: =S17 -> 2002.5343 | G24: =T17 -> 1248.3055 | H24: =U17 -> 1212.8454 | I24: =V17 -> 35.460174 | J24: =W17 -> 1421.0432 | ... L24: =Y17 -> 46.675549 | O24: 動物のふん尿 | P24: =Y53 -> 80363.101 | Q24: =P53 -> 65777.823 | R24: =Q53 -> 0.42897557 | S24: =R53 -> 14584.849 | T24: =T53 -> 10537.444 | U24: =U53 -> 10492.916 | V24: =V53 -> 44.527591 | W24: =W53 -> 76270.739 | X24: =S53 -> 4047.4054 | Y24: =X53 -> 44.956566
B25: 構成比 | D25: =D24/$C24 -> 0.093700587 | E25: =E24/$C24 -> 0.0050475427 | F25: =F24/$C24 -> 0.90125187 | G25: =G24/$C24 -> 0.56180696 | H25: =H24/$C24 -> 0.5458479 | I25: =I24/$C24 -> 0.015959051 | J25: =J24/$C24 -> 0.63954849 | K25: =K24/$C24 -> 0.33944491 | L25: =L24/$C24 -> 0.021006594 | O25: 動物の死体 | P25: =Y54 -> 135.2043 | Q25: =P54 -> 4.8311412 | R25: =Q54 -> 0.6692467 | S25: =R54 -> 129.70391 | T25: =T54 -> 91.153506 | U25: =U54 -> 84.925468 | V25: =V54 -> 6.2280381 | W25: =W54 -> 89.756609 | X25: =S54 -> 38.550405 | Y25: =X54 -> 6.8972848
B26: 動物系固形不要物 | C26: =P18 -> 82.462869 | D26: =Q18 -> 21.237212 | E26: =R18 -> 0 | F26: =S18 -> 61.225656 | G26: =T18 -> 50.345857 | H26: =U18 -> 49.119421 | I26: =V18 -> 1.2264357 | J26: =W18 -> 70.356633 | ... L26: =Y18 -> 1.2264357 | O26: ば い じ ん | P26: =Y55 -> 14630.013 | Q26: =P55 -> 2179.2899 | R26: =Q55 -> 1296.3878 | S26: =R55 -> 11154.336 | T26: =T55 -> 10180.302 | U26: =U55 -> 9959.9782 | V26: =V55 -> 220.32402 | W26: =W55 -> 12139.268 | X26: =S55 -> 974.03333 | Y26: =X55 -> 1516.7118
B27: 構成比 | D27: =D26/$C26 -> 0.25753667 | E27: =E26/$C26 -> 0 | F27: =F26/$C26 -> 0.74246333 | G27: =G26/$C26 -> 0.61052759 | H27: =H26/$C26 -> 0.59565501 | I27: =I26/$C26 -> 0.014872581 | J27: =J26/$C26 -> 0.85319168 | K27: =K26/$C26 -> 0.13193574 | L27: =L26/$C26 -> 0.014872581 | O27: 合計値 | P27: =Y56 -> 367249.61 | Q27: =P56 -> 75258.512 | R27: =Q56 -> 4695.1611 | S27: =R56 -> 287295.93 | T27: =T56 -> 129580.7 | U27: =U56 -> 125529.76 | V27: =V56 -> 4050.939 | W27: =W56 -> 200788.27 | X27: =S56 -> 157715.24 | Y27: =X56 -> 8746.1001
B28: ゴ ム く ず | C28: =P19 -> 31.890783 | D28: =Q19 -> 1.1697181 | E28: =R19 -> 0.55003912 | F28: =S19 -> 30.171025 | G28: =T19 -> 26.460953 | H28: =U19 -> 18.8862 | I28: =V19 -> 7.5747533 | J28: =W19 -> 20.055918 | ... L28: =Y19 -> 8.1247924
B29: 構成比 | D29: =D28/$C28 -> 0.036678877 | E29: =E28/$C28 -> 0.017247589 | F29: =F28/$C28 -> 0.94607353 | G29: =G28/$C28 -> 0.8297367 | H29: =H28/$C28 -> 0.59221499 | I29: =I28/$C28 -> 0.23752171 | J29: =J28/$C28 -> 0.62889387 | K29: =K28/$C28 -> 0.11633683 | L29: =L28/$C28 -> 0.2547693
B30: 金 属 く ず | C30: =P20 -> 6944.483 | D30: =Q20 -> 3066.2761 | E30: =R20 -> 59.166172 | F30: =S20 -> 3819.0407 | G30: =T20 -> 3705.4379 | H30: =U20 -> 3557.8496 | I30: =V20 -> 147.58827 | J30: =W20 -> 6624.1257 | ... L30: =Y20 -> 206.75444
B31: 構成比 | D31: =D30/$C30 -> 0.44154131 | E31: =E30/$C30 -> 0.0085198814 | F31: =F30/$C30 -> 0.54993881 | G31: =G30/$C30 -> 0.53358009 | H31: =H30/$C30 -> 0.5123275 | I31: =I30/$C30 -> 0.021252592 | J31: =J30/$C30 -> 0.95386881 | K31: =K30/$C30 -> 0.016358719 | L31: =L30/$C30 -> 0.029772474
B32: ガラスくず、コンクリートくず 及び陶磁器くず | C32: =P21 -> 8345.7385 | D32: =Q21 -> 202.86315 | E32: =R21 -> 484.14771 | F32: =S21 -> 7658.7276 | G32: =T21 -> 7079.5847 | H32: =U21 -> 6458.3271 | I32: =V21 -> 621.25768 | J32: =W21 -> 6661.1902 | ... L32: =Y21 -> 1105.4054
B33: 構成比 | D33: =D32/$C32 -> 0.024307394 | E33: =E32/$C32 -> 0.058011369 | F33: =F32/$C32 -> 0.91768124 | G33: =G32/$C32 -> 0.8482874 | H33: =H32/$C32 -> 0.77384729 | I33: =I32/$C32 -> 0.074440109 | J33: =J32/$C32 -> 0.79815468 | K33: =K32/$C32 -> 0.06939384 | L33: =L32/$C32 -> 0.13245148
B34: 鉱 さ い | C34: =P22 -> 11126.085 | D34: =Q22 -> 1783.1292 | E34: =R22 -> 610.1782 | F34: =S22 -> 8732.7772 | G34: =T22 -> 8524.4838 | H34: =U22 -> 8368.9202 | I34: =V22 -> 155.56359 | J34: =W22 -> 10152.049 | ... L34: =Y22 -> 765.74179
B35: 構成比 | D35: =D34/$C34 -> 0.16026565 | E35: =E34/$C34 -> 0.054842132 | F35: =F34/$C34 -> 0.78489221 | G35: =G34/$C34 -> 0.76617104 | H35: =H34/$C34 -> 0.75218916 | I35: =I34/$C34 -> 0.013981881 | J35: =J34/$C34 -> 0.91245481 | K35: =K34/$C34 -> 0.018721174 | L35: =L34/$C34 -> 0.068824013 | P35: 直接再生利用量 | Q35: 直接最終処分量 | R35: 中間処理量 | S35: 減量化量 | T35: 処理残渣量 | U35: 処理後再生利用量 | V35: 処理後最終処分量 | W35: 再生利用量合計 | X35: 最終処分量合計 | Y35: 排出量(補正後） | Z35: 再生 | AA35: 減量化 | AB35: 最終
B36: がれき類 | C36: =P23 -> 60680.354 | D36: =Q23 -> 584.20041 | E36: =R23 -> 813.38042 | F36: =S23 -> 59282.773 | G36: =T23 -> 58405.845 | H36: =U23 -> 57606.024 | I36: =V23 -> 799.82142 | J36: =W23 -> 58190.224 | ... L36: =Y23 -> 1613.2018 | O36: 廃 棄 物 名 | P36: ①：（8） | Q36: ②：(11)+(14：ハ） | R36: ③：(4)+(13：ｲ) | S36: ④:(7)+(16) | T36: ⑤：(6)+(15) | U36: ⑥：（9）+（17） | V36: ⑦：(10)+(14：ﾆ)+(18) | W36: ⑧：(8)+(9)+(17) | X36: ⑨：(11)+(14：ハ）+(10)+(14：ﾆ)+(18) | Y36: ④+⑧+⑨
B37: 構成比 | D37: =D36/$C36 -> 0.0096275049 | E37: =E36/$C36 -> 0.013404345 | F37: =F36/$C36 -> 0.97696815 | G37: =G36/$C36 -> 0.96251656 | H37: =H36/$C36 -> 0.94933566 | I37: =I36/$C36 -> 0.013180896 | J37: =J36/$C36 -> 0.95896317 | K37: =K36/$C36 -> 0.014451594 | L37: =L36/$C36 -> 0.026585241 | O37: 燃 え 殻 | P37: 92.901369 | Q37: 386.45394 | R37: 1906.4159 | S37: 172.99754 | T37: 1733.4184 | U37: 1673.7886 | V37: 59.629764 | W37: 1766.69 | X37: 446.08371 | Y37: 2385.7712 | Z37: =W37 -> 1766.69 | AA37: =S37 -> 172.99754 | AB37: =X37 -> 446.08371
B38: 動物のふん尿 | C38: =P24 -> 80363.101 | D38: =Q24 -> 65777.823 | E38: =R24 -> 0.42897557 | F38: =S24 -> 14584.849 | G38: =T24 -> 10537.444 | H38: =U24 -> 10492.916 | I38: =V24 -> 44.527591 | J38: =W24 -> 76270.739 | ... L38: =Y24 -> 44.956566 | O38: 汚 泥 | P38: 609.31643 | Q38: 653.9228 | R38: 153275.3 | S38: 141328.65 | T38: 11946.648 | U38: 11106.919 | V38: 839.72901 | W38: 11716.235 | X38: 1493.6518 | Y38: 154538.54 | Z38: =W38 -> 11716.235 | AA38: =S38 -> 141328.65 | AB38: =X38 -> 1493.6518
B39: 構成比 | D39: =D38/$C38 -> 0.81850777 | E39: =E38/$C38 -> 5.3379668e-06 | F39: =F38/$C38 -> 0.18148689 | G39: =G38/$C38 -> 0.13112291 | H39: =H38/$C38 -> 0.13056883 | I39: =I38/$C38 -> 0.00055408004 | J39: =J38/$C38 -> 0.9490766 | K39: =K38/$C38 -> 0.050363978 | L39: =L38/$C38 -> 0.00055941801 | O39: 廃 油 | P39: 319.41619 | Q39: 1.662172 | R39: 2967.6557 | S39: 1719.5592 | T39: 1248.0965 | U39: 1197.8148 | V39: 50.281706 | W39: 1517.231 | X39: 51.943878 | Y39: 3288.734 | Z39: =W39 -> 1517.231 | AA39: =S39 -> 1719.5592 | AB39: =X39 -> 51.943878
B40: 動物の死体 | C40: =P25 -> 135.2043 | D40: =Q25 -> 4.8311412 | E40: =R25 -> 0.6692467 | F40: =S25 -> 129.70391 | G40: =T25 -> 91.153506 | H40: =U25 -> 84.925468 | I40: =V25 -> 6.2280381 | J40: =W25 -> 89.756609 | ... L40: =Y25 -> 6.8972848 | O40: 廃 酸 | P40: 94.772249 | Q40: 0.26091192 | R40: 2794.3228 | S40: 1896.9248 | T40: 897.398 | U40: 858.42675 | V40: 38.971252 | W40: 953.199 | X40: 39.232164 | Y40: 2889.3559 | Z40: =W40 -> 953.199 | AA40: =S40 -> 1896.9248 | AB40: =X40 -> 39.232164
B41: 構成比 | D41: =D40/$C40 -> 0.035732157 | E41: =E40/$C40 -> 0.0049498922 | F41: =F40/$C40 -> 0.95931795 | G41: =G40/$C40 -> 0.67419088 | H41: =H40/$C40 -> 0.62812698 | I41: =I40/$C40 -> 0.046063906 | J41: =J40/$C40 -> 0.66385913 | K41: =K40/$C40 -> 0.28512707 | L41: =L40/$C40 -> 0.051013798 | O41: 廃 ア ル カ リ | P41: 45.314403 | Q41: 0.13820063 | R41: 2549.3728 | S41: 1975.8794 | T41: 573.4934 | U41: 536.56956 | V41: 36.923838 | W41: 581.88397 | X41: 37.062039 | Y41: 2594.8254 | Z41: =W41 -> 581.88397 | AA41: =S41 -> 1975.8794 | AB41: =X41 -> 37.062039
B42: ば い じ ん | C42: =P26 -> 14630.013 | D42: =Q26 -> 2179.2899 | E42: =R26 -> 1296.3878 | F42: =S26 -> 11154.336 | G42: =T26 -> 10180.302 | H42: =U26 -> 9959.9782 | I42: =V26 -> 220.32402 | J42: =W26 -> 12139.268 | ... L42: =Y26 -> 1516.7118 | O42: 廃プラスチック類 | P42: 111.66585 | Q42: 298.43179 | R42: 7445.8558 | S42: 1812.1065 | T42: 5633.7493 | U42: 4837.8824 | V42: 795.8669 | W42: 4949.5482 | X42: 1094.2987 | Y42: 7855.9534 | Z42: =W42 -> 4949.5482 | AA42: =S42 -> 1812.1065 | AB42: =X42 -> 1094.2987
B43: 構成比 | D43: =D42/$C42 -> 0.14896021 | E43: =E42/$C42 -> 0.088611527 | F43: =F42/$C42 -> 0.76242826 | G43: =G42/$C42 -> 0.69585051 | H43: =H42/$C42 -> 0.68079079 | I43: =I42/$C42 -> 0.015059728 | J43: =J42/$C42 -> 0.829751 | K43: =K42/$C42 -> 0.066577748 | L43: =L42/$C42 -> 0.10367125 | O43: 紙 く ず | P43: 57.734806 | Q43: 15.866073 | R43: 746.17603 | S43: 108.31879 | T43: 637.85725 | U43: 613.15532 | V43: 24.701931 | W43: 670.89012 | X43: 40.568004 | Y43: 819.77691 | Z43: =W43 -> 670.89012 | AA43: =S43 -> 108.31879 | AB43: =X43 -> 40.568004
B44: 合計 | C44: =P27 -> 367249.61 | D44: =Q27 -> 75258.512 | E44: =R27 -> 4695.1611 | F44: =S27 -> 287295.93 | G44: =T27 -> 129580.7 | H44: =U27 -> 125529.76 | I44: =V27 -> 4050.939 | J44: =W27 -> 200788.27 | ... L44: =Y27 -> 8746.1001 | O44: 木 く ず | P44: 97.156615 | Q44: 60.218767 | R44: 8068.1977 | S44: 1065.9724 | T44: 7002.2253 | U44: 6846.3494 | V44: 155.87583 | W44: 6943.506 | X44: 216.0946 | Y44: 8225.5731 | Z44: =W44 -> 6943.506 | AA44: =S44 -> 1065.9724 | AB44: =X44 -> 216.0946
B45: 構成比 | D45: =D44/$C44 -> 0.20492469 | E45: =E44/$C44 -> 0.012784659 | F45: =F44/$C44 -> 0.78229065 | G45: =G44/$C44 -> 0.35284094 | H45: =H44/$C44 -> 0.34181046 | I45: =I44/$C44 -> 0.011030479 | J45: =J44/$C44 -> 0.54673515 | K45: =K44/$C44 -> 0.42944971 | L45: =L44/$C44 -> 0.023815138 | O45: 繊 維 く ず | P45: 1.2158896 | Q45: 2.0824526 | R45: 86.501786 | S45: 28.05527 | T45: 58.446515 | U45: 49.059694 | V45: 9.3868219 | W45: 50.275583 | X45: 11.469274 | Y45: 89.800128 | Z45: =W45 -> 50.275583 | AA45: =S45 -> 28.05527 | AB45: =X45 -> 11.469274
B46: ※各産業廃棄物の量は、四捨五入しているため合算した値は合計値と異なる場合がある。 | O46: 動植物性残渣 | P46: 208.19778 | Q46: 11.215375 | R46: 2002.5343 | S46: 754.22877 | T46: 1248.3055 | U46: 1212.8454 | V46: 35.460174 | W46: 1421.0432 | X46: 46.675549 | Y46: 2221.9475 | Z46: =W46 -> 1421.0432 | AA46: =S46 -> 754.22877 | AB46: =X46 -> 46.675549
B47: ※動物の死体の原単位については令和３年度農業保険制度家畜共済統計表（農林水産省）の動物の死亡率を用いて推計した。 | O47: 動物系固形不要物 | P47: 21.237212 | Q47: 0 | R47: 61.225656 | S47: 10.8798 | T47: 50.345857 | U47: 49.119421 | V47: 1.2264357 | W47: 70.356633 | X47: 1.2264357 | Y47: 82.462869 | Z47: =W47 -> 70.356633 | AA47: =S47 -> 10.8798 | AB47: =X47 -> 1.2264357
O48: ゴ ム く ず | P48: 1.1697181 | Q48: 0.55003912 | R48: 30.171025 | S48: 3.7100726 | T48: 26.460953 | U48: 18.8862 | V48: 7.5747533 | W48: 20.055918 | X48: 8.1247924 | Y48: 31.890783 | Z48: =W48 -> 20.055918 | AA48: =S48 -> 3.7100726 | AB48: =X48 -> 8.1247924
O49: 金 属 く ず | P49: 3066.2761 | Q49: 59.166172 | R49: 3819.0407 | S49: 113.60285 | T49: 3705.4379 | U49: 3557.8496 | V49: 147.58827 | W49: 6624.1257 | X49: 206.75444 | Y49: 6944.483 | Z49: =W49 -> 6624.1257 | AA49: =S49 -> 113.60285 | AB49: =X49 -> 206.75444
O50: ガラスくず、コンクリート及び陶磁器くず | P50: 202.86315 | Q50: 484.14771 | R50: 7658.7276 | S50: 579.14284 | T50: 7079.5847 | U50: 6458.3271 | V50: 621.25768 | W50: 6661.1902 | X50: 1105.4054 | Y50: 8345.7385 | Z50: =W50 -> 6661.1902 | AA50: =S50 -> 579.14284 | AB50: =X50 -> 1105.4054
O51: 鉱 さ い | P51: 1783.1292 | Q51: 610.1782 | R51: 8732.7772 | S51: 208.29337 | T51: 8524.4838 | U51: 8368.9202 | V51: 155.56359 | W51: 10152.049 | X51: 765.74179 | Y51: 11126.085 | Z51: =W51 -> 10152.049 | AA51: =S51 -> 208.29337 | AB51: =X51 -> 765.74179
O52: がれき類 | P52: 584.20041 | Q52: 813.38042 | R52: 59282.773 | S52: 876.92784 | T52: 58405.845 | U52: 57606.024 | V52: 799.82142 | W52: 58190.224 | X52: 1613.2018 | Y52: 60680.354 | Z52: =W52 -> 58190.224 | AA52: =S52 -> 876.92784 | AB52: =X52 -> 1613.2018
O53: 動物のふん尿 | P53: 65777.823 | Q53: 0.42897557 | R53: 14584.849 | S53: 4047.4054 | T53: 10537.444 | U53: 10492.916 | V53: 44.527591 | W53: 76270.739 | X53: 44.956566 | Y53: 80363.101 | Z53: =W53 -> 76270.739 | AA53: =S53 -> 4047.4054 | AB53: =X53 -> 44.956566
O54: 動物の死体 | P54: 4.8311412 | Q54: 0.6692467 | R54: 129.70391 | S54: 38.550405 | T54: 91.153506 | U54: 84.925468 | V54: 6.2280381 | W54: 89.756609 | X54: 6.8972848 | Y54: 135.2043 | Z54: =W54 -> 89.756609 | AA54: =S54 -> 38.550405 | AB54: =X54 -> 6.8972848
O55: ば い じ ん | P55: 2179.2899 | Q55: 1296.3878 | R55: 11154.336 | S55: 974.03333 | T55: 10180.302 | U55: 9959.9782 | V55: 220.32402 | W55: 12139.268 | X55: 1516.7118 | Y55: 14630.013 | Z55: =W55 -> 12139.268 | AA55: =S55 -> 974.03333 | AB55: =X55 -> 1516.7118
O56: 合計値 | P56: 75258.512 | Q56: 4695.1611 | R56: 287295.93 | S56: 157715.24 | T56: 129580.7 | U56: 125529.76 | V56: 4050.939 | W56: 200788.27 | X56: 8746.1001 | Y56: 367249.61 | Z56: =W56 -> 200788.27 | AA56: =S56 -> 157715.24 | AB56: =X56 -> 8746.1001

Sheet 表Ⅲ・1
B1: 表―Ⅲ・１ 都道府県実態調査の実施状況（令和５年度）
C2: 報告書P２２で利用
B6: №都道府県 | D6: 調査年度
D7: 平成20年度 | E7: 平成21年度 | F7: 平成22年度 | G7: 平成23年度 | H7: 平成24年度 | I7: 平成25年度 | J7: 平成26年度 | K7: 平成27年度 | L7: 平成28年度 | M7: 平成29年度 | N7: 平成30年度 | O7: 令和元年度 | P7: 令和２年度 | Q7: 令和３年度 | R7: 令和４年度 | S7: 令和５年度
B8: 1 | C8: 北海道 | D8: ○ | H8: ○ | I8: ○ | J8: ○ | K8: ○ | L8: ○ | M8: ○ | N8: ○ | P8: ○※ | Q8: ▲
B9: 2 | C9: 青森県 | D9: ○ | I9: ○ | N9: ○※ | S9: ▲
B10: 3 | C10: 岩手県 | D10: ○ | E10: ○ | F10: ○ | G10: ○ | H10: ○ | I10: ○ | J10: ○ | K10: ○ | L10: ○ | M10: ○ | N10: ○ | O10: ○ | P10: ○ | Q10: ○ | R10: ○※ | S10: ▲
B11: 4 | C11: 宮城県 | D11: ○ | E11: ○ | F11: ○ | G11: ○ | H11: ○ | I11: ○ | J11: ○ | K11: ○ | L11: ○ | M11: ○ | N11: ○ | O11: ○ | P11: ○ | Q11: ○ | R11: ○※ | S11: ▲
B12: 5 | C12: 秋田県 | D12: ○ | E12: ○ | F12: ○ | G12: ○ | H12: ○ | I12: ○ | J12: ○ | K12: ○ | L12: ○ | M12: ○ | N12: ○ | O12: ○ | P12: ○ | Q12: ○ | R12: ○※ | S12: ▲
B13: 6 | C13: 山形県 | D13: ○ | E13: ○ | J13: ○ | N13: ○※ | S13: ▲
B14: 7 | C14: 福島県 | D14: ○ | E14: ○ | F14: ○ | G14: ○ | H14: ○ | I14: ○ | J14: ○ | K14: ○ | L14: ○ | M14: ○ | N14: ○ | O14: ○ | P14: ○ | Q14: ○ | R14: ○※ | S14: ▲
B15: 8 | C15: 茨城県 | D15: ○ | I15: ○ | M15: ○ | N15: ○※ | S15: ▲
B16: 9 | C16: 栃木県 | D16: ○ | E16: ○ | F16: ○ | G16: ○ | H16: ○ | I16: ○ | J16: ○ | K16: ○ | L16: ○ | M16: ○ | N16: ○ | O16: ○ | P16: ○ | Q16: ○ | R16: ○※ | S16: ▲
B17: 10 | C17: 群馬県 | D17: ○ | E17: ○ | F17: ○ | G17: ○ | H17: ○ | I17: ○ | J17: ○ | K17: ○ | L17: ○ | M17: ○ | N17: ○ | O17: ○ | P17: ○ | Q17: ○ | R17: ○※ | S17: ▲
B18: 11 | C18: 埼玉県 | D18: ○ | F18: ○ | G18: ○ | H18: ○ | I18: ○ | J18: ○ | K18: ○ | M18: ○ | N18: ○ | O18: ○ | P18: ○ | Q18: ○ | R18: ○※ | S18: ▲
B19: 12 | C19: 千葉県 | D19: ○ | E19: ○ | F19: ○ | G19: ○ | H19: ○ | I19: ○ | J19: ○ | K19: ○ | L19: ○ | M19: ○ | N19: ○ | O19: ○※ | P19: ○ | Q19: ○ | R19: ○ | S19: ▲
B20: 13 | C20: 東京都 | D20: ○ | E20: ○ | F20: ○ | G20: ○ | H20: ○ | I20: ○ | J20: ○ | K20: ○ | L20: ○ | M20: ○ | N20: ○ | O20: ○ | P20: ○ | Q20: ○ | R20: ○※ | S20: ▲
B21: 14 | C21: 神奈川県 | D21: ○ | E21: ○ | F21: ○ | G21: ○ | H21: ○ | I21: ○ | J21: ○ | K21: ○ | L21: ○ | M21: ○ | N21: ○ | O21: ○ | P21: ○ | Q21: ○ | R21: ○※ | S21: ▲
B22: 15 | C22: 新潟県 | D22: ○ | I22: ○ | N22: ○※ | S22: ▲
B23: 16 | C23: 富山県 | D23: ○ | E23: ○ | F23: ○ | G23: ○ | H23: ○ | I23: ○ | J23: ○ | K23: ○ | L23: ○ | M23: ○ | N23: ○ | O23: ○ | P23: ○ | Q23: ○ | R23: ○※ | S23: ▲
B24: 17 | C24: 石川県 | D24: ○ | E24: ○ | F24: ○ | G24: ○ | H24: ○ | I24: ○ | J24: ○ | K24: ○ | L24: ○ | M24: ○ | N24: ○ | O24: ○ | P24: ○ | Q24: ○ | R24: ○※ | S24: ▲
B25: 18 | C25: 福井県 | D25: ○ | I25: ○ | N25: ○※ | S25: ▲
B26: 19 | C26: 山梨県 | D26: ○ | E26: ○ | F26: ○ | G26: ○ | H26: ○ | I26: ○ | J26: ○ | K26: ○ | L26: ○ | M26: ○ | N26: ○ | O26: ○※ | S26: ▲
B27: 20 | C27: 長野県 | D27: ○ | I27: ○ | N27: ○※ | S27: ▲
B28: 21 | C28: 岐阜県 | D28: ○ | J28: ○ | N28: ○※ | S28: ▲
B29: 22 | C29: 静岡県 | D29: ○ | E29: ○ | F29: ○ | H29: ○ | I29: ○ | J29: ○ | K29: ○ | L29: ○ | M29: ○ | N29: ○ | O29: ○ | P29: ○ | Q29: ○ | R29: ○※ | S29: ▲
B30: 23 | C30: 愛知県 | D30: ○ | E30: ○ | F30: ○ | H30: ○ | I30: ○ | J30: ○ | K30: ○ | L30: ○ | M30: ○ | N30: ○ | O30: ○ | P30: ○ | Q30: ○ | R30: ○※ | S30: ▲
B31: 24 | C31: 三重県 | D31: ○ | H31: ○ | I31: ○ | J31: ○ | K31: ○ | L31: ○ | M31: ○ | N31: ○ | O31: ○ | P31: ○ | Q31: ○ | R31: ○※ | S31: ▲
B32: 25 | C32: 滋賀県 | D32: ○ | E32: ○ | F32: ○ | G32: ○ | H32: ○ | I32: ○ | J32: ○ | K32: ○ | L32: ○ | M32: ○ | N32: ○ | O32: ○ | P32: ○ | Q32: ○ | R32: ○※ | S32: ▲
B33: 26 | C33: 京都府 | D33: ○ | F33: ○ | K33: ▲
B34: 27 | C34: 大阪府 | D34: ○ | F34: ○ | J34: ○ | O34: ▲
B35: 28 | C35: 兵庫県 | D35: ○ | K35: ○ | P35: ▲
B36: 29 | C36: 奈良県 | D36: ○ | F36: ○ | K36: ○※ | P36: ▲
B37: 30 | C37: 和歌山県 | D37: ○ | E37: ○ | F37: ○ | G37: ○ | H37: ○ | I37: ○ | J37: ○ | K37: ○ | L37: ○ | M37: ○ | N37: ○ | O37: ○ | P37: ○ | Q37: ○ | R37: ○※ | S37: ▲
B38: 31 | C38: 鳥取県 | E38: ○ | F38: ○ | G38: ○ | H38: ○ | I38: ○ | J38: ○ | K38: ○ | L38: ○ | M38: ○ | N38: ○ | O38: ○ | P38: ○ | Q38: ○ | R38: ○※ | S38: ▲
B39: 32 | C39: 島根県 | D39: ○ | I39: ○ | N39: ○※ | S39: ▲
B40: 33 | C40: 岡山県 | D40: ○ | E40: ○ | F40: ○ | G40: ○ | H40: ○ | I40: ○ | J40: ○ | K40: ○ | L40: ○ | M40: ○ | N40: ○ | O40: ○ | P40: ○ | Q40: ○ | R40: ○※ | S40: ▲
B41: 34 | C41: 広島県 | D41: ○ | E41: ○ | F41: ○ | G41: ○ | H41: ○ | I41: ○ | J41: ○ | K41: ○ | L41: ○ | M41: ○ | N41: ○ | O41: ○ | P41: ○ | Q41: ○ | R41: ○※ | S41: ▲
B42: 35 | C42: 山口県 | D42: ○ | J42: ○ | N42: ○※ | S42: ▲
B43: 36 | C43: 徳島県 | D43: ○ | I43: ○※ | S43: ▲
B44: 37 | C44: 香川県 | D44: ○ | E44: ○ | F44: ○ | G44: ○ | H44: ○ | I44: ○ | N44: ▲
B45: 38 | C45: 愛媛県 | D45: ○ | E45: ○ | J45: ○※ | O45: ▲
B46: 39 | C46: 高知県 | D46: ●
B47: 40 | C47: 福岡県 | D47: ○ | E47: ○ | I47: ○ | K47: ○ | M47: ○ | N47: ○ | O47: ○ | P47: ○ | Q47: ○※ | R47: ▲
B48: 41 | C48: 佐賀県 | D48: ○ | E48: ○ | F48: ○ | G48: ○ | H48: ○ | I48: ○ | J48: ○ | K48: ○ | L48: ○ | M48: ○ | N48: ○ | O48: ○ | P48: ○ | Q48: ○ | R48: ○※ | S48: ▲
B49: 42 | C49: 長崎県 | D49: ○ | J49: ○※ | O49: ▲
B50: 43 | C50: 熊本県 | D50: ○ | I50: ○ | N50: ○※ | S50: ▲
B51: 44 | C51: 大分県 | D51: ○ | E51: ○ | G51: ○ | I51: ○ | N51: ○ | O51: ○ | P51: ○ | Q51: ○ | R51: ○※ | S51: ▲
B52: 45 | C52: 宮崎県 | D52: ○ | E52: ○ | F52: ○ | G52: ○ | H52: ○ | I52: ○ | J52: ○ | K52: ○ | L52: ○ | M52: ○ | N52: ○ | O52: ○ | P52: ○ | Q52: ○ | R52: ○※ | S52: ▲
B53: 46 | C53: 鹿児島県 | D53: ○ | O53: ○ | P53: ○ | Q53: ○ | R53: ○※ | S53: ▲
B54: 47 | C54: 沖縄県 | E54: ○ | F54: ○ | G54: ○ | H54: ○ | I54: ○ | K54: ○ | L54: ○ | M54: ○ | N54: ○ | O54: ○ | P54: ○ | Q54: ○ | R54: ○※ | S54: ▲
B55: ○、○※ | D55: =COUNTIF(D8:D54,"○")+COUNTIF(D8:D54,"○※") -> 44 | E55: =COUNTIF(E8:E54,"○")+COUNTIF(E8:E54,"○※") -> 27 | F55: =COUNTIF(F8:F54,"○")+COUNTIF(F8:F54,"○※") -> 27 | G55: =COUNTIF(G8:G54,"○")+COUNTIF(G8:G54,"○※") -> 23 | H55: =COUNTIF(H8:H54,"○")+COUNTIF(H8:H54,"○※") -> 26 | I55: =COUNTIF(I8:I54,"○")+COUNTIF(I8:I54,"○※") -> 36 | J55: =COUNTIF(J8:J54,"○")+COUNTIF(J8:J54,"○※") -> 30 | K55: =COUNTIF(K8:K54,"○")+COUNTIF(K8:K54,"○※") -> 28 | ... S55: =COUNTIF(S8:S54,"○")+COUNTIF(S8:S54,"○※") -> 0
B56: ●、▲ | D56: =COUNTIF(D8:D54,"●")+COUNTIF(D8:D54,"▲") -> 1 | E56: =COUNTIF(E8:E54,"●")+COUNTIF(E8:E54,"▲") -> 0 | F56: =COUNTIF(F8:F54,"●")+COUNTIF(F8:F54,"▲") -> 0 | G56: =COUNTIF(G8:G54,"●")+COUNTIF(G8:G54,"▲") -> 0 | H56: =COUNTIF(H8:H54,"●")+COUNTIF(H8:H54,"▲") -> 0 | I56: =COUNTIF(I8:I54,"●")+COUNTIF(I8:I54,"▲") -> 0 | J56: =COUNTIF(J8:J54,"●")+COUNTIF(J8:J54,"▲") -> 0 | K56: =COUNTIF(K8:K54,"●")+COUNTIF(K8:K54,"▲") -> 1 | ... S56: =COUNTIF(S8:S54,"●")+COUNTIF(S8:S54,"▲") -> 37
B57: 計 | D57: =D55+D56 -> 45 | E57: =E55+E56 -> 27 | F57: =F55+F56 -> 27 | G57: =G55+G56 -> 23 | H57: =H55+H56 -> 26 | I57: =I55+I56 -> 36 | J57: =J55+J56 -> 30 | K57: =K55+K56 -> 29 | ... S57: =S55+S56 -> 37
C58: ※１ | D58: ●：今回採用データ、▲：今回採用データ（大分類による回答あり）
D59: ○：以前の調査、○※：以前の調査（按分根拠として採用）

Sheet 図表番号の目次‗本編
A1: 平成２７年度事業
A2: 産業廃棄物排出・処理状況調査報告書 平成２５年度実績（詳細版）
A4: 本編
A5: 表番号 | D5: 該当ページ | F5: 図番号 | I5: 該当ページ
A6: Ⅱ．調査方法
A7: ２．産業廃棄物排出量の推計
A8: 表―Ⅱ・４ | B8: 業種ごとの活動量指標の種類及び出店 | C8: ・・・ | D8: 9
A10: Ⅲ．調査結果
A11: １．アンケート調査結果
A12: 表―Ⅲ・１ | B12: 都道府県実態調査の実施状況（平成２５年度） | C12: ・・・ | D12: 22
A13: 表―Ⅲ・２ | B13: 産業廃棄物の業種別排出量（平成２５年度実績値） | C13: ・・・ | D13: 24 | F13: 図－Ⅲ・１ | G13: 産業廃棄物の業種別排出量（平成２５年度実施値） | H13: ・・・ | I13: 23
A14: 表―Ⅲ・３ | B14: 産業廃棄物の種類別排出量（平成２５年度実施値） | C14: ・・・ | D14: 26 | F14: 図－Ⅲ・２ | G14: 産業廃棄物の種類別排出量（平成２５年度実施値） | H14: ・・・ | I14: 25
A15: 表―Ⅲ・４ | B15: 産業廃棄物の地域別排出量（平成２５年度実施値） | C15: ・・・ | D15: 27 | F15: 図－Ⅲ・３ | G15: 産業廃棄物の地域別排出量（平成２５年度実施値） | H15: ・・・ | I15: 27
A16: 表―Ⅲ・５ | B16: 業種別・種類別排出量推計値一覧表（平成２５年度実施値） | C16: ・・・ | D16: 29 | F16: 図－Ⅲ・４ | G16: 産業廃棄物の処理状況（平成２５年度実施値） | H16: ・・・ | I16: 33
A17: 表―Ⅲ・６ | B17: 都道府県別・種類別推計排出量推計値一覧表（平成２５年度実施値） | C17: ・・・ | D17: 30 | F17: 図－Ⅲ・５ | G17: 産業廃棄物の種類別の処理状況（平成２５年度実施値） | H17: ・・・ | I17: 34
A18: 表―Ⅲ・７ | B18: 業種別・種類別全国共通原単位一覧表（平成２５年度実施値） | C18: ・・・ | D18: 31 | F18: 図－Ⅲ・６ | G18: 産業廃棄物の種類別再生利用率（平成２５年度実施値） | H18: ・・・ | I18: 36
A19: 表―Ⅲ・８ | B19: 全国業種別・種類別活動量指標合計（有回答）一覧表（平成２５年度実施値） | C19: ・・・ | D19: 32 | F19: 図－Ⅲ・７ | G19: 産業廃棄物の再生利用量の種類別内訳（平成２５年度実施値） | H19: ・・・ | I19: 37
A20: 表―Ⅲ・９ | B20: 産業廃棄物排出・処理状況一覧表（平成２５年度実施値） | C20: ・・・ | D20: 35 | F20: 図－Ⅲ・８ | G20: 産業廃棄物の種類別減量化率（平成２５年度実施値） | H20: ・・・ | I20: 38
F21: 図－Ⅲ・９ | G21: 産業廃棄物の減量化量の種類別内訳（平成２５年度実施値） | H21: ・・・ | I21: 39
F22: 図－Ⅲ・１０ | G22: 産業廃棄物の種類別最終処分率（平成２５年度実施値） | H22: ・・・ | I22: 40
F23: 図－Ⅲ・１１ | G23: 産業廃棄物の最終処分量の種類別内訳（平成２５年度実施値） | H23: ・・・ | I23: 41
A25: Ⅳ．まとめ
A26: １．産業廃棄物排出量の変化
F27: 図－Ⅳ・１ | G27: 産業廃棄物排出量の推移（平成２５年度実績値） | H27: ・・・ | I27: 42
F28: 図－Ⅳ・２ | G28: 産業廃棄物の業種別排出量の推移（平成２５年度実績値） | H28: ・・・ | I28: 43
F29: 図－Ⅳ・３ | G29: 産業廃棄物の種類別排出量の推移（平成２５年度実績値） | H29: ・・・ | I29: 44
F30: 図－Ⅳ・４ | G30: 産業廃棄物の地域別排出量の推移（平成２５年度実績値） | H30: ・・・ | I30: 45
F31: 図－Ⅳ・５ | G31: 産業廃棄物の直接再生利用量、中間処理量、直接最終処分量の推移（平成２５年度実績値） | H31: ・・・ | I31: 46
F32: 図－Ⅳ・６ | G32: 産業廃棄物の直接再生利用量、減量化量、最終処分量の推移（平成２５年度実績値） | H32: ・・・ | I32: 47
A34: Ⅴ．石綿含有産業廃棄物の調査結果
A35: 表―Ⅴ・１ | B35: 都道府県の石綿含有産業廃棄物実態調査の実施状況（平成２５年度実施値） | C35: ・・・ | D35: 48 | F35: 図－Ⅴ・１ | G35: 石綿含有産業廃棄物の種類別の排出量（平成２５年度実施値） | H35: ・・・ | I35: 51
A36: 表―Ⅴ・２ | B36: 石綿含有産業廃棄物の排出量の集計結果（平成２５年度実施値） | C36: ・・・ | D36: 50 | F36: 図－Ⅴ・２ | G36: 石綿含有産業廃棄物の業種別の排出量（平成２５年度実施値） | H36: ・・・ | I36: 51
A37: 表―Ⅴ・３ | B37: 石綿含有産業廃棄物の処理量の集計結果（平成２５年度実施値） | C37: ・・・ | D37: 52 | F37: 図－Ⅴ・３ | G37: 石綿含有産業廃棄物の処理量の集計結果（平成２５年度実施値） | H37: ・・・ | I37: 52
A40: 資料編
A41: Ⅱ．活動量指標 | B41: 表－資・Ⅱ・１（１） 活動量指標全国合計値（平成25年度実績値）旧産業分類 | C41: ・・・ | D41: 69
B42: 表－資・Ⅱ・１（２） 活動量指標全国合計値（平成25年度実績値）新産業分類 | C42: ・・・ | D42: 70
B43: 表－資・Ⅱ・１（３） 活動量指標（新産業分類（平成19年11月改訂版）の業種区分）（平成25年度実績値） | C43: ・・・ | D43: 71
B44: 表－資・Ⅱ・１（４） 活動量指標（新産業分類（平成19年11月改訂版）の業種区分）（平成25年度実績値） | C44: ・・・ | D44: 72
A46: Ⅲ．年度補正係数 | B46: 表－資・Ⅲ・１（１） 平成25年度業種別・都道府県別年度補正係数一覧表 | C46: ・・・ | D46: 73,74
A48: Ⅳ．有効回答データ数合計 | B48: 表－資・Ⅳ・1 平成25年度業種別・種類別有効回答データ数合計表（新産業分類の業種区分） | C48: ・・・ | D48: 75
B49: 表－資・Ⅳ・２ 平成25年度業種別・種類別有効回答データ数合計表（旧産業分類の業種区分） | C49: ・・・ | D49: 76
A51: Ⅶ．動物のふん尿及び動物の死体計算資料 | B51: 表－資・Ⅶ・１ 都道府県別家畜飼育頭羽数（平成25年度実績値） | C51: ・・・ | D51: 207
B52: 表－資・Ⅶ・２ 都道府県別動物のふん尿排出量総括表（平成25年度実績値） | C52: ・・・ | D52: 208
B53: 表－資・Ⅶ・３／４ 都道府県別動物の死体の原単位（平成25年度実績値） | C53: ・・・ | D53: 209210
A55: Ⅷ．下水汚泥資料 | B55: 表―資・Ⅷ 都道府県別濃縮汚泥量（平成２５年度実績値） | C55: ・・・ | D55: 211
A58: Ⅸ．産業廃棄物の種類別処理状況フロー図 | C58: ・・・ | D58: 213

Sheet ×表Ⅱ・4
B4: 表－Ⅱ・４ 業種ごとの活動量指標の種類及び出典
B7: 業種 | D7: 活動量指標の種類 | E7: 単位 | F7: 出典 | G7: 出典年次
B8: 農業 | C8: 耕種農業 | D8: 施設面積(ハウス面積、ガラス室面積) | E8: ａ | F8: 世界農林業センサス | G8: 平成16年度 平成21年度
C9: 畜産農業 | D9: 家畜数（乳用牛、肉用牛、豚、鶏） | E9: 頭羽 | F9: 畜産統計 | G9: 平成25年度
B10: 林業、漁業、鉱業 | D10: 従業者数 | E10: 人 | F10: 経済センサス | G10: 平成21年度 平成24年度
B11: 漁業 | D11: 従業者数 | E11: 人 | F11: 経済センサス | G11: 平成21年 平成24年
B12: 鉱業 | D12: 従業者数 | E12: 人 | F12: 経済センサス | G12: 平成21年 平成24年
B13: 建設業 | D13: 元請完成工事高 | E13: 百万円 | F13: 建設工事施工統計調査報告 | G13: 平成25年度
B14: 製造業 | D14: 製造品出荷額等 | E14: 百万円 | F14: 工業統計 | G14: 平成25年度
B15: 電気･ガス･熱供給･水道業 | D15: 従業者数 | E15: 人 | F15: 経済センサス | G15: 平成21年度 平成24年度
C16: 上水道業 | D16: 給水人口 | E16: 人 | F16: 給水人口と給水普及率 | G16: 平成25年度
C17: 下水道業 | D17: 処理区域人口 | E17: 人 | F17: 都道府県別汚水処理人口普及状況 | G17: 平成25年度
B18: 情報通信業、運輸業 卸売・小売業 不動産業，物品賃貸業 学術研究，専門・技術サービス業 宿泊業、飲食サービス業 生活関連サービス業，娯楽業 | D18: 従業者数 | E18: 人 | F18: 経済センサス | G18: 平成21年度 平成24年度
B19: 卸売・小売業 飲食店、宿泊業 | D19: 従業者数 | E19: 人 | F19: 経済センサス | G19: 平成21年 平成24年
B20: 不動産業，物品賃貸業
B21: 学術研究，専門・技術サービス業
B22: 医療、福祉 | D22: 病床数 | E22: 床 | F22: 医療施設動態調査 | G22: 平成25年度
B23: 教育，学習支援業 複合ｻｰﾋﾞｽ業、サービス業 | D23: 従業者数 | E23: 人 | F23: 経済センサス | G23: 平成21年度 平成24年度
C24: と畜場(動物系固形不要物) | D24: と畜頭数 | E24: 頭 | F24: 畜産物流通統計 | G24: 平成25年度
B25: 公務 | D25: 従業者数 | E25: 人 | F25: 就業構造基本調査 | G25: 平成19年度 平成24年度

Sheet 表V1
B1: 表―Ⅴ・1 都道府県の石綿含産業廃棄物実態調査の実施状況（令和５年度実績値）
B3: 報告書P４８で利用
B6: №都道府県 | D6: 調査年度
D7: 平成22年度 | E7: 平成23年度 | F7: 平成24年度 | G7: 平成25年度 | H7: 平成26年度 | I7: 平成27年度 | J7: 平成28年度 | K7: 平成29年度 | L7: 平成30年度 | M7: 令和元年度 | N7: 令和２年度 | O7: 令和３年度 | P7: 令和４年度 | Q7: 令和５年度
B8: 1 | C8: 北海道
B9: 2 | C9: 青森県
B10: 3 | C10: 岩手県 | F10: ○ | G10: ○ | H10: ○ | I10: ○ | J10: ○ | K10: ○ | L10: ○ | M10: ○ | N10: ○ | O10: ○ | P10: ○ | Q10: ●
B11: 4 | C11: 宮城県
B12: 5 | C12: 秋田県
B13: 6 | C13: 山形県
B14: 7 | C14: 福島県 | D14: ○ | E14: ○ | F14: ○ | G14: ○ | H14: ○ | I14: ○ | J14: ○ | K14: ○ | L14: ○ | M14: ○ | N14: ○ | O14: ○
B15: 8 | C15: 茨城県
B16: 9 | C16: 栃木県 | E16: ○ | F16: ○ | I16: ○
B17: 10 | C17: 群馬県
B18: 11 | C18: 埼玉県
B19: 12 | C19: 千葉県 | G19: ○
B20: 13 | C20: 東京都 | G20: ○
B21: 14 | C21: 神奈川県
B22: 15 | C22: 新潟県
B23: 16 | C23: 富山県
B24: 17 | C24: 石川県 | M24: ○
B25: 18 | C25: 福井県
B26: 19 | C26: 山梨県
B27: 20 | C27: 長野県
B28: 21 | C28: 岐阜県
B29: 22 | C29: 静岡県 | D29: ○ | F29: ○ | G29: ○ | H29: ○ | I29: ○ | J29: ○ | K29: ○ | L29: ○ | M29: ○ | N29: ○ | O29: ○ | P29: ○ | Q29: ●
B30: 23 | C30: 愛知県 | D30: ○ | F30: ○ | G30: ○ | I30: ○ | J30: ○ | K30: ○ | L30: ○
B31: 24 | C31: 三重県 | G31: ○
B32: 25 | C32: 滋賀県 | D32: ○ | E32: ○ | F32: ○ | G32: ○ | H32: ○ | I32: ○ | J32: ○ | K32: ○ | L32: ○ | M32: ○ | N32: ○ | O32: ○ | P32: ○ | Q32: ●
B33: 26 | C33: 京都府
B34: 27 | C34: 大阪府 | D34: ○
B35: 28 | C35: 兵庫県 | I35: ○ | N35: ○
B36: 29 | C36: 奈良県
B37: 30 | C37: 和歌山県 | D37: ○ | E37: ○ | F37: ○ | G37: ○ | H37: ○ | I37: ○ | J37: ○ | K37: ○ | L37: ○ | M37: ○
B38: 31 | C38: 鳥取県
B39: 32 | C39: 島根県 | G39: ○
B40: 33 | C40: 岡山県 | D40: ○
B41: 34 | C41: 広島県 | H41: ○
B42: 35 | C42: 山口県 | L42: ○
B43: 36 | C43: 徳島県 | G43: ○
B44: 37 | C44: 香川県 | G44: ○ | L44: ○
B45: 38 | C45: 愛媛県 | D45: ○
B46: 39 | C46: 高知県
B47: 40 | C47: 福岡県 | D47: ○
B48: 41 | C48: 佐賀県 | H48: ○ | L48: ○ | M48: ○ | N48: ○ | O48: ○ | P48: ○
B49: 42 | C49: 長崎県
B50: 43 | C50: 熊本県 | L50: ○
B51: 44 | C51: 大分県 | G51: ○ | Q51: ●
B52: 45 | C52: 宮崎県
B53: 46 | C53: 鹿児島県
B54: 47 | C54: 沖縄県 | G54: ○ | M54: ○
B55: ○ | D55: =COUNTIF(D8:D54,"○") -> 9 | E55: =COUNTIF(E8:E54,"○") -> 4 | F55: =COUNTIF(F8:F54,"○") -> 7 | G55: =COUNTIF(G8:G54,"○") -> 14 | H55: =COUNTIF(H8:H54,"○") -> 7 | I55: =COUNTIF(I8:I54,"○") -> 8 | J55: =COUNTIF(J8:J54,"○") -> 6 | K55: =COUNTIF(K8:K54,"○") -> 6 | ... Q55: =COUNTIF(Q8:Q54,"○") -> 0
B56: ● | D56: =COUNTIF(D8:D54,"●") -> 0 | E56: =COUNTIF(E8:E54,"●") -> 0 | F56: =COUNTIF(F8:F54,"●") -> 0 | G56: =COUNTIF(G8:G54,"●") -> 0 | H56: =COUNTIF(H8:H54,"●") -> 0 | I56: =COUNTIF(I8:I54,"●") -> 0 | J56: =COUNTIF(J8:J54,"●") -> 0 | K56: =COUNTIF(K8:K54,"●") -> 0 | ... Q56: =COUNTIF(Q8:Q54,"●") -> 4
B57: 計 | D57: =D55+D56 -> 9 | E57: =E55+E56 -> 4 | F57: =F55+F56 -> 7 | G57: =G55+G56 -> 14 | H57: =H55+H56 -> 7 | I57: =I55+I56 -> 8 | J57: =J55+J56 -> 6 | K57: =K55+K56 -> 6 | ... Q57: =Q55+Q56 -> 4
B58: ※ | C58: ●：今回採用データ、○：以前の調査

Sheet 表V2
B1: 表―Ⅴ・２ 石綿含産業廃棄物の排出量の集計結果
B7: 大分類 | C7: 番 | D7: 産業分類 | E7: コード | F7: 廃プラスチック類 | J7: ガラスくず、コンクリート及び陶磁器くず | N7: がれき類 | R7: 合 計
C8: 号 | F8: 母数排出量 （t／年） | G8: うち石綿含有 （t／年） | H8: データ数(件) | I8: 比率 | J8: 母数排出量 （t／年） | K8: うち石綿含有 （t／年） | L8: データ数(件) | M8: 比率 | N8: 母数排出量 （t／年） | O8: うち石綿含有 （t／年） | P8: データ数(件) | Q8: 比率 | R8: 母数排出量 （t／年） | S8: うち石綿含有 （t／年） | T8: データ数(件) | U8: 比率
D9: 農業，林業大分類 | E9: A | F9: 5068.4152 | G9: 0 | H9: 0 | I9: 0 | J9: 1138.39 | K9: 0 | L9: 0 | M9: 0 | N9: 253.71678 | O9: 0 | P9: 1 | Q9: 0 | R9: 6460.5219 | S9: 0 | U9: 0
C10: 1 | D10: 耕種農業 | E10: A011
B11: 農業，林業 | C11: 2 | D11: 畜産農業 | E11: A012
C12: 3 | D12: 林業 | E12: A02
C13: 4 | D13: 上記以外の農業，林業
D14: 漁業大分類 | E14: B | F14: 225.13575 | G14: 0 | H14: 0 | I14: 0 | J14: 3.995 | K14: 0 | L14: 0 | M14: 0 | N14: 8 | O14: 0 | P14: 0 | Q14: 0 | R14: 237.13075 | S14: 0 | U14: 0
B15: 漁 業 | C15: 5 | D15: 漁業 | E15: B03 | F15: 0 | G15: 0 | H15: 0 | J15: 0 | K15: 0 | L15: 0 | N15: 0 | O15: 0 | P15: 0 | R15: 0 | S15: 0
C16: 6 | D16: 水産養殖業 | E16: B04 | F16: 0 | G16: 0 | H16: 0 | J16: 0 | K16: 0 | L16: 0 | N16: 0 | O16: 0 | P16: 0 | R16: 0 | S16: 0
B17: 鉱 業 | C17: 7 | D17: 鉱業，採石業，砂利採取業 | E17: C | F17: 385.35587 | G17: 0 | H17: 0 | I17: 0 | J17: 1730.8407 | K17: 0 | L17: 0 | M17: 0 | N17: 1.61 | O17: 0 | P17: 0 | Q17: 0 | R17: 2117.8066 | S17: 0 | U17: 0
B18: 建設業 | C18: 8 | D18: 建設業 | E18: D | F18: 163234.24 | G18: 1321.9333 | H18: 4 | I18: 0.0080983825 | J18: 202126.58 | K18: 3519.8401 | L18: 4 | M18: 0.017414039 | N18: 4462008 | O18: 25398.808 | P18: 4 | Q18: 0.0056922372 | R18: 4827368.9 | S18: 30240.581 | U18: 0.0062644025
D19: 製造業大分類 | E19: E | F19: 294941.78 | G19: 300.95187 | H19: 0 | I19: 0.0010203772 | J19: 272279.22 | K19: 2369.0357 | L19: 0 | M19: 0.0087007583 | N19: 64587.236 | O19: 162.198 | P19: 0 | Q19: 0.0025113012 | R19: 631808.23 | S19: 2832.1855 | U19: 0.0044826664
C20: 9 | D20: 食料品製造業 | E20: E09 | F20: 28161.752 | G20: 0 | H20: 0 | I20: 0 | J20: 13172.949 | K20: 3.08 | L20: 2 | M20: 0.00023381249 | N20: 477.83399 | O20: 4.18 | P20: 1 | Q20: 0.008747808 | R20: 41812.535 | S20: 7.26 | U20: 0.00017363214
C21: 10 | D21: 飲料・たばこ・飼料製造業 | E21: E10 | F21: 3927.2973 | G21: 0 | H21: 0 | I21: 0 | J21: 465.13471 | K21: 0 | L21: 0 | M21: 0 | N21: 7.6692076 | O21: 0 | P21: 0 | Q21: 0 | R21: 4400.1013 | S21: 0 | U21: 0
C22: 11 | D22: 繊維工業 | E22: E11 | F22: 14084.863 | G22: 0 | H22: 0 | I22: 0 | J22: 200.26506 | K22: 0.54 | L22: 1 | M22: 0.0026964264 | N22: 18.155206 | O22: 0 | P22: 0 | Q22: 0 | R22: 14303.284 | S22: 0.54 | U22: 3.7753568e-05
C23: 12 | D23: 木材・木製品製造業 | E23: E12 | F23: 719.2818 | G23: 0 | H23: 0 | I23: 0 | J23: 664.65216 | K23: 24.295 | L23: 1 | M23: 0.036552954 | N23: 1145.4117 | O23: 4.22 | P23: 1 | Q23: 0.0036842649 | R23: 2529.3456 | S23: 28.515 | U23: 0.011273667
C24: 13 | D24: 家具・装備品製造業 | E24: E13 | F24: 591.4275 | G24: 0 | H24: 0 | I24: 0 | J24: 50.691349 | K24: 0 | L24: 0 | M24: 0 | N24: 23.994116 | O24: 0 | P24: 0 | Q24: 0 | R24: 666.11296 | S24: 0 | U24: 0
C25: 14 | D25: パルプ・紙・紙加工品製造業 | E25: E14 | F25: 64435.41 | G25: 0 | H25: 0 | I25: 0 | J25: 467.62408 | K25: 3.632 | L25: 1 | M25: 0.0077669226 | N25: 23.495814 | O25: 0 | P25: 0 | Q25: 0 | R25: 64926.529 | S25: 3.632 | U25: 5.5940153e-05
C26: 15 | D26: 印刷・同関連業 | E26: E15 | F26: 9633.7245 | G26: 0 | H26: 0 | I26: 0 | J26: 8.889239 | K26: 0 | L26: 0 | M26: 0 | N26: 1.4932716 | O26: 0 | P26: 0 | Q26: 0 | R26: 9644.107 | S26: 0 | U26: 0
C27: 16 | D27: 化学工業 | E27: E16 | F27: 19187.003 | G27: 43.722716 | H27: 2 | I27: 0.0022787674 | J27: 3437.2695 | K27: 0.7 | L27: 2 | M27: 0.00020365002 | N27: 2682.5733 | O27: 0.74 | P27: 1 | Q27: 0.00027585453 | R27: 25306.846 | S27: 45.162716 | U27: 0.0017846047
C28: 17 | D28: 石油製品・石炭製品製造業 | E28: E17 | F28: 935.4869 | G28: 0 | H28: 0 | I28: 0 | J28: 6318.166 | K28: 69 | L28: 1 | M28: 0.010920891 | N28: 307 | O28: 0 | P28: 0 | Q28: 0 | R28: 7560.6529 | S28: 69 | U28: 0.009126196
B29: 製造業 | C29: 18 | D29: プラスチック製品製造業 | E29: E18 | F29: 25347.52 | G29: 254.24415 | H29: 1 | I29: 0.010030336 | J29: 938.14159 | K29: 0.07 | L29: 1 | M29: 7.4615602e-05 | N29: 138.3212 | O29: 67.5 | P29: 1 | Q29: 0.4879946 | R29: 26423.982 | S29: 321.81415 | U29: 0.012178866
C30: 19 | D30: ゴム製品製造業 | E30: E19 | F30: 6458.5966 | G30: 0 | H30: 0 | I30: 0 | J30: 40.68 | K30: 0 | L30: 0 | M30: 0 | N30: 34.326 | O30: 0 | P30: 0 | Q30: 0 | R30: 6533.6026 | S30: 0 | U30: 0
C31: 20 | D31: なめし革・同製品・毛皮製造業 | E31: E20 | F31: 310.87446 | G31: 0 | H31: 0 | I31: 0 | J31: 0 | K31: 0 | L31: 0 | N31: 0 | O31: 0 | P31: 0 | R31: 310.87446 | S31: 0 | U31: 0
C32: 21 | D32: 窯業・土石製品製造業 | E32: E21 | F32: 3078.7642 | G32: 0.105 | H32: 1 | I32: 3.4104593e-05 | J32: 227161.12 | K32: 2256.6727 | L32: 3 | M32: 0.009934238 | N32: 50239 | O32: 30.65 | P32: 1 | Q32: 0.00061008379 | R32: 280478.89 | S32: 2287.4277 | U32: 0.0081554362
C33: 22 | D33: 鉄鋼業 | E33: E22 | F33: 3310.0845 | G33: 0 | H33: 0 | I33: 0 | J33: 739.86251 | K33: 2.02 | L33: 2 | M33: 0.002730237 | N33: 2049.57 | O33: 2.9 | P33: 1 | Q33: 0.001414931 | R33: 6099.517 | S33: 4.92 | U33: 0.00080662124
C34: 23 | D34: 非鉄金属製造業 | E34: E23 | F34: 13247.139 | G34: 0 | H34: 0 | I34: 0 | J34: 1571.311 | K34: 0 | L34: 0 | M34: 0 | N34: 1084.2346 | O34: 0 | P34: 0 | Q34: 0 | R34: 15902.685 | S34: 0 | U34: 0
C35: 24 | D35: 金属製品製造業 | E35: E24 | F35: 4280.4147 | G35: 0 | H35: 0 | I35: 0 | J35: 5975.1333 | K35: 0.516 | L35: 1 | M35: 8.6357906e-05 | N35: 884.44207 | O35: 1.68 | P35: 1 | Q35: 0.0018995026 | R35: 11139.99 | S35: 2.196 | U35: 0.00019712764
C36: 25 | D36: はん用機械器具製造業 | E36: E25 | F36: 1577.9403 | G36: 0 | H36: 0 | I36: 0 | J36: 242.95317 | K36: 0 | L36: 0 | M36: 0 | N36: 6.9859992 | O36: 0 | P36: 0 | Q36: 0 | R36: 1827.8794 | S36: 0 | U36: 0
C37: 26 | D37: 生産用機械器具製造業 | E37: E26 | F37: 2652.4135 | G37: 0.175 | H37: 1 | I37: 6.5977647e-05 | J37: 146.57665 | K37: 0 | L37: 0 | M37: 0 | N37: 34.255402 | O37: 0 | P37: 0 | Q37: 0 | R37: 2833.2455 | S37: 0.175 | U37: 6.176662e-05
C38: 27 | D38: 業務用機械器具製造業 | E38: E27 | F38: 23990.793 | G38: 0 | H38: 0 | I38: 0 | J38: 505.61908 | K38: 0 | L38: 0 | M38: 0 | N38: 87.936444 | O38: 0.15 | P38: 1 | Q38: 0.0017057774 | R38: 24584.349 | S38: 0.15 | U38: 6.1014429e-06
C39: 28 | D39: 電子部品・デバイス・電子回路製造業 | E39: E28 | F39: 7790.2892 | G39: 0 | H39: 0 | I39: 0 | J39: 302.26804 | K39: 0 | L39: 0 | M39: 0 | N39: 9.5504 | O39: 0 | P39: 0 | Q39: 0 | R39: 8102.1077 | S39: 0 | U39: 0
C40: 29 | D40: 電気機械器具製造業 | E40: E29 | F40: 4717.9169 | G40: 0.13 | H40: 1 | I40: 2.7554533e-05 | J40: 1174.0465 | K40: 0.698 | L40: 2 | M40: 0.00059452503 | N40: 560.50829 | O40: 0.02 | P40: 1 | Q40: 3.5681898e-05 | R40: 6452.4717 | S40: 0.848 | U40: 0.00013142251
C41: 30 | D41: 情報通信機械器具製造業 | E41: E30 | F41: 5254.3761 | G41: 0 | H41: 0 | I41: 0 | J41: 56.316675 | K41: 0 | L41: 0 | M41: 0 | N41: 0.171 | O41: 0 | P41: 0 | Q41: 0 | R41: 5310.8638 | S41: 0 | U41: 0
C42: 31 | D42: 輸送用機械器具製造業 | E42: E31 | F42: 18298.082 | G42: 1.05 | H42: 1 | I42: 5.7383064e-05 | J42: 813.99253 | K42: 0.864 | L42: 2 | M42: 0.0010614348 | N42: 1658.1398 | O42: 10.3 | P42: 1 | Q42: 0.0062117801 | R42: 20770.214 | S42: 12.214 | U42: 0.00058805364
C43: 32 | D43: その他の製造業 | E43: E32 | F43: 32950.328 | G43: 1.525 | H43: 2 | I43: 4.6281785e-05 | J43: 7825.5508 | K43: 6.948 | L43: 3 | M43: 0.00088786083 | N43: 3112.1672 | O43: 39.858 | P43: 1 | Q43: 0.012807153 | R43: 43888.046 | S43: 48.331 | U43: 0.0011012338
D44: 電気・ガス・熱供給・水道業大分類 | E44: F | F44: 930.44094 | G44: 0.61 | H44: 0 | I44: 0.00065560314 | J44: 3332.952 | K44: 56.3 | L44: 0 | M44: 0.016891932 | N44: 6901.392 | O44: 9.956 | P44: 0 | Q44: 0.0014426075 | R44: 11164.785 | S44: 66.866 | U44: 0.0059890092
B45: 電気･ガス | C45: 33 | D45: 電気業 | E45: F33 | F45: 537.43602 | G45: 0.54 | H45: 1 | I45: 0.0010047708 | J45: 3080.8332 | K45: 55.44 | L45: 1 | M45: 0.017995132 | N45: 5804.526 | O45: 0 | P45: 0 | Q45: 0 | R45: 9422.7952 | S45: 55.98 | U45: 0.0059409123
B46: ･熱供給･ | C46: 34 | D46: ガス業 | E46: F34 | F46: 238.45585 | G46: 0.07 | H46: 1 | I46: 0.0002935554 | J46: 40.770833 | K46: 0 | L46: 0 | M46: 0 | N46: 783.308 | O46: 9.956 | P46: 1 | Q46: 0.012710198 | R46: 1062.5347 | S46: 10.026 | U46: 0.0094359273
B47: 水道業 | C47: 35 | D47: 熱供給業 | E47: F35 | F47: 11 | G47: 0 | H47: 0 | I47: 0 | J47: 153 | K47: 0 | L47: 0 | M47: 0 | N47: 0 | O47: 0 | P47: 0 | R47: 164 | S47: 0 | U47: 0
C48: 36 | D48: 上水道業 | E48: F361 | F48: 26.082917 | G48: 0 | H48: 0 | I48: 0 | J48: 1.976 | K48: 0 | L48: 0 | M48: 0 | N48: 66.108 | O48: 0 | P48: 0 | Q48: 0 | R48: 94.166917 | S48: 0 | U48: 0
C49: 37 | D49: 下水道業 | E49: F363 | F49: 117.46615 | G49: 0 | H49: 0 | I49: 0 | J49: 56.372 | K49: 0.86 | L49: 2 | M49: 0.015255801 | N49: 247.45 | O49: 0 | P49: 0 | Q49: 0 | R49: 421.28815 | S49: 0.86 | U49: 0.0020413582
D50: 情報通信業大分類 | E50: G | F50: 850.60936 | G50: 0 | H50: 1 | I50: 0 | J50: 2405.9686 | K50: 0 | L50: 0 | M50: 0 | N50: 2.996 | O50: 0 | P50: 0 | Q50: 0 | R50: 3259.5739 | S50: 0 | U50: 0
C51: 38 | D51: 通信業 | E51: G37 | F51: 331.59348 | G51: 0 | H51: 0 | I51: 0 | J51: 2405.9686 | K51: 0 | L51: 0 | M51: 0 | N51: 0 | O51: 0 | P51: 0 | R51: 2737.5621 | S51: 0 | U51: 0
B52: 情報通信業 | C52: 39 | D52: 放送業 | E52: G38 | F52: 281.1336 | G52: 0 | H52: 0 | I52: 0 | J52: 0 | K52: 0 | L52: 0 | N52: 0 | O52: 0 | P52: 0 | R52: 281.1336 | S52: 0 | U52: 0
C53: 40 | D53: 情報サービス業 | E53: G39 | F53: 194.63096 | G53: 0 | H53: 0 | I53: 0 | J53: 0 | K53: 0 | L53: 0 | N53: 0 | O53: 0 | P53: 0 | R53: 194.63096 | S53: 0 | U53: 0
C54: 41 | D54: インターネット付随サービス業 | E54: G40 | F54: 0 | G54: 0 | H54: 0 | J54: 0 | K54: 0 | L54: 0 | N54: 0 | O54: 0 | P54: 0 | R54: 0 | S54: 0
C55: 42 | D55: 映像・音声・文字情報制作業 | E55: G41 | F55: 43.251323 | G55: 0 | H55: 0 | I55: 0 | J55: 0 | K55: 0 | L55: 0 | N55: 0 | O55: 0 | P55: 0 | R55: 43.251323 | S55: 0 | U55: 0
D56: 運輸業，郵便業大分類 | E56: H | F56: 19509.885 | G56: 0 | H56: 2 | I56: 0 | J56: 1094.0144 | K56: 0 | L56: 2 | M56: 0 | N56: 1037.6746 | O56: 0 | P56: 1 | Q56: 0 | R56: 21641.574 | S56: 0 | U56: 0
B57: 運輸業， | C57: 43 | D57: 鉄道業 | E57: H42 | F57: 0 | G57: 0 | H57: 0 | J57: 0 | K57: 0 | L57: 0 | N57: 0 | O57: 0 | P57: 0 | R57: 0 | S57: 0
B58: 郵便業 | C58: 44 | D58: 道路旅客運送業 | E58: H43 | F58: 0 | G58: 0 | H58: 0 | J58: 0 | K58: 0 | L58: 0 | N58: 0 | O58: 0 | P58: 0 | R58: 0 | S58: 0
C59: 45 | D59: 道路貨物運送業 | E59: H44 | F59: 0 | G59: 0 | H59: 0 | J59: 0 | K59: 0 | L59: 0 | N59: 0 | O59: 0 | P59: 0 | R59: 0 | S59: 0
C60: 46 | D60: 上記以外の運輸業，郵便業 | F60: 0 | G60: 0 | H60: 0 | J60: 0 | K60: 0 | L60: 0 | N60: 0 | O60: 0 | P60: 0 | R60: 0 | S60: 0
D61: 卸売業，小売業大分類 | E61: I | F61: 34026.515 | G61: 0 | H61: 1 | I61: 0 | J61: 5064.914 | K61: 0 | L61: 4 | M61: 0 | N61: 5432.2647 | O61: 0 | P61: 1 | Q61: 0 | R61: 44523.693 | S61: 0 | U61: 0
C62: 47 | D62: 各種商品卸売業 | E62: I50 | F62: 0 | G62: 0 | H62: 0 | J62: 0 | K62: 0 | L62: 0 | N62: 0 | O62: 0 | P62: 0 | R62: 0 | S62: 0
C63: 48 | D63: 木材・竹材卸売業 | E63: I5311 | F63: 0 | G63: 0 | H63: 0 | J63: 0 | K63: 0 | L63: 0 | N63: 0 | O63: 0 | P63: 0 | R63: 0 | S63: 0
C64: 49 | D64: 各種商品小売業 | E64: I56 | F64: 0 | G64: 0 | H64: 0 | J64: 0 | K64: 0 | L64: 0 | N64: 0 | O64: 0 | P64: 0 | R64: 0 | S64: 0
B65: 卸売業， | C65: 50 | D65: 自動車小売業 | E65: I591 | F65: 0 | G65: 0 | H65: 0 | J65: 0 | K65: 0 | L65: 0 | N65: 0 | O65: 0 | P65: 0 | R65: 0 | S65: 0
B66: 小売業 | C66: 51 | D66: 機械器具小売業 | E66: I593 | F66: 0 | G66: 0 | H66: 0 | J66: 0 | K66: 0 | L66: 0 | N66: 0 | O66: 0 | P66: 0 | R66: 0 | S66: 0
C67: 52 | D67: 家具・建具・畳小売業 | E67: I601 | F67: 0 | G67: 0 | H67: 0 | J67: 0 | K67: 0 | L67: 0 | N67: 0 | O67: 0 | P67: 0 | R67: 0 | S67: 0
C68: 53 | D68: じゅう器小売業 | E68: I602 | F68: 0 | G68: 0 | H68: 0 | J68: 0 | K68: 0 | L68: 0 | N68: 0 | O68: 0 | P68: 0 | R68: 0 | S68: 0
C69: 54 | D69: 燃料小売業 | E69: I605 | F69: 0 | G69: 0 | H69: 0 | J69: 0 | K69: 0 | L69: 0 | N69: 0 | O69: 0 | P69: 0 | R69: 0 | S69: 0
C70: 55 | D70: 上記以外の卸売業，小売業 | F70: 0 | G70: 0 | H70: 0 | J70: 0 | K70: 0 | L70: 0 | N70: 0 | O70: 0 | P70: 0 | R70: 0 | S70: 0
B71: 不動産業， | D71: 不動産業，物品賃貸業大分類 | E71: K | F71: 2250.7848 | G71: 0 | H71: 1 | I71: 0 | J71: 1886.2516 | K71: 0 | L71: 3 | M71: 0 | N71: 2255.6228 | O71: 0 | P71: 1 | Q71: 0 | R71: 6392.6593 | S71: 0 | U71: 0
B72: 物品賃貸業 | C72: 56 | D72: 物品賃貸業 | E72: K70 | F72: 2250.7848 | G72: 0 | H72: 0 | I72: 0 | J72: 1886.2516 | K72: 0 | L72: 0 | M72: 0 | N72: 2255.6228 | O72: 0 | P72: 0 | Q72: 0 | R72: 6392.6593 | S72: 0 | U72: 0
B73: 学術研究，専門 | D73: 学術研究，専門・技術サービス業大分類 | E73: L | F73: 4058.5418 | G73: 0 | H73: 1 | I73: 0 | J73: 1885.0133 | K73: 0 | L73: 0 | M73: 0 | N73: 494.35198 | O73: 0 | P73: 1 | Q73: 0 | R73: 6437.9071 | S73: 0 | U73: 0
B74: ・技術サービス業 | C74: 57 | D74: 学術・開発研究機関 | E74: L71 | F74: 3678.5075 | G74: 0 | H74: 0 | I74: 0 | J74: 0 | K74: 0 | L74: 0 | N74: 0 | O74: 0 | P74: 0 | R74: 3678.5075 | S74: 0 | U74: 0
C75: 58 | D75: 写真業 | E75: L746 | F75: 380.03431 | G75: 0 | H75: 0 | I75: 0 | J75: 1885.0133 | K75: 0 | L75: 0 | M75: 0 | N75: 0 | O75: 0 | P75: 0 | R75: 2265.0476 | S75: 0 | U75: 0
B76: 宿泊業，飲食 | D76: 宿泊業，飲食サービス業大分類 | E76: M | F76: 1712.8184 | G76: 0 | H76: 0 | I76: 0 | J76: 553.98746 | K76: 0 | L76: 1 | M76: 0 | N76: 22.785905 | O76: 0 | P76: 0 | Q76: 0 | R76: 2289.5918 | S76: 0 | U76: 0
B77: サービス業 | C77: 59 | D77: 飲食店 | E77: M76 | F77: 0 | G77: 0 | H77: 0 | J77: 0 | K77: 0 | L77: 0 | N77: 0 | O77: 0 | P77: 0 | R77: 0 | S77: 0
C78: 60 | D78: 上記以外の宿泊業，飲食サービス業 | F78: 0 | G78: 0 | H78: 0 | J78: 0 | K78: 0 | L78: 0 | N78: 0 | O78: 0 | P78: 0 | R78: 0 | S78: 0
B79: 生活関連サー | D79: 生活関連サービス業，娯楽業大分類 | E79: N | F79: 2696.2974 | G79: 0 | H79: 0 | I79: 0 | J79: 623.29234 | K79: 0 | L79: 1 | M79: 0 | N79: 482.73499 | O79: 0 | P79: 1 | Q79: 0 | R79: 3802.3248 | S79: 0 | U79: 0
B80: ビス業，娯楽業 | C80: 61 | D80: 洗濯業 | E80: N781 | F80: 0 | G80: 0 | H80: 0 | J80: 0 | K80: 0 | L80: 0 | N80: 0 | O80: 0 | P80: 0 | R80: 0 | S80: 0
B81: 教育，学習支援業 | C81: 62 | D81: 教育，学習支援業 | E81: O | F81: 3331.6014 | G81: 1.27 | H81: 1 | I81: 0.00038119807 | J81: 486.99725 | K81: 1.88 | L81: 1 | M81: 0.0038603914 | N81: 48.089826 | O81: 0 | P81: 0 | Q81: 0 | R81: 3866.6884 | S81: 3.15 | U81: 0.00081465058
D82: 医療，福祉大分類 | E82: P | F82: 10405.789 | G82: 2.4444864 | H82: 1 | I82: 0.00023491601 | J82: 1187.3721 | K82: 1.2222432 | L82: 2 | M82: 0.0010293683 | N82: 211.66004 | O82: 0 | P82: 1 | Q82: 0 | R82: 11804.821 | S82: 3.6667296 | U82: 0.00031061289
B83: 医療，福祉 | C83: 63 | D83: 医療業 | E83: P83 | F83: 8844.9363 | G83: 2.4444864 | H83: 1 | I83: 0.00027637128 | J83: 1109.1305 | K83: 1.2222432 | L83: 1 | M83: 0.0011019832 | N83: 0 | O83: 0 | P83: 0 | R83: 9954.0669 | S83: 3.6667296 | U83: 0.00036836497
C84: 64 | D84: 上記以外の医療，福祉 | F84: 1560.8526 | G84: 0 | H84: 0 | I84: 0 | J84: 78.241562 | K84: 0 | L84: 0 | M84: 0 | N84: 0 | O84: 0 | P84: 0 | R84: 1639.0941 | S84: 0 | U84: 0
B85: 教育、学習支援業 | C85: 65 | D85: 複合サービス事業 | E85: Q | F85: 265.8061 | G85: 0 | H85: 0 | I85: 0 | J85: 41.4811 | K85: 0 | L85: 0 | M85: 0 | N85: 40 | O85: 0 | P85: 0 | Q85: 0 | R85: 347.2872 | S85: 0 | U85: 0
D86: サービス業大分類 | E86: R | F86: 121192.72 | G86: 0 | H86: 3 | I86: 0 | J86: 50808.906 | K86: 0 | L86: 3 | M86: 0 | N86: 29827.934 | O86: 0 | P86: 1 | Q86: 0 | R86: 201829.56 | S86: 0 | U86: 0
B87: サービス業 | C87: 66 | D87: 自動車整備業 | E87: R891 | F87: 0 | G87: 0 | H87: 0 | J87: 0 | K87: 0 | L87: 0 | N87: 0 | O87: 0 | P87: 0 | R87: 0 | S87: 0
C88: 67 | D88: と畜場 | E88: R952 | F88: 0 | G88: 0 | H88: 0 | J88: 0 | K88: 0 | L88: 0 | N88: 0 | O88: 0 | P88: 0 | R88: 0 | S88: 0
C89: 68 | D89: 上記以外のサービス業 | F89: 0 | G89: 0 | H89: 0 | J89: 0 | K89: 0 | L89: 0 | N89: 0 | O89: 0 | P89: 0 | R89: 0 | S89: 0
B90: 公務 | C90: 69 | D90: 公務 | E90: Ｓ | F90: 1693.1071 | G90: 0.985 | H90: 2 | I90: 0.00058177063 | J90: 1611.82 | K90: 0.64 | L90: 1 | M90: 0.00039706667 | N90: 175.322 | O90: 0.7 | P90: 1 | Q90: 0.0039926535 | R90: 3480.2491 | S90: 2.325 | U90: 0.00066805562
D91: 合計 | F91: 666779.84 | G91: 1628.1947 | H91: =SUM(H45:H90,H20:H43,H18) -> 29 | I91: 0.0024418775 | J91: 548261.99 | K91: 5948.918 | L91: =SUM(L45:L90,L20:L43,L17:L18) -> 48 | M91: 0.010850502 | N91: 4573791.4 | O91: 25571.662 | P91: =SUM(P45:P90,P20:P43,P18,P9) -> 25 | Q91: 0.0055909113 | R91: 5788833.3 | S91: 33148.775 | U91: 0.0057263309
B92: ※大分類のみの回答で、かつ中分類への配分ができない都道府県があるため、中分類の合算値と大分類の値が合致しない項目がある。
B93: ※各産業廃棄物の量は、四捨五入しているため合算した値は合計値と異なる場合がある。
B94: ※空欄は該当値が無いもの、「0」表示は500kg/年未満である事を示している。

Sheet 表V2 (2)
B3: 報告書P50で利用
B4: 表―Ⅴ・２ 石綿含産業廃棄物の排出量の集計結果（令和元年度実績値）
U6: （単位：t／年）
B7: 大分類 | C7: 番 | D7: 産業分類 | E7: コード | F7: 廃プラスチック類 | J7: ガラスくず、コンクリート及び陶磁器くず | N7: がれき類 | R7: 合 計
C8: 号 | F8: 母数排出量 | G8: うち石綿含有 | H8: データ数(件) | I8: 比率 | J8: 母数排出量 | K8: うち石綿含有 | L8: データ数(件) | M8: 比率 | N8: 母数排出量 | O8: うち石綿含有 | P8: データ数(件) | Q8: 比率 | R8: 母数排出量 | S8: うち石綿含有 | T8: データ数(件) | U8: 比率
D9: 農業，林業大分類 | E9: A | F9: 7159.675 | G9: 0 | H9: 7 | I9: 0 | J9: 1729.945 | K9: 0 | L9: 7 | M9: 0 | N9: 10.44 | O9: 0 | P9: 7 | Q9: 0 | R9: 8900.06 | S9: 0 | T9: 0 | U9: 0
C10: 1 | D10: 耕種農業 | E10: A011 | F10: 0 | G10: 0 | H10: 0 | J10: 0 | K10: 0 | L10: 0 | N10: 0 | O10: 0 | P10: 0 | R10: 0 | S10: 0 | T10: 0
B11: 農業，林業 | C11: 2 | D11: 畜産農業 | E11: A012 | F11: 404.4 | G11: 0 | H11: 1 | I11: 0 | J11: 0 | K11: 0 | L11: 1 | N11: 0 | O11: 0 | P11: 1 | R11: 404.4 | S11: 0 | T11: 0 | U11: 0
C12: 3 | D12: 林業 | E12: A02 | F12: 1.418 | G12: 0 | H12: 1 | I12: 0 | J12: 89.907 | K12: 0 | L12: 1 | M12: 0 | N12: 0 | O12: 0 | P12: 1 | R12: 91.325 | S12: 0 | T12: 0 | U12: 0
C13: 4 | D13: 上記以外の農業，林業 | F13: 0 | G13: 0 | H13: 0 | J13: 0 | K13: 0 | L13: 0 | N13: 0 | O13: 0 | P13: 0 | R13: 0 | S13: 0 | T13: 0
D14: 漁業大分類 | E14: B | F14: 124.333 | G14: 0 | H14: 8 | I14: 0 | J14: 0.5 | K14: 0 | L14: 8 | M14: 0 | N14: 13.75 | O14: 0 | P14: 8 | Q14: 0 | R14: 138.583 | S14: 0 | T14: 0 | U14: 0
B15: 漁 業 | C15: 5 | D15: 漁業 | E15: B03 | F15: 124.333 | G15: 0 | H15: 0 | I15: 0 | J15: 0 | K15: 0 | L15: 0 | N15: 13.75 | O15: 0 | P15: 0 | Q15: 0 | R15: 138.083 | S15: 0 | T15: 0 | U15: 0
C16: 6 | D16: 水産養殖業 | E16: B04 | F16: 0 | G16: 0 | H16: 0 | J16: 0 | K16: 0 | L16: 0 | N16: 0 | O16: 0 | P16: 0 | R16: 0 | S16: 0 | T16: 0
B17: 鉱 業 | C17: 7 | D17: 鉱業，採石業，砂利採取業 | E17: C | F17: 32.899 | G17: 0 | H17: 8 | I17: 0 | J17: 40.42 | K17: 2.5 | L17: 8 | M17: 0.061850569 | N17: 126 | O17: 0 | P17: 8 | Q17: 0 | R17: 199.319 | S17: 2.5 | T17: 0 | U17: 0.012542708
B18: 建設業 | C18: 8 | D18: 建設業 | E18: D | F18: 251774.33 | G18: 782.0569 | H18: 8 | I18: 0.0031061821 | J18: 282184.08 | K18: 4132.0405 | L18: 8 | M18: 0.014643068 | N18: 8008127 | O18: 26366.515 | P18: 8 | Q18: 0.0032924696 | R18: 8542085.5 | S18: 31280.612 | T18: 0 | U18: 0.0036619409
D19: 製造業大分類 | E19: E | F19: 457081.69 | G19: 284.96609 | H19: 0 | I19: 0.00062344673 | J19: 667831.34 | K19: 456.19612 | L19: 0 | M19: 0.00068310079 | N19: 29042.943 | O19: 64.64709 | P19: 0 | Q19: 0.0022259139 | R19: 1153956 | S19: 805.80929 | T19: 0 | U19: 0.00069830159
C20: 9 | D20: 食料品製造業 | E20: E09 | F20: 31790.035 | G20: 17.500168 | H20: 8 | I20: 0.00055049225 | J20: 15992.322 | K20: 31.380252 | L20: 8 | M20: 0.0019622073 | N20: 4.913 | O20: 0 | P20: 8 | Q20: 0 | R20: 47787.27 | S20: 48.88042 | T20: 0 | U20: 0.0010228753
C21: 10 | D21: 飲料・たばこ・飼料製造業 | E21: E10 | F21: 3428.3056 | G21: 1.2674061 | H21: 8 | I21: 0.00036968879 | J21: 1288.689 | K21: 1.7864465 | L21: 8 | M21: 0.0013862511 | N21: 30.58 | O21: 0 | P21: 8 | Q21: 0 | R21: 4747.5746 | S21: 3.0538527 | T21: 0 | U21: 0.0006432448
C22: 11 | D22: 繊維工業 | E22: E11 | F22: 19304.902 | G22: 4.1678917 | H22: 8 | I22: 0.00021589811 | J22: 546.28268 | K22: 0 | L22: 8 | M22: 0 | N22: 221.80216 | O22: 0 | P22: 8 | Q22: 0 | R22: 20072.987 | S22: 4.1678917 | T22: 0 | U22: 0.00020763685
C23: 12 | D23: 木材・木製品製造業 | E23: E12 | F23: 11437.992 | G23: 33.132126 | H23: 8 | I23: 0.0028966732 | J23: 4140.827 | K23: 10.12184 | L23: 8 | M23: 0.0024444006 | N23: 579.9 | O23: 0 | P23: 8 | Q23: 0 | R23: 16158.719 | S23: 43.253966 | T23: 0 | U23: 0.0026768189
C24: 13 | D24: 家具・装備品製造業 | E24: E13 | F24: 1122.1222 | G24: 1.420838 | H24: 8 | I24: 0.0012662061 | J24: 1182.3887 | K24: 5.4 | L24: 8 | M24: 0.004567026 | N24: 90.45964 | O24: 0 | P24: 8 | Q24: 0 | R24: 2394.9706 | S24: 6.820838 | T24: 0 | U24: 0.0028479841
C25: 14 | D25: パルプ・紙・紙加工品製造業 | E25: E14 | F25: 123383.41 | G25: 30.241742 | H25: 8 | I25: 0.00024510379 | J25: 13151.174 | K25: 0.05 | L25: 8 | M25: 3.8019419e-06 | N25: 32.6683 | O25: 0.0044271927 | P25: 8 | Q25: 0.00013551953 | R25: 136567.26 | S25: 30.296169 | T25: 0 | U25: 0.00022184065
C26: 15 | D26: 印刷・同関連業 | E26: E15 | F26: 10276.815 | G26: 0.33220932 | H26: 8 | I26: 3.2326099e-05 | J26: 2.76764 | K26: 0 | L26: 8 | M26: 0 | N26: 8.73518 | O26: 0 | P26: 8 | Q26: 0 | R26: 10288.317 | S26: 0.33220932 | T26: 0 | U26: 3.2289957e-05
C27: 16 | D27: 化学工業 | E27: E16 | F27: 36782.998 | G27: 46.851252 | H27: 8 | I27: 0.0012737203 | J27: 11988.743 | K27: 91.176177 | L27: 8 | M27: 0.0076051489 | N27: 60.38543 | O27: 0.0027037583 | P27: 8 | Q27: 4.477501e-05 | R27: 48832.127 | S27: 138.03013 | T27: 0 | U27: 0.0028266255
C28: 17 | D28: 石油製品・石炭製品製造業 | E28: E17 | F28: 1090.931 | G28: 0.034671724 | H28: 8 | I28: 3.1781775e-05 | J28: 27815.539 | K28: 0.53 | L28: 8 | M28: 1.9054098e-05 | N28: 35.21 | O28: 0 | P28: 8 | Q28: 0 | R28: 28941.68 | S28: 0.56467172 | T28: 0 | U28: 1.9510675e-05
B29: 製造業 | C29: 18 | D29: プラスチック製品製造業 | E29: E18 | F29: 61021.853 | G29: 4.8108164 | H29: 8 | I29: 7.8837598e-05 | J29: 603.11672 | K29: 2.0686687 | L29: 8 | M29: 0.0034299641 | N29: 53.135 | O29: 0 | P29: 8 | Q29: 0 | R29: 61678.105 | S29: 6.879485 | T29: 0 | U29: 0.00011153853
C30: 19 | D30: ゴム製品製造業 | E30: E19 | F30: 38126.296 | G30: 76.138568 | H30: 8 | I30: 0.0019970093 | J30: 571.00444 | K30: 3.2685923 | L30: 8 | M30: 0.0057242853 | N30: 1.66 | O30: 0 | P30: 8 | Q30: 0 | R30: 38698.961 | S30: 79.407161 | T30: 0 | U30: 0.0020519197
C31: 20 | D31: なめし革・同製品・毛皮製造業 | E31: E20 | F31: 1837.5727 | G31: 0.70754782 | H31: 8 | I31: 0.0003850448 | J31: 2.336 | K31: 0 | L31: 8 | M31: 0 | N31: 0 | O31: 0 | P31: 8 | R31: 1839.9087 | S31: 0.70754782 | T31: 0 | U31: 0.00038455594
C32: 21 | D32: 窯業・土石製品製造業 | E32: E21 | F32: 5825.1782 | G32: 7.866493 | H32: 8 | I32: 0.0013504296 | J32: 496267.6 | K32: 85.480986 | L32: 8 | M32: 0.00017224777 | N32: 24332.725 | O32: 59.986058 | P32: 8 | Q32: 0.0024652421 | R32: 526425.5 | S32: 153.33354 | T32: 0 | U32: 0.00029127301
C33: 22 | D33: 鉄鋼業 | E33: E22 | F33: 5461.4726 | G33: 2.0549341 | H33: 8 | I33: 0.00037626008 | J33: 50153.292 | K33: 105.67612 | L33: 8 | M33: 0.0021070624 | N33: 1287.1511 | O33: 0 | P33: 8 | Q33: 0 | R33: 56901.916 | S33: 107.73105 | T33: 0 | U33: 0.0018932764
C34: 23 | D34: 非鉄金属製造業 | E34: E23 | F34: 2397.6506 | G34: 33.607243 | H34: 8 | I34: 0.014016739 | J34: 3570.112 | K34: 12.11254 | L34: 8 | M34: 0.003392762 | N34: 37.29777 | O34: 0 | P34: 8 | Q34: 0 | R34: 6005.0603 | S34: 45.719783 | T34: 0 | U34: 0.0076135427
C35: 24 | D35: 金属製品製造業 | E35: E24 | F35: 9383.2644 | G35: 3.4742197 | H35: 8 | I35: 0.00037025704 | J35: 11903.945 | K35: 6.680444 | L35: 8 | M35: 0.00056119579 | N35: 365.25284 | O35: 0.7733623 | P35: 8 | Q35: 0.0021173341 | R35: 21652.462 | S35: 10.928026 | T35: 0 | U35: 0.0005047013
C36: 25 | D36: はん用機械器具製造業 | E36: E25 | F36: 1435.7703 | G36: 0.5152788 | H36: 8 | I36: 0.00035888665 | J36: 1279.783 | K36: 0 | L36: 8 | M36: 0 | N36: 17.358 | O36: 0 | P36: 8 | Q36: 0 | R36: 2732.9113 | S36: 0.5152788 | T36: 0 | U36: 0.00018854574
C37: 26 | D37: 生産用機械器具製造業 | E37: E26 | F37: 3985.9832 | G37: 1.4604621 | H37: 8 | I37: 0.00036639945 | J37: 1063.4217 | K37: 1.0250654 | L37: 8 | M37: 0.00096393127 | N37: 328.5391 | O37: 0 | P37: 8 | Q37: 0 | R37: 5377.944 | S37: 2.4855275 | T37: 0 | U37: 0.00046217058
C38: 27 | D38: 業務用機械器具製造業 | E38: E27 | F38: 3117.2052 | G38: 0.010936516 | H38: 8 | I38: 3.5084364e-06 | J38: 504.22366 | K38: 0 | L38: 8 | M38: 0 | N38: 26.098 | O38: 3.806 | P38: 8 | Q38: 0.14583493 | R38: 3647.5268 | S38: 3.8169365 | T38: 0 | U38: 0.0010464451
C39: 28 | D39: 電子部品・デバイス・電子回路製造業 | E39: E28 | F39: 10442.743 | G39: 1.2542391 | H39: 8 | I39: 0.00012010629 | J39: 377.8925 | K39: 1.3484571 | L39: 8 | M39: 0.0035683617 | N39: 498.91636 | O39: 0.00071062482 | P39: 8 | Q39: 1.4243366e-06 | R39: 11319.552 | S39: 2.6034069 | T39: 0 | U39: 0.00022999204
C40: 29 | D40: 電気機械器具製造業 | E40: E29 | F40: 7621.0378 | G40: 6.1997476 | H40: 8 | I40: 0.00081350437 | J40: 4548.4809 | K40: 8.6518234 | L40: 8 | M40: 0.0019021347 | N40: 251.01264 | O40: 0.073827222 | P40: 8 | Q40: 0.00029411755 | R40: 12420.531 | S40: 14.925398 | T40: 0 | U40: 0.0012016715
C41: 30 | D41: 情報通信機械器具製造業 | E41: E30 | F41: 3127.5097 | G41: 1.4129723 | H41: 8 | I41: 0.00045178831 | J41: 199.53392 | K41: 0.030374135 | L41: 8 | M41: 0.00015222542 | N41: 593.9295 | O41: 0 | P41: 8 | Q41: 0 | R41: 3920.9732 | S41: 1.4433465 | T41: 0 | U41: 0.00036810925
C42: 31 | D42: 輸送用機械器具製造業 | E42: E31 | F42: 18157.546 | G42: 1.8092461 | H42: 8 | I42: 9.9641552e-05 | J42: 2381.7461 | K42: 33.623331 | L42: 8 | M42: 0.014117093 | N42: 155.799 | O42: 0 | P42: 8 | Q42: 0 | R42: 20695.091 | S42: 35.432577 | T42: 0 | U42: 0.0017121247
C43: 32 | D43: その他の製造業 | E43: E32 | F43: 46523.094 | G43: 8.6950778 | H43: 8 | I43: 0.0001868981 | J43: 18296.118 | K43: 55.785 | L43: 8 | M43: 0.0030490074 | N43: 29.415 | O43: 0 | P43: 8 | Q43: 0 | R43: 64848.627 | S43: 64.480078 | T43: 0 | U43: 0.00099431678
D44: 電気・ガス・熱供給・水道業大分類 | E44: F | F44: 1040.2995 | G44: 1.1782104 | H44: 0 | I44: 0.0011325685 | J44: 14985.732 | K44: 3.7580601 | L44: 0 | M44: 0.00025077588 | N44: 1182.106 | O44: 1.8877918 | P44: 0 | Q44: 0.0015969733 | R44: 17208.138 | S44: 6.8240622 | T44: 0 | U44: 0.00039656019
B45: 電気･ガス | C45: 33 | D45: 電気業 | E45: F33 | F45: 770.018 | G45: 1.1380059 | H45: 8 | I45: 0.0014778952 | J45: 14781.146 | K45: 3.5740569 | L45: 8 | M45: 0.00024179836 | N45: 677.53 | O45: 1.8576071 | P45: 8 | Q45: 0.0027417341 | R45: 16228.694 | S45: 6.56967 | T45: 0 | U45: 0.00040481816
B46: ･熱供給･ | C46: 34 | D46: ガス業 | E46: F34 | F46: 17.25 | G46: 0.038069187 | H46: 7 | I46: 0.0022069094 | J46: 1 | K46: 0.0033839277 | L46: 7 | M46: 0.0033839277 | N46: 8.92 | O46: 0.030184635 | P46: 7 | Q46: 0.0033839277 | R46: 27.17 | S46: 0.07163775 | T46: 0 | U46: 0.0026366489
B47: 水道業 | C47: 35 | D47: 熱供給業 | E47: F35 | F47: 0 | G47: 0 | H47: 5 | J47: 0 | K47: 0 | L47: 5 | N47: 0 | O47: 0 | P47: 5 | R47: 0 | S47: 0 | T47: 0
C48: 36 | D48: 上水道業 | E48: F361 | F48: 11.27148 | G48: 3.045535e-05 | H48: 8 | I48: 2.7019832e-06 | J48: 13.00904 | K48: 0 | L48: 8 | M48: 0 | N48: 494.296 | O48: 0 | P48: 8 | Q48: 0 | R48: 518.57652 | S48: 3.045535e-05 | T48: 0 | U48: 5.8728748e-08
C49: 37 | D49: 下水道業 | E49: F363 | F49: 241.76 | G49: 0.002104803 | H49: 8 | I49: 8.7061675e-06 | J49: 190.577 | K49: 0.18061926 | L49: 8 | M49: 0.00094774951 | N49: 1.36 | O49: 0 | P49: 8 | Q49: 0 | R49: 433.697 | S49: 0.18272406 | T49: 0 | U49: 0.00042131733
D50: 情報通信業大分類 | E50: G | F50: 1132.6505 | G50: 0 | H50: 8 | I50: 0 | J50: 3907.486 | K50: 0 | L50: 8 | M50: 0 | N50: 674.56252 | O50: 0 | P50: 8 | Q50: 0 | R50: 5714.699 | S50: 0 | T50: 0 | U50: 0
C51: 38 | D51: 通信業 | E51: G37 | F51: 623.3048 | G51: 0 | H51: 0 | I51: 0 | J51: 0 | K51: 0 | L51: 0 | N51: 0 | O51: 0 | P51: 0 | R51: 623.3048 | S51: 0 | T51: 0 | U51: 0
B52: 情報通信業 | C52: 39 | D52: 放送業 | E52: G38 | F52: 32.805516 | G52: 0 | H52: 0 | I52: 0 | J52: 0 | K52: 0 | L52: 0 | N52: 0 | O52: 0 | P52: 0 | R52: 32.805516 | S52: 0 | T52: 0 | U52: 0
C53: 40 | D53: 情報サービス業 | E53: G39 | F53: 360.86067 | G53: 0 | H53: 0 | I53: 0 | J53: 0 | K53: 0 | L53: 0 | N53: 0 | O53: 0 | P53: 0 | R53: 360.86067 | S53: 0 | T53: 0 | U53: 0
C54: 41 | D54: インターネット付随サービス業 | E54: G40 | F54: 0 | G54: 0 | H54: 0 | J54: 0 | K54: 0 | L54: 0 | N54: 0 | O54: 0 | P54: 0 | R54: 0 | S54: 0 | T54: 0
C55: 42 | D55: 映像・音声・文字情報制作業 | E55: G41 | F55: 115.67954 | G55: 0 | H55: 0 | I55: 0 | J55: 1.31596 | K55: 0 | L55: 0 | M55: 0 | N55: 0 | O55: 0 | P55: 0 | R55: 116.9955 | S55: 0 | T55: 0 | U55: 0
D56: 運輸業，郵便業大分類 | E56: H | F56: 12386.306 | G56: 0.491 | H56: 7 | I56: 3.9640551e-05 | J56: 10418.035 | K56: 0.89 | L56: 7 | M56: 8.5428778e-05 | N56: 777.516 | O56: 0 | P56: 7 | Q56: 0 | R56: 23581.857 | S56: 1.381 | T56: 0 | U56: 5.8561969e-05
B57: 運輸業， | C57: 43 | D57: 鉄道業 | E57: H42 | F57: 1105.0448 | G57: 0 | H57: 1 | I57: 0 | J57: 4212.4895 | K57: 0.89 | L57: 1 | M57: 0.00021127649 | N57: 284.27117 | O57: 0 | P57: 1 | Q57: 0 | R57: 5601.8054 | S57: 0.89 | T57: 0 | U57: 0.00015887735
B58: 郵便業 | C58: 44 | D58: 道路旅客運送業 | E58: H43 | F58: 1204.3062 | G58: 0 | H58: 1 | I58: 0 | J58: 145.12667 | K58: 0 | L58: 1 | M58: 0 | N58: 26.18351 | O58: 0 | P58: 1 | Q58: 0 | R58: 1375.6164 | S58: 0 | T58: 0 | U58: 0
C59: 45 | D59: 道路貨物運送業 | E59: H44 | F59: 8479.984 | G59: 0.451 | H59: 1 | I59: 5.3184063e-05 | J59: 6059.2089 | K59: 0 | L59: 1 | M59: 0 | N59: 140.28232 | O59: 0 | P59: 1 | Q59: 0 | R59: 14679.475 | S59: 0.451 | T59: 0 | U59: 3.0723169e-05
C60: 46 | D60: 上記以外の運輸業，郵便業 | F60: 1596.9713 | G60: 0.04 | H60: 1 | I60: 2.5047414e-05 | J60: 1.21 | K60: 0 | L60: 1 | M60: 0 | N60: 326.779 | O60: 0 | P60: 1 | Q60: 0 | R60: 1924.9603 | S60: 0.04 | T60: 0 | U60: 2.077965e-05
D61: 卸売業，小売業大分類 | E61: I | F61: 43374.173 | G61: 0 | H61: 7 | I61: 0 | J61: 11014.892 | K61: 0 | L61: 7 | M61: 0 | N61: 4197.5464 | O61: 0 | P61: 7 | Q61: 0 | R61: 58586.612 | S61: 0 | T61: 0 | U61: 0
C62: 47 | D62: 各種商品卸売業 | E62: I50 | F62: 124.03549 | G62: 0 | H62: 1 | I62: 0 | J62: 9.0383925 | K62: 0 | L62: 1 | M62: 0 | N62: 134.4984 | O62: 0 | P62: 1 | Q62: 0 | R62: 267.57228 | S62: 0 | T62: 0 | U62: 0
C63: 48 | D63: 木材・竹材卸売業 | E63: I5311 | F63: 3743.2719 | G63: 0 | H63: 1 | I63: 0 | J63: 9889.2805 | K63: 0 | L63: 1 | M63: 0 | N63: 2399.273 | O63: 0 | P63: 1 | Q63: 0 | R63: 16031.825 | S63: 0 | T63: 0 | U63: 0
C64: 49 | D64: 各種商品小売業 | E64: I56 | F64: 1103.6432 | G64: 0 | H64: 1 | I64: 0 | J64: 37.76457 | K64: 0 | L64: 1 | M64: 0 | N64: 31.485 | O64: 0 | P64: 1 | Q64: 0 | R64: 1172.8927 | S64: 0 | T64: 0 | U64: 0
B65: 卸売業， | C65: 50 | D65: 自動車小売業 | E65: I591 | F65: 7887.1683 | G65: 0 | H65: 1 | I65: 0 | J65: 145.98019 | K65: 0 | L65: 1 | M65: 0 | N65: 67.178 | O65: 0 | P65: 1 | Q65: 0 | R65: 8100.3265 | S65: 0 | T65: 0 | U65: 0
B66: 小売業 | C66: 51 | D66: 機械器具小売業 | E66: I593 | F66: 13592.108 | G66: 0 | H66: 1 | I66: 0 | J66: 91.239336 | K66: 0 | L66: 1 | M66: 0 | N66: 526.353 | O66: 0 | P66: 1 | Q66: 0 | R66: 14209.7 | S66: 0 | T66: 0 | U66: 0
C67: 52 | D67: 家具・建具・畳小売業 | E67: I601 | F67: 211.65678 | G67: 0 | H67: 1 | I67: 0 | J67: 0.267 | K67: 0 | L67: 1 | M67: 0 | N67: 58.855 | O67: 0 | P67: 1 | Q67: 0 | R67: 270.77878 | S67: 0 | T67: 0 | U67: 0
C68: 53 | D68: じゅう器小売業 | E68: I602 | F68: 7.465 | G68: 0 | H68: 1 | I68: 0 | J68: 0 | K68: 0 | L68: 1 | N68: 0 | O68: 0 | P68: 1 | R68: 7.465 | S68: 0 | T68: 0 | U68: 0
C69: 54 | D69: 燃料小売業 | E69: I605 | F69: 1643.5141 | G69: 0 | H69: 1 | I69: 0 | J69: 78.140196 | K69: 0 | L69: 1 | M69: 0 | N69: 698.79419 | O69: 0 | P69: 1 | Q69: 0 | R69: 2420.4485 | S69: 0 | T69: 0 | U69: 0
C70: 55 | D70: 上記以外の卸売業，小売業 | F70: 15061.31 | G70: 0 | H70: 1 | I70: 0 | J70: 763.18194 | K70: 0 | L70: 1 | M70: 0 | N70: 281.1098 | O70: 0 | P70: 1 | Q70: 0 | R70: 16105.602 | S70: 0 | T70: 0 | U70: 0
B71: 不動産業， | D71: 不動産業，物品賃貸業大分類 | E71: K | F71: 1353.7495 | G71: 0 | H71: 7 | I71: 0 | J71: 4889.4172 | K71: 0 | L71: 7 | M71: 0 | N71: 201.0213 | O71: 0 | P71: 7 | Q71: 0 | R71: 6444.188 | S71: 0 | T71: 0 | U71: 0
B72: 物品賃貸業 | C72: 56 | D72: 物品賃貸業 | E72: K70 | F72: 1353.7495 | G72: 0 | H72: 0 | I72: 0 | J72: 4889.4172 | K72: 0 | L72: 0 | M72: 0 | N72: 201.0213 | O72: 0 | P72: 0 | Q72: 0 | R72: 6444.188 | S72: 0 | T72: 0 | U72: 0
B73: 学術研究，専門 | D73: 学術研究，専門・技術サービス業大分類 | E73: L | F73: 1505.9623 | G73: 0 | H73: 7 | I73: 0 | J73: 527.4878 | K73: 0 | L73: 7 | M73: 0 | N73: 1256.086 | O73: 0 | P73: 7 | Q73: 0 | R73: 3289.5361 | S73: 0 | T73: 0 | U73: 0
B74: ・技術サービス業 | C74: 57 | D74: 学術・開発研究機関 | E74: L71 | F74: 1451.1797 | G74: 0 | H74: 1 | I74: 0 | J74: 527.4878 | K74: 0 | L74: 1 | M74: 0 | N74: 1256.086 | O74: 0 | P74: 1 | Q74: 0 | R74: 3234.7535 | S74: 0 | T74: 0 | U74: 0
C75: 58 | D75: 写真業 | E75: L746 | F75: 54.782582 | G75: 0 | H75: 1 | I75: 0 | J75: 0 | K75: 0 | L75: 1 | N75: 0 | O75: 0 | P75: 1 | R75: 54.782582 | S75: 0 | T75: 0 | U75: 0
B76: 宿泊業，飲食 | D76: 宿泊業，飲食サービス業大分類 | E76: M | F76: 1978.6311 | G76: 0 | H76: 7 | I76: 0 | J76: 1065.9182 | K76: 0 | L76: 7 | M76: 0 | N76: 52.229 | O76: 0 | P76: 7 | Q76: 0 | R76: 3096.7783 | S76: 0 | T76: 0 | U76: 0
B77: サービス業 | C77: 59 | D77: 飲食店 | E77: M76 | F77: 970.8707 | G77: 0 | H77: 1 | I77: 0 | J77: 63.916818 | K77: 0 | L77: 1 | M77: 0 | N77: 0 | O77: 0 | P77: 1 | R77: 1034.7875 | S77: 0 | T77: 0 | U77: 0
C78: 60 | D78: 上記以外の宿泊業，飲食サービス業 | F78: 1007.7604 | G78: 0 | H78: 1 | I78: 0 | J78: 1002.0014 | K78: 0 | L78: 1 | M78: 0 | N78: 52.229 | O78: 0 | P78: 1 | Q78: 0 | R78: 2061.9908 | S78: 0 | T78: 0 | U78: 0
B79: 生活関連サー | D79: 生活関連サービス業，娯楽業大分類 | E79: N | F79: 4687.6406 | G79: 0 | H79: 7 | I79: 0 | J79: 1536.92 | K79: 0 | L79: 7 | M79: 0 | N79: 0.477 | O79: 0 | P79: 7 | Q79: 0 | R79: 6225.0376 | S79: 0 | T79: 0 | U79: 0
B80: ビス業，娯楽業 | C80: 61 | D80: 洗濯業 | E80: N781 | F80: 255.3038 | G80: 0 | H80: 1 | I80: 0 | J80: 0.037 | K80: 0 | L80: 1 | M80: 0 | N80: 0.477 | O80: 0 | P80: 1 | Q80: 0 | R80: 255.8178 | S80: 0 | T80: 0 | U80: 0
B81: 教育，学習支援業 | C81: 62 | D81: 教育，学習支援業 | E81: O | F81: 2311.2981 | G81: 10.4227 | H81: 8 | I81: 0.0045094574 | J81: 1106.2143 | K81: 14.822165 | L81: 8 | M81: 0.013399 | N81: 149.1339 | O81: 0 | P81: 8 | Q81: 0 | R81: 3566.6464 | S81: 25.244866 | T81: 0 | U81: 0.0070780401
D82: 医療，福祉大分類 | E82: P | F82: 19668.384 | G82: 0 | H82: 7 | I82: 0 | J82: 7752.9104 | K82: 0 | L82: 7 | M82: 0 | N82: 150.69324 | O82: 0 | P82: 7 | Q82: 0 | R82: 27571.987 | S82: 0 | T82: 0 | U82: 0
B83: 医療，福祉 | C83: 63 | D83: 医療業 | E83: P83 | F83: 16091.49 | G83: 0 | H83: 1 | I83: 0 | J83: 4628.5067 | K83: 0 | L83: 1 | M83: 0 | N83: 97.6563 | O83: 0 | P83: 1 | Q83: 0 | R83: 20817.653 | S83: 0 | T83: 0 | U83: 0
C84: 64 | D84: 上記以外の医療，福祉 | F84: 3576.8936 | G84: 0 | H84: 1 | I84: 0 | J84: 3124.4037 | K84: 0 | L84: 1 | M84: 0 | N84: 53.03694 | O84: 0 | P84: 1 | Q84: 0 | R84: 6754.3342 | S84: 0 | T84: 0 | U84: 0
B85: 教育、学習支援業 | C85: 65 | D85: 複合サービス事業 | E85: Q | F85: 1462.915 | G85: 3.3631039 | H85: 7 | I85: 0.0022989058 | J85: 80.248319 | K85: 0.00028932582 | L85: 7 | M85: 3.6053817e-06 | N85: 61.496256 | O85: 0 | P85: 7 | Q85: 0 | R85: 1604.6596 | S85: 3.3633932 | T85: 0 | U85: 0.0020960166
D86: サービス業大分類 | E86: R | F86: 192707.66 | G86: 0 | H86: 7 | I86: 0 | J86: 47587.626 | K86: 0 | L86: 7 | M86: 0 | N86: 494.10759 | O86: 0 | P86: 7 | Q86: 0 | R86: 240789.39 | S86: 0 | T86: 0 | U86: 0
B87: サービス業 | C87: 66 | D87: 自動車整備業 | E87: R891 | F87: 77495.604 | G87: 0 | H87: 1 | I87: 0 | J87: 24677.554 | K87: 0 | L87: 1 | M87: 0 | N87: 52.214 | O87: 0 | P87: 1 | Q87: 0 | R87: 102225.37 | S87: 0 | T87: 0 | U87: 0
C88: 67 | D88: と畜場 | E88: R952 | F88: 176.8327 | G88: 0 | H88: 1 | I88: 0 | J88: 0.3288 | K88: 0 | L88: 1 | M88: 0 | N88: 0.1781 | O88: 0 | P88: 1 | Q88: 0 | R88: 177.3396 | S88: 0 | T88: 0 | U88: 0
C89: 68 | D89: 上記以外のサービス業 | F89: 115035.22 | G89: 0 | H89: 1 | I89: 0 | J89: 22909.743 | K89: 0 | L89: 1 | M89: 0 | N89: 441.71549 | O89: 0 | P89: 1 | Q89: 0 | R89: 138386.68 | S89: 0 | T89: 0 | U89: 0
B90: 公務 | C90: 69 | D90: 公務 | E90: Ｓ | F90: 1902.3948 | G90: 0.0083650694 | H90: 7 | I90: 4.3971259e-06 | J90: 2237.9884 | K90: 8.7982121e-05 | L90: 7 | M90: 3.9313037e-08 | N90: 523.28032 | O90: 0 | P90: 7 | Q90: 0 | R90: 4663.6635 | S90: 0.0084530515 | T90: 0 | U90: 1.8125346e-06
D91: 合計 | F91: 1001685 | G91: 1082.4864 | H91: 0 | I91: 0.0010806655 | J91: 1058897.2 | K91: 4610.2072 | L91: 0 | M91: 0.0043537819 | N91: 8047040.4 | O91: 26433.05 | P91: 0 | Q91: 0.0032848163 | R91: 10107623 | S91: 32125.744 | T91: 0 | U91: 0.0031783679
G92: =G91/1000 -> 1.0824864 | K92: =K91/1000 -> 4.6102072 | O92: =O91/1000 -> 26.43305 | S92: =S91/1000 -> 32.125744
B96: H30
B97: 大分類 | C97: 番 | D97: 産業分類 | E97: コード | F97: 廃プラスチック類 | J97: ガラスくず、コンクリート及び陶磁器くず | N97: がれき類 | R97: 合 計
C98: 号 | F98: 母数排出量 | G98: うち石綿含有 | H98: データ数(件) | I98: 比率 | J98: 母数排出量 | K98: うち石綿含有 | L98: データ数(件) | M98: 比率 | N98: 母数排出量 | O98: うち石綿含有 | P98: データ数(件) | Q98: 比率 | R98: 母数排出量 | S98: うち石綿含有 | T98: データ数(件) | U98: 比率
D99: 農業，林業大分類 | E99: A | F99: 6565.4682 | G99: 0 | H99: 7 | I99: 0 | J99: 2396.1723 | K99: 0 | L99: 7 | M99: 0 | N99: 147 | O99: 0 | P99: 8 | Q99: 0 | R99: 9108.6405 | S99: 0 | T99: 0 | U99: 0
C100: 1 | D100: 耕種農業 | E100: A011 | F100: 0 | G100: 0 | H100: 0 | J100: 0 | K100: 0 | L100: 0
B101: 農業，林業 | C101: 2 | D101: 畜産農業 | E101: A012 | F101: 0 | G101: 0 | H101: 0 | J101: 0 | K101: 0 | L101: 0
C102: 3 | D102: 林業 | E102: A02 | F102: 0 | G102: 0 | H102: 0 | J102: 0 | K102: 0 | L102: 0
C103: 4 | D103: 上記以外の農業，林業 | F103: 0 | G103: 0 | H103: 0 | J103: 0 | K103: 0 | L103: 0
D104: 漁業大分類 | E104: B | F104: 102.828 | G104: 0 | H104: 7 | I104: 0 | J104: 16.93 | K104: 0 | L104: 7 | M104: 0 | N104: 0 | O104: 0 | P104: 7 | R104: 119.758 | S104: 0 | T104: 0 | U104: 0
B105: 漁 業 | C105: 5 | D105: 漁業 | E105: B03 | F105: 0 | G105: 0 | H105: 0 | J105: 0 | K105: 0 | L105: 0
C106: 6 | D106: 水産養殖業 | E106: B04 | F106: 0 | G106: 0 | H106: 0 | J106: 0 | K106: 0 | L106: 0
...

Sheet 表V3
B1: 表－Ⅴ・３ 石綿含有産業廃棄物の処理量の集計結果
B3: 報告書P52で利用
L5: （単位：ｔ/年）
B6: 廃棄物種類 | C6: 排出量 | D6: 直接再生 利用量 | E6: 直接最終 処分量 | F6: 中間処理量 | J6: 再生利用量 計 | K6: 減量化量 計 | L6: 最終処分量 計
F7: 中間処理量 | G7: 処理残渣量 | H7: 中間処理後 再生利用量 | I7: 中間処理後 最終処分量
B8: 石綿含有 廃プラスチック類 | C8: =AB8 -> 0 | D8: =S8 -> 0 | E8: =T8 -> 0 | F8: =U8 -> 0 | G8: =W8 -> 0 | H8: =X8 -> 0 | I8: =Y8 -> 0 | J8: =AC8 -> 0 | K8: =AD8 -> 0 | L8: =AE8 -> 0
D9: =D8/$C8 -> #DIV/0! | E9: =E8/$C8 -> #DIV/0! | F9: =F8/$C8 -> #DIV/0! | G9: =G8/$C8 -> #DIV/0! | H9: =H8/$C8 -> #DIV/0! | I9: =I8/$C8 -> #DIV/0! | J9: =J8/$C8 -> #DIV/0! | K9: =K8/$C8 -> #DIV/0! | L9: =L8/$C8 -> #DIV/0!
B10: 石綿含有 ガラスくず、コンクリート 及び陶磁器くず | C10: =AB9 -> 0 | D10: =S9 -> 0 | E10: =T9 -> 0 | F10: =U9 -> 0 | G10: =W9 -> 0 | H10: =X9 -> 0 | I10: =Y9 -> 0 | J10: =AC9 -> 0 | K10: =AD9 -> 0 | L10: =AE9 -> 0
D11: =D10/$C10 -> #DIV/0! | E11: =E10/$C10 -> #DIV/0! | F11: =F10/$C10 -> #DIV/0! | G11: =G10/$C10 -> #DIV/0! | H11: =H10/$C10 -> #DIV/0! | I11: =I10/$C10 -> #DIV/0! | J11: =J10/$C10 -> #DIV/0! | K11: =K10/$C10 -> #DIV/0! | L11: =L10/$C10 -> #DIV/0!
B12: 石綿含有 がれき類 | C12: =AB10 -> 0 | D12: =S10 -> 0 | E12: =T10 -> 0 | F12: =U10 -> 0 | G12: =W10 -> 0 | H12: =X10 -> 0 | I12: =Y10 -> 0 | J12: =AC10 -> 0 | K12: =AD10 -> 0 | L12: =AE10 -> 0
D13: =D12/$C12 -> #DIV/0! | E13: =E12/$C12 -> #DIV/0! | F13: =F12/$C12 -> #DIV/0! | G13: =G12/$C12 -> #DIV/0! | H13: =H12/$C12 -> #DIV/0! | I13: =I12/$C12 -> #DIV/0! | J13: =J12/$C12 -> #DIV/0! | K13: =K12/$C12 -> #DIV/0! | L13: =L12/$C12 -> #DIV/0!
B14: 合計 | C14: =SUM(C8,C10,C12) -> 0 | D14: =SUM(D8,D10,D12) -> 0 | E14: =SUM(E8,E10,E12) -> 0 | F14: =SUM(F8,F10,F12) -> 0 | G14: =SUM(G8,G10,G12) -> 0 | H14: =SUM(H8,H10,H12) -> 0 | I14: =SUM(I8,I10,I12) -> 0 | J14: =D14+H14 -> 0 | K14: =SUM(K8,K10,K12) -> 0 | L14: =E14+I14 -> 0
D15: =D14/$C14 -> #DIV/0! | E15: =E14/$C14 -> #DIV/0! | F15: =F14/$C14 -> #DIV/0! | G15: =G14/$C14 -> #DIV/0! | H15: =H14/$C14 -> #DIV/0! | I15: =I14/$C14 -> #DIV/0! | J15: =J14/$C14 -> #DIV/0! | K15: =K14/$C14 -> #DIV/0! | L15: =L14/$C14 -> #DIV/0!
B16: ※四捨五入により、各項目の合算値と合計値が合致しない場合がある。

Sheet 表Ⅵ1
B1: 表―Ⅵ・1 都道府県の水銀使用産業廃棄物実態調査の実施状況
B6: №都道府県 | D6: 産業分類 （新/旧） | E6: 調査年度 | O6: 調査年度
E7: 平成20年度 | F7: 平成21年度 | G7: 平成22年度 | H7: 平成23年度 | I7: 平成24年度 | J7: 平成25年度 | K7: 平成26年度 | L7: 平成27年度 | M7: 平成28年度 | N7: 平成29年度 | O7: 平成30年度 | P7: 令和元年度 | Q7: 令和2年度 | R7: 令和3年度 | S7: 令和４年度 | T7: 令和５年度
B8: 1 | C8: 北海道 | D8: 新 | P8: ○ | Q8: ○ | T8: ●
B9: 2 | C9: 青森県 | D9: 新 | O9: ○
B10: 3 | C10: 岩手県 | D10: 新 | O10: ○
B11: 4 | C11: 宮城県 | D11: 新 | O11: ○
B12: 5 | C12: 秋田県 | D12: 新 | O12: ○
B13: 6 | C13: 山形県 | D13: 新 | O13: ○
B14: 7 | C14: 福島県 | D14: 新 | O14: ○ | P14: ○ | Q14: ○ | R14: ○
B15: 8 | C15: 茨城県 | D15: 新
B16: 9 | C16: 栃木県 | D16: 新 | O16: ○
B17: 10 | C17: 群馬県 | D17: 新 | O17: ○
B18: 11 | C18: 埼玉県 | D18: 新 | O18: ○
B19: 12 | C19: 千葉県 | D19: 新 | O19: ○
B20: 13 | C20: 東京都 | D20: 新 | O20: ○ | P20: ○
B21: 14 | C21: 神奈川県 | D21: 新
B22: 15 | C22: 新潟県 | D22: 新 | O22: ○ | T22: ●
B23: 16 | C23: 富山県 | D23: 新 | O23: ○ | P23: ○ | Q23: ○ | R23: ○ | S23: ○ | T23: ●
B24: 17 | C24: 石川県 | D24: 新 | O24: ○ | P24: ○
B25: 18 | C25: 福井県 | D25: 新
B26: 19 | C26: 山梨県 | D26: 新 | O26: ○
B27: 20 | C27: 長野県 | D27: 新 | O27: ○
B28: 21 | C28: 岐阜県 | D28: 新 | O28: ○
B29: 22 | C29: 静岡県 | D29: 新 | O29: ○
B30: 23 | C30: 愛知県 | D30: 新 | O30: ○ | P30: ○ | Q30: ○ | R30: ○ | S30: ○ | T30: ●
B31: 24 | C31: 三重県 | D31: 新 | O31: ○ | T31: ●
B32: 25 | C32: 滋賀県 | D32: 新 | O32: ○
B33: 26 | C33: 京都府 | D33: 旧
B34: 27 | C34: 大阪府 | D34: 新 | P34: ○
B35: 28 | C35: 兵庫県 | D35: 旧
B36: 29 | C36: 奈良県 | D36: 新 | Q36: ○
B37: 30 | C37: 和歌山県 | D37: 新 | O37: ○ | T37: ●
B38: 31 | C38: 鳥取県 | D38: 新 | O38: ○ | S38: ○ | T38: ●
B39: 32 | C39: 島根県 | D39: 新 | O39: ○ | T39: ●
B40: 33 | C40: 岡山県 | D40: 新 | O40: ○ | P40: ○ | Q40: ○ | R40: ○ | S40: ○ | T40: ●
B41: 34 | C41: 広島県 | D41: 新 | O41: ○
B42: 35 | C42: 山口県 | D42: 旧 | O42: ○ | T42: ●
B43: 36 | C43: 徳島県 | D43: 新
B44: 37 | C44: 香川県 | D44: 新
B45: 38 | C45: 愛媛県 | D45: 新
B46: 39 | C46: 高知県 | D46: 新
B47: 40 | C47: 福岡県 | D47: 旧
B48: 41 | C48: 佐賀県 | D48: 新 | O48: ○ | P48: ○ | Q48: ○ | R48: ○ | S48: ○ | T48: ●
B49: 42 | C49: 長崎県 | D49: 新
B50: 43 | C50: 熊本県 | D50: 新 | O50: ○
B51: 44 | C51: 大分県 | D51: 新 | O51: ○ | P51: ○ | Q51: ○ | R51: ○ | S51: ○ | T51: ●
B52: 45 | C52: 宮崎県 | D52: 新 | O52: ○
B53: 46 | C53: 鹿児島県 | D53: 旧
B54: 47 | C54: 沖縄県 | D54: 新 | O54: ○
B55: ○ | E55: =COUNTIF(E8:E54,"○") -> 0 | F55: =COUNTIF(F8:F54,"○") -> 0 | G55: =COUNTIF(G8:G54,"○") -> 0 | H55: =COUNTIF(H8:H54,"○") -> 0 | I55: =COUNTIF(I8:I54,"○") -> 0 | J55: =COUNTIF(J8:J54,"○") -> 0 | K55: =COUNTIF(K8:K54,"○") -> 0 | L55: =COUNTIF(L8:L54,"○") -> 0 | ... T55: =COUNTIF(T8:T54,"○") -> 0
B56: ● | E56: =COUNTIF(E8:E54,"●") -> 0 | F56: =COUNTIF(F8:F54,"●") -> 0 | G56: =COUNTIF(G8:G54,"●") -> 0 | H56: =COUNTIF(H8:H54,"●") -> 0 | I56: =COUNTIF(I8:I54,"●") -> 0 | J56: =COUNTIF(J8:J54,"●") -> 0 | K56: =COUNTIF(K8:K54,"●") -> 0 | L56: =COUNTIF(L8:L54,"●") -> 0 | ... T56: =COUNTIF(T8:T54,"●") -> 12
B57: 計 | E57: =E55+E56 -> 0 | F57: =F55+F56 -> 0 | G57: =G55+G56 -> 0 | H57: =H55+H56 -> 0 | I57: =I55+I56 -> 0 | J57: =J55+J56 -> 0 | K57: =K55+K56 -> 0 | L57: =L55+L56 -> 0 | ... T57: =T55+T56 -> 12
B58: ※ | C58: ●：今回採用データ、○：以前の調査 | V58: ●：今回採用データ、○：以前の調査

Sheet 表Ⅵ2 (2)
B3: 報告書P50で利用
B4: 表―Ⅴ・２ 水銀使用産業廃棄物の排出量の集計結果（令和元年度実績値）
M8: （単位：ｔ/年）
B9: 大分類 | C9: 番 | D9: 産業分類 | E9: コード | F9: 水銀使用製品廃棄物 由来の汚泥 | G9: データの個数 | H9: 水銀使用製品廃棄物 由来の廃プラスチック類 | I9: データの個数 | J9: 水銀使用製品廃棄物 由来の金属くず | K9: データの個数 | L9: 水銀使用製品廃棄物 由来のガラスくず | M9: データの個数 | O9: ①水銀使用製品廃棄物（個別製品の種類別）
C10: 号
D11: 農業，林業大分類 | E11: A | F11: 0 | G11: 2 | H11: 0 | I11: 2 | J11: 0 | K11: 2 | L11: 0 | M11: 2
C12: 1 | D12: 耕種農業 | E12: A011 | F12: 0 | G12: 0 | H12: 0 | I12: 0 | J12: 0 | K12: 0 | L12: 0 | M12: 0
B13: 農業，林業 | C13: 2 | D13: 畜産農業 | E13: A012 | F13: 0 | G13: 0 | H13: 0 | I13: 0 | J13: 0 | K13: 0 | L13: 0 | M13: 0
C14: 3 | D14: 林業 | E14: A02 | F14: 0 | G14: 0 | H14: 0 | I14: 0 | J14: 0 | K14: 0 | L14: 0 | M14: 0
C15: 4 | D15: 上記以外の農業，林業 | F15: 0 | G15: 0 | H15: 0 | I15: 0 | J15: 0 | K15: 0 | L15: 0 | M15: 0
D16: 漁業大分類 | E16: B | F16: 0 | G16: 2 | H16: 0 | I16: 2 | J16: 0 | K16: 2 | L16: 0 | M16: 2
B17: 漁 業 | C17: 5 | D17: 漁業 | E17: B03 | F17: 0 | G17: 0 | H17: 0 | I17: 0 | J17: 0 | K17: 0 | L17: 0 | M17: 0
C18: 6 | D18: 水産養殖業 | E18: B04 | F18: 0 | G18: 0 | H18: 0 | I18: 0 | J18: 0 | K18: 0 | L18: 0 | M18: 0
B19: 鉱 業 | C19: 7 | D19: 鉱業，採石業，砂利採取業 | E19: C | F19: 0 | G19: 2 | H19: 0 | I19: 2 | J19: 0 | K19: 2 | L19: 0 | M19: 2
B20: 建設業 | C20: 8 | D20: 建設業 | E20: D | F20: 13.41843 | G20: 2 | H20: 22 | I20: 2 | J20: 2803.002 | K20: 3 | L20: 40.13 | M20: 3
D21: 製造業大分類 | E21: E | F21: 227.15194 | G21: 0 | H21: 0 | I21: 0 | J21: 0 | K21: 0 | L21: 197.27942 | M21: 0
C22: 9 | D22: 食料品製造業 | E22: E09 | F22: 0.77 | G22: 2 | H22: 0 | I22: 2 | J22: 0 | K22: 2 | L22: 195.8534 | M22: 2
C23: 10 | D23: 飲料・たばこ・飼料製造業 | E23: E10 | F23: 0 | G23: 2 | H23: 0 | I23: 2 | J23: 0 | K23: 2 | L23: 0 | M23: 2
C24: 11 | D24: 繊維工業 | E24: E11 | F24: 0 | G24: 2 | H24: 0 | I24: 2 | J24: 0 | K24: 2 | L24: 0 | M24: 2
C25: 12 | D25: 木材・木製品製造業 | E25: E12 | F25: 0 | G25: 2 | H25: 0 | I25: 2 | J25: 0 | K25: 2 | L25: 0 | M25: 2
C26: 13 | D26: 家具・装備品製造業 | E26: E13 | F26: 0 | G26: 2 | H26: 0 | I26: 2 | J26: 0 | K26: 2 | L26: 0 | M26: 2
C27: 14 | D27: パルプ・紙・紙加工品製造業 | E27: E14 | F27: 225.4389 | G27: 2 | H27: 0 | I27: 2 | J27: 0 | K27: 2 | L27: 0 | M27: 2
C28: 15 | D28: 印刷・同関連業 | E28: E15 | F28: 0 | G28: 2 | H28: 0 | I28: 2 | J28: 0 | K28: 2 | L28: 0 | M28: 2
C29: 16 | D29: 化学工業 | E29: E16 | F29: 0.06392 | G29: 2 | H29: 0 | I29: 2 | J29: 0 | K29: 2 | L29: 0 | M29: 2
C30: 17 | D30: 石油製品・石炭製品製造業 | E30: E17 | F30: 0 | G30: 2 | H30: 0 | I30: 2 | J30: 0 | K30: 2 | L30: 0 | M30: 2
B31: 製造業 | C31: 18 | D31: プラスチック製品製造業 | E31: E18 | F31: 0.49 | G31: 2 | H31: 0 | I31: 2 | J31: 0 | K31: 2 | L31: 0 | M31: 2
C32: 19 | D32: ゴム製品製造業 | E32: E19 | F32: 0 | G32: 2 | H32: 0 | I32: 2 | J32: 0 | K32: 2 | L32: 1.12902 | M32: 2
C33: 20 | D33: なめし革・同製品・毛皮製造業 | E33: E20 | F33: 0 | G33: 2 | H33: 0 | I33: 2 | J33: 0 | K33: 2 | L33: 0 | M33: 2
C34: 21 | D34: 窯業・土石製品製造業 | E34: E21 | F34: 0.3601234 | G34: 2 | H34: 0 | I34: 2 | J34: 0 | K34: 2 | L34: 0.297 | M34: 2
C35: 22 | D35: 鉄鋼業 | E35: E22 | F35: 0 | G35: 2 | H35: 0 | I35: 2 | J35: 0 | K35: 2 | L35: 0 | M35: 2
C36: 23 | D36: 非鉄金属製造業 | E36: E23 | F36: 0 | G36: 2 | H36: 0 | I36: 2 | J36: 0 | K36: 2 | L36: 0 | M36: 2
C37: 24 | D37: 金属製品製造業 | E37: E24 | F37: 0 | G37: 2 | H37: 0 | I37: 2 | J37: 0 | K37: 2 | L37: 0 | M37: 2
C38: 25 | D38: はん用機械器具製造業 | E38: E25 | F38: 0 | G38: 2 | H38: 0 | I38: 2 | J38: 0 | K38: 2 | L38: 0 | M38: 2
C39: 26 | D39: 生産用機械器具製造業 | E39: E26 | F39: 0 | G39: 2 | H39: 0 | I39: 2 | J39: 0 | K39: 2 | L39: 0 | M39: 2
C40: 27 | D40: 業務用機械器具製造業 | E40: E27 | F40: 0 | G40: 2 | H40: 0 | I40: 2 | J40: 0 | K40: 2 | L40: 0 | M40: 2
C41: 28 | D41: 電子部品・デバイス・電子回路製造業 | E41: E28 | F41: 0 | G41: 2 | H41: 0 | I41: 2 | J41: 0 | K41: 2 | L41: 0 | M41: 2
C42: 29 | D42: 電気機械器具製造業 | E42: E29 | F42: 0.029 | G42: 2 | H42: 0 | I42: 2 | J42: 0 | K42: 2 | L42: 0 | M42: 2
C43: 30 | D43: 情報通信機械器具製造業 | E43: E30 | F43: 0 | G43: 2 | H43: 0 | I43: 2 | J43: 0 | K43: 2 | L43: 0 | M43: 2
... C45: 32 | D45: その他の製造業 | E45: E32 | F45: 0 | G45: 2 | H45: 0 | I45: 2 | J45: 0 | K45: 2 | L45: 0 | M45: 2
D46: 電気・ガス・熱供給・水道業大分類 | E46: F | F46: 0 | G46: 2 | H46: 0 | I46: 2 | J46: 0 | K46: 2 | L46: 0.262 | M46: 2
B47: 電気･ガス | C47: 33 | D47: 電気業 | E47: F33 | F47: 0 | G47: 0 | H47: 0 | I47: 0 | J47: 0 | K47: 0 | L47: 0 | M47: 0
B48: ･熱供給･ | C48: 34 | D48: ガス業 | E48: F34 | F48: 0 | G48: 0 | H48: 0 | I48: 0 | J48: 0 | K48: 0 | L48: 0 | M48: 0
B49: 水道業 | C49: 35 | D49: 熱供給業 | E49: F35 | F49: 0 | G49: 0 | H49: 0 | I49: 0 | J49: 0 | K49: 0 | L49: 0 | M49: 0
C50: 36 | D50: 上水道業 | E50: F361 | F50: 0 | G50: 0 | H50: 0 | I50: 0 | J50: 0 | K50: 0 | L50: 0 | M50: 0
C51: 37 | D51: 下水道業 | E51: F363 | F51: 0 | G51: 0 | H51: 0 | I51: 0 | J51: 0 | K51: 0 | L51: 0 | M51: 0
D52: 情報通信業大分類 | E52: G | F52: 0 | G52: 2 | H52: 0 | I52: 2 | J52: 0 | K52: 2 | L52: 0 | M52: 2
C53: 38 | D53: 通信業 | E53: G37 | F53: 0 | G53: 0 | H53: 0 | I53: 0 | J53: 0 | K53: 0 | L53: 0 | M53: 0
B54: 情報通信業 | C54: 39 | D54: 放送業 | E54: G38 | F54: 0 | G54: 0 | H54: 0 | I54: 0 | J54: 0 | K54: 0 | L54: 0 | M54: 0
C55: 40 | D55: 情報サービス業 | E55: G39 | F55: 0 | G55: 0 | H55: 0 | I55: 0 | J55: 0 | K55: 0 | L55: 0 | M55: 0
C56: 41 | D56: インターネット付随サービス業 | E56: G40 | F56: 0 | G56: 0 | H56: 0 | I56: 0 | J56: 0 | K56: 0 | L56: 0 | M56: 0
C57: 42 | D57: 映像・音声・文字情報制作業 | E57: G41 | F57: 0 | G57: 0 | H57: 0 | I57: 0 | J57: 0 | K57: 0 | L57: 0 | M57: 0
D58: 運輸業，郵便業大分類 | E58: H | F58: 0.24 | G58: 2 | H58: 0 | I58: 2 | J58: 0 | K58: 2 | L58: 0 | M58: 2
B59: 運輸業， | C59: 43 | D59: 鉄道業 | E59: H42 | F59: 0 | G59: 0 | H59: 0 | I59: 0 | J59: 0 | K59: 0 | L59: 0 | M59: 0
B60: 郵便業 | C60: 44 | D60: 道路旅客運送業 | E60: H43 | F60: 0 | G60: 0 | H60: 0 | I60: 0 | J60: 0 | K60: 0 | L60: 0 | M60: 0
C61: 45 | D61: 道路貨物運送業 | E61: H44 | F61: 0 | G61: 0 | H61: 0 | I61: 0 | J61: 0 | K61: 0 | L61: 0 | M61: 0
C62: 46 | D62: 上記以外の運輸業，郵便業 | F62: 0 | G62: 0 | H62: 0 | I62: 0 | J62: 0 | K62: 0 | L62: 0 | M62: 0
D63: 卸売業，小売業大分類 | E63: I | F63: 0.09177 | G63: 2 | H63: 0 | I63: 2 | J63: 0 | K63: 2 | L63: 0 | M63: 2
C64: 47 | D64: 各種商品卸売業 | E64: I50 | F64: 0 | G64: 0 | H64: 0 | I64: 0 | J64: 0 | K64: 0 | L64: 0 | M64: 0
C65: 48 | D65: 木材・竹材卸売業 | E65: I5311 | F65: 0 | G65: 0 | H65: 0 | I65: 0 | J65: 0 | K65: 0 | L65: 0 | M65: 0
C66: 49 | D66: 各種商品小売業 | E66: I56 | F66: 0 | G66: 0 | H66: 0 | I66: 0 | J66: 0 | K66: 0 | L66: 0 | M66: 0
B67: 卸売業， | C67: 50 | D67: 自動車小売業 | E67: I591 | F67: 0 | G67: 0 | H67: 0 | I67: 0 | J67: 0 | K67: 0 | L67: 0 | M67: 0
B68: 小売業 | C68: 51 | D68: 機械器具小売業 | E68: I593 | F68: 0 | G68: 0 | H68: 0 | I68: 0 | J68: 0 | K68: 0 | L68: 0 | M68: 0
C69: 52 | D69: 家具・建具・畳小売業 | E69: I601 | F69: 0 | G69: 0 | H69: 0 | I69: 0 | J69: 0 | K69: 0 | L69: 0 | M69: 0
C70: 53 | D70: じゅう器小売業 | E70: I602 | F70: 0 | G70: 0 | H70: 0 | I70: 0 | J70: 0 | K70: 0 | L70: 0 | M70: 0
C71: 54 | D71: 燃料小売業 | E71: I605 | F71: 0 | G71: 0 | H71: 0 | I71: 0 | J71: 0 | K71: 0 | L71: 0 | M71: 0
C72: 55 | D72: 上記以外の卸売業，小売業 | F72: 0 | G72: 0 | H72: 0 | I72: 0 | J72: 0 | K72: 0 | L72: 0 | M72: 0
B73: 不動産業， | D73: 不動産業，物品賃貸業大分類 | E73: K | F73: 0 | G73: 2 | H73: 0 | I73: 2 | J73: 0 | K73: 2 | L73: 0 | M73: 2
B74: 物品賃貸業 | C74: 56 | D74: 物品賃貸業 | E74: K70 | F74: 0 | G74: 0 | H74: 0 | I74: 0 | J74: 0 | K74: 0 | L74: 0 | M74: 0
B75: 学術研究，専門 | D75: 学術研究，専門・技術サービス業大分類 | E75: L | F75: 0 | G75: 2 | H75: 0 | I75: 2 | J75: 0 | K75: 2 | L75: 4 | M75: 2
B76: ・技術サービス業 | C76: 57 | D76: 学術・開発研究機関 | E76: L71 | F76: 0 | G76: 0 | H76: 0 | I76: 0 | J76: 0 | K76: 0 | L76: 0 | M76: 0
C77: 58 | D77: 写真業 | E77: L746 | F77: 0 | G77: 0 | H77: 0 | I77: 0 | J77: 0 | K77: 0 | L77: 0 | M77: 0
B78: 宿泊業，飲食 | D78: 宿泊業，飲食サービス業大分類 | E78: M | F78: 0 | G78: 2 | H78: 0 | I78: 2 | J78: 0 | K78: 2 | L78: 27 | M78: 2
B79: サービス業 | C79: 59 | D79: 飲食店 | E79: M76 | F79: 0 | G79: 0 | H79: 0 | I79: 0 | J79: 0 | K79: 0 | L79: 0 | M79: 0
C80: 60 | D80: 上記以外の宿泊業，飲食サービス業 | F80: 0 | G80: 0 | H80: 0 | I80: 0 | J80: 0 | K80: 0 | L80: 0 | M80: 0
B81: 生活関連サー | D81: 生活関連サービス業，娯楽業大分類 | E81: N | F81: 0 | G81: 2 | H81: 0 | I81: 2 | J81: 0 | K81: 2 | L81: 0 | M81: 2
B82: ビス業，娯楽業 | C82: 61 | D82: 洗濯業 | E82: N781 | F82: 0 | G82: 0 | H82: 0 | I82: 0 | J82: 0 | K82: 0 | L82: 0 | M82: 0
B83: 教育，学習支援業 | C83: 62 | D83: 教育，学習支援業 | E83: O | F83: 0 | G83: 1 | H83: 0 | I83: 1 | J83: 0 | K83: 1 | L83: 0 | M83: 1
D84: 医療，福祉大分類 | E84: P | F84: 0 | G84: 2 | H84: 0.346075 | I84: 2 | J84: 6 | K84: 2 | L84: 0.102 | M84: 2
B85: 医療，福祉 | C85: 63 | D85: 医療業 | E85: P83 | F85: 0 | G85: 0 | H85: 0 | I85: 0 | J85: 0 | K85: 0 | L85: 0 | M85: 0
C86: 64 | D86: 上記以外の医療，福祉 | F86: 0 | G86: 0 | H86: 0 | I86: 0 | J86: 0 | K86: 0 | L86: 0 | M86: 0
B87: 教育、学習支援業 | C87: 65 | D87: 複合サービス事業 | E87: Q | F87: 0 | G87: 2 | H87: 0 | I87: 2 | J87: 18 | K87: 2 | L87: 6 | M87: 2
D88: サービス業大分類 | E88: R | F88: 8.6658 | G88: 2 | H88: 0 | I88: 2 | J88: 0 | K88: 2 | L88: 0 | M88: 2
B89: サービス業 | C89: 66 | D89: 自動車整備業 | E89: R891 | F89: 0 | G89: 0 | H89: 0 | I89: 0 | J89: 0 | K89: 0 | L89: 0 | M89: 0
C90: 67 | D90: と畜場 | E90: R952 | F90: 0 | G90: 0 | H90: 0 | I90: 0 | J90: 0 | K90: 0 | L90: 0 | M90: 0
C91: 68 | D91: 上記以外のサービス業 | F91: 0 | G91: 0 | H91: 0 | I91: 0 | J91: 0 | K91: 0 | L91: 0 | M91: 0
B92: 公務 | C92: 69 | D92: 公務 | E92: Ｓ | F92: 0 | G92: 2 | H92: 0 | I92: 2 | J92: 0 | K92: 2 | L92: 0 | M92: 2
D93: 合計 | F93: =SUM(F11,F16,F19:F21,F46,F52,F58,F63,F73,F75,F78,F81,F83:F84,F87:F88,F92) -> 249.56794 | G93: 0 | H93: =SUM(H11,H16,H19:H21,H46,H52,H58,H63,H73,H75,H78,H81,H83:H84,H87:H88,H92) -> 22.346075 | I93: 0 | J93: =SUM(J11,J16,J19:J21,J46,J52,J58,J63,J73,J75,J78,J81,J83:J84,J87:J88,J92) -> 2827.002 | K93: 0 | L93: =SUM(L11,L16,L19:L21,L46,L52,L58,L63,L73,L75,L78,L81,L83:L84,L87:L88,L92) -> 274.77342 | M93: 0
G94: =G93/1000 -> 0 | K94: =K93/1000 -> 0
B96: ②水銀使用製品廃棄物（一括） | O96: ③水銀含有ばいじん等
G98: （単位：ｔ/年） | AO98: （単位：ｔ/年）
B99: 大分類 | C99: 番 | D99: 産業分類 | E99: コード | F99: 水銀使用製品廃棄物 | G99: データの個数 | O99: 大分類 | P99: 産業分類 | Q99: コード | R99: 燃え殻 | V99: 汚 泥 | Z99: 廃 酸 | AD99: 廃アルカリ | AH99: 鉱さい | AL99: ばいじん
C100: 号 | S100: うち水銀含有 | T100: データの個数 | U100: 比率 | W100: うち水銀含有 | X100: データの個数 | Y100: 比率 | AA100: うち水銀含有 | AB100: データの個数 | AC100: 比率 | AE100: うち水銀含有 | AF100: データの個数 | AG100: 比率 | AI100: うち水銀含有 | AJ100: データの個数 | AK100: 比率 | AM100: うち水銀含有 | AN100: データの個数 | AO100: 比率
D101: 農業，林業大分類 | E101: A | F101: 5.25 | G101: 6 | P101: 農業，林業大分類 | Q101: A | R101: 0 | S101: 0 | T101: 2 | V101: 22564 | W101: 0 | X101: 2 | Y101: 0 | Z101: 0 | AA101: 0 | AB101: 2 | AD101: 0 | AE101: 0 | AF101: 2 | AH101: 0 | AI101: 0 | AJ101: 2 | AL101: 0 | AM101: 0 | AN101: 2
C102: 1 | D102: 耕種農業 | E102: A011 | F102: 0 | G102: 0 | P102: 耕種農業 | Q102: A011 | R102: 0 | S102: 0 | T102: 0 | V102: 0 | W102: 0 | X102: 0 | Z102: 0 | AA102: 0 | AB102: 0 | AD102: 0 | AE102: 0 | AF102: 0 | AH102: 0 | AI102: 0 | AJ102: 0 | AL102: 0 | AM102: 0 | AN102: 0
B103: 農業，林業 | C103: 2 | D103: 畜産農業 | E103: A012 | F103: 0 | G103: 0 | O103: 農業，林業 | P103: 畜産農業 | Q103: A012 | R103: 0 | S103: 0 | T103: 0 | V103: 0 | W103: 0 | X103: 0 | Z103: 0 | AA103: 0 | AB103: 0 | AD103: 0 | AE103: 0 | AF103: 0 | AH103: 0 | AI103: 0 | AJ103: 0 | AL103: 0 | AM103: 0 | AN103: 0
C104: 3 | D104: 林業 | E104: A02 | F104: 0 | G104: 0 | P104: 林業 | Q104: A02 | R104: 0 | S104: 0 | T104: 0 | V104: 0 | W104: 0 | X104: 0 | Z104: 0 | AA104: 0 | AB104: 0 | AD104: 0 | AE104: 0 | AF104: 0 | AH104: 0 | AI104: 0 | AJ104: 0 | AL104: 0 | AM104: 0 | AN104: 0
C105: 4 | D105: 上記以外の農業，林業 | F105: 0 | G105: 0 | P105: 上記以外の農業，林業 | R105: 0 | S105: 0 | T105: 0 | V105: 0 | W105: 0 | X105: 0 | Z105: 0 | AA105: 0 | AB105: 0 | AD105: 0 | AE105: 0 | AF105: 0 | AH105: 0 | AI105: 0 | AJ105: 0 | AL105: 0 | AM105: 0 | AN105: 0
D106: 漁業大分類 | E106: B | F106: 0 | G106: 6 | P106: 漁業大分類 | Q106: B | R106: 0 | S106: 0 | T106: 2 | V106: 0 | W106: 0 | X106: 2 | Z106: 0 | AA106: 0 | AB106: 2 | AD106: 0 | AE106: 0 | AF106: 2 | AH106: 0 | AI106: 0 | AJ106: 2 | AL106: 0 | AM106: 0 | AN106: 2
B107: 漁 業 | C107: 5 | D107: 漁業 | E107: B03 | F107: 0 | G107: 0 | O107: 漁 業 | P107: 漁業 | Q107: B03 | R107: 0 | S107: 0 | T107: 0 | V107: 0 | W107: 0 | X107: 0 | Z107: 0 | AA107: 0 | AB107: 0 | AD107: 0 | AE107: 0 | AF107: 0 | AH107: 0 | AI107: 0 | AJ107: 0 | AL107: 0 | AM107: 0 | AN107: 0
C108: 6 | D108: 水産養殖業 | E108: B04 | F108: 0 | G108: 0 | P108: 水産養殖業 | Q108: B04 | R108: 0 | S108: 0 | T108: 0 | V108: 0 | W108: 0 | X108: 0 | Z108: 0 | AA108: 0 | AB108: 0 | AD108: 0 | AE108: 0 | AF108: 0 | AH108: 0 | AI108: 0 | AJ108: 0 | AL108: 0 | AM108: 0 | AN108: 0
...

Sheet 表Ⅵ2,3,4
B1: 表―Ⅵ・２ 水銀使用産業廃棄物の排出量の集計結果
B3: 報告書P50で利用
B9: 大分類 | C9: 番 | D9: 産業分類 | E9: コード | F9: 水銀使用製品廃棄物 由来の汚泥 （ｔ/年） | G9: データの個数 (件) | H9: 水銀使用製品廃棄物 由来の廃プラスチック類 （ｔ/年） | I9: データの個数 (件) | J9: 水銀使用製品廃棄物 由来の金属くず （ｔ/年） | K9: データの個数 (件) | L9: 水銀使用製品廃棄物 由来のガラスくず （ｔ/年） | M9: データの個数 (件) | O9: ①水銀使用製品廃棄物（個別製品の種類別）
C10: 号
D11: 農業，林業大分類 | E11: A | F11: 0 | G11: 0 | H11: 0 | I11: 0 | J11: 0 | K11: 0 | L11: 0 | M11: 0
C12: 1 | D12: 耕種農業 | E12: A011 | F12: 0 | G12: 0 | H12: 0 | I12: 0 | J12: 0 | K12: 0 | L12: 0 | M12: 0
B13: 農業，林業 | C13: 2 | D13: 畜産農業 | E13: A012 | F13: 0 | G13: 0 | H13: 0 | I13: 0 | J13: 0 | K13: 0 | L13: 0 | M13: 0
C14: 3 | D14: 林業 | E14: A02 | F14: 0 | G14: 0 | H14: 0 | I14: 0 | J14: 0 | K14: 0 | L14: 0 | M14: 0
C15: 4 | D15: 上記以外の農業，林業 | F15: 0 | G15: 0 | H15: 0 | I15: 0 | J15: 0 | K15: 0 | L15: 0 | M15: 0
D16: 漁業大分類 | E16: B | F16: 0 | G16: 0 | H16: 0 | I16: 0 | J16: 0 | K16: 0 | L16: 0 | M16: 0
B17: 漁 業 | C17: 5 | D17: 漁業 | E17: B03 | F17: 0 | G17: 0 | H17: 0 | I17: 0 | J17: 0 | K17: 0 | L17: 0 | M17: 0
C18: 6 | D18: 水産養殖業 | E18: B04 | F18: 0 | G18: 0 | H18: 0 | I18: 0 | J18: 0 | K18: 0 | L18: 0 | M18: 0
B19: 鉱 業 | C19: 7 | D19: 鉱業，採石業，砂利採取業 | E19: C | F19: 0 | G19: 0 | H19: 0 | I19: 0 | J19: 0 | K19: 0 | L19: 0 | M19: 0
B20: 建設業 | C20: 8 | D20: 建設業 | E20: D | F20: 0 | G20: 0 | H20: 0 | I20: 0 | J20: 0 | K20: 0 | L20: 0 | M20: 0
D21: 製造業大分類 | E21: E | F21: 0 | G21: 0 | H21: 0 | I21: 0 | J21: 0 | K21: 0 | L21: 0 | M21: 0
C22: 9 | D22: 食料品製造業 | E22: E09 | F22: 0 | G22: 0 | H22: 0 | I22: 0 | J22: 0 | K22: 0 | L22: 0 | M22: 0 | O22: =SUM(F22:F46) -> 0
C23: 10 | D23: 飲料・たばこ・飼料製造業 | E23: E10 | F23: 0 | G23: 0 | H23: 0 | I23: 0 | J23: 0 | K23: 0 | L23: 0 | M23: 0
C24: 11 | D24: 繊維工業 | E24: E11 | F24: 0 | G24: 0 | H24: 0 | I24: 0 | J24: 0 | K24: 0 | L24: 0 | M24: 0
C25: 12 | D25: 木材・木製品製造業 | E25: E12 | F25: 0 | G25: 0 | H25: 0 | I25: 0 | J25: 0 | K25: 0 | L25: 0 | M25: 0
C26: 13 | D26: 家具・装備品製造業 | E26: E13 | F26: 0 | G26: 0 | H26: 0 | I26: 0 | J26: 0 | K26: 0 | L26: 0 | M26: 0
C27: 14 | D27: パルプ・紙・紙加工品製造業 | E27: E14 | F27: 0 | G27: 0 | H27: 0 | I27: 0 | J27: 0 | K27: 0 | L27: 0 | M27: 0
C28: 15 | D28: 印刷・同関連業 | E28: E15 | F28: 0 | G28: 0 | H28: 0 | I28: 0 | J28: 0 | K28: 0 | L28: 0 | M28: 0
C29: 16 | D29: 化学工業 | E29: E16 | F29: 0 | G29: 0 | H29: 0 | I29: 0 | J29: 0 | K29: 0 | L29: 0 | M29: 0
C30: 17 | D30: 石油製品・石炭製品製造業 | E30: E17 | F30: 0 | G30: 0 | H30: 0 | I30: 0 | J30: 0 | K30: 0 | L30: 0 | M30: 0
B31: 製造業 | C31: 18 | D31: プラスチック製品製造業 | E31: E18 | F31: 0 | G31: 0 | H31: 0 | I31: 0 | J31: 0 | K31: 0 | L31: 0 | M31: 0
C32: 19 | D32: ゴム製品製造業 | E32: E19 | F32: 0 | G32: 0 | H32: 0 | I32: 0 | J32: 0 | K32: 0 | L32: 0 | M32: 0
C33: 20 | D33: なめし革・同製品・毛皮製造業 | E33: E20 | F33: 0 | G33: 0 | H33: 0 | I33: 0 | J33: 0 | K33: 0 | L33: 0 | M33: 0
C34: 21 | D34: 窯業・土石製品製造業 | E34: E21 | F34: 0 | G34: 0 | H34: 0 | I34: 0 | J34: 0 | K34: 0 | L34: 0 | M34: 0
C35: 22 | D35: 鉄鋼業 | E35: E22 | F35: 0 | G35: 0 | H35: 0 | I35: 0 | J35: 0 | K35: 0 | L35: 0 | M35: 0
C36: 23 | D36: 非鉄金属製造業 | E36: E23 | F36: 0 | G36: 0 | H36: 0 | I36: 0 | J36: 0 | K36: 0 | L36: 0 | M36: 0
C37: 24 | D37: 金属製品製造業 | E37: E24 | F37: 0 | G37: 0 | H37: 0 | I37: 0 | J37: 0 | K37: 0 | L37: 0 | M37: 0
C38: 25 | D38: はん用機械器具製造業 | E38: E25 | F38: 0 | G38: 0 | H38: 0 | I38: 0 | J38: 0 | K38: 0 | L38: 0 | M38: 0
C39: 26 | D39: 生産用機械器具製造業 | E39: E26 | F39: 0 | G39: 0 | H39: 0 | I39: 0 | J39: 0 | K39: 0 | L39: 0 | M39: 0
C40: 27 | D40: 業務用機械器具製造業 | E40: E27 | F40: 0 | G40: 0 | H40: 0 | I40: 0 | J40: 0 | K40: 0 | L40: 0 | M40: 0
C41: 28 | D41: 電子部品・デバイス・電子回路製造業 | E41: E28 | F41: 0 | G41: 0 | H41: 0 | I41: 0 | J41: 0 | K41: 0 | L41: 0 | M41: 0
C42: 29 | D42: 電気機械器具製造業 | E42: E29 | F42: 0 | G42: 0 | H42: 0 | I42: 0 | J42: 0 | K42: 0 | L42: 0 | M42: 0
C43: 30 | D43: 情報通信機械器具製造業 | E43: E30 | F43: 0 | G43: 0 | H43: 0 | I43: 0 | J43: 0 | K43: 0 | L43: 0 | M43: 0
... C45: 32 | D45: その他の製造業 | E45: E32 | F45: 0 | G45: 0 | H45: 0 | I45: 0 | J45: 0 | K45: 0 | L45: 0 | M45: 0
D46: 電気・ガス・熱供給・水道業大分類 | E46: F | F46: 0 | G46: 0 | H46: 0 | I46: 0 | J46: 0 | K46: 0 | L46: 0 | M46: 0
B47: 電気･ガス | C47: 33 | D47: 電気業 | E47: F33 | F47: 0 | G47: 0 | H47: 0 | I47: 0 | J47: 0 | K47: 0 | L47: 0 | M47: 0
B48: ･熱供給･ | C48: 34 | D48: ガス業 | E48: F34 | F48: 0 | G48: 0 | H48: 0 | I48: 0 | J48: 0 | K48: 0 | L48: 0 | M48: 0
B49: 水道業 | C49: 35 | D49: 熱供給業 | E49: F35 | F49: 0 | G49: 0 | H49: 0 | I49: 0 | J49: 0 | K49: 0 | L49: 0 | M49: 0
C50: 36 | D50: 上水道業 | E50: F361 | F50: 0 | G50: 0 | H50: 0 | I50: 0 | J50: 0 | K50: 0 | L50: 0 | M50: 0
C51: 37 | D51: 下水道業 | E51: F363 | F51: 0 | G51: 0 | H51: 0 | I51: 0 | J51: 0 | K51: 0 | L51: 0 | M51: 0
D52: 情報通信業大分類 | E52: G | F52: 0 | G52: 0 | H52: 0 | I52: 0 | J52: 0 | K52: 0 | L52: 0 | M52: 0
C53: 38 | D53: 通信業 | E53: G37 | F53: 0 | G53: 0 | H53: 0 | I53: 0 | J53: 0 | K53: 0 | L53: 0 | M53: 0
B54: 情報通信業 | C54: 39 | D54: 放送業 | E54: G38 | F54: 0 | G54: 0 | H54: 0 | I54: 0 | J54: 0 | K54: 0 | L54: 0 | M54: 0
C55: 40 | D55: 情報サービス業 | E55: G39 | F55: 0 | G55: 0 | H55: 0 | I55: 0 | J55: 0 | K55: 0 | L55: 0 | M55: 0
C56: 41 | D56: インターネット付随サービス業 | E56: G40 | F56: 0 | G56: 0 | H56: 0 | I56: 0 | J56: 0 | K56: 0 | L56: 0 | M56: 0
C57: 42 | D57: 映像・音声・文字情報制作業 | E57: G41 | F57: 0 | G57: 0 | H57: 0 | I57: 0 | J57: 0 | K57: 0 | L57: 0 | M57: 0
D58: 運輸業，郵便業大分類 | E58: H | F58: 0 | G58: 0 | H58: 0 | I58: 0 | J58: 0 | K58: 0 | L58: 0 | M58: 0
B59: 運輸業， | C59: 43 | D59: 鉄道業 | E59: H42 | F59: 0 | G59: 0 | H59: 0 | I59: 0 | J59: 0 | K59: 0 | L59: 0 | M59: 0
B60: 郵便業 | C60: 44 | D60: 道路旅客運送業 | E60: H43 | F60: 0 | G60: 0 | H60: 0 | I60: 0 | J60: 0 | K60: 0 | L60: 0 | M60: 0
C61: 45 | D61: 道路貨物運送業 | E61: H44 | F61: 0 | G61: 0 | H61: 0 | I61: 0 | J61: 0 | K61: 0 | L61: 0 | M61: 0
C62: 46 | D62: 上記以外の運輸業，郵便業 | F62: 0 | G62: 0 | H62: 0 | I62: 0 | J62: 0 | K62: 0 | L62: 0 | M62: 0
D63: 卸売業，小売業大分類 | E63: I | F63: 0 | G63: 0 | H63: 0 | I63: 0 | J63: 0 | K63: 0 | L63: 0 | M63: 0
C64: 47 | D64: 各種商品卸売業 | E64: I50 | F64: 0 | G64: 0 | H64: 0 | I64: 0 | J64: 0 | K64: 0 | L64: 0 | M64: 0
C65: 48 | D65: 木材・竹材卸売業 | E65: I5311 | F65: 0 | G65: 0 | H65: 0 | I65: 0 | J65: 0 | K65: 0 | L65: 0 | M65: 0
C66: 49 | D66: 各種商品小売業 | E66: I56 | F66: 0 | G66: 0 | H66: 0 | I66: 0 | J66: 0 | K66: 0 | L66: 0 | M66: 0
B67: 卸売業， | C67: 50 | D67: 自動車小売業 | E67: I591 | F67: 0 | G67: 0 | H67: 0 | I67: 0 | J67: 0 | K67: 0 | L67: 0 | M67: 0
B68: 小売業 | C68: 51 | D68: 機械器具小売業 | E68: I593 | F68: 0 | G68: 0 | H68: 0 | I68: 0 | J68: 0 | K68: 0 | L68: 0 | M68: 0
C69: 52 | D69: 家具・建具・畳小売業 | E69: I601 | F69: 0 | G69: 0 | H69: 0 | I69: 0 | J69: 0 | K69: 0 | L69: 0 | M69: 0
C70: 53 | D70: じゅう器小売業 | E70: I602 | F70: 0 | G70: 0 | H70: 0 | I70: 0 | J70: 0 | K70: 0 | L70: 0 | M70: 0
C71: 54 | D71: 燃料小売業 | E71: I605 | F71: 0 | G71: 0 | H71: 0 | I71: 0 | J71: 0 | K71: 0 | L71: 0 | M71: 0
C72: 55 | D72: 上記以外の卸売業，小売業 | F72: 0 | G72: 0 | H72: 0 | I72: 0 | J72: 0 | K72: 0 | L72: 0 | M72: 0
B73: 不動産業， | D73: 不動産業，物品賃貸業大分類 | E73: K | F73: 0 | G73: 0 | H73: 0 | I73: 0 | J73: 0 | K73: 0 | L73: 0 | M73: 0
B74: 物品賃貸業 | C74: 56 | D74: 物品賃貸業 | E74: K70 | F74: 0 | G74: 0 | H74: 0 | I74: 0 | J74: 0 | K74: 0 | L74: 0 | M74: 0
B75: 学術研究，専門 | D75: 学術研究，専門・技術サービス業大分類 | E75: L | F75: 0 | G75: 0 | H75: 0 | I75: 0 | J75: 0 | K75: 0 | L75: 0 | M75: 0
B76: ・技術サービス業 | C76: 57 | D76: 学術・開発研究機関 | E76: L71 | F76: 0 | G76: 0 | H76: 0 | I76: 0 | J76: 0 | K76: 0 | L76: 0 | M76: 0
C77: 58 | D77: 写真業 | E77: L746 | F77: 0 | G77: 0 | H77: 0 | I77: 0 | J77: 0 | K77: 0 | L77: 0 | M77: 0
B78: 宿泊業，飲食 | D78: 宿泊業，飲食サービス業大分類 | E78: M | F78: 0 | G78: 0 | H78: 0 | I78: 0 | J78: 0 | K78: 0 | L78: 0 | M78: 0
B79: サービス業 | C79: 59 | D79: 飲食店 | E79: M76 | F79: 0 | G79: 0 | H79: 0 | I79: 0 | J79: 0 | K79: 0 | L79: 0 | M79: 0
C80: 60 | D80: 上記以外の宿泊業，飲食サービス業 | F80: 0 | G80: 0 | H80: 0 | I80: 0 | J80: 0 | K80: 0 | L80: 0 | M80: 0
B81: 生活関連サー | D81: 生活関連サービス業，娯楽業大分類 | E81: N | F81: 0 | G81: 0 | H81: 0 | I81: 0 | J81: 0 | K81: 0 | L81: 0 | M81: 0
B82: ビス業，娯楽業 | C82: 61 | D82: 洗濯業 | E82: N781 | F82: 0 | G82: 0 | H82: 0 | I82: 0 | J82: 0 | K82: 0 | L82: 0 | M82: 0
B83: 教育，学習支援業 | C83: 62 | D83: 教育，学習支援業 | E83: O | F83: 0 | G83: 0 | H83: 0 | I83: 0 | J83: 0 | K83: 0 | L83: 0 | M83: 0
D84: 医療，福祉大分類 | E84: P | F84: 0 | G84: 0 | H84: 0 | I84: 0 | J84: 0 | K84: 0 | L84: 0 | M84: 0
B85: 医療，福祉 | C85: 63 | D85: 医療業 | E85: P83 | F85: 0 | G85: 0 | H85: 0 | I85: 0 | J85: 0 | K85: 0 | L85: 0 | M85: 0
C86: 64 | D86: 上記以外の医療，福祉 | F86: 0 | G86: 0 | H86: 0 | I86: 0 | J86: 0 | K86: 0 | L86: 0 | M86: 0
B87: 教育、学習支援業 | C87: 65 | D87: 複合サービス事業 | E87: Q | F87: 0 | G87: 0 | H87: 0 | I87: 0 | J87: 0 | K87: 0 | L87: 0 | M87: 0
D88: サービス業大分類 | E88: R | F88: 0 | G88: 0 | H88: 0 | I88: 0 | J88: 0 | K88: 0 | L88: 0 | M88: 0
B89: サービス業 | C89: 66 | D89: 自動車整備業 | E89: R891 | F89: 0 | G89: 0 | H89: 0 | I89: 0 | J89: 0 | K89: 0 | L89: 0 | M89: 0
C90: 67 | D90: と畜場 | E90: R952 | F90: 0 | G90: 0 | H90: 0 | I90: 0 | J90: 0 | K90: 0 | L90: 0 | M90: 0
C91: 68 | D91: 上記以外のサービス業 | F91: 0 | G91: 0 | H91: 0 | I91: 0 | J91: 0 | K91: 0 | L91: 0 | M91: 0
B92: 公務 | C92: 69 | D92: 公務 | E92: Ｓ | F92: 0 | G92: 0 | H92: 0 | I92: 0 | J92: 0 | K92: 0 | L92: 0 | M92: 0
D93: 合計 | F93: =SUM(F11,F16,F19:F21,F46,F52,F58,F63,F73,F75,F78,F81,F83:F84,F87:F88,F92) -> 0 | G93: =SUM(G22:G92,G20) -> 0 | H93: =SUM(H11,H16,H19:H21,H46,H52,H58,H63,H73,H75,H78,H81,H83:H84,H87:H88,H92) -> 0 | I93: =SUM(I11:I92) -> 0 | J93: =SUM(J11,J16,J19:J21,J46,J52,J58,J63,J73,J75,J78,J81,J83:J84,J87:J88,J92) -> 0 | K93: =SUM(K11:K92) -> 0 | L93: =SUM(L11,L16,L19:L21,L47,L52,L58,L63,L73,L75,L78,L81,L83:L84,L87:L88,L92) -> 0 | M93: =SUM(M47:M92,M22:M45,M20) -> 0
B94: ※大分類のみの回答で、かつ中分類への配分ができない都道府県があるため、中分類の合算値と大分類の値が合致しない項目がある。
B95: ※各産業廃棄物の排出量は、四捨五入しているため合算した値は合計値と異なる場合がある。
B96: ※空欄は該当値が無いもの、「0」表示は500kg/年未満である事を示している。
B97: ②水銀使用製品廃棄物（一括） | G97: 表―Ⅵ・３ | O97: ③水銀含有ばいじん等 | R97: 表―Ⅵ・４
B100: 大分類 | C100: 番 | D100: 産業分類 | E100: コード | F100: 水銀使用製品廃棄物 （ｔ/年） | G100: データの個数 (件) | O100: 大分類 | P100: 産業分類 | Q100: コード | R100: 燃え殻 | V100: 汚 泥 | Z100: 廃 酸 | AD100: 廃アルカリ | AH100: 鉱さい | AL100: ばいじん
C101: 号 | R101: 排出量 （ｔ/年） | S101: うち水銀含有 （ｔ/年） | T101: データの個数 (件) | U101: 比率 | V101: 排出量 （ｔ/年） | W101: うち水銀含有 （ｔ/年） | X101: データの個数 (件) | Y101: 比率 | Z101: 排出量 （ｔ/年） | AA101: うち水銀含有 （ｔ/年） | AB101: データの個数 (件) | AC101: 比率 | AD101: 排出量 （ｔ/年） | AE101: うち水銀含有 （ｔ/年） | AF101: データの個数 (件) | AG101: 比率 | AH101: 排出量 （ｔ/年） | AI101: うち水銀含有 （ｔ/年） | AJ101: データの個数 (件) | AK101: 比率 | AL101: 排出量 （ｔ/年） | AM101: うち水銀含有 （ｔ/年） | AN101: データの個数 (件) | AO101: 比率
D102: 農業，林業大分類 | E102: A | F102: 1.529 | G102: 1 | P102: 農業，林業大分類 | Q102: A | R102: 0 | S102: 0 | T102: 0 | V102: 24.628217 | W102: 0.013884092 | X102: 1 | Y102: 0.00056374734 | Z102: 0 | AA102: 0 | AB102: 0 | AD102: 0 | AE102: 0 | AF102: 0 | AH102: 0 | AI102: 0 | AJ102: 0 | AL102: 0 | AM102: 0 | AN102: 0
C103: 1 | D103: 耕種農業 | E103: A011 | F103: 0 | G103: 0 | P103: 耕種農業 | Q103: A011 | R103: 0 | S103: 0 | T103: 0 | V103: 0 | W103: 0 | X103: 0 | Z103: 0 | AA103: 0 | AB103: 0 | AD103: 0 | AE103: 0 | AF103: 0 | AH103: 0 | AI103: 0 | AJ103: 0 | AL103: 0 | AM103: 0 | AN103: 0
B104: 農業，林業 | C104: 2 | D104: 畜産農業 | E104: A012 | F104: 1.489 | G104: 1 | O104: 農業，林業 | P104: 畜産農業 | Q104: A012 | R104: 0 | S104: 0 | T104: 0 | V104: 0 | W104: 0 | X104: 0 | Z104: 0 | AA104: 0 | AB104: 0 | AD104: 0 | AE104: 0 | AF104: 0 | AH104: 0 | AI104: 0 | AJ104: 0 | AL104: 0 | AM104: 0 | AN104: 0
C105: 3 | D105: 林業 | E105: A02 | F105: 0 | G105: 0 | P105: 林業 | Q105: A02 | R105: 0 | S105: 0 | T105: 0 | V105: 0 | W105: 0 | X105: 0 | Z105: 0 | AA105: 0 | AB105: 0 | AD105: 0 | AE105: 0 | AF105: 0 | AH105: 0 | AI105: 0 | AJ105: 0 | AL105: 0 | AM105: 0 | AN105: 0
C106: 4 | D106: 上記以外の農業，林業 | F106: 0 | G106: 0 | P106: 上記以外の農業，林業 | R106: 0 | S106: 0 | T106: 0 | V106: 0 | W106: 0 | X106: 0 | Z106: 0 | AA106: 0 | AB106: 0 | AD106: 0 | AE106: 0 | AF106: 0 | AH106: 0 | AI106: 0 | AJ106: 0 | AL106: 0 | AM106: 0 | AN106: 0
D107: 漁業大分類 | E107: B | F107: 0 | G107: 0 | P107: 漁業大分類 | Q107: B | R107: 0 | S107: 0 | T107: 0 | V107: 0 | W107: 0 | X107: 0 | Z107: 0 | AA107: 0 | AB107: 0 | AD107: 0 | AE107: 0 | AF107: 0 | AH107: 0 | AI107: 0 | AJ107: 0 | AL107: 0 | AM107: 0 | AN107: 0
B108: 漁 業 | C108: 5 | D108: 漁業 | E108: B03 | F108: 0 | G108: 0 | O108: 漁 業 | P108: 漁業 | Q108: B03 | R108: 0 | S108: 0 | T108: 0 | V108: 0 | W108: 0 | X108: 0 | Z108: 0 | AA108: 0 | AB108: 0 | AD108: 0 | AE108: 0 | AF108: 0 | AH108: 0 | AI108: 0 | AJ108: 0 | AL108: 0 | AM108: 0 | AN108: 0
C109: 6 | D109: 水産養殖業 | E109: B04 | F109: 0 | G109: 0 | P109: 水産養殖業 | Q109: B04 | R109: 0 | S109: 0 | T109: 0 | V109: 0 | W109: 0 | X109: 0 | Z109: 0 | AA109: 0 | AB109: 0 | AD109: 0 | AE109: 0 | AF109: 0 | AH109: 0 | AI109: 0 | AJ109: 0 | AL109: 0 | AM109: 0 | AN109: 0
...

Sheet 表Ⅵ5,6,7
B1: 表－Ⅵ・５水銀使用製品廃棄物（個別製品の種類別）の処理量の集計結果
L5: （単位：ｔ/年）
B6: 廃棄物種類 | C6: 排出量 | D6: 直接再生 利用量 | E6: 直接最終 処分量 | F6: 中間処理量 | J6: 再生利用量 計 | K6: 減量化量 計 | L6: 最終処分量 計
F7: 中間処理量 | G7: 処理残渣量 | H7: 中間処理後 再生利用量 | I7: 中間処理後 最終処分量
B8: 水銀使用製品廃棄物由来の汚泥 | C8: =T9 -> 0 | D8: =U9 -> 0 | E8: =V9 -> 0 | F8: =W9 -> 0 | G8: =Y9 -> 0 | H8: =Z9 -> 0 | I8: =AA9 -> 0 | J8: =AE9 -> 0 | K8: =AF9 -> 0 | L8: =AG9 -> 0
D9: =IFERROR(D8/$C8,"") | E9: =IFERROR(E8/$C8,"") | F9: =IFERROR(F8/$C8,"") | G9: =IFERROR(G8/$C8,"") | H9: =IFERROR(H8/$C8,"") | I9: =IFERROR(I8/$C8,"") | J9: =IFERROR(J8/$C8,"") | K9: =IFERROR(K8/$C8,"") | L9: =IFERROR(L8/$C8,"")
B10: 水銀使用製品廃棄物由来の廃プラスチック類 | C10: =T10 -> 0 | D10: =U10 -> 0 | E10: =V10 -> 0 | F10: =W10 -> 0 | G10: =Y10 -> 0 | H10: =Z10 -> 0 | I10: =AA10 -> 0 | J10: =AE10 -> 0 | K10: =AF10 -> 0 | L10: =AG10 -> 0
D11: =IFERROR(D10/$C10,"") | E11: =IFERROR(E10/$C10,"") | F11: =IFERROR(F10/$C10,"") | G11: =IFERROR(G10/$C10,"") | H11: =IFERROR(H10/$C10,"") | I11: =IFERROR(I10/$C10,"") | J11: =IFERROR(J10/$C10,"") | K11: =IFERROR(K10/$C10,"") | L11: =IFERROR(L10/$C10,"")
B12: 水銀使用製品廃棄物由来の金属くず | C12: =T11 -> 0 | D12: =U11 -> 0 | E12: =V11 -> 0 | F12: =W11 -> 0 | G12: =Y11 -> 0 | H12: =Z11 -> 0 | I12: =AA11 -> 0 | J12: =AE11 -> 0 | K12: =AF11 -> 0 | L12: =AG11 -> 0
D13: =IFERROR(D12/$C12,"") | E13: =IFERROR(E12/$C12,"") | F13: =IFERROR(F12/$C12,"") | G13: =IFERROR(G12/$C12,"") | H13: =IFERROR(H12/$C12,"") | I13: =IFERROR(I12/$C12,"") | J13: =IFERROR(J12/$C12,"") | K13: =IFERROR(K12/$C12,"") | L13: =IFERROR(L12/$C12,"")
B14: 水銀使用製品廃棄物由来のガラスくず | C14: =T12 -> 0 | D14: =U12 -> 0 | E14: =V12 -> 0 | F14: =W12 -> 0 | G14: =Y12 -> 0 | H14: =Z12 -> 0 | I14: =AA12 -> 0 | J14: =AE12 -> 0 | K14: =AF12 -> 0 | L14: =AG12 -> 0
D15: =IFERROR(D14/$C14,"") | E15: =IFERROR(E14/$C14,"") | F15: =IFERROR(F14/$C14,"") | G15: =IFERROR(G14/$C14,"") | H15: =IFERROR(H14/$C14,"") | I15: =IFERROR(I14/$C14,"") | J15: =IFERROR(J14/$C14,"") | K15: =IFERROR(K14/$C14,"") | L15: =IFERROR(L14/$C14,"")
B16: 合計 | C16: =SUM(C8,C10,C12,C14) -> 0 | D16: =SUM(D8,D10,D12,D14) -> 0 | E16: =SUM(E8,E10,E12,E14) -> 0 | F16: =SUM(F8,F10,F12,F14) -> 0 | G16: =SUM(G8,G10,G12,G14) -> 0 | H16: =SUM(H8,H10,H12,H14) -> 0 | I16: =SUM(I8,I10,I12,I14) -> 0 | J16: =D16+H16 -> 0 | K16: =SUM(K8,K10,K12,K14) -> 0 | L16: =E16+I16 -> 0
D17: =IFERROR(D16/$C16,"") | E17: =IFERROR(E16/$C16,"") | F17: =IFERROR(F16/$C16,"") | G17: =IFERROR(G16/$C16,"") | H17: =IFERROR(H16/$C16,"") | I17: =IFERROR(I16/$C16,"") | J17: =IFERROR(J16/$C16,"") | K17: =IFERROR(K16/$C16,"") | L17: =IFERROR(L16/$C16,"")
B18: ※四捨五入により、各項目の合算値と合計値が合致しない場合がある。
B51: 表－Ⅵ・６ 水銀使用製品廃棄物（一括）の処理量の集計結果
L52: （単位：ｔ/年）
B53: 廃棄物種類 | C53: 排出量 | D53: 直接再生 利用量 | E53: 直接最終 処分量 | F53: 中間処理量 | J53: 再生利用量 計 | K53: 減量化量 計 | L53: 最終処分量 計
F54: 中間処理量 | G54: 処理残渣量 | H54: 中間処理後 再生利用量 | I54: 中間処理後 最終処分量
B55: 水銀使用製品廃棄物 （一括） | C55: =T56 -> 0 | D55: =U56 -> 0 | E55: =V56 -> 0 | F55: =W56 -> 0 | G55: =Y56 -> 0 | H55: =Z56 -> 0 | I55: =AA56 -> 0 | J55: =AE56 -> 0 | K55: =AF56 -> 0 | L55: =AG56 -> 0
D56: =IFERROR(D55/$C55,"") | E56: =IFERROR(E55/$C55,"") | F56: =IFERROR(F55/$C55,"") | G56: =IFERROR(G55/$C55,"") | H56: =IFERROR(H55/$C55,"") | I56: =IFERROR(I55/$C55,"") | J56: =IFERROR(J55/$C55,"") | K56: =IFERROR(K55/$C55,"") | L56: =IFERROR(L55/$C55,"")
B57: ※四捨五入により、各項目の合算値と合計値が合致しない場合がある。
B83: 表－Ⅵ・７ 水銀含有ばいじん等の処理量の集計結果（令和５年実績値）
L84: （単位：ｔ/年）
B85: 廃棄物種類 | C85: 排出量 | D85: 直接再生 利用量 | E85: 直接最終 処分量 | F85: 中間処理量 | J85: 再生利用量 計 | K85: 減量化量 計 | L85: 最終処分量 計
F86: 中間処理量 | G86: 処理残渣量 | H86: 中間処理後 再生利用量 | I86: 中間処理後 最終処分量
B87: 燃え殻 | C87: =T88 -> 0 | D87: =U88 -> 0 | E87: =V88 -> 0 | F87: =W88 -> 0 | G87: =Y88 -> 0 | H87: =Z88 -> 0 | I87: =AA88 -> 0 | J87: =AE88 -> 0 | K87: =AF88 -> 0 | L87: =AG88 -> 0
D88: =IFERROR(D87/$C87,"") | E88: =IFERROR(E87/$C87,"") | F88: =IFERROR(F87/$C87,"") | G88: =IFERROR(G87/$C87,"") | H88: =IFERROR(H87/$C87,"") | I88: =IFERROR(I87/$C87,"") | J88: =IFERROR(J87/$C87,"") | K88: =IFERROR(K87/$C87,"") | L88: =IFERROR(L87/$C87,"")
B89: 汚泥 | C89: =T89 -> 0 | D89: =U89 -> 0 | E89: =V89 -> 0 | F89: =W89 -> 0 | G89: =Y89 -> 0 | H89: =Z89 -> 0 | I89: =AA89 -> 0 | J89: =AE89 -> 0 | K89: =AF89 -> 0 | L89: =AG89 -> 0
D90: =IFERROR(D89/$C89,"") | E90: =IFERROR(E89/$C89,"") | F90: =IFERROR(F89/$C89,"") | G90: =IFERROR(G89/$C89,"") | H90: =IFERROR(H89/$C89,"") | I90: =IFERROR(I89/$C89,"") | J90: =IFERROR(J89/$C89,"") | K90: =IFERROR(K89/$C89,"") | L90: =IFERROR(L89/$C89,"")
B91: 廃酸 | C91: =T90 -> 0 | D91: =U90 -> 0 | E91: =V90 -> 0 | F91: =W90 -> 0 | G91: =Y90 -> 0 | H91: =Z90 -> 0 | I91: =AA90 -> 0 | J91: =AE90 -> 0 | K91: =AF90 -> 0 | L91: =AG90 -> 0
D92: =IFERROR(D91/$C91,"") | E92: =IFERROR(E91/$C91,"") | F92: =IFERROR(F91/$C91,"") | G92: =IFERROR(G91/$C91,"") | H92: =IFERROR(H91/$C91,"") | I92: =IFERROR(I91/$C91,"") | J92: =IFERROR(J91/$C91,"") | K92: =IFERROR(K91/$C91,"") | L92: =IFERROR(L91/$C91,"")
B93: 廃アルカリ | C93: =T91 -> 0 | D93: =U91 -> 0 | E93: =V91 -> 0 | F93: =W91 -> 0 | G93: =Y91 -> 0 | H93: =Z91 -> 0 | I93: =AA91 -> 0 | J93: =AE91 -> 0 | K93: =AF91 -> 0 | L93: =AG91 -> 0
D94: =IFERROR(D93/$C93,"") | E94: =IFERROR(E93/$C93,"") | F94: =IFERROR(F93/$C93,"") | G94: =IFERROR(G93/$C93,"") | H94: =IFERROR(H93/$C93,"") | I94: =IFERROR(I93/$C93,"") | J94: =IFERROR(J93/$C93,"") | K94: =IFERROR(K93/$C93,"") | L94: =IFERROR(L93/$C93,"")
B95: 鉱さい | C95: =T92 -> 0 | D95: =U92 -> 0 | E95: =V92 -> 0 | F95: =W92 -> 0 | G95: =Y92 -> 0 | H95: =Z92 -> 0 | I95: =AA92 -> 0 | J95: =AE92 -> 0 | K95: =AF92 -> 0 | L95: =AG92 -> 0
D96: =IFERROR(D95/$C95,"") | E96: =IFERROR(E95/$C95,"") | F96: =IFERROR(F95/$C95,"") | G96: =IFERROR(G95/$C95,"") | H96: =IFERROR(H95/$C95,"") | I96: =IFERROR(I95/$C95,"") | J96: =IFERROR(J95/$C95,"") | K96: =IFERROR(K95/$C95,"") | L96: =IFERROR(L95/$C95,"")
B97: ばいじん | C97: =T93 -> 0 | D97: =U93 -> 0 | E97: =V93 -> 0 | F97: =W93 -> 0 | G97: =Y93 -> 0 | H97: =Z93 -> 0 | I97: =AA93 -> 0 | J97: =AE93 -> 0 | K97: =AF93 -> 0 | L97: =AG93 -> 0
D98: =IFERROR(D97/$C97,"") | E98: =IFERROR(E97/$C97,"") | F98: =IFERROR(F97/$C97,"") | G98: =IFERROR(G97/$C97,"") | H98: =IFERROR(H97/$C97,"") | I98: =IFERROR(I97/$C97,"") | J98: =IFERROR(J97/$C97,"") | K98: =IFERROR(K97/$C97,"") | L98: =IFERROR(L97/$C97,"")
B99: 合計 | C99: =SUM(C87,C89,C91,C93,C95,C97) -> 0 | D99: =SUM(D87,D89,D91,D93,D95,D97) -> 0 | E99: =SUM(E87,E89,E91,E93,E95,E97) -> 0 | F99: =SUM(F87,F89,F91,F93,F95,F97) -> 0 | G99: =SUM(G87,G89,G91,G93,G95,G97) -> 0 | H99: =SUM(H87,H89,H91,H93,H95,H97) -> 0 | I99: =SUM(I87,I89,I91,I93,I95,I97) -> 0 | J99: =D99+H99 -> 0 | K99: =SUM(K87,K89,K91,K93,K95,K97) -> 0 | L99: =E99+I99 -> 0
D100: =D99/$C99 -> #DIV/0! | E100: =E99/$C99 -> #DIV/0! | F100: =F99/$C99 -> #DIV/0! | G100: =G99/$C99 -> #DIV/0! | H100: =H99/$C99 -> #DIV/0! | I100: =I99/$C99 -> #DIV/0! | J100: =J99/$C99 -> #DIV/0! | K100: =K99/$C99 -> #DIV/0! | L100: =L99/$C99 -> #DIV/0!
B101: ※四捨五入により、各項目の合算値と合計値が合致しない場合がある。

Sheet 旧分類　赤字要確認
B1: 表－資・Ⅱ・１（１） 活動量指標全国合計値
B2: （旧産業分類（平成14年3月改訂版）の業種区分）
B3: 大分類 | C3: 番 号 | D3: 産業分類 | E3: コード | F3: 単位 | G3: 平成15年度 | H3: 平成16年度 | I3: 平成20年度 | J3: 平成21年度 | K3: 平成22年度 | L3: 平成23年度 | M3: 平成24年度 | N3: 平成25年度 | O3: 平成26年度
B4: 農 業 | D4: 農業大分類 | E4: A
C5: 1 | D5: 耕種農業 | E5: A011 | F5: a | G5: 4366996.2 | H5: 4621577 | I5: 4421759 | J5: 4196993.2 | K5: 4359500 | L5: 3886123.6 | M5: 3763590.4 | N5: 3641057.2 | O5: 3518524
C6: 2 | D6: 畜産農業 | E6: A012 | I6: 299671570 | J6: 298904940 | K6: 2.965242e+08 | L6: 317512092 | M6: 317612980 | N6: 324052000 | O6: 3.2389132e+08
C7: 3 | D7: 上記以外の農業
B8: 林 業 | C8: 4 | D8: 林業大分類 | E8: B | F8: 人 | G8: 25999.6 | H8: 23252.4 | I8: 23974.6 | J8: 49615 | K8: 67404.667 | L8: 43403 | M8: 43431.333 | N8: 43459.667 | O8: 43488
B9: 漁 業 | D9: 漁業大分類 | E9: C
C10: 5 | D10: 漁 業 | E10: C03 | F10: 人 | G10: 25693.6 | H10: 23930.2 | I10: 21901.6 | J10: 30194 | K10: 31955.333 | L10: 26533 | M10: 26074.333 | N10: 25615.667 | O10: 25157
C11: 6 | D11: 水産養殖業 | E11: C04 | F11: 人 | G11: 15033.6 | H11: 14336.4 | I11: 12327.6 | J11: 18153 | K11: 19544.333 | L11: 15544 | M11: 15432.667 | N11: 15321.333 | O11: 15210
B12: 鉱 業 | C12: 7 | D12: 鉱業 | E12: D | F12: 人 | G12: 40234.6 | H12: 37128.2 | I12: 28091 | J12: 30710 | K12: 30009.082 | L12: 21427 | M12: 20916 | N12: 20405 | O12: 19894
B13: 建設業 | C13: 8 | D13: 建設業 | E13: E | F13: 百万円 | G13: 57459742 | H13: 56181868 | I13: 51812976 | J13: 45476653 | K13: 46996633 | L13: 46524166 | M13: 47086029 | N13: 52274182 | O13: 54925604
B14: 製造業 | D14: 製造業大分類 | E14: F
C15: 9 | D15: 食料品製造業 | E15: F9 | F15: 百万円 | G15: 22761510 | H15: 22799037 | I15: 24941562 | J15: 24578723 | K15: 24114367 | L15: 23699901 | M15: 24301989 | N15: 24948095 | O15: 25936077
C16: 10 | D16: 飲料・たばこ・飼料製造業 | E16: F10 | F16: 百万円 | G16: 10306228 | H16: 10639675 | I16: 9911530.8 | J16: 10058553 | K16: 9613347.7 | L16: 9250528.6 | M16: 9615436.9 | N16: 9500444 | O16: 9596768.3
C17: 11 | D17: 繊維工業 | E17: F11 | F17: 百万円 | G17: 2393522 | H17: 2320584 | I17: 4687733.4 | J17: 4022247 | K17: 3789827.9 | L17: 3480961.2 | M17: 3922821.4 | N17: 3767912.7 | O17: 3822303.8
C18: 12 | D18: 衣服・その他の繊維製品製造業 | E18: F12 | F18: 百万円 | G18: 2443124 | H18: 2250023
C19: 13 | D19: 木材・木製品製造業 | E19: F13 | F19: 百万円 | G19: 2613632 | H19: 2595927 | I19: 2564790.9 | J19: 2167854 | K19: 2134100.8 | L19: 1974972.9 | M19: 2223302.9 | N19: 2436380.4 | O19: 2520040.5
C20: 14 | D20: 家具・装備品製造業 | E20: F14 | F20: 百万円 | G20: 2246607 | H20: 2171701 | I20: 2041129.7 | J20: 1758929 | K20: 1575389.5 | L20: 1418718.2 | M20: 1730851 | N20: 1819000.6 | O20: 1915042
C21: 15 | D21: パルプ・紙・紙加工品製造業 | E21: F15 | F21: 百万円 | G21: 7088673 | H21: 7202123 | I21: 7794835.9 | J21: 7103012 | K21: 7110758.5 | L21: 6508756.6 | M21: 6814766.4 | N21: 6741136.3 | O21: 6974352.6
C22: 16 | D22: 印刷・同関連業 | E22: F16 | F22: 百万円 | G22: 7227561 | H22: 7037226 | I22: 6737841.7 | J22: 6320513 | K22: 6044642.4 | L22: 5196920.1 | M22: 5481652.4 | N22: 5420685.8 | O22: 5415918.2
C23: 17 | D23: 化学工業 | E23: F17 | F23: 百万円 | G23: 23327084 | H23: 24149281 | I23: 28130703 | J23: 24311153 | K23: 26212040 | L23: 25364097 | M23: 26045603 | N23: 27409230 | O23: 28124954
C24: 18 | D24: 石油製品・石炭製品製造業 | E24: F18 | F24: 百万円 | G24: 9917028 | H24: 10475421 | I24: 14005700 | J24: 10506512 | K24: 14979921 | L24: 17129504 | M24: 17172068 | N24: 17781869 | O24: 18648512
C25: 19 | D25: プラスチック製品製造業 | E25: F19 | F25: 百万円 | G25: 10079129 | H25: 10637895 | I25: 12073507 | J25: 10134367 | K25: 10902553 | L25: 10376376 | M25: 11106061 | N25: 11237336 | O25: 11532576
C26: 20 | D26: ゴム製品製造業 | E26: F20 | F26: 百万円 | G26: 2898194 | H26: 2981988 | I26: 3495352.3 | J26: 2667486.5 | K26: 3034826.8 | L26: 2834689.2 | M26: 3177734.3 | N26: 3118877.6 | O26: 3212641.9
C27: 21 | D27: なめし革・同製品・毛皮製造業 | E27: F21 | F27: 百万円 | G27: 515561 | H27: 501111 | I27: 476461.55 | J27: 413852 | K27: 374779.28 | L27: 315029.98 | M27: 344068.14 | N27: 342263.56 | O27: 355024.28
C28: 22 | D28: 窯業・土石製品製造業 | E28: F22 | F28: 百万円 | G28: 7414685 | H28: 7446476 | I28: 8174730.8 | J28: 6848525 | K28: 7101297.5 | L28: 6707257.4 | M28: 6831066.1 | N28: 7056283.9 | O28: 7332194.1
C29: 23 | D29: 鉄鋼業 | E29: F23 | F29: 百万円 | G29: 11902991 | H29: 14141321 | I29: 24332178 | J29: 16019441 | K29: 18146293 | L29: 19243578 | M29: 18012099 | N29: 17905277 | O29: 19202162
C30: 24 | D30: 非鉄金属製造業 | E30: F24 | F30: 百万円 | G30: 5632129 | H30: 6193145 | I30: 10477736 | J30: 6957920 | K30: 8896006.5 | L30: 8204706.8 | M30: 8969612.5 | N30: 8847818.1 | O30: 9502051.1
C31: 25 | D31: 金属製品製造業 | E31: F25 | F31: 百万円 | G31: 13242960 | H31: 13455012 | I31: 15149270 | J31: 12700920 | K31: 12292040 | L31: 11709254 | M31: 12860722 | N31: 13060603 | O31: 13932776
C32: 26 | D32: 一般機械器具製造業 | E32: F26 | F32: 百万円 | G32: 26068300 | H32: 29079931 | I32: 汎用、生産、業務 | J32: 汎用、生産、業務 | K32: 汎用、生産、業務 | L32: 汎用、生産、業務 | M32: 汎用、生産、業務 | N32: 汎用、生産、業務 | O32: 汎用、生産、業務
C33: 27 | D33: 電気機械器具製造業 | E33: F27 | F33: 百万円 | G33: 17890208 | H33: 18328485 | I33: 40247738 | J33: 29197828 | K33: 30618645 | L33: 30607952 | M33: 33081622 | N33: 32091086 | O33: 33727290
C34: 28 | D34: 情報通信機械器具製造業 | E34: F28 | F34: 百万円 | G34: 12711987 | H34: 12871263 | I34: 電子、電気、情報 | J34: 電子、電気、情報 | K34: 電子、電気、情報 | L34: 汎用、生産、業務 | M34: 汎用、生産、業務 | N34: 汎用、生産、業務 | O34: 汎用、生産、業務
C35: 29 | D35: 電子部品・デバイス製造業 | E35: F29 | F35: 百万円 | G35: 17411528 | H35: 18657245 | I35: 51873505 | J35: 40137981 | K35: 44345998 | L35: 37928093 | M35: 36797797 | N35: 36681965 | O35: 39392819
C36: 30 | D36: 輸送用機械器具製造業 | E36: F30 | F36: 百万円 | G36: 49886937 | H36: 50699532 | I36: 63766639 | J36: 47238029 | K36: 54213562 | L36: 54032593 | M36: 56485808 | N36: 58203152 | O36: 60063334
C37: 31 | D37: 精密機械器具製造業 | E37: F31 | F37: 百万円 | G37: 3587538 | H37: 3975911
C38: 32 | D38: その他の製造業 | E38: F32 | F38: 百万円 | G38: 4167338 | H38: 3859936 | I38: 4695880.4 | J38: 3933093 | K38: 3607287 | L38: 3721150.9 | M38: 3752559.2 | N38: 3722713.3 | O38: 3933151.1
B39: 電気･ガス | D39: 電気・ガス・熱供給・水道業大分類 | E39: G
B40: ･熱供給･ | C40: 33 | D40: 電気業 | E40: G33 | F40: 人 | G40: 152717.4 | H40: 150517.6 | I40: 127256.4 | J40: 148753 | K40: 153057.72 | L40: 142113 | M40: 140910.67 | N40: 139708.33 | O40: 138506
B41: 水道業 | C41: 34 | D41: ガス業 | E41: G34 | F41: 人 | G41: 43448 | H41: 42806 | I41: 30897.2 | J41: 37598 | K41: 38605.107 | L41: 35588 | M41: 34948.333 | N41: 34308.667 | O41: 33669
C42: 35 | D42: 熱供給業 | E42: G35 | F42: 人 | G42: 1921.4 | H42: 1947.2 | I42: 2738.8 | J42: 2613 | K42: 2580.5914 | L42: 2011 | M42: 1994.3333 | N42: 1977.6667 | O42: 1961
C43: 36 | D43: 上水道業 | E43: G361 | F43: 人 | G43: 123752978 | H43: 124007589 | I43: 124743531 | J43: 124796337 | K43: 124817005 | L43: 124657159 | M43: 124465601 | N43: 124369524 | O43: 124266130
C44: 37 | D44: 下水道業 | E44: G363 | F44: 人 | G44: 84446173 | H44: 86323574 | I44: 92411000 | J44: 93599000 | K44: 94512000 | L44: 95235000 | M44: 97434000 | N44: 98123000 | O44: 98737000
B45: 情報通信業 | D45: 情報通信業大分類 | E45: H
C46: 38 | D46: 通信業 | E46: H37 | F46: 人 | G46: 313689.6 | H46: 321522.4 | I46: 235508.4 | J46: 192861 | K46: 182904.39 | L46: 196034 | M46: 182143.67 | N46: 168253.33 | O46: 154363
C47: 39 | D47: 放送業 | E47: H38 | F47: 人 | G47: 66500.4 | H47: 66031.6 | I47: 64432.2 | J47: 72194 | K47: 74497.188 | L47: 68217 | M47: 68102 | N47: 67987 | O47: 67872
C48: 40 | D48: 情報サービス業 | E48: H39 | F48: 人 | G48: 921406.6 | H48: 963436.4 | I48: 1011539.2 | J48: 1108899 | K48: 1157929 | L48: 1044779 | M48: 1054646.3 | N48: 1064513.7 | O48: 1074381
C49: 41 | D49: インターネット付随サービス業 | E49: H40 | F49: 人 | G49: 9662.2 | H49: 10386.8 | I49: 62519.4 | J49: 64936 | K49: 70953.328 | L49: 54161 | M49: 63805 | N49: 73449 | O49: 83093
C50: 42 | D50: 映像・音声・文字情報制作業 | E50: H41 | F50: 人 | G50: 254027.2 | H50: 253584.8 | I50: 269302.6 | J50: 286088 | K50: 293051.76 | L50: 248970 | M50: 249636.67 | N50: 250303.33 | O50: 250970
B51: 運輸業 | D51: 運輸業大分類 | E51: I
C52: 43 | D52: 鉄道業 | E52: I42 | F52: 人 | G52: 221048.4 | H52: 212988.6 | I52: 201881 | J52: 275173 | K52: 296386.38 | L52: 261271 | M52: 252521 | N52: 243771 | O52: 235021
C53: 44 | D53: 道路旅客運送業 | E53: I43 | F53: 人 | G53: 596105 | H53: 589044 | I53: 590039 | J53: 621855 | K53: 630535.61 | L53: 563476 | M53: 558032.33 | N53: 552588.67 | O53: 547145
C54: 45 | D54: 道路貨物運送業 | E54: I44 | F54: 人 | G54: 1550155.6 | H54: 1554998.4 | I54: 1526495.2 | J54: 1793269 | K54: 1880854.9 | L54: 1532188 | M54: 1592830.7 | N54: 1653473.3 | O54: 1714116
C55: 46 | D55: 上記以外の運輸通信業 | F55: 人 | I55: 571344 | J55: 921305 | K55: 1036303.7 | L55: 925355 | M55: 867570.67 | N55: 809786.33 | O55: 752002
B56: 卸売・小売業 | D56: 卸売・小売業大分類 | E56: J
C57: 47 | D57: 各種商品卸売業 | E57: J49 | F57: 人 | G57: 36755.2 | H57: 32866 | I57: 37537.6 | J57: 37936 | K57: 40915.658 | L57: 41092 | M57: 39718.333 | N57: 38344.667 | O57: 36971
C58: 48 | D58: 各種商品小売業 | E58: J55 | F58: 人 | G58: 728564.6 | H58: 730130.4 | I58: 587822.8 | J58: 640122 | K58: 647042.34 | L58: 375764 | M58: 388766 | N58: 401768 | O58: 414770
C59: 49 | D59: 自動車小売業 | E59: J571 | F59: 人 | G59: 654787.8 | H59: 654717.2 | I59: 581489.2 | J59: 636711 | K59: 648121.38 | L59: 538840 | M59: 551472.67 | N59: 564105.33 | O59: 576738
C60: 50 | D60: 家具・じゅう器・機械器具小売業 | E60: J59 | F60: 人 | G60: 574996.4 | H60: 559914.6 | I60: =[3]H20活動指標!$BB66+[3]H20活動指標!AY67+[3]H20活動指標!AY65 -> 288722 | J60: =[3]H21活動指標!$BB66+[3]H21活動指標!AZ67+[3]H21活動指標!AZ65 -> 127616 | K60: =[3]H22活動指標!$BB66+[3]H22活動指標!BA67+[3]H22活動指標!BA65 -> 125161.94 | L60: =[3]H23活動指標!$BB66+[3]H23活動指標!BB67+[3]H23活動指標!BB65 -> 503404 | M60: =[3]H24活動指標!BB66+[3]H24活動指標!BB67+[3]H24活動指標!BB65 -> 466135.67 | N60: =[3]H25活動指標!$BB66+[3]H25活動指標!BD67+[3]H25活動指標!BD65 -> 81611 | O60: =[3]H25活動指標!$BB66+[3]H25活動指標!BE67+[3]H25活動指標!BE65 -> 81507
C61: 51 | D61: 燃料小売業 | E61: J603 | F61: 人 | G61: 469067 | H61: 456760 | I61: 374342.2 | J61: 394418 | K61: 389742.39 | L61: 339246 | M61: 338207 | N61: 337168 | O61: 336129
C62: 52 | D62: 上記以外の卸売・小売業・飲食店小売業 | F62: 人 | J62: 10377323 | K62: 10448332 | L62: 9908889 | M62: 9986846.8 | N62: 10064805 | O62: 10142763
B63: 飲食店、宿泊業 | D63: 飲食店、宿泊業大分類 | E63: M
C64: 53 | D64: 一般飲食店 | E64: M70 | F64: 人 | G64: 3004797.8 | H64: 3042321.2 | I64: 2847172 | J64: 3876846 | K64: 4939103.9 | L64: 4201947 | M64: 4211591.7 | N64: 4221236.3 | O64: 4230881
C65: 54 | D65: 上記以外の飲食店、宿泊業 | F65: 人 | I65: 1931850 | J65: 1315040 | K65: 1085155.5 | L65: 1218885 | M65: 1232153.3 | N65: 1245421.7 | O65: 1258690
B66: 医療、福祉 | D66: 医療、福祉大分類 | E66: N
C67: 55 | D67: 医療業 | E67: N73 | F67: 床 | G67: 1820035 | H67: 1812554 | I67: 1751842 | J67: 1743293 | K67: 1730215 | L67: 1712439 | M67: 1712439 | N67: 1695114 | O67: 1680625
C68: 56 | D68: 上記以外の医療、福祉 | F68: 人 | I68: 2640008.8 | J68: 2876829 | K68: 3062060 | L68: 2766541 | M68: 2987603.7 | N68: 3208666.3 | O68: 3429729
B69: 教育、学習支援業 | C69: 57 | D69: 教育、学習支援業大分類 | E69: O | F69: 人 | G69: 2827057 | H69: 2834116 | I69: 2990446.4 | J69: 3086902 | K69: 3135750.1 | L69: 2993051.2 | M69: 2992400 | N69: 3004440 | O69: 3016680
B70: 複合サービス事業 | C70: 58 | D70: 複合サービス事業大分類 | E70: P | F70: 人 | G70: 736523.6 | H70: 728107.4 | I70: 687875.2 | J70: 406970 | K70: 369603.55 | L70: 342426 | M70: 401191.33 | N70: 459956.67 | O70: 518722
B71: サービス業 | D71: サービス業大分類 | E71: Q
C72: 59 | D72: 写真業 | E72: Q808 | F72: 人 | G72: 133955 | H72: 133936 | I72: 49196.6 | J72: 53803 | K72: 53720.858 | L72: 48716 | M72: 49360 | N72: 50004 | O72: 50648
C73: 60 | D73: 学術開発研究機関 | E73: Q81 | F73: 人 | G73: 291483.8 | H73: 295290.2 | I73: 272537.8 | J73: 303752 | K73: 312190.91 | L73: 252841 | M73: 255080 | N73: 257319 | O73: 259558
C74: 61 | D74: 洗濯業 | E74: Q821 | F74: 人 | G74: 390056.2 | H74: 385912.8 | I74: 355242 | J74: 385042 | K74: 390823.12 | L74: 365401 | M74: 352087.67 | N74: 338774.33 | O74: 325461
C75: 62 | D75: 自動車整備業 | E75: Q86 | F75: 人 | G75: 304507.6 | H75: 298207.4 | I75: 311291.2 | J75: 271619 | K75: 258637.39 | L75: 279646 | M75: 274408 | N75: 269170 | O75: 263932
C76: 63 | D76: と蓄場 | E76: Q932 | F76: 人 | G76: 2849 | H76: 2838 | I76: 3081 | J76: 4052 | K76: 4311.5134 | L76: 2477 | M76: 2361.3333 | N76: 2245.6667 | O76: 2130
F77: （頭） | G77: 1209571 | H77: 1265822 | I77: 1237578 | J77: 1227764 | K77: 1218663 | L77: 1174221 | M77: 1199510 | N77: 1184999 | O77: 1156602
C78: 64 | D78: 上記以外のサービス業 | F78: 人 | I78: 7915329.4 | J78: 4290390.7 | K78: 4421416.5 | L78: 4239632 | M78: 4292511 | N78: 4345390 | O78: 4398269
B79: 公 務 | C79: 65 | D79: 公務大分類 | E79: R | F79: 人 | G79: 1888211.4 | H79: 1893670.6 | I79: 1842038.2 | J79: 1868690 | K79: 1874179.3 | L79: 2203870.5 | M79: 2187800 | N79: 2187940 | O79: 2188480

Sheet ×00_全国25
B1: 表－資・Ⅳ・２ 平成25年度業種別・種類別有効回答データ数合計表（旧産業分類の業種区分）
B2: No. | D2: 全国 | F2: 平成25年度 | Y2: (単位：件)
B3: 大分類 | C3: 番号 | D3: 産業分類 | E3: コード | F3: 燃え殻 | G3: 汚 泥 | H3: 廃 油 | I3: 廃 酸 | J3: 廃アルカリ | K3: 廃プラス チック類 | L3: 紙くず | M3: 木くず | N3: 繊維くず | O3: 動植物性 残 渣 | P3: 動物系固形不要物 | Q3: ゴムくず | R3: 金属くず | S3: ガラスくず及び 陶磁器くず | T3: 鉱さい | U3: がれき類 | V3: 動物の ふん尿 | W3: 動物の死体 | X3: ばいじん | Y3: 合 計
B4: 農 業 | D4: 農業大分類 | E4: A | F4: =COUNT('[4]26_京都府22:46_鹿児島県20'!F5) -> 5 | G4: =COUNT('[4]26_京都府22:46_鹿児島県20'!G5) -> 5 | H4: =COUNT('[4]26_京都府22:46_鹿児島県20'!H5) -> 5 | I4: =COUNT('[4]26_京都府22:46_鹿児島県20'!I5) -> 5 | J4: =COUNT('[4]26_京都府22:46_鹿児島県20'!J5) -> 5 | K4: =COUNT('[4]26_京都府22:46_鹿児島県20'!K5) -> 5 | L4: =COUNT('[4]26_京都府22:46_鹿児島県20'!L5) -> 5 | M4: =COUNT('[4]26_京都府22:46_鹿児島県20'!M5) -> 5 | ... Y4: =COUNT('[4]26_京都府22:46_鹿児島県20'!Y5) -> 5
C5: 1 | D5: 耕種農業 | E5: A011 | F5: =COUNT('[4]26_京都府22:46_鹿児島県20'!F6) -> 5 | G5: =COUNT('[4]26_京都府22:46_鹿児島県20'!G6) -> 5 | H5: =COUNT('[4]26_京都府22:46_鹿児島県20'!H6) -> 5 | I5: =COUNT('[4]26_京都府22:46_鹿児島県20'!I6) -> 5 | J5: =COUNT('[4]26_京都府22:46_鹿児島県20'!J6) -> 5 | K5: =COUNT('[4]26_京都府22:46_鹿児島県20'!K6) -> 5 | L5: =COUNT('[4]26_京都府22:46_鹿児島県20'!L6) -> 5 | M5: =COUNT('[4]26_京都府22:46_鹿児島県20'!M6) -> 5 | ... Y5: =COUNT('[4]26_京都府22:46_鹿児島県20'!Y6) -> 5
C6: 2 | D6: 畜産農業 | E6: A012 | F6: =COUNT('[4]26_京都府22:46_鹿児島県20'!F7) -> 5 | G6: =COUNT('[4]26_京都府22:46_鹿児島県20'!G7) -> 5 | H6: =COUNT('[4]26_京都府22:46_鹿児島県20'!H7) -> 5 | I6: =COUNT('[4]26_京都府22:46_鹿児島県20'!I7) -> 5 | J6: =COUNT('[4]26_京都府22:46_鹿児島県20'!J7) -> 5 | K6: =COUNT('[4]26_京都府22:46_鹿児島県20'!K7) -> 5 | L6: =COUNT('[4]26_京都府22:46_鹿児島県20'!L7) -> 5 | M6: =COUNT('[4]26_京都府22:46_鹿児島県20'!M7) -> 5 | ... Y6: =COUNT('[4]26_京都府22:46_鹿児島県20'!Y7) -> 5
C7: 3 | D7: 上記以外の農業 | F7: =COUNT('[4]26_京都府22:46_鹿児島県20'!F8) -> 5 | G7: =COUNT('[4]26_京都府22:46_鹿児島県20'!G8) -> 5 | H7: =COUNT('[4]26_京都府22:46_鹿児島県20'!H8) -> 5 | I7: =COUNT('[4]26_京都府22:46_鹿児島県20'!I8) -> 5 | J7: =COUNT('[4]26_京都府22:46_鹿児島県20'!J8) -> 5 | K7: =COUNT('[4]26_京都府22:46_鹿児島県20'!K8) -> 5 | L7: =COUNT('[4]26_京都府22:46_鹿児島県20'!L8) -> 5 | M7: =COUNT('[4]26_京都府22:46_鹿児島県20'!M8) -> 5 | ... Y7: =COUNT('[4]26_京都府22:46_鹿児島県20'!Y8) -> 5
B8: 林 業 | C8: 4 | D8: 林業大分類 | E8: B | F8: =COUNT('[4]26_京都府22:46_鹿児島県20'!F9) -> 5 | G8: =COUNT('[4]26_京都府22:46_鹿児島県20'!G9) -> 5 | H8: =COUNT('[4]26_京都府22:46_鹿児島県20'!H9) -> 5 | I8: =COUNT('[4]26_京都府22:46_鹿児島県20'!I9) -> 5 | J8: =COUNT('[4]26_京都府22:46_鹿児島県20'!J9) -> 5 | K8: =COUNT('[4]26_京都府22:46_鹿児島県20'!K9) -> 5 | L8: =COUNT('[4]26_京都府22:46_鹿児島県20'!L9) -> 5 | M8: =COUNT('[4]26_京都府22:46_鹿児島県20'!M9) -> 5 | ... Y8: =COUNT('[4]26_京都府22:46_鹿児島県20'!Y9) -> 5
B9: 漁 業 | D9: 漁業大分類 | E9: C | F9: =COUNT('[4]26_京都府22:46_鹿児島県20'!F10) -> 5 | G9: =COUNT('[4]26_京都府22:46_鹿児島県20'!G10) -> 5 | H9: =COUNT('[4]26_京都府22:46_鹿児島県20'!H10) -> 5 | I9: =COUNT('[4]26_京都府22:46_鹿児島県20'!I10) -> 5 | J9: =COUNT('[4]26_京都府22:46_鹿児島県20'!J10) -> 5 | K9: =COUNT('[4]26_京都府22:46_鹿児島県20'!K10) -> 5 | L9: =COUNT('[4]26_京都府22:46_鹿児島県20'!L10) -> 5 | M9: =COUNT('[4]26_京都府22:46_鹿児島県20'!M10) -> 5 | ... Y9: =COUNT('[4]26_京都府22:46_鹿児島県20'!Y10) -> 5
C10: 5 | D10: 漁 業 | E10: C03 | F10: =COUNT('[4]26_京都府22:46_鹿児島県20'!F11) -> 5 | G10: =COUNT('[4]26_京都府22:46_鹿児島県20'!G11) -> 5 | H10: =COUNT('[4]26_京都府22:46_鹿児島県20'!H11) -> 5 | I10: =COUNT('[4]26_京都府22:46_鹿児島県20'!I11) -> 5 | J10: =COUNT('[4]26_京都府22:46_鹿児島県20'!J11) -> 5 | K10: =COUNT('[4]26_京都府22:46_鹿児島県20'!K11) -> 5 | L10: =COUNT('[4]26_京都府22:46_鹿児島県20'!L11) -> 5 | M10: =COUNT('[4]26_京都府22:46_鹿児島県20'!M11) -> 5 | ... Y10: =COUNT('[4]26_京都府22:46_鹿児島県20'!Y11) -> 5
C11: 6 | D11: 水産養殖業 | E11: C04 | F11: =COUNT('[4]26_京都府22:46_鹿児島県20'!F12) -> 5 | G11: =COUNT('[4]26_京都府22:46_鹿児島県20'!G12) -> 5 | H11: =COUNT('[4]26_京都府22:46_鹿児島県20'!H12) -> 5 | I11: =COUNT('[4]26_京都府22:46_鹿児島県20'!I12) -> 5 | J11: =COUNT('[4]26_京都府22:46_鹿児島県20'!J12) -> 5 | K11: =COUNT('[4]26_京都府22:46_鹿児島県20'!K12) -> 5 | L11: =COUNT('[4]26_京都府22:46_鹿児島県20'!L12) -> 5 | M11: =COUNT('[4]26_京都府22:46_鹿児島県20'!M12) -> 5 | ... Y11: =COUNT('[4]26_京都府22:46_鹿児島県20'!Y12) -> 5
B12: 鉱 業 | C12: 7 | D12: 鉱業 | E12: D | F12: =COUNT('[4]26_京都府22:46_鹿児島県20'!F13) -> 5 | G12: =COUNT('[4]26_京都府22:46_鹿児島県20'!G13) -> 5 | H12: =COUNT('[4]26_京都府22:46_鹿児島県20'!H13) -> 5 | I12: =COUNT('[4]26_京都府22:46_鹿児島県20'!I13) -> 5 | J12: =COUNT('[4]26_京都府22:46_鹿児島県20'!J13) -> 5 | K12: =COUNT('[4]26_京都府22:46_鹿児島県20'!K13) -> 5 | L12: =COUNT('[4]26_京都府22:46_鹿児島県20'!L13) -> 5 | M12: =COUNT('[4]26_京都府22:46_鹿児島県20'!M13) -> 5 | ... Y12: =COUNT('[4]26_京都府22:46_鹿児島県20'!Y13) -> 5
B13: 建設業 | C13: 8 | D13: 建設業 | E13: E | F13: =COUNT('[4]26_京都府22:46_鹿児島県20'!F14) -> 5 | G13: =COUNT('[4]26_京都府22:46_鹿児島県20'!G14) -> 5 | H13: =COUNT('[4]26_京都府22:46_鹿児島県20'!H14) -> 5 | I13: =COUNT('[4]26_京都府22:46_鹿児島県20'!I14) -> 5 | J13: =COUNT('[4]26_京都府22:46_鹿児島県20'!J14) -> 5 | K13: =COUNT('[4]26_京都府22:46_鹿児島県20'!K14) -> 5 | L13: =COUNT('[4]26_京都府22:46_鹿児島県20'!L14) -> 5 | M13: =COUNT('[4]26_京都府22:46_鹿児島県20'!M14) -> 5 | ... Y13: =COUNT('[4]26_京都府22:46_鹿児島県20'!Y14) -> 5
D14: 製造業大分類 | E14: F | F14: =COUNT('[4]26_京都府22:46_鹿児島県20'!F15) -> 5 | G14: =COUNT('[4]26_京都府22:46_鹿児島県20'!G15) -> 5 | H14: =COUNT('[4]26_京都府22:46_鹿児島県20'!H15) -> 5 | I14: =COUNT('[4]26_京都府22:46_鹿児島県20'!I15) -> 5 | J14: =COUNT('[4]26_京都府22:46_鹿児島県20'!J15) -> 5 | K14: =COUNT('[4]26_京都府22:46_鹿児島県20'!K15) -> 5 | L14: =COUNT('[4]26_京都府22:46_鹿児島県20'!L15) -> 5 | M14: =COUNT('[4]26_京都府22:46_鹿児島県20'!M15) -> 5 | ... Y14: =COUNT('[4]26_京都府22:46_鹿児島県20'!Y15) -> 5
C15: 9 | D15: 食料品製造業 | E15: F9 | F15: =COUNT('[4]26_京都府22:46_鹿児島県20'!F16) -> 5 | G15: =COUNT('[4]26_京都府22:46_鹿児島県20'!G16) -> 5 | H15: =COUNT('[4]26_京都府22:46_鹿児島県20'!H16) -> 5 | I15: =COUNT('[4]26_京都府22:46_鹿児島県20'!I16) -> 5 | J15: =COUNT('[4]26_京都府22:46_鹿児島県20'!J16) -> 5 | K15: =COUNT('[4]26_京都府22:46_鹿児島県20'!K16) -> 5 | L15: =COUNT('[4]26_京都府22:46_鹿児島県20'!L16) -> 5 | M15: =COUNT('[4]26_京都府22:46_鹿児島県20'!M16) -> 5 | ... Y15: =COUNT('[4]26_京都府22:46_鹿児島県20'!Y16) -> 5
C16: 10 | D16: 飲料・たばこ・飼料製造業 | E16: F10 | F16: =COUNT('[4]26_京都府22:46_鹿児島県20'!F17) -> 5 | G16: =COUNT('[4]26_京都府22:46_鹿児島県20'!G17) -> 5 | H16: =COUNT('[4]26_京都府22:46_鹿児島県20'!H17) -> 5 | I16: =COUNT('[4]26_京都府22:46_鹿児島県20'!I17) -> 5 | J16: =COUNT('[4]26_京都府22:46_鹿児島県20'!J17) -> 5 | K16: =COUNT('[4]26_京都府22:46_鹿児島県20'!K17) -> 5 | L16: =COUNT('[4]26_京都府22:46_鹿児島県20'!L17) -> 5 | M16: =COUNT('[4]26_京都府22:46_鹿児島県20'!M17) -> 5 | ... Y16: =COUNT('[4]26_京都府22:46_鹿児島県20'!Y17) -> 5
C17: 11 | D17: 繊維工業 | E17: F11 | F17: =COUNT('[4]26_京都府22:46_鹿児島県20'!F18) -> 5 | G17: =COUNT('[4]26_京都府22:46_鹿児島県20'!G18) -> 5 | H17: =COUNT('[4]26_京都府22:46_鹿児島県20'!H18) -> 5 | I17: =COUNT('[4]26_京都府22:46_鹿児島県20'!I18) -> 5 | J17: =COUNT('[4]26_京都府22:46_鹿児島県20'!J18) -> 5 | K17: =COUNT('[4]26_京都府22:46_鹿児島県20'!K18) -> 5 | L17: =COUNT('[4]26_京都府22:46_鹿児島県20'!L18) -> 5 | M17: =COUNT('[4]26_京都府22:46_鹿児島県20'!M18) -> 5 | ... Y17: =COUNT('[4]26_京都府22:46_鹿児島県20'!Y18) -> 5
