Workbook

Sheet 目次
A1: 子供の生活状況調査 クロス集計表
A3: 表 | D3: 【目 次】
A5: 1 | F5: 性別
A6: 2 | D6: 世帯収入 | E6: × | F6: 学習環境
A7: 3 | D7: 世帯収入 | E7: × | F7: 学習習慣 a．学校がある日
D8: 世帯収入 | E8: × | F8: 学習習慣 b．学校がない日（土・日曜日・祝日）
A9: 4 | D9: 世帯収入 | E9: × | F9: 学習成績
A10: 5 | D10: 世帯収入 | E10: × | F10: 授業の理解度
D11: 親の婚姻状況 | E11: × | F11: 授業の理解度
D12: 幼児期の教育（０- ２歳） | E12: × | F12: 授業の理解度
D13: 幼児期の教育（３- ５歳） | E13: × | F13: 授業の理解度
D14: 保護者の関わり方 a．テレビ・ゲーム・インターネット等の視聴時間等のルールを決めている | E14: × | F14: 授業の理解度
D15: 保護者の関わり方 b．お子さんに本や新聞を読むように勧めている | E15: × | F15: 授業の理解度
D16: 保護者の関わり方 c．お子さんが小さいころ、絵本の読み聞かせをしていた | E16: × | F16: 授業の理解度
D17: 保護者の関わり方 d．お子さんから、勉強や成績のことについて話をしてくれる | E17: × | F17: 授業の理解度
D18: 学校行事への参加 a．授業参観や運動会等 | E18: × | F18: 授業の理解度
D19: 学校行事への参加 b．ＰＴＡ活動や保護者会、放課後学習支援等のボランティア等 | E19: × | F19: 授業の理解度
D20: 精神状態 a．神経過敏に感じた | E20: × | F20: 授業の理解度
D21: 精神状態 b．絶望的だと感じた | E21: × | F21: 授業の理解度
D22: 精神状態 c．そわそわ、落ち着かなく感じた | E22: × | F22: 授業の理解度
... D33: 食事の頻度 c．夏休みや冬休みなどの期間の昼食 | E33: × | F33: 授業の理解度
A34: 6 | D34: 就寝時間の規則性 | E34: × | F34: 授業の理解度
D35: 主観的幸福（生活満足度） | E35: × | F35: 授業の理解度
D36: 精神状態 a．私は、他人に対して親切にするようにしている。私は、他人の気持ちをよく考える。 | E36: × | F36: 授業の理解度
D37: 精神状態 b．私は、よく頭やお腹がいたくなったり、気持ちが悪くなったりする。 | E37: × | F37: 授業の理解度
D38: 精神状態 c．私は、他の子供たちと、よく分け合う（食べ物・ゲーム・ペンなど）。 | E38: × | F38: 授業の理解度
D39: 精神状態 d．私は、たいてい一人でいる。だいたいいつも一人で遊ぶか、人と付き合うことを避ける。 | E39: × | F39: 授業の理解度
D40: 精神状態 e．私は、心配ごとが多く、いつも不安だ。 | E40: × | F40: 授業の理解度
D41: 精神状態 f．私は、誰かが心を痛めていたり、落ち込んでいたり、嫌な思いをしているときなど、すすんで助ける。 | E41: × | F41: 授業の理解度
D42: 精神状態 g．私は、仲の良い友だちが少なくとも一人はいる。 | E42: × | F42: 授業の理解度
D43: 精神状態 h．私は、落ち込んでしずんでいたり、涙ぐんだりすることがよくある。 | E43: × | F43: 授業の理解度
D44: 精神状態 i．私は、同じくらいの年齢の子供からは、だいたいは好かれている。 | E44: × | F44: 授業の理解度
D45: 精神状態 j．私は、新しい場面に直面すると不安になり、自信をなくしやすい。 | E45: × | F45: 授業の理解度
D46: 精神状態 k．私は、年下の子供たちに対してやさしくしている。 | E46: × | F46: 授業の理解度
... D55: 支援の利用状況 d．( 家や学校以外で) 何でも相談できる場所（電話やネットの相談を含む。） | E55: × | F55: 授業の理解度
A56: 7 | D56: 世帯収入 | E56: × | F56: 授業についていけなくなった時期
A57: 8 | D57: 世帯収入 | E57: × | F57: 進学希望
D58: 進学の見通し | E58: × | F58: 進学希望
A59: 9 | D59: 世帯収入 | E59: × | F59: 進学希望（理由）
A60: 10 | D60: 世帯収入 | E60: × | F60: 部活動等の状況
...

Sheet 01
A1: =HYPERLINK("#目次!A"&ROW(目次!$A$5),"[01]") -> [01]
B2: 【全員の方に】中学生票問１．あなたの性別を教えてください。（ＳＡ）
D3: 全 体 | E3: 性別
E4: 男 | F4: 女 | G4: その他・答えたくない | H4: 不明・無回答
D5: 2715 | E5: 1300 | F5: 1362 | G5: 33 | H5: 20
D6: 100 | E6: 47.9 | F6: 50.2 | G6: 1.2 | H6: 0.7

Sheet 02
A1: =HYPERLINK("#目次!A"&ROW(目次!$A$6),"[02]") -> [02]
B2: 【全員の方に】中学生票問２．あなたは、ふだん学校の授業以外で、どのように勉強をしていますか。（ＭＡ）
D3: 全 体 | E3: 学習環境
E4: 自分で勉強する | F4: 塾で勉強する | G4: 学校の補習を受ける | H4: 家庭教師に教えてもらう | I4: 地域の人などが行う無料の勉強会に参加する | J4: 家の人に教えてもらう | K4: 友達と勉強する | L4: その他 | M4: 学校の授業以外で勉強はしない | N4: 不明・無回答
B5: 全 体 | D5: 2715 | E5: 2082 | F5: 1281 | G5: 134 | H5: 74 | I5: 25 | J5: 662 | K5: 719 | L5: 133 | M5: 133 | N5: 19
D6: 100 | E6: 76.7 | F6: 47.2 | G6: 4.9 | H6: 2.7 | I6: 0.9 | J6: 24.4 | K6: 26.5 | L6: 4.9 | M6: 4.9 | N6: 0.7
B7: 世帯収入 | C7: 50万円未満 | D7: 8 | E7: 4 | F7: 3 | G7: 1 | H7: - | I7: 1 | J7: 4 | K7: 3 | L7: 1 | M7: - | N7: -
D8: 100 | E8: 50 | F8: 37.5 | G8: 12.5 | H8: - | I8: 12.5 | J8: 50 | K8: 37.5 | L8: 12.5 | M8: - | N8: -
C9: 50~100万円未満 | D9: 27 | E9: 17 | F9: 6 | G9: 1 | H9: - | I9: 1 | J9: 3 | K9: 4 | L9: - | M9: 6 | N9: -
D10: 100 | E10: 63 | F10: 22.2 | G10: 3.7 | H10: - | I10: 3.7 | J10: 11.1 | K10: 14.8 | L10: - | M10: 22.2 | N10: -
C11: 100~150 万円未満 | D11: 52 | E11: 38 | F11: 16 | G11: 4 | H11: - | I11: 1 | J11: 9 | K11: 16 | L11: 3 | M11: 4 | N11: -
D12: 100 | E12: 73.1 | F12: 30.8 | G12: 7.7 | H12: - | I12: 1.9 | J12: 17.3 | K12: 30.8 | L12: 5.8 | M12: 7.7 | N12: -
C13: 150~200 万円未満 | D13: 64 | E13: 39 | F13: 21 | G13: 3 | H13: 1 | I13: - | J13: 13 | K13: 17 | L13: 3 | M13: 13 | N13: -
D14: 100 | E14: 60.9 | F14: 32.8 | G14: 4.7 | H14: 1.6 | I14: - | J14: 20.3 | K14: 26.6 | L14: 4.7 | M14: 20.3 | N14: -
C15: 200~250 万円未満 | D15: 91 | E15: 72 | F15: 25 | G15: 5 | H15: 4 | I15: 5 | J15: 15 | K15: 20 | L15: 5 | M15: 6 | N15: 2
D16: 100 | E16: 79.1 | F16: 27.5 | G16: 5.5 | H16: 4.4 | I16: 5.5 | J16: 16.5 | K16: 22 | L16: 5.5 | M16: 6.6 | N16: 2.2
C17: 250~300 万円未満 | D17: 98 | E17: 74 | F17: 33 | G17: 9 | H17: - | I17: 6 | J17: 24 | K17: 32 | L17: 6 | M17: 9 | N17: 1
D18: 100 | E18: 75.5 | F18: 33.7 | G18: 9.2 | H18: - | I18: 6.1 | J18: 24.5 | K18: 32.7 | L18: 6.1 | M18: 9.2 | N18: 1
C19: 300~350 万円未満 | D19: 114 | E19: 92 | F19: 37 | G19: 4 | H19: 4 | I19: - | J19: 19 | K19: 25 | L19: 3 | M19: 12 | N19: 1
D20: 100 | E20: 80.7 | F20: 32.5 | G20: 3.5 | H20: 3.5 | I20: - | J20: 16.7 | K20: 21.9 | L20: 2.6 | M20: 10.5 | N20: 0.9
C21: 350~400 万円未満 | D21: 138 | E21: 104 | F21: 52 | G21: 8 | H21: 3 | I21: - | J21: 27 | K21: 30 | L21: 5 | M21: 9 | N21: -
D22: 100 | E22: 75.4 | F22: 37.7 | G22: 5.8 | H22: 2.2 | I22: - | J22: 19.6 | K22: 21.7 | L22: 3.6 | M22: 6.5 | N22: -
C23: 400~450 万円未満 | D23: 148 | E23: 112 | F23: 57 | G23: 8 | H23: 2 | I23: 1 | J23: 35 | K23: 37 | L23: 6 | M23: 11 | N23: 1
D24: 100 | E24: 75.7 | F24: 38.5 | G24: 5.4 | H24: 1.4 | I24: 0.7 | J24: 23.6 | K24: 25 | L24: 4.1 | M24: 7.4 | N24: 0.7
C25: 450~500 万円未満 | D25: 179 | E25: 138 | F25: 72 | G25: 7 | H25: 2 | I25: 2 | J25: 35 | K25: 46 | L25: 9 | M25: 8 | N25: 1
D26: 100 | E26: 77.1 | F26: 40.2 | G26: 3.9 | H26: 1.1 | I26: 1.1 | J26: 19.6 | K26: 25.7 | L26: 5 | M26: 4.5 | N26: 0.6
C27: 500~600 万円未満 | D27: 330 | E27: 245 | F27: 158 | G27: 14 | H27: 12 | I27: 1 | J27: 73 | K27: 89 | L27: 20 | M27: 21 | N27: 3
D28: 100 | E28: 74.2 | F28: 47.9 | G28: 4.2 | H28: 3.6 | I28: 0.3 | J28: 22.1 | K28: 27 | L28: 6.1 | M28: 6.4 | N28: 0.9
C29: 600~700 万円未満 | D29: 286 | E29: 229 | F29: 150 | G29: 13 | H29: 12 | I29: 2 | J29: 80 | K29: 85 | L29: 19 | M29: 7 | N29: 3
D30: 100 | E30: 80.1 | F30: 52.4 | G30: 4.5 | H30: 4.2 | I30: 0.7 | J30: 28 | K30: 29.7 | L30: 6.6 | M30: 2.4 | N30: 1
C31: 700~800 万円未満 | D31: 303 | E31: 235 | F31: 163 | G31: 12 | H31: 7 | I31: 3 | J31: 74 | K31: 80 | L31: 13 | M31: 9 | N31: 1
D32: 100 | E32: 77.6 | F32: 53.8 | G32: 4 | H32: 2.3 | I32: 1 | J32: 24.4 | K32: 26.4 | L32: 4.3 | M32: 3 | N32: 0.3
C33: 800~900 万円未満 | D33: 194 | E33: 150 | F33: 108 | G33: 8 | H33: 3 | I33: - | J33: 49 | K33: 52 | L33: 8 | M33: 6 | N33: 2
D34: 100 | E34: 77.3 | F34: 55.7 | G34: 4.1 | H34: 1.5 | I34: - | J34: 25.3 | K34: 26.8 | L34: 4.1 | M34: 3.1 | N34: 1
C35: 900~1000万円未満 | D35: 208 | E35: 153 | F35: 119 | G35: 16 | H35: 5 | I35: - | J35: 60 | K35: 63 | L35: 3 | M35: 6 | N35: 1
D36: 100 | E36: 73.6 | F36: 57.2 | G36: 7.7 | H36: 2.4 | I36: - | J36: 28.8 | K36: 30.3 | L36: 1.4 | M36: 2.9 | N36: 0.5
C37: 1000万円以上 | D37: 415 | E37: 331 | F37: 242 | G37: 18 | H37: 17 | I37: 1 | J37: 131 | K37: 105 | L37: 24 | M37: 5 | N37: 1
D38: 100 | E38: 79.8 | F38: 58.3 | G38: 4.3 | H38: 4.1 | I38: 0.2 | J38: 31.6 | K38: 25.3 | L38: 5.8 | M38: 1.2 | N38: 0.2
C39: 不明・無回答 | D39: 60 | E39: 49 | F39: 19 | G39: 3 | H39: 2 | I39: 1 | J39: 11 | K39: 15 | L39: 5 | M39: 1 | N39: 2
D40: 100 | E40: 81.7 | F40: 31.7 | G40: 5 | H40: 3.3 | I40: 1.7 | J40: 18.3 | K40: 25 | L40: 8.3 | M40: 1.7 | N40: 3.3
...

Sheet 03
A1: =HYPERLINK("#目次!A"&ROW(目次!$A$7),"[03]") -> [03]
B2: 【全員の方に】中学生票問３．あなたは、ふだん学校の授業以外に、１日あたりどれくらいの時間勉強をしますか。（ＳＡ）
D3: 全 体 | E3: 学習習慣 a．学校がある日 | L3: 全 体 | M3: 学習習慣 b．学校がない日（土・日曜日・祝日）
E4: まったくしない | F4: ３０分より少ない | G4: ３０分以上、１時間より少ない | H4: １時間以上、２時間より少ない | I4: ２時間以上、３時間より少ない | J4: ３時間以上 | K4: 不明・無回答 | M4: まったくしない | N4: ３０分より少ない | O4: ３０分以上、１時間より少ない | P4: １時間以上、２時間より少ない | Q4: ２時間以上、３時間より少ない | R4: ３時間以上 | S4: 不明・無回答
B5: 全 体 | D5: 2715 | E5: 144 | F5: 419 | G5: 774 | H5: 885 | I5: 343 | J5: 129 | K5: 21 | L5: 2715 | M5: 341 | N5: 415 | O5: 613 | P5: 645 | Q5: 394 | R5: 259 | S5: 48
D6: 100 | E6: 5.3 | F6: 15.4 | G6: 28.5 | H6: 32.6 | I6: 12.6 | J6: 4.8 | K6: 0.8 | L6: 100 | M6: 12.6 | N6: 15.3 | O6: 22.6 | P6: 23.8 | Q6: 14.5 | R6: 9.5 | S6: 1.8
B7: 世帯収入 | C7: 50万円未満 | D7: 8 | E7: - | F7: 1 | G7: 1 | H7: 4 | I7: 1 | J7: 1 | K7: - | L7: 8 | M7: 2 | N7: 2 | O7: - | P7: 1 | Q7: 1 | R7: 2 | S7: -
D8: 100 | E8: - | F8: 12.5 | G8: 12.5 | H8: 50 | I8: 12.5 | J8: 12.5 | K8: - | L8: 100 | M8: 25 | N8: 25 | O8: - | P8: 12.5 | Q8: 12.5 | R8: 25 | S8: -
C9: 50~100万円未満 | D9: 27 | E9: 4 | F9: 9 | G9: 6 | H9: 5 | I9: 1 | J9: 2 | K9: - | L9: 27 | M9: 6 | N9: 9 | O9: 4 | P9: 4 | Q9: 4 | R9: - | S9: -
D10: 100 | E10: 14.8 | F10: 33.3 | G10: 22.2 | H10: 18.5 | I10: 3.7 | J10: 7.4 | K10: - | L10: 100 | M10: 22.2 | N10: 33.3 | O10: 14.8 | P10: 14.8 | Q10: 14.8 | R10: - | S10: -
C11: 100~150 万円未満 | D11: 52 | E11: 4 | F11: 6 | G11: 21 | H11: 13 | I11: 6 | J11: 2 | K11: - | L11: 52 | M11: 11 | N11: 6 | O11: 9 | P11: 19 | Q11: 3 | R11: 2 | S11: 2
D12: 100 | E12: 7.7 | F12: 11.5 | G12: 40.4 | H12: 25 | I12: 11.5 | J12: 3.8 | K12: - | L12: 100 | M12: 21.2 | N12: 11.5 | O12: 17.3 | P12: 36.5 | Q12: 5.8 | R12: 3.8 | S12: 3.8
C13: 150~200 万円未満 | D13: 64 | E13: 13 | F13: 8 | G13: 23 | H13: 12 | I13: 5 | J13: 3 | K13: - | L13: 64 | M13: 19 | N13: 11 | O13: 18 | P13: 8 | Q13: 3 | R13: 4 | S13: 1
D14: 100 | E14: 20.3 | F14: 12.5 | G14: 35.9 | H14: 18.8 | I14: 7.8 | J14: 4.7 | K14: - | L14: 100 | M14: 29.7 | N14: 17.2 | O14: 28.1 | P14: 12.5 | Q14: 4.7 | R14: 6.3 | S14: 1.6
C15: 200~250 万円未満 | D15: 91 | E15: 7 | F15: 18 | G15: 29 | H15: 26 | I15: 7 | J15: 2 | K15: 2 | L15: 91 | M15: 12 | N15: 17 | O15: 20 | P15: 20 | Q15: 13 | R15: 5 | S15: 4
D16: 100 | E16: 7.7 | F16: 19.8 | G16: 31.9 | H16: 28.6 | I16: 7.7 | J16: 2.2 | K16: 2.2 | L16: 100 | M16: 13.2 | N16: 18.7 | O16: 22 | P16: 22 | Q16: 14.3 | R16: 5.5 | S16: 4.4
C17: 250~300 万円未満 | D17: 98 | E17: 9 | F17: 11 | G17: 28 | H17: 37 | I17: 9 | J17: 2 | K17: 2 | L17: 98 | M17: 18 | N17: 18 | O17: 22 | P17: 19 | Q17: 15 | R17: 3 | S17: 3
D18: 100 | E18: 9.2 | F18: 11.2 | G18: 28.6 | H18: 37.8 | I18: 9.2 | J18: 2 | K18: 2 | L18: 100 | M18: 18.4 | N18: 18.4 | O18: 22.4 | P18: 19.4 | Q18: 15.3 | R18: 3.1 | S18: 3.1
C19: 300~350 万円未満 | D19: 114 | E19: 11 | F19: 25 | G19: 30 | H19: 31 | I19: 13 | J19: 3 | K19: 1 | L19: 114 | M19: 26 | N19: 11 | O19: 25 | P19: 24 | Q19: 16 | R19: 9 | S19: 3
D20: 100 | E20: 9.6 | F20: 21.9 | G20: 26.3 | H20: 27.2 | I20: 11.4 | J20: 2.6 | K20: 0.9 | L20: 100 | M20: 22.8 | N20: 9.6 | O20: 21.9 | P20: 21.1 | Q20: 14 | R20: 7.9 | S20: 2.6
C21: 350~400 万円未満 | D21: 138 | E21: 7 | F21: 35 | G21: 47 | H21: 34 | I21: 13 | J21: 2 | K21: - | L21: 138 | M21: 22 | N21: 31 | O21: 32 | P21: 37 | Q21: 11 | R21: 4 | S21: 1
D22: 100 | E22: 5.1 | F22: 25.4 | G22: 34.1 | H22: 24.6 | I22: 9.4 | J22: 1.4 | K22: - | L22: 100 | M22: 15.9 | N22: 22.5 | O22: 23.2 | P22: 26.8 | Q22: 8 | R22: 2.9 | S22: 0.7
C23: 400~450 万円未満 | D23: 148 | E23: 13 | F23: 20 | G23: 49 | H23: 47 | I23: 15 | J23: 3 | K23: 1 | L23: 148 | M23: 23 | N23: 29 | O23: 33 | P23: 36 | Q23: 20 | R23: 5 | S23: 2
D24: 100 | E24: 8.8 | F24: 13.5 | G24: 33.1 | H24: 31.8 | I24: 10.1 | J24: 2 | K24: 0.7 | L24: 100 | M24: 15.5 | N24: 19.6 | O24: 22.3 | P24: 24.3 | Q24: 13.5 | R24: 3.4 | S24: 1.4
C25: 450~500 万円未満 | D25: 179 | E25: 9 | F25: 33 | G25: 43 | H25: 67 | I25: 18 | J25: 7 | K25: 2 | L25: 179 | M25: 27 | N25: 24 | O25: 49 | P25: 34 | Q25: 24 | R25: 19 | S25: 2
D26: 100 | E26: 5 | F26: 18.4 | G26: 24 | H26: 37.4 | I26: 10.1 | J26: 3.9 | K26: 1.1 | L26: 100 | M26: 15.1 | N26: 13.4 | O26: 27.4 | P26: 19 | Q26: 13.4 | R26: 10.6 | S26: 1.1
C27: 500~600 万円未満 | D27: 330 | E27: 24 | F27: 50 | G27: 96 | H27: 120 | I27: 29 | J27: 9 | K27: 2 | L27: 330 | M27: 34 | N27: 55 | O27: 76 | P27: 91 | Q27: 51 | R27: 18 | S27: 5
D28: 100 | E28: 7.3 | F28: 15.2 | G28: 29.1 | H28: 36.4 | I28: 8.8 | J28: 2.7 | K28: 0.6 | L28: 100 | M28: 10.3 | N28: 16.7 | O28: 23 | P28: 27.6 | Q28: 15.5 | R28: 5.5 | S28: 1.5
C29: 600~700 万円未満 | D29: 286 | E29: 6 | F29: 37 | G29: 83 | H29: 99 | I29: 45 | J29: 13 | K29: 3 | L29: 286 | M29: 30 | N29: 42 | O29: 75 | P29: 63 | Q29: 41 | R29: 27 | S29: 8
D30: 100 | E30: 2.1 | F30: 12.9 | G30: 29 | H30: 34.6 | I30: 15.7 | J30: 4.5 | K30: 1 | L30: 100 | M30: 10.5 | N30: 14.7 | O30: 26.2 | P30: 22 | Q30: 14.3 | R30: 9.4 | S30: 2.8
C31: 700~800 万円未満 | D31: 303 | E31: 12 | F31: 39 | G31: 78 | H31: 102 | I31: 43 | J31: 27 | K31: 2 | L31: 303 | M31: 33 | N31: 40 | O31: 64 | P31: 70 | Q31: 54 | R31: 38 | S31: 4
D32: 100 | E32: 4 | F32: 12.9 | G32: 25.7 | H32: 33.7 | I32: 14.2 | J32: 8.9 | K32: 0.7 | L32: 100 | M32: 10.9 | N32: 13.2 | O32: 21.1 | P32: 23.1 | Q32: 17.8 | R32: 12.5 | S32: 1.3
C33: 800~900 万円未満 | D33: 194 | E33: 6 | F33: 29 | G33: 60 | H33: 61 | I33: 20 | J33: 16 | K33: 2 | L33: 194 | M33: 20 | N33: 21 | O33: 48 | P33: 58 | Q33: 24 | R33: 19 | S33: 4
D34: 100 | E34: 3.1 | F34: 14.9 | G34: 30.9 | H34: 31.4 | I34: 10.3 | J34: 8.2 | K34: 1 | L34: 100 | M34: 10.3 | N34: 10.8 | O34: 24.7 | P34: 29.9 | Q34: 12.4 | R34: 9.8 | S34: 2.1
C35: 900~1000万円未満 | D35: 208 | E35: 9 | F35: 28 | G35: 66 | H35: 66 | I35: 28 | J35: 10 | K35: 1 | L35: 208 | M35: 19 | N35: 24 | O35: 47 | P35: 57 | Q35: 33 | R35: 25 | S35: 3
D36: 100 | E36: 4.3 | F36: 13.5 | G36: 31.7 | H36: 31.7 | I36: 13.5 | J36: 4.8 | K36: 0.5 | L36: 100 | M36: 9.1 | N36: 11.5 | O36: 22.6 | P36: 27.4 | Q36: 15.9 | R36: 12 | S36: 1.4
C37: 1000万円以上 | D37: 415 | E37: 7 | F37: 56 | G37: 102 | H37: 142 | I37: 81 | J37: 26 | K37: 1 | L37: 415 | M37: 32 | N37: 65 | O37: 80 | P37: 92 | Q37: 70 | R37: 73 | S37: 3
D38: 100 | E38: 1.7 | F38: 13.5 | G38: 24.6 | H38: 34.2 | I38: 19.5 | J38: 6.3 | K38: 0.2 | L38: 100 | M38: 7.7 | N38: 15.7 | O38: 19.3 | P38: 22.2 | Q38: 16.9 | R38: 17.6 | S38: 0.7
C39: 不明・無回答 | D39: 60 | E39: 3 | F39: 14 | G39: 12 | H39: 19 | I39: 9 | J39: 1 | K39: 2 | L39: 60 | M39: 7 | N39: 10 | O39: 11 | P39: 12 | Q39: 11 | R39: 6 | S39: 3
D40: 100 | E40: 5 | F40: 23.3 | G40: 20 | H40: 31.7 | I40: 15 | J40: 1.7 | K40: 3.3 | L40: 100 | M40: 11.7 | N40: 16.7 | O40: 18.3 | P40: 20 | Q40: 18.3 | R40: 10 | S40: 5
...

Sheet 04
A1: =HYPERLINK("#目次!A"&ROW(目次!$A$9),"[04]") -> [04]
B2: 【全員の方に】中学生票問４．あなたの成績は、クラスの中でどのくらいだと思いますか。（ＳＡ）
D3: 全 体 | E3: 学習成績
E4: 上のほう | F4: やや上のほう | G4: まん中あたり | H4: やや下のほう | I4: 下のほう | J4: わからない | K4: 不明・無回答
B5: 全 体 | D5: 2715 | E5: 364 | F5: 565 | G5: 754 | H5: 426 | I5: 470 | J5: 131 | K5: 5
D6: 100 | E6: 13.4 | F6: 20.8 | G6: 27.8 | H6: 15.7 | I6: 17.3 | J6: 4.8 | K6: 0.2
B7: 世帯収入 | C7: 50万円未満 | D7: 8 | E7: 1 | F7: - | G7: 2 | H7: 4 | I7: 1 | J7: - | K7: -
D8: 100 | E8: 12.5 | F8: - | G8: 25 | H8: 50 | I8: 12.5 | J8: - | K8: -
C9: 50~100万円未満 | D9: 27 | E9: 1 | F9: - | G9: 5 | H9: 3 | I9: 17 | J9: 1 | K9: -
D10: 100 | E10: 3.7 | F10: - | G10: 18.5 | H10: 11.1 | I10: 63 | J10: 3.7 | K10: -
C11: 100~150 万円未満 | D11: 52 | E11: 2 | F11: 6 | G11: 13 | H11: 13 | I11: 15 | J11: 3 | K11: -
D12: 100 | E12: 3.8 | F12: 11.5 | G12: 25 | H12: 25 | I12: 28.8 | J12: 5.8 | K12: -
C13: 150~200 万円未満 | D13: 64 | E13: 4 | F13: 5 | G13: 17 | H13: 7 | I13: 27 | J13: 4 | K13: -
D14: 100 | E14: 6.3 | F14: 7.8 | G14: 26.6 | H14: 10.9 | I14: 42.2 | J14: 6.3 | K14: -
C15: 200~250 万円未満 | D15: 91 | E15: 10 | F15: 11 | G15: 23 | H15: 9 | I15: 27 | J15: 9 | K15: 2
D16: 100 | E16: 11 | F16: 12.1 | G16: 25.3 | H16: 9.9 | I16: 29.7 | J16: 9.9 | K16: 2.2
C17: 250~300 万円未満 | D17: 98 | E17: 2 | F17: 15 | G17: 26 | H17: 25 | I17: 22 | J17: 8 | K17: -
D18: 100 | E18: 2 | F18: 15.3 | G18: 26.5 | H18: 25.5 | I18: 22.4 | J18: 8.2 | K18: -
C19: 300~350 万円未満 | D19: 114 | E19: 13 | F19: 17 | G19: 30 | H19: 20 | I19: 27 | J19: 7 | K19: -
D20: 100 | E20: 11.4 | F20: 14.9 | G20: 26.3 | H20: 17.5 | I20: 23.7 | J20: 6.1 | K20: -
C21: 350~400 万円未満 | D21: 138 | E21: 12 | F21: 17 | G21: 37 | H21: 24 | I21: 37 | J21: 11 | K21: -
D22: 100 | E22: 8.7 | F22: 12.3 | G22: 26.8 | H22: 17.4 | I22: 26.8 | J22: 8 | K22: -
C23: 400~450 万円未満 | D23: 148 | E23: 19 | F23: 28 | G23: 34 | H23: 21 | I23: 36 | J23: 10 | K23: -
D24: 100 | E24: 12.8 | F24: 18.9 | G24: 23 | H24: 14.2 | I24: 24.3 | J24: 6.8 | K24: -
C25: 450~500 万円未満 | D25: 179 | E25: 29 | F25: 38 | G25: 51 | H25: 30 | I25: 25 | J25: 6 | K25: -
D26: 100 | E26: 16.2 | F26: 21.2 | G26: 28.5 | H26: 16.8 | I26: 14 | J26: 3.4 | K26: -
C27: 500~600 万円未満 | D27: 330 | E27: 39 | F27: 68 | G27: 91 | H27: 54 | I27: 57 | J27: 20 | K27: 1
D28: 100 | E28: 11.8 | F28: 20.6 | G28: 27.6 | H28: 16.4 | I28: 17.3 | J28: 6.1 | K28: 0.3
C29: 600~700 万円未満 | D29: 286 | E29: 26 | F29: 71 | G29: 88 | H29: 49 | I29: 42 | J29: 9 | K29: 1
D30: 100 | E30: 9.1 | F30: 24.8 | G30: 30.8 | H30: 17.1 | I30: 14.7 | J30: 3.1 | K30: 0.3
C31: 700~800 万円未満 | D31: 303 | E31: 51 | F31: 67 | G31: 81 | H31: 50 | I31: 40 | J31: 14 | K31: -
D32: 100 | E32: 16.8 | F32: 22.1 | G32: 26.7 | H32: 16.5 | I32: 13.2 | J32: 4.6 | K32: -
C33: 800~900 万円未満 | D33: 194 | E33: 30 | F33: 46 | G33: 61 | H33: 30 | I33: 22 | J33: 5 | K33: -
D34: 100 | E34: 15.5 | F34: 23.7 | G34: 31.4 | H34: 15.5 | I34: 11.3 | J34: 2.6 | K34: -
C35: 900~1000万円未満 | D35: 208 | E35: 33 | F35: 55 | G35: 63 | H35: 27 | I35: 23 | J35: 7 | K35: -
D36: 100 | E36: 15.9 | F36: 26.4 | G36: 30.3 | H36: 13 | I36: 11.1 | J36: 3.4 | K36: -
C37: 1000万円以上 | D37: 415 | E37: 88 | F37: 103 | G37: 114 | H37: 58 | I37: 37 | J37: 14 | K37: 1
D38: 100 | E38: 21.2 | F38: 24.8 | G38: 27.5 | H38: 14 | I38: 8.9 | J38: 3.4 | K38: 0.2
C39: 不明・無回答 | D39: 60 | E39: 4 | F39: 18 | G39: 18 | H39: 2 | I39: 15 | J39: 3 | K39: -
D40: 100 | E40: 6.7 | F40: 30 | G40: 30 | H40: 3.3 | I40: 25 | J40: 5 | K40: -
...

Sheet 05
A1: =HYPERLINK("#目次!A"&ROW(目次!$A$10),"[05]") -> [05]
B2: 【全員の方に】中学生票問５．あなたは、学校の授業がわからないことがありますか。（ＳＡ）
D3: 全 体 | E3: 授業の理解度
E4: いつもわかる | F4: だいたいわかる | G4: 教科によってはわからないことがある | H4: わからないことが多い | I4: ほとんどわからない | J4: 不明・無回答 | K4: いつもわかる・だいたいわかる（計） | L4: 教科によってはわからないことがある・わからないことが多い・ほとんどわからない（計）
B5: 全 体 | D5: 2715 | E5: 274 | F5: 931 | G5: 1194 | H5: 234 | I5: 76 | J5: 6 | K5: 1205 | L5: 1504
D6: 100 | E6: 10.1 | F6: 34.3 | G6: 44 | H6: 8.6 | I6: 2.8 | J6: 0.2 | K6: 44.4 | L6: 55.4
B7: 世帯収入 | C7: 50万円未満 | D7: 8 | E7: - | F7: 1 | G7: 5 | H7: 1 | I7: 1 | J7: - | K7: 1 | L7: 7
D8: 100 | E8: - | F8: 12.5 | G8: 62.5 | H8: 12.5 | I8: 12.5 | J8: - | K8: 12.5 | L8: 87.5
C9: 50~100万円未満 | D9: 27 | E9: 1 | F9: 4 | G9: 13 | H9: 7 | I9: 2 | J9: - | K9: 5 | L9: 22
D10: 100 | E10: 3.7 | F10: 14.8 | G10: 48.1 | H10: 25.9 | I10: 7.4 | J10: - | K10: 18.5 | L10: 81.5
C11: 100~150 万円未満 | D11: 52 | E11: 4 | F11: 12 | G11: 27 | H11: 8 | I11: 1 | J11: - | K11: 16 | L11: 36
D12: 100 | E12: 7.7 | F12: 23.1 | G12: 51.9 | H12: 15.4 | I12: 1.9 | J12: - | K12: 30.8 | L12: 69.2
C13: 150~200 万円未満 | D13: 64 | E13: 1 | F13: 13 | G13: 27 | H13: 18 | I13: 5 | J13: - | K13: 14 | L13: 50
D14: 100 | E14: 1.6 | F14: 20.3 | G14: 42.2 | H14: 28.1 | I14: 7.8 | J14: - | K14: 21.9 | L14: 78.1
C15: 200~250 万円未満 | D15: 91 | E15: 9 | F15: 20 | G15: 46 | H15: 10 | I15: 5 | J15: 1 | K15: 29 | L15: 61
D16: 100 | E16: 9.9 | F16: 22 | G16: 50.5 | H16: 11 | I16: 5.5 | J16: 1.1 | K16: 31.9 | L16: 67
C17: 250~300 万円未満 | D17: 98 | E17: 3 | F17: 24 | G17: 54 | H17: 14 | I17: 3 | J17: - | K17: 27 | L17: 71
D18: 100 | E18: 3.1 | F18: 24.5 | G18: 55.1 | H18: 14.3 | I18: 3.1 | J18: - | K18: 27.6 | L18: 72.4
C19: 300~350 万円未満 | D19: 114 | E19: 9 | F19: 33 | G19: 51 | H19: 14 | I19: 7 | J19: - | K19: 42 | L19: 72
D20: 100 | E20: 7.9 | F20: 28.9 | G20: 44.7 | H20: 12.3 | I20: 6.1 | J20: - | K20: 36.8 | L20: 63.2
C21: 350~400 万円未満 | D21: 138 | E21: 5 | F21: 39 | G21: 72 | H21: 15 | I21: 6 | J21: 1 | K21: 44 | L21: 93
D22: 100 | E22: 3.6 | F22: 28.3 | G22: 52.2 | H22: 10.9 | I22: 4.3 | J22: 0.7 | K22: 31.9 | L22: 67.4
C23: 400~450 万円未満 | D23: 148 | E23: 12 | F23: 33 | G23: 80 | H23: 15 | I23: 8 | J23: - | K23: 45 | L23: 103
D24: 100 | E24: 8.1 | F24: 22.3 | G24: 54.1 | H24: 10.1 | I24: 5.4 | J24: - | K24: 30.4 | L24: 69.6
C25: 450~500 万円未満 | D25: 179 | E25: 19 | F25: 56 | G25: 88 | H25: 10 | I25: 6 | J25: - | K25: 75 | L25: 104
D26: 100 | E26: 10.6 | F26: 31.3 | G26: 49.2 | H26: 5.6 | I26: 3.4 | J26: - | K26: 41.9 | L26: 58.1
C27: 500~600 万円未満 | D27: 330 | E27: 24 | F27: 103 | G27: 157 | H27: 29 | I27: 16 | J27: 1 | K27: 127 | L27: 202
D28: 100 | E28: 7.3 | F28: 31.2 | G28: 47.6 | H28: 8.8 | I28: 4.8 | J28: 0.3 | K28: 38.5 | L28: 61.2
C29: 600~700 万円未満 | D29: 286 | E29: 24 | F29: 107 | G29: 132 | H29: 20 | I29: 2 | J29: 1 | K29: 131 | L29: 154
D30: 100 | E30: 8.4 | F30: 37.4 | G30: 46.2 | H30: 7 | I30: 0.7 | J30: 0.3 | K30: 45.8 | L30: 53.8
C31: 700~800 万円未満 | D31: 303 | E31: 34 | F31: 118 | G31: 124 | H31: 17 | I31: 10 | J31: - | K31: 152 | L31: 151
D32: 100 | E32: 11.2 | F32: 38.9 | G32: 40.9 | H32: 5.6 | I32: 3.3 | J32: - | K32: 50.2 | L32: 49.8
C33: 800~900 万円未満 | D33: 194 | E33: 24 | F33: 84 | G33: 69 | H33: 16 | I33: 1 | J33: - | K33: 108 | L33: 86
D34: 100 | E34: 12.4 | F34: 43.3 | G34: 35.6 | H34: 8.2 | I34: 0.5 | J34: - | K34: 55.7 | L34: 44.3
C35: 900~1000万円未満 | D35: 208 | E35: 20 | F35: 86 | G35: 88 | H35: 13 | I35: - | J35: 1 | K35: 106 | L35: 101
D36: 100 | E36: 9.6 | F36: 41.3 | G36: 42.3 | H36: 6.3 | I36: - | J36: 0.5 | K36: 51 | L36: 48.6
C37: 1000万円以上 | D37: 415 | E37: 80 | F37: 182 | G37: 129 | H37: 20 | I37: 3 | J37: 1 | K37: 262 | L37: 152
D38: 100 | E38: 19.3 | F38: 43.9 | G38: 31.1 | H38: 4.8 | I38: 0.7 | J38: 0.2 | K38: 63.1 | L38: 36.6
C39: 不明・無回答 | D39: 60 | E39: 5 | F39: 16 | G39: 32 | H39: 7 | I39: - | J39: - | K39: 21 | L39: 39
D40: 100 | E40: 8.3 | F40: 26.7 | G40: 53.3 | H40: 11.7 | I40: - | J40: - | K40: 35 | L40: 65
...

Sheet 06
A1: =HYPERLINK("#目次!A"&ROW(目次!$A$34),"[06]") -> [06]
B2: 【全員の方に】中学生票問５．あなたは、学校の授業がわからないことがありますか。（ＳＡ）
D3: 全 体 | E3: 授業の理解度
E4: いつもわかる | F4: だいたいわかる | G4: 教科によってはわからないことがある | H4: わからないことが多い | I4: ほとんどわからない | J4: 不明・無回答 | K4: いつもわかる・だいたいわかる（計） | L4: 教科によってはわからないことがある・わからないことが多い・ほとんどわからない（計）
B5: 全 体 | D5: 2715 | E5: 274 | F5: 931 | G5: 1194 | H5: 234 | I5: 76 | J5: 6 | K5: 1205 | L5: 1504
D6: 100 | E6: 10.1 | F6: 34.3 | G6: 44 | H6: 8.6 | I6: 2.8 | J6: 0.2 | K6: 44.4 | L6: 55.4
B7: 就寝時間の規則性 | C7: そうである | D7: 920 | E7: 146 | F7: 334 | G7: 367 | H7: 57 | I7: 13 | J7: 3 | K7: 480 | L7: 437
D8: 100 | E8: 15.9 | F8: 36.3 | G8: 39.9 | H8: 6.2 | I8: 1.4 | J8: 0.3 | K8: 52.2 | L8: 47.5
C9: どちらかといえばそうである | D9: 1308 | E9: 107 | F9: 477 | G9: 598 | H9: 99 | I9: 26 | J9: 1 | K9: 584 | L9: 723
D10: 100 | E10: 8.2 | F10: 36.5 | G10: 45.7 | H10: 7.6 | I10: 2 | J10: 0.1 | K10: 44.6 | L10: 55.3
C11: どちらかといえばそうではない | D11: 338 | E11: 15 | F11: 82 | G11: 167 | H11: 58 | I11: 16 | J11: - | K11: 97 | L11: 241
D12: 100 | E12: 4.4 | F12: 24.3 | G12: 49.4 | H12: 17.2 | I12: 4.7 | J12: - | K12: 28.7 | L12: 71.3
C13: そうではない | D13: 132 | E13: 5 | F13: 34 | G13: 54 | H13: 17 | I13: 21 | J13: 1 | K13: 39 | L13: 92
D14: 100 | E14: 3.8 | F14: 25.8 | G14: 40.9 | H14: 12.9 | I14: 15.9 | J14: 0.8 | K14: 29.5 | L14: 69.7
C15: 不明・無回答 | D15: 17 | E15: 1 | F15: 4 | G15: 8 | H15: 3 | I15: - | J15: 1 | K15: 5 | L15: 11
D16: 100 | E16: 5.9 | F16: 23.5 | G16: 47.1 | H16: 17.6 | I16: - | J16: 5.9 | K16: 29.4 | L16: 64.7
C17: そうである・どちらかといえばそうである（計） | D17: 2228 | E17: 253 | F17: 811 | G17: 965 | H17: 156 | I17: 39 | J17: 4 | K17: 1064 | L17: 1160
D18: 100 | E18: 11.4 | F18: 36.4 | G18: 43.3 | H18: 7 | I18: 1.8 | J18: 0.2 | K18: 47.8 | L18: 52.1
C19: そうではない・どちらかといえばそうではない（計） | D19: 470 | E19: 20 | F19: 116 | G19: 221 | H19: 75 | I19: 37 | J19: 1 | K19: 136 | L19: 333
D20: 100 | E20: 4.3 | F20: 24.7 | G20: 47 | H20: 16 | I20: 7.9 | J20: 0.2 | K20: 28.9 | L20: 70.9
B21: 全 体 | D21: 2715 | E21: 274 | F21: 931 | G21: 1194 | H21: 234 | I21: 76 | J21: 6 | K21: 1205 | L21: 1504
D22: 100 | E22: 10.1 | F22: 34.3 | G22: 44 | H22: 8.6 | I22: 2.8 | J22: 0.2 | K22: 44.4 | L22: 55.4
B23: 主観的幸福（生活満足度） | C23: ０：まったく満足していない | D23: 35 | E23: 5 | F23: 2 | G23: 16 | H23: 5 | I23: 6 | J23: 1 | K23: 7 | L23: 27
D24: 100 | E24: 14.3 | F24: 5.7 | G24: 45.7 | H24: 14.3 | I24: 17.1 | J24: 2.9 | K24: 20 | L24: 77.1
C25: １ | D25: 35 | E25: 3 | F25: 8 | G25: 16 | H25: 6 | I25: 2 | J25: - | K25: 11 | L25: 24
D26: 100 | E26: 8.6 | F26: 22.9 | G26: 45.7 | H26: 17.1 | I26: 5.7 | J26: - | K26: 31.4 | L26: 68.6
C27: ２ | D27: 60 | E27: - | F27: 13 | G27: 28 | H27: 13 | I27: 6 | J27: - | K27: 13 | L27: 47
D28: 100 | E28: - | F28: 21.7 | G28: 46.7 | H28: 21.7 | I28: 10 | J28: - | K28: 21.7 | L28: 78.3
C29: ３ | D29: 122 | E29: 7 | F29: 21 | G29: 64 | H29: 22 | I29: 8 | J29: - | K29: 28 | L29: 94
D30: 100 | E30: 5.7 | F30: 17.2 | G30: 52.5 | H30: 18 | I30: 6.6 | J30: - | K30: 23 | L30: 77
C31: ４ | D31: 166 | E31: 10 | F31: 41 | G31: 79 | H31: 27 | I31: 9 | J31: - | K31: 51 | L31: 115
D32: 100 | E32: 6 | F32: 24.7 | G32: 47.6 | H32: 16.3 | I32: 5.4 | J32: - | K32: 30.7 | L32: 69.3
C33: ５ | D33: 351 | E33: 16 | F33: 89 | G33: 188 | H33: 49 | I33: 9 | J33: - | K33: 105 | L33: 246
D34: 100 | E34: 4.6 | F34: 25.4 | G34: 53.6 | H34: 14 | I34: 2.6 | J34: - | K34: 29.9 | L34: 70.1
C35: ６ | D35: 251 | E35: 15 | F35: 88 | G35: 118 | H35: 23 | I35: 7 | J35: - | K35: 103 | L35: 148
D36: 100 | E36: 6 | F36: 35.1 | G36: 47 | H36: 9.2 | I36: 2.8 | J36: - | K36: 41 | L36: 59
C37: ７ | D37: 386 | E37: 33 | F37: 140 | G37: 185 | H37: 20 | I37: 7 | J37: 1 | K37: 173 | L37: 212
D38: 100 | E38: 8.5 | F38: 36.3 | G38: 47.9 | H38: 5.2 | I38: 1.8 | J38: 0.3 | K38: 44.8 | L38: 54.9
C39: ８ | D39: 574 | E39: 67 | F39: 246 | G39: 231 | H39: 24 | I39: 6 | J39: - | K39: 313 | L39: 261
D40: 100 | E40: 11.7 | F40: 42.9 | G40: 40.2 | H40: 4.2 | I40: 1 | J40: - | K40: 54.5 | L40: 45.5
...

Sheet 07
A1: =HYPERLINK("#目次!A"&ROW(目次!$A$56),"[07]") -> [07]
B2: 【問５で３～５と答えた方に】中学生票問６．いつごろから、授業がわからないことがあるようになりましたか。（ＳＡ）
D3: 全 体 | E3: 授業についていけなくなった時期
E4: 小学１・２年生のころ | F4: 小学３・４年生のころ | G4: 小学５・６年生のころ | H4: 中学１年生のころ | I4: 中学２年生になってから | J4: 不明・無回答
B5: 全 体 | D5: 1504 | E5: 45 | F5: 103 | G5: 268 | H5: 759 | I5: 326 | J5: 3
D6: 100 | E6: 3 | F6: 6.8 | G6: 17.8 | H6: 50.5 | I6: 21.7 | J6: 0.2
B7: 世帯収入 | C7: 50万円未満 | D7: 7 | E7: - | F7: - | G7: 1 | H7: 4 | I7: 2 | J7: -
D8: 100 | E8: - | F8: - | G8: 14.3 | H8: 57.1 | I8: 28.6 | J8: -
C9: 50~100万円未満 | D9: 22 | E9: 1 | F9: - | G9: 5 | H9: 14 | I9: 2 | J9: -
D10: 100 | E10: 4.5 | F10: - | G10: 22.7 | H10: 63.6 | I10: 9.1 | J10: -
C11: 100~150 万円未満 | D11: 36 | E11: 1 | F11: 4 | G11: 6 | H11: 21 | I11: 4 | J11: -
D12: 100 | E12: 2.8 | F12: 11.1 | G12: 16.7 | H12: 58.3 | I12: 11.1 | J12: -
C13: 150~200 万円未満 | D13: 50 | E13: - | F13: 4 | G13: 12 | H13: 28 | I13: 6 | J13: -
D14: 100 | E14: - | F14: 8 | G14: 24 | H14: 56 | I14: 12 | J14: -
C15: 200~250 万円未満 | D15: 61 | E15: 1 | F15: 2 | G15: 14 | H15: 36 | I15: 8 | J15: -
D16: 100 | E16: 1.6 | F16: 3.3 | G16: 23 | H16: 59 | I16: 13.1 | J16: -
C17: 250~300 万円未満 | D17: 71 | E17: 2 | F17: 6 | G17: 13 | H17: 37 | I17: 13 | J17: -
D18: 100 | E18: 2.8 | F18: 8.5 | G18: 18.3 | H18: 52.1 | I18: 18.3 | J18: -
C19: 300~350 万円未満 | D19: 72 | E19: 2 | F19: 8 | G19: 13 | H19: 35 | I19: 12 | J19: 2
D20: 100 | E20: 2.8 | F20: 11.1 | G20: 18.1 | H20: 48.6 | I20: 16.7 | J20: 2.8
C21: 350~400 万円未満 | D21: 93 | E21: 2 | F21: 4 | G21: 16 | H21: 53 | I21: 18 | J21: -
D22: 100 | E22: 2.2 | F22: 4.3 | G22: 17.2 | H22: 57 | I22: 19.4 | J22: -
C23: 400~450 万円未満 | D23: 103 | E23: 4 | F23: 9 | G23: 17 | H23: 48 | I23: 25 | J23: -
D24: 100 | E24: 3.9 | F24: 8.7 | G24: 16.5 | H24: 46.6 | I24: 24.3 | J24: -
C25: 450~500 万円未満 | D25: 104 | E25: 5 | F25: 5 | G25: 17 | H25: 50 | I25: 27 | J25: -
D26: 100 | E26: 4.8 | F26: 4.8 | G26: 16.3 | H26: 48.1 | I26: 26 | J26: -
C27: 500~600 万円未満 | D27: 202 | E27: 6 | F27: 20 | G27: 39 | H27: 94 | I27: 42 | J27: 1
D28: 100 | E28: 3 | F28: 9.9 | G28: 19.3 | H28: 46.5 | I28: 20.8 | J28: 0.5
C29: 600~700 万円未満 | D29: 154 | E29: 4 | F29: 9 | G29: 22 | H29: 88 | I29: 31 | J29: -
D30: 100 | E30: 2.6 | F30: 5.8 | G30: 14.3 | H30: 57.1 | I30: 20.1 | J30: -
C31: 700~800 万円未満 | D31: 151 | E31: 1 | F31: 12 | G31: 26 | H31: 74 | I31: 38 | J31: -
D32: 100 | E32: 0.7 | F32: 7.9 | G32: 17.2 | H32: 49 | I32: 25.2 | J32: -
C33: 800~900 万円未満 | D33: 86 | E33: 3 | F33: 5 | G33: 14 | H33: 41 | I33: 23 | J33: -
D34: 100 | E34: 3.5 | F34: 5.8 | G34: 16.3 | H34: 47.7 | I34: 26.7 | J34: -
C35: 900~1000万円未満 | D35: 101 | E35: 4 | F35: 7 | G35: 22 | H35: 45 | I35: 23 | J35: -
D36: 100 | E36: 4 | F36: 6.9 | G36: 21.8 | H36: 44.6 | I36: 22.8 | J36: -
C37: 1000万円以上 | D37: 152 | E37: 7 | F37: 3 | G37: 23 | H37: 77 | I37: 42 | J37: -
D38: 100 | E38: 4.6 | F38: 2 | G38: 15.1 | H38: 50.7 | I38: 27.6 | J38: -
C39: 不明・無回答 | D39: 39 | E39: 2 | F39: 5 | G39: 8 | H39: 14 | I39: 10 | J39: -
D40: 100 | E40: 5.1 | F40: 12.8 | G40: 20.5 | H40: 35.9 | I40: 25.6 | J40: -
...

Sheet 08
A1: =HYPERLINK("#目次!A"&ROW(目次!$A$57),"[08]") -> [08]
B2: 【全員の方に】中学生票問７．あなたは、将来、どの段階まで進学したいですか。（ＳＡ）
D3: 全 体 | E3: 進学希望
E4: 中学まで | F4: 高校まで | G4: 短大・高専・専門学校まで | H4: 大学またはそれ以上 | I4: まだわからない | J4: 不明・無回答
B5: 全 体 | D5: 2715 | E5: 7 | F5: 401 | G5: 443 | H5: 1349 | I5: 495 | J5: 20
D6: 100 | E6: 0.3 | F6: 14.8 | G6: 16.3 | H6: 49.7 | I6: 18.2 | J6: 0.7
B7: 世帯収入 | C7: 50万円未満 | D7: 8 | E7: - | F7: 3 | G7: 2 | H7: 3 | I7: - | J7: -
D8: 100 | E8: - | F8: 37.5 | G8: 25 | H8: 37.5 | I8: - | J8: -
C9: 50~100万円未満 | D9: 27 | E9: 1 | F9: 10 | G9: 3 | H9: 5 | I9: 7 | J9: 1
D10: 100 | E10: 3.7 | F10: 37 | G10: 11.1 | H10: 18.5 | I10: 25.9 | J10: 3.7
C11: 100~150 万円未満 | D11: 52 | E11: - | F11: 20 | G11: 9 | H11: 12 | I11: 11 | J11: -
D12: 100 | E12: - | F12: 38.5 | G12: 17.3 | H12: 23.1 | I12: 21.2 | J12: -
C13: 150~200 万円未満 | D13: 64 | E13: 1 | F13: 17 | G13: 8 | H13: 24 | I13: 13 | J13: 1
D14: 100 | E14: 1.6 | F14: 26.6 | G14: 12.5 | H14: 37.5 | I14: 20.3 | J14: 1.6
C15: 200~250 万円未満 | D15: 91 | E15: - | F15: 22 | G15: 18 | H15: 31 | I15: 19 | J15: 1
D16: 100 | E16: - | F16: 24.2 | G16: 19.8 | H16: 34.1 | I16: 20.9 | J16: 1.1
C17: 250~300 万円未満 | D17: 98 | E17: 1 | F17: 33 | G17: 20 | H17: 27 | I17: 17 | J17: -
D18: 100 | E18: 1 | F18: 33.7 | G18: 20.4 | H18: 27.6 | I18: 17.3 | J18: -
C19: 300~350 万円未満 | D19: 114 | E19: - | F19: 31 | G19: 25 | H19: 39 | I19: 19 | J19: -
D20: 100 | E20: - | F20: 27.2 | G20: 21.9 | H20: 34.2 | I20: 16.7 | J20: -
C21: 350~400 万円未満 | D21: 138 | E21: 2 | F21: 32 | G21: 23 | H21: 42 | I21: 37 | J21: 2
D22: 100 | E22: 1.4 | F22: 23.2 | G22: 16.7 | H22: 30.4 | I22: 26.8 | J22: 1.4
C23: 400~450 万円未満 | D23: 148 | E23: - | F23: 25 | G23: 27 | H23: 54 | I23: 41 | J23: 1
D24: 100 | E24: - | F24: 16.9 | G24: 18.2 | H24: 36.5 | I24: 27.7 | J24: 0.7
C25: 450~500 万円未満 | D25: 179 | E25: - | F25: 28 | G25: 30 | H25: 77 | I25: 40 | J25: 4
D26: 100 | E26: - | F26: 15.6 | G26: 16.8 | H26: 43 | I26: 22.3 | J26: 2.2
C27: 500~600 万円未満 | D27: 330 | E27: - | F27: 57 | G27: 78 | H27: 130 | I27: 64 | J27: 1
D28: 100 | E28: - | F28: 17.3 | G28: 23.6 | H28: 39.4 | I28: 19.4 | J28: 0.3
C29: 600~700 万円未満 | D29: 286 | E29: - | F29: 37 | G29: 52 | H29: 149 | I29: 45 | J29: 3
D30: 100 | E30: - | F30: 12.9 | G30: 18.2 | H30: 52.1 | I30: 15.7 | J30: 1
C31: 700~800 万円未満 | D31: 303 | E31: - | F31: 26 | G31: 49 | H31: 172 | I31: 54 | J31: 2
D32: 100 | E32: - | F32: 8.6 | G32: 16.2 | H32: 56.8 | I32: 17.8 | J32: 0.7
C33: 800~900 万円未満 | D33: 194 | E33: - | F33: 18 | G33: 25 | H33: 115 | I33: 36 | J33: -
D34: 100 | E34: - | F34: 9.3 | G34: 12.9 | H34: 59.3 | I34: 18.6 | J34: -
C35: 900~1000万円未満 | D35: 208 | E35: 1 | F35: 16 | G35: 24 | H35: 132 | I35: 33 | J35: 2
D36: 100 | E36: 0.5 | F36: 7.7 | G36: 11.5 | H36: 63.5 | I36: 15.9 | J36: 1
C37: 1000万円以上 | D37: 415 | E37: 1 | F37: 20 | G37: 40 | H37: 306 | I37: 47 | J37: 1
D38: 100 | E38: 0.2 | F38: 4.8 | G38: 9.6 | H38: 73.7 | I38: 11.3 | J38: 0.2
C39: 不明・無回答 | D39: 60 | E39: - | F39: 6 | G39: 10 | H39: 31 | I39: 12 | J39: 1
D40: 100 | E40: - | F40: 10 | G40: 16.7 | H40: 51.7 | I40: 20 | J40: 1.7
...

Sheet 09
A1: =HYPERLINK("#目次!A"&ROW(目次!$A$59),"[09]") -> [09]
B2: 【問７で１～４と答えた方に】中学生票問８．その理由を答えてください。（ＭＡ）
D3: 全 体 | E3: 進学希望（理由）
E4: 希望する学校や職業があるから | F4: 自分の成績から考えて | G4: 親がそう言っているから | H4: 兄・姉がそうしているから | I4: まわりの先輩や友達がそうしているから | J4: 家にお金がないと思うから | K4: 早く働く必要があるから | L4: その他 | M4: とくに理由はない | N4: 不明・無回答
B5: 全 体 | D5: 2200 | E5: 1185 | F5: 415 | G5: 406 | H5: 130 | I5: 126 | J5: 72 | K5: 91 | L5: 195 | M5: 375 | N5: 28
D6: 100 | E6: 53.9 | F6: 18.9 | G6: 18.5 | H6: 5.9 | I6: 5.7 | J6: 3.3 | K6: 4.1 | L6: 8.9 | M6: 17 | N6: 1.3
B7: 世帯収入 | C7: 50万円未満 | D7: 8 | E7: 2 | F7: 2 | G7: 2 | H7: 1 | I7: 1 | J7: - | K7: 3 | L7: - | M7: 1 | N7: -
D8: 100 | E8: 25 | F8: 25 | G8: 25 | H8: 12.5 | I8: 12.5 | J8: - | K8: 37.5 | L8: - | M8: 12.5 | N8: -
C9: 50~100万円未満 | D9: 19 | E9: 7 | F9: 3 | G9: 3 | H9: 3 | I9: 1 | J9: 2 | K9: 2 | L9: - | M9: 3 | N9: -
D10: 100 | E10: 36.8 | F10: 15.8 | G10: 15.8 | H10: 15.8 | I10: 5.3 | J10: 10.5 | K10: 10.5 | L10: - | M10: 15.8 | N10: -
C11: 100~150 万円未満 | D11: 41 | E11: 16 | F11: 7 | G11: 3 | H11: 3 | I11: - | J11: 4 | K11: 6 | L11: 3 | M11: 11 | N11: 2
D12: 100 | E12: 39 | F12: 17.1 | G12: 7.3 | H12: 7.3 | I12: - | J12: 9.8 | K12: 14.6 | L12: 7.3 | M12: 26.8 | N12: 4.9
C13: 150~200 万円未満 | D13: 50 | E13: 27 | F13: 10 | G13: 5 | H13: 2 | I13: 1 | J13: 8 | K13: 4 | L13: 7 | M13: 6 | N13: -
D14: 100 | E14: 54 | F14: 20 | G14: 10 | H14: 4 | I14: 2 | J14: 16 | K14: 8 | L14: 14 | M14: 12 | N14: -
C15: 200~250 万円未満 | D15: 71 | E15: 35 | F15: 11 | G15: 8 | H15: 4 | I15: 4 | J15: 3 | K15: 4 | L15: 10 | M15: 14 | N15: 1
D16: 100 | E16: 49.3 | F16: 15.5 | G16: 11.3 | H16: 5.6 | I16: 5.6 | J16: 4.2 | K16: 5.6 | L16: 14.1 | M16: 19.7 | N16: 1.4
C17: 250~300 万円未満 | D17: 81 | E17: 43 | F17: 16 | G17: 14 | H17: 4 | I17: 1 | J17: 8 | K17: 9 | L17: 9 | M17: 13 | N17: 1
D18: 100 | E18: 53.1 | F18: 19.8 | G18: 17.3 | H18: 4.9 | I18: 1.2 | J18: 9.9 | K18: 11.1 | L18: 11.1 | M18: 16 | N18: 1.2
C19: 300~350 万円未満 | D19: 95 | E19: 51 | F19: 15 | G19: 13 | H19: 5 | I19: 3 | J19: 2 | K19: 5 | L19: 9 | M19: 20 | N19: 4
D20: 100 | E20: 53.7 | F20: 15.8 | G20: 13.7 | H20: 5.3 | I20: 3.2 | J20: 2.1 | K20: 5.3 | L20: 9.5 | M20: 21.1 | N20: 4.2
C21: 350~400 万円未満 | D21: 99 | E21: 55 | F21: 22 | G21: 18 | H21: 6 | I21: 5 | J21: 7 | K21: 5 | L21: 10 | M21: 17 | N21: -
D22: 100 | E22: 55.6 | F22: 22.2 | G22: 18.2 | H22: 6.1 | I22: 5.1 | J22: 7.1 | K22: 5.1 | L22: 10.1 | M22: 17.2 | N22: -
C23: 400~450 万円未満 | D23: 106 | E23: 52 | F23: 24 | G23: 22 | H23: 4 | I23: 5 | J23: 3 | K23: 5 | L23: 5 | M23: 18 | N23: 2
D24: 100 | E24: 49.1 | F24: 22.6 | G24: 20.8 | H24: 3.8 | I24: 4.7 | J24: 2.8 | K24: 4.7 | L24: 4.7 | M24: 17 | N24: 1.9
C25: 450~500 万円未満 | D25: 135 | E25: 71 | F25: 19 | G25: 22 | H25: 6 | I25: 7 | J25: 2 | K25: 6 | L25: 10 | M25: 23 | N25: 4
D26: 100 | E26: 52.6 | F26: 14.1 | G26: 16.3 | H26: 4.4 | I26: 5.2 | J26: 1.5 | K26: 4.4 | L26: 7.4 | M26: 17 | N26: 3
C27: 500~600 万円未満 | D27: 265 | E27: 138 | F27: 51 | G27: 53 | H27: 12 | I27: 13 | J27: 14 | K27: 7 | L27: 22 | M27: 50 | N27: -
D28: 100 | E28: 52.1 | F28: 19.2 | G28: 20 | H28: 4.5 | I28: 4.9 | J28: 5.3 | K28: 2.6 | L28: 8.3 | M28: 18.9 | N28: -
C29: 600~700 万円未満 | D29: 238 | E29: 138 | F29: 44 | G29: 43 | H29: 12 | I29: 14 | J29: 7 | K29: 6 | L29: 23 | M29: 35 | N29: 2
D30: 100 | E30: 58 | F30: 18.5 | G30: 18.1 | H30: 5 | I30: 5.9 | J30: 2.9 | K30: 2.5 | L30: 9.7 | M30: 14.7 | N30: 0.8
C31: 700~800 万円未満 | D31: 247 | E31: 150 | F31: 48 | G31: 50 | H31: 12 | I31: 18 | J31: 4 | K31: 7 | L31: 16 | M31: 32 | N31: 3
D32: 100 | E32: 60.7 | F32: 19.4 | G32: 20.2 | H32: 4.9 | I32: 7.3 | J32: 1.6 | K32: 2.8 | L32: 6.5 | M32: 13 | N32: 1.2
C33: 800~900 万円未満 | D33: 158 | E33: 82 | F33: 39 | G33: 30 | H33: 11 | I33: 8 | J33: - | K33: 6 | L33: 15 | M33: 32 | N33: 2
D34: 100 | E34: 51.9 | F34: 24.7 | G34: 19 | H34: 7 | I34: 5.1 | J34: - | K34: 3.8 | L34: 9.5 | M34: 20.3 | N34: 1.3
C35: 900~1000万円未満 | D35: 173 | E35: 102 | F35: 31 | G35: 29 | H35: 11 | I35: 16 | J35: 1 | K35: 4 | L35: 13 | M35: 28 | N35: 3
D36: 100 | E36: 59 | F36: 17.9 | G36: 16.8 | H36: 6.4 | I36: 9.2 | J36: 0.6 | K36: 2.3 | L36: 7.5 | M36: 16.2 | N36: 1.7
C37: 1000万円以上 | D37: 367 | E37: 189 | F37: 69 | G37: 81 | H37: 30 | I37: 26 | J37: 5 | K37: 10 | L37: 38 | M37: 63 | N37: 4
D38: 100 | E38: 51.5 | F38: 18.8 | G38: 22.1 | H38: 8.2 | I38: 7.1 | J38: 1.4 | K38: 2.7 | L38: 10.4 | M38: 17.2 | N38: 1.1
C39: 不明・無回答 | D39: 47 | E39: 27 | F39: 4 | G39: 10 | H39: 4 | I39: 3 | J39: 2 | K39: 2 | L39: 5 | M39: 9 | N39: -
D40: 100 | E40: 57.4 | F40: 8.5 | G40: 21.3 | H40: 8.5 | I40: 6.4 | J40: 4.3 | K40: 4.3 | L40: 10.6 | M40: 19.1 | N40: -
...

Sheet 10
A1: =HYPERLINK("#目次!A"&ROW(目次!$A$60),"[10]") -> [10]
B2: 【全員の方に】中学生票問９．あなたは、地域のスポーツクラブや文化クラブ、学校の部活動に参加していますか。（ＳＡ）
D3: 全 体 | E3: 部活動等の状況
E4: 参加している | F4: 参加していない | G4: 不明・無回答
B5: 全 体 | D5: 2715 | E5: 2311 | F5: 396 | G5: 8
D6: 100 | E6: 85.1 | F6: 14.6 | G6: 0.3
B7: 世帯収入 | C7: 50万円未満 | D7: 8 | E7: 5 | F7: 3 | G7: -
D8: 100 | E8: 62.5 | F8: 37.5 | G8: -
C9: 50~100万円未満 | D9: 27 | E9: 22 | F9: 5 | G9: -
D10: 100 | E10: 81.5 | F10: 18.5 | G10: -
C11: 100~150 万円未満 | D11: 52 | E11: 37 | F11: 15 | G11: -
D12: 100 | E12: 71.2 | F12: 28.8 | G12: -
C13: 150~200 万円未満 | D13: 64 | E13: 45 | F13: 18 | G13: 1
D14: 100 | E14: 70.3 | F14: 28.1 | G14: 1.6
C15: 200~250 万円未満 | D15: 91 | E15: 72 | F15: 19 | G15: -
D16: 100 | E16: 79.1 | F16: 20.9 | G16: -
C17: 250~300 万円未満 | D17: 98 | E17: 74 | F17: 23 | G17: 1
D18: 100 | E18: 75.5 | F18: 23.5 | G18: 1
C19: 300~350 万円未満 | D19: 114 | E19: 96 | F19: 18 | G19: -
D20: 100 | E20: 84.2 | F20: 15.8 | G20: -
C21: 350~400 万円未満 | D21: 138 | E21: 114 | F21: 24 | G21: -
D22: 100 | E22: 82.6 | F22: 17.4 | G22: -
C23: 400~450 万円未満 | D23: 148 | E23: 123 | F23: 24 | G23: 1
D24: 100 | E24: 83.1 | F24: 16.2 | G24: 0.7
C25: 450~500 万円未満 | D25: 179 | E25: 157 | F25: 21 | G25: 1
D26: 100 | E26: 87.7 | F26: 11.7 | G26: 0.6
C27: 500~600 万円未満 | D27: 330 | E27: 282 | F27: 47 | G27: 1
D28: 100 | E28: 85.5 | F28: 14.2 | G28: 0.3
C29: 600~700 万円未満 | D29: 286 | E29: 257 | F29: 29 | G29: -
D30: 100 | E30: 89.9 | F30: 10.1 | G30: -
C31: 700~800 万円未満 | D31: 303 | E31: 255 | F31: 46 | G31: 2
D32: 100 | E32: 84.2 | F32: 15.2 | G32: 0.7
C33: 800~900 万円未満 | D33: 194 | E33: 171 | F33: 23 | G33: -
D34: 100 | E34: 88.1 | F34: 11.9 | G34: -
C35: 900~1000万円未満 | D35: 208 | E35: 187 | F35: 20 | G35: 1
D36: 100 | E36: 89.9 | F36: 9.6 | G36: 0.5
C37: 1000万円以上 | D37: 415 | E37: 367 | F37: 48 | G37: -
D38: 100 | E38: 88.4 | F38: 11.6 | G38: -
C39: 不明・無回答 | D39: 60 | E39: 47 | F39: 13 | G39: -
D40: 100 | E40: 78.3 | F40: 21.7 | G40: -
...

Sheet 11
A1: =HYPERLINK("#目次!A"&ROW(目次!$A$61),"[11]") -> [11]
B2: 【問９で２と答えた方に】中学生票問１０．参加していない理由は何ですか。（ＭＡ）
D3: 全 体 | E3: 部活動等を行わない理由
E4: 入りたいクラブ・部活動がないから | F4: 塾や習い事が忙しいから | G4: 費用がかかるから | H4: 家の事情( 家族の世話、家事など) があるから | I4: 一緒に入る友達がいないから | J4: その他 | K4: 不明・無回答
B5: 全 体 | D5: 396 | E5: 163 | F5: 59 | G5: 37 | H5: 16 | I5: 27 | J5: 157 | K5: 9
D6: 100 | E6: 41.2 | F6: 14.9 | G6: 9.3 | H6: 4 | I6: 6.8 | J6: 39.6 | K6: 2.3
B7: 世帯収入 | C7: 50万円未満 | D7: 3 | E7: 1 | F7: - | G7: 1 | H7: 1 | I7: - | J7: - | K7: -
D8: 100 | E8: 33.3 | F8: - | G8: 33.3 | H8: 33.3 | I8: - | J8: - | K8: -
C9: 50~100万円未満 | D9: 5 | E9: 2 | F9: 1 | G9: 1 | H9: 1 | I9: - | J9: 1 | K9: 1
D10: 100 | E10: 40 | F10: 20 | G10: 20 | H10: 20 | I10: - | J10: 20 | K10: 20
C11: 100~150 万円未満 | D11: 15 | E11: 2 | F11: 1 | G11: 3 | H11: 1 | I11: - | J11: 9 | K11: 1
D12: 100 | E12: 13.3 | F12: 6.7 | G12: 20 | H12: 6.7 | I12: - | J12: 60 | K12: 6.7
C13: 150~200 万円未満 | D13: 18 | E13: 8 | F13: - | G13: 2 | H13: 1 | I13: 2 | J13: 9 | K13: -
D14: 100 | E14: 44.4 | F14: - | G14: 11.1 | H14: 5.6 | I14: 11.1 | J14: 50 | K14: -
C15: 200~250 万円未満 | D15: 19 | E15: 8 | F15: 3 | G15: 2 | H15: - | I15: 2 | J15: 10 | K15: -
D16: 100 | E16: 42.1 | F16: 15.8 | G16: 10.5 | H16: - | I16: 10.5 | J16: 52.6 | K16: -
C17: 250~300 万円未満 | D17: 23 | E17: 8 | F17: 1 | G17: 5 | H17: 3 | I17: 2 | J17: 7 | K17: 1
D18: 100 | E18: 34.8 | F18: 4.3 | G18: 21.7 | H18: 13 | I18: 8.7 | J18: 30.4 | K18: 4.3
C19: 300~350 万円未満 | D19: 18 | E19: 7 | F19: 2 | G19: 3 | H19: - | I19: 2 | J19: 6 | K19: -
D20: 100 | E20: 38.9 | F20: 11.1 | G20: 16.7 | H20: - | I20: 11.1 | J20: 33.3 | K20: -
C21: 350~400 万円未満 | D21: 24 | E21: 13 | F21: 3 | G21: - | H21: 1 | I21: - | J21: 9 | K21: -
D22: 100 | E22: 54.2 | F22: 12.5 | G22: - | H22: 4.2 | I22: - | J22: 37.5 | K22: -
C23: 400~450 万円未満 | D23: 24 | E23: 10 | F23: 2 | G23: 2 | H23: 2 | I23: - | J23: 9 | K23: 1
D24: 100 | E24: 41.7 | F24: 8.3 | G24: 8.3 | H24: 8.3 | I24: - | J24: 37.5 | K24: 4.2
C25: 450~500 万円未満 | D25: 21 | E25: 7 | F25: 3 | G25: 2 | H25: 2 | I25: 3 | J25: 11 | K25: 1
D26: 100 | E26: 33.3 | F26: 14.3 | G26: 9.5 | H26: 9.5 | I26: 14.3 | J26: 52.4 | K26: 4.8
C27: 500~600 万円未満 | D27: 47 | E27: 19 | F27: 1 | G27: 6 | H27: - | I27: 2 | J27: 26 | K27: 1
D28: 100 | E28: 40.4 | F28: 2.1 | G28: 12.8 | H28: - | I28: 4.3 | J28: 55.3 | K28: 2.1
C29: 600~700 万円未満 | D29: 29 | E29: 15 | F29: 4 | G29: 3 | H29: - | I29: 1 | J29: 10 | K29: -
D30: 100 | E30: 51.7 | F30: 13.8 | G30: 10.3 | H30: - | I30: 3.4 | J30: 34.5 | K30: -
C31: 700~800 万円未満 | D31: 46 | E31: 22 | F31: 12 | G31: 2 | H31: - | I31: 4 | J31: 16 | K31: -
D32: 100 | E32: 47.8 | F32: 26.1 | G32: 4.3 | H32: - | I32: 8.7 | J32: 34.8 | K32: -
C33: 800~900 万円未満 | D33: 23 | E33: 7 | F33: 10 | G33: 1 | H33: 1 | I33: 2 | J33: 6 | K33: -
D34: 100 | E34: 30.4 | F34: 43.5 | G34: 4.3 | H34: 4.3 | I34: 8.7 | J34: 26.1 | K34: -
C35: 900~1000万円未満 | D35: 20 | E35: 9 | F35: 3 | G35: 1 | H35: - | I35: 2 | J35: 7 | K35: -
D36: 100 | E36: 45 | F36: 15 | G36: 5 | H36: - | I36: 10 | J36: 35 | K36: -
C37: 1000万円以上 | D37: 48 | E37: 21 | F37: 12 | G37: 1 | H37: 3 | I37: 2 | J37: 15 | K37: 2
D38: 100 | E38: 43.8 | F38: 25 | G38: 2.1 | H38: 6.3 | I38: 4.2 | J38: 31.3 | K38: 4.2
C39: 不明・無回答 | D39: 13 | E39: 4 | F39: 1 | G39: 2 | H39: - | I39: 3 | J39: 6 | K39: 1
D40: 100 | E40: 30.8 | F40: 7.7 | G40: 15.4 | H40: - | I40: 23.1 | J40: 46.2 | K40: 7.7
...

Sheet 12
A1: =HYPERLINK("#目次!A"&ROW(目次!$A$62),"[12]") -> [12]
B2: 【全員の方に】中学生票問１１．あなたは週にどのくらい、食事をしていますか。（ＳＡ）
D3: 全 体 | E3: 食事の頻度 a．朝食 | J3: 全 体 | K3: 食事の頻度 b．夕食 | P3: 全 体 | Q3: 食事の頻度 c．夏休みや冬休みなどの期間の昼食
E4: 毎日食べる（週７日） | F4: 週５～６日 | G4: 週３～４日 | H4: 週１～２日、ほとんど食べない | I4: 不明・無回答 | K4: 毎日食べる（週７日） | L4: 週５～６日 | M4: 週３～４日 | N4: 週１～２日、ほとんど食べない | O4: 不明・無回答 | Q4: 毎日食べる（週７日） | R4: 週５～６日 | S4: 週３～４日 | T4: 週１～２日、ほとんど食べない | U4: 不明・無回答
B5: 全 体 | D5: 2715 | E5: 2227 | F5: 280 | G5: 76 | H5: 125 | I5: 7 | J5: 2715 | K5: 2658 | L5: 38 | M5: 8 | N5: 1 | O5: 10 | P5: 2715 | Q5: 2420 | R5: 194 | S5: 73 | T5: 15 | U5: 13
D6: 100 | E6: 82 | F6: 10.3 | G6: 2.8 | H6: 4.6 | I6: 0.3 | J6: 100 | K6: 97.9 | L6: 1.4 | M6: 0.3 | N6: 0 | O6: 0.4 | P6: 100 | Q6: 89.1 | R6: 7.1 | S6: 2.7 | T6: 0.6 | U6: 0.5
B7: 世帯収入 | C7: 50万円未満 | D7: 8 | E7: 4 | F7: 2 | G7: 1 | H7: 1 | I7: - | J7: 8 | K7: 8 | L7: - | M7: - | N7: - | O7: - | P7: 8 | Q7: 7 | R7: 1 | S7: - | T7: - | U7: -
D8: 100 | E8: 50 | F8: 25 | G8: 12.5 | H8: 12.5 | I8: - | J8: 100 | K8: 100 | L8: - | M8: - | N8: - | O8: - | P8: 100 | Q8: 87.5 | R8: 12.5 | S8: - | T8: - | U8: -
C9: 50~100万円未満 | D9: 27 | E9: 18 | F9: 3 | G9: 2 | H9: 4 | I9: - | J9: 27 | K9: 27 | L9: - | M9: - | N9: - | O9: - | P9: 27 | Q9: 20 | R9: 6 | S9: 1 | T9: - | U9: -
D10: 100 | E10: 66.7 | F10: 11.1 | G10: 7.4 | H10: 14.8 | I10: - | J10: 100 | K10: 100 | L10: - | M10: - | N10: - | O10: - | P10: 100 | Q10: 74.1 | R10: 22.2 | S10: 3.7 | T10: - | U10: -
C11: 100~150 万円未満 | D11: 52 | E11: 38 | F11: 5 | G11: 4 | H11: 5 | I11: - | J11: 52 | K11: 51 | L11: 1 | M11: - | N11: - | O11: - | P11: 52 | Q11: 43 | R11: 7 | S11: 1 | T11: 1 | U11: -
D12: 100 | E12: 73.1 | F12: 9.6 | G12: 7.7 | H12: 9.6 | I12: - | J12: 100 | K12: 98.1 | L12: 1.9 | M12: - | N12: - | O12: - | P12: 100 | Q12: 82.7 | R12: 13.5 | S12: 1.9 | T12: 1.9 | U12: -
C13: 150~200 万円未満 | D13: 64 | E13: 39 | F13: 13 | G13: 4 | H13: 7 | I13: 1 | J13: 64 | K13: 62 | L13: 1 | M13: - | N13: - | O13: 1 | P13: 64 | Q13: 47 | R13: 10 | S13: 5 | T13: 1 | U13: 1
D14: 100 | E14: 60.9 | F14: 20.3 | G14: 6.3 | H14: 10.9 | I14: 1.6 | J14: 100 | K14: 96.9 | L14: 1.6 | M14: - | N14: - | O14: 1.6 | P14: 100 | Q14: 73.4 | R14: 15.6 | S14: 7.8 | T14: 1.6 | U14: 1.6
C15: 200~250 万円未満 | D15: 91 | E15: 65 | F15: 13 | G15: 4 | H15: 9 | I15: - | J15: 91 | K15: 85 | L15: 5 | M15: 1 | N15: - | O15: - | P15: 91 | Q15: 76 | R15: 9 | S15: 5 | T15: - | U15: 1
D16: 100 | E16: 71.4 | F16: 14.3 | G16: 4.4 | H16: 9.9 | I16: - | J16: 100 | K16: 93.4 | L16: 5.5 | M16: 1.1 | N16: - | O16: - | P16: 100 | Q16: 83.5 | R16: 9.9 | S16: 5.5 | T16: - | U16: 1.1
C17: 250~300 万円未満 | D17: 98 | E17: 75 | F17: 13 | G17: 5 | H17: 5 | I17: - | J17: 98 | K17: 96 | L17: 2 | M17: - | N17: - | O17: - | P17: 98 | Q17: 87 | R17: 8 | S17: 3 | T17: - | U17: -
D18: 100 | E18: 76.5 | F18: 13.3 | G18: 5.1 | H18: 5.1 | I18: - | J18: 100 | K18: 98 | L18: 2 | M18: - | N18: - | O18: - | P18: 100 | Q18: 88.8 | R18: 8.2 | S18: 3.1 | T18: - | U18: -
C19: 300~350 万円未満 | D19: 114 | E19: 78 | F19: 17 | G19: 9 | H19: 10 | I19: - | J19: 114 | K19: 110 | L19: 3 | M19: - | N19: - | O19: 1 | P19: 114 | Q19: 96 | R19: 7 | S19: 6 | T19: 3 | U19: 2
D20: 100 | E20: 68.4 | F20: 14.9 | G20: 7.9 | H20: 8.8 | I20: - | J20: 100 | K20: 96.5 | L20: 2.6 | M20: - | N20: - | O20: 0.9 | P20: 100 | Q20: 84.2 | R20: 6.1 | S20: 5.3 | T20: 2.6 | U20: 1.8
C21: 350~400 万円未満 | D21: 138 | E21: 104 | F21: 27 | G21: 3 | H21: 4 | I21: - | J21: 138 | K21: 135 | L21: 3 | M21: - | N21: - | O21: - | P21: 138 | Q21: 122 | R21: 10 | S21: 4 | T21: 2 | U21: -
D22: 100 | E22: 75.4 | F22: 19.6 | G22: 2.2 | H22: 2.9 | I22: - | J22: 100 | K22: 97.8 | L22: 2.2 | M22: - | N22: - | O22: - | P22: 100 | Q22: 88.4 | R22: 7.2 | S22: 2.9 | T22: 1.4 | U22: -
C23: 400~450 万円未満 | D23: 148 | E23: 121 | F23: 16 | G23: 6 | H23: 4 | I23: 1 | J23: 148 | K23: 141 | L23: 3 | M23: 2 | N23: 1 | O23: 1 | P23: 148 | Q23: 127 | R23: 15 | S23: 4 | T23: 1 | U23: 1
D24: 100 | E24: 81.8 | F24: 10.8 | G24: 4.1 | H24: 2.7 | I24: 0.7 | J24: 100 | K24: 95.3 | L24: 2 | M24: 1.4 | N24: 0.7 | O24: 0.7 | P24: 100 | Q24: 85.8 | R24: 10.1 | S24: 2.7 | T24: 0.7 | U24: 0.7
C25: 450~500 万円未満 | D25: 179 | E25: 154 | F25: 15 | G25: 5 | H25: 3 | I25: 2 | J25: 179 | K25: 175 | L25: 2 | M25: - | N25: - | O25: 2 | P25: 179 | Q25: 163 | R25: 10 | S25: 2 | T25: 1 | U25: 3
D26: 100 | E26: 86 | F26: 8.4 | G26: 2.8 | H26: 1.7 | I26: 1.1 | J26: 100 | K26: 97.8 | L26: 1.1 | M26: - | N26: - | O26: 1.1 | P26: 100 | Q26: 91.1 | R26: 5.6 | S26: 1.1 | T26: 0.6 | U26: 1.7
C27: 500~600 万円未満 | D27: 330 | E27: 263 | F27: 40 | G27: 10 | H27: 17 | I27: - | J27: 330 | K27: 324 | L27: 4 | M27: 1 | N27: - | O27: 1 | P27: 330 | Q27: 296 | R27: 20 | S27: 10 | T27: 3 | U27: 1
D28: 100 | E28: 79.7 | F28: 12.1 | G28: 3 | H28: 5.2 | I28: - | J28: 100 | K28: 98.2 | L28: 1.2 | M28: 0.3 | N28: - | O28: 0.3 | P28: 100 | Q28: 89.7 | R28: 6.1 | S28: 3 | T28: 0.9 | U28: 0.3
C29: 600~700 万円未満 | D29: 286 | E29: 241 | F29: 26 | G29: 2 | H29: 16 | I29: 1 | J29: 286 | K29: 281 | L29: 3 | M29: 1 | N29: - | O29: 1 | P29: 286 | Q29: 257 | R29: 19 | S29: 9 | T29: - | U29: 1
D30: 100 | E30: 84.3 | F30: 9.1 | G30: 0.7 | H30: 5.6 | I30: 0.3 | J30: 100 | K30: 98.3 | L30: 1 | M30: 0.3 | N30: - | O30: 0.3 | P30: 100 | Q30: 89.9 | R30: 6.6 | S30: 3.1 | T30: - | U30: 0.3
C31: 700~800 万円未満 | D31: 303 | E31: 254 | F31: 28 | G31: 9 | H31: 12 | I31: - | J31: 303 | K31: 300 | L31: 3 | M31: - | N31: - | O31: - | P31: 303 | Q31: 284 | R31: 12 | S31: 7 | T31: - | U31: -
D32: 100 | E32: 83.8 | F32: 9.2 | G32: 3 | H32: 4 | I32: - | J32: 100 | K32: 99 | L32: 1 | M32: - | N32: - | O32: - | P32: 100 | Q32: 93.7 | R32: 4 | S32: 2.3 | T32: - | U32: -
C33: 800~900 万円未満 | D33: 194 | E33: 173 | F33: 9 | G33: 4 | H33: 8 | I33: - | J33: 194 | K33: 192 | L33: 1 | M33: 1 | N33: - | O33: - | P33: 194 | Q33: 182 | R33: 8 | S33: 4 | T33: - | U33: -
D34: 100 | E34: 89.2 | F34: 4.6 | G34: 2.1 | H34: 4.1 | I34: - | J34: 100 | K34: 99 | L34: 0.5 | M34: 0.5 | N34: - | O34: - | P34: 100 | Q34: 93.8 | R34: 4.1 | S34: 2.1 | T34: - | U34: -
C35: 900~1000万円未満 | D35: 208 | E35: 181 | F35: 13 | G35: 4 | H35: 9 | I35: 1 | J35: 208 | K35: 206 | L35: - | M35: 1 | N35: - | O35: 1 | P35: 208 | Q35: 183 | R35: 18 | S35: 6 | T35: - | U35: 1
D36: 100 | E36: 87 | F36: 6.3 | G36: 1.9 | H36: 4.3 | I36: 0.5 | J36: 100 | K36: 99 | L36: - | M36: 0.5 | N36: - | O36: 0.5 | P36: 100 | Q36: 88 | R36: 8.7 | S36: 2.9 | T36: - | U36: 0.5
C37: 1000万円以上 | D37: 415 | E37: 367 | F37: 37 | G37: 3 | H37: 7 | I37: 1 | J37: 415 | K37: 406 | L37: 6 | M37: 1 | N37: - | O37: 2 | P37: 415 | Q37: 379 | R37: 27 | S37: 5 | T37: 2 | U37: 2
D38: 100 | E38: 88.4 | F38: 8.9 | G38: 0.7 | H38: 1.7 | I38: 0.2 | J38: 100 | K38: 97.8 | L38: 1.4 | M38: 0.2 | N38: - | O38: 0.5 | P38: 100 | Q38: 91.3 | R38: 6.5 | S38: 1.2 | T38: 0.5 | U38: 0.5
C39: 不明・無回答 | D39: 60 | E39: 52 | F39: 3 | G39: 1 | H39: 4 | I39: - | J39: 60 | K39: 59 | L39: 1 | M39: - | N39: - | O39: - | P39: 60 | Q39: 51 | R39: 7 | S39: 1 | T39: 1 | U39: -
D40: 100 | E40: 86.7 | F40: 5 | G40: 1.7 | H40: 6.7 | I40: - | J40: 100 | K40: 98.3 | L40: 1.7 | M40: - | N40: - | O40: - | P40: 100 | Q40: 85 | R40: 11.7 | S40: 1.7 | T40: 1.7 | U40: -
...

Sheet 13
A1: =HYPERLINK("#目次!A"&ROW(目次!$A$65),"[13]") -> [13]
B2: 【全員の方に】中学生票問１２．あなたは、ふだん(月曜日～金曜日)、ほぼ同じ時間に寝ていますか。（ＳＡ）
D3: 全 体 | E3: 就寝時間の規則性
E4: そうである | F4: どちらかといえばそうである | G4: どちらかといえばそうではない | H4: そうではない | I4: 不明・無回答 | J4: そうである・どちらかといえばそうである（計） | K4: そうではない・どちらかといえばそうではない（計）
B5: 全 体 | D5: 2715 | E5: 920 | F5: 1308 | G5: 338 | H5: 132 | I5: 17 | J5: 2228 | K5: 470
D6: 100 | E6: 33.9 | F6: 48.2 | G6: 12.4 | H6: 4.9 | I6: 0.6 | J6: 82.1 | K6: 17.3
B7: 世帯収入 | C7: 50万円未満 | D7: 8 | E7: 3 | F7: 3 | G7: - | H7: 2 | I7: - | J7: 6 | K7: 2
D8: 100 | E8: 37.5 | F8: 37.5 | G8: - | H8: 25 | I8: - | J8: 75 | K8: 25
C9: 50~100万円未満 | D9: 27 | E9: 7 | F9: 12 | G9: 5 | H9: 2 | I9: 1 | J9: 19 | K9: 7
D10: 100 | E10: 25.9 | F10: 44.4 | G10: 18.5 | H10: 7.4 | I10: 3.7 | J10: 70.4 | K10: 25.9
C11: 100~150 万円未満 | D11: 52 | E11: 12 | F11: 30 | G11: 7 | H11: 3 | I11: - | J11: 42 | K11: 10
D12: 100 | E12: 23.1 | F12: 57.7 | G12: 13.5 | H12: 5.8 | I12: - | J12: 80.8 | K12: 19.2
C13: 150~200 万円未満 | D13: 64 | E13: 12 | F13: 31 | G13: 16 | H13: 5 | I13: - | J13: 43 | K13: 21
D14: 100 | E14: 18.8 | F14: 48.4 | G14: 25 | H14: 7.8 | I14: - | J14: 67.2 | K14: 32.8
C15: 200~250 万円未満 | D15: 91 | E15: 31 | F15: 43 | G15: 10 | H15: 7 | I15: - | J15: 74 | K15: 17
D16: 100 | E16: 34.1 | F16: 47.3 | G16: 11 | H16: 7.7 | I16: - | J16: 81.3 | K16: 18.7
C17: 250~300 万円未満 | D17: 98 | E17: 27 | F17: 52 | G17: 13 | H17: 5 | I17: 1 | J17: 79 | K17: 18
D18: 100 | E18: 27.6 | F18: 53.1 | G18: 13.3 | H18: 5.1 | I18: 1 | J18: 80.6 | K18: 18.4
C19: 300~350 万円未満 | D19: 114 | E19: 32 | F19: 53 | G19: 18 | H19: 9 | I19: 2 | J19: 85 | K19: 27
D20: 100 | E20: 28.1 | F20: 46.5 | G20: 15.8 | H20: 7.9 | I20: 1.8 | J20: 74.6 | K20: 23.7
C21: 350~400 万円未満 | D21: 138 | E21: 39 | F21: 65 | G21: 19 | H21: 12 | I21: 3 | J21: 104 | K21: 31
D22: 100 | E22: 28.3 | F22: 47.1 | G22: 13.8 | H22: 8.7 | I22: 2.2 | J22: 75.4 | K22: 22.5
C23: 400~450 万円未満 | D23: 148 | E23: 46 | F23: 71 | G23: 24 | H23: 6 | I23: 1 | J23: 117 | K23: 30
D24: 100 | E24: 31.1 | F24: 48 | G24: 16.2 | H24: 4.1 | I24: 0.7 | J24: 79.1 | K24: 20.3
C25: 450~500 万円未満 | D25: 179 | E25: 59 | F25: 89 | G25: 24 | H25: 5 | I25: 2 | J25: 148 | K25: 29
D26: 100 | E26: 33 | F26: 49.7 | G26: 13.4 | H26: 2.8 | I26: 1.1 | J26: 82.7 | K26: 16.2
C27: 500~600 万円未満 | D27: 330 | E27: 108 | F27: 160 | G27: 40 | H27: 21 | I27: 1 | J27: 268 | K27: 61
D28: 100 | E28: 32.7 | F28: 48.5 | G28: 12.1 | H28: 6.4 | I28: 0.3 | J28: 81.2 | K28: 18.5
C29: 600~700 万円未満 | D29: 286 | E29: 104 | F29: 133 | G29: 39 | H29: 10 | I29: - | J29: 237 | K29: 49
D30: 100 | E30: 36.4 | F30: 46.5 | G30: 13.6 | H30: 3.5 | I30: - | J30: 82.9 | K30: 17.1
C31: 700~800 万円未満 | D31: 303 | E31: 114 | F31: 145 | G31: 29 | H31: 13 | I31: 2 | J31: 259 | K31: 42
D32: 100 | E32: 37.6 | F32: 47.9 | G32: 9.6 | H32: 4.3 | I32: 0.7 | J32: 85.5 | K32: 13.9
C33: 800~900 万円未満 | D33: 194 | E33: 74 | F33: 90 | G33: 18 | H33: 11 | I33: 1 | J33: 164 | K33: 29
D34: 100 | E34: 38.1 | F34: 46.4 | G34: 9.3 | H34: 5.7 | I34: 0.5 | J34: 84.5 | K34: 14.9
C35: 900~1000万円未満 | D35: 208 | E35: 63 | F35: 108 | G35: 29 | H35: 7 | I35: 1 | J35: 171 | K35: 36
D36: 100 | E36: 30.3 | F36: 51.9 | G36: 13.9 | H36: 3.4 | I36: 0.5 | J36: 82.2 | K36: 17.3
C37: 1000万円以上 | D37: 415 | E37: 165 | F37: 200 | G37: 36 | H37: 12 | I37: 2 | J37: 365 | K37: 48
D38: 100 | E38: 39.8 | F38: 48.2 | G38: 8.7 | H38: 2.9 | I38: 0.5 | J38: 88 | K38: 11.6
C39: 不明・無回答 | D39: 60 | E39: 24 | F39: 23 | G39: 11 | H39: 2 | I39: - | J39: 47 | K39: 13
D40: 100 | E40: 40 | F40: 38.3 | G40: 18.3 | H40: 3.3 | I40: - | J40: 78.3 | K40: 21.7
...

Sheet 14
A1: =HYPERLINK("#目次!A"&ROW(目次!$A$66),"[14]") -> [14]
B2: 【全員の方に】中学生票問１３．あなたに困っていることや悩みごとがあるとき、あなたが相談できると思う人はだれですか。（ＭＡ）
D3: 全 体 | E3: 信頼できる大人・友人
E4: 親 | F4: きょうだい | G4: 祖父母など | H4: 学校の先生 | I4: 学校の友達 | J4: 学校外の友達 | K4: スクールカウンセラー、スクールソーシャルワーカーなど | L4: その他の大人( 塾・習い事の先生、地域の人など) | M4: ネットで知り合った人 | N4: だれにも相談できない、相談したくない | O4: 不明・無回答
B5: 全 体 | D5: 2715 | E5: 1768 | F5: 571 | G5: 315 | H5: 635 | I5: 1827 | J5: 377 | K5: 111 | L5: 184 | M5: 136 | N5: 241 | O5: 27
D6: 100 | E6: 65.1 | F6: 21 | G6: 11.6 | H6: 23.4 | I6: 67.3 | J6: 13.9 | K6: 4.1 | L6: 6.8 | M6: 5 | N6: 8.9 | O6: 1
B7: 世帯収入 | C7: 50万円未満 | D7: 8 | E7: 3 | F7: 3 | G7: - | H7: 1 | I7: 4 | J7: 1 | K7: 2 | L7: - | M7: 1 | N7: 1 | O7: -
D8: 100 | E8: 37.5 | F8: 37.5 | G8: - | H8: 12.5 | I8: 50 | J8: 12.5 | K8: 25 | L8: - | M8: 12.5 | N8: 12.5 | O8: -
C9: 50~100万円未満 | D9: 27 | E9: 15 | F9: 4 | G9: 3 | H9: 4 | I9: 15 | J9: - | K9: - | L9: 1 | M9: 3 | N9: 3 | O9: 1
D10: 100 | E10: 55.6 | F10: 14.8 | G10: 11.1 | H10: 14.8 | I10: 55.6 | J10: - | K10: - | L10: 3.7 | M10: 11.1 | N10: 11.1 | O10: 3.7
C11: 100~150 万円未満 | D11: 52 | E11: 34 | F11: 11 | G11: 5 | H11: 13 | I11: 33 | J11: 7 | K11: - | L11: 4 | M11: 3 | N11: 8 | O11: -
D12: 100 | E12: 65.4 | F12: 21.2 | G12: 9.6 | H12: 25 | I12: 63.5 | J12: 13.5 | K12: - | L12: 7.7 | M12: 5.8 | N12: 15.4 | O12: -
C13: 150~200 万円未満 | D13: 64 | E13: 45 | F13: 14 | G13: 7 | H13: 10 | I13: 37 | J13: 8 | K13: 3 | L13: 4 | M13: 4 | N13: 9 | O13: -
D14: 100 | E14: 70.3 | F14: 21.9 | G14: 10.9 | H14: 15.6 | I14: 57.8 | J14: 12.5 | K14: 4.7 | L14: 6.3 | M14: 6.3 | N14: 14.1 | O14: -
C15: 200~250 万円未満 | D15: 91 | E15: 49 | F15: 15 | G15: 8 | H15: 18 | I15: 56 | J15: 8 | K15: 2 | L15: 5 | M15: 6 | N15: 15 | O15: -
D16: 100 | E16: 53.8 | F16: 16.5 | G16: 8.8 | H16: 19.8 | I16: 61.5 | J16: 8.8 | K16: 2.2 | L16: 5.5 | M16: 6.6 | N16: 16.5 | O16: -
C17: 250~300 万円未満 | D17: 98 | E17: 64 | F17: 17 | G17: 13 | H17: 30 | I17: 62 | J17: 15 | K17: 5 | L17: 3 | M17: 8 | N17: 8 | O17: 1
D18: 100 | E18: 65.3 | F18: 17.3 | G18: 13.3 | H18: 30.6 | I18: 63.3 | J18: 15.3 | K18: 5.1 | L18: 3.1 | M18: 8.2 | N18: 8.2 | O18: 1
C19: 300~350 万円未満 | D19: 114 | E19: 74 | F19: 25 | G19: 17 | H19: 34 | I19: 71 | J19: 19 | K19: 8 | L19: 12 | M19: 10 | N19: 8 | O19: 2
D20: 100 | E20: 64.9 | F20: 21.9 | G20: 14.9 | H20: 29.8 | I20: 62.3 | J20: 16.7 | K20: 7 | L20: 10.5 | M20: 8.8 | N20: 7 | O20: 1.8
C21: 350~400 万円未満 | D21: 138 | E21: 83 | F21: 21 | G21: 10 | H21: 28 | I21: 87 | J21: 20 | K21: 7 | L21: 8 | M21: 9 | N21: 14 | O21: 4
D22: 100 | E22: 60.1 | F22: 15.2 | G22: 7.2 | H22: 20.3 | I22: 63 | J22: 14.5 | K22: 5.1 | L22: 5.8 | M22: 6.5 | N22: 10.1 | O22: 2.9
C23: 400~450 万円未満 | D23: 148 | E23: 94 | F23: 30 | G23: 20 | H23: 32 | I23: 90 | J23: 13 | K23: 9 | L23: 11 | M23: 8 | N23: 19 | O23: 1
D24: 100 | E24: 63.5 | F24: 20.3 | G24: 13.5 | H24: 21.6 | I24: 60.8 | J24: 8.8 | K24: 6.1 | L24: 7.4 | M24: 5.4 | N24: 12.8 | O24: 0.7
C25: 450~500 万円未満 | D25: 179 | E25: 118 | F25: 46 | G25: 16 | H25: 40 | I25: 121 | J25: 27 | K25: 9 | L25: 11 | M25: 8 | N25: 15 | O25: 5
D26: 100 | E26: 65.9 | F26: 25.7 | G26: 8.9 | H26: 22.3 | I26: 67.6 | J26: 15.1 | K26: 5 | L26: 6.1 | M26: 4.5 | N26: 8.4 | O26: 2.8
C27: 500~600 万円未満 | D27: 330 | E27: 205 | F27: 56 | G27: 32 | H27: 88 | I27: 215 | J27: 38 | K27: 12 | L27: 20 | M27: 17 | N27: 41 | O27: 3
D28: 100 | E28: 62.1 | F28: 17 | G28: 9.7 | H28: 26.7 | I28: 65.2 | J28: 11.5 | K28: 3.6 | L28: 6.1 | M28: 5.2 | N28: 12.4 | O28: 0.9
C29: 600~700 万円未満 | D29: 286 | E29: 193 | F29: 57 | G29: 31 | H29: 67 | I29: 210 | J29: 42 | K29: 8 | L29: 13 | M29: 12 | N29: 17 | O29: 1
D30: 100 | E30: 67.5 | F30: 19.9 | G30: 10.8 | H30: 23.4 | I30: 73.4 | J30: 14.7 | K30: 2.8 | L30: 4.5 | M30: 4.2 | N30: 5.9 | O30: 0.3
C31: 700~800 万円未満 | D31: 303 | E31: 207 | F31: 70 | G31: 50 | H31: 65 | I31: 204 | J31: 37 | K31: 15 | L31: 27 | M31: 13 | N31: 26 | O31: 3
D32: 100 | E32: 68.3 | F32: 23.1 | G32: 16.5 | H32: 21.5 | I32: 67.3 | J32: 12.2 | K32: 5 | L32: 8.9 | M32: 4.3 | N32: 8.6 | O32: 1
C33: 800~900 万円未満 | D33: 194 | E33: 132 | F33: 39 | G33: 25 | H33: 46 | I33: 139 | J33: 31 | K33: 7 | L33: 13 | M33: 8 | N33: 10 | O33: 2
D34: 100 | E34: 68 | F34: 20.1 | G34: 12.9 | H34: 23.7 | I34: 71.6 | J34: 16 | K34: 3.6 | L34: 6.7 | M34: 4.1 | N34: 5.2 | O34: 1
C35: 900~1000万円未満 | D35: 208 | E35: 137 | F35: 54 | G35: 24 | H35: 45 | I35: 153 | J35: 40 | K35: 3 | L35: 13 | M35: 11 | N35: 11 | O35: 2
D36: 100 | E36: 65.9 | F36: 26 | G36: 11.5 | H36: 21.6 | I36: 73.6 | J36: 19.2 | K36: 1.4 | L36: 6.3 | M36: 5.3 | N36: 5.3 | O36: 1
C37: 1000万円以上 | D37: 415 | E37: 280 | F37: 93 | G37: 49 | H37: 100 | I37: 295 | J37: 65 | K37: 14 | L37: 34 | M37: 13 | N37: 30 | O37: 2
D38: 100 | E38: 67.5 | F38: 22.4 | G38: 11.8 | H38: 24.1 | I38: 71.1 | J38: 15.7 | K38: 3.4 | L38: 8.2 | M38: 3.1 | N38: 7.2 | O38: 0.5
C39: 不明・無回答 | D39: 60 | E39: 35 | F39: 16 | G39: 5 | H39: 14 | I39: 35 | J39: 6 | K39: 7 | L39: 5 | M39: 2 | N39: 6 | O39: -
D40: 100 | E40: 58.3 | F40: 26.7 | G40: 8.3 | H40: 23.3 | I40: 58.3 | J40: 10 | K40: 11.7 | L40: 8.3 | M40: 3.3 | N40: 10 | O40: -
...

Sheet 15
A1: =HYPERLINK("#目次!A"&ROW(目次!$A$67),"[15]") -> [15]
B2: 【全員の方に】中学生票問１４．全体として、あなたは最近の生活に、どのくらい満足していますか。（ＳＡ）
D3: 全 体 | E3: 主観的幸福（生活満足度）
E4: ０：まったく満足していない | F4: １ | G4: ２ | H4: ３ | I4: ４ | J4: ５ | K4: ６ | L4: ７ | M4: ８ | N4: ９ | O4: １０：十分に満足している | P4: 0 ～3 （計） | Q4: 4 ～6 （計） | R4: 7 ～10（計） | S4: 不明・無回答
B5: 全 体 | D5: 2715 | E5: 35 | F5: 35 | G5: 60 | H5: 122 | I5: 166 | J5: 351 | K5: 251 | L5: 386 | M5: 574 | N5: 299 | O5: 405 | P5: 252 | Q5: 768 | R5: 1664 | S5: 31
D6: 100 | E6: 1.3 | F6: 1.3 | G6: 2.2 | H6: 4.5 | I6: 6.1 | J6: 12.9 | K6: 9.2 | L6: 14.2 | M6: 21.1 | N6: 11 | O6: 14.9 | P6: 9.3 | Q6: 28.3 | R6: 61.3 | S6: 1.1
B7: 世帯収入 | C7: 50万円未満 | D7: 8 | E7: - | F7: - | G7: - | H7: - | I7: - | J7: 3 | K7: - | L7: - | M7: 2 | N7: 2 | O7: 1 | P7: - | Q7: 3 | R7: 5 | S7: -
D8: 100 | E8: - | F8: - | G8: - | H8: - | I8: - | J8: 37.5 | K8: - | L8: - | M8: 25 | N8: 25 | O8: 12.5 | P8: - | Q8: 37.5 | R8: 62.5 | S8: -
C9: 50~100万円未満 | D9: 27 | E9: - | F9: 1 | G9: - | H9: 1 | I9: 2 | J9: 5 | K9: 2 | L9: 4 | M9: 7 | N9: - | O9: 4 | P9: 2 | Q9: 9 | R9: 15 | S9: 1
D10: 100 | E10: - | F10: 3.7 | G10: - | H10: 3.7 | I10: 7.4 | J10: 18.5 | K10: 7.4 | L10: 14.8 | M10: 25.9 | N10: - | O10: 14.8 | P10: 7.4 | Q10: 33.3 | R10: 55.6 | S10: 3.7
C11: 100~150 万円未満 | D11: 52 | E11: 2 | F11: - | G11: 1 | H11: 2 | I11: 4 | J11: 6 | K11: 6 | L11: 8 | M11: 10 | N11: 4 | O11: 7 | P11: 5 | Q11: 16 | R11: 29 | S11: 2
D12: 100 | E12: 3.8 | F12: - | G12: 1.9 | H12: 3.8 | I12: 7.7 | J12: 11.5 | K12: 11.5 | L12: 15.4 | M12: 19.2 | N12: 7.7 | O12: 13.5 | P12: 9.6 | Q12: 30.8 | R12: 55.8 | S12: 3.8
C13: 150~200 万円未満 | D13: 64 | E13: 1 | F13: - | G13: - | H13: 8 | I13: 6 | J13: 10 | K13: 5 | L13: 16 | M13: 9 | N13: - | O13: 9 | P13: 9 | Q13: 21 | R13: 34 | S13: -
D14: 100 | E14: 1.6 | F14: - | G14: - | H14: 12.5 | I14: 9.4 | J14: 15.6 | K14: 7.8 | L14: 25 | M14: 14.1 | N14: - | O14: 14.1 | P14: 14.1 | Q14: 32.8 | R14: 53.1 | S14: -
C15: 200~250 万円未満 | D15: 91 | E15: 2 | F15: - | G15: 5 | H15: 2 | I15: 7 | J15: 11 | K15: 12 | L15: 11 | M15: 20 | N15: 8 | O15: 13 | P15: 9 | Q15: 30 | R15: 52 | S15: -
D16: 100 | E16: 2.2 | F16: - | G16: 5.5 | H16: 2.2 | I16: 7.7 | J16: 12.1 | K16: 13.2 | L16: 12.1 | M16: 22 | N16: 8.8 | O16: 14.3 | P16: 9.9 | Q16: 33 | R16: 57.1 | S16: -
C17: 250~300 万円未満 | D17: 98 | E17: 1 | F17: 1 | G17: 2 | H17: 4 | I17: 9 | J17: 22 | K17: 12 | L17: 15 | M17: 10 | N17: 6 | O17: 15 | P17: 8 | Q17: 43 | R17: 46 | S17: 1
D18: 100 | E18: 1 | F18: 1 | G18: 2 | H18: 4.1 | I18: 9.2 | J18: 22.4 | K18: 12.2 | L18: 15.3 | M18: 10.2 | N18: 6.1 | O18: 15.3 | P18: 8.2 | Q18: 43.9 | R18: 46.9 | S18: 1
C19: 300~350 万円未満 | D19: 114 | E19: 4 | F19: 1 | G19: 4 | H19: 9 | I19: 5 | J19: 18 | K19: 10 | L19: 12 | M19: 18 | N19: 21 | O19: 10 | P19: 18 | Q19: 33 | R19: 61 | S19: 2
