Workbook

Sheet 目次
A1: 子供の生活状況調査 クロス集計表
A3: 表 | D3: 【目 次】
A5: 1 | F5: 性別
A6: 2 | D6: 世帯収入 | E6: × | F6: 学習環境
A7: 3 | D7: 世帯収入 | E7: × | F7: 学習習慣 a．学校がある日
D8: 世帯収入 | E8: × | F8: 学習習慣 b．学校がない日（土・日曜日・祝日）
A9: 4 | D9: 世帯収入 | E9: × | F9: 学習成績
A10: 5 | D10: 世帯収入 | E10: × | F10: 授業の理解度
D11: 親の婚姻状況 | E11: × | F11: 授業の理解度
D12: 幼児期の教育（０- ２歳） | E12: × | F12: 授業の理解度
D13: 幼児期の教育（３- ５歳） | E13: × | F13: 授業の理解度
D14: 保護者の関わり方 a．テレビ・ゲーム・インターネット等の視聴時間等のルールを決めている | E14: × | F14: 授業の理解度
D15: 保護者の関わり方 b．お子さんに本や新聞を読むように勧めている | E15: × | F15: 授業の理解度
D16: 保護者の関わり方 c．お子さんが小さいころ、絵本の読み聞かせをしていた | E16: × | F16: 授業の理解度
D17: 保護者の関わり方 d．お子さんから、勉強や成績のことについて話をしてくれる | E17: × | F17: 授業の理解度
D18: 学校行事への参加 a．授業参観や運動会等 | E18: × | F18: 授業の理解度
D19: 学校行事への参加 b．ＰＴＡ活動や保護者会、放課後学習支援等のボランティア等 | E19: × | F19: 授業の理解度
D20: 精神状態 a．神経過敏に感じた | E20: × | F20: 授業の理解度
D21: 精神状態 b．絶望的だと感じた | E21: × | F21: 授業の理解度
D22: 精神状態 c．そわそわ、落ち着かなく感じた | E22: × | F22: 授業の理解度
... D33: 食事の頻度 c．夏休みや冬休みなどの期間の昼食 | E33: × | F33: 授業の理解度
A34: 6 | D34: 就寝時間の規則性 | E34: × | F34: 授業の理解度
D35: 主観的幸福（生活満足度） | E35: × | F35: 授業の理解度
D36: 精神状態 a．私は、他人に対して親切にするようにしている。私は、他人の気持ちをよく考える。 | E36: × | F36: 授業の理解度
D37: 精神状態 b．私は、よく頭やお腹がいたくなったり、気持ちが悪くなったりする。 | E37: × | F37: 授業の理解度
D38: 精神状態 c．私は、他の子供たちと、よく分け合う（食べ物・ゲーム・ペンなど）。 | E38: × | F38: 授業の理解度
D39: 精神状態 d．私は、たいてい一人でいる。だいたいいつも一人で遊ぶか、人と付き合うことを避ける。 | E39: × | F39: 授業の理解度
D40: 精神状態 e．私は、心配ごとが多く、いつも不安だ。 | E40: × | F40: 授業の理解度
D41: 精神状態 f．私は、誰かが心を痛めていたり、落ち込んでいたり、嫌な思いをしているときなど、すすんで助ける。 | E41: × | F41: 授業の理解度
D42: 精神状態 g．私は、仲の良い友だちが少なくとも一人はいる。 | E42: × | F42: 授業の理解度
D43: 精神状態 h．私は、落ち込んでしずんでいたり、涙ぐんだりすることがよくある。 | E43: × | F43: 授業の理解度
D44: 精神状態 i．私は、同じくらいの年齢の子供からは、だいたいは好かれている。 | E44: × | F44: 授業の理解度
D45: 精神状態 j．私は、新しい場面に直面すると不安になり、自信をなくしやすい。 | E45: × | F45: 授業の理解度
D46: 精神状態 k．私は、年下の子供たちに対してやさしくしている。 | E46: × | F46: 授業の理解度
... D55: 支援の利用状況 d．( 家や学校以外で) 何でも相談できる場所（電話やネットの相談を含む。） | E55: × | F55: 授業の理解度
A56: 7 | D56: 世帯収入 | E56: × | F56: 授業についていけなくなった時期
A57: 8 | D57: 世帯収入 | E57: × | F57: 進学希望
D58: 進学の見通し | E58: × | F58: 進学希望
A59: 9 | D59: 世帯収入 | E59: × | F59: 進学希望（理由）
A60: 10 | D60: 世帯収入 | E60: × | F60: 部活動等の状況
A61: 11 | D61: 世帯収入 | E61: × | F61: 部活動等を行わない理由
A62: 12 | D62: 世帯収入 | E62: × | F62: 食事の頻度 a．朝食
D63: 世帯収入 | E63: × | F63: 食事の頻度 b．夕食
D64: 世帯収入 | E64: × | F64: 食事の頻度 c．夏休みや冬休みなどの期間の昼食
A65: 13 | D65: 世帯収入 | E65: × | F65: 就寝時間の規則性
A66: 14 | D66: 世帯収入 | E66: × | F66: 信頼できる大人・友人
A67: 15 | D67: 世帯収入 | E67: × | F67: 主観的幸福（生活満足度）
D68: 親の婚姻状況 | E68: × | F68: 主観的幸福（生活満足度）
D69: 精神状態 a．神経過敏に感じた | E69: × | F69: 主観的幸福（生活満足度）
D70: 精神状態 b．絶望的だと感じた | E70: × | F70: 主観的幸福（生活満足度）
D71: 精神状態 c．そわそわ、落ち着かなく感じた | E71: × | F71: 主観的幸福（生活満足度）
D72: 精神状態 d．気分が沈み込んで、何が起こっても気が晴れないように感じた | E72: × | F72: 主観的幸福（生活満足度）
D73: 精神状態 e．何をするのも面倒だと感じた | E73: × | F73: 主観的幸福（生活満足度）
D74: 精神状態 f．自分は価値のない人間だと感じた | E74: × | F74: 主観的幸福（生活満足度）
D75: 支援の利用状況 a．( 自分や友人の家以外で) 平日の夜や休日を過ごすことができる場所 | E75: × | F75: 主観的幸福（生活満足度）
D76: 支援の利用状況 b． (自分や友人の家以外で）夕ごはんを無料か安く食べることができる場所（子供食堂など） | E76: × | F76: 主観的幸福（生活満足度）
D77: 支援の利用状況 c．勉強を無料でみてくれる場所 | E77: × | F77: 主観的幸福（生活満足度）
D78: 支援の利用状況 d．( 家や学校以外で) 何でも相談できる場所（電話やネットの相談を含む。） | E78: × | F78: 主観的幸福（生活満足度）
A79: 16 | D79: 世帯収入 | E79: × | F79: 精神状態 a．私は、他人に対して親切にするようにしている。私は、他人の気持ちをよく考える。
D80: 世帯収入 | E80: × | F80: 精神状態 b．私は、よく頭やお腹がいたくなったり、気持ちが悪くなったりする。
D81: 世帯収入 | E81: × | F81: 精神状態 c．私は、他の子供たちと、よく分け合う（食べ物・ゲーム・ペンなど）。
D82: 世帯収入 | E82: × | F82: 精神状態 d．私は、たいてい一人でいる。だいたいいつも一人で遊ぶか、人と付き合うことを避ける。
D83: 世帯収入 | E83: × | F83: 精神状態 e．私は、心配ごとが多く、いつも不安だ。
D84: 世帯収入 | E84: × | F84: 精神状態 f．私は、誰かが心を痛めていたり、落ち込んでいたり、嫌な思いをしているときなど、すすんで助ける。
D85: 世帯収入 | E85: × | F85: 精神状態 g．私は、仲の良い友だちが少なくとも一人はいる。
D86: 世帯収入 | E86: × | F86: 精神状態 h．私は、落ち込んでしずんでいたり、涙ぐんだりすることがよくある。
D87: 世帯収入 | E87: × | F87: 精神状態 i．私は、同じくらいの年齢の子供からは、だいたいは好かれている。
D88: 世帯収入 | E88: × | F88: 精神状態 j．私は、新しい場面に直面すると不安になり、自信をなくしやすい。
D89: 世帯収入 | E89: × | F89: 精神状態 k．私は、年下の子供たちに対してやさしくしている。
D90: 世帯収入 | E90: × | F90: 精神状態 l．私は、他の子供から、いじめられたり、からかわれたりする。
D91: 世帯収入 | E91: × | F91: 精神状態 m．私は、自分からすすんでよくお手伝いをする（親・先生・子供たちなど）。
... D303: 支援の利用状況 d．( 家や学校以外で) 何でも相談できる場所（電話やネットの相談を含む。） | E303: × | F303: 精神状態 o．私は、こわがりで、すぐにおびえたりする。
A304: 17 | D304: 世帯収入 | E304: × | F304: 逆境体験
A305: 18 | D305: 世帯収入 | E305: × | F305: 支援の利用状況 a．( 自分や友人の家以外で) 平日の夜や休日を過ごすことができる場所
D306: 世帯収入 | E306: × | F306: 支援の利用状況 b． (自分や友人の家以外で）夕ごはんを無料か安く食べることができる場所（子供食堂など）
D307: 世帯収入 | E307: × | F307: 支援の利用状況 c．勉強を無料でみてくれる場所
D308: 世帯収入 | E308: × | F308: 支援の利用状況 d．( 家や学校以外で) 何でも相談できる場所（電話やネットの相談を含む。）
A309: 19 | D309: 世帯収入 | E309: × | F309: コロナ後の生活の変化 a．学校の授業以外で勉強する時間
D310: 世帯収入 | E310: × | F310: コロナ後の生活の変化 b．学校の授業がわからないと感じること
D311: 世帯収入 | E311: × | F311: コロナ後の生活の変化 c．地域のクラブ活動や学校の部活動で活動する回数
D312: 世帯収入 | E312: × | F312: コロナ後の生活の変化 d．食事を抜く回数
D313: 世帯収入 | E313: × | F313: コロナ後の生活の変化 e．夜遅くまで起きている回数
D314: 世帯収入 | E314: × | F314: コロナ後の生活の変化 f．親以外の大人や友達と話をすること
D315: 世帯収入 | E315: × | F315: コロナ後の生活の変化 g．イライラや不安を感じたり、気分が沈むこと
D316: 世帯構成 | E316: × | F316: コロナ後の生活の変化 a．学校の授業以外で勉強する時間
D317: 世帯構成 | E317: × | F317: コロナ後の生活の変化 b．学校の授業がわからないと感じること
D318: 世帯構成 | E318: × | F318: コロナ後の生活の変化 c．地域のクラブ活動や学校の部活動で活動する回数
D319: 世帯構成 | E319: × | F319: コロナ後の生活の変化 d．食事を抜く回数
D320: 世帯構成 | E320: × | F320: コロナ後の生活の変化 e．夜遅くまで起きている回数
D321: 世帯構成 | E321: × | F321: コロナ後の生活の変化 f．親以外の大人や友達と話をすること
... D420: 主観的幸福（生活満足度） | E420: × | F420: コロナ後の生活の変化 g．イライラや不安を感じたり、気分が沈むこと
A421: 20 | D421: 精神状態 a．私は、他人に対して親切にするようにしている。私は、他人の気持ちをよく考える。 | E421: × | F421: コロナ後の生活の変化 a．学校の授業以外で勉強する時間
D422: 精神状態 a．私は、他人に対して親切にするようにしている。私は、他人の気持ちをよく考える。 | E422: × | F422: コロナ後の生活の変化 b．学校の授業がわからないと感じること
D423: 精神状態 a．私は、他人に対して親切にするようにしている。私は、他人の気持ちをよく考える。 | E423: × | F423: コロナ後の生活の変化 c．地域のクラブ活動や学校の部活動で活動する回数
D424: 精神状態 a．私は、他人に対して親切にするようにしている。私は、他人の気持ちをよく考える。 | E424: × | F424: コロナ後の生活の変化 d．食事を抜く回数
D425: 精神状態 a．私は、他人に対して親切にするようにしている。私は、他人の気持ちをよく考える。 | E425: × | F425: コロナ後の生活の変化 e．夜遅くまで起きている回数
D426: 精神状態 a．私は、他人に対して親切にするようにしている。私は、他人の気持ちをよく考える。 | E426: × | F426: コロナ後の生活の変化 f．親以外の大人や友達と話をすること
D427: 精神状態 a．私は、他人に対して親切にするようにしている。私は、他人の気持ちをよく考える。 | E427: × | F427: コロナ後の生活の変化 g．イライラや不安を感じたり、気分が沈むこと
D428: 精神状態 b．私は、よく頭やお腹がいたくなったり、気持ちが悪くなったりする。 | E428: × | F428: コロナ後の生活の変化 a．学校の授業以外で勉強する時間
D429: 精神状態 b．私は、よく頭やお腹がいたくなったり、気持ちが悪くなったりする。 | E429: × | F429: コロナ後の生活の変化 b．学校の授業がわからないと感じること
...

Sheet 01
A1: =HYPERLINK("#目次!A"&ROW(目次!$A$5),"[01]") -> [01]
B2: 【全員の方に】中学生票問１．あなたの性別を教えてください。（ＳＡ）
D3: 全 体 | E3: 性別
E4: 男 | F4: 女 | G4: その他・答えたくない | H4: 不明・無回答
D5: 2715 | E5: 1300 | F5: 1362 | G5: 33 | H5: 20
D6: 100 | E6: 47.9 | F6: 50.2 | G6: 1.2 | H6: 0.7

Sheet 02
A1: =HYPERLINK("#目次!A"&ROW(目次!$A$6),"[02]") -> [02]
B2: 【全員の方に】中学生票問２．あなたは、ふだん学校の授業以外で、どのように勉強をしていますか。（ＭＡ）
D3: 全 体 | E3: 学習環境
E4: 自分で勉強する | F4: 塾で勉強する | G4: 学校の補習を受ける | H4: 家庭教師に教えてもらう | I4: 地域の人などが行う無料の勉強会に参加する | J4: 家の人に教えてもらう | K4: 友達と勉強する | L4: その他 | M4: 学校の授業以外で勉強はしない | N4: 不明・無回答
B5: 全 体 | D5: 2715 | E5: 2082 | F5: 1281 | G5: 134 | H5: 74 | I5: 25 | J5: 662 | K5: 719 | L5: 133 | M5: 133 | N5: 19
D6: 100 | E6: 76.7 | F6: 47.2 | G6: 4.9 | H6: 2.7 | I6: 0.9 | J6: 24.4 | K6: 26.5 | L6: 4.9 | M6: 4.9 | N6: 0.7
B7: 世帯収入 | C7: 50万円未満 | D7: 8 | E7: 4 | F7: 3 | G7: 1 | H7: - | I7: 1 | J7: 4 | K7: 3 | L7: 1 | M7: - | N7: -
D8: 100 | E8: 50 | F8: 37.5 | G8: 12.5 | H8: - | I8: 12.5 | J8: 50 | K8: 37.5 | L8: 12.5 | M8: - | N8: -
C9: 50~100万円未満 | D9: 27 | E9: 17 | F9: 6 | G9: 1 | H9: - | I9: 1 | J9: 3 | K9: 4 | L9: - | M9: 6 | N9: -
D10: 100 | E10: 63 | F10: 22.2 | G10: 3.7 | H10: - | I10: 3.7 | J10: 11.1 | K10: 14.8 | L10: - | M10: 22.2 | N10: -
C11: 100~150 万円未満 | D11: 52 | E11: 38 | F11: 16 | G11: 4 | H11: - | I11: 1 | J11: 9 | K11: 16 | L11: 3 | M11: 4 | N11: -
D12: 100 | E12: 73.1 | F12: 30.8 | G12: 7.7 | H12: - | I12: 1.9 | J12: 17.3 | K12: 30.8 | L12: 5.8 | M12: 7.7 | N12: -
C13: 150~200 万円未満 | D13: 64 | E13: 39 | F13: 21 | G13: 3 | H13: 1 | I13: - | J13: 13 | K13: 17 | L13: 3 | M13: 13 | N13: -
D14: 100 | E14: 60.9 | F14: 32.8 | G14: 4.7 | H14: 1.6 | I14: - | J14: 20.3 | K14: 26.6 | L14: 4.7 | M14: 20.3 | N14: -
C15: 200~250 万円未満 | D15: 91 | E15: 72 | F15: 25 | G15: 5 | H15: 4 | I15: 5 | J15: 15 | K15: 20 | L15: 5 | M15: 6 | N15: 2
D16: 100 | E16: 79.1 | F16: 27.5 | G16: 5.5 | H16: 4.4 | I16: 5.5 | J16: 16.5 | K16: 22 | L16: 5.5 | M16: 6.6 | N16: 2.2
C17: 250~300 万円未満 | D17: 98 | E17: 74 | F17: 33 | G17: 9 | H17: - | I17: 6 | J17: 24 | K17: 32 | L17: 6 | M17: 9 | N17: 1
D18: 100 | E18: 75.5 | F18: 33.7 | G18: 9.2 | H18: - | I18: 6.1 | J18: 24.5 | K18: 32.7 | L18: 6.1 | M18: 9.2 | N18: 1
C19: 300~350 万円未満 | D19: 114 | E19: 92 | F19: 37 | G19: 4 | H19: 4 | I19: - | J19: 19 | K19: 25 | L19: 3 | M19: 12 | N19: 1
D20: 100 | E20: 80.7 | F20: 32.5 | G20: 3.5 | H20: 3.5 | I20: - | J20: 16.7 | K20: 21.9 | L20: 2.6 | M20: 10.5 | N20: 0.9
C21: 350~400 万円未満 | D21: 138 | E21: 104 | F21: 52 | G21: 8 | H21: 3 | I21: - | J21: 27 | K21: 30 | L21: 5 | M21: 9 | N21: -
D22: 100 | E22: 75.4 | F22: 37.7 | G22: 5.8 | H22: 2.2 | I22: - | J22: 19.6 | K22: 21.7 | L22: 3.6 | M22: 6.5 | N22: -
C23: 400~450 万円未満 | D23: 148 | E23: 112 | F23: 57 | G23: 8 | H23: 2 | I23: 1 | J23: 35 | K23: 37 | L23: 6 | M23: 11 | N23: 1
D24: 100 | E24: 75.7 | F24: 38.5 | G24: 5.4 | H24: 1.4 | I24: 0.7 | J24: 23.6 | K24: 25 | L24: 4.1 | M24: 7.4 | N24: 0.7
C25: 450~500 万円未満 | D25: 179 | E25: 138 | F25: 72 | G25: 7 | H25: 2 | I25: 2 | J25: 35 | K25: 46 | L25: 9 | M25: 8 | N25: 1
D26: 100 | E26: 77.1 | F26: 40.2 | G26: 3.9 | H26: 1.1 | I26: 1.1 | J26: 19.6 | K26: 25.7 | L26: 5 | M26: 4.5 | N26: 0.6
C27: 500~600 万円未満 | D27: 330 | E27: 245 | F27: 158 | G27: 14 | H27: 12 | I27: 1 | J27: 73 | K27: 89 | L27: 20 | M27: 21 | N27: 3
D28: 100 | E28: 74.2 | F28: 47.9 | G28: 4.2 | H28: 3.6 | I28: 0.3 | J28: 22.1 | K28: 27 | L28: 6.1 | M28: 6.4 | N28: 0.9
C29: 600~700 万円未満 | D29: 286 | E29: 229 | F29: 150 | G29: 13 | H29: 12 | I29: 2 | J29: 80 | K29: 85 | L29: 19 | M29: 7 | N29: 3
D30: 100 | E30: 80.1 | F30: 52.4 | G30: 4.5 | H30: 4.2 | I30: 0.7 | J30: 28 | K30: 29.7 | L30: 6.6 | M30: 2.4 | N30: 1
C31: 700~800 万円未満 | D31: 303 | E31: 235 | F31: 163 | G31: 12 | H31: 7 | I31: 3 | J31: 74 | K31: 80 | L31: 13 | M31: 9 | N31: 1
D32: 100 | E32: 77.6 | F32: 53.8 | G32: 4 | H32: 2.3 | I32: 1 | J32: 24.4 | K32: 26.4 | L32: 4.3 | M32: 3 | N32: 0.3
C33: 800~900 万円未満 | D33: 194 | E33: 150 | F33: 108 | G33: 8 | H33: 3 | I33: - | J33: 49 | K33: 52 | L33: 8 | M33: 6 | N33: 2
D34: 100 | E34: 77.3 | F34: 55.7 | G34: 4.1 | H34: 1.5 | I34: - | J34: 25.3 | K34: 26.8 | L34: 4.1 | M34: 3.1 | N34: 1
C35: 900~1000万円未満 | D35: 208 | E35: 153 | F35: 119 | G35: 16 | H35: 5 | I35: - | J35: 60 | K35: 63 | L35: 3 | M35: 6 | N35: 1
D36: 100 | E36: 73.6 | F36: 57.2 | G36: 7.7 | H36: 2.4 | I36: - | J36: 28.8 | K36: 30.3 | L36: 1.4 | M36: 2.9 | N36: 0.5
C37: 1000万円以上 | D37: 415 | E37: 331 | F37: 242 | G37: 18 | H37: 17 | I37: 1 | J37: 131 | K37: 105 | L37: 24 | M37: 5 | N37: 1
D38: 100 | E38: 79.8 | F38: 58.3 | G38: 4.3 | H38: 4.1 | I38: 0.2 | J38: 31.6 | K38: 25.3 | L38: 5.8 | M38: 1.2 | N38: 0.2
C39: 不明・無回答 | D39: 60 | E39: 49 | F39: 19 | G39: 3 | H39: 2 | I39: 1 | J39: 11 | K39: 15 | L39: 5 | M39: 1 | N39: 2
D40: 100 | E40: 81.7 | F40: 31.7 | G40: 5 | H40: 3.3 | I40: 1.7 | J40: 18.3 | K40: 25 | L40: 8.3 | M40: 1.7 | N40: 3.3
C41: 200 万円未満（計） | D41: 151 | E41: 98 | F41: 46 | G41: 9 | H41: 1 | I41: 3 | J41: 29 | K41: 40 | L41: 7 | M41: 23 | N41: -
D42: 100 | E42: 64.9 | F42: 30.5 | G42: 6 | H42: 0.7 | I42: 2 | J42: 19.2 | K42: 26.5 | L42: 4.6 | M42: 15.2 | N42: -
C43: 200~400 万円未満（計） | D43: 441 | E43: 342 | F43: 147 | G43: 26 | H43: 11 | I43: 11 | J43: 85 | K43: 107 | L43: 19 | M43: 36 | N43: 4
D44: 100 | E44: 77.6 | F44: 33.3 | G44: 5.9 | H44: 2.5 | I44: 2.5 | J44: 19.3 | K44: 24.3 | L44: 4.3 | M44: 8.2 | N44: 0.9
C45: 400~600 万円未満（計） | D45: 657 | E45: 495 | F45: 287 | G45: 29 | H45: 16 | I45: 4 | J45: 143 | K45: 172 | L45: 35 | M45: 40 | N45: 5
D46: 100 | E46: 75.3 | F46: 43.7 | G46: 4.4 | H46: 2.4 | I46: 0.6 | J46: 21.8 | K46: 26.2 | L46: 5.3 | M46: 6.1 | N46: 0.8
C47: 600 万円~800万円未満（計） | D47: 589 | E47: 464 | F47: 313 | G47: 25 | H47: 19 | I47: 5 | J47: 154 | K47: 165 | L47: 32 | M47: 16 | N47: 4
D48: 100 | E48: 78.8 | F48: 53.1 | G48: 4.2 | H48: 3.2 | I48: 0.8 | J48: 26.1 | K48: 28 | L48: 5.4 | M48: 2.7 | N48: 0.7
C49: 800 万円以上（計） | D49: 817 | E49: 634 | F49: 469 | G49: 42 | H49: 25 | I49: 1 | J49: 240 | K49: 220 | L49: 35 | M49: 17 | N49: 4
D50: 100 | E50: 77.6 | F50: 57.4 | G50: 5.1 | H50: 3.1 | I50: 0.1 | J50: 29.4 | K50: 26.9 | L50: 4.3 | M50: 2.1 | N50: 0.5

Sheet 03
A1: =HYPERLINK("#目次!A"&ROW(目次!$A$7),"[03]") -> [03]
B2: 【全員の方に】中学生票問３．あなたは、ふだん学校の授業以外に、１日あたりどれくらいの時間勉強をしますか。（ＳＡ）
D3: 全 体 | E3: 学習習慣 a．学校がある日 | L3: 全 体 | M3: 学習習慣 b．学校がない日（土・日曜日・祝日）
E4: まったくしない | F4: ３０分より少ない | G4: ３０分以上、１時間より少ない | H4: １時間以上、２時間より少ない | I4: ２時間以上、３時間より少ない | J4: ３時間以上 | K4: 不明・無回答 | M4: まったくしない | N4: ３０分より少ない | O4: ３０分以上、１時間より少ない | P4: １時間以上、２時間より少ない | Q4: ２時間以上、３時間より少ない | R4: ３時間以上 | S4: 不明・無回答
B5: 全 体 | D5: 2715 | E5: 144 | F5: 419 | G5: 774 | H5: 885 | I5: 343 | J5: 129 | K5: 21 | L5: 2715 | M5: 341 | N5: 415 | O5: 613 | P5: 645 | Q5: 394 | R5: 259 | S5: 48
D6: 100 | E6: 5.3 | F6: 15.4 | G6: 28.5 | H6: 32.6 | I6: 12.6 | J6: 4.8 | K6: 0.8 | L6: 100 | M6: 12.6 | N6: 15.3 | O6: 22.6 | P6: 23.8 | Q6: 14.5 | R6: 9.5 | S6: 1.8
B7: 世帯収入 | C7: 50万円未満 | D7: 8 | E7: - | F7: 1 | G7: 1 | H7: 4 | I7: 1 | J7: 1 | K7: - | L7: 8 | M7: 2 | N7: 2 | O7: - | P7: 1 | Q7: 1 | R7: 2 | S7: -
D8: 100 | E8: - | F8: 12.5 | G8: 12.5 | H8: 50 | I8: 12.5 | J8: 12.5 | K8: - | L8: 100 | M8: 25 | N8: 25 | O8: - | P8: 12.5 | Q8: 12.5 | R8: 25 | S8: -
C9: 50~100万円未満 | D9: 27 | E9: 4 | F9: 9 | G9: 6 | H9: 5 | I9: 1 | J9: 2 | K9: - | L9: 27 | M9: 6 | N9: 9 | O9: 4 | P9: 4 | Q9: 4 | R9: - | S9: -
D10: 100 | E10: 14.8 | F10: 33.3 | G10: 22.2 | H10: 18.5 | I10: 3.7 | J10: 7.4 | K10: - | L10: 100 | M10: 22.2 | N10: 33.3 | O10: 14.8 | P10: 14.8 | Q10: 14.8 | R10: - | S10: -
C11: 100~150 万円未満 | D11: 52 | E11: 4 | F11: 6 | G11: 21 | H11: 13 | I11: 6 | J11: 2 | K11: - | L11: 52 | M11: 11 | N11: 6 | O11: 9 | P11: 19 | Q11: 3 | R11: 2 | S11: 2
D12: 100 | E12: 7.7 | F12: 11.5 | G12: 40.4 | H12: 25 | I12: 11.5 | J12: 3.8 | K12: - | L12: 100 | M12: 21.2 | N12: 11.5 | O12: 17.3 | P12: 36.5 | Q12: 5.8 | R12: 3.8 | S12: 3.8
C13: 150~200 万円未満 | D13: 64 | E13: 13 | F13: 8 | G13: 23 | H13: 12 | I13: 5 | J13: 3 | K13: - | L13: 64 | M13: 19 | N13: 11 | O13: 18 | P13: 8 | Q13: 3 | R13: 4 | S13: 1
D14: 100 | E14: 20.3 | F14: 12.5 | G14: 35.9 | H14: 18.8 | I14: 7.8 | J14: 4.7 | K14: - | L14: 100 | M14: 29.7 | N14: 17.2 | O14: 28.1 | P14: 12.5 | Q14: 4.7 | R14: 6.3 | S14: 1.6
C15: 200~250 万円未満 | D15: 91 | E15: 7 | F15: 18 | G15: 29 | H15: 26 | I15: 7 | J15: 2 | K15: 2 | L15: 91 | M15: 12 | N15: 17 | O15: 20 | P15: 20 | Q15: 13 | R15: 5 | S15: 4
D16: 100 | E16: 7.7 | F16: 19.8 | G16: 31.9 | H16: 28.6 | I16: 7.7 | J16: 2.2 | K16: 2.2 | L16: 100 | M16: 13.2 | N16: 18.7 | O16: 22 | P16: 22 | Q16: 14.3 | R16: 5.5 | S16: 4.4
C17: 250~300 万円未満 | D17: 98 | E17: 9 | F17: 11 | G17: 28 | H17: 37 | I17: 9 | J17: 2 | K17: 2 | L17: 98 | M17: 18 | N17: 18 | O17: 22 | P17: 19 | Q17: 15 | R17: 3 | S17: 3
D18: 100 | E18: 9.2 | F18: 11.2 | G18: 28.6 | H18: 37.8 | I18: 9.2 | J18: 2 | K18: 2 | L18: 100 | M18: 18.4 | N18: 18.4 | O18: 22.4 | P18: 19.4 | Q18: 15.3 | R18: 3.1 | S18: 3.1
C19: 300~350 万円未満 | D19: 114 | E19: 11 | F19: 25 | G19: 30 | H19: 31 | I19: 13 | J19: 3 | K19: 1 | L19: 114 | M19: 26 | N19: 11 | O19: 25 | P19: 24 | Q19: 16 | R19: 9 | S19: 3
D20: 100 | E20: 9.6 | F20: 21.9 | G20: 26.3 | H20: 27.2 | I20: 11.4 | J20: 2.6 | K20: 0.9 | L20: 100 | M20: 22.8 | N20: 9.6 | O20: 21.9 | P20: 21.1 | Q20: 14 | R20: 7.9 | S20: 2.6
C21: 350~400 万円未満 | D21: 138 | E21: 7 | F21: 35 | G21: 47 | H21: 34 | I21: 13 | J21: 2 | K21: - | L21: 138 | M21: 22 | N21: 31 | O21: 32 | P21: 37 | Q21: 11 | R21: 4 | S21: 1
D22: 100 | E22: 5.1 | F22: 25.4 | G22: 34.1 | H22: 24.6 | I22: 9.4 | J22: 1.4 | K22: - | L22: 100 | M22: 15.9 | N22: 22.5 | O22: 23.2 | P22: 26.8 | Q22: 8 | R22: 2.9 | S22: 0.7
C23: 400~450 万円未満 | D23: 148 | E23: 13 | F23: 20 | G23: 49 | H23: 47 | I23: 15 | J23: 3 | K23: 1 | L23: 148 | M23: 23 | N23: 29 | O23: 33 | P23: 36 | Q23: 20 | R23: 5 | S23: 2
D24: 100 | E24: 8.8 | F24: 13.5 | G24: 33.1 | H24: 31.8 | I24: 10.1 | J24: 2 | K24: 0.7 | L24: 100 | M24: 15.5 | N24: 19.6 | O24: 22.3 | P24: 24.3 | Q24: 13.5 | R24: 3.4 | S24: 1.4
C25: 450~500 万円未満 | D25: 179 | E25: 9 | F25: 33 | G25: 43 | H25: 67 | I25: 18 | J25: 7 | K25: 2 | L25: 179 | M25: 27 | N25: 24 | O25: 49 | P25: 34 | Q25: 24 | R25: 19 | S25: 2
D26: 100 | E26: 5 | F26: 18.4 | G26: 24 | H26: 37.4 | I26: 10.1 | J26: 3.9 | K26: 1.1 | L26: 100 | M26: 15.1 | N26: 13.4 | O26: 27.4 | P26: 19 | Q26: 13.4 | R26: 10.6 | S26: 1.1
C27: 500~600 万円未満 | D27: 330 | E27: 24 | F27: 50 | G27: 96 | H27: 120 | I27: 29 | J27: 9 | K27: 2 | L27: 330 | M27: 34 | N27: 55 | O27: 76 | P27: 91 | Q27: 51 | R27: 18 | S27: 5
D28: 100 | E28: 7.3 | F28: 15.2 | G28: 29.1 | H28: 36.4 | I28: 8.8 | J28: 2.7 | K28: 0.6 | L28: 100 | M28: 10.3 | N28: 16.7 | O28: 23 | P28: 27.6 | Q28: 15.5 | R28: 5.5 | S28: 1.5
C29: 600~700 万円未満 | D29: 286 | E29: 6 | F29: 37 | G29: 83 | H29: 99 | I29: 45 | J29: 13 | K29: 3 | L29: 286 | M29: 30 | N29: 42 | O29: 75 | P29: 63 | Q29: 41 | R29: 27 | S29: 8
D30: 100 | E30: 2.1 | F30: 12.9 | G30: 29 | H30: 34.6 | I30: 15.7 | J30: 4.5 | K30: 1 | L30: 100 | M30: 10.5 | N30: 14.7 | O30: 26.2 | P30: 22 | Q30: 14.3 | R30: 9.4 | S30: 2.8
C31: 700~800 万円未満 | D31: 303 | E31: 12 | F31: 39 | G31: 78 | H31: 102 | I31: 43 | J31: 27 | K31: 2 | L31: 303 | M31: 33 | N31: 40 | O31: 64 | P31: 70 | Q31: 54 | R31: 38 | S31: 4
D32: 100 | E32: 4 | F32: 12.9 | G32: 25.7 | H32: 33.7 | I32: 14.2 | J32: 8.9 | K32: 0.7 | L32: 100 | M32: 10.9 | N32: 13.2 | O32: 21.1 | P32: 23.1 | Q32: 17.8 | R32: 12.5 | S32: 1.3
C33: 800~900 万円未満 | D33: 194 | E33: 6 | F33: 29 | G33: 60 | H33: 61 | I33: 20 | J33: 16 | K33: 2 | L33: 194 | M33: 20 | N33: 21 | O33: 48 | P33: 58 | Q33: 24 | R33: 19 | S33: 4
D34: 100 | E34: 3.1 | F34: 14.9 | G34: 30.9 | H34: 31.4 | I34: 10.3 | J34: 8.2 | K34: 1 | L34: 100 | M34: 10.3 | N34: 10.8 | O34: 24.7 | P34: 29.9 | Q34: 12.4 | R34: 9.8 | S34: 2.1
C35: 900~1000万円未満 | D35: 208 | E35: 9 | F35: 28 | G35: 66 | H35: 66 | I35: 28 | J35: 10 | K35: 1 | L35: 208 | M35: 19 | N35: 24 | O35: 47 | P35: 57 | Q35: 33 | R35: 25 | S35: 3
D36: 100 | E36: 4.3 | F36: 13.5 | G36: 31.7 | H36: 31.7 | I36: 13.5 | J36: 4.8 | K36: 0.5 | L36: 100 | M36: 9.1 | N36: 11.5 | O36: 22.6 | P36: 27.4 | Q36: 15.9 | R36: 12 | S36: 1.4
C37: 1000万円以上 | D37: 415 | E37: 7 | F37: 56 | G37: 102 | H37: 142 | I37: 81 | J37: 26 | K37: 1 | L37: 415 | M37: 32 | N37: 65 | O37: 80 | P37: 92 | Q37: 70 | R37: 73 | S37: 3
D38: 100 | E38: 1.7 | F38: 13.5 | G38: 24.6 | H38: 34.2 | I38: 19.5 | J38: 6.3 | K38: 0.2 | L38: 100 | M38: 7.7 | N38: 15.7 | O38: 19.3 | P38: 22.2 | Q38: 16.9 | R38: 17.6 | S38: 0.7
C39: 不明・無回答 | D39: 60 | E39: 3 | F39: 14 | G39: 12 | H39: 19 | I39: 9 | J39: 1 | K39: 2 | L39: 60 | M39: 7 | N39: 10 | O39: 11 | P39: 12 | Q39: 11 | R39: 6 | S39: 3
D40: 100 | E40: 5 | F40: 23.3 | G40: 20 | H40: 31.7 | I40: 15 | J40: 1.7 | K40: 3.3 | L40: 100 | M40: 11.7 | N40: 16.7 | O40: 18.3 | P40: 20 | Q40: 18.3 | R40: 10 | S40: 5
C41: 200 万円未満（計） | D41: 151 | E41: 21 | F41: 24 | G41: 51 | H41: 34 | I41: 13 | J41: 8 | K41: - | L41: 151 | M41: 38 | N41: 28 | O41: 31 | P41: 32 | Q41: 11 | R41: 8 | S41: 3
D42: 100 | E42: 13.9 | F42: 15.9 | G42: 33.8 | H42: 22.5 | I42: 8.6 | J42: 5.3 | K42: - | L42: 100 | M42: 25.2 | N42: 18.5 | O42: 20.5 | P42: 21.2 | Q42: 7.3 | R42: 5.3 | S42: 2
C43: 200~400 万円未満（計） | D43: 441 | E43: 34 | F43: 89 | G43: 134 | H43: 128 | I43: 42 | J43: 9 | K43: 5 | L43: 441 | M43: 78 | N43: 77 | O43: 99 | P43: 100 | Q43: 55 | R43: 21 | S43: 11
D44: 100 | E44: 7.7 | F44: 20.2 | G44: 30.4 | H44: 29 | I44: 9.5 | J44: 2 | K44: 1.1 | L44: 100 | M44: 17.7 | N44: 17.5 | O44: 22.4 | P44: 22.7 | Q44: 12.5 | R44: 4.8 | S44: 2.5
C45: 400~600 万円未満（計） | D45: 657 | E45: 46 | F45: 103 | G45: 188 | H45: 234 | I45: 62 | J45: 19 | K45: 5 | L45: 657 | M45: 84 | N45: 108 | O45: 158 | P45: 161 | Q45: 95 | R45: 42 | S45: 9
D46: 100 | E46: 7 | F46: 15.7 | G46: 28.6 | H46: 35.6 | I46: 9.4 | J46: 2.9 | K46: 0.8 | L46: 100 | M46: 12.8 | N46: 16.4 | O46: 24 | P46: 24.5 | Q46: 14.5 | R46: 6.4 | S46: 1.4
C47: 600 万円~800万円未満（計） | D47: 589 | E47: 18 | F47: 76 | G47: 161 | H47: 201 | I47: 88 | J47: 40 | K47: 5 | L47: 589 | M47: 63 | N47: 82 | O47: 139 | P47: 133 | Q47: 95 | R47: 65 | S47: 12
D48: 100 | E48: 3.1 | F48: 12.9 | G48: 27.3 | H48: 34.1 | I48: 14.9 | J48: 6.8 | K48: 0.8 | L48: 100 | M48: 10.7 | N48: 13.9 | O48: 23.6 | P48: 22.6 | Q48: 16.1 | R48: 11 | S48: 2
C49: 800 万円以上（計） | D49: 817 | E49: 22 | F49: 113 | G49: 228 | H49: 269 | I49: 129 | J49: 52 | K49: 4 | L49: 817 | M49: 71 | N49: 110 | O49: 175 | P49: 207 | Q49: 127 | R49: 117 | S49: 10
D50: 100 | E50: 2.7 | F50: 13.8 | G50: 27.9 | H50: 32.9 | I50: 15.8 | J50: 6.4 | K50: 0.5 | L50: 100 | M50: 8.7 | N50: 13.5 | O50: 21.4 | P50: 25.3 | Q50: 15.5 | R50: 14.3 | S50: 1.2

Sheet 04
A1: =HYPERLINK("#目次!A"&ROW(目次!$A$9),"[04]") -> [04]
B2: 【全員の方に】中学生票問４．あなたの成績は、クラスの中でどのくらいだと思いますか。（ＳＡ）
D3: 全 体 | E3: 学習成績
E4: 上のほう | F4: やや上のほう | G4: まん中あたり | H4: やや下のほう | I4: 下のほう | J4: わからない | K4: 不明・無回答
B5: 全 体 | D5: 2715 | E5: 364 | F5: 565 | G5: 754 | H5: 426 | I5: 470 | J5: 131 | K5: 5
D6: 100 | E6: 13.4 | F6: 20.8 | G6: 27.8 | H6: 15.7 | I6: 17.3 | J6: 4.8 | K6: 0.2
B7: 世帯収入 | C7: 50万円未満 | D7: 8 | E7: 1 | F7: - | G7: 2 | H7: 4 | I7: 1 | J7: - | K7: -
D8: 100 | E8: 12.5 | F8: - | G8: 25 | H8: 50 | I8: 12.5 | J8: - | K8: -
C9: 50~100万円未満 | D9: 27 | E9: 1 | F9: - | G9: 5 | H9: 3 | I9: 17 | J9: 1 | K9: -
D10: 100 | E10: 3.7 | F10: - | G10: 18.5 | H10: 11.1 | I10: 63 | J10: 3.7 | K10: -
C11: 100~150 万円未満 | D11: 52 | E11: 2 | F11: 6 | G11: 13 | H11: 13 | I11: 15 | J11: 3 | K11: -
D12: 100 | E12: 3.8 | F12: 11.5 | G12: 25 | H12: 25 | I12: 28.8 | J12: 5.8 | K12: -
C13: 150~200 万円未満 | D13: 64 | E13: 4 | F13: 5 | G13: 17 | H13: 7 | I13: 27 | J13: 4 | K13: -
D14: 100 | E14: 6.3 | F14: 7.8 | G14: 26.6 | H14: 10.9 | I14: 42.2 | J14: 6.3 | K14: -
C15: 200~250 万円未満 | D15: 91 | E15: 10 | F15: 11 | G15: 23 | H15: 9 | I15: 27 | J15: 9 | K15: 2
D16: 100 | E16: 11 | F16: 12.1 | G16: 25.3 | H16: 9.9 | I16: 29.7 | J16: 9.9 | K16: 2.2
C17: 250~300 万円未満 | D17: 98 | E17: 2 | F17: 15 | G17: 26 | H17: 25 | I17: 22 | J17: 8 | K17: -
D18: 100 | E18: 2 | F18: 15.3 | G18: 26.5 | H18: 25.5 | I18: 22.4 | J18: 8.2 | K18: -
C19: 300~350 万円未満 | D19: 114 | E19: 13 | F19: 17 | G19: 30 | H19: 20 | I19: 27 | J19: 7 | K19: -
D20: 100 | E20: 11.4 | F20: 14.9 | G20: 26.3 | H20: 17.5 | I20: 23.7 | J20: 6.1 | K20: -
C21: 350~400 万円未満 | D21: 138 | E21: 12 | F21: 17 | G21: 37 | H21: 24 | I21: 37 | J21: 11 | K21: -
D22: 100 | E22: 8.7 | F22: 12.3 | G22: 26.8 | H22: 17.4 | I22: 26.8 | J22: 8 | K22: -
C23: 400~450 万円未満 | D23: 148 | E23: 19 | F23: 28 | G23: 34 | H23: 21 | I23: 36 | J23: 10 | K23: -
D24: 100 | E24: 12.8 | F24: 18.9 | G24: 23 | H24: 14.2 | I24: 24.3 | J24: 6.8 | K24: -
C25: 450~500 万円未満 | D25: 179 | E25: 29 | F25: 38 | G25: 51 | H25: 30 | I25: 25 | J25: 6 | K25: -
D26: 100 | E26: 16.2 | F26: 21.2 | G26: 28.5 | H26: 16.8 | I26: 14 | J26: 3.4 | K26: -
C27: 500~600 万円未満 | D27: 330 | E27: 39 | F27: 68 | G27: 91 | H27: 54 | I27: 57 | J27: 20 | K27: 1
D28: 100 | E28: 11.8 | F28: 20.6 | G28: 27.6 | H28: 16.4 | I28: 17.3 | J28: 6.1 | K28: 0.3
C29: 600~700 万円未満 | D29: 286 | E29: 26 | F29: 71 | G29: 88 | H29: 49 | I29: 42 | J29: 9 | K29: 1
D30: 100 | E30: 9.1 | F30: 24.8 | G30: 30.8 | H30: 17.1 | I30: 14.7 | J30: 3.1 | K30: 0.3
C31: 700~800 万円未満 | D31: 303 | E31: 51 | F31: 67 | G31: 81 | H31: 50 | I31: 40 | J31: 14 | K31: -
D32: 100 | E32: 16.8 | F32: 22.1 | G32: 26.7 | H32: 16.5 | I32: 13.2 | J32: 4.6 | K32: -
C33: 800~900 万円未満 | D33: 194 | E33: 30 | F33: 46 | G33: 61 | H33: 30 | I33: 22 | J33: 5 | K33: -
D34: 100 | E34: 15.5 | F34: 23.7 | G34: 31.4 | H34: 15.5 | I34: 11.3 | J34: 2.6 | K34: -
C35: 900~1000万円未満 | D35: 208 | E35: 33 | F35: 55 | G35: 63 | H35: 27 | I35: 23 | J35: 7 | K35: -
D36: 100 | E36: 15.9 | F36: 26.4 | G36: 30.3 | H36: 13 | I36: 11.1 | J36: 3.4 | K36: -
C37: 1000万円以上 | D37: 415 | E37: 88 | F37: 103 | G37: 114 | H37: 58 | I37: 37 | J37: 14 | K37: 1
D38: 100 | E38: 21.2 | F38: 24.8 | G38: 27.5 | H38: 14 | I38: 8.9 | J38: 3.4 | K38: 0.2
C39: 不明・無回答 | D39: 60 | E39: 4 | F39: 18 | G39: 18 | H39: 2 | I39: 15 | J39: 3 | K39: -
D40: 100 | E40: 6.7 | F40: 30 | G40: 30 | H40: 3.3 | I40: 25 | J40: 5 | K40: -
C41: 200 万円未満（計） | D41: 151 | E41: 8 | F41: 11 | G41: 37 | H41: 27 | I41: 60 | J41: 8 | K41: -
D42: 100 | E42: 5.3 | F42: 7.3 | G42: 24.5 | H42: 17.9 | I42: 39.7 | J42: 5.3 | K42: -
C43: 200~400 万円未満（計） | D43: 441 | E43: 37 | F43: 60 | G43: 116 | H43: 78 | I43: 113 | J43: 35 | K43: 2
D44: 100 | E44: 8.4 | F44: 13.6 | G44: 26.3 | H44: 17.7 | I44: 25.6 | J44: 7.9 | K44: 0.5
C45: 400~600 万円未満（計） | D45: 657 | E45: 87 | F45: 134 | G45: 176 | H45: 105 | I45: 118 | J45: 36 | K45: 1
D46: 100 | E46: 13.2 | F46: 20.4 | G46: 26.8 | H46: 16 | I46: 18 | J46: 5.5 | K46: 0.2
C47: 600 万円~800万円未満（計） | D47: 589 | E47: 77 | F47: 138 | G47: 169 | H47: 99 | I47: 82 | J47: 23 | K47: 1
D48: 100 | E48: 13.1 | F48: 23.4 | G48: 28.7 | H48: 16.8 | I48: 13.9 | J48: 3.9 | K48: 0.2
C49: 800 万円以上（計） | D49: 817 | E49: 151 | F49: 204 | G49: 238 | H49: 115 | I49: 82 | J49: 26 | K49: 1
D50: 100 | E50: 18.5 | F50: 25 | G50: 29.1 | H50: 14.1 | I50: 10 | J50: 3.2 | K50: 0.1

Sheet 05
A1: =HYPERLINK("#目次!A"&ROW(目次!$A$10),"[05]") -> [05]
B2: 【全員の方に】中学生票問５．あなたは、学校の授業がわからないことがありますか。（ＳＡ）
D3: 全 体 | E3: 授業の理解度
E4: いつもわかる | F4: だいたいわかる | G4: 教科によってはわからないことがある | H4: わからないことが多い | I4: ほとんどわからない | J4: 不明・無回答 | K4: いつもわかる・だいたいわかる（計） | L4: 教科によってはわからないことがある・わからないことが多い・ほとんどわからない（計）
B5: 全 体 | D5: 2715 | E5: 274 | F5: 931 | G5: 1194 | H5: 234 | I5: 76 | J5: 6 | K5: 1205 | L5: 1504
D6: 100 | E6: 10.1 | F6: 34.3 | G6: 44 | H6: 8.6 | I6: 2.8 | J6: 0.2 | K6: 44.4 | L6: 55.4
B7: 世帯収入 | C7: 50万円未満 | D7: 8 | E7: - | F7: 1 | G7: 5 | H7: 1 | I7: 1 | J7: - | K7: 1 | L7: 7
D8: 100 | E8: - | F8: 12.5 | G8: 62.5 | H8: 12.5 | I8: 12.5 | J8: - | K8: 12.5 | L8: 87.5
C9: 50~100万円未満 | D9: 27 | E9: 1 | F9: 4 | G9: 13 | H9: 7 | I9: 2 | J9: - | K9: 5 | L9: 22
D10: 100 | E10: 3.7 | F10: 14.8 | G10: 48.1 | H10: 25.9 | I10: 7.4 | J10: - | K10: 18.5 | L10: 81.5
C11: 100~150 万円未満 | D11: 52 | E11: 4 | F11: 12 | G11: 27 | H11: 8 | I11: 1 | J11: - | K11: 16 | L11: 36
D12: 100 | E12: 7.7 | F12: 23.1 | G12: 51.9 | H12: 15.4 | I12: 1.9 | J12: - | K12: 30.8 | L12: 69.2
C13: 150~200 万円未満 | D13: 64 | E13: 1 | F13: 13 | G13: 27 | H13: 18 | I13: 5 | J13: - | K13: 14 | L13: 50
D14: 100 | E14: 1.6 | F14: 20.3 | G14: 42.2 | H14: 28.1 | I14: 7.8 | J14: - | K14: 21.9 | L14: 78.1
C15: 200~250 万円未満 | D15: 91 | E15: 9 | F15: 20 | G15: 46 | H15: 10 | I15: 5 | J15: 1 | K15: 29 | L15: 61
D16: 100 | E16: 9.9 | F16: 22 | G16: 50.5 | H16: 11 | I16: 5.5 | J16: 1.1 | K16: 31.9 | L16: 67
C17: 250~300 万円未満 | D17: 98 | E17: 3 | F17: 24 | G17: 54 | H17: 14 | I17: 3 | J17: - | K17: 27 | L17: 71
D18: 100 | E18: 3.1 | F18: 24.5 | G18: 55.1 | H18: 14.3 | I18: 3.1 | J18: - | K18: 27.6 | L18: 72.4
C19: 300~350 万円未満 | D19: 114 | E19: 9 | F19: 33 | G19: 51 | H19: 14 | I19: 7 | J19: - | K19: 42 | L19: 72
D20: 100 | E20: 7.9 | F20: 28.9 | G20: 44.7 | H20: 12.3 | I20: 6.1 | J20: - | K20: 36.8 | L20: 63.2
C21: 350~400 万円未満 | D21: 138 | E21: 5 | F21: 39 | G21: 72 | H21: 15 | I21: 6 | J21: 1 | K21: 44 | L21: 93
D22: 100 | E22: 3.6 | F22: 28.3 | G22: 52.2 | H22: 10.9 | I22: 4.3 | J22: 0.7 | K22: 31.9 | L22: 67.4
C23: 400~450 万円未満 | D23: 148 | E23: 12 | F23: 33 | G23: 80 | H23: 15 | I23: 8 | J23: - | K23: 45 | L23: 103
D24: 100 | E24: 8.1 | F24: 22.3 | G24: 54.1 | H24: 10.1 | I24: 5.4 | J24: - | K24: 30.4 | L24: 69.6
C25: 450~500 万円未満 | D25: 179 | E25: 19 | F25: 56 | G25: 88 | H25: 10 | I25: 6 | J25: - | K25: 75 | L25: 104
D26: 100 | E26: 10.6 | F26: 31.3 | G26: 49.2 | H26: 5.6 | I26: 3.4 | J26: - | K26: 41.9 | L26: 58.1
C27: 500~600 万円未満 | D27: 330 | E27: 24 | F27: 103 | G27: 157 | H27: 29 | I27: 16 | J27: 1 | K27: 127 | L27: 202
D28: 100 | E28: 7.3 | F28: 31.2 | G28: 47.6 | H28: 8.8 | I28: 4.8 | J28: 0.3 | K28: 38.5 | L28: 61.2
C29: 600~700 万円未満 | D29: 286 | E29: 24 | F29: 107 | G29: 132 | H29: 20 | I29: 2 | J29: 1 | K29: 131 | L29: 154
D30: 100 | E30: 8.4 | F30: 37.4 | G30: 46.2 | H30: 7 | I30: 0.7 | J30: 0.3 | K30: 45.8 | L30: 53.8
C31: 700~800 万円未満 | D31: 303 | E31: 34 | F31: 118 | G31: 124 | H31: 17 | I31: 10 | J31: - | K31: 152 | L31: 151
D32: 100 | E32: 11.2 | F32: 38.9 | G32: 40.9 | H32: 5.6 | I32: 3.3 | J32: - | K32: 50.2 | L32: 49.8
C33: 800~900 万円未満 | D33: 194 | E33: 24 | F33: 84 | G33: 69 | H33: 16 | I33: 1 | J33: - | K33: 108 | L33: 86
D34: 100 | E34: 12.4 | F34: 43.3 | G34: 35.6 | H34: 8.2 | I34: 0.5 | J34: - | K34: 55.7 | L34: 44.3
C35: 900~1000万円未満 | D35: 208 | E35: 20 | F35: 86 | G35: 88 | H35: 13 | I35: - | J35: 1 | K35: 106 | L35: 101
D36: 100 | E36: 9.6 | F36: 41.3 | G36: 42.3 | H36: 6.3 | I36: - | J36: 0.5 | K36: 51 | L36: 48.6
C37: 1000万円以上 | D37: 415 | E37: 80 | F37: 182 | G37: 129 | H37: 20 | I37: 3 | J37: 1 | K37: 262 | L37: 152
D38: 100 | E38: 19.3 | F38: 43.9 | G38: 31.1 | H38: 4.8 | I38: 0.7 | J38: 0.2 | K38: 63.1 | L38: 36.6
C39: 不明・無回答 | D39: 60 | E39: 5 | F39: 16 | G39: 32 | H39: 7 | I39: - | J39: - | K39: 21 | L39: 39
D40: 100 | E40: 8.3 | F40: 26.7 | G40: 53.3 | H40: 11.7 | I40: - | J40: - | K40: 35 | L40: 65
C41: 200 万円未満（計） | D41: 151 | E41: 6 | F41: 30 | G41: 72 | H41: 34 | I41: 9 | J41: - | K41: 36 | L41: 115
D42: 100 | E42: 4 | F42: 19.9 | G42: 47.7 | H42: 22.5 | I42: 6 | J42: - | K42: 23.8 | L42: 76.2
C43: 200~400 万円未満（計） | D43: 441 | E43: 26 | F43: 116 | G43: 223 | H43: 53 | I43: 21 | J43: 2 | K43: 142 | L43: 297
D44: 100 | E44: 5.9 | F44: 26.3 | G44: 50.6 | H44: 12 | I44: 4.8 | J44: 0.5 | K44: 32.2 | L44: 67.3
C45: 400~600 万円未満（計） | D45: 657 | E45: 55 | F45: 192 | G45: 325 | H45: 54 | I45: 30 | J45: 1 | K45: 247 | L45: 409
D46: 100 | E46: 8.4 | F46: 29.2 | G46: 49.5 | H46: 8.2 | I46: 4.6 | J46: 0.2 | K46: 37.6 | L46: 62.3
C47: 600 万円~800万円未満（計） | D47: 589 | E47: 58 | F47: 225 | G47: 256 | H47: 37 | I47: 12 | J47: 1 | K47: 283 | L47: 305
D48: 100 | E48: 9.8 | F48: 38.2 | G48: 43.5 | H48: 6.3 | I48: 2 | J48: 0.2 | K48: 48 | L48: 51.8
C49: 800 万円以上（計） | D49: 817 | E49: 124 | F49: 352 | G49: 286 | H49: 49 | I49: 4 | J49: 2 | K49: 476 | L49: 339
D50: 100 | E50: 15.2 | F50: 43.1 | G50: 35 | H50: 6 | I50: 0.5 | J50: 0.2 | K50: 58.3 | L50: 41.5
B51: 全 体 | D51: 2715 | E51: 274 | F51: 931 | G51: 1194 | H51: 234 | I51: 76 | J51: 6 | K51: 1205 | L51: 1504
D52: 100 | E52: 10.1 | F52: 34.3 | G52: 44 | H52: 8.6 | I52: 2.8 | J52: 0.2 | K52: 44.4 | L52: 55.4
B53: 親の婚姻状況 | C53: 結婚している（再婚や事実婚を含む。） | D53: 2358 | E53: 253 | F53: 842 | G53: 1027 | H53: 177 | I53: 55 | J53: 4 | K53: 1095 | L53: 1259
D54: 100 | E54: 10.7 | F54: 35.7 | G54: 43.6 | H54: 7.5 | I54: 2.3 | J54: 0.2 | K54: 46.4 | L54: 53.4
C55: 離婚 | D55: 283 | E55: 16 | F55: 68 | G55: 136 | H55: 44 | I55: 18 | J55: 1 | K55: 84 | L55: 198
D56: 100 | E56: 5.7 | F56: 24 | G56: 48.1 | H56: 15.5 | I56: 6.4 | J56: 0.4 | K56: 29.7 | L56: 70
C57: 死別 | D57: 37 | E57: 3 | F57: 9 | G57: 14 | H57: 7 | I57: 3 | J57: 1 | K57: 12 | L57: 24
D58: 100 | E58: 8.1 | F58: 24.3 | G58: 37.8 | H58: 18.9 | I58: 8.1 | J58: 2.7 | K58: 32.4 | L58: 64.9
C59: 未婚 | D59: 20 | E59: - | F59: 9 | G59: 8 | H59: 3 | I59: - | J59: - | K59: 9 | L59: 11
D60: 100 | E60: - | F60: 45 | G60: 40 | H60: 15 | I60: - | J60: - | K60: 45 | L60: 55
C61: いない、わからない | D61: 10 | E61: 1 | F61: 2 | G61: 5 | H61: 2 | I61: - | J61: - | K61: 3 | L61: 7
D62: 100 | E62: 10 | F62: 20 | G62: 50 | H62: 20 | I62: - | J62: - | K62: 30 | L62: 70
C63: 不明・無回答 | D63: 7 | E63: 1 | F63: 1 | G63: 4 | H63: 1 | I63: - | J63: - | K63: 2 | L63: 5
D64: 100 | E64: 14.3 | F64: 14.3 | G64: 57.1 | H64: 14.3 | I64: - | J64: - | K64: 28.6 | L64: 71.4
B65: 全 体 | D65: 2715 | E65: 274 | F65: 931 | G65: 1194 | H65: 234 | I65: 76 | J65: 6 | K65: 1205 | L65: 1504
D66: 100 | E66: 10.1 | F66: 34.3 | G66: 44 | H66: 8.6 | I66: 2.8 | J66: 0.2 | K66: 44.4 | L66: 55.4
B67: 幼児期の教育（０- ２歳） | C67: 認可保育所・認定こども園 | D67: 863 | E67: 64 | F67: 281 | G67: 399 | H67: 94 | I67: 23 | J67: 2 | K67: 345 | L67: 516
D68: 100 | E68: 7.4 | F68: 32.6 | G68: 46.2 | H68: 10.9 | I68: 2.7 | J68: 0.2 | K68: 40 | L68: 59.8
C69: その他の教育・保育等の施設 | D69: 129 | E69: 17 | F69: 44 | G69: 52 | H69: 7 | I69: 9 | J69: - | K69: 61 | L69: 68
D70: 100 | E70: 13.2 | F70: 34.1 | G70: 40.3 | H70: 5.4 | I70: 7 | J70: - | K70: 47.3 | L70: 52.7
C71: 親・親族以外の個人 | D71: 47 | E71: 3 | F71: 16 | G71: 23 | H71: 3 | I71: 2 | J71: - | K71: 19 | L71: 28
D72: 100 | E72: 6.4 | F72: 34 | G72: 48.9 | H72: 6.4 | I72: 4.3 | J72: - | K72: 40.4 | L72: 59.6
C73: もっぱら親・親族が面倒を見ていた | D73: 1647 | E73: 188 | F73: 583 | G73: 705 | H73: 126 | I73: 41 | J73: 4 | K73: 771 | L73: 872
D74: 100 | E74: 11.4 | F74: 35.4 | G74: 42.8 | H74: 7.7 | I74: 2.5 | J74: 0.2 | K74: 46.8 | L74: 52.9
C75: 不明・無回答 | D75: 29 | E75: 2 | F75: 7 | G75: 15 | H75: 4 | I75: 1 | J75: - | K75: 9 | L75: 20
D76: 100 | E76: 6.9 | F76: 24.1 | G76: 51.7 | H76: 13.8 | I76: 3.4 | J76: - | K76: 31 | L76: 69
B77: 全 体 | D77: 2715 | E77: 274 | F77: 931 | G77: 1194 | H77: 234 | I77: 76 | J77: 6 | K77: 1205 | L77: 1504
D78: 100 | E78: 10.1 | F78: 34.3 | G78: 44 | H78: 8.6 | I78: 2.8 | J78: 0.2 | K78: 44.4 | L78: 55.4
B79: 幼児期の教育（３- ５歳） | C79: 幼稚園・認可保育所・認定こども園 | D79: 2564 | E79: 257 | F79: 879 | G79: 1128 | H79: 224 | I79: 72 | J79: 4 | K79: 1136 | L79: 1424
D80: 100 | E80: 10 | F80: 34.3 | G80: 44 | H80: 8.7 | I80: 2.8 | J80: 0.2 | K80: 44.3 | L80: 55.5
C81: その他の教育・保育等の施設 | D81: 96 | E81: 10 | F81: 35 | G81: 42 | H81: 4 | I81: 3 | J81: 2 | K81: 45 | L81: 49
D82: 100 | E82: 10.4 | F82: 36.5 | G82: 43.8 | H82: 4.2 | I82: 3.1 | J82: 2.1 | K82: 46.9 | L82: 51
C83: 親・親族以外の個人 | D83: 2 | E83: - | F83: 2 | G83: - | H83: - | I83: - | J83: - | K83: 2 | L83: -
D84: 100 | E84: - | F84: 100 | G84: - | H84: - | I84: - | J84: - | K84: 100 | L84: -
C85: もっぱら親・親族が面倒を見ていた | D85: 35 | E85: 5 | F85: 9 | G85: 16 | H85: 4 | I85: 1 | J85: - | K85: 14 | L85: 21
D86: 100 | E86: 14.3 | F86: 25.7 | G86: 45.7 | H86: 11.4 | I86: 2.9 | J86: - | K86: 40 | L86: 60
C87: 不明・無回答 | D87: 18 | E87: 2 | F87: 6 | G87: 8 | H87: 2 | I87: - | J87: - | K87: 8 | L87: 10
D88: 100 | E88: 11.1 | F88: 33.3 | G88: 44.4 | H88: 11.1 | I88: - | J88: - | K88: 44.4 | L88: 55.6
B89: 全 体 | D89: 2715 | E89: 274 | F89: 931 | G89: 1194 | H89: 234 | I89: 76 | J89: 6 | K89: 1205 | L89: 1504
D90: 100 | E90: 10.1 | F90: 34.3 | G90: 44 | H90: 8.6 | I90: 2.8 | J90: 0.2 | K90: 44.4 | L90: 55.4
B91: 保護者の関わり方 a．テレビ・ゲーム・インターネット等の視聴時間等のルールを決めている | C91: あてはまる | D91: 666 | E91: 96 | F91: 257 | G91: 262 | H91: 41 | I91: 9 | J91: 1 | K91: 353 | L91: 312
D92: 100 | E92: 14.4 | F92: 38.6 | G92: 39.3 | H92: 6.2 | I92: 1.4 | J92: 0.2 | K92: 53 | L92: 46.8
C93: どちらかといえば、あてはまる | D93: 1020 | E93: 91 | F93: 371 | G93: 467 | H93: 67 | I93: 22 | J93: 2 | K93: 462 | L93: 556
D94: 100 | E94: 8.9 | F94: 36.4 | G94: 45.8 | H94: 6.6 | I94: 2.2 | J94: 0.2 | K94: 45.3 | L94: 54.5
C95: どちらかといえば、あてはまらない | D95: 606 | E95: 53 | F95: 184 | G95: 268 | H95: 77 | I95: 22 | J95: 2 | K95: 237 | L95: 367
D96: 100 | E96: 8.7 | F96: 30.4 | G96: 44.2 | H96: 12.7 | I96: 3.6 | J96: 0.3 | K96: 39.1 | L96: 60.6
C97: あてはまらない | D97: 407 | E97: 33 | F97: 114 | G97: 189 | H97: 47 | I97: 23 | J97: 1 | K97: 147 | L97: 259
D98: 100 | E98: 8.1 | F98: 28 | G98: 46.4 | H98: 11.5 | I98: 5.7 | J98: 0.2 | K98: 36.1 | L98: 63.6
C99: 不明・無回答 | D99: 16 | E99: 1 | F99: 5 | G99: 8 | H99: 2 | I99: - | J99: - | K99: 6 | L99: 10
D100: 100 | E100: 6.3 | F100: 31.3 | G100: 50 | H100: 12.5 | I100: - | J100: - | K100: 37.5 | L100: 62.5
...

Sheet 06
A1: =HYPERLINK("#目次!A"&ROW(目次!$A$34),"[06]") -> [06]
B2: 【全員の方に】中学生票問５．あなたは、学校の授業がわからないことがありますか。（ＳＡ）
D3: 全 体 | E3: 授業の理解度
E4: いつもわかる | F4: だいたいわかる | G4: 教科によってはわからないことがある | H4: わからないことが多い | I4: ほとんどわからない | J4: 不明・無回答 | K4: いつもわかる・だいたいわかる（計） | L4: 教科によってはわからないことがある・わからないことが多い・ほとんどわからない（計）
B5: 全 体 | D5: 2715 | E5: 274 | F5: 931 | G5: 1194 | H5: 234 | I5: 76 | J5: 6 | K5: 1205 | L5: 1504
D6: 100 | E6: 10.1 | F6: 34.3 | G6: 44 | H6: 8.6 | I6: 2.8 | J6: 0.2 | K6: 44.4 | L6: 55.4
B7: 就寝時間の規則性 | C7: そうである | D7: 920 | E7: 146 | F7: 334 | G7: 367 | H7: 57 | I7: 13 | J7: 3 | K7: 480 | L7: 437
D8: 100 | E8: 15.9 | F8: 36.3 | G8: 39.9 | H8: 6.2 | I8: 1.4 | J8: 0.3 | K8: 52.2 | L8: 47.5
C9: どちらかといえばそうである | D9: 1308 | E9: 107 | F9: 477 | G9: 598 | H9: 99 | I9: 26 | J9: 1 | K9: 584 | L9: 723
D10: 100 | E10: 8.2 | F10: 36.5 | G10: 45.7 | H10: 7.6 | I10: 2 | J10: 0.1 | K10: 44.6 | L10: 55.3
C11: どちらかといえばそうではない | D11: 338 | E11: 15 | F11: 82 | G11: 167 | H11: 58 | I11: 16 | J11: - | K11: 97 | L11: 241
D12: 100 | E12: 4.4 | F12: 24.3 | G12: 49.4 | H12: 17.2 | I12: 4.7 | J12: - | K12: 28.7 | L12: 71.3
C13: そうではない | D13: 132 | E13: 5 | F13: 34 | G13: 54 | H13: 17 | I13: 21 | J13: 1 | K13: 39 | L13: 92
D14: 100 | E14: 3.8 | F14: 25.8 | G14: 40.9 | H14: 12.9 | I14: 15.9 | J14: 0.8 | K14: 29.5 | L14: 69.7
C15: 不明・無回答 | D15: 17 | E15: 1 | F15: 4 | G15: 8 | H15: 3 | I15: - | J15: 1 | K15: 5 | L15: 11
D16: 100 | E16: 5.9 | F16: 23.5 | G16: 47.1 | H16: 17.6 | I16: - | J16: 5.9 | K16: 29.4 | L16: 64.7
C17: そうである・どちらかといえばそうである（計） | D17: 2228 | E17: 253 | F17: 811 | G17: 965 | H17: 156 | I17: 39 | J17: 4 | K17: 1064 | L17: 1160
D18: 100 | E18: 11.4 | F18: 36.4 | G18: 43.3 | H18: 7 | I18: 1.8 | J18: 0.2 | K18: 47.8 | L18: 52.1
C19: そうではない・どちらかといえばそうではない（計） | D19: 470 | E19: 20 | F19: 116 | G19: 221 | H19: 75 | I19: 37 | J19: 1 | K19: 136 | L19: 333
D20: 100 | E20: 4.3 | F20: 24.7 | G20: 47 | H20: 16 | I20: 7.9 | J20: 0.2 | K20: 28.9 | L20: 70.9
B21: 全 体 | D21: 2715 | E21: 274 | F21: 931 | G21: 1194 | H21: 234 | I21: 76 | J21: 6 | K21: 1205 | L21: 1504
D22: 100 | E22: 10.1 | F22: 34.3 | G22: 44 | H22: 8.6 | I22: 2.8 | J22: 0.2 | K22: 44.4 | L22: 55.4
B23: 主観的幸福（生活満足度） | C23: ０：まったく満足していない | D23: 35 | E23: 5 | F23: 2 | G23: 16 | H23: 5 | I23: 6 | J23: 1 | K23: 7 | L23: 27
D24: 100 | E24: 14.3 | F24: 5.7 | G24: 45.7 | H24: 14.3 | I24: 17.1 | J24: 2.9 | K24: 20 | L24: 77.1
C25: １ | D25: 35 | E25: 3 | F25: 8 | G25: 16 | H25: 6 | I25: 2 | J25: - | K25: 11 | L25: 24
D26: 100 | E26: 8.6 | F26: 22.9 | G26: 45.7 | H26: 17.1 | I26: 5.7 | J26: - | K26: 31.4 | L26: 68.6
C27: ２ | D27: 60 | E27: - | F27: 13 | G27: 28 | H27: 13 | I27: 6 | J27: - | K27: 13 | L27: 47
D28: 100 | E28: - | F28: 21.7 | G28: 46.7 | H28: 21.7 | I28: 10 | J28: - | K28: 21.7 | L28: 78.3
C29: ３ | D29: 122 | E29: 7 | F29: 21 | G29: 64 | H29: 22 | I29: 8 | J29: - | K29: 28 | L29: 94
D30: 100 | E30: 5.7 | F30: 17.2 | G30: 52.5 | H30: 18 | I30: 6.6 | J30: - | K30: 23 | L30: 77
C31: ４ | D31: 166 | E31: 10 | F31: 41 | G31: 79 | H31: 27 | I31: 9 | J31: - | K31: 51 | L31: 115
D32: 100 | E32: 6 | F32: 24.7 | G32: 47.6 | H32: 16.3 | I32: 5.4 | J32: - | K32: 30.7 | L32: 69.3
C33: ５ | D33: 351 | E33: 16 | F33: 89 | G33: 188 | H33: 49 | I33: 9 | J33: - | K33: 105 | L33: 246
D34: 100 | E34: 4.6 | F34: 25.4 | G34: 53.6 | H34: 14 | I34: 2.6 | J34: - | K34: 29.9 | L34: 70.1
C35: ６ | D35: 251 | E35: 15 | F35: 88 | G35: 118 | H35: 23 | I35: 7 | J35: - | K35: 103 | L35: 148
D36: 100 | E36: 6 | F36: 35.1 | G36: 47 | H36: 9.2 | I36: 2.8 | J36: - | K36: 41 | L36: 59
C37: ７ | D37: 386 | E37: 33 | F37: 140 | G37: 185 | H37: 20 | I37: 7 | J37: 1 | K37: 173 | L37: 212
D38: 100 | E38: 8.5 | F38: 36.3 | G38: 47.9 | H38: 5.2 | I38: 1.8 | J38: 0.3 | K38: 44.8 | L38: 54.9
C39: ８ | D39: 574 | E39: 67 | F39: 246 | G39: 231 | H39: 24 | I39: 6 | J39: - | K39: 313 | L39: 261
D40: 100 | E40: 11.7 | F40: 42.9 | G40: 40.2 | H40: 4.2 | I40: 1 | J40: - | K40: 54.5 | L40: 45.5
C41: ９ | D41: 299 | E41: 51 | F41: 128 | G41: 98 | H41: 15 | I41: 7 | J41: - | K41: 179 | L41: 120
D42: 100 | E42: 17.1 | F42: 42.8 | G42: 32.8 | H42: 5 | I42: 2.3 | J42: - | K42: 59.9 | L42: 40.1
C43: １０：十分に満足している | D43: 405 | E43: 64 | F43: 145 | G43: 161 | H43: 26 | I43: 9 | J43: - | K43: 209 | L43: 196
D44: 100 | E44: 15.8 | F44: 35.8 | G44: 39.8 | H44: 6.4 | I44: 2.2 | J44: - | K44: 51.6 | L44: 48.4
C45: 0 ～3 （計） | D45: 252 | E45: 15 | F45: 44 | G45: 124 | H45: 46 | I45: 22 | J45: 1 | K45: 59 | L45: 192
D46: 100 | E46: 6 | F46: 17.5 | G46: 49.2 | H46: 18.3 | I46: 8.7 | J46: 0.4 | K46: 23.4 | L46: 76.2
C47: 4 ～6 （計） | D47: 768 | E47: 41 | F47: 218 | G47: 385 | H47: 99 | I47: 25 | J47: - | K47: 259 | L47: 509
D48: 100 | E48: 5.3 | F48: 28.4 | G48: 50.1 | H48: 12.9 | I48: 3.3 | J48: - | K48: 33.7 | L48: 66.3
C49: 7 ～10（計） | D49: 1664 | E49: 215 | F49: 659 | G49: 675 | H49: 85 | I49: 29 | J49: 1 | K49: 874 | L49: 789
D50: 100 | E50: 12.9 | F50: 39.6 | G50: 40.6 | H50: 5.1 | I50: 1.7 | J50: 0.1 | K50: 52.5 | L50: 47.4
C51: 不明・無回答 | D51: 31 | E51: 3 | F51: 10 | G51: 10 | H51: 4 | I51: - | J51: 4 | K51: 13 | L51: 14
D52: 100 | E52: 9.7 | F52: 32.3 | G52: 32.3 | H52: 12.9 | I52: - | J52: 12.9 | K52: 41.9 | L52: 45.2
B53: 全 体 | D53: 2715 | E53: 274 | F53: 931 | G53: 1194 | H53: 234 | I53: 76 | J53: 6 | K53: 1205 | L53: 1504
D54: 100 | E54: 10.1 | F54: 34.3 | G54: 44 | H54: 8.6 | I54: 2.8 | J54: 0.2 | K54: 44.4 | L54: 55.4
B55: 精神状態 a．私は、他人に対して親切にするようにしている。私は、他人の気持ちをよく考える。 | C55: あてはまらない | D55: 112 | E55: 13 | F55: 27 | G55: 48 | H55: 16 | I55: 7 | J55: 1 | K55: 40 | L55: 71
D56: 100 | E56: 11.6 | F56: 24.1 | G56: 42.9 | H56: 14.3 | I56: 6.3 | J56: 0.9 | K56: 35.7 | L56: 63.4
C57: まああてはまる | D57: 1276 | E57: 106 | F57: 465 | G57: 546 | H57: 120 | I57: 38 | J57: 1 | K57: 571 | L57: 704
D58: 100 | E58: 8.3 | F58: 36.4 | G58: 42.8 | H58: 9.4 | I58: 3 | J58: 0.1 | K58: 44.7 | L58: 55.2
C59: あてはまる | D59: 1307 | E59: 154 | F59: 436 | G59: 589 | H59: 96 | I59: 30 | J59: 2 | K59: 590 | L59: 715
D60: 100 | E60: 11.8 | F60: 33.4 | G60: 45.1 | H60: 7.3 | I60: 2.3 | J60: 0.2 | K60: 45.1 | L60: 54.7
C61: 不明・無回答 | D61: 20 | E61: 1 | F61: 3 | G61: 11 | H61: 2 | I61: 1 | J61: 2 | K61: 4 | L61: 14
D62: 100 | E62: 5 | F62: 15 | G62: 55 | H62: 10 | I62: 5 | J62: 10 | K62: 20 | L62: 70
C63: あてはまる・まああてはまる（計） | D63: 2583 | E63: 260 | F63: 901 | G63: 1135 | H63: 216 | I63: 68 | J63: 3 | K63: 1161 | L63: 1419
D64: 100 | E64: 10.1 | F64: 34.9 | G64: 43.9 | H64: 8.4 | I64: 2.6 | J64: 0.1 | K64: 44.9 | L64: 54.9
B65: 全 体 | D65: 2715 | E65: 274 | F65: 931 | G65: 1194 | H65: 234 | I65: 76 | J65: 6 | K65: 1205 | L65: 1504
D66: 100 | E66: 10.1 | F66: 34.3 | G66: 44 | H66: 8.6 | I66: 2.8 | J66: 0.2 | K66: 44.4 | L66: 55.4
B67: 精神状態 b．私は、よく頭やお腹がいたくなったり、気持ちが悪くなったりする。 | C67: あてはまらない | D67: 1538 | E67: 182 | F67: 578 | G67: 657 | H67: 99 | I67: 20 | J67: 2 | K67: 760 | L67: 776
D68: 100 | E68: 11.8 | F68: 37.6 | G68: 42.7 | H68: 6.4 | I68: 1.3 | J68: 0.1 | K68: 49.4 | L68: 50.5
C69: まああてはまる | D69: 725 | E69: 57 | F69: 235 | G69: 324 | H69: 82 | I69: 26 | J69: 1 | K69: 292 | L69: 432
D70: 100 | E70: 7.9 | F70: 32.4 | G70: 44.7 | H70: 11.3 | I70: 3.6 | J70: 0.1 | K70: 40.3 | L70: 59.6
C71: あてはまる | D71: 435 | E71: 34 | F71: 115 | G71: 205 | H71: 51 | I71: 29 | J71: 1 | K71: 149 | L71: 285
D72: 100 | E72: 7.8 | F72: 26.4 | G72: 47.1 | H72: 11.7 | I72: 6.7 | J72: 0.2 | K72: 34.3 | L72: 65.5
C73: 不明・無回答 | D73: 17 | E73: 1 | F73: 3 | G73: 8 | H73: 2 | I73: 1 | J73: 2 | K73: 4 | L73: 11
D74: 100 | E74: 5.9 | F74: 17.6 | G74: 47.1 | H74: 11.8 | I74: 5.9 | J74: 11.8 | K74: 23.5 | L74: 64.7
C75: あてはまる・まああてはまる（計） | D75: 1160 | E75: 91 | F75: 350 | G75: 529 | H75: 133 | I75: 55 | J75: 2 | K75: 441 | L75: 717
D76: 100 | E76: 7.8 | F76: 30.2 | G76: 45.6 | H76: 11.5 | I76: 4.7 | J76: 0.2 | K76: 38 | L76: 61.8
B77: 全 体 | D77: 2715 | E77: 274 | F77: 931 | G77: 1194 | H77: 234 | I77: 76 | J77: 6 | K77: 1205 | L77: 1504
D78: 100 | E78: 10.1 | F78: 34.3 | G78: 44 | H78: 8.6 | I78: 2.8 | J78: 0.2 | K78: 44.4 | L78: 55.4
B79: 精神状態 c．私は、他の子供たちと、よく分け合う（食べ物・ゲーム・ペンなど）。 | C79: あてはまらない | D79: 723 | E79: 85 | F79: 242 | G79: 300 | H79: 68 | I79: 26 | J79: 2 | K79: 327 | L79: 394
D80: 100 | E80: 11.8 | F80: 33.5 | G80: 41.5 | H80: 9.4 | I80: 3.6 | J80: 0.3 | K80: 45.2 | L80: 54.5
C81: まああてはまる | D81: 1186 | E81: 107 | F81: 425 | G81: 521 | H81: 102 | I81: 30 | J81: 1 | K81: 532 | L81: 653
D82: 100 | E82: 9 | F82: 35.8 | G82: 43.9 | H82: 8.6 | I82: 2.5 | J82: 0.1 | K82: 44.9 | L82: 55.1
C83: あてはまる | D83: 779 | E83: 80 | F83: 258 | G83: 361 | H83: 60 | I83: 19 | J83: 1 | K83: 338 | L83: 440
D84: 100 | E84: 10.3 | F84: 33.1 | G84: 46.3 | H84: 7.7 | I84: 2.4 | J84: 0.1 | K84: 43.4 | L84: 56.5
C85: 不明・無回答 | D85: 27 | E85: 2 | F85: 6 | G85: 12 | H85: 4 | I85: 1 | J85: 2 | K85: 8 | L85: 17
D86: 100 | E86: 7.4 | F86: 22.2 | G86: 44.4 | H86: 14.8 | I86: 3.7 | J86: 7.4 | K86: 29.6 | L86: 63
C87: あてはまる・まああてはまる（計） | D87: 1965 | E87: 187 | F87: 683 | G87: 882 | H87: 162 | I87: 49 | J87: 2 | K87: 870 | L87: 1093
D88: 100 | E88: 9.5 | F88: 34.8 | G88: 44.9 | H88: 8.2 | I88: 2.5 | J88: 0.1 | K88: 44.3 | L88: 55.6
B89: 全 体 | D89: 2715 | E89: 274 | F89: 931 | G89: 1194 | H89: 234 | I89: 76 | J89: 6 | K89: 1205 | L89: 1504
D90: 100 | E90: 10.1 | F90: 34.3 | G90: 44 | H90: 8.6 | I90: 2.8 | J90: 0.2 | K90: 44.4 | L90: 55.4
B91: 精神状態 d．私は、たいてい一人でいる。だいたいいつも一人で遊ぶか、人と付き合うことを避ける。 | C91: あてはまらない | D91: 1970 | E91: 208 | F91: 719 | G91: 869 | H91: 135 | I91: 37 | J91: 2 | K91: 927 | L91: 1041
D92: 100 | E92: 10.6 | F92: 36.5 | G92: 44.1 | H92: 6.9 | I92: 1.9 | J92: 0.1 | K92: 47.1 | L92: 52.8
C93: まああてはまる | D93: 528 | E93: 44 | F93: 162 | G93: 239 | H93: 68 | I93: 15 | J93: - | K93: 206 | L93: 322
D94: 100 | E94: 8.3 | F94: 30.7 | G94: 45.3 | H94: 12.9 | I94: 2.8 | J94: - | K94: 39 | L94: 61
C95: あてはまる | D95: 200 | E95: 21 | F95: 47 | G95: 78 | H95: 29 | I95: 23 | J95: 2 | K95: 68 | L95: 130
D96: 100 | E96: 10.5 | F96: 23.5 | G96: 39 | H96: 14.5 | I96: 11.5 | J96: 1 | K96: 34 | L96: 65
C97: 不明・無回答 | D97: 17 | E97: 1 | F97: 3 | G97: 8 | H97: 2 | I97: 1 | J97: 2 | K97: 4 | L97: 11
D98: 100 | E98: 5.9 | F98: 17.6 | G98: 47.1 | H98: 11.8 | I98: 5.9 | J98: 11.8 | K98: 23.5 | L98: 64.7
C99: あてはまる・まああてはまる（計） | D99: 728 | E99: 65 | F99: 209 | G99: 317 | H99: 97 | I99: 38 | J99: 2 | K99: 274 | L99: 452
D100: 100 | E100: 8.9 | F100: 28.7 | G100: 43.5 | H100: 13.3 | I100: 5.2 | J100: 0.3 | K100: 37.6 | L100: 62.1
...

Sheet 07
A1: =HYPERLINK("#目次!A"&ROW(目次!$A$56),"[07]") -> [07]
B2: 【問５で３～５と答えた方に】中学生票問６．いつごろから、授業がわからないことがあるようになりましたか。（ＳＡ）
D3: 全 体 | E3: 授業についていけなくなった時期
E4: 小学１・２年生のころ | F4: 小学３・４年生のころ | G4: 小学５・６年生のころ | H4: 中学１年生のころ | I4: 中学２年生になってから | J4: 不明・無回答
B5: 全 体 | D5: 1504 | E5: 45 | F5: 103 | G5: 268 | H5: 759 | I5: 326 | J5: 3
D6: 100 | E6: 3 | F6: 6.8 | G6: 17.8 | H6: 50.5 | I6: 21.7 | J6: 0.2
B7: 世帯収入 | C7: 50万円未満 | D7: 7 | E7: - | F7: - | G7: 1 | H7: 4 | I7: 2 | J7: -
D8: 100 | E8: - | F8: - | G8: 14.3 | H8: 57.1 | I8: 28.6 | J8: -
C9: 50~100万円未満 | D9: 22 | E9: 1 | F9: - | G9: 5 | H9: 14 | I9: 2 | J9: -
D10: 100 | E10: 4.5 | F10: - | G10: 22.7 | H10: 63.6 | I10: 9.1 | J10: -
C11: 100~150 万円未満 | D11: 36 | E11: 1 | F11: 4 | G11: 6 | H11: 21 | I11: 4 | J11: -
D12: 100 | E12: 2.8 | F12: 11.1 | G12: 16.7 | H12: 58.3 | I12: 11.1 | J12: -
C13: 150~200 万円未満 | D13: 50 | E13: - | F13: 4 | G13: 12 | H13: 28 | I13: 6 | J13: -
D14: 100 | E14: - | F14: 8 | G14: 24 | H14: 56 | I14: 12 | J14: -
C15: 200~250 万円未満 | D15: 61 | E15: 1 | F15: 2 | G15: 14 | H15: 36 | I15: 8 | J15: -
D16: 100 | E16: 1.6 | F16: 3.3 | G16: 23 | H16: 59 | I16: 13.1 | J16: -
C17: 250~300 万円未満 | D17: 71 | E17: 2 | F17: 6 | G17: 13 | H17: 37 | I17: 13 | J17: -
D18: 100 | E18: 2.8 | F18: 8.5 | G18: 18.3 | H18: 52.1 | I18: 18.3 | J18: -
C19: 300~350 万円未満 | D19: 72 | E19: 2 | F19: 8 | G19: 13 | H19: 35 | I19: 12 | J19: 2
D20: 100 | E20: 2.8 | F20: 11.1 | G20: 18.1 | H20: 48.6 | I20: 16.7 | J20: 2.8
C21: 350~400 万円未満 | D21: 93 | E21: 2 | F21: 4 | G21: 16 | H21: 53 | I21: 18 | J21: -
D22: 100 | E22: 2.2 | F22: 4.3 | G22: 17.2 | H22: 57 | I22: 19.4 | J22: -
C23: 400~450 万円未満 | D23: 103 | E23: 4 | F23: 9 | G23: 17 | H23: 48 | I23: 25 | J23: -
D24: 100 | E24: 3.9 | F24: 8.7 | G24: 16.5 | H24: 46.6 | I24: 24.3 | J24: -
C25: 450~500 万円未満 | D25: 104 | E25: 5 | F25: 5 | G25: 17 | H25: 50 | I25: 27 | J25: -
D26: 100 | E26: 4.8 | F26: 4.8 | G26: 16.3 | H26: 48.1 | I26: 26 | J26: -
C27: 500~600 万円未満 | D27: 202 | E27: 6 | F27: 20 | G27: 39 | H27: 94 | I27: 42 | J27: 1
D28: 100 | E28: 3 | F28: 9.9 | G28: 19.3 | H28: 46.5 | I28: 20.8 | J28: 0.5
C29: 600~700 万円未満 | D29: 154 | E29: 4 | F29: 9 | G29: 22 | H29: 88 | I29: 31 | J29: -
D30: 100 | E30: 2.6 | F30: 5.8 | G30: 14.3 | H30: 57.1 | I30: 20.1 | J30: -
C31: 700~800 万円未満 | D31: 151 | E31: 1 | F31: 12 | G31: 26 | H31: 74 | I31: 38 | J31: -
D32: 100 | E32: 0.7 | F32: 7.9 | G32: 17.2 | H32: 49 | I32: 25.2 | J32: -
C33: 800~900 万円未満 | D33: 86 | E33: 3 | F33: 5 | G33: 14 | H33: 41 | I33: 23 | J33: -
D34: 100 | E34: 3.5 | F34: 5.8 | G34: 16.3 | H34: 47.7 | I34: 26.7 | J34: -
C35: 900~1000万円未満 | D35: 101 | E35: 4 | F35: 7 | G35: 22 | H35: 45 | I35: 23 | J35: -
D36: 100 | E36: 4 | F36: 6.9 | G36: 21.8 | H36: 44.6 | I36: 22.8 | J36: -
C37: 1000万円以上 | D37: 152 | E37: 7 | F37: 3 | G37: 23 | H37: 77 | I37: 42 | J37: -
D38: 100 | E38: 4.6 | F38: 2 | G38: 15.1 | H38: 50.7 | I38: 27.6 | J38: -
C39: 不明・無回答 | D39: 39 | E39: 2 | F39: 5 | G39: 8 | H39: 14 | I39: 10 | J39: -
D40: 100 | E40: 5.1 | F40: 12.8 | G40: 20.5 | H40: 35.9 | I40: 25.6 | J40: -
C41: 200 万円未満（計） | D41: 115 | E41: 2 | F41: 8 | G41: 24 | H41: 67 | I41: 14 | J41: -
D42: 100 | E42: 1.7 | F42: 7 | G42: 20.9 | H42: 58.3 | I42: 12.2 | J42: -
C43: 200~400 万円未満（計） | D43: 297 | E43: 7 | F43: 20 | G43: 56 | H43: 161 | I43: 51 | J43: 2
D44: 100 | E44: 2.4 | F44: 6.7 | G44: 18.9 | H44: 54.2 | I44: 17.2 | J44: 0.7
C45: 400~600 万円未満（計） | D45: 409 | E45: 15 | F45: 34 | G45: 73 | H45: 192 | I45: 94 | J45: 1
D46: 100 | E46: 3.7 | F46: 8.3 | G46: 17.8 | H46: 46.9 | I46: 23 | J46: 0.2
C47: 600 万円~800万円未満（計） | D47: 305 | E47: 5 | F47: 21 | G47: 48 | H47: 162 | I47: 69 | J47: -
D48: 100 | E48: 1.6 | F48: 6.9 | G48: 15.7 | H48: 53.1 | I48: 22.6 | J48: -
C49: 800 万円以上（計） | D49: 339 | E49: 14 | F49: 15 | G49: 59 | H49: 163 | I49: 88 | J49: -
D50: 100 | E50: 4.1 | F50: 4.4 | G50: 17.4 | H50: 48.1 | I50: 26 | J50: -

Sheet 08
A1: =HYPERLINK("#目次!A"&ROW(目次!$A$57),"[08]") -> [08]
B2: 【全員の方に】中学生票問７．あなたは、将来、どの段階まで進学したいですか。（ＳＡ）
D3: 全 体 | E3: 進学希望
E4: 中学まで | F4: 高校まで | G4: 短大・高専・専門学校まで | H4: 大学またはそれ以上 | I4: まだわからない | J4: 不明・無回答
B5: 全 体 | D5: 2715 | E5: 7 | F5: 401 | G5: 443 | H5: 1349 | I5: 495 | J5: 20
D6: 100 | E6: 0.3 | F6: 14.8 | G6: 16.3 | H6: 49.7 | I6: 18.2 | J6: 0.7
B7: 世帯収入 | C7: 50万円未満 | D7: 8 | E7: - | F7: 3 | G7: 2 | H7: 3 | I7: - | J7: -
D8: 100 | E8: - | F8: 37.5 | G8: 25 | H8: 37.5 | I8: - | J8: -
C9: 50~100万円未満 | D9: 27 | E9: 1 | F9: 10 | G9: 3 | H9: 5 | I9: 7 | J9: 1
D10: 100 | E10: 3.7 | F10: 37 | G10: 11.1 | H10: 18.5 | I10: 25.9 | J10: 3.7
C11: 100~150 万円未満 | D11: 52 | E11: - | F11: 20 | G11: 9 | H11: 12 | I11: 11 | J11: -
D12: 100 | E12: - | F12: 38.5 | G12: 17.3 | H12: 23.1 | I12: 21.2 | J12: -
C13: 150~200 万円未満 | D13: 64 | E13: 1 | F13: 17 | G13: 8 | H13: 24 | I13: 13 | J13: 1
D14: 100 | E14: 1.6 | F14: 26.6 | G14: 12.5 | H14: 37.5 | I14: 20.3 | J14: 1.6
C15: 200~250 万円未満 | D15: 91 | E15: - | F15: 22 | G15: 18 | H15: 31 | I15: 19 | J15: 1
D16: 100 | E16: - | F16: 24.2 | G16: 19.8 | H16: 34.1 | I16: 20.9 | J16: 1.1
C17: 250~300 万円未満 | D17: 98 | E17: 1 | F17: 33 | G17: 20 | H17: 27 | I17: 17 | J17: -
D18: 100 | E18: 1 | F18: 33.7 | G18: 20.4 | H18: 27.6 | I18: 17.3 | J18: -
C19: 300~350 万円未満 | D19: 114 | E19: - | F19: 31 | G19: 25 | H19: 39 | I19: 19 | J19: -
D20: 100 | E20: - | F20: 27.2 | G20: 21.9 | H20: 34.2 | I20: 16.7 | J20: -
C21: 350~400 万円未満 | D21: 138 | E21: 2 | F21: 32 | G21: 23 | H21: 42 | I21: 37 | J21: 2
D22: 100 | E22: 1.4 | F22: 23.2 | G22: 16.7 | H22: 30.4 | I22: 26.8 | J22: 1.4
C23: 400~450 万円未満 | D23: 148 | E23: - | F23: 25 | G23: 27 | H23: 54 | I23: 41 | J23: 1
D24: 100 | E24: - | F24: 16.9 | G24: 18.2 | H24: 36.5 | I24: 27.7 | J24: 0.7
C25: 450~500 万円未満 | D25: 179 | E25: - | F25: 28 | G25: 30 | H25: 77 | I25: 40 | J25: 4
D26: 100 | E26: - | F26: 15.6 | G26: 16.8 | H26: 43 | I26: 22.3 | J26: 2.2
C27: 500~600 万円未満 | D27: 330 | E27: - | F27: 57 | G27: 78 | H27: 130 | I27: 64 | J27: 1
D28: 100 | E28: - | F28: 17.3 | G28: 23.6 | H28: 39.4 | I28: 19.4 | J28: 0.3
C29: 600~700 万円未満 | D29: 286 | E29: - | F29: 37 | G29: 52 | H29: 149 | I29: 45 | J29: 3
D30: 100 | E30: - | F30: 12.9 | G30: 18.2 | H30: 52.1 | I30: 15.7 | J30: 1
C31: 700~800 万円未満 | D31: 303 | E31: - | F31: 26 | G31: 49 | H31: 172 | I31: 54 | J31: 2
D32: 100 | E32: - | F32: 8.6 | G32: 16.2 | H32: 56.8 | I32: 17.8 | J32: 0.7
C33: 800~900 万円未満 | D33: 194 | E33: - | F33: 18 | G33: 25 | H33: 115 | I33: 36 | J33: -
D34: 100 | E34: - | F34: 9.3 | G34: 12.9 | H34: 59.3 | I34: 18.6 | J34: -
C35: 900~1000万円未満 | D35: 208 | E35: 1 | F35: 16 | G35: 24 | H35: 132 | I35: 33 | J35: 2
D36: 100 | E36: 0.5 | F36: 7.7 | G36: 11.5 | H36: 63.5 | I36: 15.9 | J36: 1
C37: 1000万円以上 | D37: 415 | E37: 1 | F37: 20 | G37: 40 | H37: 306 | I37: 47 | J37: 1
D38: 100 | E38: 0.2 | F38: 4.8 | G38: 9.6 | H38: 73.7 | I38: 11.3 | J38: 0.2
C39: 不明・無回答 | D39: 60 | E39: - | F39: 6 | G39: 10 | H39: 31 | I39: 12 | J39: 1
D40: 100 | E40: - | F40: 10 | G40: 16.7 | H40: 51.7 | I40: 20 | J40: 1.7
C41: 200 万円未満（計） | D41: 151 | E41: 2 | F41: 50 | G41: 22 | H41: 44 | I41: 31 | J41: 2
D42: 100 | E42: 1.3 | F42: 33.1 | G42: 14.6 | H42: 29.1 | I42: 20.5 | J42: 1.3
C43: 200~400 万円未満（計） | D43: 441 | E43: 3 | F43: 118 | G43: 86 | H43: 139 | I43: 92 | J43: 3
D44: 100 | E44: 0.7 | F44: 26.8 | G44: 19.5 | H44: 31.5 | I44: 20.9 | J44: 0.7
C45: 400~600 万円未満（計） | D45: 657 | E45: - | F45: 110 | G45: 135 | H45: 261 | I45: 145 | J45: 6
D46: 100 | E46: - | F46: 16.7 | G46: 20.5 | H46: 39.7 | I46: 22.1 | J46: 0.9
C47: 600 万円~800万円未満（計） | D47: 589 | E47: - | F47: 63 | G47: 101 | H47: 321 | I47: 99 | J47: 5
D48: 100 | E48: - | F48: 10.7 | G48: 17.1 | H48: 54.5 | I48: 16.8 | J48: 0.8
C49: 800 万円以上（計） | D49: 817 | E49: 2 | F49: 54 | G49: 89 | H49: 553 | I49: 116 | J49: 3
D50: 100 | E50: 0.2 | F50: 6.6 | G50: 10.9 | H50: 67.7 | I50: 14.2 | J50: 0.4
B51: 全 体 | D51: 2715 | E51: 7 | F51: 401 | G51: 443 | H51: 1349 | I51: 495 | J51: 20
D52: 100 | E52: 0.3 | F52: 14.8 | G52: 16.3 | H52: 49.7 | I52: 18.2 | J52: 0.7
B53: 進学の見通し | C53: 中学まで | D53: 13 | E53: 3 | F53: 4 | G53: - | H53: 2 | I53: 4 | J53: -
D54: 100 | E54: 23.1 | F54: 30.8 | G54: - | H54: 15.4 | I54: 30.8 | J54: -
C55: 高校まで | D55: 443 | E55: 1 | F55: 260 | G55: 47 | H55: 36 | I55: 89 | J55: 10
D56: 100 | E56: 0.2 | F56: 58.7 | G56: 10.6 | H56: 8.1 | I56: 20.1 | J56: 2.3
C57: 短大・高専・専門学校まで | D57: 534 | E57: 2 | F57: 62 | G57: 272 | H57: 88 | I57: 108 | J57: 2
D58: 100 | E58: 0.4 | F58: 11.6 | G58: 50.9 | H58: 16.5 | I58: 20.2 | J58: 0.4
C59: 大学またはそれ以上 | D59: 1361 | E59: 1 | F59: 17 | G59: 68 | H59: 1112 | I59: 159 | J59: 4
D60: 100 | E60: 0.1 | F60: 1.2 | G60: 5 | H60: 81.7 | I60: 11.7 | J60: 0.3
C61: まだわからない | D61: 348 | E61: - | F61: 53 | G61: 54 | H61: 105 | I61: 133 | J61: 3
D62: 100 | E62: - | F62: 15.2 | G62: 15.5 | H62: 30.2 | I62: 38.2 | J62: 0.9
C63: 不明・無回答 | D63: 16 | E63: - | F63: 5 | G63: 2 | H63: 6 | I63: 2 | J63: 1
D64: 100 | E64: - | F64: 31.3 | G64: 12.5 | H64: 37.5 | I64: 12.5 | J64: 6.3

Sheet 09
A1: =HYPERLINK("#目次!A"&ROW(目次!$A$59),"[09]") -> [09]
B2: 【問７で１～４と答えた方に】中学生票問８．その理由を答えてください。（ＭＡ）
D3: 全 体 | E3: 進学希望（理由）
E4: 希望する学校や職業があるから | F4: 自分の成績から考えて | G4: 親がそう言っているから | H4: 兄・姉がそうしているから | I4: まわりの先輩や友達がそうしているから | J4: 家にお金がないと思うから | K4: 早く働く必要があるから | L4: その他 | M4: とくに理由はない | N4: 不明・無回答
B5: 全 体 | D5: 2200 | E5: 1185 | F5: 415 | G5: 406 | H5: 130 | I5: 126 | J5: 72 | K5: 91 | L5: 195 | M5: 375 | N5: 28
D6: 100 | E6: 53.9 | F6: 18.9 | G6: 18.5 | H6: 5.9 | I6: 5.7 | J6: 3.3 | K6: 4.1 | L6: 8.9 | M6: 17 | N6: 1.3
B7: 世帯収入 | C7: 50万円未満 | D7: 8 | E7: 2 | F7: 2 | G7: 2 | H7: 1 | I7: 1 | J7: - | K7: 3 | L7: - | M7: 1 | N7: -
D8: 100 | E8: 25 | F8: 25 | G8: 25 | H8: 12.5 | I8: 12.5 | J8: - | K8: 37.5 | L8: - | M8: 12.5 | N8: -
C9: 50~100万円未満 | D9: 19 | E9: 7 | F9: 3 | G9: 3 | H9: 3 | I9: 1 | J9: 2 | K9: 2 | L9: - | M9: 3 | N9: -
D10: 100 | E10: 36.8 | F10: 15.8 | G10: 15.8 | H10: 15.8 | I10: 5.3 | J10: 10.5 | K10: 10.5 | L10: - | M10: 15.8 | N10: -
C11: 100~150 万円未満 | D11: 41 | E11: 16 | F11: 7 | G11: 3 | H11: 3 | I11: - | J11: 4 | K11: 6 | L11: 3 | M11: 11 | N11: 2
D12: 100 | E12: 39 | F12: 17.1 | G12: 7.3 | H12: 7.3 | I12: - | J12: 9.8 | K12: 14.6 | L12: 7.3 | M12: 26.8 | N12: 4.9
C13: 150~200 万円未満 | D13: 50 | E13: 27 | F13: 10 | G13: 5 | H13: 2 | I13: 1 | J13: 8 | K13: 4 | L13: 7 | M13: 6 | N13: -
D14: 100 | E14: 54 | F14: 20 | G14: 10 | H14: 4 | I14: 2 | J14: 16 | K14: 8 | L14: 14 | M14: 12 | N14: -
C15: 200~250 万円未満 | D15: 71 | E15: 35 | F15: 11 | G15: 8 | H15: 4 | I15: 4 | J15: 3 | K15: 4 | L15: 10 | M15: 14 | N15: 1
D16: 100 | E16: 49.3 | F16: 15.5 | G16: 11.3 | H16: 5.6 | I16: 5.6 | J16: 4.2 | K16: 5.6 | L16: 14.1 | M16: 19.7 | N16: 1.4
C17: 250~300 万円未満 | D17: 81 | E17: 43 | F17: 16 | G17: 14 | H17: 4 | I17: 1 | J17: 8 | K17: 9 | L17: 9 | M17: 13 | N17: 1
D18: 100 | E18: 53.1 | F18: 19.8 | G18: 17.3 | H18: 4.9 | I18: 1.2 | J18: 9.9 | K18: 11.1 | L18: 11.1 | M18: 16 | N18: 1.2
C19: 300~350 万円未満 | D19: 95 | E19: 51 | F19: 15 | G19: 13 | H19: 5 | I19: 3 | J19: 2 | K19: 5 | L19: 9 | M19: 20 | N19: 4
D20: 100 | E20: 53.7 | F20: 15.8 | G20: 13.7 | H20: 5.3 | I20: 3.2 | J20: 2.1 | K20: 5.3 | L20: 9.5 | M20: 21.1 | N20: 4.2
C21: 350~400 万円未満 | D21: 99 | E21: 55 | F21: 22 | G21: 18 | H21: 6 | I21: 5 | J21: 7 | K21: 5 | L21: 10 | M21: 17 | N21: -
D22: 100 | E22: 55.6 | F22: 22.2 | G22: 18.2 | H22: 6.1 | I22: 5.1 | J22: 7.1 | K22: 5.1 | L22: 10.1 | M22: 17.2 | N22: -
C23: 400~450 万円未満 | D23: 106 | E23: 52 | F23: 24 | G23: 22 | H23: 4 | I23: 5 | J23: 3 | K23: 5 | L23: 5 | M23: 18 | N23: 2
D24: 100 | E24: 49.1 | F24: 22.6 | G24: 20.8 | H24: 3.8 | I24: 4.7 | J24: 2.8 | K24: 4.7 | L24: 4.7 | M24: 17 | N24: 1.9
C25: 450~500 万円未満 | D25: 135 | E25: 71 | F25: 19 | G25: 22 | H25: 6 | I25: 7 | J25: 2 | K25: 6 | L25: 10 | M25: 23 | N25: 4
D26: 100 | E26: 52.6 | F26: 14.1 | G26: 16.3 | H26: 4.4 | I26: 5.2 | J26: 1.5 | K26: 4.4 | L26: 7.4 | M26: 17 | N26: 3
C27: 500~600 万円未満 | D27: 265 | E27: 138 | F27: 51 | G27: 53 | H27: 12 | I27: 13 | J27: 14 | K27: 7 | L27: 22 | M27: 50 | N27: -
D28: 100 | E28: 52.1 | F28: 19.2 | G28: 20 | H28: 4.5 | I28: 4.9 | J28: 5.3 | K28: 2.6 | L28: 8.3 | M28: 18.9 | N28: -
C29: 600~700 万円未満 | D29: 238 | E29: 138 | F29: 44 | G29: 43 | H29: 12 | I29: 14 | J29: 7 | K29: 6 | L29: 23 | M29: 35 | N29: 2
D30: 100 | E30: 58 | F30: 18.5 | G30: 18.1 | H30: 5 | I30: 5.9 | J30: 2.9 | K30: 2.5 | L30: 9.7 | M30: 14.7 | N30: 0.8
C31: 700~800 万円未満 | D31: 247 | E31: 150 | F31: 48 | G31: 50 | H31: 12 | I31: 18 | J31: 4 | K31: 7 | L31: 16 | M31: 32 | N31: 3
D32: 100 | E32: 60.7 | F32: 19.4 | G32: 20.2 | H32: 4.9 | I32: 7.3 | J32: 1.6 | K32: 2.8 | L32: 6.5 | M32: 13 | N32: 1.2
C33: 800~900 万円未満 | D33: 158 | E33: 82 | F33: 39 | G33: 30 | H33: 11 | I33: 8 | J33: - | K33: 6 | L33: 15 | M33: 32 | N33: 2
D34: 100 | E34: 51.9 | F34: 24.7 | G34: 19 | H34: 7 | I34: 5.1 | J34: - | K34: 3.8 | L34: 9.5 | M34: 20.3 | N34: 1.3
C35: 900~1000万円未満 | D35: 173 | E35: 102 | F35: 31 | G35: 29 | H35: 11 | I35: 16 | J35: 1 | K35: 4 | L35: 13 | M35: 28 | N35: 3
D36: 100 | E36: 59 | F36: 17.9 | G36: 16.8 | H36: 6.4 | I36: 9.2 | J36: 0.6 | K36: 2.3 | L36: 7.5 | M36: 16.2 | N36: 1.7
C37: 1000万円以上 | D37: 367 | E37: 189 | F37: 69 | G37: 81 | H37: 30 | I37: 26 | J37: 5 | K37: 10 | L37: 38 | M37: 63 | N37: 4
D38: 100 | E38: 51.5 | F38: 18.8 | G38: 22.1 | H38: 8.2 | I38: 7.1 | J38: 1.4 | K38: 2.7 | L38: 10.4 | M38: 17.2 | N38: 1.1
C39: 不明・無回答 | D39: 47 | E39: 27 | F39: 4 | G39: 10 | H39: 4 | I39: 3 | J39: 2 | K39: 2 | L39: 5 | M39: 9 | N39: -
D40: 100 | E40: 57.4 | F40: 8.5 | G40: 21.3 | H40: 8.5 | I40: 6.4 | J40: 4.3 | K40: 4.3 | L40: 10.6 | M40: 19.1 | N40: -
C41: 200 万円未満（計） | D41: 118 | E41: 52 | F41: 22 | G41: 13 | H41: 9 | I41: 3 | J41: 14 | K41: 15 | L41: 10 | M41: 21 | N41: 2
D42: 100 | E42: 44.1 | F42: 18.6 | G42: 11 | H42: 7.6 | I42: 2.5 | J42: 11.9 | K42: 12.7 | L42: 8.5 | M42: 17.8 | N42: 1.7
C43: 200~400 万円未満（計） | D43: 346 | E43: 184 | F43: 64 | G43: 53 | H43: 19 | I43: 13 | J43: 20 | K43: 23 | L43: 38 | M43: 64 | N43: 6
D44: 100 | E44: 53.2 | F44: 18.5 | G44: 15.3 | H44: 5.5 | I44: 3.8 | J44: 5.8 | K44: 6.6 | L44: 11 | M44: 18.5 | N44: 1.7
C45: 400~600 万円未満（計） | D45: 506 | E45: 261 | F45: 94 | G45: 97 | H45: 22 | I45: 25 | J45: 19 | K45: 18 | L45: 37 | M45: 91 | N45: 6
D46: 100 | E46: 51.6 | F46: 18.6 | G46: 19.2 | H46: 4.3 | I46: 4.9 | J46: 3.8 | K46: 3.6 | L46: 7.3 | M46: 18 | N46: 1.2
C47: 600 万円~800万円未満（計） | D47: 485 | E47: 288 | F47: 92 | G47: 93 | H47: 24 | I47: 32 | J47: 11 | K47: 13 | L47: 39 | M47: 67 | N47: 5
D48: 100 | E48: 59.4 | F48: 19 | G48: 19.2 | H48: 4.9 | I48: 6.6 | J48: 2.3 | K48: 2.7 | L48: 8 | M48: 13.8 | N48: 1
C49: 800 万円以上（計） | D49: 698 | E49: 373 | F49: 139 | G49: 140 | H49: 52 | I49: 50 | J49: 6 | K49: 20 | L49: 66 | M49: 123 | N49: 9
D50: 100 | E50: 53.4 | F50: 19.9 | G50: 20.1 | H50: 7.4 | I50: 7.2 | J50: 0.9 | K50: 2.9 | L50: 9.5 | M50: 17.6 | N50: 1.3

Sheet 10
A1: =HYPERLINK("#目次!A"&ROW(目次!$A$60),"[10]") -> [10]
B2: 【全員の方に】中学生票問９．あなたは、地域のスポーツクラブや文化クラブ、学校の部活動に参加していますか。（ＳＡ）
D3: 全 体 | E3: 部活動等の状況
E4: 参加している | F4: 参加していない | G4: 不明・無回答
B5: 全 体 | D5: 2715 | E5: 2311 | F5: 396 | G5: 8
D6: 100 | E6: 85.1 | F6: 14.6 | G6: 0.3
B7: 世帯収入 | C7: 50万円未満 | D7: 8 | E7: 5 | F7: 3 | G7: -
D8: 100 | E8: 62.5 | F8: 37.5 | G8: -
C9: 50~100万円未満 | D9: 27 | E9: 22 | F9: 5 | G9: -
D10: 100 | E10: 81.5 | F10: 18.5 | G10: -
C11: 100~150 万円未満 | D11: 52 | E11: 37 | F11: 15 | G11: -
D12: 100 | E12: 71.2 | F12: 28.8 | G12: -
C13: 150~200 万円未満 | D13: 64 | E13: 45 | F13: 18 | G13: 1
D14: 100 | E14: 70.3 | F14: 28.1 | G14: 1.6
C15: 200~250 万円未満 | D15: 91 | E15: 72 | F15: 19 | G15: -
D16: 100 | E16: 79.1 | F16: 20.9 | G16: -
C17: 250~300 万円未満 | D17: 98 | E17: 74 | F17: 23 | G17: 1
D18: 100 | E18: 75.5 | F18: 23.5 | G18: 1
C19: 300~350 万円未満 | D19: 114 | E19: 96 | F19: 18 | G19: -
D20: 100 | E20: 84.2 | F20: 15.8 | G20: -
C21: 350~400 万円未満 | D21: 138 | E21: 114 | F21: 24 | G21: -
D22: 100 | E22: 82.6 | F22: 17.4 | G22: -
C23: 400~450 万円未満 | D23: 148 | E23: 123 | F23: 24 | G23: 1
D24: 100 | E24: 83.1 | F24: 16.2 | G24: 0.7
C25: 450~500 万円未満 | D25: 179 | E25: 157 | F25: 21 | G25: 1
D26: 100 | E26: 87.7 | F26: 11.7 | G26: 0.6
C27: 500~600 万円未満 | D27: 330 | E27: 282 | F27: 47 | G27: 1
D28: 100 | E28: 85.5 | F28: 14.2 | G28: 0.3
C29: 600~700 万円未満 | D29: 286 | E29: 257 | F29: 29 | G29: -
D30: 100 | E30: 89.9 | F30: 10.1 | G30: -
C31: 700~800 万円未満 | D31: 303 | E31: 255 | F31: 46 | G31: 2
D32: 100 | E32: 84.2 | F32: 15.2 | G32: 0.7
C33: 800~900 万円未満 | D33: 194 | E33: 171 | F33: 23 | G33: -
D34: 100 | E34: 88.1 | F34: 11.9 | G34: -
C35: 900~1000万円未満 | D35: 208 | E35: 187 | F35: 20 | G35: 1
D36: 100 | E36: 89.9 | F36: 9.6 | G36: 0.5
C37: 1000万円以上 | D37: 415 | E37: 367 | F37: 48 | G37: -
D38: 100 | E38: 88.4 | F38: 11.6 | G38: -
C39: 不明・無回答 | D39: 60 | E39: 47 | F39: 13 | G39: -
D40: 100 | E40: 78.3 | F40: 21.7 | G40: -
C41: 200 万円未満（計） | D41: 151 | E41: 109 | F41: 41 | G41: 1
D42: 100 | E42: 72.2 | F42: 27.2 | G42: 0.7
C43: 200~400 万円未満（計） | D43: 441 | E43: 356 | F43: 84 | G43: 1
D44: 100 | E44: 80.7 | F44: 19 | G44: 0.2
C45: 400~600 万円未満（計） | D45: 657 | E45: 562 | F45: 92 | G45: 3
D46: 100 | E46: 85.5 | F46: 14 | G46: 0.5
C47: 600 万円~800万円未満（計） | D47: 589 | E47: 512 | F47: 75 | G47: 2
D48: 100 | E48: 86.9 | F48: 12.7 | G48: 0.3
C49: 800 万円以上（計） | D49: 817 | E49: 725 | F49: 91 | G49: 1
D50: 100 | E50: 88.7 | F50: 11.1 | G50: 0.1

Sheet 11
A1: =HYPERLINK("#目次!A"&ROW(目次!$A$61),"[11]") -> [11]
B2: 【問９で２と答えた方に】中学生票問１０．参加していない理由は何ですか。（ＭＡ）
D3: 全 体 | E3: 部活動等を行わない理由
E4: 入りたいクラブ・部活動がないから | F4: 塾や習い事が忙しいから | G4: 費用がかかるから | H4: 家の事情( 家族の世話、家事など) があるから | I4: 一緒に入る友達がいないから | J4: その他 | K4: 不明・無回答
B5: 全 体 | D5: 396 | E5: 163 | F5: 59 | G5: 37 | H5: 16 | I5: 27 | J5: 157 | K5: 9
D6: 100 | E6: 41.2 | F6: 14.9 | G6: 9.3 | H6: 4 | I6: 6.8 | J6: 39.6 | K6: 2.3
B7: 世帯収入 | C7: 50万円未満 | D7: 3 | E7: 1 | F7: - | G7: 1 | H7: 1 | I7: - | J7: - | K7: -
D8: 100 | E8: 33.3 | F8: - | G8: 33.3 | H8: 33.3 | I8: - | J8: - | K8: -
C9: 50~100万円未満 | D9: 5 | E9: 2 | F9: 1 | G9: 1 | H9: 1 | I9: - | J9: 1 | K9: 1
D10: 100 | E10: 40 | F10: 20 | G10: 20 | H10: 20 | I10: - | J10: 20 | K10: 20
C11: 100~150 万円未満 | D11: 15 | E11: 2 | F11: 1 | G11: 3 | H11: 1 | I11: - | J11: 9 | K11: 1
D12: 100 | E12: 13.3 | F12: 6.7 | G12: 20 | H12: 6.7 | I12: - | J12: 60 | K12: 6.7
C13: 150~200 万円未満 | D13: 18 | E13: 8 | F13: - | G13: 2 | H13: 1 | I13: 2 | J13: 9 | K13: -
D14: 100 | E14: 44.4 | F14: - | G14: 11.1 | H14: 5.6 | I14: 11.1 | J14: 50 | K14: -
C15: 200~250 万円未満 | D15: 19 | E15: 8 | F15: 3 | G15: 2 | H15: - | I15: 2 | J15: 10 | K15: -
D16: 100 | E16: 42.1 | F16: 15.8 | G16: 10.5 | H16: - | I16: 10.5 | J16: 52.6 | K16: -
C17: 250~300 万円未満 | D17: 23 | E17: 8 | F17: 1 | G17: 5 | H17: 3 | I17: 2 | J17: 7 | K17: 1
D18: 100 | E18: 34.8 | F18: 4.3 | G18: 21.7 | H18: 13 | I18: 8.7 | J18: 30.4 | K18: 4.3
C19: 300~350 万円未満 | D19: 18 | E19: 7 | F19: 2 | G19: 3 | H19: - | I19: 2 | J19: 6 | K19: -
D20: 100 | E20: 38.9 | F20: 11.1 | G20: 16.7 | H20: - | I20: 11.1 | J20: 33.3 | K20: -
C21: 350~400 万円未満 | D21: 24 | E21: 13 | F21: 3 | G21: - | H21: 1 | I21: - | J21: 9 | K21: -
D22: 100 | E22: 54.2 | F22: 12.5 | G22: - | H22: 4.2 | I22: - | J22: 37.5 | K22: -
C23: 400~450 万円未満 | D23: 24 | E23: 10 | F23: 2 | G23: 2 | H23: 2 | I23: - | J23: 9 | K23: 1
D24: 100 | E24: 41.7 | F24: 8.3 | G24: 8.3 | H24: 8.3 | I24: - | J24: 37.5 | K24: 4.2
C25: 450~500 万円未満 | D25: 21 | E25: 7 | F25: 3 | G25: 2 | H25: 2 | I25: 3 | J25: 11 | K25: 1
D26: 100 | E26: 33.3 | F26: 14.3 | G26: 9.5 | H26: 9.5 | I26: 14.3 | J26: 52.4 | K26: 4.8
C27: 500~600 万円未満 | D27: 47 | E27: 19 | F27: 1 | G27: 6 | H27: - | I27: 2 | J27: 26 | K27: 1
D28: 100 | E28: 40.4 | F28: 2.1 | G28: 12.8 | H28: - | I28: 4.3 | J28: 55.3 | K28: 2.1
C29: 600~700 万円未満 | D29: 29 | E29: 15 | F29: 4 | G29: 3 | H29: - | I29: 1 | J29: 10 | K29: -
D30: 100 | E30: 51.7 | F30: 13.8 | G30: 10.3 | H30: - | I30: 3.4 | J30: 34.5 | K30: -
C31: 700~800 万円未満 | D31: 46 | E31: 22 | F31: 12 | G31: 2 | H31: - | I31: 4 | J31: 16 | K31: -
D32: 100 | E32: 47.8 | F32: 26.1 | G32: 4.3 | H32: - | I32: 8.7 | J32: 34.8 | K32: -
C33: 800~900 万円未満 | D33: 23 | E33: 7 | F33: 10 | G33: 1 | H33: 1 | I33: 2 | J33: 6 | K33: -
D34: 100 | E34: 30.4 | F34: 43.5 | G34: 4.3 | H34: 4.3 | I34: 8.7 | J34: 26.1 | K34: -
C35: 900~1000万円未満 | D35: 20 | E35: 9 | F35: 3 | G35: 1 | H35: - | I35: 2 | J35: 7 | K35: -
D36: 100 | E36: 45 | F36: 15 | G36: 5 | H36: - | I36: 10 | J36: 35 | K36: -
C37: 1000万円以上 | D37: 48 | E37: 21 | F37: 12 | G37: 1 | H37: 3 | I37: 2 | J37: 15 | K37: 2
D38: 100 | E38: 43.8 | F38: 25 | G38: 2.1 | H38: 6.3 | I38: 4.2 | J38: 31.3 | K38: 4.2
C39: 不明・無回答 | D39: 13 | E39: 4 | F39: 1 | G39: 2 | H39: - | I39: 3 | J39: 6 | K39: 1
D40: 100 | E40: 30.8 | F40: 7.7 | G40: 15.4 | H40: - | I40: 23.1 | J40: 46.2 | K40: 7.7
C41: 200 万円未満（計） | D41: 41 | E41: 13 | F41: 2 | G41: 7 | H41: 4 | I41: 2 | J41: 19 | K41: 2
D42: 100 | E42: 31.7 | F42: 4.9 | G42: 17.1 | H42: 9.8 | I42: 4.9 | J42: 46.3 | K42: 4.9
C43: 200~400 万円未満（計） | D43: 84 | E43: 36 | F43: 9 | G43: 10 | H43: 4 | I43: 6 | J43: 32 | K43: 1
D44: 100 | E44: 42.9 | F44: 10.7 | G44: 11.9 | H44: 4.8 | I44: 7.1 | J44: 38.1 | K44: 1.2
C45: 400~600 万円未満（計） | D45: 92 | E45: 36 | F45: 6 | G45: 10 | H45: 4 | I45: 5 | J45: 46 | K45: 3
D46: 100 | E46: 39.1 | F46: 6.5 | G46: 10.9 | H46: 4.3 | I46: 5.4 | J46: 50 | K46: 3.3
C47: 600 万円~800万円未満（計） | D47: 75 | E47: 37 | F47: 16 | G47: 5 | H47: - | I47: 5 | J47: 26 | K47: -
D48: 100 | E48: 49.3 | F48: 21.3 | G48: 6.7 | H48: - | I48: 6.7 | J48: 34.7 | K48: -
C49: 800 万円以上（計） | D49: 91 | E49: 37 | F49: 25 | G49: 3 | H49: 4 | I49: 6 | J49: 28 | K49: 2
D50: 100 | E50: 40.7 | F50: 27.5 | G50: 3.3 | H50: 4.4 | I50: 6.6 | J50: 30.8 | K50: 2.2

Sheet 12
A1: =HYPERLINK("#目次!A"&ROW(目次!$A$62),"[12]") -> [12]
B2: 【全員の方に】中学生票問１１．あなたは週にどのくらい、食事をしていますか。（ＳＡ）
D3: 全 体 | E3: 食事の頻度 a．朝食 | J3: 全 体 | K3: 食事の頻度 b．夕食 | P3: 全 体 | Q3: 食事の頻度 c．夏休みや冬休みなどの期間の昼食
E4: 毎日食べる（週７日） | F4: 週５～６日 | G4: 週３～４日 | H4: 週１～２日、ほとんど食べない | I4: 不明・無回答 | K4: 毎日食べる（週７日） | L4: 週５～６日 | M4: 週３～４日 | N4: 週１～２日、ほとんど食べない | O4: 不明・無回答 | Q4: 毎日食べる（週７日） | R4: 週５～６日 | S4: 週３～４日 | T4: 週１～２日、ほとんど食べない | U4: 不明・無回答
B5: 全 体 | D5: 2715 | E5: 2227 | F5: 280 | G5: 76 | H5: 125 | I5: 7 | J5: 2715 | K5: 2658 | L5: 38 | M5: 8 | N5: 1 | O5: 10 | P5: 2715 | Q5: 2420 | R5: 194 | S5: 73 | T5: 15 | U5: 13
D6: 100 | E6: 82 | F6: 10.3 | G6: 2.8 | H6: 4.6 | I6: 0.3 | J6: 100 | K6: 97.9 | L6: 1.4 | M6: 0.3 | N6: 0 | O6: 0.4 | P6: 100 | Q6: 89.1 | R6: 7.1 | S6: 2.7 | T6: 0.6 | U6: 0.5
B7: 世帯収入 | C7: 50万円未満 | D7: 8 | E7: 4 | F7: 2 | G7: 1 | H7: 1 | I7: - | J7: 8 | K7: 8 | L7: - | M7: - | N7: - | O7: - | P7: 8 | Q7: 7 | R7: 1 | S7: - | T7: - | U7: -
D8: 100 | E8: 50 | F8: 25 | G8: 12.5 | H8: 12.5 | I8: - | J8: 100 | K8: 100 | L8: - | M8: - | N8: - | O8: - | P8: 100 | Q8: 87.5 | R8: 12.5 | S8: - | T8: - | U8: -
C9: 50~100万円未満 | D9: 27 | E9: 18 | F9: 3 | G9: 2 | H9: 4 | I9: - | J9: 27 | K9: 27 | L9: - | M9: - | N9: - | O9: - | P9: 27 | Q9: 20 | R9: 6 | S9: 1 | T9: - | U9: -
D10: 100 | E10: 66.7 | F10: 11.1 | G10: 7.4 | H10: 14.8 | I10: - | J10: 100 | K10: 100 | L10: - | M10: - | N10: - | O10: - | P10: 100 | Q10: 74.1 | R10: 22.2 | S10: 3.7 | T10: - | U10: -
C11: 100~150 万円未満 | D11: 52 | E11: 38 | F11: 5 | G11: 4 | H11: 5 | I11: - | J11: 52 | K11: 51 | L11: 1 | M11: - | N11: - | O11: - | P11: 52 | Q11: 43 | R11: 7 | S11: 1 | T11: 1 | U11: -
D12: 100 | E12: 73.1 | F12: 9.6 | G12: 7.7 | H12: 9.6 | I12: - | J12: 100 | K12: 98.1 | L12: 1.9 | M12: - | N12: - | O12: - | P12: 100 | Q12: 82.7 | R12: 13.5 | S12: 1.9 | T12: 1.9 | U12: -
C13: 150~200 万円未満 | D13: 64 | E13: 39 | F13: 13 | G13: 4 | H13: 7 | I13: 1 | J13: 64 | K13: 62 | L13: 1 | M13: - | N13: - | O13: 1 | P13: 64 | Q13: 47 | R13: 10 | S13: 5 | T13: 1 | U13: 1
D14: 100 | E14: 60.9 | F14: 20.3 | G14: 6.3 | H14: 10.9 | I14: 1.6 | J14: 100 | K14: 96.9 | L14: 1.6 | M14: - | N14: - | O14: 1.6 | P14: 100 | Q14: 73.4 | R14: 15.6 | S14: 7.8 | T14: 1.6 | U14: 1.6
C15: 200~250 万円未満 | D15: 91 | E15: 65 | F15: 13 | G15: 4 | H15: 9 | I15: - | J15: 91 | K15: 85 | L15: 5 | M15: 1 | N15: - | O15: - | P15: 91 | Q15: 76 | R15: 9 | S15: 5 | T15: - | U15: 1
D16: 100 | E16: 71.4 | F16: 14.3 | G16: 4.4 | H16: 9.9 | I16: - | J16: 100 | K16: 93.4 | L16: 5.5 | M16: 1.1 | N16: - | O16: - | P16: 100 | Q16: 83.5 | R16: 9.9 | S16: 5.5 | T16: - | U16: 1.1
C17: 250~300 万円未満 | D17: 98 | E17: 75 | F17: 13 | G17: 5 | H17: 5 | I17: - | J17: 98 | K17: 96 | L17: 2 | M17: - | N17: - | O17: - | P17: 98 | Q17: 87 | R17: 8 | S17: 3 | T17: - | U17: -
D18: 100 | E18: 76.5 | F18: 13.3 | G18: 5.1 | H18: 5.1 | I18: - | J18: 100 | K18: 98 | L18: 2 | M18: - | N18: - | O18: - | P18: 100 | Q18: 88.8 | R18: 8.2 | S18: 3.1 | T18: - | U18: -
C19: 300~350 万円未満 | D19: 114 | E19: 78 | F19: 17 | G19: 9 | H19: 10 | I19: - | J19: 114 | K19: 110 | L19: 3 | M19: - | N19: - | O19: 1 | P19: 114 | Q19: 96 | R19: 7 | S19: 6 | T19: 3 | U19: 2
D20: 100 | E20: 68.4 | F20: 14.9 | G20: 7.9 | H20: 8.8 | I20: - | J20: 100 | K20: 96.5 | L20: 2.6 | M20: - | N20: - | O20: 0.9 | P20: 100 | Q20: 84.2 | R20: 6.1 | S20: 5.3 | T20: 2.6 | U20: 1.8
C21: 350~400 万円未満 | D21: 138 | E21: 104 | F21: 27 | G21: 3 | H21: 4 | I21: - | J21: 138 | K21: 135 | L21: 3 | M21: - | N21: - | O21: - | P21: 138 | Q21: 122 | R21: 10 | S21: 4 | T21: 2 | U21: -
D22: 100 | E22: 75.4 | F22: 19.6 | G22: 2.2 | H22: 2.9 | I22: - | J22: 100 | K22: 97.8 | L22: 2.2 | M22: - | N22: - | O22: - | P22: 100 | Q22: 88.4 | R22: 7.2 | S22: 2.9 | T22: 1.4 | U22: -
C23: 400~450 万円未満 | D23: 148 | E23: 121 | F23: 16 | G23: 6 | H23: 4 | I23: 1 | J23: 148 | K23: 141 | L23: 3 | M23: 2 | N23: 1 | O23: 1 | P23: 148 | Q23: 127 | R23: 15 | S23: 4 | T23: 1 | U23: 1
D24: 100 | E24: 81.8 | F24: 10.8 | G24: 4.1 | H24: 2.7 | I24: 0.7 | J24: 100 | K24: 95.3 | L24: 2 | M24: 1.4 | N24: 0.7 | O24: 0.7 | P24: 100 | Q24: 85.8 | R24: 10.1 | S24: 2.7 | T24: 0.7 | U24: 0.7
C25: 450~500 万円未満 | D25: 179 | E25: 154 | F25: 15 | G25: 5 | H25: 3 | I25: 2 | J25: 179 | K25: 175 | L25: 2 | M25: - | N25: - | O25: 2 | P25: 179 | Q25: 163 | R25: 10 | S25: 2 | T25: 1 | U25: 3
D26: 100 | E26: 86 | F26: 8.4 | G26: 2.8 | H26: 1.7 | I26: 1.1 | J26: 100 | K26: 97.8 | L26: 1.1 | M26: - | N26: - | O26: 1.1 | P26: 100 | Q26: 91.1 | R26: 5.6 | S26: 1.1 | T26: 0.6 | U26: 1.7
C27: 500~600 万円未満 | D27: 330 | E27: 263 | F27: 40 | G27: 10 | H27: 17 | I27: - | J27: 330 | K27: 324 | L27: 4 | M27: 1 | N27: - | O27: 1 | P27: 330 | Q27: 296 | R27: 20 | S27: 10 | T27: 3 | U27: 1
D28: 100 | E28: 79.7 | F28: 12.1 | G28: 3 | H28: 5.2 | I28: - | J28: 100 | K28: 98.2 | L28: 1.2 | M28: 0.3 | N28: - | O28: 0.3 | P28: 100 | Q28: 89.7 | R28: 6.1 | S28: 3 | T28: 0.9 | U28: 0.3
C29: 600~700 万円未満 | D29: 286 | E29: 241 | F29: 26 | G29: 2 | H29: 16 | I29: 1 | J29: 286 | K29: 281 | L29: 3 | M29: 1 | N29: - | O29: 1 | P29: 286 | Q29: 257 | R29: 19 | S29: 9 | T29: - | U29: 1
D30: 100 | E30: 84.3 | F30: 9.1 | G30: 0.7 | H30: 5.6 | I30: 0.3 | J30: 100 | K30: 98.3 | L30: 1 | M30: 0.3 | N30: - | O30: 0.3 | P30: 100 | Q30: 89.9 | R30: 6.6 | S30: 3.1 | T30: - | U30: 0.3
C31: 700~800 万円未満 | D31: 303 | E31: 254 | F31: 28 | G31: 9 | H31: 12 | I31: - | J31: 303 | K31: 300 | L31: 3 | M31: - | N31: - | O31: - | P31: 303 | Q31: 284 | R31: 12 | S31: 7 | T31: - | U31: -
D32: 100 | E32: 83.8 | F32: 9.2 | G32: 3 | H32: 4 | I32: - | J32: 100 | K32: 99 | L32: 1 | M32: - | N32: - | O32: - | P32: 100 | Q32: 93.7 | R32: 4 | S32: 2.3 | T32: - | U32: -
C33: 800~900 万円未満 | D33: 194 | E33: 173 | F33: 9 | G33: 4 | H33: 8 | I33: - | J33: 194 | K33: 192 | L33: 1 | M33: 1 | N33: - | O33: - | P33: 194 | Q33: 182 | R33: 8 | S33: 4 | T33: - | U33: -
D34: 100 | E34: 89.2 | F34: 4.6 | G34: 2.1 | H34: 4.1 | I34: - | J34: 100 | K34: 99 | L34: 0.5 | M34: 0.5 | N34: - | O34: - | P34: 100 | Q34: 93.8 | R34: 4.1 | S34: 2.1 | T34: - | U34: -
C35: 900~1000万円未満 | D35: 208 | E35: 181 | F35: 13 | G35: 4 | H35: 9 | I35: 1 | J35: 208 | K35: 206 | L35: - | M35: 1 | N35: - | O35: 1 | P35: 208 | Q35: 183 | R35: 18 | S35: 6 | T35: - | U35: 1
D36: 100 | E36: 87 | F36: 6.3 | G36: 1.9 | H36: 4.3 | I36: 0.5 | J36: 100 | K36: 99 | L36: - | M36: 0.5 | N36: - | O36: 0.5 | P36: 100 | Q36: 88 | R36: 8.7 | S36: 2.9 | T36: - | U36: 0.5
C37: 1000万円以上 | D37: 415 | E37: 367 | F37: 37 | G37: 3 | H37: 7 | I37: 1 | J37: 415 | K37: 406 | L37: 6 | M37: 1 | N37: - | O37: 2 | P37: 415 | Q37: 379 | R37: 27 | S37: 5 | T37: 2 | U37: 2
D38: 100 | E38: 88.4 | F38: 8.9 | G38: 0.7 | H38: 1.7 | I38: 0.2 | J38: 100 | K38: 97.8 | L38: 1.4 | M38: 0.2 | N38: - | O38: 0.5 | P38: 100 | Q38: 91.3 | R38: 6.5 | S38: 1.2 | T38: 0.5 | U38: 0.5
C39: 不明・無回答 | D39: 60 | E39: 52 | F39: 3 | G39: 1 | H39: 4 | I39: - | J39: 60 | K39: 59 | L39: 1 | M39: - | N39: - | O39: - | P39: 60 | Q39: 51 | R39: 7 | S39: 1 | T39: 1 | U39: -
D40: 100 | E40: 86.7 | F40: 5 | G40: 1.7 | H40: 6.7 | I40: - | J40: 100 | K40: 98.3 | L40: 1.7 | M40: - | N40: - | O40: - | P40: 100 | Q40: 85 | R40: 11.7 | S40: 1.7 | T40: 1.7 | U40: -
C41: 200 万円未満（計） | D41: 151 | E41: 99 | F41: 23 | G41: 11 | H41: 17 | I41: 1 | J41: 151 | K41: 148 | L41: 2 | M41: - | N41: - | O41: 1 | P41: 151 | Q41: 117 | R41: 24 | S41: 7 | T41: 2 | U41: 1
D42: 100 | E42: 65.6 | F42: 15.2 | G42: 7.3 | H42: 11.3 | I42: 0.7 | J42: 100 | K42: 98 | L42: 1.3 | M42: - | N42: - | O42: 0.7 | P42: 100 | Q42: 77.5 | R42: 15.9 | S42: 4.6 | T42: 1.3 | U42: 0.7
C43: 200~400 万円未満（計） | D43: 441 | E43: 322 | F43: 70 | G43: 21 | H43: 28 | I43: - | J43: 441 | K43: 426 | L43: 13 | M43: 1 | N43: - | O43: 1 | P43: 441 | Q43: 381 | R43: 34 | S43: 18 | T43: 5 | U43: 3
D44: 100 | E44: 73 | F44: 15.9 | G44: 4.8 | H44: 6.3 | I44: - | J44: 100 | K44: 96.6 | L44: 2.9 | M44: 0.2 | N44: - | O44: 0.2 | P44: 100 | Q44: 86.4 | R44: 7.7 | S44: 4.1 | T44: 1.1 | U44: 0.7
C45: 400~600 万円未満（計） | D45: 657 | E45: 538 | F45: 71 | G45: 21 | H45: 24 | I45: 3 | J45: 657 | K45: 640 | L45: 9 | M45: 3 | N45: 1 | O45: 4 | P45: 657 | Q45: 586 | R45: 45 | S45: 16 | T45: 5 | U45: 5
D46: 100 | E46: 81.9 | F46: 10.8 | G46: 3.2 | H46: 3.7 | I46: 0.5 | J46: 100 | K46: 97.4 | L46: 1.4 | M46: 0.5 | N46: 0.2 | O46: 0.6 | P46: 100 | Q46: 89.2 | R46: 6.8 | S46: 2.4 | T46: 0.8 | U46: 0.8
C47: 600 万円~800万円未満（計） | D47: 589 | E47: 495 | F47: 54 | G47: 11 | H47: 28 | I47: 1 | J47: 589 | K47: 581 | L47: 6 | M47: 1 | N47: - | O47: 1 | P47: 589 | Q47: 541 | R47: 31 | S47: 16 | T47: - | U47: 1
D48: 100 | E48: 84 | F48: 9.2 | G48: 1.9 | H48: 4.8 | I48: 0.2 | J48: 100 | K48: 98.6 | L48: 1 | M48: 0.2 | N48: - | O48: 0.2 | P48: 100 | Q48: 91.9 | R48: 5.3 | S48: 2.7 | T48: - | U48: 0.2
C49: 800 万円以上（計） | D49: 817 | E49: 721 | F49: 59 | G49: 11 | H49: 24 | I49: 2 | J49: 817 | K49: 804 | L49: 7 | M49: 3 | N49: - | O49: 3 | P49: 817 | Q49: 744 | R49: 53 | S49: 15 | T49: 2 | U49: 3
D50: 100 | E50: 88.2 | F50: 7.2 | G50: 1.3 | H50: 2.9 | I50: 0.2 | J50: 100 | K50: 98.4 | L50: 0.9 | M50: 0.4 | N50: - | O50: 0.4 | P50: 100 | Q50: 91.1 | R50: 6.5 | S50: 1.8 | T50: 0.2 | U50: 0.4

Sheet 13
A1: =HYPERLINK("#目次!A"&ROW(目次!$A$65),"[13]") -> [13]
B2: 【全員の方に】中学生票問１２．あなたは、ふだん(月曜日～金曜日)、ほぼ同じ時間に寝ていますか。（ＳＡ）
D3: 全 体 | E3: 就寝時間の規則性
E4: そうである | F4: どちらかといえばそうである | G4: どちらかといえばそうではない | H4: そうではない | I4: 不明・無回答 | J4: そうである・どちらかといえばそうである（計） | K4: そうではない・どちらかといえばそうではない（計）
B5: 全 体 | D5: 2715 | E5: 920 | F5: 1308 | G5: 338 | H5: 132 | I5: 17 | J5: 2228 | K5: 470
D6: 100 | E6: 33.9 | F6: 48.2 | G6: 12.4 | H6: 4.9 | I6: 0.6 | J6: 82.1 | K6: 17.3
B7: 世帯収入 | C7: 50万円未満 | D7: 8 | E7: 3 | F7: 3 | G7: - | H7: 2 | I7: - | J7: 6 | K7: 2
D8: 100 | E8: 37.5 | F8: 37.5 | G8: - | H8: 25 | I8: - | J8: 75 | K8: 25
C9: 50~100万円未満 | D9: 27 | E9: 7 | F9: 12 | G9: 5 | H9: 2 | I9: 1 | J9: 19 | K9: 7
D10: 100 | E10: 25.9 | F10: 44.4 | G10: 18.5 | H10: 7.4 | I10: 3.7 | J10: 70.4 | K10: 25.9
C11: 100~150 万円未満 | D11: 52 | E11: 12 | F11: 30 | G11: 7 | H11: 3 | I11: - | J11: 42 | K11: 10
D12: 100 | E12: 23.1 | F12: 57.7 | G12: 13.5 | H12: 5.8 | I12: - | J12: 80.8 | K12: 19.2
C13: 150~200 万円未満 | D13: 64 | E13: 12 | F13: 31 | G13: 16 | H13: 5 | I13: - | J13: 43 | K13: 21
D14: 100 | E14: 18.8 | F14: 48.4 | G14: 25 | H14: 7.8 | I14: - | J14: 67.2 | K14: 32.8
C15: 200~250 万円未満 | D15: 91 | E15: 31 | F15: 43 | G15: 10 | H15: 7 | I15: - | J15: 74 | K15: 17
D16: 100 | E16: 34.1 | F16: 47.3 | G16: 11 | H16: 7.7 | I16: - | J16: 81.3 | K16: 18.7
C17: 250~300 万円未満 | D17: 98 | E17: 27 | F17: 52 | G17: 13 | H17: 5 | I17: 1 | J17: 79 | K17: 18
D18: 100 | E18: 27.6 | F18: 53.1 | G18: 13.3 | H18: 5.1 | I18: 1 | J18: 80.6 | K18: 18.4
C19: 300~350 万円未満 | D19: 114 | E19: 32 | F19: 53 | G19: 18 | H19: 9 | I19: 2 | J19: 85 | K19: 27
D20: 100 | E20: 28.1 | F20: 46.5 | G20: 15.8 | H20: 7.9 | I20: 1.8 | J20: 74.6 | K20: 23.7
C21: 350~400 万円未満 | D21: 138 | E21: 39 | F21: 65 | G21: 19 | H21: 12 | I21: 3 | J21: 104 | K21: 31
D22: 100 | E22: 28.3 | F22: 47.1 | G22: 13.8 | H22: 8.7 | I22: 2.2 | J22: 75.4 | K22: 22.5
C23: 400~450 万円未満 | D23: 148 | E23: 46 | F23: 71 | G23: 24 | H23: 6 | I23: 1 | J23: 117 | K23: 30
D24: 100 | E24: 31.1 | F24: 48 | G24: 16.2 | H24: 4.1 | I24: 0.7 | J24: 79.1 | K24: 20.3
C25: 450~500 万円未満 | D25: 179 | E25: 59 | F25: 89 | G25: 24 | H25: 5 | I25: 2 | J25: 148 | K25: 29
D26: 100 | E26: 33 | F26: 49.7 | G26: 13.4 | H26: 2.8 | I26: 1.1 | J26: 82.7 | K26: 16.2
C27: 500~600 万円未満 | D27: 330 | E27: 108 | F27: 160 | G27: 40 | H27: 21 | I27: 1 | J27: 268 | K27: 61
D28: 100 | E28: 32.7 | F28: 48.5 | G28: 12.1 | H28: 6.4 | I28: 0.3 | J28: 81.2 | K28: 18.5
C29: 600~700 万円未満 | D29: 286 | E29: 104 | F29: 133 | G29: 39 | H29: 10 | I29: - | J29: 237 | K29: 49
D30: 100 | E30: 36.4 | F30: 46.5 | G30: 13.6 | H30: 3.5 | I30: - | J30: 82.9 | K30: 17.1
C31: 700~800 万円未満 | D31: 303 | E31: 114 | F31: 145 | G31: 29 | H31: 13 | I31: 2 | J31: 259 | K31: 42
D32: 100 | E32: 37.6 | F32: 47.9 | G32: 9.6 | H32: 4.3 | I32: 0.7 | J32: 85.5 | K32: 13.9
C33: 800~900 万円未満 | D33: 194 | E33: 74 | F33: 90 | G33: 18 | H33: 11 | I33: 1 | J33: 164 | K33: 29
D34: 100 | E34: 38.1 | F34: 46.4 | G34: 9.3 | H34: 5.7 | I34: 0.5 | J34: 84.5 | K34: 14.9
C35: 900~1000万円未満 | D35: 208 | E35: 63 | F35: 108 | G35: 29 | H35: 7 | I35: 1 | J35: 171 | K35: 36
D36: 100 | E36: 30.3 | F36: 51.9 | G36: 13.9 | H36: 3.4 | I36: 0.5 | J36: 82.2 | K36: 17.3
C37: 1000万円以上 | D37: 415 | E37: 165 | F37: 200 | G37: 36 | H37: 12 | I37: 2 | J37: 365 | K37: 48
D38: 100 | E38: 39.8 | F38: 48.2 | G38: 8.7 | H38: 2.9 | I38: 0.5 | J38: 88 | K38: 11.6
C39: 不明・無回答 | D39: 60 | E39: 24 | F39: 23 | G39: 11 | H39: 2 | I39: - | J39: 47 | K39: 13
D40: 100 | E40: 40 | F40: 38.3 | G40: 18.3 | H40: 3.3 | I40: - | J40: 78.3 | K40: 21.7
C41: 200 万円未満（計） | D41: 151 | E41: 34 | F41: 76 | G41: 28 | H41: 12 | I41: 1 | J41: 110 | K41: 40
D42: 100 | E42: 22.5 | F42: 50.3 | G42: 18.5 | H42: 7.9 | I42: 0.7 | J42: 72.8 | K42: 26.5
C43: 200~400 万円未満（計） | D43: 441 | E43: 129 | F43: 213 | G43: 60 | H43: 33 | I43: 6 | J43: 342 | K43: 93
D44: 100 | E44: 29.3 | F44: 48.3 | G44: 13.6 | H44: 7.5 | I44: 1.4 | J44: 77.6 | K44: 21.1
C45: 400~600 万円未満（計） | D45: 657 | E45: 213 | F45: 320 | G45: 88 | H45: 32 | I45: 4 | J45: 533 | K45: 120
D46: 100 | E46: 32.4 | F46: 48.7 | G46: 13.4 | H46: 4.9 | I46: 0.6 | J46: 81.1 | K46: 18.3
C47: 600 万円~800万円未満（計） | D47: 589 | E47: 218 | F47: 278 | G47: 68 | H47: 23 | I47: 2 | J47: 496 | K47: 91
D48: 100 | E48: 37 | F48: 47.2 | G48: 11.5 | H48: 3.9 | I48: 0.3 | J48: 84.2 | K48: 15.4
C49: 800 万円以上（計） | D49: 817 | E49: 302 | F49: 398 | G49: 83 | H49: 30 | I49: 4 | J49: 700 | K49: 113
D50: 100 | E50: 37 | F50: 48.7 | G50: 10.2 | H50: 3.7 | I50: 0.5 | J50: 85.7 | K50: 13.8

Sheet 14
A1: =HYPERLINK("#目次!A"&ROW(目次!$A$66),"[14]") -> [14]
B2: 【全員の方に】中学生票問１３．あなたに困っていることや悩みごとがあるとき、あなたが相談できると思う人はだれですか。（ＭＡ）
D3: 全 体 | E3: 信頼できる大人・友人
E4: 親 | F4: きょうだい | G4: 祖父母など | H4: 学校の先生 | I4: 学校の友達 | J4: 学校外の友達 | K4: スクールカウンセラー、スクールソーシャルワーカーなど | L4: その他の大人( 塾・習い事の先生、地域の人など) | M4: ネットで知り合った人 | N4: だれにも相談できない、相談したくない | O4: 不明・無回答
B5: 全 体 | D5: 2715 | E5: 1768 | F5: 571 | G5: 315 | H5: 635 | I5: 1827 | J5: 377 | K5: 111 | L5: 184 | M5: 136 | N5: 241 | O5: 27
D6: 100 | E6: 65.1 | F6: 21 | G6: 11.6 | H6: 23.4 | I6: 67.3 | J6: 13.9 | K6: 4.1 | L6: 6.8 | M6: 5 | N6: 8.9 | O6: 1
B7: 世帯収入 | C7: 50万円未満 | D7: 8 | E7: 3 | F7: 3 | G7: - | H7: 1 | I7: 4 | J7: 1 | K7: 2 | L7: - | M7: 1 | N7: 1 | O7: -
D8: 100 | E8: 37.5 | F8: 37.5 | G8: - | H8: 12.5 | I8: 50 | J8: 12.5 | K8: 25 | L8: - | M8: 12.5 | N8: 12.5 | O8: -
C9: 50~100万円未満 | D9: 27 | E9: 15 | F9: 4 | G9: 3 | H9: 4 | I9: 15 | J9: - | K9: - | L9: 1 | M9: 3 | N9: 3 | O9: 1
D10: 100 | E10: 55.6 | F10: 14.8 | G10: 11.1 | H10: 14.8 | I10: 55.6 | J10: - | K10: - | L10: 3.7 | M10: 11.1 | N10: 11.1 | O10: 3.7
C11: 100~150 万円未満 | D11: 52 | E11: 34 | F11: 11 | G11: 5 | H11: 13 | I11: 33 | J11: 7 | K11: - | L11: 4 | M11: 3 | N11: 8 | O11: -
D12: 100 | E12: 65.4 | F12: 21.2 | G12: 9.6 | H12: 25 | I12: 63.5 | J12: 13.5 | K12: - | L12: 7.7 | M12: 5.8 | N12: 15.4 | O12: -
C13: 150~200 万円未満 | D13: 64 | E13: 45 | F13: 14 | G13: 7 | H13: 10 | I13: 37 | J13: 8 | K13: 3 | L13: 4 | M13: 4 | N13: 9 | O13: -
D14: 100 | E14: 70.3 | F14: 21.9 | G14: 10.9 | H14: 15.6 | I14: 57.8 | J14: 12.5 | K14: 4.7 | L14: 6.3 | M14: 6.3 | N14: 14.1 | O14: -
C15: 200~250 万円未満 | D15: 91 | E15: 49 | F15: 15 | G15: 8 | H15: 18 | I15: 56 | J15: 8 | K15: 2 | L15: 5 | M15: 6 | N15: 15 | O15: -
D16: 100 | E16: 53.8 | F16: 16.5 | G16: 8.8 | H16: 19.8 | I16: 61.5 | J16: 8.8 | K16: 2.2 | L16: 5.5 | M16: 6.6 | N16: 16.5 | O16: -
C17: 250~300 万円未満 | D17: 98 | E17: 64 | F17: 17 | G17: 13 | H17: 30 | I17: 62 | J17: 15 | K17: 5 | L17: 3 | M17: 8 | N17: 8 | O17: 1
D18: 100 | E18: 65.3 | F18: 17.3 | G18: 13.3 | H18: 30.6 | I18: 63.3 | J18: 15.3 | K18: 5.1 | L18: 3.1 | M18: 8.2 | N18: 8.2 | O18: 1
C19: 300~350 万円未満 | D19: 114 | E19: 74 | F19: 25 | G19: 17 | H19: 34 | I19: 71 | J19: 19 | K19: 8 | L19: 12 | M19: 10 | N19: 8 | O19: 2
D20: 100 | E20: 64.9 | F20: 21.9 | G20: 14.9 | H20: 29.8 | I20: 62.3 | J20: 16.7 | K20: 7 | L20: 10.5 | M20: 8.8 | N20: 7 | O20: 1.8
C21: 350~400 万円未満 | D21: 138 | E21: 83 | F21: 21 | G21: 10 | H21: 28 | I21: 87 | J21: 20 | K21: 7 | L21: 8 | M21: 9 | N21: 14 | O21: 4
D22: 100 | E22: 60.1 | F22: 15.2 | G22: 7.2 | H22: 20.3 | I22: 63 | J22: 14.5 | K22: 5.1 | L22: 5.8 | M22: 6.5 | N22: 10.1 | O22: 2.9
C23: 400~450 万円未満 | D23: 148 | E23: 94 | F23: 30 | G23: 20 | H23: 32 | I23: 90 | J23: 13 | K23: 9 | L23: 11 | M23: 8 | N23: 19 | O23: 1
D24: 100 | E24: 63.5 | F24: 20.3 | G24: 13.5 | H24: 21.6 | I24: 60.8 | J24: 8.8 | K24: 6.1 | L24: 7.4 | M24: 5.4 | N24: 12.8 | O24: 0.7
C25: 450~500 万円未満 | D25: 179 | E25: 118 | F25: 46 | G25: 16 | H25: 40 | I25: 121 | J25: 27 | K25: 9 | L25: 11 | M25: 8 | N25: 15 | O25: 5
D26: 100 | E26: 65.9 | F26: 25.7 | G26: 8.9 | H26: 22.3 | I26: 67.6 | J26: 15.1 | K26: 5 | L26: 6.1 | M26: 4.5 | N26: 8.4 | O26: 2.8
C27: 500~600 万円未満 | D27: 330 | E27: 205 | F27: 56 | G27: 32 | H27: 88 | I27: 215 | J27: 38 | K27: 12 | L27: 20 | M27: 17 | N27: 41 | O27: 3
D28: 100 | E28: 62.1 | F28: 17 | G28: 9.7 | H28: 26.7 | I28: 65.2 | J28: 11.5 | K28: 3.6 | L28: 6.1 | M28: 5.2 | N28: 12.4 | O28: 0.9
C29: 600~700 万円未満 | D29: 286 | E29: 193 | F29: 57 | G29: 31 | H29: 67 | I29: 210 | J29: 42 | K29: 8 | L29: 13 | M29: 12 | N29: 17 | O29: 1
D30: 100 | E30: 67.5 | F30: 19.9 | G30: 10.8 | H30: 23.4 | I30: 73.4 | J30: 14.7 | K30: 2.8 | L30: 4.5 | M30: 4.2 | N30: 5.9 | O30: 0.3
C31: 700~800 万円未満 | D31: 303 | E31: 207 | F31: 70 | G31: 50 | H31: 65 | I31: 204 | J31: 37 | K31: 15 | L31: 27 | M31: 13 | N31: 26 | O31: 3
D32: 100 | E32: 68.3 | F32: 23.1 | G32: 16.5 | H32: 21.5 | I32: 67.3 | J32: 12.2 | K32: 5 | L32: 8.9 | M32: 4.3 | N32: 8.6 | O32: 1
C33: 800~900 万円未満 | D33: 194 | E33: 132 | F33: 39 | G33: 25 | H33: 46 | I33: 139 | J33: 31 | K33: 7 | L33: 13 | M33: 8 | N33: 10 | O33: 2
D34: 100 | E34: 68 | F34: 20.1 | G34: 12.9 | H34: 23.7 | I34: 71.6 | J34: 16 | K34: 3.6 | L34: 6.7 | M34: 4.1 | N34: 5.2 | O34: 1
C35: 900~1000万円未満 | D35: 208 | E35: 137 | F35: 54 | G35: 24 | H35: 45 | I35: 153 | J35: 40 | K35: 3 | L35: 13 | M35: 11 | N35: 11 | O35: 2
D36: 100 | E36: 65.9 | F36: 26 | G36: 11.5 | H36: 21.6 | I36: 73.6 | J36: 19.2 | K36: 1.4 | L36: 6.3 | M36: 5.3 | N36: 5.3 | O36: 1
C37: 1000万円以上 | D37: 415 | E37: 280 | F37: 93 | G37: 49 | H37: 100 | I37: 295 | J37: 65 | K37: 14 | L37: 34 | M37: 13 | N37: 30 | O37: 2
D38: 100 | E38: 67.5 | F38: 22.4 | G38: 11.8 | H38: 24.1 | I38: 71.1 | J38: 15.7 | K38: 3.4 | L38: 8.2 | M38: 3.1 | N38: 7.2 | O38: 0.5
C39: 不明・無回答 | D39: 60 | E39: 35 | F39: 16 | G39: 5 | H39: 14 | I39: 35 | J39: 6 | K39: 7 | L39: 5 | M39: 2 | N39: 6 | O39: -
D40: 100 | E40: 58.3 | F40: 26.7 | G40: 8.3 | H40: 23.3 | I40: 58.3 | J40: 10 | K40: 11.7 | L40: 8.3 | M40: 3.3 | N40: 10 | O40: -
C41: 200 万円未満（計） | D41: 151 | E41: 97 | F41: 32 | G41: 15 | H41: 28 | I41: 89 | J41: 16 | K41: 5 | L41: 9 | M41: 11 | N41: 21 | O41: 1
D42: 100 | E42: 64.2 | F42: 21.2 | G42: 9.9 | H42: 18.5 | I42: 58.9 | J42: 10.6 | K42: 3.3 | L42: 6 | M42: 7.3 | N42: 13.9 | O42: 0.7
C43: 200~400 万円未満（計） | D43: 441 | E43: 270 | F43: 78 | G43: 48 | H43: 110 | I43: 276 | J43: 62 | K43: 22 | L43: 28 | M43: 33 | N43: 45 | O43: 7
D44: 100 | E44: 61.2 | F44: 17.7 | G44: 10.9 | H44: 24.9 | I44: 62.6 | J44: 14.1 | K44: 5 | L44: 6.3 | M44: 7.5 | N44: 10.2 | O44: 1.6
C45: 400~600 万円未満（計） | D45: 657 | E45: 417 | F45: 132 | G45: 68 | H45: 160 | I45: 426 | J45: 78 | K45: 30 | L45: 42 | M45: 33 | N45: 75 | O45: 9
D46: 100 | E46: 63.5 | F46: 20.1 | G46: 10.4 | H46: 24.4 | I46: 64.8 | J46: 11.9 | K46: 4.6 | L46: 6.4 | M46: 5 | N46: 11.4 | O46: 1.4
C47: 600 万円~800万円未満（計） | D47: 589 | E47: 400 | F47: 127 | G47: 81 | H47: 132 | I47: 414 | J47: 79 | K47: 23 | L47: 40 | M47: 25 | N47: 43 | O47: 4
D48: 100 | E48: 67.9 | F48: 21.6 | G48: 13.8 | H48: 22.4 | I48: 70.3 | J48: 13.4 | K48: 3.9 | L48: 6.8 | M48: 4.2 | N48: 7.3 | O48: 0.7
C49: 800 万円以上（計） | D49: 817 | E49: 549 | F49: 186 | G49: 98 | H49: 191 | I49: 587 | J49: 136 | K49: 24 | L49: 60 | M49: 32 | N49: 51 | O49: 6
D50: 100 | E50: 67.2 | F50: 22.8 | G50: 12 | H50: 23.4 | I50: 71.8 | J50: 16.6 | K50: 2.9 | L50: 7.3 | M50: 3.9 | N50: 6.2 | O50: 0.7

Sheet 15
A1: =HYPERLINK("#目次!A"&ROW(目次!$A$67),"[15]") -> [15]
B2: 【全員の方に】中学生票問１４．全体として、あなたは最近の生活に、どのくらい満足していますか。（ＳＡ）
D3: 全 体 | E3: 主観的幸福（生活満足度）
E4: ０：まったく満足していない | F4: １ | G4: ２ | H4: ３ | I4: ４ | J4: ５ | K4: ６ | L4: ７ | M4: ８ | N4: ９ | O4: １０：十分に満足している | P4: 0 ～3 （計） | Q4: 4 ～6 （計） | R4: 7 ～10（計） | S4: 不明・無回答
B5: 全 体 | D5: 2715 | E5: 35 | F5: 35 | G5: 60 | H5: 122 | I5: 166 | J5: 351 | K5: 251 | L5: 386 | M5: 574 | N5: 299 | O5: 405 | P5: 252 | Q5: 768 | R5: 1664 | S5: 31
D6: 100 | E6: 1.3 | F6: 1.3 | G6: 2.2 | H6: 4.5 | I6: 6.1 | J6: 12.9 | K6: 9.2 | L6: 14.2 | M6: 21.1 | N6: 11 | O6: 14.9 | P6: 9.3 | Q6: 28.3 | R6: 61.3 | S6: 1.1
B7: 世帯収入 | C7: 50万円未満 | D7: 8 | E7: - | F7: - | G7: - | H7: - | I7: - | J7: 3 | K7: - | L7: - | M7: 2 | N7: 2 | O7: 1 | P7: - | Q7: 3 | R7: 5 | S7: -
D8: 100 | E8: - | F8: - | G8: - | H8: - | I8: - | J8: 37.5 | K8: - | L8: - | M8: 25 | N8: 25 | O8: 12.5 | P8: - | Q8: 37.5 | R8: 62.5 | S8: -
C9: 50~100万円未満 | D9: 27 | E9: - | F9: 1 | G9: - | H9: 1 | I9: 2 | J9: 5 | K9: 2 | L9: 4 | M9: 7 | N9: - | O9: 4 | P9: 2 | Q9: 9 | R9: 15 | S9: 1
D10: 100 | E10: - | F10: 3.7 | G10: - | H10: 3.7 | I10: 7.4 | J10: 18.5 | K10: 7.4 | L10: 14.8 | M10: 25.9 | N10: - | O10: 14.8 | P10: 7.4 | Q10: 33.3 | R10: 55.6 | S10: 3.7
C11: 100~150 万円未満 | D11: 52 | E11: 2 | F11: - | G11: 1 | H11: 2 | I11: 4 | J11: 6 | K11: 6 | L11: 8 | M11: 10 | N11: 4 | O11: 7 | P11: 5 | Q11: 16 | R11: 29 | S11: 2
D12: 100 | E12: 3.8 | F12: - | G12: 1.9 | H12: 3.8 | I12: 7.7 | J12: 11.5 | K12: 11.5 | L12: 15.4 | M12: 19.2 | N12: 7.7 | O12: 13.5 | P12: 9.6 | Q12: 30.8 | R12: 55.8 | S12: 3.8
C13: 150~200 万円未満 | D13: 64 | E13: 1 | F13: - | G13: - | H13: 8 | I13: 6 | J13: 10 | K13: 5 | L13: 16 | M13: 9 | N13: - | O13: 9 | P13: 9 | Q13: 21 | R13: 34 | S13: -
D14: 100 | E14: 1.6 | F14: - | G14: - | H14: 12.5 | I14: 9.4 | J14: 15.6 | K14: 7.8 | L14: 25 | M14: 14.1 | N14: - | O14: 14.1 | P14: 14.1 | Q14: 32.8 | R14: 53.1 | S14: -
C15: 200~250 万円未満 | D15: 91 | E15: 2 | F15: - | G15: 5 | H15: 2 | I15: 7 | J15: 11 | K15: 12 | L15: 11 | M15: 20 | N15: 8 | O15: 13 | P15: 9 | Q15: 30 | R15: 52 | S15: -
D16: 100 | E16: 2.2 | F16: - | G16: 5.5 | H16: 2.2 | I16: 7.7 | J16: 12.1 | K16: 13.2 | L16: 12.1 | M16: 22 | N16: 8.8 | O16: 14.3 | P16: 9.9 | Q16: 33 | R16: 57.1 | S16: -
C17: 250~300 万円未満 | D17: 98 | E17: 1 | F17: 1 | G17: 2 | H17: 4 | I17: 9 | J17: 22 | K17: 12 | L17: 15 | M17: 10 | N17: 6 | O17: 15 | P17: 8 | Q17: 43 | R17: 46 | S17: 1
D18: 100 | E18: 1 | F18: 1 | G18: 2 | H18: 4.1 | I18: 9.2 | J18: 22.4 | K18: 12.2 | L18: 15.3 | M18: 10.2 | N18: 6.1 | O18: 15.3 | P18: 8.2 | Q18: 43.9 | R18: 46.9 | S18: 1
C19: 300~350 万円未満 | D19: 114 | E19: 4 | F19: 1 | G19: 4 | H19: 9 | I19: 5 | J19: 18 | K19: 10 | L19: 12 | M19: 18 | N19: 21 | O19: 10 | P19: 18 | Q19: 33 | R19: 61 | S19: 2
D20: 100 | E20: 3.5 | F20: 0.9 | G20: 3.5 | H20: 7.9 | I20: 4.4 | J20: 15.8 | K20: 8.8 | L20: 10.5 | M20: 15.8 | N20: 18.4 | O20: 8.8 | P20: 15.8 | Q20: 28.9 | R20: 53.5 | S20: 1.8
C21: 350~400 万円未満 | D21: 138 | E21: 1 | F21: 2 | G21: 1 | H21: 6 | I21: 12 | J21: 34 | K21: 12 | L21: 15 | M21: 23 | N21: 12 | O21: 17 | P21: 10 | Q21: 58 | R21: 67 | S21: 3
D22: 100 | E22: 0.7 | F22: 1.4 | G22: 0.7 | H22: 4.3 | I22: 8.7 | J22: 24.6 | K22: 8.7 | L22: 10.9 | M22: 16.7 | N22: 8.7 | O22: 12.3 | P22: 7.2 | Q22: 42 | R22: 48.6 | S22: 2.2
C23: 400~450 万円未満 | D23: 148 | E23: 2 | F23: 1 | G23: 6 | H23: 7 | I23: 6 | J23: 22 | K23: 16 | L23: 23 | M23: 29 | N23: 17 | O23: 17 | P23: 16 | Q23: 44 | R23: 86 | S23: 2
D24: 100 | E24: 1.4 | F24: 0.7 | G24: 4.1 | H24: 4.7 | I24: 4.1 | J24: 14.9 | K24: 10.8 | L24: 15.5 | M24: 19.6 | N24: 11.5 | O24: 11.5 | P24: 10.8 | Q24: 29.7 | R24: 58.1 | S24: 1.4
C25: 450~500 万円未満 | D25: 179 | E25: 3 | F25: 4 | G25: 6 | H25: 8 | I25: 11 | J25: 25 | K25: 13 | L25: 25 | M25: 36 | N25: 19 | O25: 25 | P25: 21 | Q25: 49 | R25: 105 | S25: 4
D26: 100 | E26: 1.7 | F26: 2.2 | G26: 3.4 | H26: 4.5 | I26: 6.1 | J26: 14 | K26: 7.3 | L26: 14 | M26: 20.1 | N26: 10.6 | O26: 14 | P26: 11.7 | Q26: 27.4 | R26: 58.7 | S26: 2.2
C27: 500~600 万円未満 | D27: 330 | E27: 3 | F27: 2 | G27: 14 | H27: 11 | I27: 23 | J27: 44 | K27: 36 | L27: 46 | M27: 73 | N27: 36 | O27: 38 | P27: 30 | Q27: 103 | R27: 193 | S27: 4
D28: 100 | E28: 0.9 | F28: 0.6 | G28: 4.2 | H28: 3.3 | I28: 7 | J28: 13.3 | K28: 10.9 | L28: 13.9 | M28: 22.1 | N28: 10.9 | O28: 11.5 | P28: 9.1 | Q28: 31.2 | R28: 58.5 | S28: 1.2
C29: 600~700 万円未満 | D29: 286 | E29: 1 | F29: 7 | G29: 3 | H29: 13 | I29: 13 | J29: 35 | K29: 23 | L29: 46 | M29: 57 | N29: 37 | O29: 49 | P29: 24 | Q29: 71 | R29: 189 | S29: 2
D30: 100 | E30: 0.3 | F30: 2.4 | G30: 1 | H30: 4.5 | I30: 4.5 | J30: 12.2 | K30: 8 | L30: 16.1 | M30: 19.9 | N30: 12.9 | O30: 17.1 | P30: 8.4 | Q30: 24.8 | R30: 66.1 | S30: 0.7
C31: 700~800 万円未満 | D31: 303 | E31: 5 | F31: 4 | G31: 3 | H31: 16 | I31: 23 | J31: 35 | K31: 17 | L31: 43 | M31: 71 | N31: 35 | O31: 49 | P31: 28 | Q31: 75 | R31: 198 | S31: 2
D32: 100 | E32: 1.7 | F32: 1.3 | G32: 1 | H32: 5.3 | I32: 7.6 | J32: 11.6 | K32: 5.6 | L32: 14.2 | M32: 23.4 | N32: 11.6 | O32: 16.2 | P32: 9.2 | Q32: 24.8 | R32: 65.3 | S32: 0.7
C33: 800~900 万円未満 | D33: 194 | E33: 2 | F33: 1 | G33: 3 | H33: 8 | I33: 11 | J33: 20 | K33: 22 | L33: 23 | M33: 39 | N33: 27 | O33: 37 | P33: 14 | Q33: 53 | R33: 126 | S33: 1
D34: 100 | E34: 1 | F34: 0.5 | G34: 1.5 | H34: 4.1 | I34: 5.7 | J34: 10.3 | K34: 11.3 | L34: 11.9 | M34: 20.1 | N34: 13.9 | O34: 19.1 | P34: 7.2 | Q34: 27.3 | R34: 64.9 | S34: 0.5
C35: 900~1000万円未満 | D35: 208 | E35: 1 | F35: 2 | G35: 5 | H35: 7 | I35: 11 | J35: 18 | K35: 24 | L35: 33 | M35: 54 | N35: 21 | O35: 29 | P35: 15 | Q35: 53 | R35: 137 | S35: 3
D36: 100 | E36: 0.5 | F36: 1 | G36: 2.4 | H36: 3.4 | I36: 5.3 | J36: 8.7 | K36: 11.5 | L36: 15.9 | M36: 26 | N36: 10.1 | O36: 13.9 | P36: 7.2 | Q36: 25.5 | R36: 65.9 | S36: 1.4
C37: 1000万円以上 | D37: 415 | E37: 6 | F37: 6 | G37: 7 | H37: 14 | I37: 19 | J37: 31 | K37: 35 | L37: 59 | M37: 104 | N37: 50 | O37: 80 | P37: 33 | Q37: 85 | R37: 293 | S37: 4
D38: 100 | E38: 1.4 | F38: 1.4 | G38: 1.7 | H38: 3.4 | I38: 4.6 | J38: 7.5 | K38: 8.4 | L38: 14.2 | M38: 25.1 | N38: 12 | O38: 19.3 | P38: 8 | Q38: 20.5 | R38: 70.6 | S38: 1
C39: 不明・無回答 | D39: 60 | E39: 1 | F39: 3 | G39: - | H39: 6 | I39: 4 | J39: 12 | K39: 6 | L39: 7 | M39: 12 | N39: 4 | O39: 5 | P39: 10 | Q39: 22 | R39: 28 | S39: -
D40: 100 | E40: 1.7 | F40: 5 | G40: - | H40: 10 | I40: 6.7 | J40: 20 | K40: 10 | L40: 11.7 | M40: 20 | N40: 6.7 | O40: 8.3 | P40: 16.7 | Q40: 36.7 | R40: 46.7 | S40: -
C41: 200 万円未満（計） | D41: 151 | E41: 3 | F41: 1 | G41: 1 | H41: 11 | I41: 12 | J41: 24 | K41: 13 | L41: 28 | M41: 28 | N41: 6 | O41: 21 | P41: 16 | Q41: 49 | R41: 83 | S41: 3
D42: 100 | E42: 2 | F42: 0.7 | G42: 0.7 | H42: 7.3 | I42: 7.9 | J42: 15.9 | K42: 8.6 | L42: 18.5 | M42: 18.5 | N42: 4 | O42: 13.9 | P42: 10.6 | Q42: 32.5 | R42: 55 | S42: 2
C43: 200~400 万円未満（計） | D43: 441 | E43: 8 | F43: 4 | G43: 12 | H43: 21 | I43: 33 | J43: 85 | K43: 46 | L43: 53 | M43: 71 | N43: 47 | O43: 55 | P43: 45 | Q43: 164 | R43: 226 | S43: 6
D44: 100 | E44: 1.8 | F44: 0.9 | G44: 2.7 | H44: 4.8 | I44: 7.5 | J44: 19.3 | K44: 10.4 | L44: 12 | M44: 16.1 | N44: 10.7 | O44: 12.5 | P44: 10.2 | Q44: 37.2 | R44: 51.2 | S44: 1.4
C45: 400~600 万円未満（計） | D45: 657 | E45: 8 | F45: 7 | G45: 26 | H45: 26 | I45: 40 | J45: 91 | K45: 65 | L45: 94 | M45: 138 | N45: 72 | O45: 80 | P45: 67 | Q45: 196 | R45: 384 | S45: 10
D46: 100 | E46: 1.2 | F46: 1.1 | G46: 4 | H46: 4 | I46: 6.1 | J46: 13.9 | K46: 9.9 | L46: 14.3 | M46: 21 | N46: 11 | O46: 12.2 | P46: 10.2 | Q46: 29.8 | R46: 58.4 | S46: 1.5
C47: 600 万円~800万円未満（計） | D47: 589 | E47: 6 | F47: 11 | G47: 6 | H47: 29 | I47: 36 | J47: 70 | K47: 40 | L47: 89 | M47: 128 | N47: 72 | O47: 98 | P47: 52 | Q47: 146 | R47: 387 | S47: 4
D48: 100 | E48: 1 | F48: 1.9 | G48: 1 | H48: 4.9 | I48: 6.1 | J48: 11.9 | K48: 6.8 | L48: 15.1 | M48: 21.7 | N48: 12.2 | O48: 16.6 | P48: 8.8 | Q48: 24.8 | R48: 65.7 | S48: 0.7
C49: 800 万円以上（計） | D49: 817 | E49: 9 | F49: 9 | G49: 15 | H49: 29 | I49: 41 | J49: 69 | K49: 81 | L49: 115 | M49: 197 | N49: 98 | O49: 146 | P49: 62 | Q49: 191 | R49: 556 | S49: 8
D50: 100 | E50: 1.1 | F50: 1.1 | G50: 1.8 | H50: 3.5 | I50: 5 | J50: 8.4 | K50: 9.9 | L50: 14.1 | M50: 24.1 | N50: 12 | O50: 17.9 | P50: 7.6 | Q50: 23.4 | R50: 68.1 | S50: 1
B51: 全 体 | D51: 2715 | E51: 35 | F51: 35 | G51: 60 | H51: 122 | I51: 166 | J51: 351 | K51: 251 | L51: 386 | M51: 574 | N51: 299 | O51: 405 | P51: 252 | Q51: 768 | R51: 1664 | S51: 31
D52: 100 | E52: 1.3 | F52: 1.3 | G52: 2.2 | H52: 4.5 | I52: 6.1 | J52: 12.9 | K52: 9.2 | L52: 14.2 | M52: 21.1 | N52: 11 | O52: 14.9 | P52: 9.3 | Q52: 28.3 | R52: 61.3 | S52: 1.1
B53: 親の婚姻状況 | C53: 結婚している（再婚や事実婚を含む。） | D53: 2358 | E53: 25 | F53: 30 | G53: 48 | H53: 105 | I53: 145 | J53: 294 | K53: 212 | L53: 331 | M53: 519 | N53: 264 | O53: 358 | P53: 208 | Q53: 651 | R53: 1472 | S53: 27
D54: 100 | E54: 1.1 | F54: 1.3 | G54: 2 | H54: 4.5 | I54: 6.1 | J54: 12.5 | K54: 9 | L54: 14 | M54: 22 | N54: 11.2 | O54: 15.2 | P54: 8.8 | Q54: 27.6 | R54: 62.4 | S54: 1.1
C55: 離婚 | D55: 283 | E55: 8 | F55: 5 | G55: 7 | H55: 14 | I55: 18 | J55: 48 | K55: 29 | L55: 45 | M55: 43 | N55: 27 | O55: 36 | P55: 34 | Q55: 95 | R55: 151 | S55: 3
D56: 100 | E56: 2.8 | F56: 1.8 | G56: 2.5 | H56: 4.9 | I56: 6.4 | J56: 17 | K56: 10.2 | L56: 15.9 | M56: 15.2 | N56: 9.5 | O56: 12.7 | P56: 12 | Q56: 33.6 | R56: 53.4 | S56: 1.1
C57: 死別 | D57: 37 | E57: 2 | F57: - | G57: 4 | H57: 1 | I57: 1 | J57: 3 | K57: 5 | L57: 5 | M57: 6 | N57: 5 | O57: 4 | P57: 7 | Q57: 9 | R57: 20 | S57: 1
D58: 100 | E58: 5.4 | F58: - | G58: 10.8 | H58: 2.7 | I58: 2.7 | J58: 8.1 | K58: 13.5 | L58: 13.5 | M58: 16.2 | N58: 13.5 | O58: 10.8 | P58: 18.9 | Q58: 24.3 | R58: 54.1 | S58: 2.7
C59: 未婚 | D59: 20 | E59: - | F59: - | G59: 1 | H59: - | I59: 2 | J59: 4 | K59: 2 | L59: 2 | M59: 3 | N59: 1 | O59: 5 | P59: 1 | Q59: 8 | R59: 11 | S59: -
D60: 100 | E60: - | F60: - | G60: 5 | H60: - | I60: 10 | J60: 20 | K60: 10 | L60: 10 | M60: 15 | N60: 5 | O60: 25 | P60: 5 | Q60: 40 | R60: 55 | S60: -
C61: いない、わからない | D61: 10 | E61: - | F61: - | G61: - | H61: - | I61: - | J61: 2 | K61: 1 | L61: 1 | M61: 2 | N61: 2 | O61: 2 | P61: - | Q61: 3 | R61: 7 | S61: -
D62: 100 | E62: - | F62: - | G62: - | H62: - | I62: - | J62: 20 | K62: 10 | L62: 10 | M62: 20 | N62: 20 | O62: 20 | P62: - | Q62: 30 | R62: 70 | S62: -
C63: 不明・無回答 | D63: 7 | E63: - | F63: - | G63: - | H63: 2 | I63: - | J63: - | K63: 2 | L63: 2 | M63: 1 | N63: - | O63: - | P63: 2 | Q63: 2 | R63: 3 | S63: -
D64: 100 | E64: - | F64: - | G64: - | H64: 28.6 | I64: - | J64: - | K64: 28.6 | L64: 28.6 | M64: 14.3 | N64: - | O64: - | P64: 28.6 | Q64: 28.6 | R64: 42.9 | S64: -
B65: 全 体 | D65: 2715 | E65: 35 | F65: 35 | G65: 60 | H65: 122 | I65: 166 | J65: 351 | K65: 251 | L65: 386 | M65: 574 | N65: 299 | O65: 405 | P65: 252 | Q65: 768 | R65: 1664 | S65: 31
D66: 100 | E66: 1.3 | F66: 1.3 | G66: 2.2 | H66: 4.5 | I66: 6.1 | J66: 12.9 | K66: 9.2 | L66: 14.2 | M66: 21.1 | N66: 11 | O66: 14.9 | P66: 9.3 | Q66: 28.3 | R66: 61.3 | S66: 1.1
B67: 精神状態 a．神経過敏に感じた | C67: いつも | D67: 138 | E67: 2 | F67: 2 | G67: 8 | H67: 7 | I67: 10 | J67: 24 | K67: 13 | L67: 20 | M67: 27 | N67: 9 | O67: 15 | P67: 19 | Q67: 47 | R67: 71 | S67: 1
D68: 100 | E68: 1.4 | F68: 1.4 | G68: 5.8 | H68: 5.1 | I68: 7.2 | J68: 17.4 | K68: 9.4 | L68: 14.5 | M68: 19.6 | N68: 6.5 | O68: 10.9 | P68: 13.8 | Q68: 34.1 | R68: 51.4 | S68: 0.7
C69: たいてい | D69: 196 | E69: 2 | F69: 1 | G69: 6 | H69: 13 | I69: 22 | J69: 27 | K69: 23 | L69: 32 | M69: 32 | N69: 18 | O69: 19 | P69: 22 | Q69: 72 | R69: 101 | S69: 1
D70: 100 | E70: 1 | F70: 0.5 | G70: 3.1 | H70: 6.6 | I70: 11.2 | J70: 13.8 | K70: 11.7 | L70: 16.3 | M70: 16.3 | N70: 9.2 | O70: 9.7 | P70: 11.2 | Q70: 36.7 | R70: 51.5 | S70: 0.5
C71: ときどき | D71: 642 | E71: 11 | F71: 7 | G71: 21 | H71: 27 | I71: 39 | J71: 103 | K71: 57 | L71: 102 | M71: 125 | N71: 69 | O71: 76 | P71: 66 | Q71: 199 | R71: 372 | S71: 5
D72: 100 | E72: 1.7 | F72: 1.1 | G72: 3.3 | H72: 4.2 | I72: 6.1 | J72: 16 | K72: 8.9 | L72: 15.9 | M72: 19.5 | N72: 10.7 | O72: 11.8 | P72: 10.3 | Q72: 31 | R72: 57.9 | S72: 0.8
C73: 少しだけ | D73: 668 | E73: 10 | F73: 8 | G73: 14 | H73: 27 | I73: 45 | J73: 65 | K73: 60 | L73: 94 | M73: 132 | N73: 81 | O73: 124 | P73: 59 | Q73: 170 | R73: 431 | S73: 8
D74: 100 | E74: 1.5 | F74: 1.2 | G74: 2.1 | H74: 4 | I74: 6.7 | J74: 9.7 | K74: 9 | L74: 14.1 | M74: 19.8 | N74: 12.1 | O74: 18.6 | P74: 8.8 | Q74: 25.4 | R74: 64.5 | S74: 1.2
C75: まったくない | D75: 1043 | E75: 9 | F75: 16 | G75: 10 | H75: 45 | I75: 48 | J75: 127 | K75: 95 | L75: 136 | M75: 253 | N75: 119 | O75: 169 | P75: 80 | Q75: 270 | R75: 677 | S75: 16
D76: 100 | E76: 0.9 | F76: 1.5 | G76: 1 | H76: 4.3 | I76: 4.6 | J76: 12.2 | K76: 9.1 | L76: 13 | M76: 24.3 | N76: 11.4 | O76: 16.2 | P76: 7.7 | Q76: 25.9 | R76: 64.9 | S76: 1.5
C77: 不明・無回答 | D77: 28 | E77: 1 | F77: 1 | G77: 1 | H77: 3 | I77: 2 | J77: 5 | K77: 3 | L77: 2 | M77: 5 | N77: 3 | O77: 2 | P77: 6 | Q77: 10 | R77: 12 | S77: -
D78: 100 | E78: 3.6 | F78: 3.6 | G78: 3.6 | H78: 10.7 | I78: 7.1 | J78: 17.9 | K78: 10.7 | L78: 7.1 | M78: 17.9 | N78: 10.7 | O78: 7.1 | P78: 21.4 | Q78: 35.7 | R78: 42.9 | S78: -
B79: 全 体 | D79: 2715 | E79: 35 | F79: 35 | G79: 60 | H79: 122 | I79: 166 | J79: 351 | K79: 251 | L79: 386 | M79: 574 | N79: 299 | O79: 405 | P79: 252 | Q79: 768 | R79: 1664 | S79: 31
D80: 100 | E80: 1.3 | F80: 1.3 | G80: 2.2 | H80: 4.5 | I80: 6.1 | J80: 12.9 | K80: 9.2 | L80: 14.2 | M80: 21.1 | N80: 11 | O80: 14.9 | P80: 9.3 | Q80: 28.3 | R80: 61.3 | S80: 1.1
B81: 精神状態 b．絶望的だと感じた | C81: いつも | D81: 28 | E81: 1 | F81: 1 | G81: 2 | H81: 2 | I81: 2 | J81: 3 | K81: 4 | L81: 5 | M81: 4 | N81: - | O81: 4 | P81: 6 | Q81: 9 | R81: 13 | S81: -
D82: 100 | E82: 3.6 | F82: 3.6 | G82: 7.1 | H82: 7.1 | I82: 7.1 | J82: 10.7 | K82: 14.3 | L82: 17.9 | M82: 14.3 | N82: - | O82: 14.3 | P82: 21.4 | Q82: 32.1 | R82: 46.4 | S82: -
C83: たいてい | D83: 77 | E83: 1 | F83: - | G83: 6 | H83: 6 | I83: 9 | J83: 12 | K83: 6 | L83: 11 | M83: 12 | N83: 7 | O83: 7 | P83: 13 | Q83: 27 | R83: 37 | S83: -
D84: 100 | E84: 1.3 | F84: - | G84: 7.8 | H84: 7.8 | I84: 11.7 | J84: 15.6 | K84: 7.8 | L84: 14.3 | M84: 15.6 | N84: 9.1 | O84: 9.1 | P84: 16.9 | Q84: 35.1 | R84: 48.1 | S84: -
C85: ときどき | D85: 278 | E85: 2 | F85: 3 | G85: 10 | H85: 24 | I85: 29 | J85: 39 | K85: 26 | L85: 41 | M85: 51 | N85: 25 | O85: 25 | P85: 39 | Q85: 94 | R85: 142 | S85: 3
D86: 100 | E86: 0.7 | F86: 1.1 | G86: 3.6 | H86: 8.6 | I86: 10.4 | J86: 14 | K86: 9.4 | L86: 14.7 | M86: 18.3 | N86: 9 | O86: 9 | P86: 14 | Q86: 33.8 | R86: 51.1 | S86: 1.1
C87: 少しだけ | D87: 466 | E87: 5 | F87: 6 | G87: 15 | H87: 14 | I87: 38 | J87: 73 | K87: 43 | L87: 72 | M87: 89 | N87: 46 | O87: 60 | P87: 40 | Q87: 154 | R87: 267 | S87: 5
D88: 100 | E88: 1.1 | F88: 1.3 | G88: 3.2 | H88: 3 | I88: 8.2 | J88: 15.7 | K88: 9.2 | L88: 15.5 | M88: 19.1 | N88: 9.9 | O88: 12.9 | P88: 8.6 | Q88: 33 | R88: 57.3 | S88: 1.1
C89: まったくない | D89: 1837 | E89: 24 | F89: 24 | G89: 26 | H89: 75 | I89: 86 | J89: 217 | K89: 170 | L89: 254 | M89: 413 | N89: 218 | O89: 307 | P89: 149 | Q89: 473 | R89: 1192 | S89: 23
D90: 100 | E90: 1.3 | F90: 1.3 | G90: 1.4 | H90: 4.1 | I90: 4.7 | J90: 11.8 | K90: 9.3 | L90: 13.8 | M90: 22.5 | N90: 11.9 | O90: 16.7 | P90: 8.1 | Q90: 25.7 | R90: 64.9 | S90: 1.3
C91: 不明・無回答 | D91: 29 | E91: 2 | F91: 1 | G91: 1 | H91: 1 | I91: 2 | J91: 7 | K91: 2 | L91: 3 | M91: 5 | N91: 3 | O91: 2 | P91: 5 | Q91: 11 | R91: 13 | S91: -
D92: 100 | E92: 6.9 | F92: 3.4 | G92: 3.4 | H92: 3.4 | I92: 6.9 | J92: 24.1 | K92: 6.9 | L92: 10.3 | M92: 17.2 | N92: 10.3 | O92: 6.9 | P92: 17.2 | Q92: 37.9 | R92: 44.8 | S92: -
B93: 全 体 | D93: 2715 | E93: 35 | F93: 35 | G93: 60 | H93: 122 | I93: 166 | J93: 351 | K93: 251 | L93: 386 | M93: 574 | N93: 299 | O93: 405 | P93: 252 | Q93: 768 | R93: 1664 | S93: 31
D94: 100 | E94: 1.3 | F94: 1.3 | G94: 2.2 | H94: 4.5 | I94: 6.1 | J94: 12.9 | K94: 9.2 | L94: 14.2 | M94: 21.1 | N94: 11 | O94: 14.9 | P94: 9.3 | Q94: 28.3 | R94: 61.3 | S94: 1.1
B95: 精神状態 c．そわそわ、落ち着かなく感じた | C95: いつも | D95: 42 | E95: 1 | F95: 2 | G95: 3 | H95: 2 | I95: 1 | J95: 6 | K95: 4 | L95: 5 | M95: 12 | N95: 1 | O95: 4 | P95: 8 | Q95: 11 | R95: 22 | S95: 1
D96: 100 | E96: 2.4 | F96: 4.8 | G96: 7.1 | H96: 4.8 | I96: 2.4 | J96: 14.3 | K96: 9.5 | L96: 11.9 | M96: 28.6 | N96: 2.4 | O96: 9.5 | P96: 19 | Q96: 26.2 | R96: 52.4 | S96: 2.4
C97: たいてい | D97: 115 | E97: 1 | F97: 1 | G97: 7 | H97: 10 | I97: 13 | J97: 16 | K97: 14 | L97: 22 | M97: 16 | N97: 7 | O97: 8 | P97: 19 | Q97: 43 | R97: 53 | S97: -
D98: 100 | E98: 0.9 | F98: 0.9 | G98: 6.1 | H98: 8.7 | I98: 11.3 | J98: 13.9 | K98: 12.2 | L98: 19.1 | M98: 13.9 | N98: 6.1 | O98: 7 | P98: 16.5 | Q98: 37.4 | R98: 46.1 | S98: -
C99: ときどき | D99: 474 | E99: 6 | F99: 5 | G99: 16 | H99: 24 | I99: 37 | J99: 69 | K99: 47 | L99: 70 | M99: 85 | N99: 51 | O99: 59 | P99: 51 | Q99: 153 | R99: 265 | S99: 5
D100: 100 | E100: 1.3 | F100: 1.1 | G100: 3.4 | H100: 5.1 | I100: 7.8 | J100: 14.6 | K100: 9.9 | L100: 14.8 | M100: 17.9 | N100: 10.8 | O100: 12.4 | P100: 10.8 | Q100: 32.3 | R100: 55.9 | S100: 1.1
...

Sheet 16
A1: =HYPERLINK("#目次!A"&ROW(目次!$A$79),"[16]") -> [16]
B2: 【全員の方に】中学生票問１５．以下のそれぞれの質問について、「１ あてはまらない」「２ まああてはまる」「３ あてはまる」のどれかから回答してください。（ＳＡ）
D3: 全 体 | E3: 精神状態 a．私は、他人に対して親切にするようにしている。私は、他人の気持ちをよく考える。 | J3: 全 体 | K3: 精神状態 b．私は、よく頭やお腹がいたくなったり、気持ちが悪くなったりする。 | P3: 全 体 | Q3: 精神状態 c．私は、他の子供たちと、よく分け合う（食べ物・ゲーム・ペンなど）。 | V3: 全 体 | W3: 精神状態 d．私は、たいてい一人でいる。だいたいいつも一人で遊ぶか、人と付き合うことを避ける。 | AB3: 全 体 | AC3: 精神状態 e．私は、心配ごとが多く、いつも不安だ。 | AH3: 全 体 | AI3: 精神状態 f．私は、誰かが心を痛めていたり、落ち込んでいたり、嫌な思いをしているときなど、すすんで助ける。 | AN3: 全 体 | AO3: 精神状態 g．私は、仲の良い友だちが少なくとも一人はいる。 | AT3: 全 体 | AU3: 精神状態 h．私は、落ち込んでしずんでいたり、涙ぐんだりすることがよくある。 | AZ3: 全 体 | BA3: 精神状態 i．私は、同じくらいの年齢の子供からは、だいたいは好かれている。 | BF3: 全 体 | BG3: 精神状態 j．私は、新しい場面に直面すると不安になり、自信をなくしやすい。 | BL3: 全 体 | BM3: 精神状態 k．私は、年下の子供たちに対してやさしくしている。 | BR3: 全 体 | BS3: 精神状態 l．私は、他の子供から、いじめられたり、からかわれたりする。 | BX3: 全 体 | BY3: 精神状態 m．私は、自分からすすんでよくお手伝いをする（親・先生・子供たちなど）。 | CD3: 全 体 | CE3: 精神状態 n．私は、他の子供たちより、大人といる方がうまくいく。 | CJ3: 全 体 | CK3: 精神状態 o．私は、こわがりで、すぐにおびえたりする。
E4: あてはまらない | F4: まああてはまる | G4: あてはまる | H4: 不明・無回答 | I4: あてはまる・まああてはまる（計） | K4: あてはまらない | L4: まああてはまる | M4: あてはまる | N4: 不明・無回答 | O4: あてはまる・まああてはまる（計） | Q4: あてはまらない | R4: まああてはまる | S4: あてはまる | T4: 不明・無回答 | U4: あてはまる・まああてはまる（計） | W4: あてはまらない | X4: まああてはまる | Y4: あてはまる | Z4: 不明・無回答 | AA4: あてはまる・まああてはまる（計） | AC4: あてはまらない | AD4: まああてはまる | AE4: あてはまる | AF4: 不明・無回答 | AG4: あてはまる・まああてはまる（計） | AI4: あてはまらない | AJ4: まああてはまる | AK4: あてはまる | AL4: 不明・無回答 | AM4: あてはまる・まああてはまる（計） | AO4: あてはまらない | AP4: まああてはまる | AQ4: あてはまる | AR4: 不明・無回答 | AS4: あてはまる・まああてはまる（計） | AU4: あてはまらない | AV4: まああてはまる | AW4: あてはまる | AX4: 不明・無回答 | AY4: あてはまる・まああてはまる（計） | BA4: あてはまらない | BB4: まああてはまる | BC4: あてはまる | BD4: 不明・無回答 | BE4: あてはまる・まああてはまる（計） | BG4: あてはまらない | BH4: まああてはまる | BI4: あてはまる | BJ4: 不明・無回答 | BK4: あてはまる・まああてはまる（計） | BM4: あてはまらない | BN4: まああてはまる | BO4: あてはまる | BP4: 不明・無回答 | BQ4: あてはまる・まああてはまる（計） | BS4: あてはまらない | BT4: まああてはまる | BU4: あてはまる | BV4: 不明・無回答 | BW4: あてはまる・まああてはまる（計） | BY4: あてはまらない | BZ4: まああてはまる | CA4: あてはまる | CB4: 不明・無回答 | CC4: あてはまる・まああてはまる（計） | CE4: あてはまらない | CF4: まああてはまる | CG4: あてはまる | CH4: 不明・無回答 | CI4: あてはまる・まああてはまる（計） | CK4: あてはまらない | CL4: まああてはまる | CM4: あてはまる | CN4: 不明・無回答 | CO4: あてはまる・まああてはまる（計）
B5: 全 体 | D5: 2715 | E5: 112 | F5: 1276 | G5: 1307 | H5: 20 | I5: 2583 | J5: 2715 | K5: 1538 | L5: 725 | M5: 435 | N5: 17 | O5: 1160 | P5: 2715 | Q5: 723 | R5: 1186 | S5: 779 | T5: 27 | U5: 1965 | V5: 2715 | W5: 1970 | X5: 528 | Y5: 200 | Z5: 17 | AA5: 728 | AB5: 2715 | AC5: 1396 | AD5: 868 | AE5: 431 | AF5: 20 | AG5: 1299 | AH5: 2715 | AI5: 353 | AJ5: 1553 | AK5: 791 | AL5: 18 | AM5: 2344 | AN5: 2715 | AO5: 103 | AP5: 231 | AQ5: 2363 | AR5: 18 | AS5: 2594 | AT5: 2715 | AU5: 1582 | AV5: 737 | AW5: 374 | AX5: 22 | AY5: 1111 | AZ5: 2715 | BA5: 372 | BB5: 1610 | BC5: 711 | BD5: 22 | BE5: 2321 | BF5: 2715 | BG5: 722 | BH5: 1109 | BI5: 866 | BJ5: 18 | BK5: 1975 | BL5: 2715 | BM5: 166 | BN5: 1018 | BO5: 1508 | BP5: 23 | BQ5: 2526 | BR5: 2715 | BS5: 2270 | BT5: 342 | BU5: 84 | BV5: 19 | BW5: 426 | BX5: 2715 | BY5: 728 | BZ5: 1445 | CA5: 524 | CB5: 18 | CC5: 1969 | CD5: 2715 | CE5: 1630 | CF5: 806 | CG5: 258 | CH5: 21 | CI5: 1064 | CJ5: 2715 | CK5: 1516 | CL5: 830 | CM5: 352 | CN5: 17 | CO5: 1182
D6: 100 | E6: 4.1 | F6: 47 | G6: 48.1 | H6: 0.7 | I6: 95.1 | J6: 100 | K6: 56.6 | L6: 26.7 | M6: 16 | N6: 0.6 | O6: 42.7 | P6: 100 | Q6: 26.6 | R6: 43.7 | S6: 28.7 | T6: 1 | U6: 72.4 | V6: 100 | W6: 72.6 | X6: 19.4 | Y6: 7.4 | Z6: 0.6 | AA6: 26.8 | AB6: 100 | AC6: 51.4 | AD6: 32 | AE6: 15.9 | AF6: 0.7 | AG6: 47.8 | AH6: 100 | AI6: 13 | AJ6: 57.2 | AK6: 29.1 | AL6: 0.7 | AM6: 86.3 | AN6: 100 | AO6: 3.8 | AP6: 8.5 | AQ6: 87 | AR6: 0.7 | AS6: 95.5 | AT6: 100 | AU6: 58.3 | AV6: 27.1 | AW6: 13.8 | AX6: 0.8 | AY6: 40.9 | AZ6: 100 | BA6: 13.7 | BB6: 59.3 | BC6: 26.2 | BD6: 0.8 | BE6: 85.5 | BF6: 100 | BG6: 26.6 | BH6: 40.8 | BI6: 31.9 | BJ6: 0.7 | BK6: 72.7 | BL6: 100 | BM6: 6.1 | BN6: 37.5 | BO6: 55.5 | BP6: 0.8 | BQ6: 93 | BR6: 100 | BS6: 83.6 | BT6: 12.6 | BU6: 3.1 | BV6: 0.7 | BW6: 15.7 | BX6: 100 | BY6: 26.8 | BZ6: 53.2 | CA6: 19.3 | CB6: 0.7 | CC6: 72.5 | CD6: 100 | CE6: 60 | CF6: 29.7 | CG6: 9.5 | CH6: 0.8 | CI6: 39.2 | CJ6: 100 | CK6: 55.8 | CL6: 30.6 | CM6: 13 | CN6: 0.6 | CO6: 43.5
B7: 世帯収入 | C7: 50万円未満 | D7: 8 | E7: - | F7: 4 | G7: 4 | H7: - | I7: 8 | J7: 8 | K7: 2 | L7: 3 | M7: 3 | N7: - | O7: 6 | P7: 8 | Q7: - | R7: 3 | S7: 5 | T7: - | U7: 8 | V7: 8 | W7: 4 | X7: 3 | Y7: 1 | Z7: - | AA7: 4 | AB7: 8 | AC7: 2 | AD7: 3 | AE7: 2 | AF7: 1 | AG7: 5 | AH7: 8 | AI7: - | AJ7: 4 | AK7: 4 | AL7: - | AM7: 8 | AN7: 8 | AO7: - | AP7: 1 | AQ7: 7 | AR7: - | AS7: 8 | AT7: 8 | AU7: 5 | AV7: 2 | AW7: 1 | AX7: - | AY7: 3 | AZ7: 8 | BA7: 1 | BB7: 6 | BC7: 1 | BD7: - | BE7: 7 | BF7: 8 | BG7: 1 | BH7: 4 | BI7: 3 | BJ7: - | BK7: 7 | BL7: 8 | BM7: - | BN7: 3 | BO7: 4 | BP7: 1 | BQ7: 7 | BR7: 8 | BS7: 8 | BT7: - | BU7: - | BV7: - | BW7: - | BX7: 8 | BY7: - | BZ7: 6 | CA7: 2 | CB7: - | CC7: 8 | CD7: 8 | CE7: 4 | CF7: 2 | CG7: 2 | CH7: - | CI7: 4 | CJ7: 8 | CK7: 2 | CL7: 4 | CM7: 2 | CN7: - | CO7: 6
D8: 100 | E8: - | F8: 50 | G8: 50 | H8: - | I8: 100 | J8: 100 | K8: 25 | L8: 37.5 | M8: 37.5 | N8: - | O8: 75 | P8: 100 | Q8: - | R8: 37.5 | S8: 62.5 | T8: - | U8: 100 | V8: 100 | W8: 50 | X8: 37.5 | Y8: 12.5 | Z8: - | AA8: 50 | AB8: 100 | AC8: 25 | AD8: 37.5 | AE8: 25 | AF8: 12.5 | AG8: 62.5 | AH8: 100 | AI8: - | AJ8: 50 | AK8: 50 | AL8: - | AM8: 100 | AN8: 100 | AO8: - | AP8: 12.5 | AQ8: 87.5 | AR8: - | AS8: 100 | AT8: 100 | AU8: 62.5 | AV8: 25 | AW8: 12.5 | AX8: - | AY8: 37.5 | AZ8: 100 | BA8: 12.5 | BB8: 75 | BC8: 12.5 | BD8: - | BE8: 87.5 | BF8: 100 | BG8: 12.5 | BH8: 50 | BI8: 37.5 | BJ8: - | BK8: 87.5 | BL8: 100 | BM8: - | BN8: 37.5 | BO8: 50 | BP8: 12.5 | BQ8: 87.5 | BR8: 100 | BS8: 100 | BT8: - | BU8: - | BV8: - | BW8: - | BX8: 100 | BY8: - | BZ8: 75 | CA8: 25 | CB8: - | CC8: 100 | CD8: 100 | CE8: 50 | CF8: 25 | CG8: 25 | CH8: - | CI8: 50 | CJ8: 100 | CK8: 25 | CL8: 50 | CM8: 25 | CN8: - | CO8: 75
C9: 50~100万円未満 | D9: 27 | E9: 1 | F9: 17 | G9: 9 | H9: - | I9: 26 | J9: 27 | K9: 15 | L9: 7 | M9: 5 | N9: - | O9: 12 | P9: 27 | Q9: 11 | R9: 8 | S9: 7 | T9: 1 | U9: 15 | V9: 27 | W9: 16 | X9: 8 | Y9: 3 | Z9: - | AA9: 11 | AB9: 27 | AC9: 15 | AD9: 9 | AE9: 3 | AF9: - | AG9: 12 | AH9: 27 | AI9: 3 | AJ9: 13 | AK9: 11 | AL9: - | AM9: 24 | AN9: 27 | AO9: - | AP9: 3 | AQ9: 24 | AR9: - | AS9: 27 | AT9: 27 | AU9: 17 | AV9: 6 | AW9: 4 | AX9: - | AY9: 10 | AZ9: 27 | BA9: 3 | BB9: 15 | BC9: 9 | BD9: - | BE9: 24 | BF9: 27 | BG9: 5 | BH9: 11 | BI9: 11 | BJ9: - | BK9: 22 | BL9: 27 | BM9: 2 | BN9: 4 | BO9: 21 | BP9: - | BQ9: 25 | BR9: 27 | BS9: 22 | BT9: 3 | BU9: 2 | BV9: - | BW9: 5 | BX9: 27 | BY9: 8 | BZ9: 15 | CA9: 4 | CB9: - | CC9: 19 | CD9: 27 | CE9: 19 | CF9: 3 | CG9: 5 | CH9: - | CI9: 8 | CJ9: 27 | CK9: 14 | CL9: 7 | CM9: 6 | CN9: - | CO9: 13
D10: 100 | E10: 3.7 | F10: 63 | G10: 33.3 | H10: - | I10: 96.3 | J10: 100 | K10: 55.6 | L10: 25.9 | M10: 18.5 | N10: - | O10: 44.4 | P10: 100 | Q10: 40.7 | R10: 29.6 | S10: 25.9 | T10: 3.7 | U10: 55.6 | V10: 100 | W10: 59.3 | X10: 29.6 | Y10: 11.1 | Z10: - | AA10: 40.7 | AB10: 100 | AC10: 55.6 | AD10: 33.3 | AE10: 11.1 | AF10: - | AG10: 44.4 | AH10: 100 | AI10: 11.1 | AJ10: 48.1 | AK10: 40.7 | AL10: - | AM10: 88.9 | AN10: 100 | AO10: - | AP10: 11.1 | AQ10: 88.9 | AR10: - | AS10: 100 | AT10: 100 | AU10: 63 | AV10: 22.2 | AW10: 14.8 | AX10: - | AY10: 37 | AZ10: 100 | BA10: 11.1 | BB10: 55.6 | BC10: 33.3 | BD10: - | BE10: 88.9 | BF10: 100 | BG10: 18.5 | BH10: 40.7 | BI10: 40.7 | BJ10: - | BK10: 81.5 | BL10: 100 | BM10: 7.4 | BN10: 14.8 | BO10: 77.8 | BP10: - | BQ10: 92.6 | BR10: 100 | BS10: 81.5 | BT10: 11.1 | BU10: 7.4 | BV10: - | BW10: 18.5 | BX10: 100 | BY10: 29.6 | BZ10: 55.6 | CA10: 14.8 | CB10: - | CC10: 70.4 | CD10: 100 | CE10: 70.4 | CF10: 11.1 | CG10: 18.5 | CH10: - | CI10: 29.6 | CJ10: 100 | CK10: 51.9 | CL10: 25.9 | CM10: 22.2 | CN10: - | CO10: 48.1
C11: 100~150 万円未満 | D11: 52 | E11: 2 | F11: 29 | G11: 21 | H11: - | I11: 50 | J11: 52 | K11: 27 | L11: 16 | M11: 8 | N11: 1 | O11: 24 | P11: 52 | Q11: 12 | R11: 30 | S11: 10 | T11: - | U11: 40 | V11: 52 | W11: 32 | X11: 15 | Y11: 5 | Z11: - | AA11: 20 | AB11: 52 | AC11: 25 | AD11: 21 | AE11: 6 | AF11: - | AG11: 27 | AH11: 52 | AI11: 7 | AJ11: 33 | AK11: 12 | AL11: - | AM11: 45 | AN11: 52 | AO11: 2 | AP11: 6 | AQ11: 44 | AR11: - | AS11: 50 | AT11: 52 | AU11: 28 | AV11: 16 | AW11: 8 | AX11: - | AY11: 24 | AZ11: 52 | BA11: 7 | BB11: 35 | BC11: 9 | BD11: 1 | BE11: 44 | BF11: 52 | BG11: 11 | BH11: 19 | BI11: 22 | BJ11: - | BK11: 41 | BL11: 52 | BM11: 3 | BN11: 24 | BO11: 25 | BP11: - | BQ11: 49 | BR11: 52 | BS11: 40 | BT11: 10 | BU11: 2 | BV11: - | BW11: 12 | BX11: 52 | BY11: 13 | BZ11: 26 | CA11: 13 | CB11: - | CC11: 39 | CD11: 52 | CE11: 29 | CF11: 13 | CG11: 9 | CH11: 1 | CI11: 22 | CJ11: 52 | CK11: 28 | CL11: 16 | CM11: 8 | CN11: - | CO11: 24
D12: 100 | E12: 3.8 | F12: 55.8 | G12: 40.4 | H12: - | I12: 96.2 | J12: 100 | K12: 51.9 | L12: 30.8 | M12: 15.4 | N12: 1.9 | O12: 46.2 | P12: 100 | Q12: 23.1 | R12: 57.7 | S12: 19.2 | T12: - | U12: 76.9 | V12: 100 | W12: 61.5 | X12: 28.8 | Y12: 9.6 | Z12: - | AA12: 38.5 | AB12: 100 | AC12: 48.1 | AD12: 40.4 | AE12: 11.5 | AF12: - | AG12: 51.9 | AH12: 100 | AI12: 13.5 | AJ12: 63.5 | AK12: 23.1 | AL12: - | AM12: 86.5 | AN12: 100 | AO12: 3.8 | AP12: 11.5 | AQ12: 84.6 | AR12: - | AS12: 96.2 | AT12: 100 | AU12: 53.8 | AV12: 30.8 | AW12: 15.4 | AX12: - | AY12: 46.2 | AZ12: 100 | BA12: 13.5 | BB12: 67.3 | BC12: 17.3 | BD12: 1.9 | BE12: 84.6 | BF12: 100 | BG12: 21.2 | BH12: 36.5 | BI12: 42.3 | BJ12: - | BK12: 78.8 | BL12: 100 | BM12: 5.8 | BN12: 46.2 | BO12: 48.1 | BP12: - | BQ12: 94.2 | BR12: 100 | BS12: 76.9 | BT12: 19.2 | BU12: 3.8 | BV12: - | BW12: 23.1 | BX12: 100 | BY12: 25 | BZ12: 50 | CA12: 25 | CB12: - | CC12: 75 | CD12: 100 | CE12: 55.8 | CF12: 25 | CG12: 17.3 | CH12: 1.9 | CI12: 42.3 | CJ12: 100 | CK12: 53.8 | CL12: 30.8 | CM12: 15.4 | CN12: - | CO12: 46.2
C13: 150~200 万円未満 | D13: 64 | E13: 4 | F13: 27 | G13: 32 | H13: 1 | I13: 59 | J13: 64 | K13: 28 | L13: 18 | M13: 17 | N13: 1 | O13: 35 | P13: 64 | Q13: 20 | R13: 30 | S13: 13 | T13: 1 | U13: 43 | V13: 64 | W13: 44 | X13: 15 | Y13: 4 | Z13: 1 | AA13: 19 | AB13: 64 | AC13: 29 | AD13: 20 | AE13: 14 | AF13: 1 | AG13: 34 | AH13: 64 | AI13: 11 | AJ13: 33 | AK13: 19 | AL13: 1 | AM13: 52 | AN13: 64 | AO13: 2 | AP13: 3 | AQ13: 58 | AR13: 1 | AS13: 61 | AT13: 64 | AU13: 32 | AV13: 22 | AW13: 9 | AX13: 1 | AY13: 31 | AZ13: 64 | BA13: 10 | BB13: 38 | BC13: 15 | BD13: 1 | BE13: 53 | BF13: 64 | BG13: 13 | BH13: 27 | BI13: 23 | BJ13: 1 | BK13: 50 | BL13: 64 | BM13: 5 | BN13: 20 | BO13: 38 | BP13: 1 | BQ13: 58 | BR13: 64 | BS13: 51 | BT13: 10 | BU13: 2 | BV13: 1 | BW13: 12 | BX13: 64 | BY13: 29 | BZ13: 25 | CA13: 9 | CB13: 1 | CC13: 34 | CD13: 64 | CE13: 34 | CF13: 20 | CG13: 9 | CH13: 1 | CI13: 29 | CJ13: 64 | CK13: 29 | CL13: 27 | CM13: 7 | CN13: 1 | CO13: 34
D14: 100 | E14: 6.3 | F14: 42.2 | G14: 50 | H14: 1.6 | I14: 92.2 | J14: 100 | K14: 43.8 | L14: 28.1 | M14: 26.6 | N14: 1.6 | O14: 54.7 | P14: 100 | Q14: 31.3 | R14: 46.9 | S14: 20.3 | T14: 1.6 | U14: 67.2 | V14: 100 | W14: 68.8 | X14: 23.4 | Y14: 6.3 | Z14: 1.6 | AA14: 29.7 | AB14: 100 | AC14: 45.3 | AD14: 31.3 | AE14: 21.9 | AF14: 1.6 | AG14: 53.1 | AH14: 100 | AI14: 17.2 | AJ14: 51.6 | AK14: 29.7 | AL14: 1.6 | AM14: 81.3 | AN14: 100 | AO14: 3.1 | AP14: 4.7 | AQ14: 90.6 | AR14: 1.6 | AS14: 95.3 | AT14: 100 | AU14: 50 | AV14: 34.4 | AW14: 14.1 | AX14: 1.6 | AY14: 48.4 | AZ14: 100 | BA14: 15.6 | BB14: 59.4 | BC14: 23.4 | BD14: 1.6 | BE14: 82.8 | BF14: 100 | BG14: 20.3 | BH14: 42.2 | BI14: 35.9 | BJ14: 1.6 | BK14: 78.1 | BL14: 100 | BM14: 7.8 | BN14: 31.3 | BO14: 59.4 | BP14: 1.6 | BQ14: 90.6 | BR14: 100 | BS14: 79.7 | BT14: 15.6 | BU14: 3.1 | BV14: 1.6 | BW14: 18.8 | BX14: 100 | BY14: 45.3 | BZ14: 39.1 | CA14: 14.1 | CB14: 1.6 | CC14: 53.1 | CD14: 100 | CE14: 53.1 | CF14: 31.3 | CG14: 14.1 | CH14: 1.6 | CI14: 45.3 | CJ14: 100 | CK14: 45.3 | CL14: 42.2 | CM14: 10.9 | CN14: 1.6 | CO14: 53.1
C15: 200~250 万円未満 | D15: 91 | E15: 2 | F15: 43 | G15: 46 | H15: - | I15: 89 | J15: 91 | K15: 52 | L15: 24 | M15: 15 | N15: - | O15: 39 | P15: 91 | Q15: 34 | R15: 32 | S15: 25 | T15: - | U15: 57 | V15: 91 | W15: 67 | X15: 17 | Y15: 7 | Z15: - | AA15: 24 | AB15: 91 | AC15: 40 | AD15: 29 | AE15: 22 | AF15: - | AG15: 51 | AH15: 91 | AI15: 11 | AJ15: 47 | AK15: 33 | AL15: - | AM15: 80 | AN15: 91 | AO15: 7 | AP15: 7 | AQ15: 77 | AR15: - | AS15: 84 | AT15: 91 | AU15: 50 | AV15: 20 | AW15: 20 | AX15: 1 | AY15: 40 | AZ15: 91 | BA15: 20 | BB15: 54 | BC15: 17 | BD15: - | BE15: 71 | BF15: 91 | BG15: 25 | BH15: 29 | BI15: 37 | BJ15: - | BK15: 66 | BL15: 91 | BM15: 5 | BN15: 38 | BO15: 48 | BP15: - | BQ15: 86 | BR15: 91 | BS15: 75 | BT15: 16 | BU15: - | BV15: - | BW15: 16 | BX15: 91 | BY15: 22 | BZ15: 56 | CA15: 13 | CB15: - | CC15: 69 | CD15: 91 | CE15: 52 | CF15: 34 | CG15: 5 | CH15: - | CI15: 39 | CJ15: 91 | CK15: 53 | CL15: 22 | CM15: 16 | CN15: - | CO15: 38
D16: 100 | E16: 2.2 | F16: 47.3 | G16: 50.5 | H16: - | I16: 97.8 | J16: 100 | K16: 57.1 | L16: 26.4 | M16: 16.5 | N16: - | O16: 42.9 | P16: 100 | Q16: 37.4 | R16: 35.2 | S16: 27.5 | T16: - | U16: 62.6 | V16: 100 | W16: 73.6 | X16: 18.7 | Y16: 7.7 | Z16: - | AA16: 26.4 | AB16: 100 | AC16: 44 | AD16: 31.9 | AE16: 24.2 | AF16: - | AG16: 56 | AH16: 100 | AI16: 12.1 | AJ16: 51.6 | AK16: 36.3 | AL16: - | AM16: 87.9 | AN16: 100 | AO16: 7.7 | AP16: 7.7 | AQ16: 84.6 | AR16: - | AS16: 92.3 | AT16: 100 | AU16: 54.9 | AV16: 22 | AW16: 22 | AX16: 1.1 | AY16: 44 | AZ16: 100 | BA16: 22 | BB16: 59.3 | BC16: 18.7 | BD16: - | BE16: 78 | BF16: 100 | BG16: 27.5 | BH16: 31.9 | BI16: 40.7 | BJ16: - | BK16: 72.5 | BL16: 100 | BM16: 5.5 | BN16: 41.8 | BO16: 52.7 | BP16: - | BQ16: 94.5 | BR16: 100 | BS16: 82.4 | BT16: 17.6 | BU16: - | BV16: - | BW16: 17.6 | BX16: 100 | BY16: 24.2 | BZ16: 61.5 | CA16: 14.3 | CB16: - | CC16: 75.8 | CD16: 100 | CE16: 57.1 | CF16: 37.4 | CG16: 5.5 | CH16: - | CI16: 42.9 | CJ16: 100 | CK16: 58.2 | CL16: 24.2 | CM16: 17.6 | CN16: - | CO16: 41.8
C17: 250~300 万円未満 | D17: 98 | E17: 3 | F17: 50 | G17: 44 | H17: 1 | I17: 94 | J17: 98 | K17: 47 | L17: 33 | M17: 17 | N17: 1 | O17: 50 | P17: 98 | Q17: 28 | R17: 42 | S17: 27 | T17: 1 | U17: 69 | V17: 98 | W17: 65 | X17: 24 | Y17: 8 | Z17: 1 | AA17: 32 | AB17: 98 | AC17: 44 | AD17: 28 | AE17: 25 | AF17: 1 | AG17: 53 | AH17: 98 | AI17: 16 | AJ17: 50 | AK17: 31 | AL17: 1 | AM17: 81 | AN17: 98 | AO17: 3 | AP17: 8 | AQ17: 86 | AR17: 1 | AS17: 94 | AT17: 98 | AU17: 46 | AV17: 34 | AW17: 17 | AX17: 1 | AY17: 51 | AZ17: 98 | BA17: 20 | BB17: 62 | BC17: 15 | BD17: 1 | BE17: 77 | BF17: 98 | BG17: 21 | BH17: 38 | BI17: 38 | BJ17: 1 | BK17: 76 | BL17: 98 | BM17: 8 | BN17: 34 | BO17: 54 | BP17: 2 | BQ17: 88 | BR17: 98 | BS17: 78 | BT17: 10 | BU17: 9 | BV17: 1 | BW17: 19 | BX17: 98 | BY17: 23 | BZ17: 57 | CA17: 17 | CB17: 1 | CC17: 74 | CD17: 98 | CE17: 55 | CF17: 32 | CG17: 10 | CH17: 1 | CI17: 42 | CJ17: 98 | CK17: 47 | CL17: 34 | CM17: 16 | CN17: 1 | CO17: 50
D18: 100 | E18: 3.1 | F18: 51 | G18: 44.9 | H18: 1 | I18: 95.9 | J18: 100 | K18: 48 | L18: 33.7 | M18: 17.3 | N18: 1 | O18: 51 | P18: 100 | Q18: 28.6 | R18: 42.9 | S18: 27.6 | T18: 1 | U18: 70.4 | V18: 100 | W18: 66.3 | X18: 24.5 | Y18: 8.2 | Z18: 1 | AA18: 32.7 | AB18: 100 | AC18: 44.9 | AD18: 28.6 | AE18: 25.5 | AF18: 1 | AG18: 54.1 | AH18: 100 | AI18: 16.3 | AJ18: 51 | AK18: 31.6 | AL18: 1 | AM18: 82.7 | AN18: 100 | AO18: 3.1 | AP18: 8.2 | AQ18: 87.8 | AR18: 1 | AS18: 95.9 | AT18: 100 | AU18: 46.9 | AV18: 34.7 | AW18: 17.3 | AX18: 1 | AY18: 52 | AZ18: 100 | BA18: 20.4 | BB18: 63.3 | BC18: 15.3 | BD18: 1 | BE18: 78.6 | BF18: 100 | BG18: 21.4 | BH18: 38.8 | BI18: 38.8 | BJ18: 1 | BK18: 77.6 | BL18: 100 | BM18: 8.2 | BN18: 34.7 | BO18: 55.1 | BP18: 2 | BQ18: 89.8 | BR18: 100 | BS18: 79.6 | BT18: 10.2 | BU18: 9.2 | BV18: 1 | BW18: 19.4 | BX18: 100 | BY18: 23.5 | BZ18: 58.2 | CA18: 17.3 | CB18: 1 | CC18: 75.5 | CD18: 100 | CE18: 56.1 | CF18: 32.7 | CG18: 10.2 | CH18: 1 | CI18: 42.9 | CJ18: 100 | CK18: 48 | CL18: 34.7 | CM18: 16.3 | CN18: 1 | CO18: 51
C19: 300~350 万円未満 | D19: 114 | E19: 8 | F19: 51 | G19: 52 | H19: 3 | I19: 103 | J19: 114 | K19: 58 | L19: 32 | M19: 22 | N19: 2 | O19: 54 | P19: 114 | Q19: 29 | R19: 45 | S19: 37 | T19: 3 | U19: 82 | V19: 114 | W19: 79 | X19: 20 | Y19: 12 | Z19: 3 | AA19: 32 | AB19: 114 | AC19: 61 | AD19: 34 | AE19: 16 | AF19: 3 | AG19: 50 | AH19: 114 | AI19: 18 | AJ19: 66 | AK19: 27 | AL19: 3 | AM19: 93 | AN19: 114 | AO19: 7 | AP19: 6 | AQ19: 99 | AR19: 2 | AS19: 105 | AT19: 114 | AU19: 67 | AV19: 29 | AW19: 16 | AX19: 2 | AY19: 45 | AZ19: 114 | BA19: 22 | BB19: 67 | BC19: 22 | BD19: 3 | BE19: 89 | BF19: 114 | BG19: 36 | BH19: 37 | BI19: 38 | BJ19: 3 | BK19: 75 | BL19: 114 | BM19: 5 | BN19: 43 | BO19: 63 | BP19: 3 | BQ19: 106 | BR19: 114 | BS19: 96 | BT19: 12 | BU19: 3 | BV19: 3 | BW19: 15 | BX19: 114 | BY19: 33 | BZ19: 64 | CA19: 14 | CB19: 3 | CC19: 78 | CD19: 114 | CE19: 60 | CF19: 39 | CG19: 11 | CH19: 4 | CI19: 50 | CJ19: 114 | CK19: 64 | CL19: 27 | CM19: 20 | CN19: 3 | CO19: 47
D20: 100 | E20: 7 | F20: 44.7 | G20: 45.6 | H20: 2.6 | I20: 90.4 | J20: 100 | K20: 50.9 | L20: 28.1 | M20: 19.3 | N20: 1.8 | O20: 47.4 | P20: 100 | Q20: 25.4 | R20: 39.5 | S20: 32.5 | T20: 2.6 | U20: 71.9 | V20: 100 | W20: 69.3 | X20: 17.5 | Y20: 10.5 | Z20: 2.6 | AA20: 28.1 | AB20: 100 | AC20: 53.5 | AD20: 29.8 | AE20: 14 | AF20: 2.6 | AG20: 43.9 | AH20: 100 | AI20: 15.8 | AJ20: 57.9 | AK20: 23.7 | AL20: 2.6 | AM20: 81.6 | AN20: 100 | AO20: 6.1 | AP20: 5.3 | AQ20: 86.8 | AR20: 1.8 | AS20: 92.1 | AT20: 100 | AU20: 58.8 | AV20: 25.4 | AW20: 14 | AX20: 1.8 | AY20: 39.5 | AZ20: 100 | BA20: 19.3 | BB20: 58.8 | BC20: 19.3 | BD20: 2.6 | BE20: 78.1 | BF20: 100 | BG20: 31.6 | BH20: 32.5 | BI20: 33.3 | BJ20: 2.6 | BK20: 65.8 | BL20: 100 | BM20: 4.4 | BN20: 37.7 | BO20: 55.3 | BP20: 2.6 | BQ20: 93 | BR20: 100 | BS20: 84.2 | BT20: 10.5 | BU20: 2.6 | BV20: 2.6 | BW20: 13.2 | BX20: 100 | BY20: 28.9 | BZ20: 56.1 | CA20: 12.3 | CB20: 2.6 | CC20: 68.4 | CD20: 100 | CE20: 52.6 | CF20: 34.2 | CG20: 9.6 | CH20: 3.5 | CI20: 43.9 | CJ20: 100 | CK20: 56.1 | CL20: 23.7 | CM20: 17.5 | CN20: 2.6 | CO20: 41.2
C21: 350~400 万円未満 | D21: 138 | E21: 7 | F21: 75 | G21: 54 | H21: 2 | I21: 129 | J21: 138 | K21: 71 | L21: 41 | M21: 24 | N21: 2 | O21: 65 | P21: 138 | Q21: 41 | R21: 59 | S21: 36 | T21: 2 | U21: 95 | V21: 138 | W21: 90 | X21: 31 | Y21: 15 | Z21: 2 | AA21: 46 | AB21: 138 | AC21: 64 | AD21: 47 | AE21: 25 | AF21: 2 | AG21: 72 | AH21: 138 | AI21: 24 | AJ21: 81 | AK21: 31 | AL21: 2 | AM21: 112 | AN21: 138 | AO21: 4 | AP21: 17 | AQ21: 115 | AR21: 2 | AS21: 132 | AT21: 138 | AU21: 78 | AV21: 42 | AW21: 16 | AX21: 2 | AY21: 58 | AZ21: 138 | BA21: 21 | BB21: 82 | BC21: 33 | BD21: 2 | BE21: 115 | BF21: 138 | BG21: 31 | BH21: 54 | BI21: 50 | BJ21: 3 | BK21: 104 | BL21: 138 | BM21: 9 | BN21: 50 | BO21: 77 | BP21: 2 | BQ21: 127 | BR21: 138 | BS21: 122 | BT21: 10 | BU21: 4 | BV21: 2 | BW21: 14 | BX21: 138 | BY21: 37 | BZ21: 75 | CA21: 24 | CB21: 2 | CC21: 99 | CD21: 138 | CE21: 75 | CF21: 46 | CG21: 14 | CH21: 3 | CI21: 60 | CJ21: 138 | CK21: 75 | CL21: 41 | CM21: 20 | CN21: 2 | CO21: 61
D22: 100 | E22: 5.1 | F22: 54.3 | G22: 39.1 | H22: 1.4 | I22: 93.5 | J22: 100 | K22: 51.4 | L22: 29.7 | M22: 17.4 | N22: 1.4 | O22: 47.1 | P22: 100 | Q22: 29.7 | R22: 42.8 | S22: 26.1 | T22: 1.4 | U22: 68.8 | V22: 100 | W22: 65.2 | X22: 22.5 | Y22: 10.9 | Z22: 1.4 | AA22: 33.3 | AB22: 100 | AC22: 46.4 | AD22: 34.1 | AE22: 18.1 | AF22: 1.4 | AG22: 52.2 | AH22: 100 | AI22: 17.4 | AJ22: 58.7 | AK22: 22.5 | AL22: 1.4 | AM22: 81.2 | AN22: 100 | AO22: 2.9 | AP22: 12.3 | AQ22: 83.3 | AR22: 1.4 | AS22: 95.7 | AT22: 100 | AU22: 56.5 | AV22: 30.4 | AW22: 11.6 | AX22: 1.4 | AY22: 42 | AZ22: 100 | BA22: 15.2 | BB22: 59.4 | BC22: 23.9 | BD22: 1.4 | BE22: 83.3 | BF22: 100 | BG22: 22.5 | BH22: 39.1 | BI22: 36.2 | BJ22: 2.2 | BK22: 75.4 | BL22: 100 | BM22: 6.5 | BN22: 36.2 | BO22: 55.8 | BP22: 1.4 | BQ22: 92 | BR22: 100 | BS22: 88.4 | BT22: 7.2 | BU22: 2.9 | BV22: 1.4 | BW22: 10.1 | BX22: 100 | BY22: 26.8 | BZ22: 54.3 | CA22: 17.4 | CB22: 1.4 | CC22: 71.7 | CD22: 100 | CE22: 54.3 | CF22: 33.3 | CG22: 10.1 | CH22: 2.2 | CI22: 43.5 | CJ22: 100 | CK22: 54.3 | CL22: 29.7 | CM22: 14.5 | CN22: 1.4 | CO22: 44.2
C23: 400~450 万円未満 | D23: 148 | E23: 7 | F23: 71 | G23: 69 | H23: 1 | I23: 140 | J23: 148 | K23: 83 | L23: 39 | M23: 25 | N23: 1 | O23: 64 | P23: 148 | Q23: 35 | R23: 69 | S23: 42 | T23: 2 | U23: 111 | V23: 148 | W23: 94 | X23: 32 | Y23: 21 | Z23: 1 | AA23: 53 | AB23: 148 | AC23: 72 | AD23: 50 | AE23: 25 | AF23: 1 | AG23: 75 | AH23: 148 | AI23: 17 | AJ23: 88 | AK23: 42 | AL23: 1 | AM23: 130 | AN23: 148 | AO23: 9 | AP23: 18 | AQ23: 120 | AR23: 1 | AS23: 138 | AT23: 148 | AU23: 79 | AV23: 45 | AW23: 23 | AX23: 1 | AY23: 68 | AZ23: 148 | BA23: 26 | BB23: 78 | BC23: 42 | BD23: 2 | BE23: 120 | BF23: 148 | BG23: 38 | BH23: 61 | BI23: 48 | BJ23: 1 | BK23: 109 | BL23: 148 | BM23: 6 | BN23: 59 | BO23: 82 | BP23: 1 | BQ23: 141 | BR23: 148 | BS23: 113 | BT23: 26 | BU23: 8 | BV23: 1 | BW23: 34 | BX23: 148 | BY23: 24 | BZ23: 82 | CA23: 41 | CB23: 1 | CC23: 123 | CD23: 148 | CE23: 88 | CF23: 42 | CG23: 17 | CH23: 1 | CI23: 59 | CJ23: 148 | CK23: 77 | CL23: 50 | CM23: 20 | CN23: 1 | CO23: 70
D24: 100 | E24: 4.7 | F24: 48 | G24: 46.6 | H24: 0.7 | I24: 94.6 | J24: 100 | K24: 56.1 | L24: 26.4 | M24: 16.9 | N24: 0.7 | O24: 43.2 | P24: 100 | Q24: 23.6 | R24: 46.6 | S24: 28.4 | T24: 1.4 | U24: 75 | V24: 100 | W24: 63.5 | X24: 21.6 | Y24: 14.2 | Z24: 0.7 | AA24: 35.8 | AB24: 100 | AC24: 48.6 | AD24: 33.8 | AE24: 16.9 | AF24: 0.7 | AG24: 50.7 | AH24: 100 | AI24: 11.5 | AJ24: 59.5 | AK24: 28.4 | AL24: 0.7 | AM24: 87.8 | AN24: 100 | AO24: 6.1 | AP24: 12.2 | AQ24: 81.1 | AR24: 0.7 | AS24: 93.2 | AT24: 100 | AU24: 53.4 | AV24: 30.4 | AW24: 15.5 | AX24: 0.7 | AY24: 45.9 | AZ24: 100 | BA24: 17.6 | BB24: 52.7 | BC24: 28.4 | BD24: 1.4 | BE24: 81.1 | BF24: 100 | BG24: 25.7 | BH24: 41.2 | BI24: 32.4 | BJ24: 0.7 | BK24: 73.6 | BL24: 100 | BM24: 4.1 | BN24: 39.9 | BO24: 55.4 | BP24: 0.7 | BQ24: 95.3 | BR24: 100 | BS24: 76.4 | BT24: 17.6 | BU24: 5.4 | BV24: 0.7 | BW24: 23 | BX24: 100 | BY24: 16.2 | BZ24: 55.4 | CA24: 27.7 | CB24: 0.7 | CC24: 83.1 | CD24: 100 | CE24: 59.5 | CF24: 28.4 | CG24: 11.5 | CH24: 0.7 | CI24: 39.9 | CJ24: 100 | CK24: 52 | CL24: 33.8 | CM24: 13.5 | CN24: 0.7 | CO24: 47.3
C25: 450~500 万円未満 | D25: 179 | E25: 3 | F25: 87 | G25: 86 | H25: 3 | I25: 173 | J25: 179 | K25: 102 | L25: 41 | M25: 34 | N25: 2 | O25: 75 | P25: 179 | Q25: 49 | R25: 79 | S25: 49 | T25: 2 | U25: 128 | V25: 179 | W25: 132 | X25: 34 | Y25: 11 | Z25: 2 | AA25: 45 | AB25: 179 | AC25: 104 | AD25: 45 | AE25: 27 | AF25: 3 | AG25: 72 | AH25: 179 | AI25: 21 | AJ25: 102 | AK25: 54 | AL25: 2 | AM25: 156 | AN25: 179 | AO25: 6 | AP25: 12 | AQ25: 159 | AR25: 2 | AS25: 171 | AT25: 179 | AU25: 106 | AV25: 42 | AW25: 29 | AX25: 2 | AY25: 71 | AZ25: 179 | BA25: 19 | BB25: 111 | BC25: 47 | BD25: 2 | BE25: 158 | BF25: 179 | BG25: 52 | BH25: 69 | BI25: 56 | BJ25: 2 | BK25: 125 | BL25: 179 | BM25: 17 | BN25: 62 | BO25: 98 | BP25: 2 | BQ25: 160 | BR25: 179 | BS25: 152 | BT25: 17 | BU25: 8 | BV25: 2 | BW25: 25 | BX25: 179 | BY25: 55 | BZ25: 87 | CA25: 35 | CB25: 2 | CC25: 122 | CD25: 179 | CE25: 108 | CF25: 54 | CG25: 15 | CH25: 2 | CI25: 69 | CJ25: 179 | CK25: 104 | CL25: 54 | CM25: 19 | CN25: 2 | CO25: 73
D26: 100 | E26: 1.7 | F26: 48.6 | G26: 48 | H26: 1.7 | I26: 96.6 | J26: 100 | K26: 57 | L26: 22.9 | M26: 19 | N26: 1.1 | O26: 41.9 | P26: 100 | Q26: 27.4 | R26: 44.1 | S26: 27.4 | T26: 1.1 | U26: 71.5 | V26: 100 | W26: 73.7 | X26: 19 | Y26: 6.1 | Z26: 1.1 | AA26: 25.1 | AB26: 100 | AC26: 58.1 | AD26: 25.1 | AE26: 15.1 | AF26: 1.7 | AG26: 40.2 | AH26: 100 | AI26: 11.7 | AJ26: 57 | AK26: 30.2 | AL26: 1.1 | AM26: 87.2 | AN26: 100 | AO26: 3.4 | AP26: 6.7 | AQ26: 88.8 | AR26: 1.1 | AS26: 95.5 | AT26: 100 | AU26: 59.2 | AV26: 23.5 | AW26: 16.2 | AX26: 1.1 | AY26: 39.7 | AZ26: 100 | BA26: 10.6 | BB26: 62 | BC26: 26.3 | BD26: 1.1 | BE26: 88.3 | BF26: 100 | BG26: 29.1 | BH26: 38.5 | BI26: 31.3 | BJ26: 1.1 | BK26: 69.8 | BL26: 100 | BM26: 9.5 | BN26: 34.6 | BO26: 54.7 | BP26: 1.1 | BQ26: 89.4 | BR26: 100 | BS26: 84.9 | BT26: 9.5 | BU26: 4.5 | BV26: 1.1 | BW26: 14 | BX26: 100 | BY26: 30.7 | BZ26: 48.6 | CA26: 19.6 | CB26: 1.1 | CC26: 68.2 | CD26: 100 | CE26: 60.3 | CF26: 30.2 | CG26: 8.4 | CH26: 1.1 | CI26: 38.5 | CJ26: 100 | CK26: 58.1 | CL26: 30.2 | CM26: 10.6 | CN26: 1.1 | CO26: 40.8
C27: 500~600 万円未満 | D27: 330 | E27: 15 | F27: 167 | G27: 145 | H27: 3 | I27: 312 | J27: 330 | K27: 188 | L27: 100 | M27: 39 | N27: 3 | O27: 139 | P27: 330 | Q27: 80 | R27: 159 | S27: 87 | T27: 4 | U27: 246 | V27: 330 | W27: 241 | X27: 66 | Y27: 20 | Z27: 3 | AA27: 86 | AB27: 330 | AC27: 160 | AD27: 116 | AE27: 51 | AF27: 3 | AG27: 167 | AH27: 330 | AI27: 44 | AJ27: 186 | AK27: 97 | AL27: 3 | AM27: 283 | AN27: 330 | AO27: 8 | AP27: 35 | AQ27: 283 | AR27: 4 | AS27: 318 | AT27: 330 | AU27: 194 | AV27: 92 | AW27: 40 | AX27: 4 | AY27: 132 | AZ27: 330 | BA27: 53 | BB27: 196 | BC27: 78 | BD27: 3 | BE27: 274 | BF27: 330 | BG27: 70 | BH27: 141 | BI27: 116 | BJ27: 3 | BK27: 257 | BL27: 330 | BM27: 19 | BN27: 143 | BO27: 164 | BP27: 4 | BQ27: 307 | BR27: 330 | BS27: 268 | BT27: 47 | BU27: 12 | BV27: 3 | BW27: 59 | BX27: 330 | BY27: 92 | BZ27: 179 | CA27: 56 | CB27: 3 | CC27: 235 | CD27: 330 | CE27: 180 | CF27: 122 | CG27: 25 | CH27: 3 | CI27: 147 | CJ27: 330 | CK27: 182 | CL27: 106 | CM27: 39 | CN27: 3 | CO27: 145
D28: 100 | E28: 4.5 | F28: 50.6 | G28: 43.9 | H28: 0.9 | I28: 94.5 | J28: 100 | K28: 57 | L28: 30.3 | M28: 11.8 | N28: 0.9 | O28: 42.1 | P28: 100 | Q28: 24.2 | R28: 48.2 | S28: 26.4 | T28: 1.2 | U28: 74.5 | V28: 100 | W28: 73 | X28: 20 | Y28: 6.1 | Z28: 0.9 | AA28: 26.1 | AB28: 100 | AC28: 48.5 | AD28: 35.2 | AE28: 15.5 | AF28: 0.9 | AG28: 50.6 | AH28: 100 | AI28: 13.3 | AJ28: 56.4 | AK28: 29.4 | AL28: 0.9 | AM28: 85.8 | AN28: 100 | AO28: 2.4 | AP28: 10.6 | AQ28: 85.8 | AR28: 1.2 | AS28: 96.4 | AT28: 100 | AU28: 58.8 | AV28: 27.9 | AW28: 12.1 | AX28: 1.2 | AY28: 40 | AZ28: 100 | BA28: 16.1 | BB28: 59.4 | BC28: 23.6 | BD28: 0.9 | BE28: 83 | BF28: 100 | BG28: 21.2 | BH28: 42.7 | BI28: 35.2 | BJ28: 0.9 | BK28: 77.9 | BL28: 100 | BM28: 5.8 | BN28: 43.3 | BO28: 49.7 | BP28: 1.2 | BQ28: 93 | BR28: 100 | BS28: 81.2 | BT28: 14.2 | BU28: 3.6 | BV28: 0.9 | BW28: 17.9 | BX28: 100 | BY28: 27.9 | BZ28: 54.2 | CA28: 17 | CB28: 0.9 | CC28: 71.2 | CD28: 100 | CE28: 54.5 | CF28: 37 | CG28: 7.6 | CH28: 0.9 | CI28: 44.5 | CJ28: 100 | CK28: 55.2 | CL28: 32.1 | CM28: 11.8 | CN28: 0.9 | CO28: 43.9
C29: 600~700 万円未満 | D29: 286 | E29: 8 | F29: 132 | G29: 144 | H29: 2 | I29: 276 | J29: 286 | K29: 163 | L29: 81 | M29: 41 | N29: 1 | O29: 122 | P29: 286 | Q29: 67 | R29: 133 | S29: 85 | T29: 1 | U29: 218 | V29: 286 | W29: 219 | X29: 50 | Y29: 16 | Z29: 1 | AA29: 66 | AB29: 286 | AC29: 157 | AD29: 87 | AE29: 41 | AF29: 1 | AG29: 128 | AH29: 286 | AI29: 36 | AJ29: 163 | AK29: 86 | AL29: 1 | AM29: 249 | AN29: 286 | AO29: 10 | AP29: 18 | AQ29: 257 | AR29: 1 | AS29: 275 | AT29: 286 | AU29: 173 | AV29: 78 | AW29: 34 | AX29: 1 | AY29: 112 | AZ29: 286 | BA29: 32 | BB29: 167 | BC29: 86 | BD29: 1 | BE29: 253 | BF29: 286 | BG29: 81 | BH29: 127 | BI29: 77 | BJ29: 1 | BK29: 204 | BL29: 286 | BM29: 14 | BN29: 97 | BO29: 173 | BP29: 2 | BQ29: 270 | BR29: 286 | BS29: 244 | BT29: 32 | BU29: 8 | BV29: 2 | BW29: 40 | BX29: 286 | BY29: 78 | BZ29: 144 | CA29: 62 | CB29: 2 | CC29: 206 | CD29: 286 | CE29: 178 | CF29: 83 | CG29: 24 | CH29: 1 | CI29: 107 | CJ29: 286 | CK29: 164 | CL29: 85 | CM29: 36 | CN29: 1 | CO29: 121
D30: 100 | E30: 2.8 | F30: 46.2 | G30: 50.3 | H30: 0.7 | I30: 96.5 | J30: 100 | K30: 57 | L30: 28.3 | M30: 14.3 | N30: 0.3 | O30: 42.7 | P30: 100 | Q30: 23.4 | R30: 46.5 | S30: 29.7 | T30: 0.3 | U30: 76.2 | V30: 100 | W30: 76.6 | X30: 17.5 | Y30: 5.6 | Z30: 0.3 | AA30: 23.1 | AB30: 100 | AC30: 54.9 | AD30: 30.4 | AE30: 14.3 | AF30: 0.3 | AG30: 44.8 | AH30: 100 | AI30: 12.6 | AJ30: 57 | AK30: 30.1 | AL30: 0.3 | AM30: 87.1 | AN30: 100 | AO30: 3.5 | AP30: 6.3 | AQ30: 89.9 | AR30: 0.3 | AS30: 96.2 | AT30: 100 | AU30: 60.5 | AV30: 27.3 | AW30: 11.9 | AX30: 0.3 | AY30: 39.2 | AZ30: 100 | BA30: 11.2 | BB30: 58.4 | BC30: 30.1 | BD30: 0.3 | BE30: 88.5 | BF30: 100 | BG30: 28.3 | BH30: 44.4 | BI30: 26.9 | BJ30: 0.3 | BK30: 71.3 | BL30: 100 | BM30: 4.9 | BN30: 33.9 | BO30: 60.5 | BP30: 0.7 | BQ30: 94.4 | BR30: 100 | BS30: 85.3 | BT30: 11.2 | BU30: 2.8 | BV30: 0.7 | BW30: 14 | BX30: 100 | BY30: 27.3 | BZ30: 50.3 | CA30: 21.7 | CB30: 0.7 | CC30: 72 | CD30: 100 | CE30: 62.2 | CF30: 29 | CG30: 8.4 | CH30: 0.3 | CI30: 37.4 | CJ30: 100 | CK30: 57.3 | CL30: 29.7 | CM30: 12.6 | CN30: 0.3 | CO30: 42.3
C31: 700~800 万円未満 | D31: 303 | E31: 14 | F31: 139 | G31: 148 | H31: 2 | I31: 287 | J31: 303 | K31: 170 | L31: 73 | M31: 59 | N31: 1 | O31: 132 | P31: 303 | Q31: 77 | R31: 127 | S31: 95 | T31: 4 | U31: 222 | V31: 303 | W31: 223 | X31: 55 | Y31: 24 | Z31: 1 | AA31: 79 | AB31: 303 | AC31: 147 | AD31: 107 | AE31: 47 | AF31: 2 | AG31: 154 | AH31: 303 | AI31: 34 | AJ31: 184 | AK31: 83 | AL31: 2 | AM31: 267 | AN31: 303 | AO31: 12 | AP31: 30 | AQ31: 259 | AR31: 2 | AS31: 289 | AT31: 303 | AU31: 172 | AV31: 87 | AW31: 42 | AX31: 2 | AY31: 129 | AZ31: 303 | BA31: 40 | BB31: 172 | BC31: 89 | BD31: 2 | BE31: 261 | BF31: 303 | BG31: 83 | BH31: 130 | BI31: 89 | BJ31: 1 | BK31: 219 | BL31: 303 | BM31: 14 | BN31: 110 | BO31: 178 | BP31: 1 | BQ31: 288 | BR31: 303 | BS31: 252 | BT31: 41 | BU31: 9 | BV31: 1 | BW31: 50 | BX31: 303 | BY31: 76 | BZ31: 161 | CA31: 65 | CB31: 1 | CC31: 226 | CD31: 303 | CE31: 189 | CF31: 70 | CG31: 42 | CH31: 2 | CI31: 112 | CJ31: 303 | CK31: 175 | CL31: 94 | CM31: 33 | CN31: 1 | CO31: 127
D32: 100 | E32: 4.6 | F32: 45.9 | G32: 48.8 | H32: 0.7 | I32: 94.7 | J32: 100 | K32: 56.1 | L32: 24.1 | M32: 19.5 | N32: 0.3 | O32: 43.6 | P32: 100 | Q32: 25.4 | R32: 41.9 | S32: 31.4 | T32: 1.3 | U32: 73.3 | V32: 100 | W32: 73.6 | X32: 18.2 | Y32: 7.9 | Z32: 0.3 | AA32: 26.1 | AB32: 100 | AC32: 48.5 | AD32: 35.3 | AE32: 15.5 | AF32: 0.7 | AG32: 50.8 | AH32: 100 | AI32: 11.2 | AJ32: 60.7 | AK32: 27.4 | AL32: 0.7 | AM32: 88.1 | AN32: 100 | AO32: 4 | AP32: 9.9 | AQ32: 85.5 | AR32: 0.7 | AS32: 95.4 | AT32: 100 | AU32: 56.8 | AV32: 28.7 | AW32: 13.9 | AX32: 0.7 | AY32: 42.6 | AZ32: 100 | BA32: 13.2 | BB32: 56.8 | BC32: 29.4 | BD32: 0.7 | BE32: 86.1 | BF32: 100 | BG32: 27.4 | BH32: 42.9 | BI32: 29.4 | BJ32: 0.3 | BK32: 72.3 | BL32: 100 | BM32: 4.6 | BN32: 36.3 | BO32: 58.7 | BP32: 0.3 | BQ32: 95 | BR32: 100 | BS32: 83.2 | BT32: 13.5 | BU32: 3 | BV32: 0.3 | BW32: 16.5 | BX32: 100 | BY32: 25.1 | BZ32: 53.1 | CA32: 21.5 | CB32: 0.3 | CC32: 74.6 | CD32: 100 | CE32: 62.4 | CF32: 23.1 | CG32: 13.9 | CH32: 0.7 | CI32: 37 | CJ32: 100 | CK32: 57.8 | CL32: 31 | CM32: 10.9 | CN32: 0.3 | CO32: 41.9
C33: 800~900 万円未満 | D33: 194 | E33: 11 | F33: 75 | G33: 107 | H33: 1 | I33: 182 | J33: 194 | K33: 112 | L33: 47 | M33: 34 | N33: 1 | O33: 81 | P33: 194 | Q33: 43 | R33: 78 | S33: 71 | T33: 2 | U33: 149 | V33: 194 | W33: 146 | X33: 40 | Y33: 7 | Z33: 1 | AA33: 47 | AB33: 194 | AC33: 116 | AD33: 48 | AE33: 29 | AF33: 1 | AG33: 77 | AH33: 194 | AI33: 23 | AJ33: 117 | AK33: 53 | AL33: 1 | AM33: 170 | AN33: 194 | AO33: 3 | AP33: 12 | AQ33: 178 | AR33: 1 | AS33: 190 | AT33: 194 | AU33: 119 | AV33: 48 | AW33: 25 | AX33: 2 | AY33: 73 | AZ33: 194 | BA33: 18 | BB33: 120 | BC33: 55 | BD33: 1 | BE33: 175 | BF33: 194 | BG33: 56 | BH33: 82 | BI33: 55 | BJ33: 1 | BK33: 137 | BL33: 194 | BM33: 10 | BN33: 70 | BO33: 113 | BP33: 1 | BQ33: 183 | BR33: 194 | BS33: 159 | BT33: 31 | BU33: 3 | BV33: 1 | BW33: 34 | BX33: 194 | BY33: 50 | BZ33: 99 | CA33: 44 | CB33: 1 | CC33: 143 | CD33: 194 | CE33: 118 | CF33: 61 | CG33: 14 | CH33: 1 | CI33: 75 | CJ33: 194 | CK33: 103 | CL33: 64 | CM33: 26 | CN33: 1 | CO33: 90
D34: 100 | E34: 5.7 | F34: 38.7 | G34: 55.2 | H34: 0.5 | I34: 93.8 | J34: 100 | K34: 57.7 | L34: 24.2 | M34: 17.5 | N34: 0.5 | O34: 41.8 | P34: 100 | Q34: 22.2 | R34: 40.2 | S34: 36.6 | T34: 1 | U34: 76.8 | V34: 100 | W34: 75.3 | X34: 20.6 | Y34: 3.6 | Z34: 0.5 | AA34: 24.2 | AB34: 100 | AC34: 59.8 | AD34: 24.7 | AE34: 14.9 | AF34: 0.5 | AG34: 39.7 | AH34: 100 | AI34: 11.9 | AJ34: 60.3 | AK34: 27.3 | AL34: 0.5 | AM34: 87.6 | AN34: 100 | AO34: 1.5 | AP34: 6.2 | AQ34: 91.8 | AR34: 0.5 | AS34: 97.9 | AT34: 100 | AU34: 61.3 | AV34: 24.7 | AW34: 12.9 | AX34: 1 | AY34: 37.6 | AZ34: 100 | BA34: 9.3 | BB34: 61.9 | BC34: 28.4 | BD34: 0.5 | BE34: 90.2 | BF34: 100 | BG34: 28.9 | BH34: 42.3 | BI34: 28.4 | BJ34: 0.5 | BK34: 70.6 | BL34: 100 | BM34: 5.2 | BN34: 36.1 | BO34: 58.2 | BP34: 0.5 | BQ34: 94.3 | BR34: 100 | BS34: 82 | BT34: 16 | BU34: 1.5 | BV34: 0.5 | BW34: 17.5 | BX34: 100 | BY34: 25.8 | BZ34: 51 | CA34: 22.7 | CB34: 0.5 | CC34: 73.7 | CD34: 100 | CE34: 60.8 | CF34: 31.4 | CG34: 7.2 | CH34: 0.5 | CI34: 38.7 | CJ34: 100 | CK34: 53.1 | CL34: 33 | CM34: 13.4 | CN34: 0.5 | CO34: 46.4
C35: 900~1000万円未満 | D35: 208 | E35: 7 | F35: 100 | G35: 101 | H35: - | I35: 201 | J35: 208 | K35: 128 | L35: 51 | M35: 29 | N35: - | O35: 80 | P35: 208 | Q35: 53 | R35: 95 | S35: 60 | T35: - | U35: 155 | V35: 208 | W35: 161 | X35: 34 | Y35: 13 | Z35: - | AA35: 47 | AB35: 208 | AC35: 105 | AD35: 72 | AE35: 31 | AF35: - | AG35: 103 | AH35: 208 | AI35: 27 | AJ35: 127 | AK35: 54 | AL35: - | AM35: 181 | AN35: 208 | AO35: 7 | AP35: 22 | AQ35: 179 | AR35: - | AS35: 201 | AT35: 208 | AU35: 132 | AV35: 51 | AW35: 25 | AX35: - | AY35: 76 | AZ35: 208 | BA35: 22 | BB35: 134 | BC35: 51 | BD35: 1 | BE35: 185 | BF35: 208 | BG35: 62 | BH35: 81 | BI35: 65 | BJ35: - | BK35: 146 | BL35: 208 | BM35: 13 | BN35: 84 | BO35: 110 | BP35: 1 | BQ35: 194 | BR35: 208 | BS35: 176 | BT35: 26 | BU35: 5 | BV35: 1 | BW35: 31 | BX35: 208 | BY35: 61 | BZ35: 117 | CA35: 30 | CB35: - | CC35: 147 | CD35: 208 | CE35: 146 | CF35: 53 | CG35: 9 | CH35: - | CI35: 62 | CJ35: 208 | CK35: 131 | CL35: 56 | CM35: 21 | CN35: - | CO35: 77
D36: 100 | E36: 3.4 | F36: 48.1 | G36: 48.6 | H36: - | I36: 96.6 | J36: 100 | K36: 61.5 | L36: 24.5 | M36: 13.9 | N36: - | O36: 38.5 | P36: 100 | Q36: 25.5 | R36: 45.7 | S36: 28.8 | T36: - | U36: 74.5 | V36: 100 | W36: 77.4 | X36: 16.3 | Y36: 6.3 | Z36: - | AA36: 22.6 | AB36: 100 | AC36: 50.5 | AD36: 34.6 | AE36: 14.9 | AF36: - | AG36: 49.5 | AH36: 100 | AI36: 13 | AJ36: 61.1 | AK36: 26 | AL36: - | AM36: 87 | AN36: 100 | AO36: 3.4 | AP36: 10.6 | AQ36: 86.1 | AR36: - | AS36: 96.6 | AT36: 100 | AU36: 63.5 | AV36: 24.5 | AW36: 12 | AX36: - | AY36: 36.5 | AZ36: 100 | BA36: 10.6 | BB36: 64.4 | BC36: 24.5 | BD36: 0.5 | BE36: 88.9 | BF36: 100 | BG36: 29.8 | BH36: 38.9 | BI36: 31.3 | BJ36: - | BK36: 70.2 | BL36: 100 | BM36: 6.3 | BN36: 40.4 | BO36: 52.9 | BP36: 0.5 | BQ36: 93.3 | BR36: 100 | BS36: 84.6 | BT36: 12.5 | BU36: 2.4 | BV36: 0.5 | BW36: 14.9 | BX36: 100 | BY36: 29.3 | BZ36: 56.3 | CA36: 14.4 | CB36: - | CC36: 70.7 | CD36: 100 | CE36: 70.2 | CF36: 25.5 | CG36: 4.3 | CH36: - | CI36: 29.8 | CJ36: 100 | CK36: 63 | CL36: 26.9 | CM36: 10.1 | CN36: - | CO36: 37
C37: 1000万円以上 | D37: 415 | E37: 17 | F37: 184 | G37: 213 | H37: 1 | I37: 397 | J37: 415 | K37: 259 | L37: 104 | M37: 51 | N37: 1 | O37: 155 | P37: 415 | Q37: 126 | R37: 174 | S37: 112 | T37: 3 | U37: 286 | V37: 415 | W37: 316 | X37: 70 | Y37: 28 | Z37: 1 | AA37: 98 | AB37: 415 | AC37: 232 | AD37: 129 | AE37: 53 | AF37: 1 | AG37: 182 | AH37: 415 | AI37: 48 | AJ37: 234 | AK37: 132 | AL37: 1 | AM37: 366 | AN37: 415 | AO37: 18 | AP37: 28 | AQ37: 368 | AR37: 1 | AS37: 396 | AT37: 415 | AU37: 252 | AV37: 105 | AW37: 55 | AX37: 3 | AY37: 160 | AZ37: 415 | BA37: 42 | BB37: 239 | BC37: 133 | BD37: 1 | BE37: 372 | BF37: 415 | BG37: 127 | BH37: 175 | BI37: 112 | BJ37: 1 | BK37: 287 | BL37: 415 | BM37: 33 | BN37: 156 | BO37: 224 | BP37: 2 | BQ37: 380 | BR37: 415 | BS37: 359 | BT37: 46 | BU37: 9 | BV37: 1 | BW37: 55 | BX37: 415 | BY37: 109 | BZ37: 222 | CA37: 83 | CB37: 1 | CC37: 305 | CD37: 415 | CE37: 258 | CF37: 116 | CG37: 40 | CH37: 1 | CI37: 156 | CJ37: 415 | CK37: 237 | CL37: 125 | CM37: 52 | CN37: 1 | CO37: 177
D38: 100 | E38: 4.1 | F38: 44.3 | G38: 51.3 | H38: 0.2 | I38: 95.7 | J38: 100 | K38: 62.4 | L38: 25.1 | M38: 12.3 | N38: 0.2 | O38: 37.3 | P38: 100 | Q38: 30.4 | R38: 41.9 | S38: 27 | T38: 0.7 | U38: 68.9 | V38: 100 | W38: 76.1 | X38: 16.9 | Y38: 6.7 | Z38: 0.2 | AA38: 23.6 | AB38: 100 | AC38: 55.9 | AD38: 31.1 | AE38: 12.8 | AF38: 0.2 | AG38: 43.9 | AH38: 100 | AI38: 11.6 | AJ38: 56.4 | AK38: 31.8 | AL38: 0.2 | AM38: 88.2 | AN38: 100 | AO38: 4.3 | AP38: 6.7 | AQ38: 88.7 | AR38: 0.2 | AS38: 95.4 | AT38: 100 | AU38: 60.7 | AV38: 25.3 | AW38: 13.3 | AX38: 0.7 | AY38: 38.6 | AZ38: 100 | BA38: 10.1 | BB38: 57.6 | BC38: 32 | BD38: 0.2 | BE38: 89.6 | BF38: 100 | BG38: 30.6 | BH38: 42.2 | BI38: 27 | BJ38: 0.2 | BK38: 69.2 | BL38: 100 | BM38: 8 | BN38: 37.6 | BO38: 54 | BP38: 0.5 | BQ38: 91.6 | BR38: 100 | BS38: 86.5 | BT38: 11.1 | BU38: 2.2 | BV38: 0.2 | BW38: 13.3 | BX38: 100 | BY38: 26.3 | BZ38: 53.5 | CA38: 20 | CB38: 0.2 | CC38: 73.5 | CD38: 100 | CE38: 62.2 | CF38: 28 | CG38: 9.6 | CH38: 0.2 | CI38: 37.6 | CJ38: 100 | CK38: 57.1 | CL38: 30.1 | CM38: 12.5 | CN38: 0.2 | CO38: 42.7
C39: 不明・無回答 | D39: 60 | E39: 3 | F39: 25 | G39: 32 | H39: - | I39: 57 | J39: 60 | K39: 33 | L39: 15 | M39: 12 | N39: - | O39: 27 | P39: 60 | Q39: 18 | R39: 23 | S39: 18 | T39: 1 | U39: 41 | V39: 60 | W39: 41 | X39: 14 | Y39: 5 | Z39: - | AA39: 19 | AB39: 60 | AC39: 23 | AD39: 23 | AE39: 14 | AF39: - | AG39: 37 | AH39: 60 | AI39: 13 | AJ39: 25 | AK39: 22 | AL39: - | AM39: 47 | AN39: 60 | AO39: 5 | AP39: 5 | AQ39: 50 | AR39: - | AS39: 55 | AT39: 60 | AU39: 32 | AV39: 18 | AW39: 10 | AX39: - | AY39: 28 | AZ39: 60 | BA39: 16 | BB39: 34 | BC39: 9 | BD39: 1 | BE39: 43 | BF39: 60 | BG39: 10 | BH39: 24 | BI39: 26 | BJ39: - | BK39: 50 | BL39: 60 | BM39: 3 | BN39: 21 | BO39: 36 | BP39: - | BQ39: 57 | BR39: 60 | BS39: 55 | BT39: 5 | BU39: - | BV39: - | BW39: 5 | BX39: 60 | BY39: 18 | BZ39: 30 | CA39: 12 | CB39: - | CC39: 42 | CD39: 60 | CE39: 37 | CF39: 16 | CG39: 7 | CH39: - | CI39: 23 | CJ39: 60 | CK39: 31 | CL39: 18 | CM39: 11 | CN39: - | CO39: 29
D40: 100 | E40: 5 | F40: 41.7 | G40: 53.3 | H40: - | I40: 95 | J40: 100 | K40: 55 | L40: 25 | M40: 20 | N40: - | O40: 45 | P40: 100 | Q40: 30 | R40: 38.3 | S40: 30 | T40: 1.7 | U40: 68.3 | V40: 100 | W40: 68.3 | X40: 23.3 | Y40: 8.3 | Z40: - | AA40: 31.7 | AB40: 100 | AC40: 38.3 | AD40: 38.3 | AE40: 23.3 | AF40: - | AG40: 61.7 | AH40: 100 | AI40: 21.7 | AJ40: 41.7 | AK40: 36.7 | AL40: - | AM40: 78.3 | AN40: 100 | AO40: 8.3 | AP40: 8.3 | AQ40: 83.3 | AR40: - | AS40: 91.7 | AT40: 100 | AU40: 53.3 | AV40: 30 | AW40: 16.7 | AX40: - | AY40: 46.7 | AZ40: 100 | BA40: 26.7 | BB40: 56.7 | BC40: 15 | BD40: 1.7 | BE40: 71.7 | BF40: 100 | BG40: 16.7 | BH40: 40 | BI40: 43.3 | BJ40: - | BK40: 83.3 | BL40: 100 | BM40: 5 | BN40: 35 | BO40: 60 | BP40: - | BQ40: 95 | BR40: 100 | BS40: 91.7 | BT40: 8.3 | BU40: - | BV40: - | BW40: 8.3 | BX40: 100 | BY40: 30 | BZ40: 50 | CA40: 20 | CB40: - | CC40: 70 | CD40: 100 | CE40: 61.7 | CF40: 26.7 | CG40: 11.7 | CH40: - | CI40: 38.3 | CJ40: 100 | CK40: 51.7 | CL40: 30 | CM40: 18.3 | CN40: - | CO40: 48.3
C41: 200 万円未満（計） | D41: 151 | E41: 7 | F41: 77 | G41: 66 | H41: 1 | I41: 143 | J41: 151 | K41: 72 | L41: 44 | M41: 33 | N41: 2 | O41: 77 | P41: 151 | Q41: 43 | R41: 71 | S41: 35 | T41: 2 | U41: 106 | V41: 151 | W41: 96 | X41: 41 | Y41: 13 | Z41: 1 | AA41: 54 | AB41: 151 | AC41: 71 | AD41: 53 | AE41: 25 | AF41: 2 | AG41: 78 | AH41: 151 | AI41: 21 | AJ41: 83 | AK41: 46 | AL41: 1 | AM41: 129 | AN41: 151 | AO41: 4 | AP41: 13 | AQ41: 133 | AR41: 1 | AS41: 146 | AT41: 151 | AU41: 82 | AV41: 46 | AW41: 22 | AX41: 1 | AY41: 68 | AZ41: 151 | BA41: 21 | BB41: 94 | BC41: 34 | BD41: 2 | BE41: 128 | BF41: 151 | BG41: 30 | BH41: 61 | BI41: 59 | BJ41: 1 | BK41: 120 | BL41: 151 | BM41: 10 | BN41: 51 | BO41: 88 | BP41: 2 | BQ41: 139 | BR41: 151 | BS41: 121 | BT41: 23 | BU41: 6 | BV41: 1 | BW41: 29 | BX41: 151 | BY41: 50 | BZ41: 72 | CA41: 28 | CB41: 1 | CC41: 100 | CD41: 151 | CE41: 86 | CF41: 38 | CG41: 25 | CH41: 2 | CI41: 63 | CJ41: 151 | CK41: 73 | CL41: 54 | CM41: 23 | CN41: 1 | CO41: 77
D42: 100 | E42: 4.6 | F42: 51 | G42: 43.7 | H42: 0.7 | I42: 94.7 | J42: 100 | K42: 47.7 | L42: 29.1 | M42: 21.9 | N42: 1.3 | O42: 51 | P42: 100 | Q42: 28.5 | R42: 47 | S42: 23.2 | T42: 1.3 | U42: 70.2 | V42: 100 | W42: 63.6 | X42: 27.2 | Y42: 8.6 | Z42: 0.7 | AA42: 35.8 | AB42: 100 | AC42: 47 | AD42: 35.1 | AE42: 16.6 | AF42: 1.3 | AG42: 51.7 | AH42: 100 | AI42: 13.9 | AJ42: 55 | AK42: 30.5 | AL42: 0.7 | AM42: 85.4 | AN42: 100 | AO42: 2.6 | AP42: 8.6 | AQ42: 88.1 | AR42: 0.7 | AS42: 96.7 | AT42: 100 | AU42: 54.3 | AV42: 30.5 | AW42: 14.6 | AX42: 0.7 | AY42: 45 | AZ42: 100 | BA42: 13.9 | BB42: 62.3 | BC42: 22.5 | BD42: 1.3 | BE42: 84.8 | BF42: 100 | BG42: 19.9 | BH42: 40.4 | BI42: 39.1 | BJ42: 0.7 | BK42: 79.5 | BL42: 100 | BM42: 6.6 | BN42: 33.8 | BO42: 58.3 | BP42: 1.3 | BQ42: 92.1 | BR42: 100 | BS42: 80.1 | BT42: 15.2 | BU42: 4 | BV42: 0.7 | BW42: 19.2 | BX42: 100 | BY42: 33.1 | BZ42: 47.7 | CA42: 18.5 | CB42: 0.7 | CC42: 66.2 | CD42: 100 | CE42: 57 | CF42: 25.2 | CG42: 16.6 | CH42: 1.3 | CI42: 41.7 | CJ42: 100 | CK42: 48.3 | CL42: 35.8 | CM42: 15.2 | CN42: 0.7 | CO42: 51
C43: 200~400 万円未満（計） | D43: 441 | E43: 20 | F43: 219 | G43: 196 | H43: 6 | I43: 415 | J43: 441 | K43: 228 | L43: 130 | M43: 78 | N43: 5 | O43: 208 | P43: 441 | Q43: 132 | R43: 178 | S43: 125 | T43: 6 | U43: 303 | V43: 441 | W43: 301 | X43: 92 | Y43: 42 | Z43: 6 | AA43: 134 | AB43: 441 | AC43: 209 | AD43: 138 | AE43: 88 | AF43: 6 | AG43: 226 | AH43: 441 | AI43: 69 | AJ43: 244 | AK43: 122 | AL43: 6 | AM43: 366 | AN43: 441 | AO43: 21 | AP43: 38 | AQ43: 377 | AR43: 5 | AS43: 415 | AT43: 441 | AU43: 241 | AV43: 125 | AW43: 69 | AX43: 6 | AY43: 194 | AZ43: 441 | BA43: 83 | BB43: 265 | BC43: 87 | BD43: 6 | BE43: 352 | BF43: 441 | BG43: 113 | BH43: 158 | BI43: 163 | BJ43: 7 | BK43: 321 | BL43: 441 | BM43: 27 | BN43: 165 | BO43: 242 | BP43: 7 | BQ43: 407 | BR43: 441 | BS43: 371 | BT43: 48 | BU43: 16 | BV43: 6 | BW43: 64 | BX43: 441 | BY43: 115 | BZ43: 252 | CA43: 68 | CB43: 6 | CC43: 320 | CD43: 441 | CE43: 242 | CF43: 151 | CG43: 40 | CH43: 8 | CI43: 191 | CJ43: 441 | CK43: 239 | CL43: 124 | CM43: 72 | CN43: 6 | CO43: 196
D44: 100 | E44: 4.5 | F44: 49.7 | G44: 44.4 | H44: 1.4 | I44: 94.1 | J44: 100 | K44: 51.7 | L44: 29.5 | M44: 17.7 | N44: 1.1 | O44: 47.2 | P44: 100 | Q44: 29.9 | R44: 40.4 | S44: 28.3 | T44: 1.4 | U44: 68.7 | V44: 100 | W44: 68.3 | X44: 20.9 | Y44: 9.5 | Z44: 1.4 | AA44: 30.4 | AB44: 100 | AC44: 47.4 | AD44: 31.3 | AE44: 20 | AF44: 1.4 | AG44: 51.2 | AH44: 100 | AI44: 15.6 | AJ44: 55.3 | AK44: 27.7 | AL44: 1.4 | AM44: 83 | AN44: 100 | AO44: 4.8 | AP44: 8.6 | AQ44: 85.5 | AR44: 1.1 | AS44: 94.1 | AT44: 100 | AU44: 54.6 | AV44: 28.3 | AW44: 15.6 | AX44: 1.4 | AY44: 44 | AZ44: 100 | BA44: 18.8 | BB44: 60.1 | BC44: 19.7 | BD44: 1.4 | BE44: 79.8 | BF44: 100 | BG44: 25.6 | BH44: 35.8 | BI44: 37 | BJ44: 1.6 | BK44: 72.8 | BL44: 100 | BM44: 6.1 | BN44: 37.4 | BO44: 54.9 | BP44: 1.6 | BQ44: 92.3 | BR44: 100 | BS44: 84.1 | BT44: 10.9 | BU44: 3.6 | BV44: 1.4 | BW44: 14.5 | BX44: 100 | BY44: 26.1 | BZ44: 57.1 | CA44: 15.4 | CB44: 1.4 | CC44: 72.6 | CD44: 100 | CE44: 54.9 | CF44: 34.2 | CG44: 9.1 | CH44: 1.8 | CI44: 43.3 | CJ44: 100 | CK44: 54.2 | CL44: 28.1 | CM44: 16.3 | CN44: 1.4 | CO44: 44.4
C45: 400~600 万円未満（計） | D45: 657 | E45: 25 | F45: 325 | G45: 300 | H45: 7 | I45: 625 | J45: 657 | K45: 373 | L45: 180 | M45: 98 | N45: 6 | O45: 278 | P45: 657 | Q45: 164 | R45: 307 | S45: 178 | T45: 8 | U45: 485 | V45: 657 | W45: 467 | X45: 132 | Y45: 52 | Z45: 6 | AA45: 184 | AB45: 657 | AC45: 336 | AD45: 211 | AE45: 103 | AF45: 7 | AG45: 314 | AH45: 657 | AI45: 82 | AJ45: 376 | AK45: 193 | AL45: 6 | AM45: 569 | AN45: 657 | AO45: 23 | AP45: 65 | AQ45: 562 | AR45: 7 | AS45: 627 | AT45: 657 | AU45: 379 | AV45: 179 | AW45: 92 | AX45: 7 | AY45: 271 | AZ45: 657 | BA45: 98 | BB45: 385 | BC45: 167 | BD45: 7 | BE45: 552 | BF45: 657 | BG45: 160 | BH45: 271 | BI45: 220 | BJ45: 6 | BK45: 491 | BL45: 657 | BM45: 42 | BN45: 264 | BO45: 344 | BP45: 7 | BQ45: 608 | BR45: 657 | BS45: 533 | BT45: 90 | BU45: 28 | BV45: 6 | BW45: 118 | BX45: 657 | BY45: 171 | BZ45: 348 | CA45: 132 | CB45: 6 | CC45: 480 | CD45: 657 | CE45: 376 | CF45: 218 | CG45: 57 | CH45: 6 | CI45: 275 | CJ45: 657 | CK45: 363 | CL45: 210 | CM45: 78 | CN45: 6 | CO45: 288
D46: 100 | E46: 3.8 | F46: 49.5 | G46: 45.7 | H46: 1.1 | I46: 95.1 | J46: 100 | K46: 56.8 | L46: 27.4 | M46: 14.9 | N46: 0.9 | O46: 42.3 | P46: 100 | Q46: 25 | R46: 46.7 | S46: 27.1 | T46: 1.2 | U46: 73.8 | V46: 100 | W46: 71.1 | X46: 20.1 | Y46: 7.9 | Z46: 0.9 | AA46: 28 | AB46: 100 | AC46: 51.1 | AD46: 32.1 | AE46: 15.7 | AF46: 1.1 | AG46: 47.8 | AH46: 100 | AI46: 12.5 | AJ46: 57.2 | AK46: 29.4 | AL46: 0.9 | AM46: 86.6 | AN46: 100 | AO46: 3.5 | AP46: 9.9 | AQ46: 85.5 | AR46: 1.1 | AS46: 95.4 | AT46: 100 | AU46: 57.7 | AV46: 27.2 | AW46: 14 | AX46: 1.1 | AY46: 41.2 | AZ46: 100 | BA46: 14.9 | BB46: 58.6 | BC46: 25.4 | BD46: 1.1 | BE46: 84 | BF46: 100 | BG46: 24.4 | BH46: 41.2 | BI46: 33.5 | BJ46: 0.9 | BK46: 74.7 | BL46: 100 | BM46: 6.4 | BN46: 40.2 | BO46: 52.4 | BP46: 1.1 | BQ46: 92.5 | BR46: 100 | BS46: 81.1 | BT46: 13.7 | BU46: 4.3 | BV46: 0.9 | BW46: 18 | BX46: 100 | BY46: 26 | BZ46: 53 | CA46: 20.1 | CB46: 0.9 | CC46: 73.1 | CD46: 100 | CE46: 57.2 | CF46: 33.2 | CG46: 8.7 | CH46: 0.9 | CI46: 41.9 | CJ46: 100 | CK46: 55.3 | CL46: 32 | CM46: 11.9 | CN46: 0.9 | CO46: 43.8
C47: 600 万円~800万円未満（計） | D47: 589 | E47: 22 | F47: 271 | G47: 292 | H47: 4 | I47: 563 | J47: 589 | K47: 333 | L47: 154 | M47: 100 | N47: 2 | O47: 254 | P47: 589 | Q47: 144 | R47: 260 | S47: 180 | T47: 5 | U47: 440 | V47: 589 | W47: 442 | X47: 105 | Y47: 40 | Z47: 2 | AA47: 145 | AB47: 589 | AC47: 304 | AD47: 194 | AE47: 88 | AF47: 3 | AG47: 282 | AH47: 589 | AI47: 70 | AJ47: 347 | AK47: 169 | AL47: 3 | AM47: 516 | AN47: 589 | AO47: 22 | AP47: 48 | AQ47: 516 | AR47: 3 | AS47: 564 | AT47: 589 | AU47: 345 | AV47: 165 | AW47: 76 | AX47: 3 | AY47: 241 | AZ47: 589 | BA47: 72 | BB47: 339 | BC47: 175 | BD47: 3 | BE47: 514 | BF47: 589 | BG47: 164 | BH47: 257 | BI47: 166 | BJ47: 2 | BK47: 423 | BL47: 589 | BM47: 28 | BN47: 207 | BO47: 351 | BP47: 3 | BQ47: 558 | BR47: 589 | BS47: 496 | BT47: 73 | BU47: 17 | BV47: 3 | BW47: 90 | BX47: 589 | BY47: 154 | BZ47: 305 | CA47: 127 | CB47: 3 | CC47: 432 | CD47: 589 | CE47: 367 | CF47: 153 | CG47: 66 | CH47: 3 | CI47: 219 | CJ47: 589 | CK47: 339 | CL47: 179 | CM47: 69 | CN47: 2 | CO47: 248
D48: 100 | E48: 3.7 | F48: 46 | G48: 49.6 | H48: 0.7 | I48: 95.6 | J48: 100 | K48: 56.5 | L48: 26.1 | M48: 17 | N48: 0.3 | O48: 43.1 | P48: 100 | Q48: 24.4 | R48: 44.1 | S48: 30.6 | T48: 0.8 | U48: 74.7 | V48: 100 | W48: 75 | X48: 17.8 | Y48: 6.8 | Z48: 0.3 | AA48: 24.6 | AB48: 100 | AC48: 51.6 | AD48: 32.9 | AE48: 14.9 | AF48: 0.5 | AG48: 47.9 | AH48: 100 | AI48: 11.9 | AJ48: 58.9 | AK48: 28.7 | AL48: 0.5 | AM48: 87.6 | AN48: 100 | AO48: 3.7 | AP48: 8.1 | AQ48: 87.6 | AR48: 0.5 | AS48: 95.8 | AT48: 100 | AU48: 58.6 | AV48: 28 | AW48: 12.9 | AX48: 0.5 | AY48: 40.9 | AZ48: 100 | BA48: 12.2 | BB48: 57.6 | BC48: 29.7 | BD48: 0.5 | BE48: 87.3 | BF48: 100 | BG48: 27.8 | BH48: 43.6 | BI48: 28.2 | BJ48: 0.3 | BK48: 71.8 | BL48: 100 | BM48: 4.8 | BN48: 35.1 | BO48: 59.6 | BP48: 0.5 | BQ48: 94.7 | BR48: 100 | BS48: 84.2 | BT48: 12.4 | BU48: 2.9 | BV48: 0.5 | BW48: 15.3 | BX48: 100 | BY48: 26.1 | BZ48: 51.8 | CA48: 21.6 | CB48: 0.5 | CC48: 73.3 | CD48: 100 | CE48: 62.3 | CF48: 26 | CG48: 11.2 | CH48: 0.5 | CI48: 37.2 | CJ48: 100 | CK48: 57.6 | CL48: 30.4 | CM48: 11.7 | CN48: 0.3 | CO48: 42.1
C49: 800 万円以上（計） | D49: 817 | E49: 35 | F49: 359 | G49: 421 | H49: 2 | I49: 780 | J49: 817 | K49: 499 | L49: 202 | M49: 114 | N49: 2 | O49: 316 | P49: 817 | Q49: 222 | R49: 347 | S49: 243 | T49: 5 | U49: 590 | V49: 817 | W49: 623 | X49: 144 | Y49: 48 | Z49: 2 | AA49: 192 | AB49: 817 | AC49: 453 | AD49: 249 | AE49: 113 | AF49: 2 | AG49: 362 | AH49: 817 | AI49: 98 | AJ49: 478 | AK49: 239 | AL49: 2 | AM49: 717 | AN49: 817 | AO49: 28 | AP49: 62 | AQ49: 725 | AR49: 2 | AS49: 787 | AT49: 817 | AU49: 503 | AV49: 204 | AW49: 105 | AX49: 5 | AY49: 309 | AZ49: 817 | BA49: 82 | BB49: 493 | BC49: 239 | BD49: 3 | BE49: 732 | BF49: 817 | BG49: 245 | BH49: 338 | BI49: 232 | BJ49: 2 | BK49: 570 | BL49: 817 | BM49: 56 | BN49: 310 | BO49: 447 | BP49: 4 | BQ49: 757 | BR49: 817 | BS49: 694 | BT49: 103 | BU49: 17 | BV49: 3 | BW49: 120 | BX49: 817 | BY49: 220 | BZ49: 438 | CA49: 157 | CB49: 2 | CC49: 595 | CD49: 817 | CE49: 522 | CF49: 230 | CG49: 63 | CH49: 2 | CI49: 293 | CJ49: 817 | CK49: 471 | CL49: 245 | CM49: 99 | CN49: 2 | CO49: 344
D50: 100 | E50: 4.3 | F50: 43.9 | G50: 51.5 | H50: 0.2 | I50: 95.5 | J50: 100 | K50: 61.1 | L50: 24.7 | M50: 14 | N50: 0.2 | O50: 38.7 | P50: 100 | Q50: 27.2 | R50: 42.5 | S50: 29.7 | T50: 0.6 | U50: 72.2 | V50: 100 | W50: 76.3 | X50: 17.6 | Y50: 5.9 | Z50: 0.2 | AA50: 23.5 | AB50: 100 | AC50: 55.4 | AD50: 30.5 | AE50: 13.8 | AF50: 0.2 | AG50: 44.3 | AH50: 100 | AI50: 12 | AJ50: 58.5 | AK50: 29.3 | AL50: 0.2 | AM50: 87.8 | AN50: 100 | AO50: 3.4 | AP50: 7.6 | AQ50: 88.7 | AR50: 0.2 | AS50: 96.3 | AT50: 100 | AU50: 61.6 | AV50: 25 | AW50: 12.9 | AX50: 0.6 | AY50: 37.8 | AZ50: 100 | BA50: 10 | BB50: 60.3 | BC50: 29.3 | BD50: 0.4 | BE50: 89.6 | BF50: 100 | BG50: 30 | BH50: 41.4 | BI50: 28.4 | BJ50: 0.2 | BK50: 69.8 | BL50: 100 | BM50: 6.9 | BN50: 37.9 | BO50: 54.7 | BP50: 0.5 | BQ50: 92.7 | BR50: 100 | BS50: 84.9 | BT50: 12.6 | BU50: 2.1 | BV50: 0.4 | BW50: 14.7 | BX50: 100 | BY50: 26.9 | BZ50: 53.6 | CA50: 19.2 | CB50: 0.2 | CC50: 72.8 | CD50: 100 | CE50: 63.9 | CF50: 28.2 | CG50: 7.7 | CH50: 0.2 | CI50: 35.9 | CJ50: 100 | CK50: 57.6 | CL50: 30 | CM50: 12.1 | CN50: 0.2 | CO50: 42.1
B51: 全 体 | D51: 2715 | E51: 112 | F51: 1276 | G51: 1307 | H51: 20 | I51: 2583 | J51: 2715 | K51: 1538 | L51: 725 | M51: 435 | N51: 17 | O51: 1160 | P51: 2715 | Q51: 723 | R51: 1186 | S51: 779 | T51: 27 | U51: 1965 | V51: 2715 | W51: 1970 | X51: 528 | Y51: 200 | Z51: 17 | AA51: 728 | AB51: 2715 | AC51: 1396 | AD51: 868 | AE51: 431 | AF51: 20 | AG51: 1299 | AH51: 2715 | AI51: 353 | AJ51: 1553 | AK51: 791 | AL51: 18 | AM51: 2344 | AN51: 2715 | AO51: 103 | AP51: 231 | AQ51: 2363 | AR51: 18 | AS51: 2594 | AT51: 2715 | AU51: 1582 | AV51: 737 | AW51: 374 | AX51: 22 | AY51: 1111 | AZ51: 2715 | BA51: 372 | BB51: 1610 | BC51: 711 | BD51: 22 | BE51: 2321 | BF51: 2715 | BG51: 722 | BH51: 1109 | BI51: 866 | BJ51: 18 | BK51: 1975 | BL51: 2715 | BM51: 166 | BN51: 1018 | BO51: 1508 | BP51: 23 | BQ51: 2526 | BR51: 2715 | BS51: 2270 | BT51: 342 | BU51: 84 | BV51: 19 | BW51: 426 | BX51: 2715 | BY51: 728 | BZ51: 1445 | CA51: 524 | CB51: 18 | CC51: 1969 | CD51: 2715 | CE51: 1630 | CF51: 806 | CG51: 258 | CH51: 21 | CI51: 1064 | CJ51: 2715 | CK51: 1516 | CL51: 830 | CM51: 352 | CN51: 17 | CO51: 1182
D52: 100 | E52: 4.1 | F52: 47 | G52: 48.1 | H52: 0.7 | I52: 95.1 | J52: 100 | K52: 56.6 | L52: 26.7 | M52: 16 | N52: 0.6 | O52: 42.7 | P52: 100 | Q52: 26.6 | R52: 43.7 | S52: 28.7 | T52: 1 | U52: 72.4 | V52: 100 | W52: 72.6 | X52: 19.4 | Y52: 7.4 | Z52: 0.6 | AA52: 26.8 | AB52: 100 | AC52: 51.4 | AD52: 32 | AE52: 15.9 | AF52: 0.7 | AG52: 47.8 | AH52: 100 | AI52: 13 | AJ52: 57.2 | AK52: 29.1 | AL52: 0.7 | AM52: 86.3 | AN52: 100 | AO52: 3.8 | AP52: 8.5 | AQ52: 87 | AR52: 0.7 | AS52: 95.5 | AT52: 100 | AU52: 58.3 | AV52: 27.1 | AW52: 13.8 | AX52: 0.8 | AY52: 40.9 | AZ52: 100 | BA52: 13.7 | BB52: 59.3 | BC52: 26.2 | BD52: 0.8 | BE52: 85.5 | BF52: 100 | BG52: 26.6 | BH52: 40.8 | BI52: 31.9 | BJ52: 0.7 | BK52: 72.7 | BL52: 100 | BM52: 6.1 | BN52: 37.5 | BO52: 55.5 | BP52: 0.8 | BQ52: 93 | BR52: 100 | BS52: 83.6 | BT52: 12.6 | BU52: 3.1 | BV52: 0.7 | BW52: 15.7 | BX52: 100 | BY52: 26.8 | BZ52: 53.2 | CA52: 19.3 | CB52: 0.7 | CC52: 72.5 | CD52: 100 | CE52: 60 | CF52: 29.7 | CG52: 9.5 | CH52: 0.8 | CI52: 39.2 | CJ52: 100 | CK52: 55.8 | CL52: 30.6 | CM52: 13 | CN52: 0.6 | CO52: 43.5
B53: 親の婚姻状況 | C53: 結婚している（再婚や事実婚を含む。） | D53: 2358 | E53: 92 | F53: 1101 | G53: 1149 | H53: 16 | I53: 2250 | J53: 2358 | K53: 1358 | L53: 623 | M53: 363 | N53: 14 | O53: 986 | P53: 2358 | Q53: 608 | R53: 1035 | S53: 692 | T53: 23 | U53: 1727 | V53: 2358 | W53: 1722 | X53: 452 | Y53: 170 | Z53: 14 | AA53: 622 | AB53: 2358 | AC53: 1229 | AD53: 745 | AE53: 368 | AF53: 16 | AG53: 1113 | AH53: 2358 | AI53: 293 | AJ53: 1364 | AK53: 686 | AL53: 15 | AM53: 2050 | AN53: 2358 | AO53: 86 | AP53: 198 | AQ53: 2058 | AR53: 16 | AS53: 2256 | AT53: 2358 | AU53: 1381 | AV53: 636 | AW53: 322 | AX53: 19 | AY53: 958 | AZ53: 2358 | BA53: 315 | BB53: 1393 | BC53: 632 | BD53: 18 | BE53: 2025 | BF53: 2358 | BG53: 638 | BH53: 973 | BI53: 732 | BJ53: 15 | BK53: 1705 | BL53: 2358 | BM53: 143 | BN53: 895 | BO53: 1301 | BP53: 19 | BQ53: 2196 | BR53: 2358 | BS53: 1964 | BT53: 301 | BU53: 77 | BV53: 16 | BW53: 378 | BX53: 2358 | BY53: 628 | BZ53: 1262 | CA53: 453 | CB53: 15 | CC53: 1715 | CD53: 2358 | CE53: 1423 | CF53: 700 | CG53: 219 | CH53: 16 | CI53: 919 | CJ53: 2358 | CK53: 1327 | CL53: 715 | CM53: 302 | CN53: 14 | CO53: 1017
D54: 100 | E54: 3.9 | F54: 46.7 | G54: 48.7 | H54: 0.7 | I54: 95.4 | J54: 100 | K54: 57.6 | L54: 26.4 | M54: 15.4 | N54: 0.6 | O54: 41.8 | P54: 100 | Q54: 25.8 | R54: 43.9 | S54: 29.3 | T54: 1 | U54: 73.2 | V54: 100 | W54: 73 | X54: 19.2 | Y54: 7.2 | Z54: 0.6 | AA54: 26.4 | AB54: 100 | AC54: 52.1 | AD54: 31.6 | AE54: 15.6 | AF54: 0.7 | AG54: 47.2 | AH54: 100 | AI54: 12.4 | AJ54: 57.8 | AK54: 29.1 | AL54: 0.6 | AM54: 86.9 | AN54: 100 | AO54: 3.6 | AP54: 8.4 | AQ54: 87.3 | AR54: 0.7 | AS54: 95.7 | AT54: 100 | AU54: 58.6 | AV54: 27 | AW54: 13.7 | AX54: 0.8 | AY54: 40.6 | AZ54: 100 | BA54: 13.4 | BB54: 59.1 | BC54: 26.8 | BD54: 0.8 | BE54: 85.9 | BF54: 100 | BG54: 27.1 | BH54: 41.3 | BI54: 31 | BJ54: 0.6 | BK54: 72.3 | BL54: 100 | BM54: 6.1 | BN54: 38 | BO54: 55.2 | BP54: 0.8 | BQ54: 93.1 | BR54: 100 | BS54: 83.3 | BT54: 12.8 | BU54: 3.3 | BV54: 0.7 | BW54: 16 | BX54: 100 | BY54: 26.6 | BZ54: 53.5 | CA54: 19.2 | CB54: 0.6 | CC54: 72.7 | CD54: 100 | CE54: 60.3 | CF54: 29.7 | CG54: 9.3 | CH54: 0.7 | CI54: 39 | CJ54: 100 | CK54: 56.3 | CL54: 30.3 | CM54: 12.8 | CN54: 0.6 | CO54: 43.1
C55: 離婚 | D55: 283 | E55: 14 | F55: 141 | G55: 125 | H55: 3 | I55: 266 | J55: 283 | K55: 145 | L55: 87 | M55: 49 | N55: 2 | O55: 136 | P55: 283 | Q55: 88 | R55: 119 | S55: 73 | T55: 3 | U55: 192 | V55: 283 | W55: 200 | X55: 59 | Y55: 22 | Z55: 2 | AA55: 81 | AB55: 283 | AC55: 134 | AD55: 98 | AE55: 49 | AF55: 2 | AG55: 147 | AH55: 283 | AI55: 44 | AJ55: 149 | AK55: 88 | AL55: 2 | AM55: 237 | AN55: 283 | AO55: 12 | AP55: 26 | AQ55: 243 | AR55: 2 | AS55: 269 | AT55: 283 | AU55: 158 | AV55: 82 | AW55: 40 | AX55: 3 | AY55: 122 | AZ55: 283 | BA55: 44 | BB55: 167 | BC55: 69 | BD55: 3 | BE55: 236 | BF55: 283 | BG55: 66 | BH55: 109 | BI55: 106 | BJ55: 2 | BK55: 215 | BL55: 283 | BM55: 17 | BN55: 95 | BO55: 169 | BP55: 2 | BQ55: 264 | BR55: 283 | BS55: 239 | BT55: 37 | BU55: 5 | BV55: 2 | BW55: 42 | BX55: 283 | BY55: 77 | BZ55: 149 | CA55: 55 | CB55: 2 | CC55: 204 | CD55: 283 | CE55: 162 | CF55: 88 | CG55: 30 | CH55: 3 | CI55: 118 | CJ55: 283 | CK55: 149 | CL55: 89 | CM55: 43 | CN55: 2 | CO55: 132
D56: 100 | E56: 4.9 | F56: 49.8 | G56: 44.2 | H56: 1.1 | I56: 94 | J56: 100 | K56: 51.2 | L56: 30.7 | M56: 17.3 | N56: 0.7 | O56: 48.1 | P56: 100 | Q56: 31.1 | R56: 42 | S56: 25.8 | T56: 1.1 | U56: 67.8 | V56: 100 | W56: 70.7 | X56: 20.8 | Y56: 7.8 | Z56: 0.7 | AA56: 28.6 | AB56: 100 | AC56: 47.3 | AD56: 34.6 | AE56: 17.3 | AF56: 0.7 | AG56: 51.9 | AH56: 100 | AI56: 15.5 | AJ56: 52.7 | AK56: 31.1 | AL56: 0.7 | AM56: 83.7 | AN56: 100 | AO56: 4.2 | AP56: 9.2 | AQ56: 85.9 | AR56: 0.7 | AS56: 95.1 | AT56: 100 | AU56: 55.8 | AV56: 29 | AW56: 14.1 | AX56: 1.1 | AY56: 43.1 | AZ56: 100 | BA56: 15.5 | BB56: 59 | BC56: 24.4 | BD56: 1.1 | BE56: 83.4 | BF56: 100 | BG56: 23.3 | BH56: 38.5 | BI56: 37.5 | BJ56: 0.7 | BK56: 76 | BL56: 100 | BM56: 6 | BN56: 33.6 | BO56: 59.7 | BP56: 0.7 | BQ56: 93.3 | BR56: 100 | BS56: 84.5 | BT56: 13.1 | BU56: 1.8 | BV56: 0.7 | BW56: 14.8 | BX56: 100 | BY56: 27.2 | BZ56: 52.7 | CA56: 19.4 | CB56: 0.7 | CC56: 72.1 | CD56: 100 | CE56: 57.2 | CF56: 31.1 | CG56: 10.6 | CH56: 1.1 | CI56: 41.7 | CJ56: 100 | CK56: 52.7 | CL56: 31.4 | CM56: 15.2 | CN56: 0.7 | CO56: 46.6
C57: 死別 | D57: 37 | E57: 3 | F57: 19 | G57: 14 | H57: 1 | I57: 33 | J57: 37 | K57: 20 | L57: 4 | M57: 13 | N57: - | O57: 17 | P57: 37 | Q57: 14 | R57: 15 | S57: 7 | T57: 1 | U57: 22 | V57: 37 | W57: 23 | X57: 6 | Y57: 7 | Z57: 1 | AA57: 13 | AB57: 37 | AC57: 13 | AD57: 15 | AE57: 7 | AF57: 2 | AG57: 22 | AH57: 37 | AI57: 6 | AJ57: 22 | AK57: 8 | AL57: 1 | AM57: 30 | AN57: 37 | AO57: 4 | AP57: 3 | AQ57: 30 | AR57: - | AS57: 33 | AT57: 37 | AU57: 20 | AV57: 9 | AW57: 8 | AX57: - | AY57: 17 | AZ57: 37 | BA57: 8 | BB57: 22 | BC57: 6 | BD57: 1 | BE57: 28 | BF57: 37 | BG57: 11 | BH57: 12 | BI57: 13 | BJ57: 1 | BK57: 25 | BL57: 37 | BM57: 3 | BN57: 17 | BO57: 16 | BP57: 1 | BQ57: 33 | BR57: 37 | BS57: 32 | BT57: 2 | BU57: 2 | BV57: 1 | BW57: 4 | BX57: 37 | BY57: 10 | BZ57: 19 | CA57: 7 | CB57: 1 | CC57: 26 | CD57: 37 | CE57: 25 | CF57: 6 | CG57: 5 | CH57: 1 | CI57: 11 | CJ57: 37 | CK57: 18 | CL57: 14 | CM57: 4 | CN57: 1 | CO57: 18
D58: 100 | E58: 8.1 | F58: 51.4 | G58: 37.8 | H58: 2.7 | I58: 89.2 | J58: 100 | K58: 54.1 | L58: 10.8 | M58: 35.1 | N58: - | O58: 45.9 | P58: 100 | Q58: 37.8 | R58: 40.5 | S58: 18.9 | T58: 2.7 | U58: 59.5 | V58: 100 | W58: 62.2 | X58: 16.2 | Y58: 18.9 | Z58: 2.7 | AA58: 35.1 | AB58: 100 | AC58: 35.1 | AD58: 40.5 | AE58: 18.9 | AF58: 5.4 | AG58: 59.5 | AH58: 100 | AI58: 16.2 | AJ58: 59.5 | AK58: 21.6 | AL58: 2.7 | AM58: 81.1 | AN58: 100 | AO58: 10.8 | AP58: 8.1 | AQ58: 81.1 | AR58: - | AS58: 89.2 | AT58: 100 | AU58: 54.1 | AV58: 24.3 | AW58: 21.6 | AX58: - | AY58: 45.9 | AZ58: 100 | BA58: 21.6 | BB58: 59.5 | BC58: 16.2 | BD58: 2.7 | BE58: 75.7 | BF58: 100 | BG58: 29.7 | BH58: 32.4 | BI58: 35.1 | BJ58: 2.7 | BK58: 67.6 | BL58: 100 | BM58: 8.1 | BN58: 45.9 | BO58: 43.2 | BP58: 2.7 | BQ58: 89.2 | BR58: 100 | BS58: 86.5 | BT58: 5.4 | BU58: 5.4 | BV58: 2.7 | BW58: 10.8 | BX58: 100 | BY58: 27 | BZ58: 51.4 | CA58: 18.9 | CB58: 2.7 | CC58: 70.3 | CD58: 100 | CE58: 67.6 | CF58: 16.2 | CG58: 13.5 | CH58: 2.7 | CI58: 29.7 | CJ58: 100 | CK58: 48.6 | CL58: 37.8 | CM58: 10.8 | CN58: 2.7 | CO58: 48.6
C59: 未婚 | D59: 20 | E59: 1 | F59: 11 | G59: 8 | H59: - | I59: 19 | J59: 20 | K59: 10 | L59: 5 | M59: 5 | N59: - | O59: 10 | P59: 20 | Q59: 8 | R59: 9 | S59: 3 | T59: - | U59: 12 | V59: 20 | W59: 13 | X59: 7 | Y59: - | Z59: - | AA59: 7 | AB59: 20 | AC59: 12 | AD59: 4 | AE59: 4 | AF59: - | AG59: 8 | AH59: 20 | AI59: 4 | AJ59: 11 | AK59: 5 | AL59: - | AM59: 16 | AN59: 20 | AO59: - | AP59: 1 | AQ59: 19 | AR59: - | AS59: 20 | AT59: 20 | AU59: 12 | AV59: 6 | AW59: 2 | AX59: - | AY59: 8 | AZ59: 20 | BA59: 4 | BB59: 13 | BC59: 3 | BD59: - | BE59: 16 | BF59: 20 | BG59: 3 | BH59: 8 | BI59: 9 | BJ59: - | BK59: 17 | BL59: 20 | BM59: 1 | BN59: 6 | BO59: 12 | BP59: 1 | BQ59: 18 | BR59: 20 | BS59: 20 | BT59: - | BU59: - | BV59: - | BW59: - | BX59: 20 | BY59: 6 | BZ59: 8 | CA59: 6 | CB59: - | CC59: 14 | CD59: 20 | CE59: 11 | CF59: 7 | CG59: 2 | CH59: - | CI59: 9 | CJ59: 20 | CK59: 11 | CL59: 6 | CM59: 3 | CN59: - | CO59: 9
D60: 100 | E60: 5 | F60: 55 | G60: 40 | H60: - | I60: 95 | J60: 100 | K60: 50 | L60: 25 | M60: 25 | N60: - | O60: 50 | P60: 100 | Q60: 40 | R60: 45 | S60: 15 | T60: - | U60: 60 | V60: 100 | W60: 65 | X60: 35 | Y60: - | Z60: - | AA60: 35 | AB60: 100 | AC60: 60 | AD60: 20 | AE60: 20 | AF60: - | AG60: 40 | AH60: 100 | AI60: 20 | AJ60: 55 | AK60: 25 | AL60: - | AM60: 80 | AN60: 100 | AO60: - | AP60: 5 | AQ60: 95 | AR60: - | AS60: 100 | AT60: 100 | AU60: 60 | AV60: 30 | AW60: 10 | AX60: - | AY60: 40 | AZ60: 100 | BA60: 20 | BB60: 65 | BC60: 15 | BD60: - | BE60: 80 | BF60: 100 | BG60: 15 | BH60: 40 | BI60: 45 | BJ60: - | BK60: 85 | BL60: 100 | BM60: 5 | BN60: 30 | BO60: 60 | BP60: 5 | BQ60: 90 | BR60: 100 | BS60: 100 | BT60: - | BU60: - | BV60: - | BW60: - | BX60: 100 | BY60: 30 | BZ60: 40 | CA60: 30 | CB60: - | CC60: 70 | CD60: 100 | CE60: 55 | CF60: 35 | CG60: 10 | CH60: - | CI60: 45 | CJ60: 100 | CK60: 55 | CL60: 30 | CM60: 15 | CN60: - | CO60: 45
C61: いない、わからない | D61: 10 | E61: 2 | F61: 2 | G61: 6 | H61: - | I61: 8 | J61: 10 | K61: 4 | L61: 2 | M61: 4 | N61: - | O61: 6 | P61: 10 | Q61: 2 | R61: 5 | S61: 3 | T61: - | U61: 8 | V61: 10 | W61: 6 | X61: 3 | Y61: 1 | Z61: - | AA61: 4 | AB61: 10 | AC61: 4 | AD61: 4 | AE61: 2 | AF61: - | AG61: 6 | AH61: 10 | AI61: 3 | AJ61: 6 | AK61: 1 | AL61: - | AM61: 7 | AN61: 10 | AO61: 1 | AP61: 2 | AQ61: 7 | AR61: - | AS61: 9 | AT61: 10 | AU61: 5 | AV61: 4 | AW61: 1 | AX61: - | AY61: 5 | AZ61: 10 | BA61: 1 | BB61: 8 | BC61: 1 | BD61: - | BE61: 9 | BF61: 10 | BG61: 3 | BH61: 3 | BI61: 4 | BJ61: - | BK61: 7 | BL61: 10 | BM61: 2 | BN61: 2 | BO61: 6 | BP61: - | BQ61: 8 | BR61: 10 | BS61: 8 | BT61: 2 | BU61: - | BV61: - | BW61: 2 | BX61: 10 | BY61: 4 | BZ61: 5 | CA61: 1 | CB61: - | CC61: 6 | CD61: 10 | CE61: 4 | CF61: 4 | CG61: 2 | CH61: - | CI61: 6 | CJ61: 10 | CK61: 6 | CL61: 4 | CM61: - | CN61: - | CO61: 4
D62: 100 | E62: 20 | F62: 20 | G62: 60 | H62: - | I62: 80 | J62: 100 | K62: 40 | L62: 20 | M62: 40 | N62: - | O62: 60 | P62: 100 | Q62: 20 | R62: 50 | S62: 30 | T62: - | U62: 80 | V62: 100 | W62: 60 | X62: 30 | Y62: 10 | Z62: - | AA62: 40 | AB62: 100 | AC62: 40 | AD62: 40 | AE62: 20 | AF62: - | AG62: 60 | AH62: 100 | AI62: 30 | AJ62: 60 | AK62: 10 | AL62: - | AM62: 70 | AN62: 100 | AO62: 10 | AP62: 20 | AQ62: 70 | AR62: - | AS62: 90 | AT62: 100 | AU62: 50 | AV62: 40 | AW62: 10 | AX62: - | AY62: 50 | AZ62: 100 | BA62: 10 | BB62: 80 | BC62: 10 | BD62: - | BE62: 90 | BF62: 100 | BG62: 30 | BH62: 30 | BI62: 40 | BJ62: - | BK62: 70 | BL62: 100 | BM62: 20 | BN62: 20 | BO62: 60 | BP62: - | BQ62: 80 | BR62: 100 | BS62: 80 | BT62: 20 | BU62: - | BV62: - | BW62: 20 | BX62: 100 | BY62: 40 | BZ62: 50 | CA62: 10 | CB62: - | CC62: 60 | CD62: 100 | CE62: 40 | CF62: 40 | CG62: 20 | CH62: - | CI62: 60 | CJ62: 100 | CK62: 60 | CL62: 40 | CM62: - | CN62: - | CO62: 40
C63: 不明・無回答 | D63: 7 | E63: - | F63: 2 | G63: 5 | H63: - | I63: 7 | J63: 7 | K63: 1 | L63: 4 | M63: 1 | N63: 1 | O63: 5 | P63: 7 | Q63: 3 | R63: 3 | S63: 1 | T63: - | U63: 4 | V63: 7 | W63: 6 | X63: 1 | Y63: - | Z63: - | AA63: 1 | AB63: 7 | AC63: 4 | AD63: 2 | AE63: 1 | AF63: - | AG63: 3 | AH63: 7 | AI63: 3 | AJ63: 1 | AK63: 3 | AL63: - | AM63: 4 | AN63: 7 | AO63: - | AP63: 1 | AQ63: 6 | AR63: - | AS63: 7 | AT63: 7 | AU63: 6 | AV63: - | AW63: 1 | AX63: - | AY63: 1 | AZ63: 7 | BA63: - | BB63: 7 | BC63: - | BD63: - | BE63: 7 | BF63: 7 | BG63: 1 | BH63: 4 | BI63: 2 | BJ63: - | BK63: 6 | BL63: 7 | BM63: - | BN63: 3 | BO63: 4 | BP63: - | BQ63: 7 | BR63: 7 | BS63: 7 | BT63: - | BU63: - | BV63: - | BW63: - | BX63: 7 | BY63: 3 | BZ63: 2 | CA63: 2 | CB63: - | CC63: 4 | CD63: 7 | CE63: 5 | CF63: 1 | CG63: - | CH63: 1 | CI63: 1 | CJ63: 7 | CK63: 5 | CL63: 2 | CM63: - | CN63: - | CO63: 2
D64: 100 | E64: - | F64: 28.6 | G64: 71.4 | H64: - | I64: 100 | J64: 100 | K64: 14.3 | L64: 57.1 | M64: 14.3 | N64: 14.3 | O64: 71.4 | P64: 100 | Q64: 42.9 | R64: 42.9 | S64: 14.3 | T64: - | U64: 57.1 | V64: 100 | W64: 85.7 | X64: 14.3 | Y64: - | Z64: - | AA64: 14.3 | AB64: 100 | AC64: 57.1 | AD64: 28.6 | AE64: 14.3 | AF64: - | AG64: 42.9 | AH64: 100 | AI64: 42.9 | AJ64: 14.3 | AK64: 42.9 | AL64: - | AM64: 57.1 | AN64: 100 | AO64: - | AP64: 14.3 | AQ64: 85.7 | AR64: - | AS64: 100 | AT64: 100 | AU64: 85.7 | AV64: - | AW64: 14.3 | AX64: - | AY64: 14.3 | AZ64: 100 | BA64: - | BB64: 100 | BC64: - | BD64: - | BE64: 100 | BF64: 100 | BG64: 14.3 | BH64: 57.1 | BI64: 28.6 | BJ64: - | BK64: 85.7 | BL64: 100 | BM64: - | BN64: 42.9 | BO64: 57.1 | BP64: - | BQ64: 100 | BR64: 100 | BS64: 100 | BT64: - | BU64: - | BV64: - | BW64: - | BX64: 100 | BY64: 42.9 | BZ64: 28.6 | CA64: 28.6 | CB64: - | CC64: 57.1 | CD64: 100 | CE64: 71.4 | CF64: 14.3 | CG64: - | CH64: 14.3 | CI64: 14.3 | CJ64: 100 | CK64: 71.4 | CL64: 28.6 | CM64: - | CN64: - | CO64: 28.6
B65: 全 体 | D65: 2715 | E65: 112 | F65: 1276 | G65: 1307 | H65: 20 | I65: 2583 | J65: 2715 | K65: 1538 | L65: 725 | M65: 435 | N65: 17 | O65: 1160 | P65: 2715 | Q65: 723 | R65: 1186 | S65: 779 | T65: 27 | U65: 1965 | V65: 2715 | W65: 1970 | X65: 528 | Y65: 200 | Z65: 17 | AA65: 728 | AB65: 2715 | AC65: 1396 | AD65: 868 | AE65: 431 | AF65: 20 | AG65: 1299 | AH65: 2715 | AI65: 353 | AJ65: 1553 | AK65: 791 | AL65: 18 | AM65: 2344 | AN65: 2715 | AO65: 103 | AP65: 231 | AQ65: 2363 | AR65: 18 | AS65: 2594 | AT65: 2715 | AU65: 1582 | AV65: 737 | AW65: 374 | AX65: 22 | AY65: 1111 | AZ65: 2715 | BA65: 372 | BB65: 1610 | BC65: 711 | BD65: 22 | BE65: 2321 | BF65: 2715 | BG65: 722 | BH65: 1109 | BI65: 866 | BJ65: 18 | BK65: 1975 | BL65: 2715 | BM65: 166 | BN65: 1018 | BO65: 1508 | BP65: 23 | BQ65: 2526 | BR65: 2715 | BS65: 2270 | BT65: 342 | BU65: 84 | BV65: 19 | BW65: 426 | BX65: 2715 | BY65: 728 | BZ65: 1445 | CA65: 524 | CB65: 18 | CC65: 1969 | CD65: 2715 | CE65: 1630 | CF65: 806 | CG65: 258 | CH65: 21 | CI65: 1064 | CJ65: 2715 | CK65: 1516 | CL65: 830 | CM65: 352 | CN65: 17 | CO65: 1182
D66: 100 | E66: 4.1 | F66: 47 | G66: 48.1 | H66: 0.7 | I66: 95.1 | J66: 100 | K66: 56.6 | L66: 26.7 | M66: 16 | N66: 0.6 | O66: 42.7 | P66: 100 | Q66: 26.6 | R66: 43.7 | S66: 28.7 | T66: 1 | U66: 72.4 | V66: 100 | W66: 72.6 | X66: 19.4 | Y66: 7.4 | Z66: 0.6 | AA66: 26.8 | AB66: 100 | AC66: 51.4 | AD66: 32 | AE66: 15.9 | AF66: 0.7 | AG66: 47.8 | AH66: 100 | AI66: 13 | AJ66: 57.2 | AK66: 29.1 | AL66: 0.7 | AM66: 86.3 | AN66: 100 | AO66: 3.8 | AP66: 8.5 | AQ66: 87 | AR66: 0.7 | AS66: 95.5 | AT66: 100 | AU66: 58.3 | AV66: 27.1 | AW66: 13.8 | AX66: 0.8 | AY66: 40.9 | AZ66: 100 | BA66: 13.7 | BB66: 59.3 | BC66: 26.2 | BD66: 0.8 | BE66: 85.5 | BF66: 100 | BG66: 26.6 | BH66: 40.8 | BI66: 31.9 | BJ66: 0.7 | BK66: 72.7 | BL66: 100 | BM66: 6.1 | BN66: 37.5 | BO66: 55.5 | BP66: 0.8 | BQ66: 93 | BR66: 100 | BS66: 83.6 | BT66: 12.6 | BU66: 3.1 | BV66: 0.7 | BW66: 15.7 | BX66: 100 | BY66: 26.8 | BZ66: 53.2 | CA66: 19.3 | CB66: 0.7 | CC66: 72.5 | CD66: 100 | CE66: 60 | CF66: 29.7 | CG66: 9.5 | CH66: 0.8 | CI66: 39.2 | CJ66: 100 | CK66: 55.8 | CL66: 30.6 | CM66: 13 | CN66: 0.6 | CO66: 43.5
B67: 精神状態 a．神経過敏に感じた | C67: いつも | D67: 138 | E67: 5 | F67: 58 | G67: 72 | H67: 3 | I67: 130 | J67: 138 | K67: 61 | L67: 44 | M67: 32 | N67: 1 | O67: 76 | P67: 138 | Q67: 35 | R67: 62 | S67: 39 | T67: 2 | U67: 101 | V67: 138 | W67: 83 | X67: 39 | Y67: 14 | Z67: 2 | AA67: 53 | AB67: 138 | AC67: 51 | AD67: 54 | AE67: 31 | AF67: 2 | AG67: 85 | AH67: 138 | AI67: 16 | AJ67: 70 | AK67: 50 | AL67: 2 | AM67: 120 | AN67: 138 | AO67: 8 | AP67: 14 | AQ67: 115 | AR67: 1 | AS67: 129 | AT67: 138 | AU67: 69 | AV67: 42 | AW67: 26 | AX67: 1 | AY67: 68 | AZ67: 138 | BA67: 25 | BB67: 83 | BC67: 28 | BD67: 2 | BE67: 111 | BF67: 138 | BG67: 26 | BH67: 53 | BI67: 56 | BJ67: 3 | BK67: 109 | BL67: 138 | BM67: 8 | BN67: 51 | BO67: 77 | BP67: 2 | BQ67: 128 | BR67: 138 | BS67: 109 | BT67: 21 | BU67: 6 | BV67: 2 | BW67: 27 | BX67: 138 | BY67: 44 | BZ67: 63 | CA67: 28 | CB67: 3 | CC67: 91 | CD67: 138 | CE67: 86 | CF67: 37 | CG67: 13 | CH67: 2 | CI67: 50 | CJ67: 138 | CK67: 72 | CL67: 48 | CM67: 16 | CN67: 2 | CO67: 64
D68: 100 | E68: 3.6 | F68: 42 | G68: 52.2 | H68: 2.2 | I68: 94.2 | J68: 100 | K68: 44.2 | L68: 31.9 | M68: 23.2 | N68: 0.7 | O68: 55.1 | P68: 100 | Q68: 25.4 | R68: 44.9 | S68: 28.3 | T68: 1.4 | U68: 73.2 | V68: 100 | W68: 60.1 | X68: 28.3 | Y68: 10.1 | Z68: 1.4 | AA68: 38.4 | AB68: 100 | AC68: 37 | AD68: 39.1 | AE68: 22.5 | AF68: 1.4 | AG68: 61.6 | AH68: 100 | AI68: 11.6 | AJ68: 50.7 | AK68: 36.2 | AL68: 1.4 | AM68: 87 | AN68: 100 | AO68: 5.8 | AP68: 10.1 | AQ68: 83.3 | AR68: 0.7 | AS68: 93.5 | AT68: 100 | AU68: 50 | AV68: 30.4 | AW68: 18.8 | AX68: 0.7 | AY68: 49.3 | AZ68: 100 | BA68: 18.1 | BB68: 60.1 | BC68: 20.3 | BD68: 1.4 | BE68: 80.4 | BF68: 100 | BG68: 18.8 | BH68: 38.4 | BI68: 40.6 | BJ68: 2.2 | BK68: 79 | BL68: 100 | BM68: 5.8 | BN68: 37 | BO68: 55.8 | BP68: 1.4 | BQ68: 92.8 | BR68: 100 | BS68: 79 | BT68: 15.2 | BU68: 4.3 | BV68: 1.4 | BW68: 19.6 | BX68: 100 | BY68: 31.9 | BZ68: 45.7 | CA68: 20.3 | CB68: 2.2 | CC68: 65.9 | CD68: 100 | CE68: 62.3 | CF68: 26.8 | CG68: 9.4 | CH68: 1.4 | CI68: 36.2 | CJ68: 100 | CK68: 52.2 | CL68: 34.8 | CM68: 11.6 | CN68: 1.4 | CO68: 46.4
C69: たいてい | D69: 196 | E69: 9 | F69: 99 | G69: 88 | H69: - | I69: 187 | J69: 196 | K69: 86 | L69: 65 | M69: 45 | N69: - | O69: 110 | P69: 196 | Q69: 57 | R69: 78 | S69: 60 | T69: 1 | U69: 138 | V69: 196 | W69: 127 | X69: 54 | Y69: 15 | Z69: - | AA69: 69 | AB69: 196 | AC69: 82 | AD69: 72 | AE69: 42 | AF69: - | AG69: 114 | AH69: 196 | AI69: 28 | AJ69: 116 | AK69: 52 | AL69: - | AM69: 168 | AN69: 196 | AO69: 6 | AP69: 17 | AQ69: 173 | AR69: - | AS69: 190 | AT69: 196 | AU69: 109 | AV69: 55 | AW69: 32 | AX69: - | AY69: 87 | AZ69: 196 | BA69: 31 | BB69: 117 | BC69: 47 | BD69: 1 | BE69: 164 | BF69: 196 | BG69: 36 | BH69: 87 | BI69: 73 | BJ69: - | BK69: 160 | BL69: 196 | BM69: 13 | BN69: 77 | BO69: 105 | BP69: 1 | BQ69: 182 | BR69: 196 | BS69: 152 | BT69: 34 | BU69: 10 | BV69: - | BW69: 44 | BX69: 196 | BY69: 49 | BZ69: 118 | CA69: 29 | CB69: - | CC69: 147 | CD69: 196 | CE69: 104 | CF69: 73 | CG69: 19 | CH69: - | CI69: 92 | CJ69: 196 | CK69: 90 | CL69: 73 | CM69: 33 | CN69: - | CO69: 106
D70: 100 | E70: 4.6 | F70: 50.5 | G70: 44.9 | H70: - | I70: 95.4 | J70: 100 | K70: 43.9 | L70: 33.2 | M70: 23 | N70: - | O70: 56.1 | P70: 100 | Q70: 29.1 | R70: 39.8 | S70: 30.6 | T70: 0.5 | U70: 70.4 | V70: 100 | W70: 64.8 | X70: 27.6 | Y70: 7.7 | Z70: - | AA70: 35.2 | AB70: 100 | AC70: 41.8 | AD70: 36.7 | AE70: 21.4 | AF70: - | AG70: 58.2 | AH70: 100 | AI70: 14.3 | AJ70: 59.2 | AK70: 26.5 | AL70: - | AM70: 85.7 | AN70: 100 | AO70: 3.1 | AP70: 8.7 | AQ70: 88.3 | AR70: - | AS70: 96.9 | AT70: 100 | AU70: 55.6 | AV70: 28.1 | AW70: 16.3 | AX70: - | AY70: 44.4 | AZ70: 100 | BA70: 15.8 | BB70: 59.7 | BC70: 24 | BD70: 0.5 | BE70: 83.7 | BF70: 100 | BG70: 18.4 | BH70: 44.4 | BI70: 37.2 | BJ70: - | BK70: 81.6 | BL70: 100 | BM70: 6.6 | BN70: 39.3 | BO70: 53.6 | BP70: 0.5 | BQ70: 92.9 | BR70: 100 | BS70: 77.6 | BT70: 17.3 | BU70: 5.1 | BV70: - | BW70: 22.4 | BX70: 100 | BY70: 25 | BZ70: 60.2 | CA70: 14.8 | CB70: - | CC70: 75 | CD70: 100 | CE70: 53.1 | CF70: 37.2 | CG70: 9.7 | CH70: - | CI70: 46.9 | CJ70: 100 | CK70: 45.9 | CL70: 37.2 | CM70: 16.8 | CN70: - | CO70: 54.1
C71: ときどき | D71: 642 | E71: 29 | F71: 305 | G71: 306 | H71: 2 | I71: 611 | J71: 642 | K71: 356 | L71: 177 | M71: 107 | N71: 2 | O71: 284 | P71: 642 | Q71: 176 | R71: 279 | S71: 183 | T71: 4 | U71: 462 | V71: 642 | W71: 471 | X71: 119 | Y71: 50 | Z71: 2 | AA71: 169 | AB71: 642 | AC71: 306 | AD71: 220 | AE71: 114 | AF71: 2 | AG71: 334 | AH71: 642 | AI71: 83 | AJ71: 362 | AK71: 195 | AL71: 2 | AM71: 557 | AN71: 642 | AO71: 31 | AP71: 59 | AQ71: 550 | AR71: 2 | AS71: 609 | AT71: 642 | AU71: 344 | AV71: 198 | AW71: 98 | AX71: 2 | AY71: 296 | AZ71: 642 | BA71: 97 | BB71: 378 | BC71: 163 | BD71: 4 | BE71: 541 | BF71: 642 | BG71: 159 | BH71: 271 | BI71: 210 | BJ71: 2 | BK71: 481 | BL71: 642 | BM71: 40 | BN71: 237 | BO71: 361 | BP71: 4 | BQ71: 598 | BR71: 642 | BS71: 533 | BT71: 81 | BU71: 26 | BV71: 2 | BW71: 107 | BX71: 642 | BY71: 171 | BZ71: 351 | CA71: 118 | CB71: 2 | CC71: 469 | CD71: 642 | CE71: 364 | CF71: 207 | CG71: 68 | CH71: 3 | CI71: 275 | CJ71: 642 | CK71: 348 | CL71: 191 | CM71: 101 | CN71: 2 | CO71: 292
D72: 100 | E72: 4.5 | F72: 47.5 | G72: 47.7 | H72: 0.3 | I72: 95.2 | J72: 100 | K72: 55.5 | L72: 27.6 | M72: 16.7 | N72: 0.3 | O72: 44.2 | P72: 100 | Q72: 27.4 | R72: 43.5 | S72: 28.5 | T72: 0.6 | U72: 72 | V72: 100 | W72: 73.4 | X72: 18.5 | Y72: 7.8 | Z72: 0.3 | AA72: 26.3 | AB72: 100 | AC72: 47.7 | AD72: 34.3 | AE72: 17.8 | AF72: 0.3 | AG72: 52 | AH72: 100 | AI72: 12.9 | AJ72: 56.4 | AK72: 30.4 | AL72: 0.3 | AM72: 86.8 | AN72: 100 | AO72: 4.8 | AP72: 9.2 | AQ72: 85.7 | AR72: 0.3 | AS72: 94.9 | AT72: 100 | AU72: 53.6 | AV72: 30.8 | AW72: 15.3 | AX72: 0.3 | AY72: 46.1 | AZ72: 100 | BA72: 15.1 | BB72: 58.9 | BC72: 25.4 | BD72: 0.6 | BE72: 84.3 | BF72: 100 | BG72: 24.8 | BH72: 42.2 | BI72: 32.7 | BJ72: 0.3 | BK72: 74.9 | BL72: 100 | BM72: 6.2 | BN72: 36.9 | BO72: 56.2 | BP72: 0.6 | BQ72: 93.1 | BR72: 100 | BS72: 83 | BT72: 12.6 | BU72: 4 | BV72: 0.3 | BW72: 16.7 | BX72: 100 | BY72: 26.6 | BZ72: 54.7 | CA72: 18.4 | CB72: 0.3 | CC72: 73.1 | CD72: 100 | CE72: 56.7 | CF72: 32.2 | CG72: 10.6 | CH72: 0.5 | CI72: 42.8 | CJ72: 100 | CK72: 54.2 | CL72: 29.8 | CM72: 15.7 | CN72: 0.3 | CO72: 45.5
C73: 少しだけ | D73: 668 | E73: 24 | F73: 304 | G73: 335 | H73: 5 | I73: 639 | J73: 668 | K73: 383 | L73: 178 | M73: 102 | N73: 5 | O73: 280 | P73: 668 | Q73: 155 | R73: 313 | S73: 193 | T73: 7 | U73: 506 | V73: 668 | W73: 497 | X73: 123 | Y73: 44 | Z73: 4 | AA73: 167 | AB73: 668 | AC73: 337 | AD73: 230 | AE73: 96 | AF73: 5 | AG73: 326 | AH73: 668 | AI73: 80 | AJ73: 388 | AK73: 196 | AL73: 4 | AM73: 584 | AN73: 668 | AO73: 22 | AP73: 58 | AQ73: 583 | AR73: 5 | AS73: 641 | AT73: 668 | AU73: 389 | AV73: 189 | AW73: 86 | AX73: 4 | AY73: 275 | AZ73: 668 | BA73: 78 | BB73: 421 | BC73: 165 | BD73: 4 | BE73: 586 | BF73: 668 | BG73: 182 | BH73: 276 | BI73: 206 | BJ73: 4 | BK73: 482 | BL73: 668 | BM73: 35 | BN73: 247 | BO73: 381 | BP73: 5 | BQ73: 628 | BR73: 668 | BS73: 558 | BT73: 87 | BU73: 18 | BV73: 5 | BW73: 105 | BX73: 668 | BY73: 171 | BZ73: 352 | CA73: 141 | CB73: 4 | CC73: 493 | CD73: 668 | CE73: 414 | CF73: 193 | CG73: 56 | CH73: 5 | CI73: 249 | CJ73: 668 | CK73: 381 | CL73: 204 | CM73: 79 | CN73: 4 | CO73: 283
D74: 100 | E74: 3.6 | F74: 45.5 | G74: 50.1 | H74: 0.7 | I74: 95.7 | J74: 100 | K74: 57.3 | L74: 26.6 | M74: 15.3 | N74: 0.7 | O74: 41.9 | P74: 100 | Q74: 23.2 | R74: 46.9 | S74: 28.9 | T74: 1 | U74: 75.7 | V74: 100 | W74: 74.4 | X74: 18.4 | Y74: 6.6 | Z74: 0.6 | AA74: 25 | AB74: 100 | AC74: 50.4 | AD74: 34.4 | AE74: 14.4 | AF74: 0.7 | AG74: 48.8 | AH74: 100 | AI74: 12 | AJ74: 58.1 | AK74: 29.3 | AL74: 0.6 | AM74: 87.4 | AN74: 100 | AO74: 3.3 | AP74: 8.7 | AQ74: 87.3 | AR74: 0.7 | AS74: 96 | AT74: 100 | AU74: 58.2 | AV74: 28.3 | AW74: 12.9 | AX74: 0.6 | AY74: 41.2 | AZ74: 100 | BA74: 11.7 | BB74: 63 | BC74: 24.7 | BD74: 0.6 | BE74: 87.7 | BF74: 100 | BG74: 27.2 | BH74: 41.3 | BI74: 30.8 | BJ74: 0.6 | BK74: 72.2 | BL74: 100 | BM74: 5.2 | BN74: 37 | BO74: 57 | BP74: 0.7 | BQ74: 94 | BR74: 100 | BS74: 83.5 | BT74: 13 | BU74: 2.7 | BV74: 0.7 | BW74: 15.7 | BX74: 100 | BY74: 25.6 | BZ74: 52.7 | CA74: 21.1 | CB74: 0.6 | CC74: 73.8 | CD74: 100 | CE74: 62 | CF74: 28.9 | CG74: 8.4 | CH74: 0.7 | CI74: 37.3 | CJ74: 100 | CK74: 57 | CL74: 30.5 | CM74: 11.8 | CN74: 0.6 | CO74: 42.4
C75: まったくない | D75: 1043 | E75: 43 | F75: 498 | G75: 492 | H75: 10 | I75: 990 | J75: 1043 | K75: 637 | L75: 258 | M75: 139 | N75: 9 | O75: 397 | P75: 1043 | Q75: 291 | R75: 444 | S75: 295 | T75: 13 | U75: 739 | V75: 1043 | W75: 771 | X75: 189 | Y75: 74 | Z75: 9 | AA75: 263 | AB75: 1043 | AC75: 606 | AD75: 288 | AE75: 138 | AF75: 11 | AG75: 426 | AH75: 1043 | AI75: 141 | AJ75: 605 | AK75: 287 | AL75: 10 | AM75: 892 | AN75: 1043 | AO75: 34 | AP75: 81 | AQ75: 918 | AR75: 10 | AS75: 999 | AT75: 1043 | AU75: 656 | AV75: 249 | AW75: 123 | AX75: 15 | AY75: 372 | AZ75: 1043 | BA75: 134 | BB75: 598 | BC75: 300 | BD75: 11 | BE75: 898 | BF75: 1043 | BG75: 310 | BH75: 413 | BI75: 311 | BJ75: 9 | BK75: 724 | BL75: 1043 | BM75: 67 | BN75: 402 | BO75: 563 | BP75: 11 | BQ75: 965 | BR75: 1043 | BS75: 891 | BT75: 118 | BU75: 24 | BV75: 10 | BW75: 142 | BX75: 1043 | BY75: 285 | BZ75: 548 | CA75: 201 | CB75: 9 | CC75: 749 | CD75: 1043 | CE75: 646 | CF75: 289 | CG75: 97 | CH75: 11 | CI75: 386 | CJ75: 1043 | CK75: 611 | CL75: 309 | CM75: 114 | CN75: 9 | CO75: 423
D76: 100 | E76: 4.1 | F76: 47.7 | G76: 47.2 | H76: 1 | I76: 94.9 | J76: 100 | K76: 61.1 | L76: 24.7 | M76: 13.3 | N76: 0.9 | O76: 38.1 | P76: 100 | Q76: 27.9 | R76: 42.6 | S76: 28.3 | T76: 1.2 | U76: 70.9 | V76: 100 | W76: 73.9 | X76: 18.1 | Y76: 7.1 | Z76: 0.9 | AA76: 25.2 | AB76: 100 | AC76: 58.1 | AD76: 27.6 | AE76: 13.2 | AF76: 1.1 | AG76: 40.8 | AH76: 100 | AI76: 13.5 | AJ76: 58 | AK76: 27.5 | AL76: 1 | AM76: 85.5 | AN76: 100 | AO76: 3.3 | AP76: 7.8 | AQ76: 88 | AR76: 1 | AS76: 95.8 | AT76: 100 | AU76: 62.9 | AV76: 23.9 | AW76: 11.8 | AX76: 1.4 | AY76: 35.7 | AZ76: 100 | BA76: 12.8 | BB76: 57.3 | BC76: 28.8 | BD76: 1.1 | BE76: 86.1 | BF76: 100 | BG76: 29.7 | BH76: 39.6 | BI76: 29.8 | BJ76: 0.9 | BK76: 69.4 | BL76: 100 | BM76: 6.4 | BN76: 38.5 | BO76: 54 | BP76: 1.1 | BQ76: 92.5 | BR76: 100 | BS76: 85.4 | BT76: 11.3 | BU76: 2.3 | BV76: 1 | BW76: 13.6 | BX76: 100 | BY76: 27.3 | BZ76: 52.5 | CA76: 19.3 | CB76: 0.9 | CC76: 71.8 | CD76: 100 | CE76: 61.9 | CF76: 27.7 | CG76: 9.3 | CH76: 1.1 | CI76: 37 | CJ76: 100 | CK76: 58.6 | CL76: 29.6 | CM76: 10.9 | CN76: 0.9 | CO76: 40.6
C77: 不明・無回答 | D77: 28 | E77: 2 | F77: 12 | G77: 14 | H77: - | I77: 26 | J77: 28 | K77: 15 | L77: 3 | M77: 10 | N77: - | O77: 13 | P77: 28 | Q77: 9 | R77: 10 | S77: 9 | T77: - | U77: 19 | V77: 28 | W77: 21 | X77: 4 | Y77: 3 | Z77: - | AA77: 7 | AB77: 28 | AC77: 14 | AD77: 4 | AE77: 10 | AF77: - | AG77: 14 | AH77: 28 | AI77: 5 | AJ77: 12 | AK77: 11 | AL77: - | AM77: 23 | AN77: 28 | AO77: 2 | AP77: 2 | AQ77: 24 | AR77: - | AS77: 26 | AT77: 28 | AU77: 15 | AV77: 4 | AW77: 9 | AX77: - | AY77: 13 | AZ77: 28 | BA77: 7 | BB77: 13 | BC77: 8 | BD77: - | BE77: 21 | BF77: 28 | BG77: 9 | BH77: 9 | BI77: 10 | BJ77: - | BK77: 19 | BL77: 28 | BM77: 3 | BN77: 4 | BO77: 21 | BP77: - | BQ77: 25 | BR77: 28 | BS77: 27 | BT77: 1 | BU77: - | BV77: - | BW77: 1 | BX77: 28 | BY77: 8 | BZ77: 13 | CA77: 7 | CB77: - | CC77: 20 | CD77: 28 | CE77: 16 | CF77: 7 | CG77: 5 | CH77: - | CI77: 12 | CJ77: 28 | CK77: 14 | CL77: 5 | CM77: 9 | CN77: - | CO77: 14
D78: 100 | E78: 7.1 | F78: 42.9 | G78: 50 | H78: - | I78: 92.9 | J78: 100 | K78: 53.6 | L78: 10.7 | M78: 35.7 | N78: - | O78: 46.4 | P78: 100 | Q78: 32.1 | R78: 35.7 | S78: 32.1 | T78: - | U78: 67.9 | V78: 100 | W78: 75 | X78: 14.3 | Y78: 10.7 | Z78: - | AA78: 25 | AB78: 100 | AC78: 50 | AD78: 14.3 | AE78: 35.7 | AF78: - | AG78: 50 | AH78: 100 | AI78: 17.9 | AJ78: 42.9 | AK78: 39.3 | AL78: - | AM78: 82.1 | AN78: 100 | AO78: 7.1 | AP78: 7.1 | AQ78: 85.7 | AR78: - | AS78: 92.9 | AT78: 100 | AU78: 53.6 | AV78: 14.3 | AW78: 32.1 | AX78: - | AY78: 46.4 | AZ78: 100 | BA78: 25 | BB78: 46.4 | BC78: 28.6 | BD78: - | BE78: 75 | BF78: 100 | BG78: 32.1 | BH78: 32.1 | BI78: 35.7 | BJ78: - | BK78: 67.9 | BL78: 100 | BM78: 10.7 | BN78: 14.3 | BO78: 75 | BP78: - | BQ78: 89.3 | BR78: 100 | BS78: 96.4 | BT78: 3.6 | BU78: - | BV78: - | BW78: 3.6 | BX78: 100 | BY78: 28.6 | BZ78: 46.4 | CA78: 25 | CB78: - | CC78: 71.4 | CD78: 100 | CE78: 57.1 | CF78: 25 | CG78: 17.9 | CH78: - | CI78: 42.9 | CJ78: 100 | CK78: 50 | CL78: 17.9 | CM78: 32.1 | CN78: - | CO78: 50
B79: 全 体 | D79: 2715 | E79: 112 | F79: 1276 | G79: 1307 | H79: 20 | I79: 2583 | J79: 2715 | K79: 1538 | L79: 725 | M79: 435 | N79: 17 | O79: 1160 | P79: 2715 | Q79: 723 | R79: 1186 | S79: 779 | T79: 27 | U79: 1965 | V79: 2715 | W79: 1970 | X79: 528 | Y79: 200 | Z79: 17 | AA79: 728 | AB79: 2715 | AC79: 1396 | AD79: 868 | AE79: 431 | AF79: 20 | AG79: 1299 | AH79: 2715 | AI79: 353 | AJ79: 1553 | AK79: 791 | AL79: 18 | AM79: 2344 | AN79: 2715 | AO79: 103 | AP79: 231 | AQ79: 2363 | AR79: 18 | AS79: 2594 | AT79: 2715 | AU79: 1582 | AV79: 737 | AW79: 374 | AX79: 22 | AY79: 1111 | AZ79: 2715 | BA79: 372 | BB79: 1610 | BC79: 711 | BD79: 22 | BE79: 2321 | BF79: 2715 | BG79: 722 | BH79: 1109 | BI79: 866 | BJ79: 18 | BK79: 1975 | BL79: 2715 | BM79: 166 | BN79: 1018 | BO79: 1508 | BP79: 23 | BQ79: 2526 | BR79: 2715 | BS79: 2270 | BT79: 342 | BU79: 84 | BV79: 19 | BW79: 426 | BX79: 2715 | BY79: 728 | BZ79: 1445 | CA79: 524 | CB79: 18 | CC79: 1969 | CD79: 2715 | CE79: 1630 | CF79: 806 | CG79: 258 | CH79: 21 | CI79: 1064 | CJ79: 2715 | CK79: 1516 | CL79: 830 | CM79: 352 | CN79: 17 | CO79: 1182
D80: 100 | E80: 4.1 | F80: 47 | G80: 48.1 | H80: 0.7 | I80: 95.1 | J80: 100 | K80: 56.6 | L80: 26.7 | M80: 16 | N80: 0.6 | O80: 42.7 | P80: 100 | Q80: 26.6 | R80: 43.7 | S80: 28.7 | T80: 1 | U80: 72.4 | V80: 100 | W80: 72.6 | X80: 19.4 | Y80: 7.4 | Z80: 0.6 | AA80: 26.8 | AB80: 100 | AC80: 51.4 | AD80: 32 | AE80: 15.9 | AF80: 0.7 | AG80: 47.8 | AH80: 100 | AI80: 13 | AJ80: 57.2 | AK80: 29.1 | AL80: 0.7 | AM80: 86.3 | AN80: 100 | AO80: 3.8 | AP80: 8.5 | AQ80: 87 | AR80: 0.7 | AS80: 95.5 | AT80: 100 | AU80: 58.3 | AV80: 27.1 | AW80: 13.8 | AX80: 0.8 | AY80: 40.9 | AZ80: 100 | BA80: 13.7 | BB80: 59.3 | BC80: 26.2 | BD80: 0.8 | BE80: 85.5 | BF80: 100 | BG80: 26.6 | BH80: 40.8 | BI80: 31.9 | BJ80: 0.7 | BK80: 72.7 | BL80: 100 | BM80: 6.1 | BN80: 37.5 | BO80: 55.5 | BP80: 0.8 | BQ80: 93 | BR80: 100 | BS80: 83.6 | BT80: 12.6 | BU80: 3.1 | BV80: 0.7 | BW80: 15.7 | BX80: 100 | BY80: 26.8 | BZ80: 53.2 | CA80: 19.3 | CB80: 0.7 | CC80: 72.5 | CD80: 100 | CE80: 60 | CF80: 29.7 | CG80: 9.5 | CH80: 0.8 | CI80: 39.2 | CJ80: 100 | CK80: 55.8 | CL80: 30.6 | CM80: 13 | CN80: 0.6 | CO80: 43.5
B81: 精神状態 b．絶望的だと感じた | C81: いつも | D81: 28 | E81: - | F81: 19 | G81: 9 | H81: - | I81: 28 | J81: 28 | K81: 15 | L81: 9 | M81: 4 | N81: - | O81: 13 | P81: 28 | Q81: 13 | R81: 11 | S81: 4 | T81: - | U81: 15 | V81: 28 | W81: 16 | X81: 8 | Y81: 4 | Z81: - | AA81: 12 | AB81: 28 | AC81: 11 | AD81: 10 | AE81: 7 | AF81: - | AG81: 17 | AH81: 28 | AI81: 3 | AJ81: 18 | AK81: 7 | AL81: - | AM81: 25 | AN81: 28 | AO81: 3 | AP81: 3 | AQ81: 22 | AR81: - | AS81: 25 | AT81: 28 | AU81: 15 | AV81: 5 | AW81: 8 | AX81: - | AY81: 13 | AZ81: 28 | BA81: 7 | BB81: 14 | BC81: 7 | BD81: - | BE81: 21 | BF81: 28 | BG81: 6 | BH81: 13 | BI81: 9 | BJ81: - | BK81: 22 | BL81: 28 | BM81: 2 | BN81: 11 | BO81: 15 | BP81: - | BQ81: 26 | BR81: 28 | BS81: 21 | BT81: 3 | BU81: 4 | BV81: - | BW81: 7 | BX81: 28 | BY81: 9 | BZ81: 16 | CA81: 3 | CB81: - | CC81: 19 | CD81: 28 | CE81: 16 | CF81: 8 | CG81: 4 | CH81: - | CI81: 12 | CJ81: 28 | CK81: 14 | CL81: 10 | CM81: 4 | CN81: - | CO81: 14
D82: 100 | E82: - | F82: 67.9 | G82: 32.1 | H82: - | I82: 100 | J82: 100 | K82: 53.6 | L82: 32.1 | M82: 14.3 | N82: - | O82: 46.4 | P82: 100 | Q82: 46.4 | R82: 39.3 | S82: 14.3 | T82: - | U82: 53.6 | V82: 100 | W82: 57.1 | X82: 28.6 | Y82: 14.3 | Z82: - | AA82: 42.9 | AB82: 100 | AC82: 39.3 | AD82: 35.7 | AE82: 25 | AF82: - | AG82: 60.7 | AH82: 100 | AI82: 10.7 | AJ82: 64.3 | AK82: 25 | AL82: - | AM82: 89.3 | AN82: 100 | AO82: 10.7 | AP82: 10.7 | AQ82: 78.6 | AR82: - | AS82: 89.3 | AT82: 100 | AU82: 53.6 | AV82: 17.9 | AW82: 28.6 | AX82: - | AY82: 46.4 | AZ82: 100 | BA82: 25 | BB82: 50 | BC82: 25 | BD82: - | BE82: 75 | BF82: 100 | BG82: 21.4 | BH82: 46.4 | BI82: 32.1 | BJ82: - | BK82: 78.6 | BL82: 100 | BM82: 7.1 | BN82: 39.3 | BO82: 53.6 | BP82: - | BQ82: 92.9 | BR82: 100 | BS82: 75 | BT82: 10.7 | BU82: 14.3 | BV82: - | BW82: 25 | BX82: 100 | BY82: 32.1 | BZ82: 57.1 | CA82: 10.7 | CB82: - | CC82: 67.9 | CD82: 100 | CE82: 57.1 | CF82: 28.6 | CG82: 14.3 | CH82: - | CI82: 42.9 | CJ82: 100 | CK82: 50 | CL82: 35.7 | CM82: 14.3 | CN82: - | CO82: 50
C83: たいてい | D83: 77 | E83: 3 | F83: 41 | G83: 33 | H83: - | I83: 74 | J83: 77 | K83: 39 | L83: 23 | M83: 15 | N83: - | O83: 38 | P83: 77 | Q83: 24 | R83: 36 | S83: 17 | T83: - | U83: 53 | V83: 77 | W83: 52 | X83: 20 | Y83: 5 | Z83: - | AA83: 25 | AB83: 77 | AC83: 28 | AD83: 31 | AE83: 18 | AF83: - | AG83: 49 | AH83: 77 | AI83: 8 | AJ83: 42 | AK83: 27 | AL83: - | AM83: 69 | AN83: 77 | AO83: 4 | AP83: 8 | AQ83: 65 | AR83: - | AS83: 73 | AT83: 77 | AU83: 33 | AV83: 28 | AW83: 16 | AX83: - | AY83: 44 | AZ83: 77 | BA83: 16 | BB83: 44 | BC83: 17 | BD83: - | BE83: 61 | BF83: 77 | BG83: 14 | BH83: 28 | BI83: 34 | BJ83: 1 | BK83: 62 | BL83: 77 | BM83: 2 | BN83: 29 | BO83: 46 | BP83: - | BQ83: 75 | BR83: 77 | BS83: 66 | BT83: 11 | BU83: - | BV83: - | BW83: 11 | BX83: 77 | BY83: 22 | BZ83: 43 | CA83: 12 | CB83: - | CC83: 55 | CD83: 77 | CE83: 42 | CF83: 27 | CG83: 8 | CH83: - | CI83: 35 | CJ83: 77 | CK83: 38 | CL83: 28 | CM83: 11 | CN83: - | CO83: 39
D84: 100 | E84: 3.9 | F84: 53.2 | G84: 42.9 | H84: - | I84: 96.1 | J84: 100 | K84: 50.6 | L84: 29.9 | M84: 19.5 | N84: - | O84: 49.4 | P84: 100 | Q84: 31.2 | R84: 46.8 | S84: 22.1 | T84: - | U84: 68.8 | V84: 100 | W84: 67.5 | X84: 26 | Y84: 6.5 | Z84: - | AA84: 32.5 | AB84: 100 | AC84: 36.4 | AD84: 40.3 | AE84: 23.4 | AF84: - | AG84: 63.6 | AH84: 100 | AI84: 10.4 | AJ84: 54.5 | AK84: 35.1 | AL84: - | AM84: 89.6 | AN84: 100 | AO84: 5.2 | AP84: 10.4 | AQ84: 84.4 | AR84: - | AS84: 94.8 | AT84: 100 | AU84: 42.9 | AV84: 36.4 | AW84: 20.8 | AX84: - | AY84: 57.1 | AZ84: 100 | BA84: 20.8 | BB84: 57.1 | BC84: 22.1 | BD84: - | BE84: 79.2 | BF84: 100 | BG84: 18.2 | BH84: 36.4 | BI84: 44.2 | BJ84: 1.3 | BK84: 80.5 | BL84: 100 | BM84: 2.6 | BN84: 37.7 | BO84: 59.7 | BP84: - | BQ84: 97.4 | BR84: 100 | BS84: 85.7 | BT84: 14.3 | BU84: - | BV84: - | BW84: 14.3 | BX84: 100 | BY84: 28.6 | BZ84: 55.8 | CA84: 15.6 | CB84: - | CC84: 71.4 | CD84: 100 | CE84: 54.5 | CF84: 35.1 | CG84: 10.4 | CH84: - | CI84: 45.5 | CJ84: 100 | CK84: 49.4 | CL84: 36.4 | CM84: 14.3 | CN84: - | CO84: 50.6
C85: ときどき | D85: 278 | E85: 15 | F85: 134 | G85: 127 | H85: 2 | I85: 261 | J85: 278 | K85: 136 | L85: 76 | M85: 64 | N85: 2 | O85: 140 | P85: 278 | Q85: 92 | R85: 111 | S85: 72 | T85: 3 | U85: 183 | V85: 278 | W85: 177 | X85: 70 | Y85: 29 | Z85: 2 | AA85: 99 | AB85: 278 | AC85: 107 | AD85: 110 | AE85: 59 | AF85: 2 | AG85: 169 | AH85: 278 | AI85: 39 | AJ85: 156 | AK85: 81 | AL85: 2 | AM85: 237 | AN85: 278 | AO85: 13 | AP85: 30 | AQ85: 233 | AR85: 2 | AS85: 263 | AT85: 278 | AU85: 145 | AV85: 77 | AW85: 54 | AX85: 2 | AY85: 131 | AZ85: 278 | BA85: 43 | BB85: 178 | BC85: 54 | BD85: 3 | BE85: 232 | BF85: 278 | BG85: 59 | BH85: 105 | BI85: 112 | BJ85: 2 | BK85: 217 | BL85: 278 | BM85: 20 | BN85: 120 | BO85: 135 | BP85: 3 | BQ85: 255 | BR85: 278 | BS85: 223 | BT85: 42 | BU85: 11 | BV85: 2 | BW85: 53 | BX85: 278 | BY85: 79 | BZ85: 146 | CA85: 51 | CB85: 2 | CC85: 197 | CD85: 278 | CE85: 150 | CF85: 96 | CG85: 30 | CH85: 2 | CI85: 126 | CJ85: 278 | CK85: 124 | CL85: 95 | CM85: 57 | CN85: 2 | CO85: 152
D86: 100 | E86: 5.4 | F86: 48.2 | G86: 45.7 | H86: 0.7 | I86: 93.9 | J86: 100 | K86: 48.9 | L86: 27.3 | M86: 23 | N86: 0.7 | O86: 50.4 | P86: 100 | Q86: 33.1 | R86: 39.9 | S86: 25.9 | T86: 1.1 | U86: 65.8 | V86: 100 | W86: 63.7 | X86: 25.2 | Y86: 10.4 | Z86: 0.7 | AA86: 35.6 | AB86: 100 | AC86: 38.5 | AD86: 39.6 | AE86: 21.2 | AF86: 0.7 | AG86: 60.8 | AH86: 100 | AI86: 14 | AJ86: 56.1 | AK86: 29.1 | AL86: 0.7 | AM86: 85.3 | AN86: 100 | AO86: 4.7 | AP86: 10.8 | AQ86: 83.8 | AR86: 0.7 | AS86: 94.6 | AT86: 100 | AU86: 52.2 | AV86: 27.7 | AW86: 19.4 | AX86: 0.7 | AY86: 47.1 | AZ86: 100 | BA86: 15.5 | BB86: 64 | BC86: 19.4 | BD86: 1.1 | BE86: 83.5 | BF86: 100 | BG86: 21.2 | BH86: 37.8 | BI86: 40.3 | BJ86: 0.7 | BK86: 78.1 | BL86: 100 | BM86: 7.2 | BN86: 43.2 | BO86: 48.6 | BP86: 1.1 | BQ86: 91.7 | BR86: 100 | BS86: 80.2 | BT86: 15.1 | BU86: 4 | BV86: 0.7 | BW86: 19.1 | BX86: 100 | BY86: 28.4 | BZ86: 52.5 | CA86: 18.3 | CB86: 0.7 | CC86: 70.9 | CD86: 100 | CE86: 54 | CF86: 34.5 | CG86: 10.8 | CH86: 0.7 | CI86: 45.3 | CJ86: 100 | CK86: 44.6 | CL86: 34.2 | CM86: 20.5 | CN86: 0.7 | CO86: 54.7
C87: 少しだけ | D87: 466 | E87: 21 | F87: 232 | G87: 210 | H87: 3 | I87: 442 | J87: 466 | K87: 239 | L87: 144 | M87: 82 | N87: 1 | O87: 226 | P87: 466 | Q87: 107 | R87: 213 | S87: 141 | T87: 5 | U87: 354 | V87: 466 | W87: 316 | X87: 113 | Y87: 35 | Z87: 2 | AA87: 148 | AB87: 466 | AC87: 226 | AD87: 148 | AE87: 90 | AF87: 2 | AG87: 238 | AH87: 466 | AI87: 71 | AJ87: 279 | AK87: 114 | AL87: 2 | AM87: 393 | AN87: 466 | AO87: 23 | AP87: 46 | AQ87: 396 | AR87: 1 | AS87: 442 | AT87: 466 | AU87: 246 | AV87: 152 | AW87: 66 | AX87: 2 | AY87: 218 | AZ87: 466 | BA87: 69 | BB87: 279 | BC87: 116 | BD87: 2 | BE87: 395 | BF87: 466 | BG87: 104 | BH87: 200 | BI87: 160 | BJ87: 2 | BK87: 360 | BL87: 466 | BM87: 28 | BN87: 170 | BO87: 266 | BP87: 2 | BQ87: 436 | BR87: 466 | BS87: 385 | BT87: 64 | BU87: 15 | BV87: 2 | BW87: 79 | BX87: 466 | BY87: 139 | BZ87: 247 | CA87: 78 | CB87: 2 | CC87: 325 | CD87: 466 | CE87: 265 | CF87: 159 | CG87: 40 | CH87: 2 | CI87: 199 | CJ87: 466 | CK87: 241 | CL87: 142 | CM87: 81 | CN87: 2 | CO87: 223
D88: 100 | E88: 4.5 | F88: 49.8 | G88: 45.1 | H88: 0.6 | I88: 94.8 | J88: 100 | K88: 51.3 | L88: 30.9 | M88: 17.6 | N88: 0.2 | O88: 48.5 | P88: 100 | Q88: 23 | R88: 45.7 | S88: 30.3 | T88: 1.1 | U88: 76 | V88: 100 | W88: 67.8 | X88: 24.2 | Y88: 7.5 | Z88: 0.4 | AA88: 31.8 | AB88: 100 | AC88: 48.5 | AD88: 31.8 | AE88: 19.3 | AF88: 0.4 | AG88: 51.1 | AH88: 100 | AI88: 15.2 | AJ88: 59.9 | AK88: 24.5 | AL88: 0.4 | AM88: 84.3 | AN88: 100 | AO88: 4.9 | AP88: 9.9 | AQ88: 85 | AR88: 0.2 | AS88: 94.8 | AT88: 100 | AU88: 52.8 | AV88: 32.6 | AW88: 14.2 | AX88: 0.4 | AY88: 46.8 | AZ88: 100 | BA88: 14.8 | BB88: 59.9 | BC88: 24.9 | BD88: 0.4 | BE88: 84.8 | BF88: 100 | BG88: 22.3 | BH88: 42.9 | BI88: 34.3 | BJ88: 0.4 | BK88: 77.3 | BL88: 100 | BM88: 6 | BN88: 36.5 | BO88: 57.1 | BP88: 0.4 | BQ88: 93.6 | BR88: 100 | BS88: 82.6 | BT88: 13.7 | BU88: 3.2 | BV88: 0.4 | BW88: 17 | BX88: 100 | BY88: 29.8 | BZ88: 53 | CA88: 16.7 | CB88: 0.4 | CC88: 69.7 | CD88: 100 | CE88: 56.9 | CF88: 34.1 | CG88: 8.6 | CH88: 0.4 | CI88: 42.7 | CJ88: 100 | CK88: 51.7 | CL88: 30.5 | CM88: 17.4 | CN88: 0.4 | CO88: 47.9
C89: まったくない | D89: 1837 | E89: 71 | F89: 839 | G89: 912 | H89: 15 | I89: 1751 | J89: 1837 | K89: 1093 | L89: 469 | M89: 261 | N89: 14 | O89: 730 | P89: 1837 | Q89: 478 | R89: 803 | S89: 537 | T89: 19 | U89: 1340 | V89: 1837 | W89: 1390 | X89: 311 | Y89: 123 | Z89: 13 | AA89: 434 | AB89: 1837 | AC89: 1011 | AD89: 564 | AE89: 246 | AF89: 16 | AG89: 810 | AH89: 1837 | AI89: 228 | AJ89: 1046 | AK89: 549 | AL89: 14 | AM89: 1595 | AN89: 1837 | AO89: 58 | AP89: 142 | AQ89: 1622 | AR89: 15 | AS89: 1764 | AT89: 1837 | AU89: 1128 | AV89: 471 | AW89: 220 | AX89: 18 | AY89: 691 | AZ89: 1837 | BA89: 229 | BB89: 1083 | BC89: 508 | BD89: 17 | BE89: 1591 | BF89: 1837 | BG89: 530 | BH89: 752 | BI89: 542 | BJ89: 13 | BK89: 1294 | BL89: 1837 | BM89: 110 | BN89: 686 | BO89: 1023 | BP89: 18 | BQ89: 1709 | BR89: 1837 | BS89: 1548 | BT89: 222 | BU89: 52 | BV89: 15 | BW89: 274 | BX89: 1837 | BY89: 471 | BZ89: 980 | CA89: 372 | CB89: 14 | CC89: 1352 | CD89: 1837 | CE89: 1140 | CF89: 509 | CG89: 171 | CH89: 17 | CI89: 680 | CJ89: 1837 | CK89: 1083 | CL89: 549 | CM89: 192 | CN89: 13 | CO89: 741
D90: 100 | E90: 3.9 | F90: 45.7 | G90: 49.6 | H90: 0.8 | I90: 95.3 | J90: 100 | K90: 59.5 | L90: 25.5 | M90: 14.2 | N90: 0.8 | O90: 39.7 | P90: 100 | Q90: 26 | R90: 43.7 | S90: 29.2 | T90: 1 | U90: 72.9 | V90: 100 | W90: 75.7 | X90: 16.9 | Y90: 6.7 | Z90: 0.7 | AA90: 23.6 | AB90: 100 | AC90: 55 | AD90: 30.7 | AE90: 13.4 | AF90: 0.9 | AG90: 44.1 | AH90: 100 | AI90: 12.4 | AJ90: 56.9 | AK90: 29.9 | AL90: 0.8 | AM90: 86.8 | AN90: 100 | AO90: 3.2 | AP90: 7.7 | AQ90: 88.3 | AR90: 0.8 | AS90: 96 | AT90: 100 | AU90: 61.4 | AV90: 25.6 | AW90: 12 | AX90: 1 | AY90: 37.6 | AZ90: 100 | BA90: 12.5 | BB90: 59 | BC90: 27.7 | BD90: 0.9 | BE90: 86.6 | BF90: 100 | BG90: 28.9 | BH90: 40.9 | BI90: 29.5 | BJ90: 0.7 | BK90: 70.4 | BL90: 100 | BM90: 6 | BN90: 37.3 | BO90: 55.7 | BP90: 1 | BQ90: 93 | BR90: 100 | BS90: 84.3 | BT90: 12.1 | BU90: 2.8 | BV90: 0.8 | BW90: 14.9 | BX90: 100 | BY90: 25.6 | BZ90: 53.3 | CA90: 20.3 | CB90: 0.8 | CC90: 73.6 | CD90: 100 | CE90: 62.1 | CF90: 27.7 | CG90: 9.3 | CH90: 0.9 | CI90: 37 | CJ90: 100 | CK90: 59 | CL90: 29.9 | CM90: 10.5 | CN90: 0.7 | CO90: 40.3
C91: 不明・無回答 | D91: 29 | E91: 2 | F91: 11 | G91: 16 | H91: - | I91: 27 | J91: 29 | K91: 16 | L91: 4 | M91: 9 | N91: - | O91: 13 | P91: 29 | Q91: 9 | R91: 12 | S91: 8 | T91: - | U91: 20 | V91: 29 | W91: 19 | X91: 6 | Y91: 4 | Z91: - | AA91: 10 | AB91: 29 | AC91: 13 | AD91: 5 | AE91: 11 | AF91: - | AG91: 16 | AH91: 29 | AI91: 4 | AJ91: 12 | AK91: 13 | AL91: - | AM91: 25 | AN91: 29 | AO91: 2 | AP91: 2 | AQ91: 25 | AR91: - | AS91: 27 | AT91: 29 | AU91: 15 | AV91: 4 | AW91: 10 | AX91: - | AY91: 14 | AZ91: 29 | BA91: 8 | BB91: 12 | BC91: 9 | BD91: - | BE91: 21 | BF91: 29 | BG91: 9 | BH91: 11 | BI91: 9 | BJ91: - | BK91: 20 | BL91: 29 | BM91: 4 | BN91: 2 | BO91: 23 | BP91: - | BQ91: 25 | BR91: 29 | BS91: 27 | BT91: - | BU91: 2 | BV91: - | BW91: 2 | BX91: 29 | BY91: 8 | BZ91: 13 | CA91: 8 | CB91: - | CC91: 21 | CD91: 29 | CE91: 17 | CF91: 7 | CG91: 5 | CH91: - | CI91: 12 | CJ91: 29 | CK91: 16 | CL91: 6 | CM91: 7 | CN91: - | CO91: 13
D92: 100 | E92: 6.9 | F92: 37.9 | G92: 55.2 | H92: - | I92: 93.1 | J92: 100 | K92: 55.2 | L92: 13.8 | M92: 31 | N92: - | O92: 44.8 | P92: 100 | Q92: 31 | R92: 41.4 | S92: 27.6 | T92: - | U92: 69 | V92: 100 | W92: 65.5 | X92: 20.7 | Y92: 13.8 | Z92: - | AA92: 34.5 | AB92: 100 | AC92: 44.8 | AD92: 17.2 | AE92: 37.9 | AF92: - | AG92: 55.2 | AH92: 100 | AI92: 13.8 | AJ92: 41.4 | AK92: 44.8 | AL92: - | AM92: 86.2 | AN92: 100 | AO92: 6.9 | AP92: 6.9 | AQ92: 86.2 | AR92: - | AS92: 93.1 | AT92: 100 | AU92: 51.7 | AV92: 13.8 | AW92: 34.5 | AX92: - | AY92: 48.3 | AZ92: 100 | BA92: 27.6 | BB92: 41.4 | BC92: 31 | BD92: - | BE92: 72.4 | BF92: 100 | BG92: 31 | BH92: 37.9 | BI92: 31 | BJ92: - | BK92: 69 | BL92: 100 | BM92: 13.8 | BN92: 6.9 | BO92: 79.3 | BP92: - | BQ92: 86.2 | BR92: 100 | BS92: 93.1 | BT92: - | BU92: 6.9 | BV92: - | BW92: 6.9 | BX92: 100 | BY92: 27.6 | BZ92: 44.8 | CA92: 27.6 | CB92: - | CC92: 72.4 | CD92: 100 | CE92: 58.6 | CF92: 24.1 | CG92: 17.2 | CH92: - | CI92: 41.4 | CJ92: 100 | CK92: 55.2 | CL92: 20.7 | CM92: 24.1 | CN92: - | CO92: 44.8
B93: 全 体 | D93: 2715 | E93: 112 | F93: 1276 | G93: 1307 | H93: 20 | I93: 2583 | J93: 2715 | K93: 1538 | L93: 725 | M93: 435 | N93: 17 | O93: 1160 | P93: 2715 | Q93: 723 | R93: 1186 | S93: 779 | T93: 27 | U93: 1965 | V93: 2715 | W93: 1970 | X93: 528 | Y93: 200 | Z93: 17 | AA93: 728 | AB93: 2715 | AC93: 1396 | AD93: 868 | AE93: 431 | AF93: 20 | AG93: 1299 | AH93: 2715 | AI93: 353 | AJ93: 1553 | AK93: 791 | AL93: 18 | AM93: 2344 | AN93: 2715 | AO93: 103 | AP93: 231 | AQ93: 2363 | AR93: 18 | AS93: 2594 | AT93: 2715 | AU93: 1582 | AV93: 737 | AW93: 374 | AX93: 22 | AY93: 1111 | AZ93: 2715 | BA93: 372 | BB93: 1610 | BC93: 711 | BD93: 22 | BE93: 2321 | BF93: 2715 | BG93: 722 | BH93: 1109 | BI93: 866 | BJ93: 18 | BK93: 1975 | BL93: 2715 | BM93: 166 | BN93: 1018 | BO93: 1508 | BP93: 23 | BQ93: 2526 | BR93: 2715 | BS93: 2270 | BT93: 342 | BU93: 84 | BV93: 19 | BW93: 426 | BX93: 2715 | BY93: 728 | BZ93: 1445 | CA93: 524 | CB93: 18 | CC93: 1969 | CD93: 2715 | CE93: 1630 | CF93: 806 | CG93: 258 | CH93: 21 | CI93: 1064 | CJ93: 2715 | CK93: 1516 | CL93: 830 | CM93: 352 | CN93: 17 | CO93: 1182
D94: 100 | E94: 4.1 | F94: 47 | G94: 48.1 | H94: 0.7 | I94: 95.1 | J94: 100 | K94: 56.6 | L94: 26.7 | M94: 16 | N94: 0.6 | O94: 42.7 | P94: 100 | Q94: 26.6 | R94: 43.7 | S94: 28.7 | T94: 1 | U94: 72.4 | V94: 100 | W94: 72.6 | X94: 19.4 | Y94: 7.4 | Z94: 0.6 | AA94: 26.8 | AB94: 100 | AC94: 51.4 | AD94: 32 | AE94: 15.9 | AF94: 0.7 | AG94: 47.8 | AH94: 100 | AI94: 13 | AJ94: 57.2 | AK94: 29.1 | AL94: 0.7 | AM94: 86.3 | AN94: 100 | AO94: 3.8 | AP94: 8.5 | AQ94: 87 | AR94: 0.7 | AS94: 95.5 | AT94: 100 | AU94: 58.3 | AV94: 27.1 | AW94: 13.8 | AX94: 0.8 | AY94: 40.9 | AZ94: 100 | BA94: 13.7 | BB94: 59.3 | BC94: 26.2 | BD94: 0.8 | BE94: 85.5 | BF94: 100 | BG94: 26.6 | BH94: 40.8 | BI94: 31.9 | BJ94: 0.7 | BK94: 72.7 | BL94: 100 | BM94: 6.1 | BN94: 37.5 | BO94: 55.5 | BP94: 0.8 | BQ94: 93 | BR94: 100 | BS94: 83.6 | BT94: 12.6 | BU94: 3.1 | BV94: 0.7 | BW94: 15.7 | BX94: 100 | BY94: 26.8 | BZ94: 53.2 | CA94: 19.3 | CB94: 0.7 | CC94: 72.5 | CD94: 100 | CE94: 60 | CF94: 29.7 | CG94: 9.5 | CH94: 0.8 | CI94: 39.2 | CJ94: 100 | CK94: 55.8 | CL94: 30.6 | CM94: 13 | CN94: 0.6 | CO94: 43.5
