Workbook
Name _____________OPT1: #REF!
Name _____________OPT1: #REF!
Name _____________OPT2: #REF!
Name _____________OPT2: #REF!
Name _____________OPT3: #REF!
Name _____________OPT3: #REF!
Name _____________OPT4: #REF!
Name _____________OPT4: #REF!
Name ___________OPT1: #REF!
Name ___________OPT1: #REF!
Name ___________OPT2: #REF!
Name ___________OPT2: #REF!
Name ___________OPT3: #REF!
Name ___________OPT3: #REF!
Name ___________OPT4: #REF!
Name ___________OPT4: #REF!
Name _________OPT1: #REF!
Name _________OPT1: #REF!
Name _________OPT2: #REF!
Name _________OPT2: #REF!
Name _________OPT3: #REF!
Name _________OPT3: #REF!
Name _________OPT4: #REF!
Name _________OPT4: #REF!
Name _______OPT1: #REF!
Name _______OPT1: #REF!
Name _______OPT2: #REF!
Name _______OPT2: #REF!
Name _______OPT3: #REF!
Name _______OPT3: #REF!
Name _______OPT4: #REF!
Name _______OPT4: #REF!
Name _____OPT1: #REF!
Name _____OPT1: #REF!
Name _____OPT2: #REF!
Name _____OPT2: #REF!
Name _____OPT3: #REF!
Name _____OPT3: #REF!
Name _____OPT4: #REF!
Name _____OPT4: #REF!
Name ___OPT1: #REF!
Name ___OPT1: #REF!
Name ___OPT1: #REF!
Name ___OPT2: #REF!
Name ___OPT2: #REF!
Name ___OPT2: #REF!
Name ___OPT3: #REF!
Name ___OPT3: #REF!
Name ___OPT3: #REF!
Name ___OPT4: #REF!
Name ___OPT4: #REF!
Name ___OPT4: #REF!
Name __OPT1: #REF!
Name __OPT1: #REF!
Name __OPT2: #REF!
Name __OPT2: #REF!
Name __OPT3: #REF!
Name __OPT3: #REF!
Name __OPT4: #REF!
Name __OPT4: #REF!

Sheet 1(短期適用)
C1: １ 組合員数、被扶養者数及び標準報酬等に関する調 | U1: 組合員数 人
T2: 単位 | U2: 被扶養者数 人
D3: （短期適用） | U3: 金額 千円
K4: 地方職員共済組合 | M4: 公立学校共済組合 | N4: 警察共済組合 | Q4: 東京都職員 共済組合 | R4: 指定都市職員 共済組合 | S4: 市町村職員 共済組合 | T4: 都市職員 共済組合 | U4: 合計
L5: （再掲）団体共済部
D6: 一般組合員 | F6: 組合員数 | H6: 男 | J6: 1 | K6: 188583 | L6: - | M6: 493249 | N6: 27004 | Q6: 57770 | R6: 89021 | S6: 471808 | T6: 24985 | U6: 1352420 | V6: 1
H7: 女 | J7: 2 | K7: 126670 | L7: - | M7: 567506 | N7: 16471 | Q7: 49269 | R7: 60940 | S7: 415656 | T7: 24773 | U7: 1261285 | V7: 2
H8: 計 | J8: 3 | K8: 315253 | L8: - | M8: 1060755 | N8: 43475 | Q8: 107039 | R8: 149961 | S8: 887464 | T8: 49758 | U8: 2613705 | V8: 3
G9: 被扶養者数 | J9: 4 | K9: 268321 | L9: - | M9: 722910 | N9: 35895 | Q9: 64901 | R9: 123109 | S9: 715978 | T9: 37245 | U9: 1968359 | V9: 4
G10: 標準報酬の月額 | J10: 5 | K10: 136473924 | L10: - | M10: 430044748 | N10: 19671764 | Q10: 47559276 | R10: 64958016 | S10: 339868646 | T10: 20327594 | U10: 1058903968 | V10: 5
G11: 標準期末手当等の額 | J11: 6 | K11: 479632119 | L11: - | M11: 1678809151 | N11: 74527028 | Q11: 177449647 | R11: 235863222 | S11: 1265460408 | T11: 70958688 | U11: 3982700263 | V11: 6
D12: 地方公共団体の 長である組合員 | F12: 組合員数 | H12: 男 | J12: 7 | K12: 45 | L12: - | M12: - | N12: - | Q12: 22 | R12: 10 | S12: 1640 | T12: 24 | U12: 1741 | V12: 7
H13: 女 | J13: 8 | K13: 1 | L13: - | M13: - | N13: - | Q13: 2 | R13: - | S13: 40 | T13: 1 | U13: 44 | V13: 8
H14: 計 | J14: 9 | K14: 46 | L14: - | M14: - | N14: - | Q14: 24 | R14: 10 | S14: 1680 | T14: 25 | U14: 1785 | V14: 9
G15: 被扶養者数 | J15: 10 | K15: 61 | L15: - | M15: - | N15: - | Q15: 15 | R15: 9 | S15: 1558 | T15: 31 | U15: 1674 | V15: 10
G16: 標準報酬の月額 | J16: 11 | K16: 55880 | L16: - | M16: - | N16: - | Q16: 29970 | R16: 11880 | S16: 1334398 | T16: 24830 | U16: 1456958 | V16: 11
G17: 標準期末手当等の額 | J17: 12 | K17: 220585 | L17: - | M17: - | N17: - | Q17: 134298 | R17: 47564 | S17: 5387672 | T17: 113702 | U17: 5903821 | V17: 12
D18: 特定消防組合員 | F18: 組合員数 | H18: 男 | J18: 13 | K18: - | L18: - | M18: - | N18: - | Q18: 17034 | R18: 17837 | S18: 108259 | T18: 5303 | U18: 148433 | V18: 13
H19: 女 | J19: 14 | K19: - | L19: - | M19: - | N19: - | Q19: 1272 | R19: 781 | S19: 2994 | T19: 149 | U19: 5196 | V19: 14
H20: 計 | J20: 15 | K20: - | L20: - | M20: - | N20: - | Q20: 18306 | R20: 18618 | S20: 111253 | T20: 5452 | U20: 153629 | V20: 15
G21: 被扶養者数 | J21: 16 | K21: - | L21: - | M21: - | N21: - | Q21: 25049 | R21: 26536 | S21: 167422 | T21: 8220 | U21: 227227 | V21: 16
G22: 標準報酬の月額 | J22: 17 | K22: - | L22: - | M22: - | N22: - | Q22: 9105970 | R22: 8094750 | S22: 43149052 | T22: 2180270 | U22: 62530042 | V22: 17
G23: 標準期末手当等の額 | J23: 18 | K23: - | L23: - | M23: - | N23: - | Q23: 31580023 | R23: 28591928 | S23: 160167441 | T23: 7898425 | U23: 228237817 | V23: 18
D24: 船員一般組合員 | F24: 組合員数 | H24: 男 | J24: 19 | K24: 900 | L24: - | M24: 558 | N24: - | Q24: 38 | R24: - | S24: 435 | T24: - | U24: 1931 | V24: 19
H25: 女 | J25: 20 | K25: 16 | L25: - | M25: 1 | N25: - | Q25: - | R25: - | S25: 6 | T25: - | U25: 23 | V25: 20
H26: 計 | J26: 21 | K26: 916 | L26: - | M26: 559 | N26: - | Q26: 38 | R26: - | S26: 441 | T26: - | U26: 1954 | V26: 21
G27: 被扶養者数 | J27: 22 | K27: 1256 | L27: - | M27: 604 | N27: - | Q27: 51 | R27: - | S27: 661 | T27: - | U27: 2572 | V27: 22
G28: 標準報酬の月額 | J28: 23 | K28: 370820 | L28: - | M28: 205470 | N28: - | Q28: 14470 | R28: - | S28: 163630 | T28: - | U28: 754390 | V28: 23
G29: 標準期末手当等の額 | J29: 24 | K29: 1419425 | L29: - | M29: 763141 | N29: - | Q29: 44587 | R29: - | S29: 571589 | T29: - | U29: 2798742 | V29: 24
D30: 特定警察組合員 | F30: 組合員数 | H30: 男 | J30: 25 | K30: - | L30: - | M30: - | N30: 226187 | Q30: - | R30: - | S30: - | T30: - | U30: 226187 | V30: 25
H31: 女 | J31: 26 | K31: - | L31: - | M31: - | N31: 27986 | Q31: - | R31: - | S31: - | T31: - | U31: 27986 | V31: 26
H32: 計 | J32: 27 | K32: - | L32: - | M32: - | N32: 254173 | Q32: - | R32: - | S32: - | T32: - | U32: 254173 | V32: 27
G33: 被扶養者数 | J33: 28 | K33: - | L33: - | M33: - | N33: 350420 | Q33: - | R33: - | S33: - | T33: - | U33: 350420 | V33: 28
G34: 標準報酬の月額 | J34: 29 | K34: - | L34: - | M34: - | N34: 118828704 | Q34: - | R34: - | S34: - | T34: - | U34: 118828704 | V34: 29
G35: 標準期末手当等の額 | J35: 30 | K35: - | L35: - | M35: - | N35: 405210028 | Q35: - | R35: - | S35: - | T35: - | U35: 405210028 | V35: 30
D36: 短期組合員 | F36: 組合員数 | H36: 男 | J36: 31 | K36: - | L36: - | M36: - | N36: - | Q36: - | R36: - | S36: - | T36: - | U36: - | V36: 31
H37: 女 | J37: 32 | K37: - | L37: - | M37: - | N37: - | Q37: - | R37: - | S37: - | T37: - | U37: - | V37: 32
H38: 計 | J38: 33 | K38: - | L38: - | M38: - | N38: - | Q38: - | R38: - | S38: - | T38: - | U38: - | V38: 33
G39: 被扶養者数 | J39: 34 | K39: - | L39: - | M39: - | N39: - | Q39: - | R39: - | S39: - | T39: - | U39: - | V39: 34
G40: 標準報酬の月額 | J40: 35 | K40: - | L40: - | M40: - | N40: - | Q40: - | R40: - | S40: - | T40: - | U40: - | V40: 35
...

Sheet 1(長期適用)
R2: 単位 | S2: 組合員数 人
D3: （長期適用） | S3: 金額 千円
K4: 地方職員共済組合 | M4: 公立学校共済組合 | P4: 警察共済組合 | Q4: 東京都職員 共済組合 | R4: 全国市町村職員 共済組合連合会 | S4: 合計
L5: （再掲）団体共済部
D6: 一般組合員 | F6: 組合員数 | H6: 男 | J6: 1 | K6: 188609 | L6: - | M6: 493249 | P6: 27004 | Q6: 57770 | R6: 585814 | S6: 1352446 | T6: 1
H7: 女 | J7: 2 | K7: 126674 | L7: - | M7: 567506 | P7: 16471 | Q7: 49269 | R7: 501369 | S7: 1261289 | T7: 2
H8: 計 | J8: 3 | K8: 315283 | L8: - | M8: 1060755 | P8: 43475 | Q8: 107039 | R8: 1087183 | S8: 2613735 | T8: 3
G9: 標準報酬の月額 | J9: 4 | K9: 130950874 | L9: - | M9: 429088948 | P9: 19339604 | Q9: 46570556 | R9: 414570756 | S9: 1040520738 | T9: 4
G10: 標準期末手当等の額 | J10: 5 | K10: 476584838 | L10: - | M10: 1677690433 | P10: 73717205 | Q10: 175747933 | R10: 1566240404 | S10: 3969980813 | T10: 5
D11: 地方公共団体の 長である組合員 | F11: 組合員数 | H11: 男 | J11: 6 | K11: 45 | L11: - | M11: - | P11: - | Q11: 22 | R11: 1674 | S11: 1741 | T11: 6
H12: 女 | J12: 7 | K12: 1 | L12: - | M12: - | P12: - | Q12: 2 | R12: 41 | S12: 44 | T12: 7
H13: 計 | J13: 8 | K13: 46 | L13: - | M13: - | P13: - | Q13: 24 | R13: 1715 | S13: 1785 | T13: 8
G14: 標準報酬の月額 | J14: 9 | K14: 29900 | L14: - | M14: - | P14: - | Q14: 15600 | R14: 1102408 | S14: 1147908 | T14: 9
G15: 標準期末手当等の額 | J15: 10 | K15: 119483 | L15: - | M15: - | P15: - | Q15: 78267 | R15: 4546755 | S15: 4744505 | T15: 10
D16: 特定消防組合員 | F16: 組合員数 | H16: 男 | J16: 11 | K16: - | L16: - | M16: - | P16: - | Q16: 17034 | R16: 131399 | S16: 148433 | T16: 11
H17: 女 | J17: 12 | K17: - | L17: - | M17: - | P17: - | Q17: 1272 | R17: 3924 | S17: 5196 | T17: 12
H18: 計 | J18: 13 | K18: - | L18: - | M18: - | P18: - | Q18: 18306 | R18: 135323 | S18: 153629 | T18: 13
G19: 標準報酬の月額 | J19: 14 | K19: - | L19: - | M19: - | P19: - | Q19: 9030570 | R19: 53414822 | S19: 62445392 | T19: 14
G20: 標準期末手当等の額 | J20: 15 | K20: - | L20: - | M20: - | P20: - | Q20: 31573741 | R20: 196657241 | S20: 228230982 | T20: 15
D21: 長期組合員 | F21: 組合員数 | H21: 男 | J21: 16 | K21: 7093 | L21: 7093 | M21: - | P21: - | Q21: - | R21: 132 | S21: 7225 | T21: 16
H22: 女 | J22: 17 | K22: 6715 | L22: 6715 | M22: - | P22: - | Q22: - | R22: 17 | S22: 6732 | T22: 17
H23: 計 | J23: 18 | K23: 13808 | L23: 13808 | M23: - | P23: - | Q23: - | R23: 149 | S23: 13957 | T23: 18
G24: 標準報酬の月額 | J24: 19 | K24: 5504350 | L24: 5504350 | M24: - | P24: - | Q24: - | R24: 66140 | S24: 5570490 | T24: 19
G25: 標準期末手当等の額 | J25: 20 | K25: 19875505 | L25: 19875505 | M25: - | P25: - | Q25: - | R25: 240938 | S25: 20116443 | T25: 20
D26: 特定消防 長期組合員 | F26: 組合員数 | H26: 男 | J26: 21 | K26: - | L26: - | M26: - | P26: - | Q26: - | R26: - | S26: - | T26: 21
H27: 女 | J27: 22 | K27: - | L27: - | M27: - | P27: - | Q27: - | R27: - | S27: - | T27: 22
H28: 計 | J28: 23 | K28: - | L28: - | M28: - | P28: - | Q28: - | R28: - | S28: - | T28: 23
G29: 標準報酬の月額 | J29: 24 | K29: - | L29: - | M29: - | P29: - | Q29: - | R29: - | S29: - | T29: 24
G30: 標準期末手当等の額 | J30: 25 | K30: - | L30: - | M30: - | P30: - | Q30: - | R30: - | S30: - | T30: 25
D31: 船員一般組合員 | F31: 組合員数 | H31: 男 | J31: 21 | K31: 900 | L31: - | M31: 558 | P31: - | Q31: 38 | R31: 435 | S31: 1931 | T31: 21
H32: 女 | J32: 22 | K32: 16 | L32: - | M32: 1 | P32: - | Q32: - | R32: 6 | S32: 23 | T32: 22
H33: 計 | J33: 23 | K33: 916 | L33: - | M33: 559 | P33: - | Q33: 38 | R33: 441 | S33: 1954 | T33: 23
G34: 標準報酬の月額 | J34: 24 | K34: 370790 | L34: - | M34: 205370 | P34: - | Q34: 14470 | R34: 163630 | S34: 754260 | T34: 24
G35: 標準期末手当等の額 | J35: 25 | K35: 1419425 | L35: - | M35: 763141 | P35: - | Q35: 44587 | R35: 571589 | S35: 2798742 | T35: 25
D36: 継続長期組合員 | F36: 組合員数 | H36: 男 | J36: 26 | K36: 187 | L36: - | M36: 3 | P36: 89 | Q36: 433 | R36: 303 | S36: 1015 | T36: 26
H37: 女 | J37: 27 | K37: 7 | L37: - | M37: 1 | P37: 2 | Q37: 47 | R37: 21 | S37: 78 | T37: 27
H38: 計 | J38: 28 | K38: 194 | L38: - | M38: 4 | P38: 91 | Q38: 480 | R38: 324 | S38: 1093 | T38: 28
G39: 標準報酬の月額 | J39: 29 | K39: 89740 | L39: - | M39: 1660 | P39: 50190 | Q39: 233650 | R39: 164360 | S39: 539600 | T39: 29
G40: 標準期末手当等の額 | J40: 30 | K40: 314611 | L40: - | M40: 7014 | P40: 206371 | Q40: 932196 | R40: 653741 | S40: 2113933 | T40: 30
D41: 特定警察組合員 | F41: 組合員数 | H41: 男 | J41: 31 | K41: - | L41: - | M41: - | P41: 226187 | Q41: - | R41: - | S41: 226187 | T41: 31
...

Sheet 2
D1: ２ 福祉施設に関する調
M4: 地方職員共済組合 | N4: 公立学校共済組合 | O4: 警察共済組合 | R4: 東京都職員 共済組合 | S4: 指定都市職員 共済組合 | T4: 市町村職員 共済組合 | U4: 都市職員共済組合 | V4: 合計
G6: 数 | L6: 1 | M6: - | N6: 8 | O6: - | R6: - | S6: - | T6: - | U6: - | V6: 8 | W6: 1
D7: 医療機関 | G7: 病床数 | J7: 普通 | L7: 2 | M7: - | N7: 2537 | O7: - | R7: - | S7: - | T7: - | U7: - | V7: 2537 | W7: 2
D8: (病院) | J8: 結核 | L8: 3 | M8: - | N8: 6 | O8: - | R8: - | S8: - | T8: - | U8: - | V8: 6 | W8: 3
J9: 計 | L9: 4 | M9: - | N9: 2543 | O9: - | R9: - | S9: - | T9: - | U9: - | V9: 2543 | W9: 4
G10: 数 | L10: 5 | M10: - | N10: - | O10: - | R10: - | S10: - | T10: - | U10: - | V10: - | W10: 5
D11: 医療機関 | G11: 病床数 | J11: 普通 | L11: 6 | M11: - | N11: - | O11: - | R11: - | S11: - | T11: - | U11: - | V11: - | W11: 6
D12: (療養所) | J12: 結核 | L12: 7 | M12: - | N12: - | O12: - | R12: - | S12: - | T12: - | U12: - | V12: - | W12: 7
J13: 計 | L13: 8 | M13: - | N13: - | O13: - | R13: - | S13: - | T13: - | U13: - | V13: - | W13: 8
D14: 医療機関(直営診療所) 数 | L14: 9 | M14: 20 | N14: - | O14: 5 | R14: 1 | S14: - | T14: - | U14: - | V14: 26 | W14: 9
G15: 数 | L15: 10 | M15: 20 | N15: 8 | O15: 5 | R15: 1 | S15: - | T15: - | U15: - | V15: 34 | W15: 10
D16: 医療機関 | G16: 病床数 | J16: 普通 | L16: 11 | M16: - | N16: 2537 | O16: - | R16: - | S16: - | T16: - | U16: - | V16: 2537 | W16: 11
D17: (合計) | J17: 結核 | L17: 12 | M17: - | N17: 6 | O17: - | R17: - | S17: - | T17: - | U17: - | V17: 6 | W17: 12
J18: 計 | L18: 13 | M18: - | N18: 2543 | O18: - | R18: - | S18: - | T18: - | U18: - | V18: 2543 | W18: 13
D19: 保養所 | G19: 数 | L19: 14 | M19: 3 | N19: 8 | O19: 1 | R19: 1 | S19: 1 | T19: 20 | U19: - | V19: 34 | W19: 14
G20: 収容人員 | L20: 15 | M20: 258 | N20: 2214 | O20: 97 | R20: 138 | S20: 15 | T20: 1808 | U20: - | V20: 4530 | W20: 15
D21: 宿泊所 | G21: 数 | L21: 16 | M21: 13 | N21: 28 | O21: 4 | R21: 1 | S21: - | T21: 17 | U21: 1 | V21: 64 | W21: 16
G22: 収容人員 | L22: 17 | M22: 1105 | N22: 27060 | O22: 499 | R22: 244 | S22: - | T22: 2112 | U22: 155 | V22: 31175 | W22: 17

Sheet 3
C1: ３ 短期法定給付支給状況調
Z3: 単位 | AA3: 件 数 件
AA4: 日 数 日
AA5: 金 額 千円
AA6: 回 数 回
AA7: 処方せん枚数 枚
AA8: 高額療養件数 件
R10: 地方職員共済組合 | S10: 公立学校共済組合 | T10: 警察共済組合 | W10: 東京都職員 共済組合 | X10: 指定都市職員 共済組合 | Y10: 市町村職員 共済組合 | Z10: 都市職員 共済組合 | AA10: 合計
C12: 保健給付 | E12: 療養の給付 | G12: 一般 | K12: 入院 | O12: 件数 | Q12: 1 | R12: 25415 | S12: 88671 | T12: 18635 | W12: 9517 | X12: 13801 | Y12: 81309 | Z12: 4623 | AA12: 241971 | AB12: 1
O13: 日数 | Q13: 2 | R13: 196475 | S13: 648705 | T13: 144583 | W13: 72623 | X13: 105993 | Y13: 635511 | Z13: 33741 | AA13: 1837631 | AB13: 2
O14: 金額 | Q14: 3 | R14: 8751171 | S14: 29052709 | T14: 6784992 | W14: 3507141 | X14: 5191672 | Y14: 27599611 | Z14: 1462633 | AA14: 82349930 | AB14: 3
K15: 外来 | O15: 件数 | Q15: 4 | R15: 1960836 | S15: 6653897 | T15: 1406269 | W15: 807211 | X15: 1108283 | Y15: 5944115 | Z15: 329219 | AA15: 18209830 | AB15: 4
O16: 日数 | Q16: 5 | R16: 2622767 | S16: 8937147 | T16: 1831826 | W16: 1128413 | X16: 1545063 | Y16: 7961922 | Z16: 439775 | AA16: 24466913 | AB16: 5
O17: 金額 | Q17: 6 | R17: 16936710 | S17: 54905739 | T17: 11838700 | W17: 7199431 | X17: 9524034 | Y17: 49985682 | Z17: 2763827 | AA17: 153154124 | AB17: 6
H18: 歯科 | O18: 件数 | Q18: 7 | R18: 565056 | S18: 2040564 | T18: 427639 | W18: 238933 | X18: 316669 | Y18: 1746644 | Z18: 96645 | AA18: 5432150 | AB18: 7
O19: 日数 | Q19: 8 | R19: 872890 | S19: 3227700 | T19: 703351 | W19: 379818 | X19: 501506 | Y19: 2752795 | Z19: 150165 | AA19: 8588225 | AB19: 8
O20: 金額 | Q20: 9 | R20: 4818238 | S20: 17337849 | T20: 3953722 | W20: 2011663 | X20: 2846891 | Y20: 14809665 | Z20: 848911 | AA20: 46626939 | AB20: 9
H21: 小計 | O21: 件数 | Q21: 10 | R21: 2551307 | S21: 8783132 | T21: 1852543 | W21: 1055661 | X21: 1438753 | Y21: 7772068 | Z21: 430487 | AA21: 23883951 | AB21: 10
O22: 日数 | Q22: 11 | R22: 3692132 | S22: 12813552 | T22: 2679760 | W22: 1580854 | X22: 2152562 | Y22: 11350228 | Z22: 623681 | AA22: 34892769 | AB22: 11
O23: 金額 | Q23: 12 | R23: 30506119 | S23: 101296297 | T23: 22577414 | W23: 12718235 | X23: 17562597 | Y23: 92394958 | Z23: 5075372 | AA23: 282130992 | AB23: 12
H24: 一般 | O24: 件数 | Q24: 13 | R24: 21813 | S24: 74640 | T24: 16551 | W24: 8061 | X24: 11723 | Y24: 70870 | Z24: 3835 | AA24: 207493 | AB24: 13
O25: 回数 | Q25: 14 | R25: 434921 | S25: 1403217 | T25: 323932 | W25: 159266 | X25: 231321 | Y25: 1404938 | Z25: 71091 | AA25: 4028686 | AB25: 14
O26: 金額 | Q26: 15 | R26: 90284 | S26: 283937 | T26: 67943 | W26: 32985 | X26: 49207 | Y26: 291173 | Z26: 14562 | AA26: 830091 | AB26: 15
H27: 歯科 | O27: 件数 | Q27: 16 | R27: 600 | S27: 1663 | T27: 417 | W27: 110 | X27: 253 | Y27: 1895 | Z27: 209 | AA27: 5147 | AB27: 16
O28: 回数 | Q28: 17 | R28: 4174 | S28: 11959 | T28: 2901 | W28: 1167 | X28: 2072 | Y28: 12549 | Z28: 1152 | AA28: 35974 | AB28: 17
O29: 金額 | Q29: 18 | R29: 832 | S29: 2360 | T29: 564 | W29: 227 | X29: 401 | Y29: 2506 | Z29: 234 | AA29: 7123 | AB29: 18
H30: 小計 | O30: 件数 | Q30: 19 | R30: 22413 | S30: 76303 | T30: 16968 | W30: 8171 | X30: 11976 | Y30: 72765 | Z30: 4044 | AA30: 212640 | AB30: 19
O31: 回数 | Q31: 20 | R31: 439095 | S31: 1415176 | T31: 326833 | W31: 160433 | X31: 233393 | Y31: 1417487 | Z31: 72243 | AA31: 4064660 | AB31: 20
O32: 金額 | Q32: 21 | R32: 91116 | S32: 286297 | T32: 68508 | W32: 33212 | X32: 49608 | Y32: 293680 | Z32: 14796 | AA32: 837215 | AB32: 21
F33: 訪問看護 療養の給付 | O33: 件数 | Q33: 22 | R33: 1095 | S33: 2457 | T33: 459 | W33: 506 | X33: 614 | Y33: 2592 | Z33: 99 | AA33: 7822 | AB33: 22
O34: 日数 | Q34: 23 | R34: 9277 | S34: 15372 | T34: 3789 | W34: 3297 | X34: 3776 | Y34: 16706 | Z34: 700 | AA34: 52917 | AB34: 23
O35: 金額 | Q35: 24 | R35: 86183 | S35: 130037 | T35: 31054 | W35: 28403 | X35: 30184 | Y35: 142775 | Z35: 5996 | AA35: 454632 | AB35: 24
E36: 家族療養の給付 | G36: 一般 | K36: 入院 | O36: 件数 | Q36: 25 | R36: 22402 | S36: 64480 | T36: 33626 | W36: 7247 | X36: 12048 | Y36: 78751 | Z36: 4200 | AA36: 222754 | AB36: 25
O37: 日数 | Q37: 26 | R37: 204102 | S37: 574281 | T37: 245440 | W37: 61344 | X37: 99342 | Y37: 694467 | Z37: 34008 | AA37: 1912984 | AB37: 26
O38: 金額 | Q38: 27 | R38: 8259357 | S38: 23655618 | T38: 11056789 | W38: 2699620 | X38: 4600058 | Y38: 28117762 | Z38: 1591748 | AA38: 79980952 | AB38: 27
K39: 外来 | O39: 件数 | Q39: 28 | R39: 1694216 | S39: 4642864 | T39: 2548959 | W39: 620321 | X39: 981469 | Y39: 5540104 | Z39: 292389 | AA39: 16320322 | AB39: 28
O40: 日数 | Q40: 29 | R40: 2353043 | S40: 6522575 | T40: 3553171 | W40: 868027 | X40: 1402469 | Y40: 7697979 | Z40: 405418 | AA40: 22802682 | AB40: 29
O41: 金額 | Q41: 30 | R41: 13394521 | S41: 37010711 | T41: 19755598 | W41: 4898470 | X41: 7983418 | Y41: 43161868 | Z41: 2359202 | AA41: 128563788 | AB41: 30
H42: 歯科 | O42: 件数 | Q42: 31 | R42: 473146 | S42: 1273374 | T42: 705932 | W42: 161678 | X42: 274551 | Y42: 1490072 | Z42: 84200 | AA42: 4462953 | AB42: 31
O43: 日数 | Q43: 32 | R43: 660381 | S43: 1771584 | T43: 961154 | W43: 225094 | X43: 385996 | Y43: 2083677 | Z43: 114603 | AA43: 6202489 | AB43: 32
...

Sheet 4
C1: ４ 短期附加給付支給状況調
T2: 単位 | U2: 件数 件
U3: 金額 千円
L4: 地方職員共済組合 | M4: 公立学校共済組合 | N4: 警察共済組合 | Q4: 東京都職員 共済組合 | R4: 指定都市職員 共済組合 | S4: 市町村職員 共済組合 | T4: 都市職員 共済組合 | U4: 合計
C6: 保健給付 | F6: 家族療養費 | I6: 件数 | K6: 1 | L6: 13455 | M6: 54735 | N6: 18267 | Q6: 3623 | R6: 6751 | S6: 41960 | T6: 2297 | U6: 141088 | V6: 1
I7: 金額 | K7: 2 | L7: 528050 | M7: 1481831 | N7: 718535 | Q7: 154808 | R7: 278030 | S7: 1458332 | T7: 84019 | U7: 4703605 | V7: 2
F8: 家族訪問看護 療養費 | I8: 件数 | K8: 3 | L8: 24 | M8: 662 | N8: 82 | Q8: 3 | R8: 14 | S8: 57 | T8: - | U8: 842 | V8: 3
I9: 金額 | K9: 4 | L9: 234 | M9: 3754 | N9: 1111 | Q9: 16 | R9: 174 | S9: 668 | T9: - | U9: 5957 | V9: 4
F10: 出産費 | I10: 件数 | K10: 5 | L10: 5178 | M10: 23289 | N10: 2409 | Q10: 1896 | R10: 2063 | S10: 6068 | T10: 809 | U10: 41712 | V10: 5
I11: 金額 | K11: 6 | L11: 155370 | M11: 1164450 | N11: 125380 | Q11: 96050 | R11: 46452 | S11: 120945 | T11: 16180 | U11: 1724827 | V11: 6
F12: 家族出産費 | I12: 件数 | K12: 7 | L12: 1676 | M12: 5853 | N12: 6322 | Q12: 711 | R12: 840 | S12: 2465 | T12: 204 | U12: 18071 | V12: 7
I13: 金額 | K13: 8 | L13: 50280 | M13: 292650 | N13: 369550 | Q13: 35900 | R13: 17808 | S13: 49010 | T13: 4080 | U13: 819278 | V13: 8
F14: 埋葬料 | I14: 件数 | K14: 9 | L14: - | M14: 634 | N14: 81 | Q14: 110 | R14: 93 | S14: 449 | T14: 35 | U14: 1402 | V14: 9
I15: 金額 | K15: 10 | L15: - | M15: 18206 | N15: 4050 | Q15: 5473 | R15: 4260 | S15: 20810 | T15: 1490 | U15: 54289 | V15: 10
F16: 家族埋葬料 | I16: 件数 | K16: 11 | L16: - | M16: 415 | N16: 132 | Q16: 37 | R16: 60 | S16: 362 | T16: 28 | U16: 1034 | V16: 11
I17: 金額 | K17: 12 | L17: - | M17: 11042 | N17: 6600 | Q17: 1850 | R17: 2850 | S17: 16610 | T17: 1140 | U17: 40092 | V17: 12
F18: 小計 | I18: 件数 | K18: 13 | L18: 20333 | M18: 85588 | N18: 27293 | Q18: 6380 | R18: 9821 | S18: 51361 | T18: 3373 | U18: 204149 | V18: 13
I19: 金額 | K19: 14 | L19: 733934 | M19: 2971932 | N19: 1225226 | Q19: 294097 | R19: 349575 | S19: 1666376 | T19: 106909 | U19: 7348048 | V19: 14
F20: 直営保健給付 家族療養費 | I20: 件数 | K20: 15 | L20: - | M20: 144 | N20: - | Q20: - | R20: - | S20: - | T20: - | U20: 144 | V20: 15
I21: 金額 | K21: 16 | L21: - | M21: 4541 | N21: - | Q21: - | R21: - | S21: - | T21: - | U21: 4541 | V21: 16
F22: 計 | I22: 件数 | K22: 17 | L22: 20333 | M22: 85732 | N22: 27293 | Q22: 6380 | R22: 9821 | S22: 51361 | T22: 3373 | U22: 204293 | V22: 17
I23: 金額 | K23: 18 | L23: 733934 | M23: 2976473 | N23: 1225226 | Q23: 294097 | R23: 349575 | S23: 1666376 | T23: 106909 | U23: 7352589 | V23: 18
C24: 休業給付 | F24: 傷病手当金 | I24: 件数 | K24: 19 | L24: 953 | M24: 2037 | N24: 672 | Q24: 667 | R24: 175 | S24: 489 | T24: - | U24: 4993 | V24: 19
I25: 金額 | K25: 20 | L25: 208250 | M25: 434197 | N25: 141722 | Q25: 153894 | R25: 47526 | S25: 101764 | T25: - | U25: 1087353 | V25: 20
F26: 出産手当金 | I26: 件数 | K26: 21 | L26: - | M26: - | N26: - | Q26: - | R26: - | S26: - | T26: - | U26: - | V26: 21
I27: 金額 | K27: 22 | L27: - | M27: - | N27: - | Q27: - | R27: - | S27: - | T27: - | U27: - | V27: 22
F28: 休業手当金 | I28: 件数 | K28: 23 | L28: - | M28: - | N28: - | Q28: - | R28: - | S28: - | T28: - | U28: - | V28: 23
I29: 金額 | K29: 24 | L29: - | M29: - | N29: - | Q29: - | R29: - | S29: - | T29: - | U29: - | V29: 24
F30: 小計 | I30: 件数 | K30: 25 | L30: 953 | M30: 2037 | N30: 672 | Q30: 667 | R30: 175 | S30: 489 | T30: - | U30: 4993 | V30: 25
I31: 金額 | K31: 26 | L31: 208250 | M31: 434197 | N31: 141722 | Q31: 153894 | R31: 47526 | S31: 101764 | T31: - | U31: 1087353 | V31: 26
C32: 災害給付 | F32: 弔慰金 | I32: 件数 | K32: 27 | L32: - | M32: - | N32: - | Q32: - | R32: - | S32: - | T32: - | U32: - | V32: 27
I33: 金額 | K33: 28 | L33: - | M33: - | N33: - | Q33: - | R33: - | S33: - | T33: - | U33: - | V33: 28
F34: 家族弔慰金 | I34: 件数 | K34: 29 | L34: - | M34: - | N34: - | Q34: - | R34: - | S34: - | T34: - | U34: - | V34: 29
I35: 金額 | K35: 30 | L35: - | M35: - | N35: - | Q35: - | R35: - | S35: - | T35: - | U35: - | V35: 30
F36: 災害見舞金 | I36: 件数 | K36: 31 | L36: - | M36: - | N36: - | Q36: - | R36: - | S36: - | T36: - | U36: - | V36: 31
I37: 金額 | K37: 32 | L37: - | M37: - | N37: - | Q37: - | R37: - | S37: - | T37: - | U37: - | V37: 32
F38: 小計 | I38: 件数 | K38: 33 | L38: - | M38: - | N38: - | Q38: - | R38: - | S38: - | T38: - | U38: - | V38: 33
I39: 金額 | K39: 34 | L39: - | M39: - | N39: - | Q39: - | R39: - | S39: - | T39: - | U39: - | V39: 34
D40: 入院附加金 | I40: 件数 | K40: 35 | L40: - | M40: - | N40: - | Q40: - | R40: - | S40: - | T40: - | U40: - | V40: 35
I41: 金額 | K41: 36 | L41: - | M41: - | N41: - | Q41: - | R41: - | S41: - | T41: - | U41: - | V41: 36
...

Sheet 5
C1: ５ 長期給付支給状況調
X2: 単位 | Y2: 件数 件
Y3: 金額 千円
Q4: 地方職員共済組合 | S4: 公立学校共済組合 | V4: 警察共済組合 | W4: 東京都職員 共済組合 | X4: 全国市町村職員 共済組合連合会 | Y4: 合計
R5: (再掲)団体共済部
F6: 老齢厚生年金 | M6: 65歳以上 | O6: 件数 | P6: 1 | Q6: 466874 | R6: 27769 | S6: 1523013 | V6: 366186 | W6: 208430 | X6: 1968916 | Y6: 4533419 | Z6: 1
C7: 厚生年金保険給付 | O7: 金額 | P7: 2 | Q7: 82447206 | R7: 3526881 | S7: 295361735 | V7: 76338542 | W7: 35598547 | X7: 342554570 | Y7: 832300601 | Z7: 2
M8: 65歳未満 | O8: 件数 | P8: 3 | Q8: 68841 | R8: 6824 | S8: 548054 | V8: 171561 | W8: 55193 | X8: 561444 | Y8: 1405093 | Z8: 3
O9: 金額 | P9: 4 | Q9: 8473334 | R9: 501979 | S9: 86578929 | V9: 22585679 | W9: 6533750 | X9: 73982966 | Y9: 198154659 | Z9: 4
M10: 繰上げ 支給 | O10: 件数 | P10: 5 | Q10: 12 | R10: - | S10: 78 | V10: 336 | W10: - | X10: 131 | Y10: 557 | Z10: 5
O11: 金額 | P11: 6 | Q11: 531 | R11: - | S11: 7889 | V11: 41066 | W11: - | X11: 9030 | Y11: 58516 | Z11: 6
M12: 小計 | O12: 件数 | P12: 7 | Q12: 535727 | R12: 34593 | S12: 2071145 | V12: 538083 | W12: 263623 | X12: 2530491 | Y12: 5939069 | Z12: 7
O13: 金額 | P13: 8 | Q13: 90921072 | R13: 4028860 | S13: 381948553 | V13: 98965287 | W13: 42132298 | X13: 416546566 | Y13: 1030513776 | Z13: 8
F14: 障害厚生年金 | O14: 件数 | P14: 9 | Q14: 6093 | R14: 295 | S14: 19445 | V14: 6597 | W14: 2436 | X14: 22172 | Y14: 56743 | Z14: 9
O15: 金額 | P15: 10 | Q15: 1107417 | R15: 53695 | S15: 3889904 | V15: 998707 | W15: 377051 | X15: 3855241 | Y15: 10228320 | Z15: 10
F16: 障害手当金 | O16: 件数 | P16: 11 | Q16: 1 | R16: - | S16: 1 | V16: 1 | W16: 1 | X16: 4 | Y16: 8 | Z16: 11
O17: 金額 | P17: 12 | Q17: 2530 | R17: - | S17: 1614 | V17: 1528 | W17: 1606 | X17: 6897 | Y17: 14175 | Z17: 12
F18: 遺族厚生年金 | O18: 件数 | P18: 13 | Q18: 63416 | R18: 3314 | S18: 114659 | V18: 51031 | W18: 27114 | X18: 242663 | Y18: 498883 | Z18: 13
O19: 金額 | P19: 14 | Q19: 9463812 | R19: 317706 | S19: 16960036 | V19: 8249725 | W19: 4014867 | X19: 33145638 | Y19: 71834078 | Z19: 14
F20: 脱退一時金 | O20: 件数 | P20: 15 | Q20: 4 | R20: 4 | S20: 2 | V20: - | W20: - | X20: - | Y20: 6 | Z20: 15
O21: 金額 | P21: 16 | Q21: 7397 | R21: 7397 | S21: 2127 | V21: - | W21: - | X21: - | Y21: 9524 | Z21: 16
F22: 退職年金 | M22: 終身 | O22: 件数 | P22: 17 | Q22: 83380 | R22: 5404 | S22: 269426 | V22: 62108 | W22: 31899 | X22: 315073 | Y22: 761886 | Z22: 17
C23: 退職等年金給付 | O23: 金額 | P23: 18 | Q23: 42271 | R23: 3442 | S23: 149772 | V23: 27495 | W23: 19297 | X23: 166211 | Y23: 405045 | Z23: 18
M24: 有期 （240月） | O24: 件数 | P24: 19 | Q24: 16215 | R24: 836 | S24: 99226 | V24: 10058 | W24: 9672 | X24: 195513 | Y24: 330684 | Z24: 19
O25: 金額 | P25: 20 | Q25: 8202 | R25: 503 | S25: 51860 | V25: 5116 | W25: 6243 | X25: 106337 | Y25: 177758 | Z25: 20
M26: 有期 （120月） | O26: 件数 | P26: 21 | Q26: 38633 | R26: 3321 | S26: 139999 | V26: 33308 | W26: 19727 | X26: 65653 | Y26: 297320 | Z26: 21
O27: 金額 | P27: 22 | Q27: 46092 | R27: 4938 | S27: 171067 | V27: 35389 | W27: 28003 | X27: 86025 | Y27: 366576 | Z27: 22
M28: 小計 | O28: 件数 | P28: 23 | Q28: 138228 | R28: 9561 | S28: 508651 | V28: 105474 | W28: 61298 | X28: 576239 | Y28: 1389890 | Z28: 23
O29: 金額 | P29: 24 | Q29: 96565 | R29: 8882 | S29: 372699 | V29: 68000 | W29: 53543 | X29: 358573 | Y29: 949379 | Z29: 24
F30: 有期退職年金一時金 | O30: 件数 | P30: 25 | Q30: 2269 | R30: 76 | S30: 2629 | V30: 1982 | W30: 182 | X30: 3455 | Y30: 10517 | Z30: 25
O31: 金額 | P31: 26 | Q31: 270437 | R31: 9248 | S31: 309433 | V31: 164810 | W31: 23559 | X31: 414713 | Y31: 1182951 | Z31: 26
F32: 整理退職一時金 | O32: 件数 | P32: 27 | Q32: - | R32: - | S32: - | V32: 1 | W32: - | X32: 2 | Y32: 3 | Z32: 27
O33: 金額 | P33: 28 | Q33: - | R33: - | S33: - | V33: 283 | W33: - | X33: 483 | Y33: 766 | Z33: 28
F34: 遺族に対する一時金 | O34: 件数 | P34: 29 | Q34: 354 | R34: 14 | S34: 1012 | V34: 252 | W34: 131 | X34: 1618 | Y34: 3367 | Z34: 29
O35: 金額 | P35: 30 | Q35: 84013 | R35: 1991 | S35: 174708 | V35: 59981 | W35: 29861 | X35: 257767 | Y35: 606329 | Z35: 30
F36: 公務障害年金 | O36: 件数 | P36: 31 | Q36: - | R36: - | S36: 24 | V36: 21 | W36: - | X36: 20 | Y36: 65 | Z36: 31
O37: 金額 | P37: 32 | Q37: - | R37: - | S37: 6779 | V37: 5346 | W37: - | X37: 12760 | Y37: 24885 | Z37: 32
F38: 公務遺族年金 | O38: 件数 | P38: 33 | Q38: 53 | R38: - | S38: 81 | V38: 214 | W38: 10 | X38: 330 | Y38: 688 | Z38: 33
O39: 金額 | P39: 34 | Q39: 6467 | R39: - | S39: 11406 | V39: 14710 | W39: 659 | X39: 45975 | Y39: 79217 | Z39: 34
F40: 既裁定 | I40: 65歳以上 | O40: 件数 | P40: 35 | Q40: 981526 | R40: 89701 | S40: 2540991 | V40: 557051 | W40: 460162 | X40: 3506933 | Y40: 8046663 | Z40: 35
...

Sheet 6
C1: ６ 年金種類別受給権者状況調
X2: 単位 | Y2: 人員 人
Y3: 金額 千円
Q4: 地方職員共済組合 | S4: 公立学校共済組合 | V4: 警察共済組合 | W4: 東京都職員 共済組合 | X4: 全国市町村職員 共済組合連合会 | Y4: 合計
R5: (再掲)団体共済部
C6: 厚生年金保険給付 | E6: 老齢厚生年金 | J6: 65歳以上 | O6: 人員 | P6: 1 | Q6: 79700 | R6: 5099 | S6: 284167 | V6: 66030 | W6: 38233 | X6: 360567 | Y6: 828697 | Z6: 1
O7: 金額 | P7: 2 | Q7: 89769511 | R7: 4021877 | S7: 338678768 | V7: 85829857 | W7: 40489210 | X7: 387146624 | Y7: 941913969 | Z7: 2
J8: 65歳未満 | O8: 人員 | P8: 3 | Q8: 19298 | R8: 1172 | S8: 88828 | V8: 26217 | W8: 8977 | X8: 89565 | Y8: 232885 | Z8: 3
O9: 金額 | P9: 4 | Q9: 19361235 | R9: 737586 | S9: 97882065 | V9: 32893280 | W9: 8869635 | X9: 87009649 | Y9: 246015864 | Z9: 4
J10: 繰上げ支給 | O10: 人員 | P10: 5 | Q10: 2 | R10: - | S10: 14 | V10: 56 | W10: - | X10: 21 | Y10: 93 | Z10: 5
O11: 金額 | P11: 6 | Q11: 531 | R11: - | S11: 8523 | V11: 40659 | W11: - | X11: 8546 | Y11: 58259 | Z11: 6
J12: 小計 | O12: 人員 | P12: 7 | Q12: 99000 | R12: 6271 | S12: 373009 | V12: 92303 | W12: 47210 | X12: 450153 | Y12: 1061675 | Z12: 7
O13: 金額 | P13: 8 | Q13: 109131277 | R13: 4759462 | S13: 436569356 | V13: 118763795 | W13: 49358844 | X13: 474164820 | Y13: 1187988092 | Z13: 8
F14: 障害厚生年金 | O14: 人員 | P14: 9 | Q14: 1322 | R14: 67 | S14: 4251 | V14: 1188 | W14: 544 | X14: 4830 | Y14: 12135 | Z14: 9
O15: 金額 | P15: 10 | Q15: 1192409 | R15: 58608 | S15: 4410277 | V15: 1198063 | W15: 462742 | X15: 4175833 | Y15: 11439324 | Z15: 10
F16: 遺族厚生年金 | O16: 人員 | P16: 11 | Q16: 12797 | R16: 658 | S16: 25781 | V16: 9451 | W16: 5552 | X16: 50225 | Y16: 103806 | Z16: 11
O17: 金額 | P17: 12 | Q17: 14048568 | R17: 439296 | S17: 30918400 | V17: 10411028 | W17: 6010757 | X17: 50696618 | Y17: 112085371 | Z17: 12
C18: 計 | O18: 人員 | P18: 13 | Q18: 113119 | R18: 6996 | S18: 403041 | V18: 102942 | W18: 53306 | X18: 505208 | Y18: 1177616 | Z18: 13
O19: 金額 | P19: 14 | Q19: 124372255 | R19: 5257366 | S19: 471898033 | V19: 130372886 | W19: 55832343 | X19: 529037271 | Y19: 1311512788 | Z19: 14
C20: 退職等年金給付 | E20: 退職年金 | J20: 終 身 | M20: 10年以上 | O20: 人員 | P20: 15 | Q20: 17119 | R20: 842 | S20: 58825 | V20: 13006 | W20: 6945 | X20: 68554 | Y20: 164449 | Z20: 15
O21: 金額 | P21: 16 | Q21: 64496 | R21: 3806 | S21: 215218 | V21: 41281 | W21: 28238 | X21: 246265 | Y21: 595497 | Z21: 16
M22: 10年未満 | O22: 人員 | P22: 17 | Q22: 981 | R22: 205 | S22: 1490 | V22: 8 | W22: 32 | X22: 1098 | Y22: 3609 | Z22: 17
O23: 金額 | P23: 18 | Q23: 2493 | R23: 409 | S23: 4118 | V23: 23 | W23: 88 | X23: 3165 | Y23: 9887 | Z23: 18
M24: 小計 | O24: 人員 | P24: 19 | Q24: 18100 | R24: 1047 | S24: 60315 | V24: 13014 | W24: 6977 | X24: 69652 | Y24: 168058 | Z24: 19
O25: 金額 | P25: 20 | Q25: 66989 | R25: 4215 | S25: 219336 | V25: 41304 | W25: 28326 | X25: 249430 | Y25: 605385 | Z25: 20
J26: 有 期（240月） | M26: 10年以上 | O26: 人員 | P26: 21 | Q26: 3348 | R26: 135 | S26: 28487 | V26: 2046 | W26: 2107 | X26: 42013 | Y26: 78001 | Z26: 21
O27: 金額 | P27: 22 | Q27: 12576 | R27: 606 | S27: 114859 | V27: 7349 | W27: 9227 | X27: 158370 | Y27: 302380 | Z27: 22
M28: 10年未満 | O28: 人員 | P28: 23 | Q28: 187 | R28: 27 | S28: 509 | V28: 1 | W28: 8 | X28: 531 | Y28: 1236 | Z28: 23
O29: 金額 | P29: 24 | Q29: 434 | R29: 55 | S29: 1728 | V29: 7 | W29: 25 | X29: 1467 | Y29: 3662 | Z29: 24
M30: 小計 | O30: 人員 | P30: 25 | Q30: 3535 | R30: 162 | S30: 28996 | V30: 2047 | W30: 2115 | X30: 42544 | Y30: 79237 | Z30: 25
O31: 金額 | P31: 26 | Q31: 13010 | R31: 660 | S31: 116587 | V31: 7356 | W31: 9252 | X31: 159837 | Y31: 306042 | Z31: 26
J32: 有 期 （120月） | M32: 10年以上 | O32: 人員 | P32: 27 | Q32: 8002 | R32: 525 | S32: 24017 | V32: 7223 | W32: 4298 | X32: 16041 | Y32: 59581 | Z32: 27
O33: 金額 | P33: 28 | Q33: 69814 | R33: 5470 | S33: 208046 | V33: 55397 | W33: 41409 | X33: 145200 | Y33: 519866 | Z33: 28
M34: 10年未満 | O34: 人員 | P34: 29 | Q34: 380 | R34: 112 | S34: 681 | V34: 4 | W34: 16 | X34: 242 | Y34: 1323 | Z34: 29
O35: 金額 | P35: 30 | Q35: 2155 | R35: 482 | S35: 4147 | V35: 10 | W35: 98 | X35: 1323 | Y35: 7733 | Z35: 30
M36: 小計 | O36: 人員 | P36: 31 | Q36: 8382 | R36: 637 | S36: 24698 | V36: 7227 | W36: 4314 | X36: 16283 | Y36: 60904 | Z36: 31
O37: 金額 | P37: 32 | Q37: 71969 | R37: 5951 | S37: 212193 | V37: 55408 | W37: 41507 | X37: 146523 | Y37: 527599 | Z37: 32
J38: 計 | O38: 人員 | P38: 33 | Q38: 30017 | R38: 1846 | S38: 114009 | V38: 22288 | W38: 13406 | X38: 128479 | Y38: 308199 | Z38: 33
O39: 金額 | P39: 34 | Q39: 151968 | R39: 10826 | S39: 548116 | V39: 104067 | W39: 79086 | X39: 555790 | Y39: 1439026 | Z39: 34
F40: 公務障害年金 | O40: 人員 | P40: 35 | Q40: 1 | R40: - | S40: 14 | V40: 9 | W40: 1 | X40: 23 | Y40: 48 | Z40: 35
...

Sheet 7
C1: ７ 短期経理貸借対照表
Y2: （単位 千円）
P4: 地方職員共済組合 | Q4: 公立学校共済組合 | R4: 警察共済組合 | S4: 東京都職員 共済組合 | V4: 全国市町村職員 共済組合連合会 | W4: 指定都市職員 共済組合 | X4: 市町村職員 共済組合 | Y4: 都市職員 共済組合 | Z4: 合計
C6: 借方 | F6: 流動資産 | J6: 現金 | O6: 1 | P6: - | Q6: - | R6: - | S6: - | V6: - | W6: - | X6: - | Y6: - | Z6: - | AA6: 1
J7: 当座預金 | O7: 2 | P7: - | Q7: - | R7: - | S7: - | V7: - | W7: 7210 | X7: - | Y7: - | Z7: 7210 | AA7: 2
J8: 普通預金 | O8: 3 | P8: 24540961 | Q8: 163873796 | R8: 22380224 | S8: 33323523 | V8: 13931323 | W8: 17264388 | X8: 73835032 | Y8: 4146471 | Z8: 353295718 | AA8: 3
J9: 通知預金 | O9: 4 | P9: - | Q9: - | R9: - | S9: - | V9: - | W9: - | X9: 511000 | Y9: - | Z9: 511000 | AA9: 4
J10: 定期預金 | O10: 5 | P10: 71518000 | Q10: 100000000 | R10: - | S10: 20000000 | V10: 19180000 | W10: 4205367 | X10: 69498000 | Y10: 4500000 | Z10: 288901367 | AA10: 5
J11: 金銭信託 | O11: 6 | P11: - | Q11: - | R11: 46000000 | S11: - | V11: - | W11: 5143744 | X11: 10402174 | Y11: - | Z11: 61545919 | AA11: 6
J12: 有価証券 | O12: 7 | P12: - | Q12: - | R12: - | S12: - | V12: - | W12: 898740 | X12: 7956357 | Y12: 350000 | Z12: 9205097 | AA12: 7
J13: 貸付信託 | O13: 8 | P13: - | Q13: - | R13: - | S13: - | V13: - | W13: - | X13: - | Y13: - | Z13: - | AA13: 8
J14: 短期運用有価証券 | O14: 9 | P14: - | Q14: - | R14: - | S14: - | V14: - | W14: - | X14: - | Y14: - | Z14: - | AA14: 9
J15: 証券投資信託 | O15: 10 | P15: - | Q15: - | R15: - | S15: - | V15: - | W15: - | X15: - | Y15: - | Z15: - | AA15: 10
J16: 立替金 | O16: 11 | P16: 105 | Q16: 79 | R16: 7718 | S16: - | V16: - | W16: 168 | X16: 420 | Y16: - | Z16: 8491 | AA16: 11
J17: 仮払金 | O17: 12 | P17: - | Q17: - | R17: - | S17: - | V17: - | W17: - | X17: 5604 | Y17: 0 | Z17: 5604 | AA17: 12
J18: 未収収益 | O18: 13 | P18: 240 | Q18: 690 | R18: 1212 | S18: 12256 | V18: 10369 | W18: 803 | X18: 20610 | Y18: 303 | Z18: 46484 | AA18: 13
J19: 短期貸付金 | O19: 14 | P19: - | Q19: - | R19: 8895000 | S19: - | V19: - | W19: - | X19: - | Y19: - | Z19: 8895000 | AA19: 14
J20: 未収金 | O20: 15 | P20: 46744 | Q20: 418826 | R20: 3936088 | S20: 455749 | V20: - | W20: 92027 | X20: 897855 | Y20: 785 | Z20: 5848074 | AA20: 15
J21: 支払基金委託金 | O21: 16 | P21: 924083 | Q21: 2973290 | R21: 1002975 | S21: 334854 | V21: - | W21: 533148 | X21: 2890125 | Y21: 150376 | Z21: 8808851 | AA21: 16
J22: 未達回送金 | O22: 17 | P22: - | Q22: - | R22: - | S22: - | V22: - | W22: - | X22: 332 | Y22: - | Z22: 332 | AA22: 17
F23: 固定資産 | J23: 金銭信託 | O23: 18 | P23: - | Q23: - | R23: - | S23: - | V23: - | W23: - | X23: - | Y23: - | Z23: - | AA23: 18
J24: 投資有価証券 | O24: 19 | P24: - | Q24: - | R24: - | S24: - | V24: 19098535 | W24: - | X24: - | Y24: - | Z24: 19098535 | AA24: 19
J25: 加入金 | O25: 20 | P25: - | Q25: - | R25: - | S25: - | V25: - | W25: 100 | X25: - | Y25: - | Z25: 100 | AA25: 20
G26: 合計 | O26: 21 | P26: 97030134 | Q26: 267266681 | R26: 82223217 | S26: 54126381 | V26: 52220228 | W26: 28145696 | X26: 166017510 | Y26: 9147934 | Z26: 756177781 | AA26: 21
D27: 令和２年度合計 | O27: 22 | P27: 98301075 | Q27: 299962950 | R27: 85994140 | S27: 56104218 | V27: 53937490 | W27: 31941540 | X27: 176149026 | Y27: 8790208 | Z27: 811180648 | AA27: 22
D28: 令和元年度合計 | O28: 23 | P28: 95671670 | Q28: 280249712 | R28: 83659525 | S28: 51774847 | V28: 55718847 | W28: 31605282 | X28: 162423240 | Y28: 8939990 | Z28: 770043113 | AA28: 23
C30: 貸方 | F30: 流動負債 | J30: 短期借入金 | O30: 1 | P30: - | Q30: - | R30: - | S30: - | V30: - | W30: - | X30: - | Y30: - | Z30: - | AA30: 1
J31: 未払金 | O31: 2 | P31: 98505 | Q31: 7239489 | R31: 5898239 | S31: 639430 | V31: - | W31: 1303474 | X31: 8767468 | Y31: 517305 | Z31: 24463910 | AA31: 2
J32: 未払費用 | O32: 3 | P32: 9407490 | Q32: - | R32: 55 | S32: - | V32: - | W32: 23737 | X32: 1823335 | Y32: - | Z32: 11254618 | AA32: 3
J33: 預り金 | O33: 4 | P33: 16272 | Q33: 5815704 | R33: 2755 | S33: - | V33: 23402 | W33: 595 | X33: 7814 | Y33: - | Z33: 5866542 | AA33: 4
J34: 前受収益 | O34: 5 | P34: 939674 | Q34: - | R34: 166045 | S34: 99536 | V34: - | W34: 123244 | X34: 1252302 | Y34: 45505 | Z34: 2626306 | AA34: 5
J35: 仮受金 | O35: 6 | P35: - | Q35: 2233 | R35: - | S35: - | V35: - | W35: 12 | X35: 3521 | Y35: - | Z35: 5767 | AA35: 6
F36: 固定負債 | J36: 長期借入金 | O36: 7 | P36: - | Q36: - | R36: - | S36: - | V36: - | W36: - | X36: - | Y36: - | Z36: - | AA36: 7
J37: 支払準備金 | O37: 8 | P37: 15499707 | Q37: 52340766 | R37: 15199238 | S37: 6343404 | V37: - | W37: 8109312 | X37: 43991386 | Y37: 2439499 | Z37: 143923312 | AA37: 8
F38: 剰余金 （欠損金） | J38: 資本剰余金 | O38: 9 | P38: - | Q38: - | R38: - | S38: - | V38: - | W38: - | X38: - | Y38: - | Z38: - | AA38: 9
J39: 災害給付積立金 | O39: 10 | P39: - | Q39: - | R39: - | S39: - | V39: 24019560 | W39: - | X39: - | Y39: - | Z39: 24019560 | AA39: 10
I40: 利益剰余金又は欠損金 | M40: 欠損金補てん 積立金 | O40: 11 | P40: 8927040 | Q40: 28876621 | R40: 8916660 | S40: 3658288 | V40: - | W40: 3936507 | X40: 23816232 | Y40: 1368828 | Z40: 79500176 | AA40: 11
O41: 12 | P41: 62078157 | Q41: 174288435 | R41: 55366050 | S41: 43576633 | V41: 28177266 | W41: 14471117 | X41: 85923279 | Y41: 4670647 | Z41: 468551584 | AA41: 12
O42: 13 | P42: 63289 | Q42: -1296567 | R42: -3325826 | S42: -190910 | V42: - | W42: 177697 | X42: 432172 | Y42: 106150 | Z42: -4033995 | AA42: 13
G43: 合計 | O43: 14 | P43: 97030134 | Q43: 267266681 | R43: 82223217 | S43: 54126381 | V43: 52220228 | W43: 28145696 | X43: 166017510 | Y43: 9147934 | Z43: 756177781 | AA43: 14
...

Sheet 8
C1: ８ 短期経理損益計算書
V2: （単位 千円）
M4: 地方職員共済組合 | N4: 公立学校共済組合 | O4: 警察共済組合 | R4: 東京都職員 共済組合 | S4: 全国市町村職員 共済組合連合会 | T4: 指定都市職員 共済組合 | U4: 市町村職員 共済組合 | V4: 都市職員 共済組合 | W4: 合計
C6: 借方 | F6: 経常費用 | J6: 保健給付 | L6: 1 | M6: 80954356 | N6: 250396061 | O6: 82936785 | R6: 31547187 | S6: - | T6: 46876634 | U6: 254529136 | V6: 14172564 | W6: 761412724 | X6: 1
J7: 直営保健給付 | L7: 2 | M7: 158300 | N7: 637715 | O7: 108044 | R7: 38943 | S7: - | T7: - | U7: - | V7: - | W7: 943002 | X7: 2
J8: 休業給付 | L8: 3 | M8: 10912636 | N8: 55454308 | O8: 5838307 | R8: 5602537 | S8: - | T8: 5985878 | U8: 35581106 | V8: 2328985 | W8: 121703758 | X8: 3
J9: 災害給付 | L9: 4 | M9: 30765 | N9: 112736 | O9: 15301 | R9: 4250 | S9: - | T9: 8380 | U9: 107715 | V9: 2640 | W9: 281787 | X9: 4
J10: 附加給付 | L10: 5 | M10: 942183 | N10: 3410670 | O10: 1366949 | R10: 447991 | S10: - | T10: 397101 | U10: 1768140 | V10: 106909 | W10: 8439942 | X10: 5
J11: 老人保健拠出金 | L11: 6 | M11: - | N11: - | O11: - | R11: - | S11: - | T11: - | U11: - | V11: - | W11: - | X11: 6
J12: 退職者給付拠出金 | K12: 1 | L12: 7 | M12: 1439 | N12: 4418 | O12: 1512 | R12: 623 | S12: - | T12: 788 | U12: 4112 | V12: 233 | W12: 13125 | X12: 7
J13: 前期高齢者納付金 | K13: 2 | L13: 8 | M13: 42130071 | N13: 135884264 | O13: 16163480 | R13: 9517397 | S13: - | T13: 18338166 | U13: 140663137 | V13: 6276946 | W13: 368973461 | X13: 8
J14: 後期高齢者支援金 | K14: 3 | L14: 9 | M14: 45786412 | N14: 149339521 | O14: 48021629 | R14: 20184993 | S14: - | T14: 25212027 | U14: 132562701 | V14: 7535521 | W14: 428642804 | X14: 9
J15: 病床転換支援金 | K15: 4 | L15: 10 | M15: 122 | N15: 380 | O15: 141 | R15: 45 | S15: - | T15: 66 | U15: 385 | V15: 20 | W15: 1160 | X15: 10
J16: 介護納付金 | K16: 5 | L16: 11 | M16: 24973439 | N16: 79707411 | O16: 21720651 | R16: 9914567 | S16: - | T16: 13800537 | U16: 69498139 | V16: 3733093 | W16: 223347838 | X16: 11
J17: 一部負担金返還金 | K17: 6 | L17: 12 | M17: 2958 | N17: 428 | O17: - | R17: - | S17: - | T17: - | U17: 427 | V17: - | W17: 3814 | X17: 12
J18: 一部負担金払戻金 | K18: 7 | L18: 13 | M18: 1076703 | N18: 4032679 | O18: 930043 | R18: 419517 | S18: - | T18: 590180 | U18: 3156570 | V18: 179701 | W18: 10385393 | X18: 13
J19: 短期任意継続掛金還付金 | K19: 8 | L19: 14 | M19: 100075 | N19: 474795 | O19: 66483 | R19: 21625 | S19: - | T19: 30603 | U19: 254144 | V19: 12020 | W19: 959746 | X19: 14
J20: 介護任意継続掛金還付金 | K20: 9 | L20: 15 | M20: 15798 | N20: 82703 | O20: 9737 | R20: 4019 | S20: - | T20: 4457 | U20: 38835 | V20: 1534 | W20: 157082 | X20: 15
J21: 連合会払込金 | K21: 10 | L21: 16 | M21: - | N21: - | O21: - | R21: - | S21: - | T21: 1467924 | U21: 7757938 | V21: 444439 | W21: 9670301 | X21: 16
J22: 連合会拠出金 | K22: 11 | L22: 17 | M22: - | N22: - | O22: - | R22: - | S22: - | T22: 5451560 | U22: 29054453 | V22: 1674967 | W22: 36180981 | X22: 17
J23: 連合会返還金 | K23: 12 | L23: 18 | M23: - | N23: - | O23: - | R23: - | S23: - | T23: 87451 | U23: 2405210 | V23: 244590 | W23: 2737251 | X23: 18
J24: 組合交付金 | K24: 13 | L24: 19 | M24: - | N24: - | O24: - | R24: - | S24: 38473009 | T24: - | U24: - | V24: - | W24: 38473009 | X24: 19
J25: 共同事業費 | K25: 14 | L25: 20 | M25: - | N25: - | O25: - | R25: - | S25: 70993 | T25: - | U25: - | V25: - | W25: 70993 | X25: 20
J26: 調整交付金 | K26: 15 | L26: 21 | M26: - | N26: - | O26: - | R26: - | S26: 738693 | T26: - | U26: - | V26: - | W26: 738693 | X26: 21
J27: 高額医療交付金 | K27: 16 | L27: 22 | M27: - | N27: - | O27: - | R27: - | S27: 8125328 | T27: - | U27: - | V27: - | W27: 8125328 | X27: 22
J28: 特別調整交付金 | K28: 17 | L28: 23 | M28: - | N28: - | O28: - | R28: - | S28: 2941525 | T28: - | U28: - | V28: - | W28: 2941525 | X28: 23
J29: 特別保健福祉事業費 | K29: 18 | L29: 24 | M29: - | N29: - | O29: - | R29: - | S29: - | T29: - | U29: - | V29: - | W29: - | X29: 24
J30: 信託等売買手数料 | K30: 19 | L30: 25 | M30: - | N30: - | O30: - | R30: - | S30: - | T30: - | U30: - | V30: - | W30: - | X30: 25
J31: 雑費 | K31: 20 | L31: 26 | M31: - | N31: 3100 | O31: - | R31: - | S31: - | T31: - | U31: - | V31: - | W31: 3100 | X31: 26
J32: 支払利息 | K32: 21 | L32: 27 | M32: - | N32: - | O32: - | R32: - | S32: 0 | T32: - | U32: - | V32: - | W32: 0 | X32: 27
J33: 有価証券売却損 | K33: 22 | L33: 28 | M33: - | N33: - | O33: - | R33: - | S33: - | T33: - | U33: - | V33: - | W33: - | X33: 28
J34: 有価証券評価損 | K34: 23 | L34: 29 | M34: - | N34: - | O34: - | R34: - | S34: - | T34: - | U34: - | V34: - | W34: - | X34: 29
J35: 償還差損 | K35: 24 | L35: 30 | M35: - | N35: - | O35: - | R35: - | S35: - | T35: - | U35: - | V35: - | W35: - | X35: 30
J36: 承継差損 | K36: 25 | L36: 31 | M36: - | N36: - | O36: - | R36: - | S36: - | T36: - | U36: - | V36: - | W36: - | X36: 31
J37: 雑損 | K37: 26 | L37: 32 | M37: - | N37: - | O37: - | R37: - | S37: - | T37: - | U37: - | V37: - | W37: - | X37: 32
G38: 繰入金 | J38: 業務経理へ繰入 | K38: 27 | L38: 33 | M38: 497264 | N38: 1303392 | O38: 522825 | R38: 205804 | S38: - | T38: 216107 | U38: 1709593 | V38: 101589 | W38: 4556573 | X38: 33
J39: 保健経理へ繰入 | K39: 28 | L39: 34 | M39: - | N39: - | O39: - | R39: - | S39: - | T39: - | U39: - | V39: - | W39: - | X39: 34
J40: 保健給付経理へ繰入 | K40: 29 | L40: 35 | M40: - | N40: - | O40: - | R40: - | S40: - | T40: - | U40: - | V40: - | W40: - | X40: 35
G41: 次年度繰越 支払準備金 | J41: 次年度繰越支払準備金 | K41: 30 | L41: 36 | M41: 15499707 | N41: 52340766 | O41: 15199238 | R41: 6343404 | S41: - | T41: 8109312 | U41: 43991386 | V41: 2439499 | W41: 143923312 | X41: 36
G42: 特別損失 | J42: 前期損益修正損 | K42: 31 | L42: 37 | M42: - | N42: 139603 | O42: 48428 | R42: 5670 | S42: 8063 | T42: 3232 | U42: 12861 | V42: 120 | W42: 217977 | X42: 37
...

Sheet 9
C1: ９ 厚生年金保険経理貸借対照表
T2: （単位 千円）
L4: 地方公務員 共済組合連合会 | M4: 地方職員共済組合 | Q4: 公立学校共済組合 | R4: 警察共済組合 | S4: 東京都職員 共済組合 | T4: 全国市町村職員 共済組合連合会 | U4: 合計
N5: (再掲)団体共済部
C6: 借 方 | E6: 流 動 資 産 | I6: 現金 | K6: 1 | L6: - | M6: - | N6: - | Q6: - | R6: - | S6: - | T6: - | U6: - | V6: 1
I7: 当座預金 | K7: 2 | L7: - | M7: - | N7: - | Q7: - | R7: - | S7: - | T7: - | U7: - | V7: 2
I8: 普通預金 | K8: 3 | L8: 27691441 | M8: 31422660 | N8: 1370257 | Q8: 77118888 | R8: 79735254 | S8: 33345557 | T8: 46417062 | U8: 295730863 | V8: 3
I9: 通知預金 | K9: 4 | L9: - | M9: - | N9: - | Q9: - | R9: - | S9: - | T9: - | U9: - | V9: 4
I10: 定期預金 | K10: 5 | L10: - | M10: 67800000 | N10: - | Q10: 250000000 | R10: 21000000 | S10: - | T10: 293820000 | U10: 632620000 | V10: 5
I11: 保管有価証券 | K11: 6 | L11: - | M11: - | N11: - | Q11: - | R11: - | S11: - | T11: - | U11: - | V11: 6
I12: 証券投資信託 | K12: 7 | L12: - | M12: - | N12: - | Q12: - | R12: - | S12: - | T12: - | U12: - | V12: 7
I13: 立替金 | K13: 8 | L13: - | M13: 166 | N13: - | Q13: - | R13: - | S13: - | T13: - | U13: 166 | V13: 8
I14: 仮払金 | K14: 9 | L14: - | M14: - | N14: - | Q14: - | R14: - | S14: - | T14: - | U14: - | V14: 9
I15: 前渡金 | K15: 10 | L15: - | M15: - | N15: - | Q15: - | R15: - | S15: - | T15: - | U15: - | V15: 10
I16: 未収収益 | K16: 11 | L16: 626244556 | M16: 2744950 | N16: 2744816 | Q16: 149871991 | R16: 104907344 | S16: 17785340 | T16: 339115619 | U16: 1240669800 | V16: 11
I17: 短期貸付金 | K17: 12 | L17: - | M17: - | N17: - | Q17: - | R17: - | S17: - | T17: - | U17: - | V17: 12
I18: 未収金 | K18: 13 | L18: - | M18: 457919 | N18: 4372 | Q18: 2445660 | R18: 254912 | S18: 868333 | T18: 95350015 | U18: 99376839 | V18: 13
I19: 未達回送金 | K19: 14 | L19: - | M19: - | N19: - | Q19: - | R19: - | S19: - | T19: - | U19: - | V19: 14
E20: 固 定 資 産 | I20: 信託 | K20: 15 | L20: 10637206609 | M20: 2500000 | N20: 2500000 | Q20: 1686438298 | R20: 1236017975 | S20: 159822091 | T20: 4370428061 | U20: 18092413033 | V20: 15
I21: 投資有価証券 | K21: 16 | L21: - | M21: - | N21: - | Q21: - | R21: - | S21: - | T21: - | U21: - | V21: 16
I22: 生命保険 | K22: 17 | L22: - | M22: - | N22: - | Q22: - | R22: - | S22: - | T22: - | U22: - | V22: 17
I23: 投資不動産 | K23: 18 | L23: - | M23: - | N23: - | Q23: - | R23: - | S23: - | T23: - | U23: - | V23: 18
I24: 長期貸付金 | K24: 19 | L24: - | M24: - | N24: - | Q24: - | R24: - | S24: - | T24: - | U24: - | V24: 19
I25: 預託金 | K25: 20 | L25: - | M25: - | N25: - | Q25: - | R25: - | S25: - | T25: - | U25: - | V25: 20
I26: 連合会預託金 | K26: 21 | L26: - | M26: 77064915 | N26: 77064915 | Q26: - | R26: - | S26: - | T26: - | U26: 77064915 | V26: 21
I27: 構成組合預託金 | K27: 22 | L27: - | M27: - | N27: - | Q27: - | R27: - | S27: - | T27: - | U27: - | V27: 22
F28: 合計 | K28: 23 | L28: 11291142605 | M28: 181990609 | N28: 83684360 | Q28: 2165874837 | R28: 1441915485 | S28: 211821321 | T28: 5145130758 | U28: 20437875616 | V28: 23
D29: 令和２年度合計 | K29: 24 | L29: 10750028129 | M29: 173940829 | N29: 83021719 | Q29: 2110870300 | R29: 1375626880 | S29: 215667342 | T29: 5008939686 | U29: 19635073166 | V29: 24
D30: 令和元年度合計 | K30: 25 | L30: 10268610625 | M30: 185690015 | N30: 81518938 | Q30: 2095694860 | R30: 1324856759 | S30: 230679031 | T30: 5016158371 | U30: 19121689662 | V30: 25
C32: 貸 方 | F32: 流動負債 | I32: 未払消費税 | K32: 1 | L32: - | M32: - | N32: - | Q32: - | R32: - | S32: - | T32: - | U32: - | V32: 1
I33: 未払金 | K33: 2 | L33: - | M33: 974864 | N33: 28222 | Q33: 3193781 | R33: 678004 | S33: 382953 | T33: 2754440 | U33: 7984043 | V33: 2
I34: 未払費用 | K34: 3 | L34: - | M34: - | N34: - | Q34: - | R34: - | S34: 383163 | T34: - | U34: 383163 | V34: 3
I35: 前受金 | K35: 4 | L35: - | M35: - | N35: - | Q35: - | R35: - | S35: - | T35: - | U35: - | V35: 4
I36: 預り金 | K36: 5 | L36: - | M36: 29806 | N36: 19431 | Q36: 25075 | R36: 509078 | S36: - | T36: 3397 | U36: 567356 | V36: 5
I37: 受入保証金 | K37: 6 | L37: - | M37: - | N37: - | Q37: - | R37: - | S37: - | T37: - | U37: - | V37: 6
I38: 厚生年金拠出金負担金充当金 | K38: 7 | L38: - | M38: - | N38: - | Q38: - | R38: - | S38: - | T38: - | U38: - | V38: 7
I39: 基礎年金拠出金 負担金充当金 | K39: 8 | L39: - | M39: - | N39: - | Q39: - | R39: - | S39: - | T39: - | U39: - | V39: 8
I40: 前受収益 | K40: 9 | L40: - | M40: 373 | N40: - | Q40: - | R40: 22 | S40: - | T40: - | U40: 395 | V40: 9
I41: 仮受金 | K41: 10 | L41: - | M41: - | N41: - | Q41: 557628 | R41: - | S41: - | T41: 22 | U41: 557650 | V41: 10
I42: 預り有価証券 | K42: 11 | L42: - | M42: - | N42: - | Q42: - | R42: - | S42: - | T42: - | U42: - | V42: 11
...

Sheet 10
C1: １０ 厚生年金保険経理損益計算書
U2: （単位 千円）
M4: 地方公務員 共済組合連合会 | N4: 地方職員共済組合 | R4: 公立学校共済組合 | S4: 警察共済組合 | T4: 東京都職員 共済組合 | U4: 全国市町村職員 共済組合連合会 | V4: 合計
O5: (再掲)団体共済部
C6: 借方 | F6: 経 常 費 用 | J6: 老齢厚生給付 | L6: 1 | M6: - | N6: 90921072 | O6: 4028860 | R6: 381948553 | S6: 98919559 | T6: 42132298 | U6: 416546566 | V6: 1030468047 | W6: 1
J7: 退職共済給付 | L7: 2 | M7: - | N7: 228971001 | O7: 7906033 | R7: 722840984 | S7: 145759944 | T7: 101974965 | U7: 737667071 | V7: 1937213965 | W7: 2
J8: 障害厚生給付 | L8: 3 | M8: - | N8: 1109947 | O8: 53695 | R8: 3891518 | S8: 1000234 | T8: 378658 | U8: 3862138 | V8: 10242495 | W8: 3
J9: 障害共済給付 | L9: 4 | M9: - | N9: 2319540 | O9: 108055 | R9: 9190519 | S9: 1427579 | T9: 741092 | U9: 8285085 | V9: 21963816 | W9: 4
J10: 遺族厚生給付 | L10: 5 | M10: - | N10: 9463812 | O10: 317706 | R10: 16960036 | S10: 8249725 | T10: 4014867 | U10: 33145638 | V10: 71834078 | W10: 5
J11: 遺族共済給付 | L11: 6 | M11: - | N11: 97115704 | O11: 1840101 | R11: 233938894 | S11: 69981199 | T11: 33625425 | U11: 230315194 | V11: 664976416 | W11: 6
J12: 短期在留脱退一時金 | L12: 7 | M12: - | N12: 8661 | O12: 7397 | R12: 2127 | S12: - | T12: - | U12: 2720 | V12: 13508 | W12: 7
J13: 連合会交付金返還金 | L13: 8 | M13: - | N13: - | O13: - | R13: - | S13: - | T13: - | U13: - | V13: - | W13: 8
J14: 連合会払込金 | L14: 9 | M14: - | N14: 711206 | O14: 711206 | R14: 18612724 | S14: 36017719 | T14: - | U14: 44877381 | V14: 100219030 | W14: 9
J15: 移換金 | L15: 10 | M15: - | N15: - | O15: - | R15: - | S15: - | T15: - | U15: - | V15: - | W15: 10
J16: 消費税 | L16: 11 | M16: - | N16: - | O16: - | R16: - | S16: - | T16: - | U16: - | V16: - | W16: 11
J17: 負担金 | L17: 12 | M17: - | N17: 21905 | O17: - | R17: 71317 | S17: 23355 | T17: - | U17: - | V17: 116577 | W17: 12
J18: 厚生年金拠出金 | L18: 13 | M18: 3274208971 | N18: - | O18: - | R18: - | S18: - | T18: - | U18: - | V18: 3274208971 | W18: 13
J19: 厚生年金交付金支払金 | L19: 14 | M19: 3510580887 | N19: - | O19: - | R19: - | S19: - | T19: - | U19: - | V19: 3510580887 | W19: 14
J20: 厚生年金拠出金負担金 | L20: 15 | M20: 164943223 | N20: 335381515 | O20: 13865722 | R20: 1071833437 | S20: 315321877 | T20: 148238845 | U20: 1238490073 | V20: 3274208971 | W20: 15
J21: 基礎年金拠出金負担金 | L21: 16 | M21: - | N21: 173124740 | O21: 7229074 | R21: 524397248 | S21: 179479161 | T21: 73726402 | U21: 597639093 | V21: 1548366644 | W21: 16
J22: 基礎年金拠出金 | L22: 17 | M22: 1548366644 | N22: - | O22: - | R22: - | S22: - | T22: - | U22: - | V22: 1548366644 | W22: 17
J23: 基礎年金交付金支払金 | L23: 18 | M23: 54431257 | N23: - | O23: - | R23: - | S23: - | T23: - | U23: - | V23: 54431257 | W23: 18
J24: 財政調整拠出金 | L24: 19 | M24: - | N24: - | O24: - | R24: - | S24: - | T24: - | U24: - | V24: - | W24: 19
J25: 組合払込金返還金 | L25: 20 | M25: - | N25: - | O25: - | R25: - | S25: - | T25: - | U25: - | V25: - | W25: 20
J26: 組合交付金 | L26: 21 | M26: 34152000 | N26: - | O26: - | R26: - | S26: - | T26: - | U26: - | V26: 34152000 | W26: 21
J27: 信託の運用損 | L27: 22 | M27: 702356 | N27: - | O27: - | R27: 51535 | S27: 106 | T27: 383163 | U27: 2727687 | V27: 3864847 | W27: 22
J28: 有価証券売却損 | L28: 23 | M28: - | N28: - | O28: - | R28: - | S28: - | T28: - | U28: - | V28: - | W28: 23
J29: 有価証券評価損 | L29: 24 | M29: - | N29: - | O29: - | R29: - | S29: - | T29: - | U29: - | V29: - | W29: 24
J30: 償還差損 | L30: 25 | M30: - | N30: - | O30: - | R30: - | S30: - | T30: - | U30: - | V30: - | W30: 25
J31: 承継差損 | L31: 26 | M31: - | N31: - | O31: - | R31: - | S31: - | T31: - | U31: - | V31: - | W31: 26
J32: 信託等売買手数料 | L32: 27 | M32: - | N32: - | O32: - | R32: - | S32: - | T32: - | U32: - | V32: - | W32: 27
J33: 未収返還金償却額 | L33: 28 | M33: - | N33: - | O33: - | R33: 4377 | S33: 1549 | T33: - | U33: 96827 | V33: 102753 | W33: 28
J34: 雑費 | L34: 29 | M34: - | N34: 555 | O34: 316 | R34: 329 | S34: 25 | T34: - | U34: 2548 | V34: 3456 | W34: 29
G35: 繰入金 | J35: 業務経理へ繰入 | L35: 30 | M35: 2082654 | N35: 671873 | O35: 189959 | R35: 1080260 | S35: 527933 | T35: 294354 | U35: 2701467 | V35: 7358542 | W35: 30
G36: 次年度繰越 厚生年金拠出金 負担金充当金 | J36: 次年度繰越 厚生年金拠出金 負担金充当金 | L36: 31 | M36: - | N36: - | O36: - | R36: - | S36: - | T36: - | U36: - | V36: - | W36: 31
G37: 次年度繰越 厚生年金保険給付 組合積立金 | J37: 次年度繰越 厚生年金保険給付 組合積立金 | L37: 32 | M37: - | N37: 180985566 | O37: 83636708 | R37: 2162098353 | S37: 1440728381 | T37: 211055206 | U37: 5142372898 | V37: 9137240404 | W37: 32
G38: 次年度繰越 基礎年金拠出金 負担金充当金 | J38: 次年度繰越 基礎年金拠出金 負担金充当金 | L38: 33 | M38: - | N38: - | O38: - | R38: - | S38: - | T38: - | U38: - | V38: - | W38: 33
G39: 特別損失 | J39: 前期損益修正損 | L39: 34 | M39: - | N39: - | O39: - | R39: 267810 | S39: 29634 | T39: 12274 | U39: 306 | V39: 310024 | W39: 34
J40: 固定資産売却損 | L40: 35 | M40: - | N40: - | O40: - | R40: - | S40: - | T40: - | U40: - | V40: - | W40: 35
J41: 固定資産除却損 | L41: 36 | M41: - | N41: - | O41: - | R41: - | S41: - | T41: - | U41: - | V41: - | W41: 36
...

Sheet 11
C1: １１ 退職等年金経理貸借対照表
U2: （単位 千円）
M4: 地方公務員 共済組合連合会 | N4: 地方職員共済組合 | R4: 公立学校共済組合 | S4: 警察共済組合 | T4: 東京都職員 共済組合 | U4: 全国市町村職員 共済組合連合会 | V4: 合計
O5: (再掲)団体共済部
C6: 借 方 | G6: 流 動 資 産 | J6: 現金 | L6: 1 | M6: - | N6: - | O6: - | R6: - | S6: - | T6: - | U6: - | V6: - | W6: 1
J7: 当座預金 | L7: 2 | M7: - | N7: - | O7: - | R7: - | S7: - | T7: - | U7: - | V7: - | W7: 2
J8: 普通預金 | L8: 3 | M8: 45881 | N8: 3120380 | O8: 67306 | R8: 5419914 | S8: 6245681 | T8: 1263229 | U8: 770943 | V8: 16866028 | W8: 3
J9: 通知預金 | L9: 4 | M9: - | N9: - | O9: - | R9: - | S9: - | T9: - | U9: - | V9: - | W9: 4
J10: 定期預金 | L10: 5 | M10: - | N10: 4650000 | O10: 250000 | R10: - | S10: - | T10: - | U10: - | V10: 4650000 | W10: 5
J11: 保管有価証券 | L11: 6 | M11: - | N11: - | O11: - | R11: - | S11: - | T11: - | U11: - | V11: - | W11: 6
J12: 立替金 | L12: 7 | M12: - | N12: - | O12: - | R12: 60 | S12: - | T12: - | U12: - | V12: 60 | W12: 7
J13: 仮払金 | L13: 8 | M13: - | N13: - | O13: - | R13: - | S13: - | T13: - | U13: - | V13: - | W13: 8
J14: 前渡金 | L14: 9 | M14: - | N14: - | O14: - | R14: - | S14: - | T14: - | U14: - | V14: - | W14: 9
J15: 未収収益 | L15: 10 | M15: 272919 | N15: 515113 | O15: 18206 | R15: 1899146 | S15: 612401 | T15: 248347 | U15: 1866908 | V15: 5414834 | W15: 10
J16: 短期貸付金 | L16: 11 | M16: - | N16: - | O16: - | R16: - | S16: - | T16: - | U16: - | V16: - | W16: 11
J17: 未収金 | L17: 12 | M17: - | N17: 5998 | O17: - | R17: 43948 | S17: 3918 | T17: 51383 | U17: 6288837 | V17: 6394084 | W17: 12
J18: 未達回送金 | L18: 13 | M18: - | N18: - | O18: - | R18: - | S18: - | T18: - | U18: - | V18: - | W18: 13
G19: 固 定 資 産 | J19: 信託 | L19: 14 | M19: 89295894 | N19: 165776670 | O19: 5851828 | R19: 580121043 | S19: 165551565 | T19: 77014698 | U19: 594758076 | V19: 1672517946 | W19: 14
J20: 投資有価証券 | L20: 15 | M20: - | N20: 3608220 | O20: - | R20: - | S20: - | T20: - | U20: - | V20: 3608220 | W20: 15
J21: 生命保険 | L21: 16 | M21: - | N21: - | O21: - | R21: - | S21: - | T21: - | U21: - | V21: - | W21: 16
J22: 投資不動産 | L22: 17 | M22: - | N22: 1115669 | O22: - | R22: - | S22: 24841023 | T22: - | U22: - | V22: 25956692 | W22: 17
J23: 長期貸付金 | L23: 18 | M23: - | N23: 13877720 | O23: 1259068 | R23: 2300000 | S23: - | T23: - | U23: - | V23: 16177720 | W23: 18
J24: 預託金 | L24: 19 | M24: - | N24: - | O24: - | R24: - | S24: - | T24: - | U24: - | V24: - | W24: 19
J25: 連合会預託金 | L25: 20 | M25: - | N25: - | O25: - | R25: - | S25: - | T25: - | U25: - | V25: - | W25: 20
J26: 構成組合預託金 | L26: 21 | M26: - | N26: - | O26: - | R26: - | S26: - | T26: - | U26: 60878884 | V26: 60878884 | W26: 21
G27: 合計 | L27: 22 | M27: 89614694 | N27: 192669769 | O27: 7446408 | R27: 589784110 | S27: 197254588 | T27: 78577658 | U27: 664563649 | V27: 1812464468 | W27: 22
D28: 令和２年度合計 | L28: 23 | M28: 75728568 | N28: 162728945 | O28: 6238721 | R28: 495840266 | S28: 166800413 | T28: 66431884 | U28: 560873911 | V28: 1528403988 | W28: 23
D29: 令和元年度合計 | L29: 24 | M29: 61675894 | N29: 132886017 | O29: 5028549 | R29: 400591983 | S29: 136054500 | T29: 54210586 | U29: 458058145 | V29: 1243477125 | W29: 24
C31: 貸 方 | G31: 流動負債 | J31: 未払消費税 | L31: 1 | M31: - | N31: - | O31: - | R31: - | S31: - | T31: - | U31: - | V31: - | W31: 1
J32: 未払金 | L32: 2 | M32: - | N32: 564 | O32: - | R32: 11250 | S32: 7081 | T32: 349 | U32: 503 | V32: 19746 | W32: 2
J33: 未払費用 | L33: 3 | M33: - | N33: 6041 | O33: - | R33: - | S33: - | T33: - | U33: - | V33: 6041 | W33: 3
J34: 前受金 | L34: 4 | M34: - | N34: - | O34: - | R34: - | S34: - | T34: - | U34: - | V34: - | W34: 4
J35: 預り金 | L35: 5 | M35: - | N35: 5536 | O35: 113 | R35: 6450 | S35: 2945 | T35: 0 | U35: 1528 | V35: 16459 | W35: 5
J36: 受入保証金 | L36: 6 | M36: - | N36: - | O36: - | R36: - | S36: - | T36: - | U36: - | V36: - | W36: 6
J37: 前受収益 | L37: 7 | M37: - | N37: 31 | O37: - | R37: - | S37: 2 | T37: - | U37: - | V37: 32 | W37: 7
J38: 仮受金 | L38: 8 | M38: - | N38: 40 | O38: 40 | R38: 292020 | S38: - | T38: - | U38: 2 | V38: 292061 | W38: 8
J39: 預り有価証券 | L39: 9 | M39: - | N39: - | O39: - | R39: - | S39: - | T39: - | U39: - | V39: - | W39: 9
F40: 剰余金 （欠損金） | J40: 資本剰余金 | L40: 10 | M40: - | N40: - | O40: - | R40: - | S40: - | T40: - | U40: - | V40: - | W40: 10
J41: 退職等年金給付 調整積立金 | L41: 11 | M41: 89614694 | N41: - | O41: - | R41: - | S41: - | T41: - | U41: - | V41: 89614694 | W41: 11
J42: 退職等年金給付 組合積立金 | L42: 12 | M42: - | N42: 192657557 | O42: 7446255 | R42: 589474391 | S42: 197244560 | T42: 78577309 | U42: 664561616 | V42: 1722515434 | W42: 12
...

Sheet 12
C1: １２ 退職等年金経理損益計算書
U2: （単位 千円）
M4: 地 方 公 務 員 共済組合連合会 | N4: 地方職員共済組合 | R4: 公立学校共済組合 | S4: 警察共済組合 | T4: 東京都職員 共済組合 | U4: 全国市町村職員 共済組合連合会 | V4: 合計
O5: (再掲)団体共済部
C6: 借方 | F6: 経 常 費 用 | J6: 退職等給付 | L6: 1 | M6: - | N6: 451015 | O6: 20121 | R6: 856839 | S6: 293073 | T6: 106963 | U6: 1031536 | V6: 2739426 | W6: 1
J7: 公務障害給付 | L7: 2 | M7: - | N7: - | O7: - | R7: 6779 | S7: 5346 | T7: - | U7: 12760 | V7: 24885 | W7: 2
J8: 公務遺族給付 | L8: 3 | M8: - | N8: 6467 | O8: - | R8: 11406 | S8: 14710 | T8: 659 | U8: 45975 | V8: 79217 | W8: 3
J9: 連合会交付金返還金 | L9: 4 | M9: - | N9: - | O9: - | R9: - | S9: - | T9: - | U9: - | V9: - | W9: 4
J10: 連合会払込金 | L10: 5 | M10: - | N10: 1572631 | O10: 64003 | R10: 4933817 | S10: 1582973 | T10: 640960 | U10: 5486140 | V10: 14216521 | W10: 5
J11: 移換金 | L11: 6 | M11: - | N11: - | O11: - | R11: - | S11: - | T11: - | U11: - | V11: - | W11: 6
J12: 消費税 | L12: 7 | M12: - | N12: 2 | O12: - | R12: - | S12: - | T12: - | U12: - | V12: 2 | W12: 7
J13: 財政調整拠出金 | L13: 8 | M13: - | N13: - | O13: - | R13: - | S13: - | T13: - | U13: - | V13: - | W13: 8
J14: 組合払込金返還金 | L14: 9 | M14: - | N14: - | O14: - | R14: - | S14: - | T14: - | U14: - | V14: - | W14: 9
J15: 組合交付金 | L15: 10 | M15: - | N15: - | O15: - | R15: - | S15: - | T15: - | U15: - | V15: - | W15: 10
J16: 信託の運用損 | L16: 11 | M16: - | N16: - | O16: - | R16: - | S16: - | T16: - | U16: - | V16: - | W16: 11
J17: 有価証券売却損 | L17: 12 | M17: - | N17: - | O17: - | R17: - | S17: - | T17: - | U17: - | V17: - | W17: 12
J18: 有価証券評価損 | L18: 13 | M18: - | N18: - | O18: - | R18: - | S18: - | T18: - | U18: - | V18: - | W18: 13
J19: 償還差損 | L19: 14 | M19: - | N19: 951 | O19: - | R19: - | S19: - | T19: - | U19: - | V19: 951 | W19: 14
J20: 承継差損 | L20: 15 | M20: - | N20: - | O20: - | R20: - | S20: - | T20: - | U20: - | V20: - | W20: 15
J21: 信託等売買手数料 | L21: 16 | M21: - | N21: - | O21: - | R21: - | S21: - | T21: - | U21: - | V21: - | W21: 16
J22: 未収返還金償却額 | L22: 17 | M22: - | N22: - | O22: - | R22: - | S22: - | T22: - | U22: - | V22: - | W22: 17
J23: 雑費 | L23: 18 | M23: - | N23: 24 | O23: - | R23: 18 | S23: - | T23: - | U23: - | V23: 42 | W23: 18
G24: 繰入金 | J24: 業務経理へ繰入 | L24: 19 | M24: 603315 | N24: 230957 | O24: 11030 | R24: 1040568 | S24: 331423 | T24: 180000 | U24: 1023804 | V24: 3410067 | W24: 19
G25: 次年度繰越 退職等年金給付 組合積立金 | J25: 次年度繰越 退職等年金給付 組合積立金 | L25: 20 | M25: - | N25: 192657557 | O25: 7446255 | R25: 589474391 | S25: 197244560 | T25: 78577309 | U25: 664561616 | V25: 1722515434 | W25: 20
G26: 特別損失 | J26: 前期損益修正損 | L26: 21 | M26: - | N26: - | O26: - | R26: 21504 | S26: 3514 | T26: 937 | U26: 25 | V26: 25980 | W26: 21
J27: 固定資産売却損 | L27: 22 | M27: - | N27: - | O27: - | R27: - | S27: - | T27: - | U27: - | V27: - | W27: 22
J28: 固定資産除却損 | L28: 23 | M28: - | N28: - | O28: - | R28: - | S28: - | T28: - | U28: - | V28: - | W28: 23
J29: 固定資産評価損 | L29: 24 | M29: - | N29: - | O29: - | R29: - | S29: - | T29: - | U29: - | V29: - | W29: 24
G30: 当期利益金 | J30: 当期利益金 | L30: 25 | M30: 13886125 | N30: - | O30: - | R30: - | S30: - | T30: - | U30: - | V30: 13886125 | W30: 25
G31: 合計 | L31: 26 | M31: 14489440 | N31: 194919604 | O31: 7541409 | R31: 596345322 | S31: 199475600 | T31: 79506829 | U31: 672161855 | V31: 1756898650 | W31: 26
D32: 令和２年度合計 | L32: 27 | M32: 14546637 | N32: 164777203 | O32: 6320534 | R32: 501661521 | S32: 168828297 | T32: 67322696 | U32: 567955061 | V32: 1485091414 | W32: 27
D33: 令和元年度合計 | L33: 28 | M33: 14377021 | N33: 134710741 | O33: 5112770 | R33: 405968844 | S33: 137899145 | T33: 55053288 | U33: 464547676 | V33: 1212556715 | W33: 28
C35: 貸方 | F35: 経 常 収 益 | J35: 負担金 | L35: 1 | M35: - | N35: 15750300 | O35: 635811 | R35: 49430447 | S35: 15847369 | T35: 6410551 | U35: 54404478 | V35: 141843146 | W35: 1
J36: 掛金 | L36: 2 | M36: - | N36: 15748188 | O36: 635804 | R36: 49430022 | S36: 15849989 | T36: 6414279 | U36: 54403699 | V36: 141846177 | W36: 2
J37: 連合会払込金返還金 | L37: 3 | M37: - | N37: - | O37: - | R37: - | S37: - | T37: - | U37: - | V37: - | W37: 3
J38: 移換金 | L38: 4 | M38: - | N38: - | O38: - | R38: - | S38: - | T38: - | U38: - | V38: - | W38: 4
J39: 財政調整拠出金受入金 | L39: 5 | M39: - | N39: - | O39: - | R39: - | S39: - | T39: - | U39: - | V39: - | W39: 5
J40: 組合払込金 | L40: 6 | M40: 14216521 | N40: - | O40: - | R40: - | S40: - | T40: - | U40: - | V40: 14216521 | W40: 6
J41: 組合交付金返還金 | L41: 7 | M41: - | N41: - | O41: - | R41: - | S41: - | T41: - | U41: - | V41: - | W41: 7
J42: 雑収入 | L42: 8 | M42: - | N42: 3 | O42: - | R42: - | S42: 3 | T42: - | U42: - | V42: 6 | W42: 8
...

Sheet 13
C1: １３ 経過的長期経理貸借対照表
U2: （単位 千円）
