Workbook
Name _____________OPT1: #REF!
Name _____________OPT1: #REF!
Name _____________OPT1: #REF!
Name _____________OPT2: #REF!
Name _____________OPT2: #REF!
Name _____________OPT2: #REF!
Name _____________OPT3: #REF!
Name _____________OPT3: #REF!
Name _____________OPT3: #REF!
Name _____________OPT4: #REF!
Name ___________OPT1: #REF!
Name ___________OPT2: #REF!
Name ___________OPT3: #REF!
Name ___________OPT4: #REF!
Name _________OPT1: #REF!
Name _________OPT2: #REF!
Name _________OPT3: #REF!
Name _________OPT4: #REF!
Name _______OPT1: #REF!
Name _______OPT2: #REF!
Name _______OPT3: #REF!
Name _______OPT4: #REF!
Name _____OPT1: #REF!
Name _____OPT2: #REF!
Name _____OPT3: #REF!
Name _____OPT4: #REF!
Name ___OPT1: #REF!
Name ___OPT1: #REF!
Name ___OPT2: #REF!
Name ___OPT2: #REF!
Name ___OPT3: #REF!
Name ___OPT3: #REF!
Name ___OPT4: #REF!
Name __OPT1: #REF!
Name __OPT1: #REF!
Name __OPT2: #REF!
Name __OPT2: #REF!
Name __OPT3: #REF!
Name __OPT3: #REF!
Name __OPT4: #REF!
Name _OPT1: #REF!
Name _OPT1: #REF!
Name _OPT1: #REF!
Name _OPT1: #REF!
Name _OPT1: #REF!
Name _OPT1: #REF!
Name _OPT1: #REF!
Name _OPT1: #REF!
Name _OPT1: #REF!
Name _OPT1: #REF!
Name _OPT1: #REF!
Name _OPT1: #REF!
Name _OPT1: #REF!
Name _OPT1: #REF!
Name _OPT1: #REF!
Name _OPT1: #REF!
Name _OPT1: #REF!
Name _OPT1: #REF!
Name _OPT1: #REF!
Name _OPT1: #REF!

Sheet 1(短期適用)
C1: １ 組合員数、被扶養者数及び標準報酬等に関する調 | U1: 組合員数 人
T2: 単位 | U2: 被扶養者数 人
D3: （短期適用） | U3: 金額 千円
K4: 地方職員共済組合 | M4: 公立学校共済組合 | N4: 警察共済組合 | Q4: 東京都職員 共済組合 | R4: 指定都市職員 共済組合 | S4: 市町村職員 共済組合 | T4: 都市職員 共済組合 | U4: 合計
L5: （再掲）団体共済部
D6: 一般組合員 | F6: 組合員数 | H6: 男 | J6: 1 | K6: 186158 | L6: - | M6: 450288 | N6: 26715 | Q6: 58143 | R6: 87866 | S6: 469304 | T6: 24863 | U6: 1303337 | V6: 1
H7: 女 | J7: 2 | K7: 128064 | L7: - | M7: 507310 | N7: 16555 | Q7: 51670 | R7: 61040 | S7: 418599 | T7: 25110 | U7: 1208348 | V7: 2
H8: 計 | J8: 3 | K8: 314222 | L8: - | M8: 957598 | N8: 43270 | Q8: 109813 | R8: 148906 | S8: 887903 | T8: 49973 | U8: 2511685 | V8: 3
G9: 被扶養者数 | J9: 4 | K9: 260784 | L9: - | M9: 689425 | N9: 35579 | Q9: 65251 | R9: 119943 | S9: 703662 | T9: 36765 | U9: 1911409 | V9: 4
G10: 標準報酬の月額 | J10: 5 | K10: 137769596 | L10: - | M10: 396597440 | N10: 19798480 | Q10: 50524494 | R10: 64753220 | S10: 343021298 | T10: 20731304 | U10: 1033195832 | V10: 5
G11: 標準期末手当等の額 | J11: 6 | K11: 481872287 | L11: - | M11: 1576942912 | N11: 73211481 | Q11: 182976168 | R11: 240504530 | S11: 1248120812 | T11: 69530216 | U11: 3873158406 | V11: 6
D12: 短期組合員 | F12: 組合員数 | H12: 男 | J12: 7 | K12: 23252 | L12: - | M12: 68794 | N12: 11658 | Q12: 9281 | R12: 11981 | S12: 98122 | T12: 4451 | U12: 227539 | V12: 7
H13: 女 | J13: 8 | K13: 45167 | L13: - | M13: 130588 | N13: 3953 | Q13: 23128 | R13: 26992 | S13: 299900 | T13: 15302 | U13: 545030 | V13: 8
H14: 計 | J14: 9 | K14: 68419 | L14: - | M14: 199382 | N14: 15611 | Q14: 32409 | R14: 38973 | S14: 398022 | T14: 19753 | U14: 772569 | V14: 9
G15: 被扶養者数 | J15: 10 | K15: 18849 | L15: - | M15: 46298 | N15: 9540 | Q15: 7125 | R15: 10012 | S15: 89656 | T15: 4620 | U15: 186100 | V15: 10
G16: 標準報酬の月額 | J16: 11 | K16: 12830522 | L16: - | M16: 49985734 | N16: 2842350 | Q16: 6602946 | R16: 7672474 | S16: 67211286 | T16: 3516914 | U16: 150662226 | V16: 11
G17: 標準期末手当等の額 | J17: 12 | K17: 13866432 | L17: - | M17: 130343120 | N17: 3192661 | Q17: 7714234 | R17: 7871311 | S17: 66338717 | T17: 2992874 | U17: 232319349 | V17: 12
D18: 地方公共団体の 長である組合員 | F18: 組合員数 | H18: 男 | J18: 13 | K18: 45 | L18: - | M18: - | N18: - | Q18: 20 | R18: 10 | S18: 1637 | T18: 24 | U18: 1736 | V18: 13
H19: 女 | J19: 14 | K19: 1 | L19: - | M19: - | N19: - | Q19: 2 | R19: - | S19: 40 | T19: 1 | U19: 44 | V19: 14
H20: 計 | J20: 15 | K20: 46 | L20: - | M20: - | N20: - | Q20: 22 | R20: 10 | S20: 1677 | T20: 25 | U20: 1780 | V20: 15
G21: 被扶養者数 | J21: 16 | K21: 60 | L21: - | M21: - | N21: - | Q21: 13 | R21: 9 | S21: 1540 | T21: 29 | U21: 1651 | V21: 16
G22: 標準報酬の月額 | J22: 17 | K22: 56310 | L22: - | M22: - | N22: - | Q22: 27670 | R22: 11880 | S22: 1340668 | T22: 24830 | U22: 1461358 | V22: 17
G23: 標準期末手当等の額 | J23: 18 | K23: 234030 | L23: - | M23: - | N23: - | Q23: 94283 | R23: 46270 | S23: 5413424 | T23: 110495 | U23: 5898502 | V23: 18
D24: 特定消防組合員 | F24: 組合員数 | H24: 男 | J24: 19 | K24: - | L24: - | M24: - | N24: - | Q24: 17070 | R24: 17803 | S24: 108207 | T24: 5280 | U24: 148360 | V24: 19
H25: 女 | J25: 20 | K25: - | L25: - | M25: - | N25: - | Q25: 1300 | R25: 816 | S25: 3176 | T25: 156 | U25: 5448 | V25: 20
H26: 計 | J26: 21 | K26: - | L26: - | M26: - | N26: - | Q26: 18370 | R26: 18619 | S26: 111383 | T26: 5436 | U26: 153808 | V26: 21
G27: 被扶養者数 | J27: 22 | K27: - | L27: - | M27: - | N27: - | Q27: 25442 | R27: 26608 | S27: 166611 | T27: 8241 | U27: 226902 | V27: 22
G28: 標準報酬の月額 | J28: 23 | K28: - | L28: - | M28: - | N28: - | Q28: 9592510 | R28: 8399000 | S28: 44274800 | T28: 2240390 | U28: 64506700 | V28: 23
G29: 標準期末手当等の額 | J29: 24 | K29: - | L29: - | M29: - | N29: - | Q29: 32677877 | R29: 29421038 | S29: 159083649 | T29: 7749878 | U29: 228932442 | V29: 24
D30: 後期高齢者等短期組合員 | F30: 組合員数 | H30: 男 | J30: 25 | K30: 416 | L30: - | M30: - | N30: 19 | Q30: 272 | R30: 129 | S30: 1466 | T30: 42 | U30: 2344 | V30: 25
H31: 女 | J31: 26 | K31: 74 | L31: - | M31: - | N31: 15 | Q31: 250 | R31: 69 | S31: 512 | T31: 25 | U31: 945 | V31: 26
H32: 計 | J32: 27 | K32: 490 | L32: - | M32: - | N32: 34 | Q32: 522 | R32: 198 | S32: 1978 | T32: 67 | U32: 3289 | V32: 27
G33: 被扶養者数 | J33: 28 | K33: - | L33: - | M33: - | N33: - | Q33: - | R33: - | S33: - | T33: - | U33: - | V33: 28
G34: 標準報酬の月額 | J34: 29 | K34: 85306 | L34: - | M34: - | N34: 5386 | Q34: 83818 | R34: 35108 | S34: 340576 | T34: 10610 | U34: 560804 | V34: 29
G35: 標準期末手当等の額 | J35: 30 | K35: 83773 | L35: - | M35: - | N35: 4934 | Q35: 99750 | R35: 37292 | S35: 283204 | T35: 10310 | U35: 519263 | V35: 30
D36: 船員一般組合員 | F36: 組合員数 | H36: 男 | J36: 31 | K36: 875 | L36: - | M36: 516 | N36: - | Q36: 40 | R36: - | S36: 438 | T36: - | U36: 1869 | V36: 31
H37: 女 | J37: 32 | K37: 17 | L37: - | M37: 3 | N37: - | Q37: - | R37: - | S37: 7 | T37: - | U37: 27 | V37: 32
H38: 計 | J38: 33 | K38: 892 | L38: - | M38: 519 | N38: - | Q38: 40 | R38: - | S38: 445 | T38: - | U38: 1896 | V38: 33
G39: 被扶養者数 | J39: 34 | K39: 1174 | L39: - | M39: 571 | N39: - | Q39: 52 | R39: - | S39: 654 | T39: - | U39: 2451 | V39: 34
G40: 標準報酬の月額 | J40: 35 | K40: 358010 | L40: - | M40: 198400 | N40: - | Q40: 14850 | R40: - | S40: 165820 | T40: - | U40: 737080 | V40: 35
...

Sheet 1(長期適用)
R2: 単位 | S2: 組合員数 人
D3: （長期適用） | S3: 金額 千円
K4: 地方職員共済組合 | M4: 公立学校共済組合 | P4: 警察共済組合 | Q4: 東京都職員 共済組合 | R4: 全国市町村職員 共済組合連合会 | S4: 合計
L5: （再掲）団体共済部
D6: 一般組合員 | F6: 組合員数 | H6: 男 | J6: 1 | K6: 186189 | L6: - | M6: 450288 | P6: 26715 | Q6: 58142 | R6: 582033 | S6: 1303367 | T6: 1
H7: 女 | J7: 2 | K7: 128066 | L7: - | M7: 507310 | P7: 16555 | Q7: 51671 | R7: 504749 | S7: 1208351 | T7: 2
H8: 計 | J8: 3 | K8: 314255 | L8: - | M8: 957598 | P8: 43270 | Q8: 109813 | R8: 1086782 | S8: 2511718 | T8: 3
G9: 標準報酬の月額 | J9: 4 | K9: 132014772 | L9: - | M9: 395562270 | P9: 19491040 | Q9: 47377100 | R9: 417694180 | S9: 1012139362 | T9: 4
G10: 標準期末手当等の額 | J10: 5 | K10: 478443353 | L10: - | M10: 1574529696 | P10: 73244955 | Q10: 181120403 | R10: 1552043865 | S10: 3859382272 | T10: 5
D11: 地方公共団体の 長である組合員 | F11: 組合員数 | H11: 男 | J11: 6 | K11: 45 | L11: - | M11: - | P11: - | Q11: 20 | R11: 1671 | S11: 1736 | T11: 6
H12: 女 | J12: 7 | K12: 1 | L12: - | M12: - | P12: - | Q12: 2 | R12: 41 | S12: 44 | T12: 7
H13: 計 | J13: 8 | K13: 46 | L13: - | M13: - | P13: - | Q13: 22 | R13: 1712 | S13: 1780 | T13: 8
G14: 標準報酬の月額 | J14: 9 | K14: 29900 | L14: - | M14: - | P14: - | Q14: 14300 | R14: 1101678 | S14: 1145878 | T14: 9
G15: 標準期末手当等の額 | J15: 10 | K15: 121102 | L15: - | M15: - | P15: - | Q15: 80228 | R15: 4601596 | S15: 4802926 | T15: 10
D16: 特定消防組合員 | F16: 組合員数 | H16: 男 | J16: 11 | K16: - | L16: - | M16: - | P16: - | Q16: 17070 | R16: 131290 | S16: 148360 | T16: 11
H17: 女 | J17: 12 | K17: - | L17: - | M17: - | P17: - | Q17: 1300 | R17: 4148 | S17: 5448 | T17: 12
H18: 計 | J18: 13 | K18: - | L18: - | M18: - | P18: - | Q18: 18370 | R18: 135438 | S18: 153808 | T18: 13
G19: 標準報酬の月額 | J19: 14 | K19: - | L19: - | M19: - | P19: - | Q19: 9453220 | R19: 54889830 | S19: 64343050 | T19: 14
G20: 標準期末手当等の額 | J20: 15 | K20: - | L20: - | M20: - | P20: - | Q20: 32669976 | R20: 196253070 | S20: 228923046 | T20: 15
D21: 長期組合員 | F21: 組合員数 | H21: 男 | J21: 16 | K21: 7202 | L21: 7202 | M21: - | P21: 2 | Q21: - | R21: 183 | S21: 7387 | T21: 16
H22: 女 | J22: 17 | K22: 6822 | L22: 6822 | M22: - | P22: - | Q22: - | R22: 31 | S22: 6853 | T22: 17
H23: 計 | J23: 18 | K23: 14024 | L23: 14024 | M23: - | P23: 2 | Q23: - | R23: 214 | S23: 14240 | T23: 18
G24: 標準報酬の月額 | J24: 19 | K24: 5607484 | L24: 5607484 | M24: - | P24: 600 | Q24: - | R24: 92760 | S24: 5700844 | T24: 19
G25: 標準期末手当等の額 | J25: 20 | K25: 20244138 | L25: 20244138 | M25: - | P25: 578 | Q25: - | R25: 303960 | S25: 20548676 | T25: 20
D26: 特定消防 長期組合員 | F26: 組合員数 | H26: 男 | J26: 21 | K26: - | L26: - | M26: - | P26: - | Q26: - | R26: - | S26: - | T26: 21
H27: 女 | J27: 22 | K27: - | L27: - | M27: - | P27: - | Q27: - | R27: - | S27: - | T27: 22
H28: 計 | J28: 23 | K28: - | L28: - | M28: - | P28: - | Q28: - | R28: - | S28: - | T28: 23
G29: 標準報酬の月額 | J29: 24 | K29: - | L29: - | M29: - | P29: - | Q29: - | R29: - | S29: - | T29: 24
G30: 標準期末手当等の額 | J30: 25 | K30: - | L30: - | M30: - | P30: - | Q30: - | R30: - | S30: - | T30: 25
D31: 船員一般組合員 | F31: 組合員数 | H31: 男 | J31: 21 | K31: 875 | L31: - | M31: 516 | P31: - | Q31: 40 | R31: 438 | S31: 1869 | T31: 21
H32: 女 | J32: 22 | K32: 17 | L32: - | M32: 3 | P32: - | Q32: - | R32: 7 | S32: 27 | T32: 22
H33: 計 | J33: 23 | K33: 892 | L33: - | M33: 519 | P33: - | Q33: 40 | R33: 445 | S33: 1896 | T33: 23
G34: 標準報酬の月額 | J34: 24 | K34: 357980 | L34: - | M34: 198200 | P34: - | Q34: 14850 | R34: 165820 | S34: 736850 | T34: 24
G35: 標準期末手当等の額 | J35: 25 | K35: 1361882 | L35: - | M35: 756563 | P35: - | Q35: 45096 | R35: 563234 | S35: 2726775 | T35: 25
D36: 継続長期組合員 | F36: 組合員数 | H36: 男 | J36: 26 | K36: 191 | L36: - | M36: 4 | P36: 91 | Q36: 446 | R36: 369 | S36: 1101 | T36: 26
H37: 女 | J37: 27 | K37: 7 | L37: - | M37: 1 | P37: 2 | Q37: 50 | R37: 29 | S37: 89 | T37: 27
H38: 計 | J38: 28 | K38: 198 | L38: - | M38: 5 | P38: 93 | Q38: 496 | R38: 398 | S38: 1190 | T38: 28
G39: 標準報酬の月額 | J39: 29 | K39: 90580 | L39: - | M39: 2120 | P39: 52550 | Q39: 244110 | R39: 196850 | S39: 586210 | T39: 29
G40: 標準期末手当等の額 | J40: 30 | K40: 318070 | L40: - | M40: 8577 | P40: 207578 | Q40: 1116949 | R40: 786359 | S40: 2437533 | T40: 30
D41: 特定警察組合員 | F41: 組合員数 | H41: 男 | J41: 31 | K41: - | L41: - | M41: - | P41: 224147 | Q41: - | R41: - | S41: 224147 | T41: 31
...

Sheet 2
D1: ２ 福祉施設に関する調
M4: 地方職員共済組合 | N4: 公立学校共済組合 | O4: 警察共済組合 | R4: 東京都職員 共済組合 | S4: 指定都市職員 共済組合 | T4: 市町村職員 共済組合 | U4: 都市職員共済組合 | V4: 合計
G6: 数 | L6: 1 | M6: - | N6: 8 | O6: - | R6: - | S6: - | T6: - | U6: - | V6: 8 | W6: 1
D7: 医療機関 | G7: 病床数 | J7: 普通 | L7: 2 | M7: - | N7: 2517 | O7: - | R7: - | S7: - | T7: - | U7: - | V7: 2517 | W7: 2
D8: (病院) | J8: 結核 | L8: 3 | M8: - | N8: 6 | O8: - | R8: - | S8: - | T8: - | U8: - | V8: 6 | W8: 3
J9: 計 | L9: 4 | M9: - | N9: 2523 | O9: - | R9: - | S9: - | T9: - | U9: - | V9: 2523 | W9: 4
G10: 数 | L10: 5 | M10: - | N10: - | O10: - | R10: - | S10: - | T10: - | U10: - | V10: - | W10: 5
D11: 医療機関 | G11: 病床数 | J11: 普通 | L11: 6 | M11: - | N11: - | O11: - | R11: - | S11: - | T11: - | U11: - | V11: - | W11: 6
D12: (療養所) | J12: 結核 | L12: 7 | M12: - | N12: - | O12: - | R12: - | S12: - | T12: - | U12: - | V12: - | W12: 7
J13: 計 | L13: 8 | M13: - | N13: - | O13: - | R13: - | S13: - | T13: - | U13: - | V13: - | W13: 8
D14: 医療機関(直営診療所) 数 | L14: 9 | M14: 19 | N14: - | O14: 5 | R14: 1 | S14: - | T14: - | U14: - | V14: 25 | W14: 9
G15: 数 | L15: 10 | M15: 19 | N15: 8 | O15: 5 | R15: 1 | S15: - | T15: - | U15: - | V15: 33 | W15: 10
D16: 医療機関 | G16: 病床数 | J16: 普通 | L16: 11 | M16: - | N16: 2517 | O16: - | R16: - | S16: - | T16: - | U16: - | V16: 2517 | W16: 11
D17: (合計) | J17: 結核 | L17: 12 | M17: - | N17: 6 | O17: - | R17: - | S17: - | T17: - | U17: - | V17: 6 | W17: 12
J18: 計 | L18: 13 | M18: - | N18: 2523 | O18: - | R18: - | S18: - | T18: - | U18: - | V18: 2523 | W18: 13
D19: 保養所 | G19: 数 | L19: 14 | M19: 3 | N19: 8 | O19: - | R19: 1 | S19: 1 | T19: 20 | U19: - | V19: 33 | W19: 14
G20: 収容人員 | L20: 15 | M20: 258 | N20: 2214 | O20: - | R20: 138 | S20: 15 | T20: 1808 | U20: - | V20: 4433 | W20: 15
D21: 宿泊所 | G21: 数 | L21: 16 | M21: 11 | N21: 28 | O21: 4 | R21: 1 | S21: - | T21: 17 | U21: 1 | V21: 62 | W21: 16
G22: 収容人員 | L22: 17 | M22: 996 | N22: 27011 | O22: 499 | R22: 244 | S22: - | T22: 2053 | U22: 155 | V22: 30958 | W22: 17

Sheet 3
C1: ３ 短期法定給付支給状況調
Z3: 単位 | AA3: 件 数 件
AA4: 日 数 日
AA5: 金 額 千円
AA6: 回 数 回
AA7: 処方せん枚数 枚
AA8: 高額療養件数 件
R10: 地方職員共済組合 | S10: 公立学校共済組合 | T10: 警察共済組合 | W10: 東京都職員 共済組合 | X10: 指定都市職員 共済組合 | Y10: 市町村職員 共済組合 | Z10: 都市職員 共済組合 | AA10: 合計
C12: 保健給付 | E12: 療養の給付 | G12: 一般 | K12: 入院 | O12: 件数 | Q12: 1 | R12: 26256 | S12: 89325 | T12: 18599 | W12: 10082 | X12: 14451 | Y12: 90025 | Z12: 5022 | AA12: 253760 | AB12: 1
O13: 日数 | Q13: 2 | R13: 202469 | S13: 641424 | T13: 139736 | W13: 73803 | X13: 106406 | Y13: 685111 | Z13: 35654 | AA13: 1884603 | AB13: 2
O14: 金額 | Q14: 3 | R14: 9271711 | S14: 29527655 | T14: 6849191 | W14: 3737854 | X14: 5414573 | Y14: 31118803 | Z14: 1635972 | AA14: 87555760 | AB14: 3
K15: 外来 | O15: 件数 | Q15: 4 | R15: 2268899 | S15: 7244499 | T15: 1569892 | W15: 963970 | X15: 1297257 | Y15: 7426938 | Z15: 413770 | AA15: 21185225 | AB15: 4
O16: 日数 | Q16: 5 | R16: 3025835 | S16: 9689569 | T16: 2032529 | W16: 1344399 | X16: 1793097 | Y16: 9888632 | Z16: 551189 | AA16: 28325250 | AB16: 5
O17: 金額 | Q17: 6 | R17: 20714135 | S17: 64971106 | T17: 14270342 | W17: 9052155 | X17: 11898407 | Y17: 67142063 | Z17: 3828148 | AA17: 191876355 | AB17: 6
H18: 歯科 | O18: 件数 | Q18: 7 | R18: 625257 | S18: 2116869 | T18: 437835 | W18: 270587 | X18: 355335 | Y18: 2060662 | Z18: 114976 | AA18: 5981521 | AB18: 7
O19: 日数 | Q19: 8 | R19: 936113 | S19: 3234627 | T19: 693700 | W19: 415107 | X19: 545254 | Y19: 3145943 | Z19: 173524 | AA19: 9144268 | AB19: 8
O20: 金額 | Q20: 9 | R20: 5316818 | S20: 17981393 | T20: 4021720 | W20: 2276673 | X20: 3209160 | Y20: 17462723 | Z20: 1011744 | AA20: 51280230 | AB20: 9
H21: 小計 | O21: 件数 | Q21: 10 | R21: 2920412 | S21: 9450693 | T21: 2026326 | W21: 1244639 | X21: 1667043 | Y21: 9577625 | Z21: 533768 | AA21: 27420506 | AB21: 10
O22: 日数 | Q22: 11 | R22: 4164417 | S22: 13565620 | T22: 2865965 | W22: 1833309 | X22: 2444757 | Y22: 13719686 | Z22: 760367 | AA22: 39354121 | AB22: 11
O23: 金額 | Q23: 12 | R23: 35302664 | S23: 112480154 | T23: 25141252 | W23: 15066682 | X23: 20522140 | Y23: 115723590 | Z23: 6475863 | AA23: 330712344 | AB23: 12
H24: 一般 | O24: 件数 | Q24: 13 | R24: 22515 | S24: 74589 | T24: 16106 | W24: 8469 | X24: 12150 | Y24: 77061 | Z24: 4202 | AA24: 215092 | AB24: 13
O25: 回数 | Q25: 14 | R25: 448038 | S25: 1377949 | T25: 304150 | W25: 158058 | X25: 231530 | Y25: 1506263 | Z25: 74676 | AA25: 4100664 | AB25: 14
O26: 金額 | Q26: 15 | R26: 93470 | S26: 278687 | T26: 63575 | W26: 32186 | X26: 48060 | Y26: 314087 | Z26: 15299 | AA26: 845362 | AB26: 15
H27: 歯科 | O27: 件数 | Q27: 16 | R27: 598 | S27: 1765 | T27: 467 | W27: 149 | X27: 310 | Y27: 2039 | Z27: 264 | AA27: 5592 | AB27: 16
O28: 回数 | Q28: 17 | R28: 4503 | S28: 12232 | T28: 3502 | W28: 1314 | X28: 2153 | Y28: 14969 | Z28: 1276 | AA28: 39949 | AB28: 17
O29: 金額 | Q29: 18 | R29: 890 | S29: 2398 | T29: 672 | W29: 262 | X29: 421 | Y29: 3007 | Z29: 264 | AA29: 7914 | AB29: 18
H30: 小計 | O30: 件数 | Q30: 19 | R30: 23113 | S30: 76354 | T30: 16573 | W30: 8618 | X30: 12460 | Y30: 79100 | Z30: 4466 | AA30: 220684 | AB30: 19
O31: 回数 | Q31: 20 | R31: 452541 | S31: 1390181 | T31: 307652 | W31: 159372 | X31: 233683 | Y31: 1521232 | Z31: 75952 | AA31: 4140613 | AB31: 20
O32: 金額 | Q32: 21 | R32: 94360 | S32: 281085 | T32: 64247 | W32: 32448 | X32: 48480 | Y32: 317094 | Z32: 15562 | AA32: 853276 | AB32: 21
F33: 訪問看護 療養の給付 | O33: 件数 | Q33: 22 | R33: 1461 | S33: 3152 | T33: 529 | W33: 563 | X33: 779 | Y33: 3261 | Z33: 125 | AA33: 9870 | AB33: 22
O34: 日数 | Q34: 23 | R34: 10435 | S34: 19117 | T34: 3476 | W34: 3959 | X34: 4091 | Y34: 19420 | Z34: 871 | AA34: 61369 | AB34: 23
O35: 金額 | Q35: 24 | R35: 92273 | S35: 159777 | T35: 29179 | W35: 31938 | X35: 34876 | Y35: 166220 | Z35: 7586 | AA35: 521849 | AB35: 24
E36: 家族療養の給付 | G36: 一般 | K36: 入院 | O36: 件数 | Q36: 25 | R36: 22553 | S36: 64320 | T36: 33231 | W36: 7703 | X36: 12337 | Y36: 78367 | Z36: 4159 | AA36: 222670 | AB36: 25
O37: 日数 | Q37: 26 | R37: 205253 | S37: 568808 | T37: 243118 | W37: 68006 | X37: 103692 | Y37: 707819 | Z37: 33573 | AA37: 1930269 | AB37: 26
O38: 金額 | Q38: 27 | R38: 8687118 | S38: 24256529 | T38: 11374941 | W38: 3039121 | X38: 4803947 | Y38: 28883149 | Z38: 1510659 | AA38: 82555464 | AB38: 27
K39: 外来 | O39: 件数 | Q39: 28 | R39: 1821504 | S39: 5001260 | T39: 2757583 | W39: 704256 | X39: 1068375 | Y39: 6131108 | Z39: 324031 | AA39: 17808117 | AB39: 28
O40: 日数 | Q40: 29 | R40: 2478163 | S40: 6998597 | T40: 3772057 | W40: 965712 | X40: 1495869 | Y40: 8329203 | Z40: 441400 | AA40: 24481001 | AB40: 29
O41: 金額 | Q41: 30 | R41: 15716166 | S41: 43259249 | T41: 23451972 | W41: 6067660 | X41: 9475604 | Y41: 52775123 | Z41: 2848285 | AA41: 153594059 | AB41: 30
H42: 歯科 | O42: 件数 | Q42: 31 | R42: 481332 | S42: 1283925 | T42: 716556 | W42: 169316 | X42: 282851 | Y42: 1531564 | Z42: 88331 | AA42: 4553875 | AB42: 31
O43: 日数 | Q43: 32 | R43: 655183 | S43: 1729708 | T43: 946537 | W43: 230327 | X43: 387576 | Y43: 2085843 | Z43: 118235 | AA43: 6153409 | AB43: 32
...

Sheet 4
C1: ４ 短期附加給付支給状況調
T2: 単位 | U2: 件数 件
U3: 金額 千円
L4: 地方職員共済組合 | M4: 公立学校共済組合 | N4: 警察共済組合 | Q4: 東京都職員 共済組合 | R4: 指定都市職員 共済組合 | S4: 市町村職員 共済組合 | T4: 都市職員 共済組合 | U4: 合計
C6: 保健給付 | F6: 家族療養費 | I6: 件数 | K6: 1 | L6: 14730 | M6: 55664 | N6: 20273 | Q6: 4172 | R6: 7523 | S6: 46037 | T6: 2630 | U6: 151029 | V6: 1
I7: 金額 | K7: 2 | L7: 571420 | M7: 1537643 | N7: 784716 | Q7: 168861 | R7: 295288 | S7: 1572991 | T7: 93981 | U7: 5024902 | V7: 2
F8: 家族訪問看護 療養費 | I8: 件数 | K8: 3 | L8: 64 | M8: 683 | N8: 50 | Q8: 10 | R8: 8 | S8: 53 | T8: 5 | U8: 873 | V8: 3
I9: 金額 | K9: 4 | L9: 419 | M9: 3962 | N9: 299 | Q9: 91 | R9: 48 | S9: 558 | T9: 141 | U9: 5517 | V9: 4
F10: 出産費 | I10: 件数 | K10: 5 | L10: 5346 | M10: 23788 | N10: 2371 | Q10: 1985 | R10: 2091 | S10: 6374 | T10: 803 | U10: 42758 | V10: 5
I11: 金額 | K11: 6 | L11: 160410 | M11: 1189400 | N11: 122160 | Q11: 100800 | R11: 47848 | S11: 128165 | T11: 16060 | U11: 1764843 | V11: 6
F12: 家族出産費 | I12: 件数 | K12: 7 | L12: 1528 | M12: 5256 | N12: 5582 | Q12: 608 | R12: 714 | S12: 2283 | T12: 162 | U12: 16133 | V12: 7
I13: 金額 | K13: 8 | L13: 45840 | M13: 262800 | N13: 328930 | Q13: 30700 | R13: 15292 | S13: 45660 | T13: 3240 | U13: 732462 | V13: 8
F14: 埋葬料 | I14: 件数 | K14: 9 | L14: - | M14: 625 | N14: 126 | Q14: 114 | R14: 128 | S14: 535 | T14: 37 | U14: 1565 | V14: 9
I15: 金額 | K15: 10 | L15: - | M15: 15667 | N15: 6300 | Q15: 5603 | R15: 6074 | S15: 24610 | T15: 1610 | U15: 59864 | V15: 10
F16: 家族埋葬料 | I16: 件数 | K16: 11 | L16: - | M16: 397 | N16: 120 | Q16: 48 | R16: 60 | S16: 412 | T16: 28 | U16: 1065 | V16: 11
I17: 金額 | K17: 12 | L17: - | M17: 9925 | N17: 6000 | Q17: 2400 | R17: 2760 | S17: 18990 | T17: 1140 | U17: 41215 | V17: 12
F18: 小計 | I18: 件数 | K18: 13 | L18: 21668 | M18: 86413 | N18: 28522 | Q18: 6937 | R18: 10524 | S18: 55694 | T18: 3665 | U18: 213423 | V18: 13
I19: 金額 | K19: 14 | L19: 778089 | M19: 3019398 | N19: 1248404 | Q19: 308456 | R19: 367310 | S19: 1790974 | T19: 116172 | U19: 7628803 | V19: 14
F20: 直営保健給付 家族療養費 | I20: 件数 | K20: 15 | L20: - | M20: 142 | N20: - | Q20: - | R20: - | S20: - | T20: - | U20: 142 | V20: 15
I21: 金額 | K21: 16 | L21: - | M21: 4582 | N21: - | Q21: - | R21: - | S21: - | T21: - | U21: 4582 | V21: 16
F22: 計 | I22: 件数 | K22: 17 | L22: 21668 | M22: 86555 | N22: 28522 | Q22: 6937 | R22: 10524 | S22: 55694 | T22: 3665 | U22: 213565 | V22: 17
I23: 金額 | K23: 18 | L23: 778089 | M23: 3023980 | N23: 1248404 | Q23: 308456 | R23: 367310 | S23: 1790974 | T23: 116172 | U23: 7633385 | V23: 18
C24: 休業給付 | F24: 傷病手当金 | I24: 件数 | K24: 19 | L24: 955 | M24: 2183 | N24: 573 | Q24: 761 | R24: 256 | S24: 549 | T24: - | U24: 5277 | V24: 19
I25: 金額 | K25: 20 | L25: 197182 | M25: 475478 | N25: 115446 | Q25: 172403 | R25: 62882 | S25: 115097 | T25: - | U25: 1138487 | V25: 20
F26: 出産手当金 | I26: 件数 | K26: 21 | L26: - | M26: - | N26: - | Q26: - | R26: - | S26: - | T26: - | U26: - | V26: 21
I27: 金額 | K27: 22 | L27: - | M27: - | N27: - | Q27: - | R27: - | S27: - | T27: - | U27: - | V27: 22
F28: 休業手当金 | I28: 件数 | K28: 23 | L28: - | M28: - | N28: - | Q28: - | R28: - | S28: - | T28: - | U28: - | V28: 23
I29: 金額 | K29: 24 | L29: - | M29: - | N29: - | Q29: - | R29: - | S29: - | T29: - | U29: - | V29: 24
F30: 小計 | I30: 件数 | K30: 25 | L30: 955 | M30: 2183 | N30: 573 | Q30: 761 | R30: 256 | S30: 549 | T30: - | U30: 5277 | V30: 25
I31: 金額 | K31: 26 | L31: 197182 | M31: 475478 | N31: 115446 | Q31: 172403 | R31: 62882 | S31: 115097 | T31: - | U31: 1138487 | V31: 26
C32: 災害給付 | F32: 弔慰金 | I32: 件数 | K32: 27 | L32: - | M32: - | N32: - | Q32: - | R32: - | S32: - | T32: - | U32: - | V32: 27
I33: 金額 | K33: 28 | L33: - | M33: - | N33: - | Q33: - | R33: - | S33: - | T33: - | U33: - | V33: 28
F34: 家族弔慰金 | I34: 件数 | K34: 29 | L34: - | M34: - | N34: - | Q34: - | R34: - | S34: - | T34: - | U34: - | V34: 29
I35: 金額 | K35: 30 | L35: - | M35: - | N35: - | Q35: - | R35: - | S35: - | T35: - | U35: - | V35: 30
F36: 災害見舞金 | I36: 件数 | K36: 31 | L36: - | M36: - | N36: - | Q36: - | R36: - | S36: - | T36: - | U36: - | V36: 31
I37: 金額 | K37: 32 | L37: - | M37: - | N37: - | Q37: - | R37: - | S37: - | T37: - | U37: - | V37: 32
F38: 小計 | I38: 件数 | K38: 33 | L38: - | M38: - | N38: - | Q38: - | R38: - | S38: - | T38: - | U38: - | V38: 33
I39: 金額 | K39: 34 | L39: - | M39: - | N39: - | Q39: - | R39: - | S39: - | T39: - | U39: - | V39: 34
D40: 入院附加金 | I40: 件数 | K40: 35 | L40: - | M40: - | N40: - | Q40: - | R40: - | S40: - | T40: - | U40: - | V40: 35
I41: 金額 | K41: 36 | L41: - | M41: - | N41: - | Q41: - | R41: - | S41: - | T41: - | U41: - | V41: 36
...

Sheet 5
C1: ５ 長期給付支給状況調
X2: 単位 | Y2: 件数 件
Y3: 金額 千円
Q4: 地方職員共済組合 | S4: 公立学校共済組合 | V4: 警察共済組合 | W4: 東京都職員 共済組合 | X4: 全国市町村職員 共済組合連合会 | Y4: 合計
R5: (再掲)団体共済部
F6: 老齢厚生年金 | M6: 65歳以上 | O6: 件数 | P6: 1 | Q6: 529252 | R6: 32083 | S6: 1812061 | V6: 423739 | W6: 238965 | X6: 2260467 | Y6: 5264484 | Z6: 1
C7: 厚生年金保険給付 | O7: 金額 | P7: 2 | Q7: 93331368 | R7: 3985135 | S7: 346699374 | V7: 87152117 | W7: 40187918 | X7: 386780418 | Y7: 954151196 | Z7: 2
M8: 65歳未満 | O8: 件数 | P8: 3 | Q8: 67503 | R8: 6126 | S8: 503269 | V8: 154109 | W8: 49473 | X8: 483003 | Y8: 1257357 | Z8: 3
O9: 金額 | P9: 4 | Q9: 10397397 | R9: 562431 | S9: 86060595 | V9: 26700320 | W9: 7223288 | X9: 73188839 | Y9: 203570439 | Z9: 4
M10: 繰上げ 支給 | O10: 件数 | P10: 5 | Q10: 12 | R10: - | S10: 77 | V10: 335 | W10: - | X10: 137 | Y10: 561 | Z10: 5
O11: 金額 | P11: 6 | Q11: 529 | R11: - | S11: 7861 | V11: 39852 | W11: - | X11: 9836 | Y11: 58077 | Z11: 6
M12: 小計 | O12: 件数 | P12: 7 | Q12: 596767 | R12: 38209 | S12: 2315407 | V12: 578183 | W12: 288438 | X12: 2743607 | Y12: 6522402 | Z12: 7
O13: 金額 | P13: 8 | Q13: 103729295 | R13: 4547566 | S13: 432767830 | V13: 113892289 | W13: 47411206 | X13: 459979093 | Y13: 1157779712 | Z13: 8
F14: 障害厚生年金 | O14: 件数 | P14: 9 | Q14: 7207 | R14: 366 | S14: 21577 | V14: 7453 | W14: 2850 | X14: 26454 | Y14: 65541 | Z14: 9
O15: 金額 | P15: 10 | Q15: 1275949 | R15: 67280 | S15: 4260098 | V15: 1075251 | W15: 440358 | X15: 4537782 | Y15: 11589437 | Z15: 10
F16: 障害手当金 | O16: 件数 | P16: 11 | Q16: 3 | R16: 2 | S16: 4 | V16: - | W16: - | X16: 10 | Y16: 17 | Z16: 11
O17: 金額 | P17: 12 | Q17: 3921 | R17: 2749 | S17: 6616 | V17: - | W17: - | X17: 16906 | Y17: 27443 | Z17: 12
F18: 遺族厚生年金 | O18: 件数 | P18: 13 | Q18: 76488 | R18: 3842 | S18: 139283 | V18: 61525 | W18: 32353 | X18: 290251 | Y18: 599900 | Z18: 13
O19: 金額 | P19: 14 | Q19: 11200472 | R19: 369418 | S19: 20054141 | V19: 9857717 | W19: 4712816 | X19: 39021080 | Y19: 84846227 | Z19: 14
F20: 脱退一時金 | O20: 件数 | P20: 15 | Q20: 2 | R20: 1 | S20: 9 | V20: - | W20: - | X20: - | Y20: 11 | Z20: 15
O21: 金額 | P21: 16 | Q21: 4828 | R21: 3155 | S21: 15430 | V21: - | W21: - | X21: - | Y21: 20258 | Z21: 16
F22: 退職年金 | M22: 終身 | O22: 件数 | P22: 17 | Q22: 124856 | R22: 6108 | S22: 433592 | V22: 102691 | W22: 48268 | X22: 490131 | Y22: 1199538 | Z22: 17
C23: 退職等年金給付 | O23: 金額 | P23: 18 | Q23: 83684 | R23: 5897 | S23: 322352 | V23: 65764 | W23: 37880 | X23: 332456 | Y23: 842137 | Z23: 18
M24: 有期 （240月） | O24: 件数 | P24: 19 | Q24: 23035 | R24: 1090 | S24: 208269 | V24: 16186 | W24: 14616 | X24: 293825 | Y24: 555931 | Z24: 19
O25: 金額 | P25: 20 | Q25: 15481 | R25: 822 | S25: 169412 | V25: 11591 | W25: 12427 | X25: 209750 | Y25: 418661 | Z25: 20
M26: 有期 （120月） | O26: 件数 | P26: 21 | Q26: 59770 | R26: 4438 | S26: 178510 | V26: 59038 | W26: 29813 | X26: 122248 | Y26: 449379 | Z26: 21
O27: 金額 | P27: 22 | Q27: 94100 | R27: 8000 | S27: 313610 | V27: 92051 | W27: 54850 | X27: 210461 | Y27: 765072 | Z27: 22
M28: 小計 | O28: 件数 | P28: 23 | Q28: 207661 | R28: 11636 | S28: 820371 | V28: 177915 | W28: 92697 | X28: 906204 | Y28: 2204848 | Z28: 23
O29: 金額 | P29: 24 | Q29: 193265 | R29: 14718 | S29: 805373 | V29: 169406 | W29: 105158 | X29: 752667 | Y29: 2025870 | Z29: 24
F30: 有期退職年金一時金 | O30: 件数 | P30: 25 | Q30: 2404 | R30: 85 | S30: 3165 | V30: 1388 | W30: 285 | X30: 3640 | Y30: 10882 | Z30: 25
O31: 金額 | P31: 26 | Q31: 396482 | R31: 13056 | S31: 513808 | V31: 213415 | W31: 46001 | X31: 615398 | Y31: 1785104 | Z31: 26
F32: 整理退職一時金 | O32: 件数 | P32: 27 | Q32: - | R32: - | S32: - | V32: - | W32: - | X32: 7 | Y32: 7 | Z32: 27
O33: 金額 | P33: 28 | Q33: - | R33: - | S33: - | V33: - | W33: - | X33: 1901 | Y33: 1901 | Z33: 28
F34: 遺族に対する一時金 | O34: 件数 | P34: 29 | Q34: 397 | R34: 19 | S34: 1295 | V34: 302 | W34: 134 | X34: 1995 | Y34: 4123 | Z34: 29
O35: 金額 | P35: 30 | Q35: 111314 | R35: 3631 | S35: 250614 | V35: 90108 | W35: 30050 | X35: 342852 | Y35: 824937 | Z35: 30
F36: 脱退一時金 | O36: 件数 | P36: 31 | Q36: 9 | R36: 9 | S36: - | V36: - | W36: - | X36: 1 | Y36: 10 | Z36: 31
O37: 金額 | P37: 32 | Q37: 1373300 | R37: 1373300 | S37: - | V37: - | W37: - | X37: 144300 | Y37: 1517600 | Z37: 32
F38: 公務障害年金 | O38: 件数 | P38: 33 | Q38: 4 | R38: - | S38: 41 | V38: 24 | W38: - | X38: 46 | Y38: 115 | Z38: 33
O39: 金額 | P39: 34 | Q39: 1149 | R39: - | S39: 14176 | V39: 4645 | W39: - | X39: 16628 | Y39: 36597 | Z39: 34
F40: 公務遺族年金 | O40: 件数 | P40: 35 | Q40: 72 | R40: - | S40: 102 | V40: 196 | W40: 9 | X40: 405 | Y40: 784 | Z40: 35
...

Sheet 6
C1: ６ 年金種類別受給権者状況調
X2: 単位 | Y2: 人員 人
Y3: 金額 千円
Q4: 地方職員共済組合 | S4: 公立学校共済組合 | V4: 警察共済組合 | W4: 東京都職員 共済組合 | X4: 全国市町村職員 共済組合連合会 | Y4: 合計
R5: (再掲)団体共済部
C6: 厚生年金保険給付 | E6: 老齢厚生年金 | J6: 65歳以上 | O6: 人員 | P6: 1 | Q6: 89643 | R6: 5769 | S6: 330955 | V6: 74199 | W6: 42564 | X6: 404973 | Y6: 942334 | Z6: 1
O7: 金額 | P7: 2 | Q7: 98988265 | R7: 4422804 | S7: 389151378 | V7: 94764469 | W7: 44003484 | X7: 425956107 | Y7: 1052863702 | Z7: 2
J8: 65歳未満 | O8: 人員 | P8: 3 | Q8: 12807 | R8: 760 | S8: 55915 | V8: 19858 | W8: 5963 | X8: 56207 | Y8: 150750 | Z8: 3
O9: 金額 | P9: 4 | Q9: 12796944 | R9: 485902 | S9: 61083826 | V9: 25278095 | W9: 6096120 | X9: 54438497 | Y9: 159693481 | Z9: 4
J10: 繰上げ支給 | O10: 人員 | P10: 5 | Q10: 2 | R10: - | S10: 14 | V10: 55 | W10: - | X10: 21 | Y10: 92 | Z10: 5
O11: 金額 | P11: 6 | Q11: 529 | R11: - | S11: 8488 | V11: 39859 | W11: - | X11: 8509 | Y11: 57385 | Z11: 6
J12: 小計 | O12: 人員 | P12: 7 | Q12: 102452 | R12: 6529 | S12: 386884 | V12: 94112 | W12: 48527 | X12: 461201 | Y12: 1093176 | Z12: 7
O13: 金額 | P13: 8 | Q13: 111785737 | R13: 4908706 | S13: 450243692 | V13: 120082423 | W13: 50099604 | X13: 480403113 | Y13: 1212614568 | Z13: 8
F14: 障害厚生年金 | O14: 人員 | P14: 9 | Q14: 1570 | R14: 83 | S14: 4866 | V14: 1374 | W14: 646 | X14: 5814 | Y14: 14270 | Z14: 9
O15: 金額 | P15: 10 | Q15: 1409652 | R15: 70894 | S15: 5010360 | V15: 1371696 | W15: 550932 | X15: 4950812 | Y15: 13293451 | Z15: 10
F16: 遺族厚生年金 | O16: 人員 | P16: 11 | Q16: 15223 | R16: 756 | S16: 31254 | V16: 11403 | W16: 6597 | X16: 59601 | Y16: 124078 | Z16: 11
O17: 金額 | P17: 12 | Q17: 16582532 | R17: 511160 | S17: 37316221 | V17: 12423895 | W17: 7110093 | X17: 59783916 | Y17: 133216656 | Z17: 12
C18: 計 | O18: 人員 | P18: 13 | Q18: 119245 | R18: 7368 | S18: 423004 | V18: 106889 | W18: 55770 | X18: 526616 | Y18: 1231524 | Z18: 13
O19: 金額 | P19: 14 | Q19: 129777921 | R19: 5490760 | S19: 492570273 | V19: 133878014 | W19: 57760629 | X19: 545137840 | Y19: 1359124676 | Z19: 14
C20: 退職等年金給付 | E20: 退職年金 | J20: 終 身 | M20: 10年以上 | O20: 人員 | P20: 15 | Q20: 23443 | R20: 1091 | S20: 86830 | V20: 19761 | W20: 9204 | X20: 95891 | Y20: 235129 | Z20: 15
O21: 金額 | P21: 16 | Q21: 115062 | R21: 6127 | S21: 434353 | V21: 88243 | W21: 47233 | X21: 446335 | Y21: 1131226 | Z21: 16
M22: 10年未満 | O22: 人員 | P22: 17 | Q22: 1563 | R22: 279 | S22: 5065 | V22: 23 | W22: 57 | X22: 2099 | Y22: 8807 | Z22: 17
O23: 金額 | P23: 18 | Q23: 4756 | R23: 725 | S23: 20628 | V23: 66 | W23: 170 | X23: 5838 | Y23: 31458 | Z23: 18
M24: 小計 | O24: 人員 | P24: 19 | Q24: 25006 | R24: 1370 | S24: 91895 | V24: 19784 | W24: 9261 | X24: 97990 | Y24: 243936 | Z24: 19
O25: 金額 | P25: 20 | Q25: 119818 | R25: 6852 | S25: 454981 | V25: 88309 | W25: 47403 | X25: 452173 | Y25: 1162684 | Z25: 20
J26: 有 期（240月） | M26: 10年以上 | O26: 人員 | P26: 21 | Q26: 4339 | R26: 177 | S26: 41481 | V26: 3032 | W26: 2761 | X26: 56808 | Y26: 108421 | Z26: 21
O27: 金額 | P27: 22 | Q27: 21424 | R27: 984 | S27: 228936 | V27: 15059 | W27: 15509 | X27: 279742 | Y27: 560669 | Z27: 22
M28: 10年未満 | O28: 人員 | P28: 23 | Q28: 253 | R28: 37 | S28: 1714 | V28: 3 | W28: 11 | X28: 959 | Y28: 2940 | Z28: 23
O29: 金額 | P29: 24 | Q29: 737 | R29: 100 | S29: 8431 | V29: 23 | W29: 45 | X29: 2701 | Y29: 11936 | Z29: 24
M30: 小計 | O30: 人員 | P30: 25 | Q30: 4592 | R30: 214 | S30: 43195 | V30: 3035 | W30: 2772 | X30: 57767 | Y30: 111361 | Z30: 25
O31: 金額 | P31: 26 | Q31: 22161 | R31: 1084 | S31: 237366 | V31: 15082 | W31: 15553 | X31: 282442 | Y31: 572604 | Z31: 26
J32: 有 期 （120月） | M32: 10年以上 | O32: 人員 | P32: 27 | Q32: 11234 | R32: 677 | S32: 35658 | V32: 11642 | W32: 5679 | X32: 25344 | Y32: 89557 | Z32: 27
O33: 金額 | P33: 28 | Q33: 129173 | R33: 8814 | S33: 418154 | V33: 126925 | W33: 68339 | X33: 301536 | Y33: 1044127 | Z33: 28
M34: 10年未満 | O34: 人員 | P34: 29 | Q34: 631 | R34: 149 | S34: 2381 | V34: 13 | W34: 35 | X34: 532 | Y34: 3592 | Z34: 29
O35: 金額 | P35: 30 | Q35: 4234 | R35: 802 | S35: 20498 | V35: 68 | W35: 233 | X35: 3061 | Y35: 28094 | Z35: 30
M36: 小計 | O36: 人員 | P36: 31 | Q36: 11865 | R36: 826 | S36: 38039 | V36: 11655 | W36: 5714 | X36: 25876 | Y36: 93149 | Z36: 31
O37: 金額 | P37: 32 | Q37: 133406 | R37: 9616 | S37: 438653 | V37: 126993 | W37: 68572 | X37: 304597 | Y37: 1072221 | Z37: 32
J38: 計 | O38: 人員 | P38: 33 | Q38: 41463 | R38: 2410 | S38: 173129 | V38: 34474 | W38: 17747 | X38: 181633 | Y38: 448446 | Z38: 33
O39: 金額 | P39: 34 | Q39: 275385 | R39: 17552 | S39: 1131000 | V39: 230384 | W39: 131528 | X39: 1039212 | Y39: 2807509 | Z39: 34
F40: 公務障害年金 | O40: 人員 | P40: 35 | Q40: 2 | R40: - | S40: 21 | V40: 12 | W40: 1 | X40: 27 | Y40: 63 | Z40: 35
...

Sheet 7
C1: ７ 短期経理貸借対照表
Y2: （単位 千円）
P4: 地方職員共済組合 | Q4: 公立学校共済組合 | R4: 警察共済組合 | S4: 東京都職員 共済組合 | V4: 全国市町村職員 共済組合連合会 | W4: 指定都市職員 共済組合 | X4: 市町村職員 共済組合 | Y4: 都市職員 共済組合 | Z4: 合計
C6: 借方 | F6: 流動資産 | J6: 現金 | O6: 1 | P6: - | Q6: - | R6: - | S6: - | V6: - | W6: - | X6: - | Y6: - | Z6: - | AA6: 1
J7: 当座預金 | O7: 2 | P7: - | Q7: - | R7: - | S7: - | V7: - | W7: 7134 | X7: - | Y7: - | Z7: 7134 | AA7: 2
J8: 普通預金 | O8: 3 | P8: 6737834 | Q8: 138696260 | R8: 16670329 | S8: 13111908 | V8: 13305838 | W8: 17162510 | X8: 77249715 | Y8: 5003292 | Z8: 287937686 | AA8: 3
J9: 通知預金 | O9: 4 | P9: - | Q9: - | R9: - | S9: - | V9: - | W9: - | X9: 965000 | Y9: - | Z9: 965000 | AA9: 4
J10: 定期預金 | O10: 5 | P10: 95620000 | Q10: 100000000 | R10: - | S10: 38000000 | V10: 16210000 | W10: 3900000 | X10: 68460015 | Y10: 4500000 | Z10: 326690015 | AA10: 5
J11: 金銭信託 | O11: 6 | P11: - | Q11: - | R11: 37800000 | S11: - | V11: - | W11: 2300633 | X11: 11802497 | Y11: - | Z11: 51903130 | AA11: 6
J12: 有価証券 | O12: 7 | P12: - | Q12: - | R12: - | S12: - | V12: - | W12: 898740 | X12: 8048056 | Y12: 350000 | Z12: 9296796 | AA12: 7
J13: 貸付信託 | O13: 8 | P13: - | Q13: - | R13: - | S13: - | V13: - | W13: - | X13: - | Y13: - | Z13: - | AA13: 8
J14: 短期運用有価証券 | O14: 9 | P14: - | Q14: - | R14: - | S14: - | V14: - | W14: - | X14: - | Y14: - | Z14: - | AA14: 9
J15: 証券投資信託 | O15: 10 | P15: - | Q15: - | R15: - | S15: - | V15: - | W15: - | X15: - | Y15: - | Z15: - | AA15: 10
J16: 立替金 | O16: 11 | P16: 97 | Q16: 2989 | R16: 8925 | S16: - | V16: - | W16: 168 | X16: - | Y16: - | Z16: 12178 | AA16: 11
J17: 仮払金 | O17: 12 | P17: - | Q17: - | R17: - | S17: - | V17: - | W17: - | X17: 18 | Y17: 0 | Z17: 18 | AA17: 12
J18: 未収収益 | O18: 13 | P18: 3187 | Q18: 723 | R18: 1635 | S18: 22206 | V18: 9185 | W18: 909 | X18: 16292 | Y18: 337 | Z18: 54475 | AA18: 13
J19: 短期貸付金 | O19: 14 | P19: - | Q19: - | R19: 7875000 | S19: - | V19: - | W19: - | X19: - | Y19: - | Z19: 7875000 | AA19: 14
J20: 未収金 | O20: 15 | P20: 26996 | Q20: 476618 | R20: 4667220 | S20: 1033282 | V20: - | W20: 148534 | X20: 932096 | Y20: 657 | Z20: 7285404 | AA20: 15
J21: 支払基金委託金 | O21: 16 | P21: 924083 | Q21: 3307262 | R21: 1002975 | S21: 380570 | V21: - | W21: 562615 | X21: 3043529 | Y21: 185671 | Z21: 9406705 | AA21: 16
J22: 未達回送金 | O22: 17 | P22: - | Q22: - | R22: - | S22: - | V22: - | W22: 522000 | X22: 344 | Y22: - | Z22: 522344 | AA22: 17
F23: 固定資産 | J23: 金銭信託 | O23: 18 | P23: - | Q23: - | R23: - | S23: - | V23: - | W23: - | X23: - | Y23: - | Z23: - | AA23: 18
J24: 投資有価証券 | O24: 19 | P24: - | Q24: - | R24: - | S24: - | V24: 19698945 | W24: - | X24: - | Y24: - | Z24: 19698945 | AA24: 19
J25: 加入金 | O25: 20 | P25: - | Q25: - | R25: - | S25: - | V25: - | W25: 100 | X25: - | Y25: - | Z25: 100 | AA25: 20
G26: 合計 | O26: 21 | P26: 103312197 | Q26: 242483852 | R26: 68026085 | S26: 52547966 | V26: 49223968 | W26: 25503343 | X26: 170517561 | Y26: 10039956 | Z26: 721654929 | AA26: 21
D27: 令和３年度合計 | O27: 22 | P27: 97030134 | Q27: 267266681 | R27: 82223217 | S27: 54126381 | V27: 52220228 | W27: 28145696 | X27: 166017510 | Y27: 9147934 | Z27: 756177781 | AA27: 22
D28: 令和２年度合計 | O28: 23 | P28: 98301075 | Q28: 299962950 | R28: 85994140 | S28: 56104218 | V28: 53937490 | W28: 31941540 | X28: 176149026 | Y28: 8790208 | Z28: 811180648 | AA28: 23
C30: 貸方 | F30: 流動負債 | J30: 短期借入金 | O30: 1 | P30: - | Q30: - | R30: - | S30: - | V30: - | W30: - | X30: - | Y30: - | Z30: - | AA30: 1
J31: 未払金 | O31: 2 | P31: 124877 | Q31: 643019 | R31: 4894387 | S31: 706095 | V31: - | W31: 488433 | X31: 7820801 | Y31: 459285 | Z31: 15136898 | AA31: 2
J32: 未払費用 | O32: 3 | P32: 8929390 | Q32: - | R32: 1 | S32: - | V32: - | W32: 3084 | X32: 1748513 | Y32: - | Z32: 10680988 | AA32: 3
J33: 預り金 | O33: 4 | P33: 22160 | Q33: 5856318 | R33: 2784 | S33: - | V33: 18867 | W33: 848 | X33: 8311 | Y33: 197 | Z33: 5909485 | AA33: 4
J34: 前受収益 | O34: 5 | P34: 1134369 | Q34: - | R34: 180308 | S34: 110699 | V34: - | W34: 139828 | X34: 1328533 | Y34: 51872 | Z34: 2945608 | AA34: 5
J35: 仮受金 | O35: 6 | P35: - | Q35: 1913 | R35: - | S35: - | V35: - | W35: 1312 | X35: 5151 | Y35: - | Z35: 8376 | AA35: 6
F36: 固定負債 | J36: 長期借入金 | O36: 7 | P36: - | Q36: - | R36: - | S36: - | V36: - | W36: - | X36: - | Y36: - | Z36: - | AA36: 7
J37: 支払準備金 | O37: 8 | P37: 17383927 | Q37: 56804479 | R37: 16617034 | S37: 7350161 | V37: - | W37: 9125037 | X37: 51622086 | Y37: 2837941 | Z37: 161740666 | AA37: 8
F38: 剰余金 （欠損金） | J38: 資本剰余金 | O38: 9 | P38: - | Q38: - | R38: - | S38: - | V38: - | W38: - | X38: - | Y38: - | Z38: - | AA38: 9
J39: 災害給付積立金 | O39: 10 | P39: - | Q39: - | R39: - | S39: - | V39: 25484268 | W39: - | X39: - | Y39: - | Z39: 25484268 | AA39: 10
I40: 利益剰余金又は欠損金 | M40: 欠損金補てん 積立金 | O40: 11 | P40: 9448525 | Q40: 28876621 | R40: 9202721 | S40: 3910977 | V40: - | W40: 3743388 | X40: 25671876 | Y40: 1094282 | Z40: 81948390 | AA40: 11
O41: 12 | P41: 66035190 | Q41: 146759053 | R41: 38197026 | S41: 40508733 | V41: 23720833 | W41: 11492511 | X41: 80618469 | Y41: 5456165 | Z41: 412787980 | AA41: 12
O42: 13 | P42: 233759 | Q42: 3542449 | R42: -1068174 | S42: -38699 | V42: - | W42: 508901 | X42: 1693821 | Y42: 140215 | Z42: 5012272 | AA42: 13
G43: 合計 | O43: 14 | P43: 103312197 | Q43: 242483852 | R43: 68026085 | S43: 52547966 | V43: 49223968 | W43: 25503343 | X43: 170517561 | Y43: 10039956 | Z43: 721654929 | AA43: 14
...

Sheet 8
C1: ８ 短期経理損益計算書
V2: （単位 千円）
M4: 地方職員共済組合 | N4: 公立学校共済組合 | O4: 警察共済組合 | R4: 東京都職員 共済組合 | S4: 全国市町村職員 共済組合連合会 | T4: 指定都市職員 共済組合 | U4: 市町村職員 共済組合 | V4: 都市職員 共済組合 | W4: 合計
C6: 借方 | F6: 経常費用 | J6: 保健給付 | L6: 1 | M6: 91172874 | N6: 272531381 | O6: 90625826 | R6: 36511877 | S6: - | T6: 52766547 | U6: 299001832 | V6: 16471650 | W6: 859081987 | X6: 1
J7: 直営保健給付 | L7: 2 | M7: 147912 | N7: 677279 | O7: 114976 | R7: 37891 | S7: - | T7: - | U7: - | V7: - | W7: 978058 | X7: 2
J8: 休業給付 | L8: 3 | M8: 11971073 | N8: 59466625 | O8: 6542420 | R8: 6579311 | S8: - | T8: 6618208 | U8: 39177314 | V8: 2661679 | W8: 133016630 | X8: 3
J9: 災害給付 | L9: 4 | M9: 36430 | N9: 114762 | O9: 60429 | R9: 5290 | S9: - | T9: 3120 | U9: 118691 | V9: 940 | W9: 339662 | X9: 4
J10: 附加給付 | L10: 5 | M10: 975271 | N10: 3499458 | O10: 1363850 | R10: 480858 | S10: - | T10: 430192 | U10: 1906071 | V10: 116172 | W10: 8771872 | X10: 5
J11: 老人保健拠出金 | L11: 6 | M11: - | N11: - | O11: - | R11: - | S11: - | T11: - | U11: - | V11: - | W11: - | X11: 6
J12: 退職者給付拠出金 | K12: 1 | L12: 7 | M12: 1319 | N12: 4280 | O12: 1362 | R12: 562 | S12: - | T12: 716 | U12: 3740 | V12: 212 | W12: 12190 | X12: 7
J13: 前期高齢者納付金 | K13: 2 | L13: 8 | M13: 35365364 | N13: 142156408 | O13: 27168191 | R13: 7811608 | S13: - | T13: 15594622 | U13: 114876730 | V13: 4212702 | W13: 347185625 | X13: 8
J14: 後期高齢者支援金 | K14: 3 | L14: 9 | M14: 46264180 | N14: 146208928 | O14: 45440681 | R14: 20370396 | S14: - | T14: 25004373 | U14: 135608342 | V14: 7825175 | W14: 426722076 | X14: 9
J15: 病床転換支援金 | K15: 4 | L15: 10 | M15: 124 | N15: 373 | O15: 139 | R15: 43 | S15: - | T15: 64 | U15: 373 | V15: 21 | W15: 1137 | X15: 10
J16: 介護納付金 | K16: 5 | L16: 11 | M16: 25523172 | N16: 73662667 | O16: 21550454 | R16: 10479333 | S16: - | T16: 14022354 | U16: 72863878 | V16: 3981539 | W16: 222083398 | X16: 11
J17: 一部負担金返還金 | K17: 6 | L17: 12 | M17: 1154 | N17: 401 | O17: - | R17: - | S17: - | T17: - | U17: 375 | V17: - | W17: 1929 | X17: 12
J18: 一部負担金払戻金 | K18: 7 | L18: 13 | M18: 1235058 | N18: 4536970 | O18: 994701 | R18: 485742 | S18: - | T18: 689548 | U18: 3800176 | V18: 225502 | W18: 11967697 | X18: 13
J19: 短期任意継続掛金還付金 | K19: 8 | L19: 14 | M19: 114352 | N19: 719152 | O19: 77203 | R19: 31350 | S19: - | T19: 39492 | U19: 272805 | V19: 14002 | W19: 1268357 | X19: 14
J20: 介護任意継続掛金還付金 | K20: 9 | L20: 15 | M20: 16562 | N20: 105985 | O20: 14087 | R20: 5159 | S20: - | T20: 5251 | U20: 39494 | V20: 1832 | W20: 188371 | X20: 15
J21: 連合会払込金 | K21: 10 | L21: 16 | M21: - | N21: - | O21: - | R21: - | S21: - | T21: 1535167 | U21: 8327149 | V21: 476353 | W21: 10338669 | X21: 16
J22: 連合会拠出金 | K22: 11 | L22: 17 | M22: - | N22: - | O22: - | R22: - | S22: - | T22: 5739430 | U22: 31347500 | V22: 1800855 | W22: 38887785 | X22: 17
J23: 連合会返還金 | K23: 12 | L23: 18 | M23: - | N23: - | O23: - | R23: - | S23: - | T23: - | U23: 1365788 | V23: 414038 | W23: 1779826 | X23: 18
J24: 組合交付金 | K24: 13 | L24: 19 | M24: - | N24: - | O24: - | R24: - | S24: 42403820 | T24: - | U24: - | V24: - | W24: 42403820 | X24: 19
J25: 共同事業費 | K25: 14 | L25: 20 | M25: - | N25: - | O25: - | R25: - | S25: 69513 | T25: - | U25: - | V25: - | W25: 69513 | X25: 20
J26: 調整交付金 | K26: 15 | L26: 21 | M26: - | N26: - | O26: - | R26: - | S26: 769130 | T26: - | U26: - | V26: - | W26: 769130 | X26: 21
J27: 高額医療交付金 | K27: 16 | L27: 22 | M27: - | N27: - | O27: - | R27: - | S27: 8736360 | T27: - | U27: - | V27: - | W27: 8736360 | X27: 22
J28: 特別調整交付金 | K28: 17 | L28: 23 | M28: - | N28: - | O28: - | R28: - | S28: 2057306 | T28: - | U28: - | V28: - | W28: 2057306 | X28: 23
J29: 特別保健福祉事業費 | K29: 18 | L29: 24 | M29: - | N29: - | O29: - | R29: - | S29: - | T29: - | U29: - | V29: - | W29: - | X29: 24
J30: 信託等売買手数料 | K30: 19 | L30: 25 | M30: - | N30: - | O30: - | R30: - | S30: - | T30: - | U30: - | V30: - | W30: - | X30: 25
J31: 雑費 | K31: 20 | L31: 26 | M31: - | N31: 29 | O31: - | R31: - | S31: - | T31: - | U31: - | V31: - | W31: 29 | X31: 26
J32: 支払利息 | K32: 21 | L32: 27 | M32: - | N32: - | O32: - | R32: - | S32: 1 | T32: - | U32: - | V32: - | W32: 1 | X32: 27
J33: 有価証券売却損 | K33: 22 | L33: 28 | M33: - | N33: - | O33: - | R33: - | S33: - | T33: - | U33: - | V33: - | W33: - | X33: 28
J34: 有価証券評価損 | K34: 23 | L34: 29 | M34: - | N34: - | O34: - | R34: - | S34: - | T34: - | U34: - | V34: - | W34: - | X34: 29
J35: 償還差損 | K35: 24 | L35: 30 | M35: - | N35: - | O35: - | R35: - | S35: - | T35: - | U35: - | V35: - | W35: - | X35: 30
J36: 承継差損 | K36: 25 | L36: 31 | M36: - | N36: - | O36: - | R36: - | S36: - | T36: - | U36: - | V36: - | W36: - | X36: 31
J37: 雑損 | K37: 26 | L37: 32 | M37: - | N37: - | O37: - | R37: - | S37: - | T37: - | U37: - | V37: - | W37: - | X37: 32
G38: 繰入金 | J38: 業務経理へ繰入 | K38: 27 | L38: 33 | M38: 505458 | N38: 1316370 | O38: 528070 | R38: 249655 | S38: - | T38: 242962 | U38: 1733238 | V38: 88547 | W38: 4664300 | X38: 33
J39: 保健経理へ繰入 | K39: 28 | L39: 34 | M39: - | N39: - | O39: - | R39: - | S39: - | T39: - | U39: - | V39: - | W39: - | X39: 34
J40: 保健給付経理へ繰入 | K40: 29 | L40: 35 | M40: - | N40: - | O40: - | R40: - | S40: - | T40: - | U40: - | V40: - | W40: - | X40: 35
G41: 次年度繰越 支払準備金 | J41: 次年度繰越支払準備金 | K41: 30 | L41: 36 | M41: 17383927 | N41: 56804479 | O41: 16617034 | R41: 7350161 | S41: - | T41: 9125037 | U41: 51622086 | V41: 2837941 | W41: 161740666 | X41: 36
G42: 特別損失 | J42: 前期損益修正損 | K42: 31 | L42: 37 | M42: 11080 | N42: 125820 | O42: 52285 | R42: 8110 | S42: - | T42: 4592 | U42: 9052 | V42: 491 | W42: 211430 | X42: 37
...

Sheet 9
C1: ９ 厚生年金保険経理貸借対照表
T2: （単位 千円）
L4: 地方公務員 共済組合連合会 | M4: 地方職員共済組合 | Q4: 公立学校共済組合 | R4: 警察共済組合 | S4: 東京都職員 共済組合 | T4: 全国市町村職員 共済組合連合会 | U4: 合計
N5: (再掲)団体共済部
C6: 借 方 | E6: 流 動 資 産 | I6: 現金 | K6: 1 | L6: - | M6: - | N6: - | Q6: - | R6: - | S6: - | T6: - | U6: - | V6: 1
I7: 当座預金 | K7: 2 | L7: - | M7: - | N7: - | Q7: - | R7: - | S7: - | T7: - | U7: - | V7: 2
I8: 普通預金 | K8: 3 | L8: 1198931 | M8: 15395448 | N8: 1355638 | Q8: 154205780 | R8: 91659180 | S8: 40397989 | T8: 123114628 | U8: 425971956 | V8: 3
I9: 通知預金 | K9: 4 | L9: - | M9: - | N9: - | Q9: - | R9: - | S9: - | T9: - | U9: - | V9: 4
I10: 定期預金 | K10: 5 | L10: - | M10: 104600000 | N10: - | Q10: - | R10: 18000000 | S10: - | T10: 201840000 | U10: 324440000 | V10: 5
I11: 保管有価証券 | K11: 6 | L11: - | M11: - | N11: - | Q11: - | R11: - | S11: - | T11: - | U11: - | V11: 6
I12: 証券投資信託 | K12: 7 | L12: - | M12: - | N12: - | Q12: - | R12: - | S12: - | T12: - | U12: - | V12: 7
I13: 立替金 | K13: 8 | L13: - | M13: - | N13: - | Q13: - | R13: - | S13: - | T13: - | U13: - | V13: 8
I14: 仮払金 | K14: 9 | L14: - | M14: - | N14: - | Q14: - | R14: - | S14: - | T14: - | U14: - | V14: 9
I15: 前渡金 | K15: 10 | L15: - | M15: - | N15: - | Q15: - | R15: - | S15: - | T15: - | U15: - | V15: 10
I16: 未収収益 | K16: 11 | L16: 526454385 | M16: 2751268 | N16: 2750922 | Q16: 114978951 | R16: 61726716 | S16: 11941376 | T16: 229850566 | U16: 947703262 | V16: 11
I17: 短期貸付金 | K17: 12 | L17: - | M17: - | N17: - | Q17: - | R17: - | S17: - | T17: - | U17: - | V17: 12
I18: 未収金 | K18: 13 | L18: - | M18: 383486 | N18: 3917 | Q18: 2052010 | R18: 296960 | S18: 3740545 | T18: 95994476 | U18: 102467477 | V18: 13
I19: 未達回送金 | K19: 14 | L19: - | M19: - | N19: - | Q19: - | R19: - | S19: - | T19: - | U19: - | V19: 14
E20: 固 定 資 産 | I20: 信託 | K20: 15 | L20: 11254787108 | M20: 2900000 | N20: 2900000 | Q20: 1818936160 | R20: 1344418729 | S20: 160224268 | T20: 4587542283 | U20: 19168808547 | V20: 15
I21: 投資有価証券 | K21: 16 | L21: - | M21: - | N21: - | Q21: - | R21: - | S21: - | T21: - | U21: - | V21: 16
I22: 生命保険 | K22: 17 | L22: - | M22: - | N22: - | Q22: - | R22: - | S22: - | T22: - | U22: - | V22: 17
I23: 投資不動産 | K23: 18 | L23: - | M23: - | N23: - | Q23: - | R23: - | S23: - | T23: - | U23: - | V23: 18
I24: 長期貸付金 | K24: 19 | L24: - | M24: - | N24: - | Q24: - | R24: - | S24: - | T24: - | U24: - | V24: 19
I25: 預託金 | K25: 20 | L25: - | M25: - | N25: - | Q25: - | R25: - | S25: - | T25: - | U25: - | V25: 20
I26: 連合会預託金 | K26: 21 | L26: - | M26: 78306489 | N26: 78306489 | Q26: - | R26: - | S26: - | T26: - | U26: 78306489 | V26: 21
I27: 構成組合預託金 | K27: 22 | L27: - | M27: - | N27: - | Q27: - | R27: - | S27: - | T27: - | U27: - | V27: 22
F28: 合計 | K28: 23 | L28: 11782440424 | M28: 204336690 | N28: 85316966 | Q28: 2090172900 | R28: 1516101585 | S28: 216304179 | T28: 5238341953 | U28: 21047697731 | V28: 23
D29: 令和３年度合計 | K29: 24 | L29: 11291142605 | M29: 181990609 | N29: 83684360 | Q29: 2165874837 | R29: 1441915485 | S29: 211821321 | T29: 5145130758 | U29: 20437875616 | V29: 24
D30: 令和２年度合計 | K30: 25 | L30: 10750028129 | M30: 173940829 | N30: 83021719 | Q30: 2110870300 | R30: 1375626880 | S30: 215667342 | T30: 5008939686 | U30: 19635073166 | V30: 25
C32: 貸 方 | F32: 流動負債 | I32: 未払消費税 | K32: 1 | L32: - | M32: - | N32: - | Q32: - | R32: - | S32: - | T32: - | U32: - | V32: 1
I33: 未払金 | K33: 2 | L33: - | M33: 972819 | N33: 27520 | Q33: 3089917 | R33: 745414 | S33: 363534 | T33: 2626842 | U33: 7798527 | V33: 2
I34: 未払費用 | K34: 3 | L34: - | M34: - | N34: - | Q34: - | R34: - | S34: 862069 | T34: - | U34: 862069 | V34: 3
I35: 前受金 | K35: 4 | L35: - | M35: - | N35: - | Q35: - | R35: - | S35: - | T35: - | U35: - | V35: 4
I36: 預り金 | K36: 5 | L36: - | M36: 29001 | N36: 19911 | Q36: 34250 | R36: 667059 | S36: 74 | T36: 1516 | U36: 731901 | V36: 5
I37: 受入保証金 | K37: 6 | L37: - | M37: - | N37: - | Q37: - | R37: - | S37: - | T37: - | U37: - | V37: 6
I38: 厚生年金拠出金負担金充当金 | K38: 7 | L38: - | M38: - | N38: - | Q38: - | R38: - | S38: - | T38: - | U38: - | V38: 7
I39: 基礎年金拠出金 負担金充当金 | K39: 8 | L39: - | M39: - | N39: - | Q39: - | R39: - | S39: - | T39: - | U39: - | V39: 8
I40: 前受収益 | K40: 9 | L40: - | M40: - | N40: - | Q40: - | R40: - | S40: - | T40: - | U40: - | V40: 9
I41: 仮受金 | K41: 10 | L41: - | M41: - | N41: - | Q41: 543335 | R41: - | S41: - | T41: - | U41: 543335 | V41: 10
I42: 預り有価証券 | K42: 11 | L42: - | M42: - | N42: - | Q42: - | R42: - | S42: - | T42: - | U42: - | V42: 11
...

Sheet 10
C1: １０ 厚生年金保険経理損益計算書
U2: （単位 千円）
M4: 地方公務員 共済組合連合会 | N4: 地方職員共済組合 | R4: 公立学校共済組合 | S4: 警察共済組合 | T4: 東京都職員 共済組合 | U4: 全国市町村職員 共済組合連合会 | V4: 合計
O5: (再掲)団体共済部
C6: 借方 | F6: 経 常 費 用 | J6: 老齢厚生給付 | L6: 1 | M6: - | N6: 103729295 | O6: 4547566 | R6: 432767830 | S6: 113836017 | T6: 47411206 | U6: 459979093 | V6: 1157723440 | W6: 1
J7: 退職共済給付 | L7: 2 | M7: - | N7: 215085058 | O7: 7561205 | R7: 675886224 | S7: 137310475 | T7: 96138797 | U7: 699403449 | V7: 1823824003 | W7: 2
J8: 障害厚生給付 | L8: 3 | M8: - | N8: 1279869 | O8: 70029 | R8: 4266714 | S8: 1075251 | T8: 440358 | U8: 4554688 | V8: 11616880 | W8: 3
J9: 障害共済給付 | L9: 4 | M9: - | N9: 2106916 | O9: 106605 | R9: 8406481 | S9: 1301092 | T9: 691108 | U9: 7656975 | V9: 20162573 | W9: 4
J10: 遺族厚生給付 | L10: 5 | M10: - | N10: 11200472 | O10: 369418 | R10: 20054141 | S10: 9857717 | T10: 4712816 | U10: 39021080 | V10: 84846227 | W10: 5
J11: 遺族共済給付 | L11: 6 | M11: - | N11: 91974376 | O11: 1809841 | R11: 222485495 | S11: 66337899 | T11: 32109495 | U11: 220285754 | V11: 633193019 | W11: 6
J12: 短期在留脱退一時金 | L12: 7 | M12: - | N12: 4828 | O12: 3155 | R12: 15430 | S12: - | T12: - | U12: - | V12: 20258 | W12: 7
J13: 連合会交付金返還金 | L13: 8 | M13: - | N13: - | O13: - | R13: - | S13: - | T13: - | U13: - | V13: - | W13: 8
J14: 連合会払込金 | L14: 9 | M14: - | N14: 1483015 | O14: 1014545 | R14: 7646884 | S14: 28903322 | T14: 737608 | U14: 52106986 | V14: 90877815 | W14: 9
J15: 移換金 | L15: 10 | M15: - | N15: - | O15: - | R15: - | S15: - | T15: - | U15: - | V15: - | W15: 10
J16: 消費税 | L16: 11 | M16: - | N16: - | O16: - | R16: - | S16: - | T16: - | U16: - | V16: - | W16: 11
J17: 負担金 | L17: 12 | M17: - | N17: 9598 | O17: - | R17: 30175 | S17: 10100 | T17: - | U17: - | V17: 49873 | W17: 12
J18: 厚生年金拠出金 | L18: 13 | M18: 3116999957 | N18: - | O18: - | R18: - | S18: - | T18: - | U18: - | V18: 3116999957 | W18: 13
J19: 厚生年金交付金支払金 | L19: 14 | M19: 3410306908 | N19: - | O19: - | R19: - | S19: - | T19: - | U19: - | V19: 3410306908 | W19: 14
J20: 厚生年金拠出金負担金 | L20: 15 | M20: 160510068 | N20: 315844251 | O20: 13034596 | R20: 1053383213 | S20: 291973182 | T20: 136959494 | U20: 1158329749 | V20: 3116999957 | W20: 15
J21: 基礎年金拠出金負担金 | L21: 16 | M21: - | N21: 164156315 | O21: 6696850 | R21: 559882005 | S21: 164419742 | T21: 67493826 | U21: 561724694 | V21: 1517676582 | W21: 16
J22: 基礎年金拠出金 | L22: 17 | M22: 1517676582 | N22: - | O22: - | R22: - | S22: - | T22: - | U22: - | V22: 1517676582 | W22: 17
J23: 基礎年金交付金支払金 | L23: 18 | M23: 45299146 | N23: - | O23: - | R23: - | S23: - | T23: - | U23: - | V23: 45299146 | W23: 18
J24: 財政調整拠出金 | L24: 19 | M24: - | N24: - | O24: - | R24: - | S24: - | T24: - | U24: - | V24: - | W24: 19
J25: 組合払込金返還金 | L25: 20 | M25: 592964 | N25: - | O25: - | R25: - | S25: - | T25: - | U25: - | V25: 592964 | W25: 20
J26: 組合交付金 | L26: 21 | M26: 19720000 | N26: - | O26: - | R26: - | S26: - | T26: - | U26: - | V26: 19720000 | W26: 21
J27: 信託の運用損 | L27: 22 | M27: - | N27: - | O27: - | R27: 5135656 | S27: 2520911 | T27: 862069 | U27: 14781632 | V27: 23300269 | W27: 22
J28: 有価証券売却損 | L28: 23 | M28: - | N28: - | O28: - | R28: - | S28: - | T28: - | U28: - | V28: - | W28: 23
J29: 有価証券評価損 | L29: 24 | M29: - | N29: - | O29: - | R29: - | S29: - | T29: - | U29: - | V29: - | W29: 24
J30: 償還差損 | L30: 25 | M30: - | N30: - | O30: - | R30: - | S30: - | T30: - | U30: - | V30: - | W30: 25
J31: 承継差損 | L31: 26 | M31: - | N31: - | O31: - | R31: - | S31: - | T31: - | U31: - | V31: - | W31: 26
J32: 信託等売買手数料 | L32: 27 | M32: - | N32: - | O32: - | R32: - | S32: - | T32: - | U32: - | V32: - | W32: 27
J33: 未収返還金償却額 | L33: 28 | M33: - | N33: 97 | O33: - | R33: 2497 | S33: 180 | T33: - | U33: 232843 | V33: 235617 | W33: 28
J34: 雑費 | L34: 29 | M34: - | N34: 467 | O34: - | R34: 216 | S34: 284647 | T34: - | U34: 1106 | V34: 286436 | W34: 29
G35: 繰入金 | J35: 業務経理へ繰入 | L35: 30 | M35: 2159548 | N35: 693647 | O35: 210012 | R35: 1082110 | S35: 527170 | T35: 363881 | U35: 2703274 | V35: 7529631 | W35: 30
G36: 次年度繰越 厚生年金拠出金 負担金充当金 | J36: 次年度繰越 厚生年金拠出金 負担金充当金 | L36: 31 | M36: - | N36: - | O36: - | R36: - | S36: - | T36: - | U36: - | V36: - | W36: 31
G37: 次年度繰越 厚生年金保険給付 組合積立金 | J37: 次年度繰越 厚生年金保険給付 組合積立金 | L37: 32 | M37: - | N37: 203334870 | O37: 85269535 | R37: 2086505397 | S37: 1514689111 | T37: 215078501 | U37: 5235713595 | V37: 9255321474 | W37: 32
G38: 次年度繰越 基礎年金拠出金 負担金充当金 | J38: 次年度繰越 基礎年金拠出金 負担金充当金 | L38: 33 | M38: - | N38: - | O38: - | R38: - | S38: - | T38: - | U38: - | V38: - | W38: 33
G39: 特別損失 | J39: 前期損益修正損 | L39: 34 | M39: - | N39: - | O39: - | R39: 251063 | S39: 1565526 | T39: 14588 | U39: 1181 | V39: 1832357 | W39: 34
J40: 固定資産売却損 | L40: 35 | M40: - | N40: - | O40: - | R40: - | S40: - | T40: - | U40: - | V40: - | W40: 35
J41: 固定資産除却損 | L41: 36 | M41: - | N41: - | O41: - | R41: - | S41: - | T41: - | U41: - | V41: - | W41: 36
...

Sheet 11
C1: １１ 退職等年金経理貸借対照表
U2: （単位 千円）
M4: 地方公務員 共済組合連合会 | N4: 地方職員共済組合 | R4: 公立学校共済組合 | S4: 警察共済組合 | T4: 東京都職員 共済組合 | U4: 全国市町村職員 共済組合連合会 | V4: 合計
O5: (再掲)団体共済部
C6: 借 方 | G6: 流 動 資 産 | J6: 現金 | L6: 1 | M6: - | N6: - | O6: - | R6: - | S6: - | T6: - | U6: - | V6: - | W6: 1
J7: 当座預金 | L7: 2 | M7: - | N7: - | O7: - | R7: - | S7: - | T7: - | U7: - | V7: - | W7: 2
J8: 普通預金 | L8: 3 | M8: 122666 | N8: 458249 | O8: 74043 | R8: 6223470 | S8: 4734897 | T8: 1711812 | U8: 758962 | V8: 14010055 | W8: 3
J9: 通知預金 | L9: 4 | M9: - | N9: - | O9: - | R9: - | S9: - | T9: - | U9: - | V9: - | W9: 4
J10: 定期預金 | L10: 5 | M10: - | N10: 4980000 | O10: 180000 | R10: - | S10: - | T10: - | U10: - | V10: 4980000 | W10: 5
J11: 保管有価証券 | L11: 6 | M11: - | N11: - | O11: - | R11: - | S11: - | T11: - | U11: - | V11: - | W11: 6
J12: 立替金 | L12: 7 | M12: - | N12: - | O12: - | R12: - | S12: - | T12: - | U12: - | V12: - | W12: 7
J13: 仮払金 | L13: 8 | M13: - | N13: - | O13: - | R13: - | S13: - | T13: - | U13: - | V13: - | W13: 8
J14: 前渡金 | L14: 9 | M14: - | N14: - | O14: - | R14: - | S14: - | T14: - | U14: - | V14: - | W14: 9
J15: 未収収益 | L15: 10 | M15: 341813 | N15: 687810 | O15: 25198 | R15: 2355677 | S15: 755771 | T15: 309389 | U15: 2452967 | V15: 6903428 | W15: 10
J16: 短期貸付金 | L16: 11 | M16: - | N16: - | O16: - | R16: - | S16: - | T16: - | U16: - | V16: - | W16: 11
J17: 未収金 | L17: 12 | M17: - | N17: 2451 | O17: - | R17: 45341 | S17: 29238 | T17: 122866 | U17: 6303425 | V17: 6503320 | W17: 12
J18: 未達回送金 | L18: 13 | M18: - | N18: - | O18: - | R18: - | S18: - | T18: - | U18: - | V18: - | W18: 13
G19: 固 定 資 産 | J19: 信託 | L19: 14 | M19: 102795813 | N19: 201565531 | O19: 7249434 | R19: 669151088 | S19: 195893967 | T19: 88763046 | U19: 708164979 | V19: 1966334424 | W19: 14
J20: 投資有価証券 | L20: 15 | M20: - | N20: 3608220 | O20: - | R20: - | S20: - | T20: - | U20: - | V20: 3608220 | W20: 15
J21: 生命保険 | L21: 16 | M21: - | N21: - | O21: - | R21: - | S21: - | T21: - | U21: - | V21: - | W21: 16
J22: 投資不動産 | L22: 17 | M22: - | N22: 321285 | O22: - | R22: - | S22: 26536640 | T22: - | U22: - | V22: 26857925 | W22: 17
J23: 長期貸付金 | L23: 18 | M23: - | N23: 10962604 | O23: 1140001 | R23: 2300000 | S23: - | T23: - | U23: - | V23: 13262604 | W23: 18
J24: 預託金 | L24: 19 | M24: - | N24: - | O24: - | R24: - | S24: - | T24: - | U24: - | V24: - | W24: 19
J25: 連合会預託金 | L25: 20 | M25: - | N25: - | O25: - | R25: - | S25: - | T25: - | U25: - | V25: - | W25: 20
J26: 構成組合預託金 | L26: 21 | M26: - | N26: - | O26: - | R26: - | S26: - | T26: - | U26: 50786199 | V26: 50786199 | W26: 21
G27: 合計 | L27: 22 | M27: 103260292 | N27: 222586150 | O27: 8668675 | R27: 680075576 | S27: 227950513 | T27: 90907113 | U27: 768466532 | V27: 2093246176 | W27: 22
D28: 令和３年度合計 | L28: 23 | M28: 89614694 | N28: 192669769 | O28: 7446408 | R28: 589784110 | S28: 197254588 | T28: 78577658 | U28: 664563649 | V28: 1812464468 | W28: 23
D29: 令和２年度合計 | L29: 24 | M29: 75728568 | N29: 162728945 | O29: 6238721 | R29: 495840266 | S29: 166800413 | T29: 66431884 | U29: 560873911 | V29: 1528403988 | W29: 24
C31: 貸 方 | G31: 流動負債 | J31: 未払消費税 | L31: 1 | M31: - | N31: - | O31: - | R31: - | S31: - | T31: - | U31: - | V31: - | W31: 1
J32: 未払金 | L32: 2 | M32: - | N32: 256 | O32: - | R32: 39648 | S32: 13824 | T32: - | U32: 228 | V32: 53956 | W32: 2
J33: 未払費用 | L33: 3 | M33: - | N33: 6969 | O33: - | R33: - | S33: - | T33: - | U33: - | V33: 6969 | W33: 3
J34: 前受金 | L34: 4 | M34: - | N34: - | O34: - | R34: - | S34: - | T34: - | U34: - | V34: - | W34: 4
J35: 預り金 | L35: 5 | M35: - | N35: 2347 | O35: 280 | R35: 283913 | S35: 998 | T35: 2 | U35: 1546 | V35: 288806 | W35: 5
J36: 受入保証金 | L36: 6 | M36: - | N36: - | O36: - | R36: - | S36: - | T36: - | U36: - | V36: - | W36: 6
J37: 前受収益 | L37: 7 | M37: - | N37: - | O37: - | R37: - | S37: - | T37: - | U37: - | V37: - | W37: 7
J38: 仮受金 | L38: 8 | M38: - | N38: 531 | O38: 531 | R38: 34 | S38: - | T38: - | U38: - | V38: 565 | W38: 8
J39: 預り有価証券 | L39: 9 | M39: - | N39: - | O39: - | R39: - | S39: - | T39: - | U39: - | V39: - | W39: 9
F40: 剰余金 （欠損金） | J40: 資本剰余金 | L40: 10 | M40: - | N40: - | O40: - | R40: - | S40: - | T40: - | U40: - | V40: - | W40: 10
J41: 退職等年金給付 調整積立金 | L41: 11 | M41: 103260292 | N41: - | O41: - | R41: - | S41: - | T41: - | U41: - | V41: 103260292 | W41: 11
J42: 退職等年金給付 組合積立金 | L42: 12 | M42: - | N42: 222576047 | O42: 8667864 | R42: 679751981 | S42: 227935691 | T42: 90907111 | U42: 768464758 | V42: 1989635588 | W42: 12
...

Sheet 12
C1: １２ 退職等年金経理損益計算書
U2: （単位 千円）
M4: 地 方 公 務 員 共済組合連合会 | N4: 地方職員共済組合 | R4: 公立学校共済組合 | S4: 警察共済組合 | T4: 東京都職員 共済組合 | U4: 全国市町村職員 共済組合連合会 | V4: 合計
O5: (再掲)団体共済部
C6: 借方 | F6: 経 常 費 用 | J6: 退職等給付 | L6: 1 | M6: - | N6: 701061 | O6: 31405 | R6: 1569795 | S6: 472929 | T6: 181208 | U6: 1712819 | V6: 4637812 | W6: 1
J7: 公務障害給付 | L7: 2 | M7: - | N7: 1149 | O7: - | R7: 14176 | S7: 4645 | T7: - | U7: 16628 | V7: 36597 | W7: 2
J8: 公務遺族給付 | L8: 3 | M8: - | N8: 8817 | O8: - | R8: 14054 | S8: 15101 | T8: 1585 | U8: 40155 | V8: 79712 | W8: 3
J9: 脱退一時金 | L9: 4 | M9: - | N9: 1373 | O9: 1373 | R9: - | S9: - | T9: - | U9: 144 | V9: 1518 | W9: 4
J10: 連合会交付金返還金 | L10: 5 | M10: - | N10: - | O10: - | R10: - | S10: - | T10: - | U10: - | V10: - | W10: 5
J11: 連合会払込金 | L11: 6 | M11: - | N11: 1586303 | O11: 64812 | R11: 4765340 | S11: 1588853 | T11: 644742 | U11: 5407571 | V11: 13992809 | W11: 6
J12: 移換金 | L12: 7 | M12: - | N12: - | O12: - | R12: - | S12: - | T12: - | U12: - | V12: - | W12: 7
J13: 消費税 | L13: 8 | M13: - | N13: 0 | O13: - | R13: - | S13: - | T13: - | U13: - | V13: 0 | W13: 8
J14: 財政調整拠出金 | L14: 9 | M14: - | N14: - | O14: - | R14: - | S14: - | T14: - | U14: - | V14: - | W14: 9
J15: 組合払込金返還金 | L15: 10 | M15: - | N15: - | O15: - | R15: - | S15: - | T15: - | U15: - | V15: - | W15: 10
J16: 組合交付金 | L16: 11 | M16: - | N16: - | O16: - | R16: - | S16: - | T16: - | U16: - | V16: - | W16: 11
J17: 信託の運用損 | L17: 12 | M17: - | N17: - | O17: - | R17: - | S17: - | T17: - | U17: - | V17: - | W17: 12
J18: 有価証券売却損 | L18: 13 | M18: - | N18: - | O18: - | R18: - | S18: - | T18: - | U18: - | V18: - | W18: 13
J19: 有価証券評価損 | L19: 14 | M19: - | N19: - | O19: - | R19: - | S19: - | T19: - | U19: - | V19: - | W19: 14
J20: 償還差損 | L20: 15 | M20: - | N20: 951 | O20: - | R20: - | S20: - | T20: - | U20: - | V20: 951 | W20: 15
J21: 承継差損 | L21: 16 | M21: - | N21: - | O21: - | R21: - | S21: - | T21: - | U21: - | V21: - | W21: 16
J22: 信託等売買手数料 | L22: 17 | M22: - | N22: - | O22: - | R22: - | S22: - | T22: - | U22: - | V22: - | W22: 17
J23: 未収返還金償却額 | L23: 18 | M23: - | N23: - | O23: - | R23: - | S23: - | T23: - | U23: - | V23: - | W23: 18
J24: 雑費 | L24: 19 | M24: - | N24: 3 | O24: - | R24: 4 | S24: - | T24: - | U24: - | V24: 6 | W24: 19
G25: 繰入金 | J25: 業務経理へ繰入 | L25: 20 | M25: 689024 | N25: 285157 | O25: 12204 | R25: 714601 | S25: 210628 | T25: 180000 | U25: 900662 | V25: 2980073 | W25: 20
G26: 次年度繰越 退職等年金給付 組合積立金 | J26: 次年度繰越 退職等年金給付 組合積立金 | L26: 21 | M26: - | N26: 222576047 | O26: 8667864 | R26: 679751981 | S26: 227935691 | T26: 90907111 | U26: 768464758 | V26: 1989635588 | W26: 21
G27: 特別損失 | J27: 前期損益修正損 | L27: 22 | M27: - | N27: - | O27: - | R27: 19225 | S27: 3228 | T27: 1127 | U27: 91 | V27: 23671 | W27: 22
J28: 固定資産売却損 | L28: 23 | M28: - | N28: - | O28: - | R28: - | S28: - | T28: - | U28: - | V28: - | W28: 23
J29: 固定資産除却損 | L29: 24 | M29: - | N29: - | O29: - | R29: - | S29: - | T29: - | U29: - | V29: - | W29: 24
J30: 固定資産評価損 | L30: 25 | M30: - | N30: - | O30: - | R30: - | S30: - | T30: - | U30: - | V30: - | W30: 25
G31: 当期利益金 | J31: 当期利益金 | L31: 26 | M31: 13645598 | N31: - | O31: - | R31: - | S31: - | T31: - | U31: - | V31: 13645598 | W31: 26
G32: 合計 | L32: 27 | M32: 14334622 | N32: 225160861 | O32: 8777658 | R32: 686849176 | S32: 230231075 | T32: 91915773 | U32: 776542828 | V32: 2025034335 | W32: 27
D33: 令和３年度合計 | L33: 28 | M33: 14489440 | N33: 194919604 | O33: 7541409 | R33: 596345322 | S33: 199475600 | T33: 79506829 | U33: 672161855 | V33: 1756898650 | W33: 28
D34: 令和２年度合計 | L34: 29 | M34: 14546637 | N34: 164777203 | O34: 6320534 | R34: 501661521 | S34: 168828297 | T34: 67322696 | U34: 567955061 | V34: 1485091414 | W34: 29
C36: 貸方 | F36: 経 常 収 益 | J36: 負担金 | L36: 1 | M36: - | N36: 15840559 | O36: 647203 | R36: 47489984 | S36: 15933207 | T36: 6511050 | U36: 54508886 | V36: 140283687 | W36: 1
J37: 掛金 | L37: 2 | M37: - | N37: 15836969 | O37: 647197 | R37: 47489680 | S37: 15935411 | T37: 6517241 | U37: 54507910 | V37: 140287213 | W37: 2
J38: 連合会払込金返還金 | L38: 3 | M38: - | N38: - | O38: - | R38: - | S38: - | T38: - | U38: - | V38: - | W38: 3
J39: 移換金 | L39: 4 | M39: - | N39: - | O39: - | R39: - | S39: - | T39: - | U39: - | V39: - | W39: 4
J40: 財政調整拠出金受入金 | L40: 5 | M40: - | N40: - | O40: - | R40: - | S40: - | T40: - | U40: - | V40: - | W40: 5
