Workbook

Sheet 1,2
B2: １ 厚生年金保険給付調整経理貸借対照表
Q3: （単位 千円）
B5: 借 方 | I5: 金 額 | J5: 貸 方 | Q5: 金 額
C7: 流 動 資 産 | I7: 1186127831397 | K7: 剰 余 金 | Q7: 14573311397420
D8: 普通預金 | H8: 5795896 | L8: 厚生年金保険給付 調整積立金 | P8: 14573311397420
D9: 仮払金 | H9: 0
D10: 未収収益 | H10: 1186122035501
C12: 固 定 資 産 | I12: 13387183566023
D13: 投資その他の資産 | H13: 13387183566023
E14: 信託 | G14: 13387183566023
E15: 投資有価証券 | G15: 0
E16: 生命保険 | G16: 0
E17: 預託金 | G17: 0
B19: 合 計 | I19: =SUM(I7:I18) -> 14573311397420 | J19: 合 計 | Q19: =SUM(Q7:Q18) -> 14573311397420
B20: 令 和 ５ 年 度 | I20: 13119663224270 | J20: =B20 -> 令 和 ５ 年 度 | Q20: =I20 -> 13119663224270
B21: 令 和 ４ 年 度 | I21: 11782440423945 | J21: =B21 -> 令 和 ４ 年 度 | Q21: =I21 -> 11782440423945
B24: ２ 厚生年金保険給付調整経理損益計算書
Q25: （単位 千円）
B27: 損 失 | I27: 金 額 | J27: 利 益 | Q27: 金 額
C29: 経 常 費 用 | I29: 170678587752 | K29: 経 常 収 益 | Q29: =SUM(P30,P35) -> 1626400984902
D30: 事 業 費 用 | H30: 170678587752 | L30: 事 業 収 益 | P30: =SUM(O31:O33) -> 429328377230
E31: 厚生年金拠出金 負担金 | G31: 164709487136 | M31: 財政調整拠出金 受入金 | O31: 231915845230
E32: 財政調整拠出金 | G32: 0 | M32: 組合払込金 | O32: 197412532000
E33: 組合払込金返還金 | G33: 0 | M33: 雑収入 | O33: 0
E34: 組合交付金 | G34: 5313000000 | M34: 組合交付金 返還金 | O34: 0
E35: 信託の運用損 | G35: 656100616 | L35: 運 用 収 入 | P35: =SUM(O35:O39) -> 1197072607672
E36: 有価証券売却損 | G36: 0 | M36: 利息及び配当金 | O36: 0
E37: 償還差益 | G37: 0 | M37: 有価証券売却益 | O37: 0
C38: 繰 入 金 | I38: 2074224000 | M38: 償還差益 | O38: 0
D39: 業務経理へ繰入 | H39: 2074224000 | M39: 信託の運用益 | O39: 1197072607672
C41: 当 期 利 益 金 | I41: 1453648173150
D42: 当期利益金 | H42: 1453648173150
B43: 合 計 | I43: =SUM(I29:I41) -> 1626400984902 | J43: 合 計 | Q43: =SUM(Q29:Q42) -> 1626400984902
B44: =B20 -> 令 和 ５ 年 度 | I44: 1498372074211 | J44: =B44 -> 令 和 ５ 年 度 | Q44: =I44 -> 1498372074211
B45: =B21 -> 令 和 ４ 年 度 | I45: 674280398451 | J45: =B45 -> 令 和 ４ 年 度 | Q45: =I45 -> 674280398451

Sheet 3,4
B2: ３ 退職等年金給付調整経理貸借対照表
Q3: （単位 千円）
B5: 借 方 | I5: 金 額 | J5: 貸 方 | Q5: 金 額
C7: 流 動 資 産 | I7: =SUM(H8:H11) -> 869362455 | K7: 剰 余 金 | Q7: =P8 -> 159100373045
D8: 普通預金 | H8: 711652 | L8: 退職等年金給付 調整積立金 | P8: 159100373045
D9: 仮払金 | H9: 0
D10: 未収収益 | H10: 868650803
C12: 固 定 資 産 | I12: =H13 -> 158231010590
D13: 投資その他の資産 | H13: =SUM(G14:G17) -> 158231010590
E14: 信託 | G14: 158231010590
E15: 投資有価証券 | G15: 0
E16: 生命保険 | G16: 0
E17: 預託金 | G17: 0
B19: 合 計 | I19: =SUM(I7:I18) -> 159100373045 | J19: 合 計 | Q19: =SUM(Q7:Q18) -> 159100373045
B20: ='1,2'!B20 -> 令 和 ５ 年 度 | I20: 117310486242 | J20: =B20 -> 令 和 ５ 年 度 | Q20: =I20 -> 117310486242
B21: ='1,2'!B21 -> 令 和 ４ 年 度 | I21: 103260292337 | J21: =B21 -> 令 和 ４ 年 度 | Q21: =I21 -> 103260292337
B24: ４ 退職等年金給付調整経理損益計算書
Q25: （単位 千円）
B27: 損 失 | I27: 金 額 | J27: 利 益 | Q27: 金 額
C29: 経 常 費 用 | I29: 0 | K29: 経 常 収 益 | Q29: =SUM(P30,P34) -> 42227126803
D30: 事 業 費 用 | H30: 0 | L30: 事 業 収 益 | P30: =SUM(O31:O33) -> 41358476000
E31: 財政調整拠出金 | G31: 0 | M31: 財政調整拠出金 受入金 | O31: 27165641000
E32: 有価証券売却損 | G32: 0 | M32: 組合払込金 | O32: 14192835000
E33: 償還差損 | G33: 0 | M33: 雑収入 | O33: 0
L34: 運 用 収 入 | P34: =SUM(O35:O38) -> 868650803
C35: 繰 入 金 | I35: =H36 -> 437240000 | M35: 利息及び配当金 | O35: 0
D36: 業務経理へ繰入 | H36: 437240000 | M36: 有価証券売却益 | O36: 0
M37: 償還差益 | O37: 0
C38: 当 期 利 益 金 | I38: =H39 -> 41789886803 | M38: 信託の運用益 | O38: 868650803
D39: 当期利益金 | H39: 41789886803
B41: 合 計 | I41: =SUM(I29:I39) -> 42227126803 | J41: 合 計 | Q41: =SUM(Q29:Q40) -> 42227126803
B42: =B20 -> 令 和 ５ 年 度 | I42: 14489440498 | J42: =B42 -> 令 和 ５ 年 度 | Q42: =I42 -> 14489440498
B43: =B21 -> 令 和 ４ 年 度 | I43: 14546636724 | J43: =B43 -> 令 和 ４ 年 度 | Q43: =I43 -> 14546636724

Sheet 5,6
B2: ５ 経過的長期給付調整経理貸借対照表
Q3: （単位 千円）
B5: 借 方 | I5: 金 額 | J5: 貸 方 | Q5: 金 額
C7: 流 動 資 産 | I7: =SUM(H8:H11) -> 1260332163087 | K7: 剰 余 金 | Q7: =P8 -> 14344988132662
D8: 普通預金 | H8: 1046632 | L8: 経過的長期給付 調整積立金 | P8: 14344988132662
D9: 仮払金 | H9: 0
D10: 未収収益 | H10: 1260331116455
C12: 固 定 資 産 | I12: =H13 -> 13084655969575
D13: 投資その他の資産 | H13: =SUM(G14:G17) -> 13084655969575
E14: 信託 | G14: 13014772021936
E15: 投資有価証券 | G15: 267029693
E16: 生命保険 | G16: 69616917946
E17: 預託金 | G17: 0
B19: 合 計 | I19: =SUM(I7:I18) -> 14344988132662 | J19: 合 計 | Q19: =SUM(Q7:Q18) -> 14344988132662
B20: ='1,2'!B20 -> 令 和 ５ 年 度 | I20: 13296213950889 | J20: =B20 -> 令 和 ５ 年 度 | Q20: =I20 -> 13296213950889
B21: ='1,2'!B21 -> 令 和 ４ 年 度 | I21: 12289979848586 | J21: =B21 -> 令 和 ４ 年 度 | Q21: =I21 -> 12289979848586
B25: ６ 経過的長期給付調整経理損益計算書
Q26: （単位 千円）
B28: 損 失 | I28: 金 額 | J28: 利 益 | Q28: 金 額
C30: 経 常 費 用 | I30: =H31 -> 222934168612 | K30: 経 常 収 益 | Q30: =SUM(P31,P34) -> 1271914874385
D31: 事 業 費 用 | H31: =SUM(G32:G36) -> 222934168612 | L31: 事 業 収 益 | P31: 0
E32: 拠出金 | G32: 162666150395 | M32: 組合払込金 | O32: 0
E33: 組合交付金 | G33: 59606000000 | M33: 雑収入 | O33: 0
E34: 信託の運用損 | G34: 662018217 | L34: 運 用 収 入 | P34: =SUM(O35:O38) -> 1271914874385
E35: 有価証券売却損 | G35: 0 | M35: 利息及び配当金 | O35: 590920729
E36: 償還差損 | G36: 0 | M36: 有価証券売却益 | O36: 0
M37: 償還差益 | O37: 0
C38: 繰 入 金 | I38: =H39 -> 206524000 | M38: 信託の運用益 | O38: 1271323953656
D39: 業務経理へ繰入 | H39: 206524000
C41: 当 期 利 益 金 | I41: =H42 -> 1048774181773
D42: 当期利益金 | H42: 1048774181773
B43: 合 計 | I43: =SUM(I30:I42) -> 1271914874385 | J43: 合 計 | Q43: =SUM(Q30:Q42) -> 1271914874385
B44: =B20 -> 令 和 ５ 年 度 | I44: 1223651700921 | J44: =B44 -> 令 和 ５ 年 度 | Q44: =I44 -> 1223651700921
B45: =B21 -> 令 和 ４ 年 度 | I45: 559111342792 | J45: =B45 -> 令 和 ４ 年 度 | Q45: =I45 -> 559111342792

Sheet 7,8
B2: ７ 基礎年金拠出金経理貸借対照表
Q3: （単位 千円）
B5: 借 方 | I5: 金 額 | J5: 貸 方 | Q5: 金 額
C7: 流 動 資 産 | I7: 0 | K7: 流 動 負 債 | Q7: 0
D8: 普通預金 | H8: 0 | L8: 基礎年金拠出金 負担金充当金 | P8: 0
B16: 合 計 | I16: 0 | J16: 合 計 | Q16: 0
B17: ='1,2'!B20 -> 令 和 ５ 年 度 | I17: 0 | J17: =B17 -> 令 和 ５ 年 度 | Q17: =I17 -> 0
B18: ='1,2'!B21 -> 令 和 ４ 年 度 | I18: 0 | J18: =B18 -> 令 和 ４ 年 度 | Q18: =I18 -> 0
B22: ８ 基礎年金拠出金経理損益計算書
Q23: （単位 千円）
B25: 損 失 | I25: 金 額 | J25: 利 益 | Q25: 金 額
C27: 経 常 費 用 | I27: =H28 -> 1377265708374 | K27: 経 常 収 益 | Q27: =SUM(P28,P32) -> 1377265708374
D28: 事 業 費 用 | H28: =SUM(G29:G33) -> 1377265708374 | L28: 事 業 収 益 | P28: =SUM(O29:O31) -> 1377265708374
E29: 基礎年金拠出金 | G29: 1347301526575 | M29: 基礎年金拠出金 負担金 | O29: 1347301526575
E30: 基礎年金交付金 支払金 | G30: 29964181799 | M30: 基礎年金交付金 | O30: 29964181799
E31: 雑費 | G31: 0 | M31: 雑収入 | O31: 0
L32: 事業外収益 | P32: =O33 -> 0
I33: 0 | M33: 利息及び配当金 | O33: 0
D35: 次年度繰越基礎 年金拠出金 負担金充当金 | H35: 0 | Q35: =P36 -> 0
L36: 前年度繰越 基礎年金拠出金 負担金充当金 | P36: 0
B38: 合 計 | I38: =SUM(I27:I36) -> 1377265708374 | J38: 合 計 | Q38: =SUM(Q27:Q36) -> 1377265708374
B39: =B17 -> 令 和 ５ 年 度 | I39: 1396256467577 | J39: =B39 -> 令 和 ５ 年 度 | Q39: =I39 -> 1396256467577
B40: =B18 -> 令 和 ４ 年 度 | I40: 1562975728130 | J40: =B40 -> 令 和 ４ 年 度 | Q40: =I40 -> 1562975728130

Sheet 9,10
B2: ９ 厚生年金拠出金経理貸借対照表
Q3: （単位 千円）
B5: 借 方 | I5: 金 額 | J5: 貸 方 | Q5: 金 額
C7: 流 動 資 産 | I7: 0 | K7: 流 動 負 債 | Q7: 0
D8: 普通預金 | H8: 0 | L8: 厚生年金拠出金 負担金充当金 | P8: 0
B16: 合 計 | I16: 0 | J16: 合 計 | Q16: 0
B17: ='1,2'!B20 -> 令 和 ５ 年 度 | I17: 0 | J17: =B17 -> 令 和 ５ 年 度 | Q17: 0
B18: ='1,2'!B21 -> 令 和 ４ 年 度 | I18: 0 | J18: =B18 -> 令 和 ４ 年 度 | Q18: 0
B22: １０ 厚生年金拠出金経理損益計算書
Q23: （単位 千円）
B25: 損 失 | I25: 金 額 | J25: 利 益 | Q25: 金 額
C27: 経 常 費 用 | I27: =H28 -> 6798061815865 | K27: 経 常 収 益 | Q27: =SUM(P28,P32) -> 6798061815865
D28: 事 業 費 用 | H28: =SUM(G29:G32) -> 6798061815865 | L28: 事 業 収 益 | P28: =SUM(O29:O31) -> 6798061815865
E29: 厚生年金拠出金 | G29: 3197556526707 | M29: 厚生年金拠出金 負担金 | O29: 3197556526707
E30: 厚生年金交付金 支払金 | G30: 3600505289158 | M30: 厚生年金交付金 | O30: 3600505289158
E31: 雑費 | G31: 0 | M31: 雑収入 | O31: 0
L32: 事業外収益 | P32: 0
I33: 0 | M33: 利息及び配当金 | O33: 0
D34: 次年度繰越厚生 年金拠出金 負担金充当金 | H34: 0
Q35: 0
L36: 前年度繰越 厚生年金拠出金 負担金充当金 | P36: 0
B38: 合 計 | I38: =SUM(I27:I36) -> 6798061815865 | J38: 合 計 | Q38: =SUM(Q27:Q36) -> 6798061815865
B39: =B17 -> 令 和 ５ 年 度 | I39: 6435439056688 | J39: =B39 -> 令 和 ５ 年 度 | Q39: =I39 -> 6435439056688
B40: =B18 -> 令 和 ４ 年 度 | I40: 6527306864830 | J40: =B40 -> 令 和 ４ 年 度 | Q40: =I40 -> 6527306864830

Sheet 11,12
B2: １１ 業務経理貸借対照表
Q3: （単位 千円）
B5: 借 方 | I5: 金 額 | J5: 貸 方 | Q5: 金 額
C7: 流 動 資 産 | I7: =SUM(H8:H14) -> 6030998717 | K7: 流 動 負 債 | Q7: =SUM(P8:P10) -> 3671224439
D8: 普通預金 | H8: 5996074645 | L8: 未払金 | P8: 263655
D9: 定期預金 | H9: 0 | L9: 未払費用 | P9: 3664373869
D10: 立替金 | H10: 127701 | L10: 預り金 | P10: 6586915
D11: 仮払金 | H11: 0
D12: 前払費用 | H12: 34520652 | K12: 固 定 負 債 | Q12: =P13 -> 317689110
D13: 未収収益 | H13: 0 | L13: 引 当 金 | P13: =O14 -> 317689110
D14: 未収金 | H14: 275719 | M14: 退職給与引当金 | O14: 317689110
C16: 固 定 資 産 | I16: =SUM(H17,H19,H21) -> 102665880 | K16: 剰 余 金 | Q16: =P17 -> 2144751048
D17: 有形固定資産 | H17: =SUM(G18:G18) -> 26309097 | L17: 利益剰余金 | P17: 2144751048
E18: 器具及び備品 | G18: 26309097
D19: 無形固定資産 | H19: =G20 -> 1253056
E20: 電話加入権 | G20: 1253056
D21: 投資その他の資産 | H21: =G22 -> 75103727
E22: 敷金及び保証金 | G22: 75103727
B24: 合 計 | I24: =SUM(I7:I22) -> 6133664597 | J24: 合 計 | Q24: =SUM(Q7:Q22) -> 6133664597
B25: ='1,2'!B20 -> 令 和 ５ 年 度 | I25: 5932952896 | J25: =B25 -> 令 和 ５ 年 度 | Q25: =I25 -> 5932952896
B26: ='1,2'!B21 -> 令 和 ４ 年 度 | I26: 5931608111 | J26: =B26 -> 令 和 ４ 年 度 | Q26: =I26 -> 5931608111
B30: １２ 業務経理損益計算書
Q31: （単位 千円）
B33: 損 失 | I33: 金 額 | J33: 利 益 | Q33: 金 額
C35: 経 常 費 用 | I35: =SUM(H36:H58) -> 6378035742 | K35: 経 常 収 益 | Q35: =SUM(P36,P39) -> 3315873711
D36: 事 業 費 用 | H36: =SUM(G37:G57) -> 6378035742 | L36: 事 業 収 益 | P36: =SUM(O37:O38) -> 3315873711
E37: 役員報酬 | G37: 73889059 | M37: 組合分担金 | O37: 3315872000
E38: 職員給与 | G38: 770024573 | M38: 雑収入 | O38: 1711
E39: 厚生費 | G39: 1883683 | L39: 事業外収益 | P39: 0
E40: 旅費 | G40: 15890836 | M40: 利息及び配当金 | O40: 0
E41: 事務費 | G41: 13701585 | M41: 償還差益 | O41: 0
E42: 賃金 | G42: 0
E43: 委託費 | G43: 4778679507 | K43: 繰 入 金 | Q43: =SUM(P44:P47) -> 2717988000
E44: 委託管理費 | G44: 11123910 | L44: 長期給付経理 より繰入 | P44: 0
E45: 光熱水料 | G45: 4715611 | L45: 厚生年金保険給付 調整経理より繰入 | P45: 2074224000
E46: 修繕費 | G46: 709500 | L46: 退職等年金給付 調整経理より繰入 | P46: 437240000
E47: 賃借料 | G47: 360074990 | L47: 経過的長期給付 調整経理より繰入 | P47: 206524000
E48: 保険料 | G48: 238560
E49: 調査研究費 | G49: 165571333
E50: 普及費 | G50: 20046595 | K50: 特 別 利 益 | Q50: 0
...
