Workbook

Sheet 1,2
B2: １ 災害給付経理貸借対照表
Q3: （単位 千円）
B5: 借 方 | I5: 金 額 | J5: 貸 方 | Q5: 金 額
C7: 流 動 資 産 | I7: =SUM(H8:H11) -> 8431822596 | K7: 流 動 負 債 | Q7: =SUM(P8) -> 41071624
D8: 普通預金 | H8: 2352702628 | L8: 預 り 金 | P8: 41071624
D9: 定期預金 | H9: 6060000000
D10: 仮払金 | H10: 0 | K10: 剰 余 金 | Q10: =P11 -> 28390200972
D11: 未収収益 | H11: 19119968 | L11: 災害給付積立金 | P11: 28390200972
C13: 固 定 資 産 | I13: =H14 -> 19999450000
D14: 投資その他の資産 | H14: =G15 -> 19999450000
E15: 投資有価証券 | G15: 19999450000
B17: 合 計 | I17: =SUM(I7:I16) -> 28431272596 | J17: 合 計 | Q17: =SUM(Q7:Q15) -> 28431272596
B18: 令 和 ５ 年 度 | I18: 27143854859 | J18: =B18 -> 令 和 ５ 年 度 | Q18: =I18 -> 27143854859
B19: 令 和 ４ 年 度 | I19: 25503135134 | J19: =B19 -> 令 和 ４ 年 度 | Q19: =I19 -> 25503135134
B23: ２ 災害給付経理損益計算書
Q24: （単位 千円）
B26: 損 失 | I26: 金 額 | J26: 利 益 | Q26: 金 額
C28: 経 常 費 用 | I28: =H29 -> 602437000 | K28: 経 常 収 益 | Q28: =SUM(P29:P31) -> 1883516678
D29: 事 業 費 用 | H29: =SUM(G30:G31) -> 602437000 | L29: 事 業 収 益 | P29: =O30 -> 1800428286
E30: 組合交付金 | G30: 602437000 | M30: 組合払込金 | O30: 1800428286
E31: 償還差損 | G31: 0 | L31: 運 用 収 入 | P31: =SUM(O32:O34) -> 83088392
M32: 利息及び配当金 | O32: 82833392
C33: 繰 入 金 | I33: 0 | M33: 有価証券売却益 | O33: 0
D34: 保健給付経理へ繰入 | H34: 0 | M34: 償還差益 | O34: 255000
C36: 特 別 損 失 | I36: 0 | K36: 特 別 利 益 | Q36: =P37 -> 0
D37: 前期損益修正損 | H37: 0 | L37: 前期損益修正益 | P37: 0
C39: 当 期 利 益 金 | I39: 1281079678 | K39: 当 期 損 失 金 | Q39: 0
B41: 合 計 | I41: =SUM(I28:I40) -> 1883516678 | J41: 合 計 | Q41: =SUM(Q28:Q40) -> 1883516678
B42: =B18 -> 令 和 ５ 年 度 | I42: 1784373425 | J42: =B42 -> 令 和 ５ 年 度 | Q42: =I42 -> 1784373425
B43: =B19 -> 令 和 ４ 年 度 | I43: 1589118772 | J43: =B43 -> 令 和 ４ 年 度 | Q43: =I43 -> 1589118772

Sheet 3,4
B2: ３ 保健給付経理貸借対照表
Q3: （単位 千円）
B5: 借 方 | I5: 金 額 | J5: 貸 方 | Q5: 金 額
C7: 流 動 資 産 | I7: =SUM(H8:H13) -> 1883076239 | K7: 流 動 負 債 | Q7: =SUM(P8:P10) -> 24166988
D8: 普通預金 | H8: 32033593 | L8: 未払金 | P8: 24079923
D9: 定期預金 | H9: 1850000000 | L9: 未払費用 | P9: 87065
D10: 前払費用 | H10: 660143 | L10: 預り金 | P10: 0
D11: 立替金 | H11: 0
D12: 未収収益 | H12: 382503 | K12: 固 定 負 債 | Q12: =SUM(P13,P16) -> 29931426
D13: 未収金 | H13: 0 | L13: 引 当 金 | P13: =SUM(O14:O15) -> 29931426
M14: 退職給与引当金 | O14: 29931426
C15: 固 定 資 産 | I15: 0 | M15: 電算導入引当金 | O15: 0
D16: 有形固定資産 | H16: 0 | L16: 長 期 借 入 金 | P16: 0
E17: 器具及び備品 | G17: 0
K18: 剰 余 金 | Q18: =P19 -> 1828977825
L19: 利益剰余金 | P19: =O20 -> 1828977825
M20: 積立金 | O20: 1828977825
B22: 合 計 | I22: =SUM(I7:I21) -> 1883076239 | J22: 合 計 | Q22: =SUM(Q7:Q21) -> 1883076239
B23: ='1,2'!B18 -> 令 和 ５ 年 度 | I23: 1821547750 | J23: =B23 -> 令 和 ５ 年 度 | Q23: =I23 -> 1821547750
B24: ='1,2'!B19 -> 令 和 ４ 年 度 | I24: 1767447297 | J24: =B24 -> 令 和 ４ 年 度 | Q24: =I24 -> 1767447297
B29: ４ 保健給付経理損益計算書
Q30: （単位 千円）
B32: 損 失 | I32: 金 額 | J32: 利 益 | Q32: 金 額
C34: 経 常 費 用 | I34: =SUM(H35:H54) -> 138548302 | K34: 経 常 収 益 | Q34: =SUM(P35,P38) -> 252018517
D35: 事 業 費 用 | H35: =SUM(G36:G53) -> 138548302 | L35: 事 業 収 益 | P35: =SUM(O36:O37) -> 248428686
E36: 職員給与 | G36: 13457118 | M36: 組合分担金 | O36: 247846816
E37: 厚生費 | G37: 27520 | M37: 雑収入 | O37: 581870
E38: 旅費 | G38: 585023 | L38: 事業外収益 | P38: =SUM(O39:O40) -> 3589831
E39: 事務費 | G39: 675278 | M39: 利息及び配当金 | O39: 3589831
E40: 光熱水料 | G40: 0 | M40: 雑益 | O40: 0
E41: 賃借料 | G41: 121740
E42: 調査研究費 | G42: 65330796 | K42: 繰 入 金 | Q42: =P43+P45 -> 0
E43: 普及費 | G43: 2512190 | L43: 災害給付経理 より繰入 | P43: 0
E44: 諸謝金 | G44: 408439
E45: 食糧費 | G45: 0 | L45: 団体信用生命保険 経理より相互繰入 | P45: 0
E46: 組合交付金 | G46: 0
E47: 施設経営推進 事業費 | G47: 3245000 | K47: 当 期 損 失 金 | Q47: 0
E48: 災害見舞品費 | G48: 42880000
E49: 電算導入費 | G49: 0
E50: 負担金 | G50: 2388311
...

Sheet 5,6
B2: ５ 厚生年金保険経理貸借対照表
Q3: （単位 千円）
B5: 借 方 | I5: 金 額 | J5: 貸 方 | Q5: 金 額
C7: 流 動 資 産 | I7: =SUM(H8:H12) -> 907453372805 | K7: 流 動 負 債 | Q7: =SUM(P8:P10) -> 3103258947
D8: 普通預金 | H8: 157654756185 | L8: 未払金 | P8: 3054696017
D9: 定期預金 | H9: 227950000000 | L9: 預り金 | P9: 48562930
D10: 立替金 | H10: 0 | L10: 仮受金 | P10: 0
D11: 未収収益 | H11: 437862434161
D12: 未収金 | H12: 83986182459 | K12: 剰 余 金 | Q12: =P13+P14 -> 5804481202137
L13: 資本余剰金 | P13: 0
C14: 固 定 資 産 | I14: =H15 -> 4900131088279 | L14: 厚生年金保険給付 組合積立金 | P14: 5804481202137
D15: 投資その他の資産 | H15: =SUM(G16:G19) -> 4900131088279
E16: 信託 | G16: 4900131088279
E17: 生命保険 | G17: 0
E18: 長期貸付金 | G18: 0
E19: 構成組合預託金 | G19: 0
B21: 合 計 | I21: =SUM(I7:I20) -> 5807584461084 | J21: 合 計 | Q21: =SUM(Q7:Q20) -> 5807584461084
B22: ='1,2'!B18 -> 令 和 ５ 年 度 | I22: 5565705911595 | J22: =B22 -> 令 和 ５ 年 度 | Q22: =I22 -> 5565705911595
B23: ='1,2'!B19 -> 令 和 ４ 年 度 | I23: 5238341953240 | J23: =B23 -> 令 和 ４ 年 度 | Q23: =I23 -> 5238341953240
B28: ６ 厚生年金保険経理損益計算書
Q29: （単位 千円）
B31: 損 失 | I31: 金 額 | J31: 利 益 | Q31: 金 額
C33: 経 常 費 用 | I33: =H34 -> 3333679305045 | K33: 経 常 収 益 | Q33: =SUM(P33:P46) -> 3578655961544
D34: 事 業 費 用 | H34: =SUM(G35:G49) -> 3333679305045 | L34: 事 業 収 益 | P34: =SUM(O35:O41) -> 3123769864423
E35: 老齢厚生給付 | G35: 533478828783 | M35: 構成組合 負担金払込金 | O35: 1010703640248
E36: 退職共済給付 | G36: 652654621436 | M36: 構成組合員 保険料払込金 | O36: 691595589461
E37: 障害厚生給付 | G37: 6112651835 | M37: 退職一時金等 返還金 | O37: 517986470
E38: 障害共済給付 | G38: 6822001060 | M38: 移換金 | O38: 1408875442511
E39: 遺族厚生給付 | G39: 53716290480 | M39: 厚生年金交付金 | O39: 12031715513
E40: 遺族共済給付 | G40: 207495187516 | M40: 基礎年金交付金 | O40: 45490220
E41: 短期在留 脱退一時金 | G41: 601362 | M41: 雑収入 | O41: 0
E42: 連合会払込金 | G42: 112648274000 | L42: 運 用 収 入 | P42: =SUM(O43:O45) -> 454866352108
E43: 信託等売買 手数料 | G43: 0 | M43: 利息及び配当金 | O43: 662337403
E44: 厚生年金拠出金 負担金 | G44: 1215722344463 | M44: 償還差益 | O44: 0
E45: 基礎年金拠出金 負担金 | G45: 535825903200 | M45: 信託の運用益 | O45: 454204014705
E46: 信託の運用損 | G46: 9100468192 | K46: 事 業 外 収 益 | P46: =O47 -> 19745013
E47: 未収返還金 償却額 | G47: 99515427 | M47: 賠償金 | O47: 19745013
E48: 信託等売買 手数料 | G48: 0
E49: 雑費 | G49: 2617291
Q50: =P51 -> 5562492103552
...

Sheet 7,8
B2: ７ 退職等年金経理貸借対照表
Q3: （単位 千円）
B5: 借 方 | I5: 金 額 | J5: 貸 方 | Q5: 金 額
C7: 流 動 資 産 | I7: =SUM(H8:H11) -> 12369277478 | K7: 流 動 負 債 | Q7: =P8+P9+P10 -> 5360256
D8: 普通預金 | H8: 793109932 | L8: 未払金 | P8: 225167
D9: 定期預金 | H9: 0 | L9: 預り金 | P9: 5135089
D10: 未収収益 | H10: 4942034545 | L10: 仮受金 | P10: 0
D11: 未収金 | H11: 6634133001 | K11: 剰 余 金 | Q11: =P12+P13 -> 982294830010
L12: 資本余剰金 | P12: 0
C13: 固 定 資 産 | I13: =H14 -> 969930912788 | L13: 退職等年金給付 組合積立金 | P13: 982294830010
D14: 投資その他の資産 | H14: =SUM(G15:G18) -> 969930912788
E15: 信託 | G15: 928339239803
E16: 生命保険 | G16: 0
E17: 長期貸付金 | G17: 0
E18: 構成組合預託金 | G18: 41591672985
B20: 合 計 | I20: =SUM(I7:I19) -> 982300190266 | J20: 合 計 | Q20: =SUM(Q7:Q19) -> 982300190266
B21: ='1,2'!B18 -> 令 和 ５ 年 度 | I21: 664563648883 | J21: =B21 -> 令 和 ５ 年 度 | Q21: 873935687247
B22: ='1,2'!B19 -> 令 和 ４ 年 度 | I22: 560873911039 | J22: =B22 -> 令 和 ４ 年 度 | Q22: 768466532132
B26: ８ 退職等年金経理損益計算書
Q27: （単位 千円）
B29: 損 失 | I29: 金 額 | J29: 利 益 | Q29: 金 額
C31: 経 常 費 用 | I31: =H32 -> 9506861107 | K31: 経 常 収 益 | Q31: =SUM(P32:P40) -> 119016718340
D32: 事 業 費 用 | H32: =SUM(G33:G39) -> 9506861107 | L32: 事 業 収 益 | P32: =SUM(O33:O36) -> 113663225733
E33: 退職給付 | G33: 3770031476 | M33: 構成組合 負担金払込金 | O33: 56803682464
E34: 公務障害給付 | G34: 43200091 | M34: 構成組合 掛金払込金 | O34: 56859543269
E35: 公務遺族給付 | G35: 53386540 | M35: 移換金 | O35: 0
E36: 脱退一時金 | G36: 0 | M36: 雑収入 | O36: 0
E37: 連合会払込金 | G37: 5640243000 | L37: 運 用 収 入 | P37: =O38+O40 -> 5353492607
E38: 信託等売買 手数料 | G38: 0 | M38: 利息及び配当金 | O38: 412104272
E39: 雑費 | G39: 0 | M39: 償還差益 | O39: 0
M40: 信託の運用益 | O40: 4941388335
C41: 繰 入 金 | I41: =H42 -> 1135441540
D42: 業務経理へ繰入 | H42: 1135441540
Q43: =P44 -> 873920406406
I44: =H45 -> 982294830010 | L44: 前年度繰越退職等 年金給付組合積立金 | P44: 873920406406
D45: 次年度繰越退職等 年金給付組合積立金 | H45: 982294830010
K46: 特 別 利 益 | Q46: =P47 -> 138202
C47: 特 別 損 失 | I47: =H48 -> 130291 | L47: 前期損益修正益 | P47: 138202
D48: 前期損益修正損 | H48: 130291
K49: 当 期 損 失 金 | Q49: 0
...

Sheet 9,10
B2: ９ 経過的長期経理貸借対照表
Q3: （単位 千円）
B5: 借 方 | I5: 金 額 | J5: 貸 方 | Q5: 金 額
C7: 流 動 資 産 | I7: =SUM(H8:H11) -> 621571146620 | K7: 流 動 負 債 | Q7: =SUM(P8:P9) -> 288119
D8: 普通預金 | H8: 55767187710 | L8: 未払金 | P8: 4835
D9: 定期預金 | H9: 6670000000 | L9: 預り金 | P9: 283284
D10: 未収収益 | H10: 555216189786
D11: 未収金 | H11: 3917769124 | K11: 剰 余 金 | Q11: =P12+P13 -> 5860219860428
L12: 長期給付積立金 | P12: 0
C13: 固 定 資 産 | I13: =H14 -> 5238649001927 | L13: 経過的長期給付 組合積立金 | P13: 5860219860428
D14: 投資その他の資産 | H14: =SUM(G15:G18) -> 5238649001927
E15: 信託 | G15: 5049680214877
E16: 生命保険 | G16: 0
E17: 長期貸付金 | G17: 0
E18: 構成組合預託金 | G18: 188968787050
B20: 合 計 | I20: =SUM(I7:I19) -> 5860220148547 | J20: 合 計 | Q20: =SUM(Q7:Q19) -> 5860220148547
B21: ='1,2'!B18 -> 令 和 ５ 年 度 | I21: 5516244364824 | J21: =B21 -> 令 和 ５ 年 度 | Q21: =I21 -> 5516244364824
B22: ='1,2'!B19 -> 令 和 ４ 年 度 | I22: 5177793035658 | J22: =B22 -> 令 和 ４ 年 度 | Q22: =I22 -> 5177793035658
B26: １０ 経過的長期経理損益計算書
Q27: （単位 千円）
B29: 損 失 | I29: 金 額 | J29: 利 益 | Q29: 金 額
C31: 経 常 費 用 | I31: =H32 -> 228185580687 | K31: 経 常 収 益 | Q31: =SUM(P31:P43) -> 572461268176
D32: 事 業 費 用 | H32: =SUM(G33:G42) -> 228185580687 | L32: 事 業 収 益 | P32: =SUM(O33:O38) -> 7965296042
E33: 退職共済給付 | G33: 197248646935 | M33: 構成組合 負担金払込金 | O33: 7847981627
E34: 障害共済給付 | G34: 2210985447 | M34: 退職一時金等 返還金 | O34: 53550498
E35: 遺族共済給付 | G35: 28522161632 | M35: 移換金 | O35: 0
E36: 恩給組合 条例給付 | G36: 78236971 | M36: 基礎年金交付金 | O36: 20668087
E37: 旧市町村共済法給付 | G37: 60798572 | M37: 雑収入 | O37: 43095830
E38: 連合会払込金 | G38: 0 | M38: 掛金 | O38: 0
E39: 信託の運用損 | G39: 0 | L39: 運 用 収 入 | P39: =SUM(O40:O42) -> 564495972134
E40: 未収返還金 償却額 | G40: 64436654 | M40: 利息及び配当金 | O40: 629014727
E41: 信託等売買 手数料 | G41: 0 | M41: 償還差益 | O41: 0
E42: 雑費 | G42: 314476 | M42: 信託の運用益 | O42: 563866957407
L43: 事業外収益 | P43: 0
C44: 繰 入 金 | I44: =H45 -> 299949856 | M44: 賠償金 | O44: 0
D45: 業務経理へ繰入 | H45: 299949856 | M45: 雑益 | O45: 0
I47: =H48 -> 5860219860428 | Q47: =P48 -> 5516244110303
D48: 次年度繰越経過的 長期給付組合積立金 | H48: 5860219860428 | L48: 前年度繰越経過的 長期給付組合積立金 | P48: 5516244110303
C50: 特 別 損 失 | I50: =H51 -> 219092 | K50: 特 別 利 益 | Q50: =P51 -> 231584
D51: 前期損益修正損 | H51: 219092 | L51: 前期損益修正益 | P51: 231584
...

Sheet 11,12
B2: １１ 業務経理貸借対照表 | Q2: （単位 千円）
B5: 借 方 | I5: 金 額 | J5: 貸 方 | Q5: 金 額
C7: 流 動 資 産 | I7: =SUM(H8:H13) -> 5626798784 | K7: 流 動 負 債 | Q7: =SUM(P8:P10) -> 1318003569
D8: 普通預金 | H8: 430743574 | L8: 未払金 | P8: 1308188960
D9: 定期預金 | H9: 4800000000 | L9: 未払費用 | P9: 3824808
D10: 立替金 | H10: 961247 | L10: 預り金 | P10: 5989801
D11: 前払費用 | H11: 1454891
D12: 未収収益 | H12: 2652588 | K12: 固 定 負 債 | Q12: =SUM(P13:P15) -> 873722824
D13: 未収金 | H13: 390986484 | L13: 長期借入金 | P13: 0
L14: 土地移換償還金 | P14: 0
C15: 固 定 資 産 | I15: =H16+H21 -> 3040936485 | L15: 引 当 金 | P15: =SUM(O16:O17) -> 873722824
D16: 有形固定資産 | H16: =SUM(G17:G19) -> 3040422485 | M16: 退職給与引当金 | O16: 785184497
E17: 建物 | G17: 434234651 | M17: 特別修繕引当金 | O17: 88538327
E18: 器具及び備品 | G18: 11187834
E19: 土地 | G19: 2595000000 | K19: 剰 余 金 | Q19: =SUM(P20:P22) -> 6476008876
L20: 資本剰余金 | P20: =O21 -> 3990000000
D21: 投資その他の資産 | H21: =G22 -> 514000 | M21: 別途積立金 | O21: 3990000000
E22: 敷金及び保証金 | G22: 514000 | L22: 利益剰余金 | P22: =O23 -> 2486008876
M23: 積立金 | O23: 2486008876
B25: 合 計 | I25: =SUM(I7:I24) -> 8667735269 | J25: 合 計 | Q25: =SUM(Q7:Q24) -> 8667735269
B26: ='1,2'!B18 -> 令 和 ５ 年 度 | I26: 8334245724 | J26: =B26 -> 令 和 ５ 年 度 | Q26: =I26 -> 8334245724
B27: ='1,2'!B19 -> 令 和 ４ 年 度 | I27: 8685372170 | J27: =B27 -> 令 和 ４ 年 度 | Q27: =I27 -> 8685372170
H30: 988579174
B33: １２ 業務経理損益計算書
Q34: （単位 千円）
B36: 損 失 | I36: 金 額 | J36: 利 益 | Q36: 金 額
C38: 経 常 費 用 | I38: =SUM(H39:H64) -> 11775757825 | K38: 経 常 収 益 | Q38: =SUM(P39:P45) -> 7283896086
D39: 事 業 費 用 | H39: =SUM(G40:G61) -> 11772070825 | L39: 事 業 収 益 | P39: =SUM(O40:O43) -> 7268177592
E40: 役員報酬 | G40: 36313000 | M40: 負担金 | O40: 40376169
E41: 職員給与 | G41: 883861702 | M41: 組合分担金 | O41: 847204579
E42: 厚生費 | G42: 1812960 | M42: 構成組合事務費 負担金払込金 | O42: 6358861863
E43: 旅費 | G43: 9529356 | M43: 雑収入 | O43: 21734981
E44: 事務費 | G44: 626762288 | L44: 事業外収益 | P44: =SUM(O45:O46) -> 15718494
E45: 賃金 | G45: 46148205 | M45: 利息及び配当金 | O45: 8501052
E46: 委託費 | G46: 2018893575 | M46: 雑益 | O46: 7217442
E47: 光熱水料 | G47: 23095200
E48: 修繕費 | G48: 357200 | K48: 繰 入 金 | Q48: =SUM(P49:P52) -> 4423203454
E49: 賃借料 | G49: 550903716 | L49: 長期経理より繰入 | P49: 0
E50: 調査研究費 | G50: 26275572 | L50: 厚生年金保険経理 より繰入 | P50: 2987812058
E51: 普及費 | G51: 62090596 | L51: 退職等年金経理 より繰入 | P51: 1135441540
...

Sheet 13,14
B2: １３ 宿泊経理貸借対照表
Q3: （単位 千円）
B5: 借 方 | I5: 金 額 | J5: 貸 方 | Q5: 金 額
C7: 流 動 資 産 | I7: =SUM(H8:H15) -> 705032863 | K7: 流 動 負 債 | Q7: =SUM(P8:P13) -> 279861177
D8: 現金 | H8: 2839291 | L8: 未払消費税 | P8: 0
D9: 普通預金 | H9: 482589556 | L9: 未払金 | P9: 258453845
D10: 定期預金 | H10: 0 | L10: 未払費用 | P10: 30672
D11: 貯蔵品 | H11: 0 | L11: 前受金 | P11: 2203740
D12: 立替金 | H12: 23430 | L12: 預り金 | P12: 308900
D13: 前払費用 | H13: 882928 | L13: 受入保証金 | P13: 18864020
D14: 未収収益 | H14: 78732 | K14: 固 定 負 債 | Q14: =SUM(P15:P16) -> 957398664
D15: 未収金 | H15: 218618926 | L15: 長 期 借 入 金 | P15: 424600000
L16: 引 当 金 | P16: 532798664
C17: 固 定 資 産 | I17: =SUM(H18,H25) -> 3578637396 | M17: 退職給与引当金 | O17: 8798664
D18: 有形固定資産 | H18: =SUM(G19:G24) -> 3578637396 | M18: 特別修繕引当金 | O18: 524000000
E19: 建物 | G19: 1678575803 | K19: 剰 余 金 | Q19: =P20 -> 3046410418
E20: 構築物 | G20: 23547415 | L20: 利益剰余金 | P20: =SUM(O21:O22) -> 3046410418
E21: 機械及び装置 | G21: 1046329 | M21: 欠損補てん 積立金 | O21: 102707894
E22: 車両及び運搬具 | G22: 2 | M22: 積立金 | O22: 2943702524
E23: 器具及び備品 | G23: 32263706
E24: 土地 | G24: 1843204141
D25: 投資その他の資産 | H25: 0
E26: 土地移換金 | G26: 0
B28: 合 計 | I28: =SUM(I7:I27) -> 4283670259 | J28: 合 計 | Q28: =SUM(Q7:Q27) -> 4283670259
B29: ='1,2'!B18 -> 令 和 ５ 年 度 | I29: 4252439567 | J29: =B29 -> 令 和 ５ 年 度 | Q29: =I29 -> 4252439567
B30: ='1,2'!B19 -> 令 和 ４ 年 度 | C30: ='1,2'!C19 -> 0 | D30: ='1,2'!D19 -> 0 | E30: ='1,2'!E19 -> 0 | F30: ='1,2'!F19 -> 0 | G30: ='1,2'!G19 -> 0 | H30: ='1,2'!H19 -> 0 | I30: 4247288864 | J30: =B30 -> 令 和 ４ 年 度 | Q30: =I30 -> 4247288864
H33: 4278682164
B36: １４ 宿泊経理損益計算書
Q37: （単位 千円）
B39: 損 失 | I39: 金 額 | J39: 利 益 | Q39: 金 額
C41: 経 常 費 用 | I41: =SUM(H62,H64,H42) -> 1210339296 | K41: 経 常 収 益 | Q41: =SUM(P42:P48) -> 1292704292
D42: 事 業 費 用 | H42: =SUM(G43:G61) -> 1151617601 | L42: 事 業 収 益 | P42: =SUM(O43:O45) -> 1290156053
E43: 旅費 | G43: 0 | M43: 施設収入 | O43: 1100842554
E44: 職員給与 | G44: 5795383 | M44: 賃貸料 | O44: 137275560
E45: 厚生費 | G45: 31560 | M45: 雑収入 | O45: 52037939
E46: 事務費 | G46: 64872 | L46: 補助金等収入 | P46: =SUM(O47) -> 1980000
E47: 事業用消耗品費 | G47: 29308826 | M47: 交付金 | O47: 1980000
E48: 飲食材料費 | G48: 74557128 | L48: 事業外収益 | P48: =SUM(O49:O52) -> 568239
E49: 委託費 | G49: 718107068 | M49: 利息及び配当金 | O49: 568239
E50: 委託管理費 | G50: 52843742
...

Sheet 15,16
B2: １５ 団体信用生命保険経理貸借対照表
Q3: （単位 千円）
B5: 借 方 | I5: 金 額 | J5: 貸 方 | Q5: 金 額
C7: 流 動 資 産 | I7: =SUM(H8:H13) -> 736711666 | K7: 流 動 負 債 | Q7: =SUM(P8:P12) -> 35004827
D8: 普通預金 | H8: 734439425 | L8: 未払消費税 | P8: 0
D9: 定期預金 | H9: 0 | L9: 未払金 | P9: 199601
D10: 仮払金 | H10: 0 | L10: 未払費用 | P10: 10067199
D11: 前払費用 | H11: 0 | L11: 前受金 | P11: 17966181
D12: 未収収益 | H12: 947716 | L12: 預り金 | P12: 6771846
D13: 未収金 | H13: 1324525
K14: 固 定 負 債 | Q14: =P15 -> 64985486
C15: 固 定 資 産 | I15: =SUM(H16,H18) -> 2899767000 | L15: 引 当 金 | P15: =O16 -> 64985486
D16: 投資その他の資産 | H16: =SUM(G17:G18) -> 2899767000 | M16: 退職給与引当金 | O16: 64985486
E17: 投資有価証券 | G17: 2899767000
E18: 長期貸付金 | G18: 0 | K18: 剰 余 金 | Q18: =P19 -> 3536488353
L19: 団信保険積立金 | P19: 3536488353
B21: 合 計 | I21: =SUM(I7:I20) -> 3636478666 | J21: 合 計 | Q21: =SUM(Q7:Q20) -> 3636478666
B22: ='1,2'!B18 -> 令 和 ５ 年 度 | I22: 3710768840 | J22: =B22 -> 令 和 ５ 年 度 | Q22: =I22 -> 3710768840
B23: ='1,2'!B19 -> 令 和 ４ 年 度 | C23: ='1,2'!C19 -> 0 | D23: ='1,2'!D19 -> 0 | E23: ='1,2'!E19 -> 0 | F23: ='1,2'!F19 -> 0 | G23: ='1,2'!G19 -> 0 | H23: ='1,2'!H19 -> 0 | I23: 3769862569 | J23: =B23 -> 令 和 ４ 年 度 | Q23: =I23 -> 3769862569
B26: １６ 団体信用生命保険経理損益計算書
Q27: （単位 千円）
B29: 損 失 | I29: 金 額 | J29: 利 益 | Q29: 金 額
C31: 経 常 費 用 | I31: =SUM(H32:H49) -> 177364862 | K31: 経 常 収 益 | Q31: =SUM(P32,P37) -> 107500931
D32: 事 業 費 用 | H32: =SUM(G33:G47) -> 177364862 | L32: 事 業 収 益 | P32: =SUM(O33:O36) -> 100148667
E33: 団信保険料 | G33: 125642214 | M33: 団信保険料 負担金 | O33: 63813680
E34: 団信保険料 負担金返還金 | G34: 1704632 | M34: 団信配当金 | O34: 35695406
E35: 職員給与 | G35: 24458380 | M35: 保険手数料 | O35: 573386
E36: 厚生費 | G36: 38780 | M36: 雑収入 | O36: 66195
E37: 事務費 | G37: 1917436 | L37: 事業外収益 | P37: =SUM(O38:O39) -> 7352264
E38: 賃金 | G38: 0 | M38: 利息及び配当金 | O38: 7352264
E39: 委託費 | G39: 6103811 | M39: 償還差益 | O39: 0
E40: 光熱水料 | G40: 9476280
E41: 賃借料 | G41: 34100 | K41: 当 期 損 失 金 | Q41: 69863931
E42: 調査研究費 | G42: 2400000
E43: 普及費 | G43: 0
E44: 食糧費 | G44: 0
E45: 負担金 | G45: 4345444
E46: 消費税 | G46: 1231025
E47: 雑費 | G47: 12760
D48: 事 業 外 費 用 | H48: 0
...

Sheet 17,18
B2: １７ 貸付債権共同保全経理貸借対照表
Q3: （単位 千円）
B5: 借 方 | I5: 金 額 | J5: 貸 方 | Q5: 金 額
C7: 流 動 資 産 | I7: =SUM(H8:H12) -> 1850064245 | K7: 流 動 負 債 | Q7: =SUM(P8:P10) -> 28199954
D8: 普通預金 | H8: 1471295073 | L8: 未払金 | P8: 450033
D9: 定期預金 | H9: 0 | L9: 未払費用 | P9: 27744236
D10: 前払費用 | H10: 0 | L10: 預り金 | P10: 5685
D11: 未収収益 | H11: 617038
D12: 未収金 | H12: 378152134 | K12: 固 定 負 債 | Q12: =P13 -> 403545954
L13: 引当金 | P13: =SUM(O14:O15) -> 403545954
C14: 固 定 資 産 | I14: =SUM(H15) -> 1624583000 | M14: 退職給与引当金 | O14: 25429095
C15: 投資その他の資産 | H15: =SUM(G16:G17) -> 1624583000 | M15: 譲渡貸付債権 保全引当金 | O15: 378116859
D16: 投資有価証券 | G16: 1199983000
D17: 長期貸付金 | G17: 424600000 | K17: 剰 余 金 | Q17: =P18 -> 3042901337
L18: 保全積立金 | P18: 3042901337
B20: 合 計 | I20: =SUM(I7:I19) -> 3474647245 | J20: 合 計 | Q20: =SUM(Q7:Q19) -> 3474647245
B21: ='1,2'!B18 -> 令 和 ５ 年 度 | I21: 3593790377 | J21: =B21 -> 令 和 ５ 年 度 | Q21: =I21 -> 3593790377
B22: ='1,2'!B19 -> 令 和 ４ 年 度 | C22: ='1,2'!C19 -> 0 | D22: ='1,2'!D19 -> 0 | E22: ='1,2'!E19 -> 0 | F22: ='1,2'!F19 -> 0 | G22: ='1,2'!G19 -> 0 | H22: ='1,2'!H19 -> 0 | I22: 3626766608 | J22: =B22 -> 令 和 ４ 年 度 | Q22: =I22 -> 3626766608
B25: １８ 貸付債権共同保全経理損益計算書
Q26: （単位 千円）
B28: 損 失 | I28: 金 額 | J28: 利 益 | Q28: 金 額
C30: 経 常 費 用 | I30: =H31 -> 203815653 | K30: 経 常 収 益 | Q30: =SUM(P31,P36) -> 77204823
D31: 事 業 費 用 | H31: =SUM(G32:G45) -> 203815653 | L31: 事 業 収 益 | P31: =SUM(O32:O35) -> 70419016
E32: 組合交付金 | G32: 109108 | M32: 組合払込金 | O32: 880157
E33: 職員給与 | G33: 22238327 | M33: 組合交付金 返還金 | O33: 60458594
E34: 厚生費 | G34: 28240 | M34: 譲渡貸付債権 弁済金 | O34: 9028316
E35: 旅費 | G35: 0 | M35: 雑収入 | O35: 51949
E36: 事務費 | G36: 515657 | L36: 事業外収益 | P36: =SUM(O37:O39) -> 6785807
E37: 賃金 | G37: 0 | M37: 利息及び配当金 | O37: 6755807
E38: 委託費 | G38: 5297011 | M38: 雑益 | O38: 30000
E39: 賃借料 | G39: 58190 | M39: 償還差益 | O39: 0
E40: 保険料 | G40: 170531196
E41: 調査研究費 | G41: 277144 | K41: 当 期 損 失 金 | Q41: 126610830
E42: 諸謝金 | G42: 0
E43: 負担金 | G43: 4117543
E44: 消費税 | G44: 637893
E45: 雑費 | G45: 5344
C46: 特 別 損 失 | I46: =H47 -> 0
E47: 前期損益修正損 | H47: 0
C49: 当 期 利 益 金 | I49: 0
...

Sheet 19,20
B2: １９ 短期給付財政調整経理貸借対照表
Q3: （単位 千円）
B5: 借 方 | I5: 金 額 | J5: 貸 方 | Q5: 金 額
C7: 流 動 資 産 | I7: =SUM(H8:H10) -> 592254246 | K7: 流 動 負 債 | Q7: 0
D8: 普通預金 | H8: 592177943 | L8: 未払金 | P8: 0
D9: 定期預金 | H9: 0
D10: 未収収益 | H10: 76303 | K10: 剰 余 金 | Q10: =P11 -> 592254246
L11: 利益剰余金 | P11: =O12 -> 592254246
M12: 積立金 | O12: 592254246
B14: 合 計 | I14: =SUM(I7:I12) -> 592254246 | J14: 合 計 | Q14: =SUM(Q7:Q12) -> 592254246
B15: ='1,2'!B18 -> 令 和 ５ 年 度 | I15: 601806708 | J15: =B15 -> 令 和 ５ 年 度 | Q15: =I15 -> 601806708
B16: ='1,2'!B19 -> 令 和 ４ 年 度 | I16: 545566642 | J16: =B16 -> 令 和 ４ 年 度 | Q16: =I16 -> 545566642
B19: ２０ 短期給付財政調整経理損益計算書
Q20: （単位 千円）
B22: 損 失 | I22: 金 額 | J22: 利 益 | Q22: 金 額
C24: 経 常 費 用 | I24: =H25 -> 10028117000 | K24: 経 常 収 益 | Q24: =SUM(P25,P28) -> 10018564538
D25: 事 業 費 用 | H25: =SUM(G26:G29) -> 10028117000 | L25: 事 業 収 益 | P25: =SUM(O26:O27) -> 10012081705
E26: 調整交付金 | G26: 1099236000 | M26: 組合拠出金 | O26: 10002233705
E27: 高額医療交付金 | G27: 8828783000 | M27: 返還金 | O27: 9848000
E28: 共同事業費 | G28: 99990000 | L28: 事業外収益 | P28: =O29 -> 6482833
E29: 支払利息 | G29: 108000 | M29: 利息及び配当金 | O29: 6482833
C30: 特 別 損 失 | I30: =H31 -> 0
D31: 前期損益修正損 | H31: 0 | K31: 当 期 損 失 金 | Q31: 9552462
C33: 当 期 利 益 金 | I33: 0
B35: 合 計 | I35: =SUM(I24:I33) -> 10028117000 | J35: 合 計 | Q35: =SUM(Q24:Q34) -> 10028117000
B36: =B15 -> 令 和 ５ 年 度 | I36: 9639841183 | J36: =B36 -> 令 和 ５ 年 度 | Q36: =I36 -> 9639841183
B37: =B16 -> 令 和 ４ 年 度 | I37: 9575004035 | J37: =B37 -> 令 和 ４ 年 度 | Q37: =I37 -> 9575004035

Sheet 21,22
B2: ２１ 短期給付特別財政調整経理貸借対照表
Q3: （単位 千円）
B5: 借 方 | I5: 金 額 | J5: 貸 方 | Q5: 金 額
C7: 流 動 資 産 | I7: =SUM(H8:H10) -> 10315442096 | K7: 剰 余 金 | Q7: =P8 -> 10315442096
D8: 普通預金 | H8: 454102603 | L8: 利益剰余金 | P8: =O9 -> 10315442096
D9: 定期預金 | H9: 9850000000 | M9: 積立金 | O9: 10315442096
D10: 未収収益 | H10: 11339493
D11: 未収金 | H11: 0
B12: 合 計 | I12: =SUM(I7:I11) -> 10315442096 | J12: 合 計 | Q12: =SUM(Q7:Q11) -> 10315442096
B13: ='1,2'!B18 -> 令 和 ５ 年 度 | I13: 11573124236 | J13: =B13 -> 令 和 ５ 年 度 | Q13: =I13 -> 11573124236
B14: ='1,2'!B19 -> 令 和 ４ 年 度 | C14: ='1,2'!C19 -> 0 | D14: ='1,2'!D19 -> 0 | E14: ='1,2'!E19 -> 0 | F14: ='1,2'!F19 -> 0 | G14: ='1,2'!G19 -> 0 | H14: ='1,2'!H19 -> 0 | I14: 14105722287 | J14: =B14 -> 令 和 ４ 年 度 | Q14: =I14 -> 14105722287
B18: ２２ 短期給付特別財政調整経理損益計算書
Q19: （単位 千円）
B21: 損 失 | I21: 金 額 | J21: 利 益 | Q21: 金 額
C23: 経 常 費 用 | I23: =H24 -> 4070175000 | K23: 経 常 収 益 | Q23: =SUM(P24,P27) -> 2812492860
D24: 事 業 費 用 | H24: =G25 -> 4070175000 | L24: 事 業 収 益 | P24: =SUM(O25:O26) -> 2775883004
E25: 特別調整交付金 | G25: 4070175000 | M25: 組合拠出金 | O25: 918183004
M26: 返還金 | O26: 1857700000
C27: 特 別 損 失 | I27: =H28 -> 0 | L27: 事業外収益 | P27: =SUM(O28:O30) -> 36609856
D28: 前期損益修正損 | H28: 0 | M28: 利息及び配当金 | O28: 36609856
C30: 当 期 利 益 金 | I30: 0 | K30: 当 期 損 失 金 | Q30: 1257682140
B32: 合 計 | I32: =SUM(I23:I31) -> 4070175000 | J32: 合 計 | Q32: =SUM(Q23:Q31) -> 4070175000
B33: =B13 -> 令 和 ５ 年 度 | I33: 4398617000 | J33: =B33 -> 令 和 ５ 年 度 | Q33: =I33 -> 4398617000
B34: =B14 -> 令 和 ４ 年 度 | I34: 2330520267 | J34: =B34 -> 令 和 ４ 年 度 | Q34: =I34 -> 2330520267

Sheet 23,24
B2: ２３ 育児・介護休業給付経理貸借対照表
Q3: （単位 千円）
B5: 借 方 | I5: 金 額 | J5: 貸 方 | Q5: 金 額
C7: 流 動 資 産 | I7: =SUM(H8:H11) -> 16877671775 | K7: 流 動 負 債 | Q7: =P8 -> 0
D8: 普通預金 | H8: 11771161588 | L8: 未払金 | P8: 0
D9: 定期預金 | H9: 5100000000
D10: 未収収益 | H10: 6510187 | K10: 剰 余 金 | Q10: =P11 -> 16877671775
D11: 未収金 | H11: 0 | L11: 利益剰余金 | P11: =O12 -> 16877671775
M12: 積立金 | O12: 16877671775
B13: 合 計 | I13: =SUM(I7:I12) -> 16877671775 | J13: 合 計 | Q13: =SUM(Q7:Q12) -> 16877671775
B14: ='1,2'!B18 -> 令 和 ５ 年 度 | I14: 12183423565 | J14: =B14 -> 令 和 ５ 年 度 | Q14: =I14 -> 12183423565
B15: ='1,2'!B19 -> 令 和 ４ 年 度 | C15: ='1,2'!C19 -> 0 | D15: ='1,2'!D19 -> 0 | E15: ='1,2'!E19 -> 0 | F15: ='1,2'!F19 -> 0 | G15: ='1,2'!G19 -> 0 | H15: ='1,2'!H19 -> 0 | I15: 9069543808 | J15: =B15 -> 令 和 ４ 年 度 | Q15: =I15 -> 9069543808
B18: ２４ 育児・介護休業給付経理損益計算書
Q19: （単位 千円）
B21: 損 失 | I21: 金 額 | J21: 利 益 | Q21: 金 額
C23: 経 常 費 用 | I23: =H24+H26 -> 49055526868 | K23: 経 常 収 益 | Q23: =SUM(P24,P26) -> 53761048535
D24: 事 業 費 用 | H24: =G25 -> 49055526868 | L24: 事 業 収 益 | P24: =O25 -> 53739571476
E25: 組合交付金 | G25: 49055526868 | M25: 組合拠出金 | O25: 53739571476
D26: 事 業 外 費 用 | H26: =G27 -> 0 | L26: 事 業 外 収 益 | P26: =O27 -> 21477059
E27: 支払利息 | G27: 0 | M27: 利息及び配当金 | O27: 21477059
C29: 特 別 損 失 | I29: =H30 -> 0 | K29: 特 別 利 益 | Q29: =SUM(P30) -> 1275540
E30: 前期損益修正損 | H30: 0 | L30: 前期損益修正益 | P30: 1275540
C32: 当 期 利 益 金 | I32: 4706797207 | K32: 当 期 損 失 金 | Q32: 0
B34: 合 計 | I34: =SUM(I23:I33) -> 53762324075 | J34: 合 計 | Q34: =SUM(Q23:Q33) -> 53762324075
B35: =B14 -> 令 和 ５ 年 度 | I35: 49437913199 | J35: =J14 -> 令 和 ５ 年 度 | Q35: =I35 -> 49437913199
B36: =B15 -> 令 和 ４ 年 度 | I36: 42279409429 | J36: =J15 -> 令 和 ４ 年 度 | Q36: =I36 -> 42279409429

Sheet 25,26
B2: ２５ 財形経理貸借対照表
Q3: （単位 千円）
B5: 借 方 | I5: 金 額 | J5: 貸 方 | Q5: 金 額
C7: 流 動 資 産 | I7: =SUM(H8:H9) -> 1065392 | K7: 流 動 負 債 | Q7: =SUM(P8:P9) -> 142
D8: 普通預金 | H8: 1065163 | L8: 未払金 | P8: 142
D9: 未収収益 | H9: 229 | L9: 預り金 | P9: 0
C11: 固 定 資 産 | I11: =H12 -> 155149682 | K11: 固 定 負 債 | Q11: =P12 -> 155149682
D12: 投資その他の資産 | H12: =G13 -> 155149682 | L12: 長期借入金 | P12: 155149682
E13: 組合貸付金 | G13: 155149682
K14: 剰 余 金 | Q14: =P15 -> 1065250
L15: 利益剰余金 | P15: =O16 -> 1065250
M16: 積立金 | O16: 1065250
B18: 合 計 | I18: =SUM(I7:I17) -> 156215074 | J18: 合 計 | Q18: =SUM(Q7:Q17) -> 156215074
B19: ='1,2'!B18 -> 令 和 ５ 年 度 | I19: 171141663 | J19: =B19 -> 令 和 ５ 年 度 | Q19: =I19 -> 171141663
B20: ='1,2'!B19 -> 令 和 ４ 年 度 | C20: ='1,2'!C19 -> 0 | D20: ='1,2'!D19 -> 0 | E20: ='1,2'!E19 -> 0 | F20: ='1,2'!F19 -> 0 | G20: ='1,2'!G19 -> 0 | H20: ='1,2'!H19 -> 0 | I20: 181186304 | J20: =B20 -> 令 和 ４ 年 度 | Q20: =I20 -> 181186304
B23: ２６ 財形経理損益計算書
Q24: （単位 千円）
B26: 損 失 | I26: 金 額 | J26: 利 益 | Q26: 金 額
C28: 経 常 費 用 | I28: =SUM(H29,H33) -> 1216297 | K28: 経 常 収 益 | Q28: =SUM(P29:P32) -> 1212819
D29: 事 業 費 用 | H29: =SUM(G30:G32) -> 3775 | L29: 事 業 収 益 | P29: =SUM(O30) -> 1211983
E30: 事務費 | G30: 1624 | M30: 組合貸付金利息 | O30: 1211983
E31: 負担金 | G31: 2000 | L31: 事業外収益 | P31: =SUM(O32) -> 836
E32: 消費税 | G32: 151 | M32: 利息及び配当金 | O32: 836
D33: 事 業 外 費 用 | H33: =G34 -> 1212522
E34: 支払利息 | G34: 1212522 | K34: 当 期 損 失 金 | Q34: 3478
C36: 当 期 利 益 金 | I36: 0
B38: 合 計 | I38: =SUM(I28:I37) -> 1216297 | J38: 合 計 | Q38: =SUM(Q28:Q34) -> 1216297
B39: =B19 -> 令 和 ５ 年 度 | I39: 1183939 | J39: =B39 -> 令 和 ５ 年 度 | Q39: =I39 -> 1183939
B40: =B20 -> 令 和 ４ 年 度 | I40: 1134353 | J40: =B40 -> 令 和 ４ 年 度 | Q40: =I40 -> 1134353
