Workbook

Sheet 26-05-12
A1: １２ 国籍・地域別 出国命令により出国した人員
B2: （令和８年５月）
A3: 国籍 ・ 地域 | B3: 総数
A4: 総数 | B4: =SUM(B5:B32) -> 795
A5: インド | B5: =SUMIFS([1]【BD】リスト!$L:$L,[1]【BD】リスト!$E:$E,"インド") -> 11
A6: インドネシア | B6: =SUMIFS([1]【BD】リスト!$L:$L,[1]【BD】リスト!$E:$E,"インドネシア*") -> 103
A7: 韓国 | B7: =SUMIFS([1]【BD】リスト!$L:$L,[1]【BD】リスト!$E:$E,"韓国*") -> 2
A8: カンボジア | B8: =SUMIFS([1]【BD】リスト!$L:$L,[1]【BD】リスト!$E:$E,"カンボジア*") -> 18
A9: スリランカ | B9: =SUMIFS([1]【BD】リスト!$L:$L,[1]【BD】リスト!$E:$E,"スリランカ*") -> 37
A10: タイ | B10: =SUMIFS([1]【BD】リスト!$L:$L,[1]【BD】リスト!$E:$E,"タイ*") -> 162
A11: 台湾 | B11: =SUMIFS([1]【BD】リスト!$L:$L,[1]【BD】リスト!$E:$E,"台湾*") -> 1
A12: 中国 | B12: =SUMIFS([1]【BD】リスト!$L:$L,[1]【BD】リスト!$E:$E,"中国") -> 89
A13: トルコ | B13: =SUMIFS([1]【BD】リスト!$L:$L,[1]【BD】リスト!$E:$E,"トルコ*") -> 10
A14: ネパール | B14: =SUMIFS([1]【BD】リスト!$L:$L,[1]【BD】リスト!$E:$E,"ネパール*") -> 22
A15: パキスタン | B15: =SUMIFS([1]【BD】リスト!$L:$L,[1]【BD】リスト!$E:$E,"パキスタン*") -> 4
A16: バングラデシュ | B16: =SUMIFS([1]【BD】リスト!$L:$L,[1]【BD】リスト!$E:$E,"バングラデシュ*") -> 9
A17: フィリピン | B17: =SUMIFS([1]【BD】リスト!$L:$L,[1]【BD】リスト!$E:$E,"フィリピン*") -> 34
A18: ベトナム | B18: =SUMIFS([1]【BD】リスト!$L:$L,[1]【BD】リスト!$E:$E,"ベトナム*") -> 259
A19: マレーシア | B19: =SUMIFS([1]【BD】リスト!$L:$L,[1]【BD】リスト!$E:$E,"マレーシア*") -> 1
A20: モンゴル | B20: =SUMIFS([1]【BD】リスト!$L:$L,[1]【BD】リスト!$E:$E,"モンゴル*") -> 4
A21: ラオス | B21: =SUMIFS([1]【BD】リスト!$L:$L,[1]【BD】リスト!$E:$E,"ラオス*") -> 1
A22: ウズベキスタン | B22: =SUMIFS([1]【BD】リスト!$L:$L,[1]【BD】リスト!$E:$E,"ウズベキスタン*") -> 11
A23: エジプト | B23: =SUMIFS([1]【BD】リスト!$L:$L,[1]【BD】リスト!$E:$E,"エジプト") -> 1
A24: ガーナ | B24: =SUMIFS([1]【BD】リスト!$L:$L,[1]【BD】リスト!$E:$E,"ガーナ") -> 1
A25: セネガル | B25: =SUMIFS([1]【BD】リスト!$L:$L,[1]【BD】リスト!$E:$E,"セネガル") -> 2
A26: チュニジア | B26: =SUMIFS([1]【BD】リスト!$L:$L,[1]【BD】リスト!$E:$E,"チュニジア") -> 1
A27: ナイジェリア | B27: =SUMIFS([1]【BD】リスト!$L:$L,[1]【BD】リスト!$E:$E,"ナイジェリア") -> 1
A28: 米国 | B28: =SUMIFS([1]【BD】リスト!$L:$L,[1]【BD】リスト!$E:$E,"米国") -> 6
A29: メキシコ | B29: =SUMIFS([1]【BD】リスト!$L:$L,[1]【BD】リスト!$E:$E,"メキシコ") -> 1
A30: アルゼンチン | B30: =SUMIFS([1]【BD】リスト!$L:$L,[1]【BD】リスト!$E:$E,"アルゼンチン") -> 1
A31: ブラジル | B31: =SUMIFS([1]【BD】リスト!$L:$L,[1]【BD】リスト!$E:$E,"ブラジル") -> 1
A32: ペルー | B32: =SUMIFS([1]【BD】リスト!$L:$L,[1]【BD】リスト!$E:$E,"ペルー") -> 2
