Workbook

Sheet 表紙 
C7: 造船造機統計
A10: 造 船 統 計 月 報
A15: 令和8年1月分

Sheet 目次
A6: 目 次
A9: 造船造機統計（基幹統計）造船調査概要
A11: 造船調査結果（令和８年１月分）の概要
A14: 鋼船しゅん工実績の推移
A17: 第１表 鋼船建造実績
A19: 第２表 強化プラスチック（木）船しゅん工実績
A21: 第３表 用途別・トン数階級別受注鋼船隻数及びトン数
A23: 第４表 用途別・トン数階級別起工鋼船隻数及びトン数
A25: 第５表 用途別・トン数階級別進水鋼船隻数及びトン数
A27: 第６表 用途別・トン数階級別しゅん工鋼船隻数、トン数及び船価
A29: 第７表 用途別・トン数階級別しゅん工強化プラスチック（木）船隻数、トン数及び船価
A31: 第８表 独航不能船舶のしゅん工隻数、トン数及び船価
... A35: 第１０表 地方運輸局管轄区域別建造実績及び船舶修繕実績

Sheet 調査概要
A3: 造船造機統計（基幹統計） 造船調査概要
A5: １．調査の目的
A6: 造船の実態を明らかにすることを目的とする。
A8: ２．調査の時期
A9: 毎月末現在により行う。
A11: ３．調査の対象及び調査事項
A12: 調査の対象
A13: 鋼製船舶又は鋼製以外の船舶で総トン数20トン以上若しくは長さ15メートル以上のものの
A14: 製造設備又は入きょもしくは上架設備を有する工場。
A15: 調査事項
A16: 鋼製船舶及び鋼製以外の船舶を製造又は修繕したもの。
A17: ただし、鋼製以外の船舶のうち総トン数20トン未満かつ、長さ15メートル未満のものは含まない。
... A56: 〔電話 03-5253-8111 内線28-748〕まで御連絡ください。

Sheet 調査概況
B2: =+"造船調査結果（"&概要作成シート!H3&"）の概要" -> 造船調査結果（令和８年１月分）の概要
B4: （１）集計工場数
C5: =" "&概要作成シート!H3&"の集計工場数は、鋼船については、"&概要作成シート!H4&"であった。" -> 令和８年１月分の集計工場数は、鋼船については、392工場であった。
C6: =+" 強化プラスチック（木）船については、"&概要作成シート!H7&"であった。" -> 強化プラスチック（木）船については、121工場であった。
B7: （２）鋼船建造実績
C8: =" "&概要作成シート!H3&"の鋼船建造実績は、"&概要作成シート!H78&概要作成シート!H79&概要作成シート!H10&概要作成シート!H11&概要作成シート!H13&概要作成シート!H14&概要作成シート!H16&概要作成シート!H17&"しゅん工船価"&概要作成シート!H18&"億円、生産指数"&概要作成シート!H65&"であり、生産指数の前年同月比は、"&概要作成シート!H71&"であった。" -> 令和８年１月分の鋼船建造実績は、受注8隻、17万1千G/T、起工24隻、80万4千G/T、進水28隻、63万5千G/T、しゅん工30隻、91万4千G/T、しゅん工船価1,589億円、生産指数133.2であり、生産指数の前年同月比は、6.8%減であった。
C9: =+" このうち国内船は、しゅん工"&概要作成シート!H21&"、"&概要作成シート!H22&"、しゅん工船価"&概要作成シート!H23&"億円、生産指数"&概要作成シート!H66&"であり、生産指数の前年同月比は、"&概要作成シート!H72&"であった。また、輸出船は、しゅん工"&概要作成シート!H26&"、"&概要作成シート!H27&"、しゅん工船価"&概要作成シート!H28&"億円、生産指数165.0であり、生産指数の前年同月比は、"&概要作成シート!H73&"であった。" -> このうち国内船は、しゅん工7隻、2千G/T、しゅん工船価60億円、生産指数22.5であり、生産指数の前年同月比は、23.0%減であった。また、輸出船は、しゅん工23隻、91万2千G/T、しゅん工船価1,529億円、生産指数165.0であり、生産指数の前年同月比は、6.1%減であった。
C11: ①生産指数の推移
C13: ※生産指数は、当該月のしゅん工船価を、基準時（令和2年）のしゅん工船価の月平均値で除して求めた指数である。
C15: ②しゅん工船の用途別隻数（鋼船）
C16: =+" しゅん工船のうち国内船は"&概要作成シート!H21&"、輸出船は"&概要作成シート!H26&"で、用途別（船種）では、次のとおりであった。" -> しゅん工船のうち国内船は7隻、輸出船は23隻で、用途別（船種）では、次のとおりであった。
C18: ※構成比は小数点以下第2位を四捨五入しているため、合計しても必ずしも100とはならない。
C19: ③G/T当たり船価
C20: =+" 当月におけるG/T当たり船価は、"&ROUND(データ!E81,0)&"千円であり、前年同月比は、"&データ!F83&データ!G83&データ!H83 -> 当月におけるG/T当たり船価は、174千円であり、前年同月比は、1.5％増であった。
C22: ※G/T当たり船価は、当該月のしゅん工船価を、同総トン数(G/T)で除したものである。

Sheet データ
E2: 46023 | F2: 38352 | G2: =F2 -> 38352 | H2: =G2 -> 38352 | I2: =H2 -> 38352 | J2: =I2 -> 38352 | K2: =J2 -> 38352 | L2: =K2 -> 38352 | M2: =L2 -> 38352 | N2: =M2 -> 38352 | ... Q2: =P2 -> 38352 | R2: =DATE(YEAR(F2)+1,12,31) -> 38717 | S2: =R2 -> 38717 | T2: =S2 -> 38717 | U2: =T2 -> 38717 | V2: =U2 -> 38717 | W2: =V2 -> 38717 | X2: =W2 -> 38717 | Y2: =X2 -> 38717 | Z2: =Y2 -> 38717 | ... AC2: =AB2 -> 38717 | AD2: =DATE(YEAR(R2)+1,12,31) -> 39082 | AE2: =AD2 -> 39082 | AF2: =AE2 -> 39082 | AG2: =AF2 -> 39082 | AH2: =AG2 -> 39082 | AI2: =AH2 -> 39082 | AJ2: =AI2 -> 39082 | AK2: =AJ2 -> 39082 | AL2: =AK2 -> 39082 | ... AO2: =AN2 -> 39082 | AP2: =DATE(YEAR(AD2)+1,12,31) -> 39447 | AQ2: =AP2 -> 39447 | AR2: =AQ2 -> 39447 | AS2: =AR2 -> 39447 | AT2: =AS2 -> 39447 | AU2: =AT2 -> 39447 | AV2: =AU2 -> 39447 | AW2: =AV2 -> 39447 | AX2: =AW2 -> 39447 | ... BA2: =AZ2 -> 39447 | BB2: =DATE(YEAR(AP2)+1,12,31) -> 39813 | BC2: =BB2 -> 39813 | BD2: =BC2 -> 39813 | BE2: =BD2 -> 39813 | BF2: =BE2 -> 39813 | BG2: =BF2 -> 39813 | BH2: =BG2 -> 39813 | BI2: =BH2 -> 39813 | BJ2: =BI2 -> 39813 | ... BM2: =BL2 -> 39813 | BN2: =DATE(YEAR(BB2)+1,12,31) -> 40178 | BO2: =BN2 -> 40178 | BP2: =BO2 -> 40178 | BQ2: =BP2 -> 40178 | BR2: =BQ2 -> 40178 | BS2: =BR2 -> 40178 | BT2: =BS2 -> 40178 | BU2: =BT2 -> 40178 | BV2: =BU2 -> 40178 | ... BY2: =BX2 -> 40178 | BZ2: =DATE(YEAR(BN2)+1,12,31) -> 40543 | CA2: =BZ2 -> 40543 | CB2: =CA2 -> 40543 | CC2: =CB2 -> 40543 | CD2: =CC2 -> 40543 | CE2: =CD2 -> 40543 | CF2: =CE2 -> 40543 | CG2: =CF2 -> 40543 | CH2: =CG2 -> 40543 | ... CK2: =CJ2 -> 40543 | CL2: =DATE(YEAR(BZ2)+1,12,31) -> 40908 | CM2: =CL2 -> 40908 | CN2: =CM2 -> 40908 | CO2: =CN2 -> 40908 | CP2: =CO2 -> 40908 | CQ2: =CP2 -> 40908 | CR2: =CQ2 -> 40908 | CS2: =CR2 -> 40908 | CT2: =CS2 -> 40908 | ... CW2: =CV2 -> 40908 | CX2: =DATE(YEAR(CL2)+1,12,31) -> 41274 | CY2: =CX2 -> 41274 | CZ2: =CY2 -> 41274 | DA2: =CZ2 -> 41274 | DB2: =DA2 -> 41274 | DC2: =DB2 -> 41274 | DD2: =DC2 -> 41274 | DE2: =DD2 -> 41274 | DF2: =DE2 -> 41274 | ... DI2: =DH2 -> 41274 | DJ2: =DATE(YEAR(CX2)+1,12,31) -> 41639 | DK2: =DJ2 -> 41639 | DL2: =DK2 -> 41639 | DM2: =DL2 -> 41639 | DN2: =DM2 -> 41639 | DO2: =DN2 -> 41639 | DP2: =DO2 -> 41639 | DQ2: =DP2 -> 41639 | DR2: =DQ2 -> 41639 | ... DU2: =DT2 -> 41639 | DV2: =DATE(YEAR(DJ2)+1,12,31) -> 42004 | DW2: =DV2 -> 42004 | DX2: =DW2 -> 42004 | DY2: =DX2 -> 42004 | DZ2: =DY2 -> 42004 | EA2: =DZ2 -> 42004 | EB2: =EA2 -> 42004 | EC2: =EB2 -> 42004 | ED2: =EC2 -> 42004 | ... EG2: =EF2 -> 42004 | EH2: =DATE(YEAR(DV2)+1,12,31) -> 42369 | EI2: =EH2 -> 42369 | EJ2: =EI2 -> 42369 | EK2: =EJ2 -> 42369 | EL2: =EK2 -> 42369 | EM2: =EL2 -> 42369 | EN2: =EM2 -> 42369 | EO2: =EN2 -> 42369 | EP2: =EO2 -> 42369 | ... ES2: =ER2 -> 42369 | ET2: =DATE(YEAR(EH2)+1,12,31) -> 42735 | EU2: =ET2 -> 42735 | EV2: =EU2 -> 42735 | EW2: =EV2 -> 42735 | EX2: =EW2 -> 42735 | EY2: =EX2 -> 42735 | EZ2: =EY2 -> 42735 | FA2: =EZ2 -> 42735 | FB2: =FA2 -> 42735 | ... FE2: =FD2 -> 42735 | FF2: =DATE(YEAR(ET2)+1,12,31) -> 43100 | FG2: =FF2 -> 43100 | FH2: =FG2 -> 43100 | FI2: =FH2 -> 43100 | FJ2: =FI2 -> 43100 | FK2: =FJ2 -> 43100 | FL2: =FK2 -> 43100 | FM2: =FL2 -> 43100 | FN2: =FM2 -> 43100 | ... FQ2: =FP2 -> 43100 | FR2: =DATE(YEAR(FF2)+1,12,31) -> 43465 | FS2: =FR2 -> 43465 | FT2: =FS2 -> 43465 | FU2: =FT2 -> 43465 | FV2: =FU2 -> 43465 | FW2: =FV2 -> 43465 | FX2: =FW2 -> 43465 | FY2: =FX2 -> 43465 | FZ2: =FY2 -> 43465 | ... GC2: =GB2 -> 43465 | GD2: =DATE(YEAR(FR2)+1,12,31) -> 43830 | GE2: =GD2 -> 43830 | GF2: =GE2 -> 43830 | GG2: =GF2 -> 43830 | GH2: =GG2 -> 43830 | GI2: =GH2 -> 43830 | GJ2: =GI2 -> 43830 | GK2: =GJ2 -> 43830 | GL2: =GK2 -> 43830 | ... GO2: =GN2 -> 43830 | GP2: =DATE(YEAR(GD2)+1,12,31) -> 44196 | GQ2: =GP2 -> 44196 | GR2: =GQ2 -> 44196 | GS2: =GR2 -> 44196 | GT2: =GS2 -> 44196 | GU2: =GT2 -> 44196 | GV2: =GU2 -> 44196 | GW2: =GV2 -> 44196 | GX2: =GW2 -> 44196 | ... HA2: =GZ2 -> 44196 | HB2: =DATE(YEAR(GP2)+1,12,31) -> 44561 | HC2: =HB2 -> 44561 | HD2: =HC2 -> 44561 | HE2: =HD2 -> 44561 | HF2: =HE2 -> 44561 | HG2: =HF2 -> 44561 | HH2: =HG2 -> 44561 | HI2: =HH2 -> 44561 | HJ2: =HI2 -> 44561 | ... HM2: =HL2 -> 44561 | HN2: =DATE(YEAR(HB2)+1,1,1) -> 44562 | HO2: =HN2 -> 44562 | HP2: =HO2 -> 44562 | HQ2: =HP2 -> 44562 | HR2: =HQ2 -> 44562 | HS2: =HR2 -> 44562 | HT2: =HS2 -> 44562 | HU2: =HT2 -> 44562 | HV2: =HU2 -> 44562 | ... HY2: =HX2 -> 44562 | HZ2: =DATE(YEAR(HN2)+1,1,1) -> 44927 | IA2: =HZ2 -> 44927 | IB2: =IA2 -> 44927 | IC2: =IB2 -> 44927 | ID2: =IC2 -> 44927 | IE2: =ID2 -> 44927 | IF2: =IE2 -> 44927 | IG2: =IF2 -> 44927 | IH2: =IG2 -> 44927 | ... IK2: =IJ2 -> 44927 | IL2: =DATE(YEAR(HZ2)+1,1,1) -> 45292 | IM2: =IL2 -> 45292 | IN2: =IM2 -> 45292 | IO2: =IN2 -> 45292 | IP2: =IO2 -> 45292 | IQ2: =IP2 -> 45292 | IR2: =IQ2 -> 45292 | IS2: =IR2 -> 45292 | IT2: =IS2 -> 45292 | ... IW2: =IV2 -> 45292 | IX2: =DATE(YEAR(IL2)+1,1,1) -> 45658 | IY2: =IX2 -> 45658 | IZ2: =IY2 -> 45658 | JA2: =IZ2 -> 45658 | JB2: =JA2 -> 45658 | JC2: =JB2 -> 45658 | JD2: =JC2 -> 45658 | JE2: =JD2 -> 45658 | JF2: =JE2 -> 45658 | ... JI2: =JH2 -> 45658 | JJ2: =DATE(YEAR(IX2)+1,1,1) -> 46023 | JK2: =JJ2 -> 46023 | JL2: =JK2 -> 46023 | JM2: =JL2 -> 46023 | JN2: =JM2 -> 46023 | JO2: =JN2 -> 46023 | JP2: =JO2 -> 46023 | JQ2: =JP2 -> 46023 | JR2: =JQ2 -> 46023 | ... JU2: =JT2 -> 46023 | JV2: =DATE(YEAR(JJ2)+1,1,1) -> 46388 | JW2: =JV2 -> 46388 | JX2: =JW2 -> 46388 | JY2: =JX2 -> 46388 | JZ2: =JY2 -> 46388 | KA2: =JZ2 -> 46388 | KB2: =KA2 -> 46388 | KC2: =KB2 -> 46388 | KD2: =KC2 -> 46388 | ... KG2: =KF2 -> 46388 | KH2: =DATE(YEAR(JV2)+1,1,1) -> 46753 | KI2: =KH2 -> 46753 | KJ2: =KI2 -> 46753 | KK2: =KJ2 -> 46753 | KL2: =KK2 -> 46753 | KM2: =KL2 -> 46753 | KN2: =KM2 -> 46753 | KO2: =KN2 -> 46753 | KP2: =KO2 -> 46753 | ... KS2: =KR2 -> 46753 | KT2: =DATE(YEAR(KH2)+1,1,1) -> 47119 | KU2: =KT2 -> 47119 | KV2: =KU2 -> 47119 | KW2: =KV2 -> 47119 | KX2: =KW2 -> 47119 | KY2: =KX2 -> 47119 | KZ2: =KY2 -> 47119 | LA2: =KZ2 -> 47119 | LB2: =LA2 -> 47119 | ... LE2: =LD2 -> 47119 | LF2: =DATE(YEAR(KT2)+1,1,1) -> 47484 | LG2: =LF2 -> 47484 | LH2: =LG2 -> 47484 | LI2: =LH2 -> 47484 | LJ2: =LI2 -> 47484 | LK2: =LJ2 -> 47484 | LL2: =LK2 -> 47484 | LM2: =LL2 -> 47484 | LN2: =LM2 -> 47484 | ... LQ2: =LP2 -> 47484 | LR2: =DATE(YEAR(LF2)+1,1,1) -> 47849 | LS2: =LR2 -> 47849 | LT2: =LS2 -> 47849 | LU2: =LT2 -> 47849 | LV2: =LU2 -> 47849 | LW2: =LV2 -> 47849 | LX2: =LW2 -> 47849 | LY2: =LX2 -> 47849 | LZ2: =LY2 -> 47849 | ... MC2: =MB2 -> 47849 | MD2: =DATE(YEAR(LR2)+1,1,1) -> 48214 | ME2: =MD2 -> 48214 | MF2: =ME2 -> 48214 | MG2: =MF2 -> 48214 | MH2: =MG2 -> 48214 | MI2: =MH2 -> 48214 | MJ2: =MI2 -> 48214 | MK2: =MJ2 -> 48214 | ML2: =MK2 -> 48214 | ... MO2: =MN2 -> 48214 | MP2: =DATE(YEAR(MD2)+1,1,1) -> 48580 | MQ2: =MP2 -> 48580 | MR2: =MQ2 -> 48580 | MS2: =MR2 -> 48580 | MT2: =MS2 -> 48580 | MU2: =MT2 -> 48580 | MV2: =MU2 -> 48580 | MW2: =MV2 -> 48580 | MX2: =MW2 -> 48580 | ... NA2: =MZ2 -> 48580 | NB2: =DATE(YEAR(MP2)+1,1,1) -> 48945 | NC2: =NB2 -> 48945 | ND2: =NC2 -> 48945 | NE2: =ND2 -> 48945 | NF2: =NE2 -> 48945 | NG2: =NF2 -> 48945 | NH2: =NG2 -> 48945 | NI2: =NH2 -> 48945 | NJ2: =NI2 -> 48945 | ... NM2: =NL2 -> 48945 | NN2: =DATE(YEAR(NB2)+1,1,1) -> 49310 | NO2: =NN2 -> 49310 | NP2: =NO2 -> 49310 | NQ2: =NP2 -> 49310 | NR2: =NQ2 -> 49310 | NS2: =NR2 -> 49310 | NT2: =NS2 -> 49310 | NU2: =NT2 -> 49310 | NV2: =NU2 -> 49310 | ... NY2: =NX2 -> 49310 | NZ2: =DATE(YEAR(NN2)+1,1,1) -> 49675 | OA2: =NZ2 -> 49675 | OB2: =OA2 -> 49675 | OC2: =OB2 -> 49675 | OD2: =OC2 -> 49675 | OE2: =OD2 -> 49675 | OF2: =OE2 -> 49675 | OG2: =OF2 -> 49675 | OH2: =OG2 -> 49675 | ... OK2: =OJ2 -> 49675 | OL2: =DATE(YEAR(NZ2)+1,1,1) -> 50041 | OM2: =OL2 -> 50041 | ON2: =OM2 -> 50041 | OO2: =ON2 -> 50041 | OP2: =OO2 -> 50041 | OQ2: =OP2 -> 50041 | OR2: =OQ2 -> 50041 | OS2: =OR2 -> 50041 | OT2: =OS2 -> 50041 | ... OW2: =OV2 -> 50041 | OX2: =DATE(YEAR(OL2)+1,1,1) -> 50406 | OY2: =OX2 -> 50406 | OZ2: =OY2 -> 50406 | PA2: =OZ2 -> 50406 | PB2: =PA2 -> 50406 | PC2: =PB2 -> 50406 | PD2: =PC2 -> 50406 | PE2: =PD2 -> 50406 | PF2: =PE2 -> 50406 | ... PI2: =PH2 -> 50406
E3: １月 | F3: １月 | G3: ２月 | H3: ３月 | I3: ４月 | J3: ５月 | K3: ６月 | L3: ７月 | M3: ８月 | N3: ９月 | O3: １０月 | P3: １１月 | Q3: １２月 | R3: １月 | S3: ２月 | T3: ３月 | U3: ４月 | V3: ５月 | W3: ６月 | X3: ７月 | Y3: ８月 | Z3: ９月 | AA3: １０月 | AB3: １１月 | AC3: １２月 | AD3: １月 | AE3: ２月 | AF3: ３月 | AG3: ４月 | AH3: ５月 | AI3: ６月 | AJ3: ７月 | AK3: ８月 | AL3: ９月 | AM3: １０月 | AN3: １１月 | AO3: １２月 | AP3: １月 | AQ3: ２月 | AR3: ３月 | AS3: ４月 | AT3: ５月 | AU3: ６月 | AV3: ７月 | AW3: ８月 | AX3: ９月 | AY3: １０月 | AZ3: １１月 | BA3: １２月 | BB3: １月 | BC3: ２月 | BD3: ３月 | BE3: ４月 | BF3: ５月 | BG3: ６月 | BH3: ７月 | BI3: ８月 | BJ3: ９月 | BK3: １０月 | BL3: １１月 | BM3: １２月 | BN3: １月 | BO3: ２月 | BP3: ３月 | BQ3: ４月 | BR3: ５月 | BS3: ６月 | BT3: ７月 | BU3: ８月 | BV3: ９月 | BW3: １０月 | BX3: １１月 | BY3: １２月 | BZ3: １月 | CA3: ２月 | CB3: ３月 | CC3: ４月 | CD3: ５月 | CE3: ６月 | CF3: ７月 | CG3: ８月 | CH3: ９月 | CI3: １０月 | CJ3: １１月 | CK3: １２月 | CL3: １月 | CM3: ２月 | CN3: ３月 | CO3: ４月 | CP3: ５月 | CQ3: ６月 | CR3: ７月 | CS3: ８月 | CT3: ９月 | CU3: １０月 | CV3: １１月 | CW3: １２月 | CX3: １月 | CY3: ２月 | CZ3: ３月 | DA3: ４月 | DB3: ５月 | DC3: ６月 | DD3: ７月 | DE3: ８月 | DF3: ９月 | DG3: １０月 | DH3: １１月 | DI3: １２月 | DJ3: １月 | DK3: ２月 | DL3: ３月 | DM3: ４月 | DN3: ５月 | DO3: ６月 | DP3: ７月 | DQ3: ８月 | DR3: ９月 | DS3: １０月 | DT3: １１月 | DU3: １２月 | DV3: １月 | DW3: ２月 | DX3: ３月 | DY3: ４月 | DZ3: ５月 | EA3: ６月 | EB3: ７月 | EC3: ８月 | ED3: ９月 | EE3: １０月 | EF3: １１月 | EG3: １２月 | EH3: １月 | EI3: ２月 | EJ3: ３月 | EK3: ４月 | EL3: ５月 | EM3: ６月 | EN3: ７月 | EO3: ８月 | EP3: ９月 | EQ3: １０月 | ER3: １１月 | ES3: １２月 | ET3: １月 | EU3: ２月 | EV3: ３月 | EW3: ４月 | EX3: ５月 | EY3: ６月 | EZ3: ７月 | FA3: ８月 | FB3: ９月 | FC3: １０月 | FD3: １１月 | FE3: １２月 | FF3: １月 | FG3: ２月 | FH3: ３月 | FI3: ４月 | FJ3: ５月 | FK3: ６月 | FL3: ７月 | FM3: ８月 | FN3: ９月 | FO3: １０月 | FP3: １１月 | FQ3: １２月 | FR3: １月 | FS3: ２月 | FT3: ３月 | FU3: ４月 | FV3: ５月 | FW3: ６月 | FX3: ７月 | FY3: ８月 | FZ3: ９月 | GA3: １０月 | GB3: １１月 | GC3: １２月 | GD3: １月 | GE3: ２月 | GF3: ３月 | GG3: ４月 | GH3: ５月 | GI3: ６月 | GJ3: ７月 | GK3: ８月 | GL3: ９月 | GM3: １０月 | GN3: １１月 | GO3: １２月 | GP3: １月 | GQ3: ２月 | GR3: ３月 | GS3: ４月 | GT3: ５月 | GU3: ６月 | GV3: ７月 | GW3: ８月 | GX3: ９月 | GY3: １０月 | GZ3: １１月 | HA3: １２月 | HB3: １月 | HC3: ２月 | HD3: ３月 | HE3: ４月 | HF3: ５月 | HG3: ６月 | HH3: ７月 | HI3: ８月 | HJ3: ９月 | HK3: １０月 | HL3: １１月 | HM3: １２月 | HN3: １月 | HO3: ２月 | HP3: ３月 | HQ3: ４月 | HR3: ５月 | HS3: ６月 | HT3: ７月 | HU3: ８月 | HV3: ９月 | HW3: １０月 | HX3: １１月 | HY3: １２月 | HZ3: １月 | IA3: ２月 | IB3: ３月 | IC3: ４月 | ID3: ５月 | IE3: ６月 | IF3: ７月 | IG3: ８月 | IH3: ９月 | II3: １０月 | IJ3: １１月 | IK3: １２月 | IL3: １月 | IM3: ２月 | IN3: ３月 | IO3: ４月 | IP3: ５月 | IQ3: ６月 | IR3: ７月 | IS3: ８月 | IT3: ９月 | IU3: １０月 | IV3: １１月 | IW3: １２月 | IX3: １月 | IY3: ２月 | IZ3: ３月 | JA3: ４月 | JB3: ５月 | JC3: ６月 | JD3: ７月 | JE3: ８月 | JF3: ９月 | JG3: １０月 | JH3: １１月 | JI3: １２月 | JJ3: １月 | JK3: ２月 | JL3: ３月 | JM3: ４月 | JN3: ５月 | JO3: ６月 | JP3: ７月 | JQ3: ８月 | JR3: ９月 | JS3: １０月 | JT3: １１月 | JU3: １２月 | JV3: １月 | JW3: ２月 | JX3: ３月 | JY3: ４月 | JZ3: ５月 | KA3: ６月 | KB3: ７月 | KC3: ８月 | KD3: ９月 | KE3: １０月 | KF3: １１月 | KG3: １２月 | KH3: １月 | KI3: ２月 | KJ3: ３月 | KK3: ４月 | KL3: ５月 | KM3: ６月 | KN3: ７月 | KO3: ８月 | KP3: ９月 | KQ3: １０月 | KR3: １１月 | KS3: １２月 | KT3: １月 | KU3: ２月 | KV3: ３月 | KW3: ４月 | KX3: ５月 | KY3: ６月 | KZ3: ７月 | LA3: ８月 | LB3: ９月 | LC3: １０月 | LD3: １１月 | LE3: １２月 | LF3: １月 | LG3: ２月 | LH3: ３月 | LI3: ４月 | LJ3: ５月 | LK3: ６月 | LL3: ７月 | LM3: ８月 | LN3: ９月 | LO3: １０月 | LP3: １１月 | LQ3: １２月 | LR3: １月 | LS3: ２月 | LT3: ３月 | LU3: ４月 | LV3: ５月 | LW3: ６月 | LX3: ７月 | LY3: ８月 | LZ3: ９月 | MA3: １０月 | MB3: １１月 | MC3: １２月 | MD3: １月 | ME3: ２月 | MF3: ３月 | MG3: ４月 | MH3: ５月 | MI3: ６月 | MJ3: ７月 | MK3: ８月 | ML3: ９月 | MM3: １０月 | MN3: １１月 | MO3: １２月 | MP3: １月 | MQ3: ２月 | MR3: ３月 | MS3: ４月 | MT3: ５月 | MU3: ６月 | MV3: ７月 | MW3: ８月 | MX3: ９月 | MY3: １０月 | MZ3: １１月 | NA3: １２月 | NB3: １月 | NC3: ２月 | ND3: ３月 | NE3: ４月 | NF3: ５月 | NG3: ６月 | NH3: ７月 | NI3: ８月 | NJ3: ９月 | NK3: １０月 | NL3: １１月 | NM3: １２月 | NN3: １月 | NO3: ２月 | NP3: ３月 | NQ3: ４月 | NR3: ５月 | NS3: ６月 | NT3: ７月 | NU3: ８月 | NV3: ９月 | NW3: １０月 | NX3: １１月 | NY3: １２月 | NZ3: １月 | OA3: ２月 | OB3: ３月 | OC3: ４月 | OD3: ５月 | OE3: ６月 | OF3: ７月 | OG3: ８月 | OH3: ９月 | OI3: １０月 | OJ3: １１月 | OK3: １２月 | OL3: １月 | OM3: ２月 | ON3: ３月 | OO3: ４月 | OP3: ５月 | OQ3: ６月 | OR3: ７月 | OS3: ８月 | OT3: ９月 | OU3: １０月 | OV3: １１月 | OW3: １２月 | OX3: １月 | OY3: ２月 | OZ3: ３月 | PA3: ４月 | PB3: ５月 | PC3: ６月 | PD3: ７月 | PE3: ８月 | PF3: ９月 | PG3: １０月 | PH3: １１月 | PI3: １２月
B4: 鋼船工場数 | E4: 392 | F4: 595 | G4: 379 | H4: 393 | I4: 513 | J4: 511 | K4: 547 | L4: 546 | M4: 569 | N4: 560 | O4: 550 | P4: 544 | Q4: 570 | R4: 560 | S4: 567 | T4: 569 | U4: 561 | V4: 556 | W4: 559 | X4: 562 | Y4: 563 | Z4: 558 | AA4: 565 | AB4: 541 | AC4: 521 | AD4: 502 | AE4: 487 | AF4: 473 | AG4: 485 | AH4: 503 | AI4: 500 | AJ4: 507 | AK4: 512 | AL4: 508 | AM4: 501 | AN4: 505 | AO4: 500 | AP4: 508 | AQ4: 490 | AR4: 463 | AS4: 427 | AT4: 450 | AU4: 477 | AV4: 441 | AW4: 448 | AX4: 477 | AY4: 445 | AZ4: 476 | BA4: 484 | BB4: 470 | BC4: 484 | BD4: 473 | BE4: 458 | BF4: 438 | BG4: 445 | BH4: 439 | CX4: 451 | CY4: 447 | CZ4: 452 | DA4: 462 | DB4: 460 | DC4: 470 | DD4: 462 | DE4: 463 | DF4: 465 | DG4: 485 | DH4: 488 | DI4: 544 | DJ4: 440 | DK4: 438 | DL4: 441 | DM4: 436 | DN4: 434 | DO4: 433 | DP4: 430 | DQ4: 424 | DR4: 462 | DS4: 457 | DT4: 456 | DU4: 398 | DV4: 406 | DW4: 413 | DX4: 423 | DY4: 424 | DZ4: 424 | EA4: 414 | EB4: 417 | EC4: 419 | ED4: 421 | EE4: 397 | EF4: 392 | EG4: 389 | EH4: 409 | EI4: 385 | EJ4: 371 | EK4: 376 | EL4: 372 | EM4: 376 | EN4: 384 | EO4: 387 | EP4: 383 | EQ4: 376 | ER4: 372 | ES4: 312 | ET4: 315 | EU4: 314 | EV4: 321 | EW4: 324 | EX4: 329 | EY4: 326 | EZ4: 323 | FA4: 320 | FB4: 320 | FC4: 308 | FD4: 302 | FE4: 313 | FF4: 324 | FG4: 317 | FH4: 322 | FI4: 323 | FJ4: 316 | FK4: 317 | FL4: 314 | FM4: 318 | FN4: 323 | FO4: 313 | FP4: 310 | FQ4: 309 | FR4: 303 | FS4: 298 | FT4: 307 | FU4: 303 | FV4: 297 | FW4: 279 | FX4: 305 | FY4: 297 | FZ4: 305 | GA4: 286 | GB4: 282 | GC4: 277 | GG4: 287 | GH4: 267 | GI4: 274 | GJ4: 285 | GK4: 274 | GL4: 288 | GM4: 301 | GN4: 285 | HB4: 400 | HC4: 412 | HD4: 0 | HE4: 407 | HF4: 416 | HG4: 417 | HH4: 0 | HI4: 0 | HJ4: 0 | HK4: 0 | HL4: 0 | HM4: 431 | HN4: 358 | HO4: 373 | HP4: 362 | HQ4: 425 | HR4: 416 | HS4: 421 | HT4: 426 | HU4: 426 | HV4: 424 | HW4: 384 | HX4: 384 | HY4: 379 | HZ4: 403 | IA4: 432 | IB4: 461 | IC4: 427 | ID4: 408 | IE4: 405 | IF4: 417 | IG4: 402 | IH4: 406 | II4: 398 | IJ4: 414 | IK4: 413 | IL4: 0 | IM4: 0 | IN4: 0 | IO4: 0 | IP4: 0 | IQ4: 0 | IR4: 0 | IS4: 0 | IT4: 0 | IU4: 0 | IV4: 0 | IW4: 0 | IX4: 0 | IY4: 419 | IZ4: 0 | JA4: 0 | JB4: 419 | JC4: 0 | JD4: 0 | JE4: 0 | JF4: 0 | JG4: 0 | JH4: 403 | JI4: 417 | JJ4: 0
D5: 前年同月比 | E5: #DIV/0! | R5: =ROUND(R4/F4*100,1) -> 94.1 | S5: =ROUND(S4/G4*100,1) -> 149.6 | T5: =ROUND(T4/H4*100,1) -> 144.8 | U5: =ROUND(U4/I4*100,1) -> 109.4 | V5: =ROUND(V4/J4*100,1) -> 108.8 | W5: =ROUND(W4/K4*100,1) -> 102.2 | X5: =ROUND(X4/L4*100,1) -> 102.9 | Y5: =ROUND(Y4/M4*100,1) -> 98.9 | ... PI5: =ROUND(PI4/OW4*100,1) -> #DIV/0!
F6: =ROUNDDOWN(E5,0)&"." -> #DIV/0! | G6: =ROUND((+E5-ROUNDDOWN(E5,0))*10,0) -> #DIV/0!
B7: 木船工場数 | E7: 121 | F7: 76 | G7: 77 | H7: 75 | I7: 71 | J7: 67 | K7: 67 | L7: 72 | M7: 69 | N7: 65 | O7: 69 | P7: 69 | Q7: 68 | R7: 61 | S7: 65 | T7: 71 | U7: 65 | V7: 67 | W7: 67 | X7: 66 | Y7: 71 | Z7: 65 | AA7: 66 | AB7: 75 | AC7: 59 | AD7: 132 | AE7: 142 | AF7: 134 | AG7: 140 | AH7: 135 | AI7: 136 | AJ7: 138 | AK7: 144 | AL7: 143 | AM7: 137 | AN7: 136 | AO7: 156 | AP7: 135 | AQ7: 140 | AR7: 142 | AS7: 134 | AT7: 136 | AU7: 138 | AV7: 129 | AW7: 131 | AX7: 141 | AY7: 137 | AZ7: 138 | BA7: 147 | BB7: 138 | BC7: 142 | BD7: 141 | BE7: 126 | BF7: 139 | BG7: 141 | BH7: 121 | CX7: 163 | CY7: 159 | CZ7: 160 | DA7: 160 | DB7: 164 | DC7: 165 | DD7: 165 | DE7: 167 | DF7: 164 | DG7: 178 | DH7: 188 | DI7: 230 | DJ7: 115 | DK7: 114 | DL7: 115 | DM7: 115 | DN7: 114 | DO7: 115 | DP7: 115 | DQ7: 116 | DR7: 171 | DS7: 168 | DT7: 170 | DU7: 56 | DV7: 129 | DW7: 130 | DX7: 139 | DY7: 135 | DZ7: 135 | EA7: 135 | EB7: 132 | EC7: 134 | ED7: 133 | EE7: 108 | EF7: 106 | EG7: 107 | EH7: 134 | EI7: 102 | EJ7: 94 | EK7: 92 | EL7: 92 | EM7: 94 | EN7: 98 | EO7: 97 | EP7: 97 | EQ7: 81 | ER7: 81 | ES7: 54 | ET7: 56 | EU7: 56 | EV7: 56 | EW7: 57 | EX7: 57 | EY7: 58 | EZ7: 58 | FA7: 51 | FB7: 51 | FC7: 53 | FD7: 47 | FE7: 51 | FF7: 57 | FG7: 53 | FH7: 54 | FI7: 54 | FJ7: 51 | FK7: 50 | FL7: 49 | FM7: 56 | FN7: 59 | FO7: 55 | FP7: 56 | FQ7: 51 | FR7: 58 | FS7: 48 | FT7: 57 | FU7: 59 | FV7: 57 | FW7: 64 | FX7: 62 | FY7: 63 | FZ7: 61 | GA7: 63 | GB7: 63 | GC7: 62 | GD7: 64 | GE7: 63 | GF7: 65 | GG7: 58 | GH7: 58 | GI7: 60 | GJ7: 60 | GK7: 51 | GL7: 53 | GM7: 63 | GN7: 64 | GO7: 66 | GP7: 58 | GQ7: 55 | GR7: 59 | GS7: 56 | GT7: 61 | GU7: 61 | GV7: 55 | GW7: 54 | GX7: 63 | GY7: 59 | GZ7: 58 | HA7: 58 | HB7: 174 | HC7: 165 | HD7: 0 | HE7: 174 | HF7: 160 | HG7: 158 | HH7: 0 | HI7: 0 | HJ7: 0 | HK7: 0 | HL7: 0 | HM7: 162 | HN7: 163 | HO7: 156 | HP7: 145 | HQ7: 169 | HR7: 161 | HS7: 161 | HT7: 157 | HU7: 159 | HV7: 162 | HW7: 158 | HX7: 155 | HY7: 145 | HZ7: 152 | IA7: 155 | IB7: 166 | IC7: 158 | ID7: 155 | IE7: 153 | IF7: 152 | IG7: 149 | IH7: 151 | II7: 151 | IJ7: 149 | IK7: 154 | IL7: 0 | IM7: 0 | IN7: 0 | IO7: 0 | IP7: 0 | IQ7: 0 | IR7: 0 | IS7: 0 | IT7: 0 | IU7: 0 | IV7: 0 | IW7: 0 | IX7: 0 | IY7: 144 | IZ7: 0 | JA7: 0 | JB7: 144 | JC7: 0 | JD7: 0 | JE7: 0 | JF7: 0 | JG7: 0 | JH7: 136 | JI7: 135 | JJ7: 0
D8: 前年同月比 | E8: #DIV/0! | R8: =ROUND(R7/F7*100,1) -> 80.3 | S8: =ROUND(S7/G7*100,1) -> 84.4 | T8: =ROUND(T7/H7*100,1) -> 94.7 | U8: =ROUND(U7/I7*100,1) -> 91.5 | V8: =ROUND(V7/J7*100,1) -> 100 | W8: =ROUND(W7/K7*100,1) -> 100 | X8: =ROUND(X7/L7*100,1) -> 91.7 | Y8: =ROUND(Y7/M7*100,1) -> 102.9 | ... PI8: =ROUND(PI7/OW7*100,1) -> #DIV/0!
F9: =ROUNDDOWN(E8,0)&"." -> #DIV/0! | G9: =ROUND((+E8-ROUNDDOWN(E8,0))*10,0) -> #DIV/0!
B10: 起工 | D10: 隻数 | E10: 24 | F10: 30 | G10: 38 | H10: 34 | I10: 45 | J10: 37 | K10: 38 | L10: 43 | M10: 28 | N10: 41 | O10: 45 | P10: 95 | Q10: 137 | R10: 54 | S10: 32 | T10: 39 | U10: 36 | V10: 38 | W10: 38 | X10: 41 | Y10: 27 | Z10: 35 | AA10: 46 | AB10: 43 | AC10: 42 | AD10: 33 | AE10: 37 | AF10: 41 | AG10: 37 | AH10: 46 | AI10: 44 | AJ10: 44 | AK10: 33 | AL10: 53 | AM10: 40 | AN10: 59 | AO10: 38 | AP10: 30 | AQ10: 43 | AR10: 47 | AS10: 36 | AT10: 54 | AU10: 49 | AV10: 33 | AW10: 44 | AX10: 51 | AY10: 42 | AZ10: 39 | BA10: 49 | BB10: 47 | BC10: 34 | BD10: 60 | BE10: 47 | BF10: 52 | BG10: 44 | BH10: 70 | CX10: 42 | CY10: 45 | CZ10: 37 | DA10: 44 | DB10: 40 | DC10: 46 | DD10: 47 | DE10: 40 | DF10: 41 | DG10: 51 | DH10: 44 | DI10: 40 | DJ10: 35 | DK10: 44 | DL10: 52 | DM10: 46 | DN10: 31 | DO10: 37 | DP10: 64 | DQ10: 47 | DR10: 29 | DS10: 45 | DT10: 41 | DU10: 44 | DV10: 34 | DW10: 49 | DX10: 46 | DY10: 48 | DZ10: 41 | EA10: 57 | EB10: 58 | EC10: 44 | ED10: 36 | EE10: 48 | EF10: 41 | EG10: 40 | EH10: 37 | EI10: 44 | EJ10: 51 | EK10: 41 | EL10: 33 | EM10: 48 | EN10: 51 | EO10: 36 | EP10: 53 | EQ10: 64 | ER10: 50 | ES10: 66 | ET10: 27 | EU10: 41 | EV10: 40 | EW10: 43 | EX10: 39 | EY10: 51 | EZ10: 50 | FA10: 33 | FB10: 42 | FC10: 38 | FD10: 42 | FE10: 36 | FF10: 34 | FG10: 49 | FH10: 41 | FI10: 40 | FJ10: 34 | FK10: 26 | FL10: 42 | FM10: 27 | FN10: 37 | FO10: 38 | FP10: 35 | FQ10: 36 | FR10: 26 | FS10: 40 | FT10: 35 | FU10: 36 | FV10: 34 | FW10: 37 | FX10: 49 | FY10: 29 | FZ10: 31 | GA10: 40 | GB10: 43 | GC10: 37 | GD10: 33 | GE10: 38 | GF10: 45 | GG10: 36 | GH10: 44 | GI10: 40 | GJ10: 43 | GK10: 34 | GL10: 48 | GM10: 44 | GN10: 48 | GO10: 46 | GP10: 37 | GQ10: 38 | GR10: 38 | GS10: 43 | GT10: 34 | GU10: 31 | GV10: 35 | GW10: 30 | GX10: 35 | GY10: 39 | GZ10: 36 | HA10: 42 | HB10: 24 | HC10: 28 | HD10: 47 | HE10: 31 | HF10: 38 | HG10: 34 | HH10: 50 | HI10: 29 | HJ10: 31 | HK10: 28 | HL10: 36 | HM10: 33 | HN10: 24 | HO10: 30 | HP10: 40 | HQ10: 31 | HR10: 31 | HS10: 34 | HT10: 29 | HU10: 29 | HV10: 42 | HW10: 28 | HX10: 37 | HY10: 27 | HZ10: 33 | IA10: 33 | IB10: 32 | IC10: 37 | ID10: 24 | IE10: 35 | IF10: 40 | IG10: 24 | IH10: 40 | II10: 35 | IJ10: 29 | IK10: 30 | IL10: 25 | IM10: 32 | IN10: 26 | IO10: 46 | IP10: 31 | IQ10: 34 | IR10: 41 | IS10: 23 | IT10: 35 | IU10: 31 | IV10: 35 | IW10: 29 | IX10: 27 | IY10: 33 | IZ10: 37 | JA10: 36 | JB10: 28 | JC10: 31 | JD10: 33 | JE10: 24 | JF10: 28 | JG10: 37 | JH10: 28 | JI10: 29 | JJ10: 24
D11: Ｇ／Ｔ | E11: 804243 | F11: 918921 | G11: 1049260 | H11: 875420 | I11: 1453239 | J11: 934895 | K11: 1234608 | L11: 1084978 | M11: 580703 | N11: 1493526 | O11: 1194720 | P11: 3122600 | Q11: 5214718 | R11: 1453160 | S11: 1079780 | T11: 1295581 | U11: 762512 | V11: 1146331 | W11: 1049706 | X11: 1301970 | Y11: 519753 | Z11: 1121898 | AA11: 1159072 | AB11: 1035223 | AC11: 1061977 | AD11: 981000 | AE11: 1377435 | AF11: 968155 | AG11: 1247406 | AH11: 1284678 | AI11: 1093713 | AJ11: 1295338 | AK11: 850685 | AL11: 1154400 | AM11: 1203776 | AN11: 1771621 | AO11: 1115081 | AP11: 846165 | AQ11: 1480809 | AR11: 1305304 | AS11: 938720 | AT11: 1320710 | AU11: 1445486 | AV11: 880284 | AW11: 1664594 | AX11: 906869 | AY11: 1187142 | AZ11: 1329211 | BA11: 1310481 | BB11: 1177066 | BC11: 994797 | BD11: 1562002 | BE11: 1628258 | BF11: 1223928 | BG11: 1463733 | BH11: 1451002 | CX11: 1045000 | CY11: 1559347 | CZ11: 1140910 | DA11: 1106743 | DB11: 1129771 | DC11: 1107689 | DD11: 1417655 | DE11: 965398 | DF11: 1144211 | DG11: 1321038 | DH11: 945576 | DI11: 1042932 | DJ11: 889081 | DK11: 1030932 | DL11: 1173391 | DM11: 1012177 | DN11: 572726 | DO11: 1301041 | DP11: 1079167 | DQ11: 1215139 | DR11: 595057 | DS11: 1107980 | DT11: 1157713 | DU11: 1104896 | DV11: 1054124 | DW11: 1034208 | DX11: 874772 | DY11: 905543 | DZ11: 1205138 | EA11: 1120129 | EB11: 1154061 | EC11: 656034 | ED11: 873500 | EE11: 1133956 | EF11: 1120885 | EG11: 1007725 | EH11: 1069186 | EI11: 996020 | EJ11: 1339105 | EK11: 907097 | EL11: 846112 | EM11: 1515913 | EN11: 1201449 | EO11: 747992 | EP11: 1455805 | EQ11: 1671507 | ER11: 948805 | ES11: 1523143 | ET11: 981616 | EU11: 977260 | EV11: 961017 | EW11: 1090732 | EX11: 1011739 | EY11: 863694 | EZ11: 1247897 | FA11: 571730 | FB11: 1452656 | FC11: 732889 | FD11: 1228203 | FE11: 1165397 | FF11: 785782 | FG11: 1452432 | FH11: 911824 | FI11: 1000077 | FJ11: 1348227 | FK11: 949806 | FL11: 995273 | FM11: 971631 | FN11: 846332 | FO11: 911560 | FP11: 920903 | FQ11: 1219695 | FR11: 808057 | FS11: 1127337 | FT11: 795794 | FU11: 988559 | FV11: 630741 | FW11: 1203020 | FX11: 812681 | FY11: 798246 | FZ11: 1182044 | GA11: 807213 | GB11: 931667 | GC11: 1013503 | GD11: 806062 | GE11: 1142453 | GF11: 931287 | GG11: 953012 | GH11: 959216 | GI11: 1282803 | GJ11: 1000819 | GK11: 736774 | GL11: 1331786 | GM11: 1107244 | GN11: 1142081 | GO11: 1189457 | GP11: 851628 | GQ11: 849981 | GR11: 1095028 | GS11: 927662 | GT11: 906380 | GU11: 765760 | GV11: 706743 | GW11: 684545 | GX11: 858025 | GY11: 1081919 | GZ11: 576152 | HA11: 1483394 | HB11: 562063 | HC11: 490987 | HD11: 729665 | HE11: 950062 | HF11: 620314 | HG11: 839521 | HH11: 739698 | HI11: 597566 | HJ11: 574019 | HK11: 781151 | HL11: 1016467 | HM11: 602968 | HN11: 415345 | HO11: 906809 | HP11: 873656 | HQ11: 548541 | HR11: 854988 | HS11: 1024953 | HT11: 502287 | HU11: 452788 | HV11: 937827 | HW11: 537874 | HX11: 646161 | HY11: 910940 | HZ11: 767024 | IA11: 1158121 | IB11: 620173 | IC11: 741677 | ID11: 562582 | IE11: 843572 | IF11: 1010011 | IG11: 493251 | IH11: 720950 | II11: 806729 | IJ11: 882650 | IK11: 897671 | IL11: 698328 | IM11: 598252 | IN11: 720760 | IO11: 1055318 | IP11: 736567 | IQ11: 803216 | IR11: 785874 | IS11: 565272 | IT11: 999023 | IU11: 794384 | IV11: 712235 | IW11: 627258 | IX11: 847425 | IY11: 685118 | IZ11: 971735 | JA11: 847684 | JB11: 765538 | JC11: 717508 | JD11: 812297 | JE11: 884009 | JF11: 439863 | JG11: 1052535 | JH11: 548545 | JI11: 995819 | JJ11: 804243
AL12: 42
B13: 進水 | D13: 隻数 | E13: 28 | F13: 38 | G13: 40 | H13: 33 | I13: 55 | J13: 36 | K13: 45 | L13: 47 | M13: 17 | N13: 44 | O13: 43 | P13: 48 | Q13: 52 | R13: 27 | S13: 51 | T13: 43 | U13: 38 | V13: 49 | W13: 44 | X13: 53 | Y13: 29 | Z13: 54 | AA13: 57 | AB13: 42 | AC13: 59 | AD13: 49 | AE13: 48 | AF13: 44 | AG13: 47 | AH13: 42 | AI13: 44 | AJ13: 49 | AK13: 42 | AL13: 42 | AM13: 55 | AN13: 47 | AO13: 47 | AP13: 49 | AQ13: 42 | AR13: 57 | AS13: 39 | AT13: 58 | AU13: 49 | AV13: 56 | AW13: 47 | AX13: 38 | AY13: 60 | AZ13: 58 | BA13: 44 | BB13: 56 | BC13: 49 | BD13: 41 | BE13: 53 | BF13: 47 | BG13: 42 | BH13: 58 | CX13: 52 | CY13: 46 | CZ13: 58 | DA13: 47 | DB13: 53 | DC13: 48 | DD13: 47 | DE13: 49 | DF13: 37 | DG13: 55 | DH13: 43 | DI13: 44 | DJ13: 50 | DK13: 46 | DL13: 58 | DM13: 35 | DN13: 48 | DO13: 41 | DP13: 50 | DQ13: 42 | DR13: 43 | DS13: 52 | DT13: 41 | DU13: 51 | DV13: 44 | DW13: 47 | DX13: 46 | DY13: 47 | DZ13: 39 | EA13: 43 | EB13: 66 | EC13: 35 | ED13: 46 | EE13: 54 | EF13: 51 | EG13: 49 | EH13: 48 | EI13: 49 | EJ13: 54 | EK13: 53 | EL13: 34 | EM13: 49 | EN13: 54 | EO13: 49 | EP13: 51 | EQ13: 56 | ER13: 47 | ES13: 45 | ET13: 45 | EU13: 47 | EV13: 55 | EW13: 49 | EX13: 51 | EY13: 47 | EZ13: 61 | FA13: 33 | FB13: 53 | FC13: 46 | FD13: 61 | FE13: 42 | FF13: 41 | FG13: 47 | FH13: 47 | FI13: 46 | FJ13: 35 | FK13: 51 | FL13: 42 | FM13: 40 | FN13: 40 | FO13: 43 | FP13: 34 | FQ13: 42 | FR13: 43 | FS13: 33 | FT13: 50 | FU13: 41 | FV13: 42 | FW13: 46 | FX13: 52 | FY13: 40 | FZ13: 41 | GA13: 39 | GB13: 46 | GC13: 52 | GD13: 41 | GE13: 53 | GF13: 56 | GG13: 45 | GH13: 46 | GI13: 44 | GJ13: 50 | GK13: 44 | GL13: 48 | GM13: 48 | GN13: 47 | GO13: 49 | GP13: 56 | GQ13: 43 | GR13: 55 | GS13: 50 | GT13: 45 | GU13: 35 | GV13: 48 | GW13: 42 | GX13: 41 | GY13: 43 | GZ13: 43 | HA13: 43 | HB13: 32 | HC13: 45 | HD13: 40 | HE13: 40 | HF13: 33 | HG13: 28 | HH13: 46 | HI13: 35 | HJ13: 39 | HK13: 40 | HL13: 39 | HM13: 42 | HN13: 34 | HO13: 36 | HP13: 39 | HQ13: 39 | HR13: 34 | HS13: 43 | HT13: 32 | HU13: 41 | HV13: 40 | HW13: 30 | HX13: 41 | HY13: 31 | HZ13: 35 | IA13: 37 | IB13: 39 | IC13: 36 | ID13: 30 | IE13: 33 | IF13: 40 | IG13: 26 | IH13: 39 | II13: 37 | IJ13: 42 | IK13: 39 | IL13: 35 | IM13: 35 | IN13: 30 | IO13: 42 | IP13: 30 | IQ13: 40 | IR13: 29 | IS13: 30 | IT13: 36 | IU13: 39 | IV13: 40 | IW13: 28 | IX13: 37 | IY13: 34 | IZ13: 38 | JA13: 33 | JB13: 37 | JC13: 33 | JD13: 42 | JE13: 28 | JF13: 29 | JG13: 39 | JH13: 34 | JI13: 29 | JJ13: 28
D14: Ｇ／Ｔ | E14: 635261 | F14: 1204362 | G14: 794971 | H14: 1025134 | I14: 1291349 | J14: 1341244 | K14: 1387038 | L14: 1028344 | M14: 668828 | N14: 1297473 | O14: 1023998 | P14: 1594572 | Q14: 1472572 | R14: 744920 | S14: 1390703 | T14: 1315060 | U14: 1030721 | V14: 1724607 | W14: 966608 | X14: 1657628 | Y14: 1105113 | Z14: 1669281 | AA14: 1208968 | AB14: 1118368 | AC14: 1534005 | AD14: 1410204 | AE14: 1271705 | AF14: 1384428 | AG14: 1499622 | AH14: 1397659 | AI14: 1104717 | AJ14: 1599594 | AK14: 951690 | AL14: 1647290 | AM14: 1826602 | AN14: 1437923 | AO14: 1569733 | AP14: 1219305 | AQ14: 1391278 | AR14: 1611217 | AS14: 1329569 | AT14: 1409225 | AU14: 1336427 | AV14: 1846451 | AW14: 1217079 | AX14: 1087091 | AY14: 2097970 | AZ14: 1291892 | BA14: 1261989 | BB14: 1715820 | BC14: 1403079 | BD14: 1297938 | BE14: 1457782 | BF14: 1477323 | BG14: 1344028 | BH14: 1540516 | CX14: 1463004 | CY14: 1444213 | CZ14: 1729024 | DA14: 1626016 | DB14: 1412216 | DC14: 1171750 | DD14: 1346350 | DE14: 1554087 | DF14: 1225361 | DG14: 1600650 | DH14: 1329848 | DI14: 1128174 | DJ14: 1339300 | DK14: 972521 | DL14: 1625839 | DM14: 870979 | DN14: 1155281 | DO14: 1246796 | DP14: 1104646 | DQ14: 864936 | DR14: 896467 | DS14: 1064102 | DT14: 939844 | DU14: 1285022 | DV14: 1235925 | DW14: 1005828 | DX14: 945194 | DY14: 1390009 | DZ14: 980469 | EA14: 1182803 | EB14: 1271594 | EC14: 964153 | ED14: 1086179 | EE14: 1156746 | EF14: 1163917 | EG14: 1188652 | EH14: 1139668 | EI14: 1084242 | EJ14: 1397993 | EK14: 1048244 | EL14: 902159 | EM14: 1423327 | EN14: 879666 | EO14: 1132344 | EP14: 1390072 | EQ14: 1089546 | ER14: 1213577 | ES14: 941863 | ET14: 1207004 | EU14: 938650 | EV14: 1450126 | EW14: 1216230 | EX14: 1091254 | EY14: 997430 | EZ14: 1245653 | FA14: 804507 | FB14: 1255839 | FC14: 967993 | FD14: 1740891 | FE14: 963414 | FF14: 859823 | FG14: 1147526 | FH14: 1302058 | FI14: 1099969 | FJ14: 917904 | FK14: 1196703 | FL14: 1130563 | FM14: 1254170 | FN14: 992474 | FO14: 1063835 | FP14: 1275695 | FQ14: 1450858 | FR14: 830541 | FS14: 966053 | FT14: 1341818 | FU14: 986727 | FV14: 912011 | FW14: 1000160 | FX14: 1033380 | FY14: 1109243 | FZ14: 1277427 | GA14: 785050 | GB14: 1448728 | GC14: 1269422 | GD14: 850149 | GE14: 1372537 | GF14: 1286817 | GG14: 1000151 | GH14: 1268772 | GI14: 1413150 | GJ14: 1128063 | GK14: 928048 | GL14: 1589093 | GM14: 1145048 | GN14: 1060148 | GO14: 1373250 | GP14: 1029284 | GQ14: 1088557 | GR14: 1449586 | GS14: 968251 | GT14: 993476 | GU14: 763000 | GV14: 995493 | GW14: 767090 | GX14: 1068163 | GY14: 849326 | GZ14: 945993 | HA14: 1279097 | HB14: 626681 | HC14: 824549 | HD14: 1056453 | HE14: 887750 | HF14: 649909 | HG14: 1124933 | HH14: 1008566 | HI14: 751442 | HJ14: 512320 | HK14: 902712 | HL14: 1079181 | HM14: 580882 | HN14: 716140 | HO14: 1014507 | HP14: 812992 | HQ14: 623803 | HR14: 658716 | HS14: 1083196 | HT14: 496823 | HU14: 852108 | HV14: 845867 | HW14: 577848 | HX14: 704916 | HY14: 982144 | HZ14: 538921 | IA14: 1118663 | IB14: 676560 | IC14: 848089 | ID14: 508564 | IE14: 1030026 | IF14: 1400738 | IG14: 508841 | IH14: 825447 | II14: 900138 | IJ14: 853250 | IK14: 861434 | IL14: 807276 | IM14: 614072 | IN14: 651863 | IO14: 972197 | IP14: 726240 | IQ14: 907811 | IR14: 696326 | IS14: 769646 | IT14: 819531 | IU14: 709890 | IV14: 1010285 | IW14: 759019 | IX14: 985684 | IY14: 553898 | IZ14: 944814 | JA14: 675648 | JB14: 1047460 | JC14: 635799 | JD14: 875343 | JE14: 1037910 | JF14: 652898 | JG14: 959234 | JH14: 634688 | JI14: 855583 | JJ14: 635261
F15: =IF(J15>=1,J15,"") -> 63 | G15: =IF(F15="","","万") -> 万 | H15: =IF(K15>0,K15,"") -> 5 | I15: =IF(H15="","","千") -> 千 | J15: =IF(M15=10,L15+1,L15) -> 63 | K15: =IF(M15<10,M15,"") -> 5 | L15: =ROUNDDOWN(E14/10000,0) -> 63 | M15: =ROUND((+E14-ROUNDDOWN(E14/10000,0)*10000)/1000,0) -> 5
C16: 合 | D16: 隻数 | E16: 30 | F16: =F31 -> 52 | G16: =G31 -> 43 | H16: =H31 -> 65 | I16: =I31 -> 35 | J16: =J31 -> 42 | K16: =K31 -> 50 | L16: =L31 -> 36 | M16: =M31 -> 31 | ... AM16: =AM31 -> 40 | AO16: =AO31 -> 38 | AP16: =AP31 -> 65 | AQ16: =AQ31 -> 33 | AR16: =AR31 -> 89 | AS16: =AS31 -> 37 | AT16: =AT31 -> 50 | AU16: =AU31 -> 69 | AV16: =AV31 -> 55 | ... PI16: =PI31 -> 0
D17: Ｇ／Ｔ | E17: 914234 | F17: =F22+F27 -> 1493812 | G17: =G22+G27 -> 1150020 | H17: =H22+H27 -> 1176712 | I17: =I22+I27 -> 1101146 | J17: =J22+J27 -> 1132031 | K17: =K22+K27 -> 1352270 | L17: =L22+L27 -> 1049593 | M17: =M22+M27 -> 839191 | ... AM17: =AM22+AM27 -> 1406593 | AO17: =AO22+AO27 -> 1115081 | AP17: =AP22+AP27 -> 2167974 | AQ17: =AQ22+AQ27 -> 794731 | AR17: =AR22+AR27 -> 2303494 | AS17: =AS22+AS27 -> 1250666 | AT17: =AT22+AT27 -> 1047891 | AU17: =AU22+AU27 -> 1927338 | AV17: =AV22+AV27 -> 1516360 | ... PI17: =PI22+PI27 -> 0
B18: 竣 | C18: 計 | D18: 竣工船価 | E18: 158877339 | F18: =F23+F28 -> 148915981 | G18: =G23+G28 -> 139821575 | H18: =H23+H28 -> 114618291 | I18: =I23+I28 -> 95141191 | J18: =J23+J28 -> 132153381 | K18: =K23+K28 -> 151535190 | L18: =L23+L28 -> 101999496 | M18: =M23+M28 -> 72939505 | ... AM18: =AM23+AM28 -> 119081938 | AO18: =AO23+AO28 -> 102676743 | AP18: =AP23+AP28 -> 205046492 | AQ18: =AQ23+AQ28 -> 77211758 | AR18: =AR23+AR28 -> 211891620 | AS18: =AS23+AS28 -> 105381902 | AT18: =AT23+AT28 -> 107009168 | AU18: =AU23+AU28 -> 235531176 | AV18: =AV23+AV28 -> 162439297 | ... PI18: =PI23+PI28 -> 0
F19: =IF(J19>=1,J19,"") -> 91 | G19: =IF(F19="","","万") -> 万 | H19: =IF(K19>0,K19,"") -> 4 | I19: =IF(H19="","","千") -> 千 | J19: =IF(M19=10,L19+1,L19) -> 91 | K19: =IF(M19<10,M19,"") -> 4 | L19: =ROUNDDOWN(E17/10000,0) -> 91 | M19: =ROUND((+E17-ROUNDDOWN(E17/10000,0)*10000)/1000,0) -> 4
F20: =IF(ROUNDDOWN(E18/100000000,0)>0,+ROUNDDOWN(E18/100000000,0)&",","")&+IF(ROUND(E18/100000,0)-(ROUNDDOWN(E18/100000000,0)*1000)>99,ROUND(E18/100000,0)-ROUNDDOWN(E18/100000000,0)*1000,IF(ROUND(E18/100000,0)-ROUNDDOWN(E18/100000000,0)*1000>9,"0"&+ROUND(E18/100000,0)-ROUNDDOWN(E18/100000000,0)*1000,"00"&+ROUND(E18/100000,0)-ROUNDDOWN(E18/100000000,0)*1000)) -> 1,589
C21: 国 | D21: 隻数 | E21: 7 | F21: =F32 -> 13 | G21: =G32 -> 10 | H21: =H32 -> 27 | I21: =I32 -> 12 | J21: =J32 -> 16 | K21: =K32 -> 15 | L21: =L32 -> 10 | M21: =M32 -> 7 | ... AM21: =AM32 -> 12 | AO21: =AO32 -> 10 | AP21: =AP32 -> 11 | AQ21: =AQ32 -> 13 | AR21: =AR32 -> 33 | AS21: =AS32 -> 10 | AT21: =AT32 -> 17 | AU21: =AU32 -> 20 | AV21: =AV32 -> 11 | ... PI21: =PI32 -> 0
C22: 内 | D22: Ｇ／Ｔ | E22: 2340 | F22: 5297 | G22: 1940 | H22: 14134 | I22: 1964 | J22: 163757 | K22: 66051 | L22: 162117 | M22: 4434 | N22: 5815 | O22: 9049 | P22: 14131 | Q22: 4193 | R22: 21020 | S22: 2302 | T22: 146905 | U22: 1951 | V22: 1822 | W22: 4051 | X22: 119768 | Y22: 25747 | Z22: 12778 | AA22: 5118 | AB22: 17915 | AC22: 12371 | AD22: 24772 | AE22: 19364 | AF22: 8414 | AG22: 12407 | AH22: 4609 | AI22: 13862 | AJ22: 66962 | AK22: 23169 | AL22: 28216 | AM22: 5735 | AN22: 17104 | AO22: 12882 | AP22: 11533 | AQ22: 15435 | AR22: 9674 | AS22: 2268 | AT22: 10685 | AU22: 18598 | AV22: 3675 | AW22: 48058 | AX22: 56341 | AY22: 96281 | AZ22: 84751 | BA22: 62929 | BB22: 15576 | BC22: 60756 | BD22: 13105 | BE22: 20535 | BF22: 54648 | BG22: 167660 | BH22: 11604 | CX22: 98469 | CY22: 8281 | CZ22: 130228 | DA22: 29818 | DB22: 189469 | DC22: 256437 | DD22: 8527 | DE22: 144182 | DF22: 105863 | DG22: 143594 | DH22: 47667 | DI22: 2604 | DJ22: 100395 | DK22: 21496 | DL22: 84850 | DM22: 10798 | DN22: 75746 | DO22: 22519 | DP22: 17512 | DQ22: 10722 | DR22: 274752 | DS22: 14334 | DT22: 12679 | DU22: 179672 | DV22: 11113 | DW22: 59907 | DX22: 263702 | DY22: 29661 | DZ22: 187020 | EA22: 136048 | EB22: 122776 | EC22: 21804 | ED22: 15742 | EE22: 13779 | EF22: 143137 | EG22: 21256 | EH22: 120758 | EI22: 11281 | EJ22: 66628 | EK22: 77287 | EL22: 34918 | EM22: 13661 | EN22: 9965 | EO22: 154270 | EP22: 38843 | EQ22: 199789 | ER22: 108356 | ES22: 26691 | ET22: 108413 | EU22: 59376 | EV22: 16901 | EW22: 4291 | EX22: 65229 | EY22: 5743 | EZ22: 15673 | FA22: 12244 | FB22: 107970 | FC22: 216601 | FD22: 12592 | FE22: 5305 | FF22: 9752 | FG22: 144656 | FH22: 124923 | FI22: 24116 | FJ22: 69680 | FK22: 65728 | FL22: 5086 | FM22: 26132 | FN22: 87171 | FO22: 37818 | FP22: 26881 | FQ22: 194051 | FR22: 77834 | FS22: 170017 | FT22: 376613 | FU22: 371634 | FV22: 52338 | FW22: 533900 | FX22: 176070 | FY22: 140286 | FZ22: 54610 | GA22: 293975 | GB22: 60290 | GC22: 23145 | GD22: 103217 | GE22: 275847 | GF22: 33085 | GG22: 280288 | GH22: 92694 | GI22: 47640 | GJ22: 327859 | GK22: 15559 | GL22: 54101 | GM22: 20204 | GN22: 23303 | GO22: 3882 | GP22: 14803 | GQ22: 35734 | GR22: 275633 | GS22: 16925 | GT22: 6532 | GU22: 60742 | GV22: 13948 | GW22: 23051 | GX22: 65225 | GY22: 81452 | GZ22: 9280 | HA22: 12602 | HB22: 38021 | HC22: 23795 | HD22: 145791 | HE22: 3144 | HF22: 17018 | HG22: 15290 | HH22: 57673 | HI22: 59274 | HJ22: 219769 | HK22: 102951 | HL22: 116035 | HM22: 85357 | HN22: 257955 | HO22: 53426 | HP22: 118877 | HQ22: 50864 | HR22: 3612 | HS22: 225638 | HT22: 43555 | HU22: 3940 | HV22: 42133 | HW22: 102757 | HX22: 16761 | HY22: 123692 | HZ22: 2197 | IA22: 7465 | IB22: 34233 | IC22: 16825 | ID22: 10900 | IE22: 3725 | IF22: 10702 | IG22: 3171 | IH22: 11961 | II22: 70831 | IJ22: 10554 | IK22: 3835 | IL22: 117958 | IM22: 9444 | IN22: 128188 | IO22: 15193 | IP22: 114009 | IQ22: 11123 | IR22: 22260 | IS22: 1271 | IT22: 5217 | IU22: 129393 | IV22: 1086 | IW22: 21800 | IX22: 7094 | IY22: 113224 | IZ22: 153107 | JA22: 81279 | JB22: 11155 | JC22: 82585 | JD22: 23224 | JE22: 120198 | JF22: 7428 | JG22: 261423 | JH22: 19275 | JI22: 121005 | JJ22: 2340
C23: 船 | D23: 竣工船価 | E23: 5982891 | F23: 4903071 | G23: 2424369 | H23: 15586565 | I23: 4302300 | J23: 12527310 | K23: 28881812 | L23: 11683440 | M23: 5776421 | N23: 5563604 | O23: 4998450 | P23: 5843547 | Q23: 7025285 | R23: 11915050 | S23: 3027236 | T23: 39131228 | U23: 2711753 | V23: 2323666 | W23: 4166900 | X23: 56785000 | Y23: 5339315 | Z23: 6975473 | AA23: 5808356 | AB23: 7126950 | AC23: 9211965 | AD23: 11432700 | AE23: 8921918 | AF23: 9658746 | AG23: 10494022 | AH23: 4219250 | AI23: 8730041 | AJ23: 12701602 | AK23: 15224250 | AL23: 15758042 | AM23: 3752000 | AN23: 9908073 | AO23: 5367703 | AP23: 4412375 | AQ23: 8431709 | AR23: 11508020 | AS23: 2947575 | AT23: 8543405 | AU23: 19434117 | AV23: 4876800 | AW23: 5015925 | AX23: 12521778 | AY23: 21462331 | AZ23: 23632782 | BA23: 14156775 | BB23: 9467885 | BC23: 13428310 | BD23: 17115220 | BE23: 13045224 | BF23: 13551771 | BG23: 36255310 | BH23: 9379564 | CX23: 40917400 | CY23: 10400888 | CZ23: 30375310 | DA23: 29313956 | DB23: 28288888 | DC23: 49571880 | DD23: 12864615 | DE23: 15236157 | DF23: 18047732 | DG23: 19239708 | DH23: 11706067 | DI23: 4681830 | DJ23: 24248734 | DK23: 17190005 | DL23: 34125953 | DM23: 9495375 | DN23: 18237103 | DO23: 25854230 | DP23: 13994857 | DQ23: 6726140 | DR23: 53640831 | DS23: 12124343 | DT23: 7695800 | DU23: 24610133 | DV23: 12909850 | DW23: 13921376 | DX23: 56069955 | DY23: 17539000 | DZ23: 23500218 | EA23: 29394748 | EB23: 28723252 | EC23: 11851035 | ED23: 19781285 | EE23: 15802762 | EF23: 29043055 | EG23: 12735702 | EH23: 16777527 | EI23: 20057738 | EJ23: 27576078 | EK23: 20923295 | EL23: 11640689 | EM23: 10861100 | EN23: 5518116 | EO23: 18101600 | EP23: 22944617 | EQ23: 32675368 | ER23: 31643480 | ES23: 13672256 | ET23: 15236216 | EU23: 19622397 | EV23: 39810382 | EW23: 6854234 | EX23: 14216080 | EY23: 9712392 | EZ23: 10716780 | FA23: 9276775 | FB23: 30586176 | FC23: 38188435 | FD23: 16433371 | FE23: 10263958 | FF23: 6087200 | FG23: 40193496 | FH23: 28808884 | FI23: 18666163 | FJ23: 17967792 | FK23: 22163113 | FL23: 7354780 | FM23: 15814755 | FN23: 22039940 | FO23: 20816810 | FP23: 19842633 | FQ23: 30890545 | FR23: 21370307 | FS23: 27350854 | FT23: 73196549 | FU23: 54507404 | FV23: 8430849 | FW23: 56781318 | FX23: 29929625 | FY23: 26649541 | FZ23: 12134317 | GA23: 39841111 | GB23: 9312110 | GC23: 17064129 | GD23: 52924241 | GE23: 67389019 | GF23: 38034783 | GG23: 41136775 | GH23: 24608940 | GI23: 23756408 | GJ23: 36582473 | GK23: 16846524 | GL23: 24456749 | GM23: 14210941 | GN23: 12589546 | GO23: 7909987 | GP23: 20298000 | GQ23: 47867640 | GR23: 87559931 | GS23: 14034526 | GT23: 10060575 | GU23: 43520036 | GV23: 19596846 | GW23: 14287349 | GX23: 19593276 | GY23: 17218228 | GZ23: 14015769 | HA23: 11649308 | HB23: 18262972 | HC23: 25589470 | HD23: 52348010 | HE23: 5652960 | HF23: 11737907 | HG23: 15336890 | HH23: 27756181 | HI23: 16081138 | HJ23: 30050037 | HK23: 14826653 | HL23: 34725229 | HM23: 41286342 | HN23: 26075760 | HO23: 8916877 | HP23: 64465892 | HQ23: 36826589 | HR23: 6523033 | HS23: 34218468 | HT23: 24346623 | HU23: 12422141 | HV23: 41255283 | HW23: 17966075 | HX23: 11433349 | HY23: 53015616 | HZ23: 5966470 | IA23: 10704080 | IB23: 68952262 | IC23: 17928481 | ID23: 18196568 | IE23: 6353040 | IF23: 17627351 | IG23: 6580308 | IH23: 13148217 | II23: 11819717 | IJ23: 14615298 | IK23: 7991041 | IL23: 20125626 | IM23: 19133289 | IN23: 97479267 | IO23: 11023668 | IP23: 15730020 | IQ23: 16055903 | IR23: 22333723 | IS23: 1953110 | IT23: 8877405 | IU23: 31630856 | IV23: 2165800 | IW23: 24407050 | IX23: 7774900 | IY23: 17370147 | IZ23: 68366846 | JA23: 18917140 | JB23: 14450963 | JC23: 38685869 | JD23: 18462902 | JE23: 24773401 | JF23: 8960580 | JG23: 59642828 | JH23: 13675000 | JI23: 31818995 | JJ23: 5982891
F24: =IF(J24>=1,J24,"") | G24: =IF(F24="","","万") | H24: =IF(K24>0,K24,"") -> 2 | I24: =IF(H24="","","千") -> 千 | J24: =IF(M24=10,L24+1,L24) -> 0 | K24: =IF(M24<10,M24,"") -> 2 | L24: =ROUNDDOWN(E22/10000,0) -> 0 | M24: =ROUND((+E22-ROUNDDOWN(E22/10000,0)*10000)/1000,0) -> 2
F25: =ROUND(E23/100000,0) -> 60
B26: 工 | C26: 輸 | D26: 隻数 | E26: 23 | F26: =F40 -> 39 | G26: =G40 -> 33 | H26: =H40 -> 38 | I26: =I40 -> 23 | J26: =J40 -> 26 | K26: =K40 -> 35 | L26: =L40 -> 26 | M26: =M40 -> 24 | ... AM26: =AM40 -> 28 | AO26: =AO40 -> 28 | AP26: =AP40 -> 54 | AQ26: =AQ40 -> 20 | AR26: =AR40 -> 56 | AS26: =AS40 -> 27 | AT26: =AT40 -> 33 | AU26: =AU40 -> 49 | AV26: =AV40 -> 44 | ... PI26: =PI40 -> 0
C27: 出 | D27: Ｇ／Ｔ | E27: 911894 | F27: 1488515 | G27: 1148080 | H27: 1162578 | I27: 1099182 | J27: 968274 | K27: 1286219 | L27: 887476 | M27: 834757 | N27: 1646679 | O27: 1420360 | P27: 875490 | Q27: 660774 | R27: 1574031 | S27: 1266027 | T27: 1712089 | U27: 1035389 | V27: 922962 | W27: 1193202 | X27: 1729374 | Y27: 985277 | Z27: 1400297 | AA27: 1417496 | AB27: 1481465 | AC27: 942058 | AD27: 1886931 | AE27: 1433747 | AF27: 1825368 | AG27: 1378754 | AH27: 1193691 | AI27: 1045385 | AJ27: 1328095 | AK27: 1438057 | AL27: 1571998 | AM27: 1400858 | AN27: 1419944 | AO27: 1102199 | AP27: 2156441 | AQ27: 779296 | AR27: 2293820 | AS27: 1248398 | AT27: 1037206 | AU27: 1908740 | AV27: 1512685 | AW27: 884822 | AX27: 1200668 | AY27: 1355783 | AZ27: 1285686 | BA27: 1156447 | BB27: 1914400 | BC27: 1364053 | BD27: 2383108 | BE27: 989824 | BF27: 1161901 | BG27: 1449587 | BH27: 1116323 | CX27: 2066875 | CY27: 1198316 | CZ27: 1863737 | DA27: 1629402 | DB27: 1208695 | DC27: 2003049 | DD27: 1142709 | DE27: 702562 | DF27: 1274026 | DG27: 870149 | DH27: 1008993 | DI27: 635449 | DJ27: 1965186 | DK27: 1209522 | DL27: 1727257 | DM27: 986636 | DN27: 1039680 | DO27: 1185009 | DP27: 1304055 | DQ27: 484199 | DR27: 1040141 | DS27: 983706 | DT27: 1072361 | DU27: 599721 | DV27: 1390468 | DW27: 1255691 | DX27: 1516657 | DY27: 697601 | DZ27: 801774 | EA27: 1080475 | EB27: 1060853 | EC27: 538382 | ED27: 1348305 | EE27: 1531602 | EF27: 649969 | EG27: 396026 | EH27: 1776497 | EI27: 810706 | EJ27: 1667532 | EK27: 741711 | EL27: 983188 | EM27: 805169 | EN27: 1341350 | EO27: 814627 | EP27: 1029265 | EQ27: 793844 | ER27: 615629 | ES27: 380617 | ET27: 1772271 | EU27: 1320429 | EV27: 1866079 | EW27: 879184 | EX27: 1045698 | EY27: 1092781 | EZ27: 676673 | FA27: 594026 | FB27: 1198569 | FC27: 644080 | FD27: 1100046 | FE27: 169553 | FF27: 1777659 | FG27: 808377 | FH27: 1796884 | FI27: 1048414 | FJ27: 644196 | FK27: 1229139 | FL27: 1036774 | FM27: 722783 | FN27: 884222 | FO27: 710654 | FP27: 734164 | FQ27: 530834 | FR27: 1860844 | FS27: 594352 | FT27: 1433721 | FU27: 793258 | FV27: 696245 | FW27: 1282407 | FX27: 837606 | FY27: 905945 | FZ27: 979964 | GA27: 845530 | GB27: 1027178 | GC27: 652791 | GD27: 1101976 | GE27: 1210038 | GF27: 1826239 | GG27: 1048358 | GH27: 1126482 | GI27: 1077208 | GJ27: 1414597 | GK27: 1183993 | GL27: 1312020 | GM27: 1902640 | GN27: 857136 | GO27: 741972 | GP27: 1821150 | GQ27: 1206504 | GR27: 1109010 | GS27: 1186747 | GT27: 706612 | GU27: 2032853 | GV27: 505990 | GW27: 566235 | GX27: 712693 | GY27: 978550 | GZ27: 725008 | HA27: 651460 | HB27: 1040039 | HC27: 1057176 | HD27: 1262994 | HE27: 616022 | HF27: 908947 | HG27: 887324 | HH27: 725006 | HI27: 687626 | HJ27: 873682 | HK27: 670356 | HL27: 676189 | HM27: 491010 | HN27: 836783 | HO27: 460900 | HP27: 1013305 | HQ27: 638835 | HR27: 569660 | HS27: 728665 | HT27: 945019 | HU27: 504899 | HV27: 778914 | HW27: 792509 | HX27: 845967 | HY27: 165337 | HZ27: 985360 | IA27: 654932 | IB27: 1011635 | IC27: 657099 | ID27: 340199 | IE27: 1002007 | IF27: 1101833 | IG27: 506870 | IH27: 703541 | II27: 898197 | IJ27: 696062 | IK27: 1116093 | IL27: 634810 | IM27: 634659 | IN27: 1225354 | IO27: 724190 | IP27: 635309 | IQ27: 748791 | IR27: 739151 | IS27: 645681 | IT27: 785649 | IU27: 577525 | IV27: 478368 | IW27: 512884 | IX27: 988854 | IY27: 695674 | IZ27: 1079643 | JA27: 470541 | JB27: 506609 | JC27: 1070605 | JD27: 807080 | JE27: 676979 | JF27: 865827 | JG27: 705387 | JH27: 683074 | JI27: 350628 | JJ27: 911894
C28: 船 | D28: 竣工船価 | E28: 152894448 | F28: 144012910 | G28: 137397206 | H28: 99031726 | I28: 90838891 | J28: 119626071 | K28: 122653378 | L28: 90316056 | M28: 67163084 | N28: 128676077 | O28: 125878320 | P28: 59267093 | Q28: 66281272 | R28: 105714605 | S28: 92062733 | T28: 136652199 | U28: 96220020 | V28: 67594668 | W28: 100175280 | X28: 110125519 | Y28: 80204816 | Z28: 108985253 | AA28: 101387092 | AB28: 117302543 | AC28: 82122715 | AD28: 172157736 | AE28: 126406301 | AF28: 180379293 | AG28: 101798300 | AH28: 99699638 | AI28: 77188461 | AJ28: 117508043 | AK28: 102091034 | AL28: 131124776 | AM28: 115329938 | AN28: 137605838 | AO28: 97309040 | AP28: 200634117 | AQ28: 68780049 | AR28: 200383600 | AS28: 102434327 | AT28: 98465763 | AU28: 216097059 | AV28: 157562497 | AW28: 88055716 | AX28: 128730016 | AY28: 148150424 | AZ28: 131238751 | BA28: 121552349 | BB28: 206944337 | BC28: 138488453 | BD28: 259082792 | BE28: 120269252 | BF28: 126495083 | BG28: 159517352 | BH28: 141272531 | CX28: 235034764 | CY28: 130895857 | CZ28: 197650892 | DA28: 177150776 | DB28: 116785900 | DC28: 241235716 | DD28: 107657810 | DE28: 91037206 | DF28: 122719724 | DG28: 88170196 | DH28: 102099833 | DI28: 63551213 | DJ28: 211484301 | DK28: 114291862 | DL28: 187897466 | DM28: 93499480 | DN28: 115849357 | DO28: 116169466 | DP28: 138922155 | DQ28: 57957092 | DR28: 98423457 | DS28: 90950565 | DT28: 102878592 | DU28: 56287498 | DV28: 146890794 | DW28: 117942280 | DX28: 155346794 | DY28: 111646307 | DZ28: 78618429 | EA28: 105085667 | EB28: 98310043 | EC28: 59224155 | ED28: 145799524 | EE28: 146430306 | EF28: 66805850 | EG28: 53448930 | EH28: 160089756 | EI28: 85530810 | EJ28: 160588481 | EK28: 71667308 | EL28: 108957061 | EM28: 84253096 | EN28: 135901677 | EO28: 78785660 | EP28: 101552702 | EQ28: 84456460 | ER28: 77087640 | ES28: 39919809 | ET28: 173886460 | EU28: 130474891 | EV28: 246815013 | EW28: 82602512 | EX28: 97993952 | EY28: 113045050 | EZ28: 72055706 | FA28: 66868613 | FB28: 111728041 | FC28: 73953064 | FD28: 95678585 | FE28: 28195781 | FF28: 182092537 | FG28: 77592301 | FH28: 201562856 | FI28: 142080011 | FJ28: 75070754 | FK28: 125555190 | FL28: 106649435 | FM28: 77303840 | FN28: 97069109 | FO28: 80831826 | FP28: 68108629 | FQ28: 55577271 | FR28: 199165793 | FS28: 87261505 | FT28: 171662870 | FU28: 83740160 | FV28: 72471628 | FW28: 144805700 | FX28: 87770409 | FY28: 96151961 | FZ28: 97264924 | GA28: 99223148 | GB28: 119731490 | GC28: 59891646 | GD28: 113982383 | GE28: 140437966 | GF28: 204134659 | GG28: 98381691 | GH28: 112020444 | GI28: 102547524 | GJ28: 145507313 | GK28: 114484570 | GL28: 133467461 | GM28: 150998765 | GN28: 80250212 | GO28: 65942750 | GP28: 147112966 | GQ28: 124170011 | GR28: 99475690 | GS28: 97304021 | GT28: 64877488 | GU28: 181299155 | GV28: 44612145 | GW28: 48918839 | GX28: 66152782 | GY28: 96736437 | GZ28: 69707098 | HA28: 71460112 | HB28: 104492645 | HC28: 95286851 | HD28: 135934816 | HE28: 55782232 | HF28: 85729139 | HG28: 81504819 | HH28: 66691360 | HI28: 77859075 | HJ28: 78578726 | HK28: 65088279 | HL28: 75591383 | HM28: 55463263 | HN28: 88061147 | HO28: 72917926 | HP28: 104525526 | HQ28: 65964383 | HR28: 66062870 | HS28: 67527805 | HT28: 100121782 | HU28: 67660920 | HV28: 92363443 | HW28: 96609915 | HX28: 103458260 | HY28: 27878705 | HZ28: 103489423 | IA28: 77846272 | IB28: 121100511 | IC28: 79772065 | ID28: 38971263 | IE28: 131119495 | IF28: 127448309 | IG28: 71157358 | IH28: 101169909 | II28: 108022172 | IJ28: 96621844 | IK28: 134008364 | IL28: 83917871 | IM28: 93337975 | IN28: 170416103 | IO28: 122086722 | IP28: 93450868 | IQ28: 116260212 | IR28: 139405588 | IS28: 89984394 | IT28: 121686486 | IU28: 98811359 | IV28: 90835115 | IW28: 88964506 | IX28: 162755656 | IY28: 116370579 | IZ28: 180999050 | JA28: 77020342 | JB28: 72908716 | JC28: 174977680 | JD28: 139167325 | JE28: 127792596 | JF28: 148923159 | JG28: 118883844 | JH28: 122988458 | JI28: 55196659 | JJ28: 152894448
F29: =IF(J29>=1,J29,"") -> 91 | G29: =IF(F29="","","万") -> 万 | H29: =IF(K29>0,K29,"") -> 2 | I29: =IF(H29="","","千") -> 千 | J29: =IF(M29=10,L29+1,L29) -> 91 | K29: =IF(M29<10,M29,"") -> 2 | L29: =ROUNDDOWN(E27/10000,0) -> 91 | M29: =ROUND((+E27-ROUNDDOWN(E27/10000,0)*10000)/1000,0) -> 2
F30: =IF(ROUNDDOWN(E28/100000000,0)>0,+ROUNDDOWN(E28/100000000,0)&",","")&+IF(ROUND(E28/100000,0)-(ROUNDDOWN(E28/100000000,0)*1000)>99,ROUND(E28/100000,0)-ROUNDDOWN(E28/100000000,0)*1000,IF(ROUND(E28/100000,0)-ROUNDDOWN(E28/100000000,0)*1000>9,"0"&+ROUND(E28/100000,0)-ROUNDDOWN(E28/100000000,0)*1000,"00"&+ROUND(E28/100000,0)-ROUNDDOWN(E28/100000000,0)*1000)) -> 1,529
C31: 合 計 | E31: 30 | F31: =F32+F40 -> 52 | G31: =G32+G40 -> 43 | H31: =H32+H40 -> 65 | I31: =I32+I40 -> 35 | J31: =J32+J40 -> 42 | K31: =K32+K40 -> 50 | L31: =L32+L40 -> 36 | M31: =M32+M40 -> 31 | ... PI31: =PI32+PI40 -> 0
B32: 竣 | D32: 計 | E32: 7 | F32: =SUM(F33:F39) -> 13 | G32: =SUM(G33:G39) -> 10 | H32: =SUM(H33:H39) -> 27 | I32: =SUM(I33:I39) -> 12 | J32: =SUM(J33:J39) -> 16 | K32: =SUM(K33:K39) -> 15 | L32: =SUM(L33:L39) -> 10 | M32: =SUM(M33:M39) -> 7 | ... PI32: =SUM(PI33:PI39) -> 0
C33: 国 | D33: 貨物船 | E33: 3 | F33: 3 | G33: 1 | H33: 2 | I33: 1 | J33: 2 | K33: 1 | L33: 0 | M33: 3 | N33: 5 | O33: 1 | P33: 5 | Q33: 4 | R33: 3 | S33: 2 | T33: 5 | U33: 3 | V33: 2 | W33: 4 | X33: 4 | Y33: 1 | Z33: 2 | AA33: 4 | AB33: 1 | AC33: 5 | AD33: 7 | AE33: 2 | AF33: 5 | AG33: 2 | AH33: 4 | AI33: 3 | AJ33: 4 | AK33: 5 | AL33: 4 | AM33: 1 | AN33: 4 | AO33: 4 | AP33: 4 | AQ33: 3 | AR33: 4 | AS33: 4 | AT33: 5 | AU33: 5 | AV33: 3 | AW33: 3 | AX33: 3 | AY33: 7 | AZ33: 7 | BA33: 7 | BB33: 5 | BC33: 6 | BD33: 6 | BE33: 4 | BF33: 6 | BG33: 6 | BH33: 4 | CX33: 6 | CY33: 4 | CZ33: 7 | DA33: 4 | DB33: 6 | DC33: 2 | DD33: 4 | DE33: 2 | DF33: 3 | DG33: 5 | DH33: 3 | DI33: 5 | DJ33: 5 | DK33: 3 | DL33: 6 | DM33: 6 | DN33: 9 | DO33: 3 | DP33: 6 | DQ33: 4 | DR33: 10 | DS33: 4 | DT33: 5 | DU33: 9 | DV33: 3 | DW33: 6 | DX33: 8 | DY33: 5 | DZ33: 5 | EA33: 7 | EB33: 4 | EC33: 6 | ED33: 6 | EE33: 9 | EF33: 4 | EG33: 8 | EH33: 6 | EI33: 3 | EJ33: 11 | EK33: 5 | EL33: 5 | EM33: 8 | EN33: 3 | EO33: 2 | EP33: 8 | EQ33: 8 | ER33: 6 | ES33: 3 | ET33: 8 | EU33: 6 | EV33: 7 | EW33: 5 | EX33: 4 | EY33: 8 | EZ33: 3 | FA33: 6 | FB33: 11 | FC33: 5 | FD33: 5 | FE33: 6 | FF33: 1 | FG33: 1 | FH33: 5 | FI33: 9 | FJ33: 2 | FK33: 5 | FL33: 5 | FM33: 5 | FN33: 7 | FO33: 2 | FP33: 6 | FQ33: 3 | FR33: 2 | FS33: 7 | FT33: 11 | FU33: 11 | FV33: 2 | FW33: 9 | FX33: 8 | FY33: 2 | FZ33: 7 | GA33: 7 | GB33: 4 | GC33: 3 | GD33: 5 | GE33: 6 | GF33: 6 | GG33: 7 | GH33: 9 | GI33: 7 | GJ33: 8 | GK33: 4 | GL33: 3 | GM33: 9 | GN33: 5 | GO33: 5 | GP33: 2 | GQ33: 2 | GR33: 10 | GS33: 4 | GT33: 5 | GU33: 5 | GV33: 8 | GW33: 1 | GX33: 9 | GY33: 4 | GZ33: 1 | HA33: 2 | HB33: 3 | HC33: 4 | HD33: 12 | HE33: 3 | HF33: 3 | HG33: 2 | HH33: 5 | HI33: 5 | HJ33: 5 | HK33: 2 | HL33: 6 | HM33: 5 | HN33: 2 | HO33: 1 | HP33: 6 | HQ33: 2 | HR33: 6 | HS33: 4 | HT33: 5 | HU33: 4 | HV33: 8 | HW33: 4 | HX33: 6 | HY33: 5 | HZ33: 1 | IA33: 3 | IB33: 5 | IC33: 3 | ID33: 2 | IE33: 5 | IF33: 4 | IG33: 2 | IH33: 3 | II33: 8 | IJ33: 4 | IK33: 3 | IL33: 6 | IM33: 4 | IN33: 10 | IO33: 3 | IP33: 4 | IQ33: 4 | IR33: 8 | IS33: 0 | IT33: 5 | IU33: 4 | IV33: 2 | IW33: 7 | IX33: 1 | IY33: 2 | IZ33: 8 | JA33: 4 | JB33: 5 | JC33: 6 | JD33: 7 | JE33: 5 | JF33: 3 | JG33: 8 | JH33: 6 | JI33: 4 | JJ33: 3
D34: 貨客船 | E34: 0 | F34: 0 | G34: 0 | H34: 0 | I34: 0 | J34: 0 | K34: 0 | L34: 1 | M34: 0 | N34: 0 | O34: 0 | P34: 0 | Q34: 1 | R34: 0 | S34: 0 | T34: 0 | U34: 0 | V34: 0 | W34: 0 | X34: 0 | Y34: 0 | Z34: 0 | AA34: 0 | AB34: 0 | AC34: 1 | AD34: 0 | AE34: 0 | AF34: 0 | AG34: 0 | AH34: 0 | AI34: 0 | AJ34: 1 | AK34: 0 | AL34: 0 | AM34: 0 | AN34: 0 | AO34: 0 | AP34: 0 | AQ34: 0 | AR34: 0 | AS34: 0 | AT34: 0 | AU34: 1 | AV34: 1 | AW34: 0 | AX34: 0 | AY34: 0 | AZ34: 0 | BA34: 0 | BB34: 0 | BD34: 0 | BE34: 0 | BF34: 0 | BG34: 0 | BH34: 0 | CX34: 0 | CY34: 0 | CZ34: 0 | DA34: 0 | DB34: 0 | DC34: 1 | DD34: 0 | DE34: 0 | DF34: 0 | DG34: 0 | DH34: 0 | DI34: 0 | DJ34: 0 | DK34: 0 | DL34: 0 | DM34: 0 | DN34: 0 | DO34: 0 | DP34: 0 | DQ34: 0 | DR34: 0 | DS34: 0 | DT34: 0 | DU34: 1 | DV34: 0 | DW34: 0 | DX34: 0 | DY34: 0 | DZ34: 0 | EA34: 1 | EB34: 0 | EC34: 0 | ED34: 0 | EE34: 0 | EF34: 0 | EG34: 0 | EH34: 0 | EI34: 1 | EJ34: 0 | EK34: 0 | EL34: 0 | EM34: 0 | EN34: 0 | EO34: 0 | EP34: 0 | EQ34: 0 | ER34: 0 | ES34: 0 | ET34: 0 | EU34: 0 | EV34: 0 | EW34: 0 | EX34: 0 | EY34: 0 | EZ34: 0 | FA34: 0 | FB34: 0 | FC34: 0 | FD34: 0 | FE34: 0 | FF34: 0 | FG34: 0 | FH34: 0 | FI34: 0 | FJ34: 0 | FK34: 0 | FL34: 0 | FM34: 0 | FN34: 0 | FO34: 0 | FP34: 0 | FQ34: 0 | FR34: 0 | FS34: 0 | FT34: 0 | FU34: 0 | FV34: 0 | FW34: 0 | FX34: 0 | FY34: 0 | FZ34: 0 | GA34: 0 | GB34: 0 | GC34: 0 | GD34: 0 | GE34: 0 | GF34: 2 | GG34: 0 | GH34: 0 | GI34: 0 | GJ34: 0 | GK34: 0 | GL34: 0 | GM34: 0 | GN34: 0 | GO34: 0 | GP34: 0 | GQ34: 0 | GR34: 0 | GS34: 0 | GT34: 0 | GU34: 1 | GV34: 0 | GW34: 0 | GX34: 0 | GY34: 0 | GZ34: 0 | HA34: 0 | HB34: 0 | HC34: 0 | HD34: 0 | HE34: 0 | HF34: 0 | HG34: 0 | HH34: 0 | HI34: 0 | HJ34: 0 | HK34: 0 | HL34: 0 | HM34: 0 | HN34: 1 | HO34: 0 | HP34: 0 | HQ34: 0 | HR34: 0 | HS34: 0 | HT34: 0 | HU34: 0 | HV34: 0 | HW34: 0 | HX34: 0 | HY34: 0 | HZ34: 1 | IA34: 0 | IB34: 0 | IC34: 0 | ID34: 0 | IE34: 0 | IF34: 0 | IG34: 0 | IH34: 0 | II34: 0 | IJ34: 0 | IK34: 0 | IL34: 0 | IM34: 0 | IN34: 0 | IO34: 0 | IP34: 0 | IQ34: 0 | IR34: 0 | IS34: 0 | IT34: 0 | IU34: 0 | IV34: 0 | IW34: 0 | IX34: 0 | IY34: 0 | IZ34: 0 | JA34: 0 | JB34: 0 | JC34: 0 | JD34: 0 | JE34: 0 | JF34: 0 | JG34: 0 | JH34: 0 | JI34: 0 | JJ34: 0
B35: 工 | C35: 内 | D35: 客船 | E35: 0 | F35: 2 | G35: 1 | H35: 3 | I35: 0 | J35: 0 | K35: 3 | L35: 1 | M35: 0 | N35: 2 | O35: 0 | P35: 2 | Q35: 2 | R35: 0 | S35: 0 | T35: 1 | U35: 2 | V35: 1 | W35: 1 | X35: 0 | Y35: 0 | Z35: 0 | AA35: 1 | AB35: 1 | AC35: 0 | AD35: 0 | AE35: 0 | AF35: 0 | AG35: 0 | AH35: 1 | AI35: 2 | AJ35: 0 | AK35: 0 | AL35: 1 | AM35: 0 | AN35: 1 | AO35: 0 | AP35: 0 | AQ35: 0 | AR35: 1 | AS35: 0 | AT35: 0 | AU35: 1 | AV35: 1 | AW35: 0 | AX35: 1 | AY35: 1 | AZ35: 0 | BA35: 0 | BB35: 1 | BD35: 0 | BE35: 1 | BF35: 0 | BG35: 0 | BH35: 0 | CX35: 0 | CY35: 0 | CZ35: 1 | DA35: 0 | DB35: 0 | DC35: 0 | DD35: 0 | DE35: 0 | DF35: 0 | DG35: 0 | DH35: 1 | DI35: 0 | DJ35: 0 | DK35: 3 | DL35: 1 | DM35: 0 | DN35: 1 | DO35: 0 | DP35: 2 | DQ35: 0 | DR35: 0 | DS35: 0 | DT35: 0 | DU35: 0 | DV35: 0 | DW35: 0 | DX35: 4 | DY35: 0 | DZ35: 0 | EA35: 0 | EB35: 1 | EC35: 0 | ED35: 0 | EE35: 0 | EF35: 1 | EG35: 0 | EH35: 1 | EI35: 0 | EJ35: 0 | EK35: 0 | EL35: 0 | EM35: 0 | EN35: 0 | EO35: 0 | EP35: 1 | EQ35: 0 | ER35: 0 | ES35: 1 | ET35: 1 | EU35: 0 | EV35: 1 | EW35: 1 | EX35: 2 | EY35: 1 | EZ35: 2 | FA35: 0 | FB35: 1 | FC35: 1 | FD35: 0 | FE35: 1 | FF35: 0 | FG35: 0 | FH35: 0 | FI35: 6 | FJ35: 0 | FK35: 1 | FL35: 0 | FM35: 0 | FN35: 1 | FO35: 3 | FP35: 0 | FQ35: 1 | FR35: 1 | FS35: 2 | FT35: 4 | FU35: 0 | FV35: 0 | FW35: 1 | FX35: 1 | FY35: 1 | FZ35: 1 | GA35: 2 | GB35: 0 | GC35: 1 | GD35: 1 | GE35: 0 | GF35: 2 | GG35: 1 | GH35: 0 | GI35: 0 | GJ35: 0 | GK35: 0 | GL35: 3 | GM35: 0 | GN35: 1 | GO35: 1 | GP35: 1 | GQ35: 1 | GR35: 3 | GS35: 0 | GT35: 0 | GU35: 2 | GV35: 1 | GW35: 1 | GX35: 2 | GY35: 0 | GZ35: 3 | HA35: 0 | HB35: 0 | HC35: 1 | HD35: 0 | HE35: 0 | HF35: 0 | HG35: 0 | HH35: 2 | HI35: 1 | HJ35: 0 | HK35: 2 | HL35: 2 | HM35: 1 | HN35: 1 | HO35: 1 | HP35: 2 | HQ35: 0 | HR35: 2 | HS35: 0 | HT35: 0 | HU35: 0 | HV35: 2 | HW35: 2 | HX35: 0 | HY35: 0 | HZ35: 0 | IA35: 1 | IB35: 2 | IC35: 1 | ID35: 0 | IE35: 0 | IF35: 1 | IG35: 1 | IH35: 1 | II35: 0 | IJ35: 0 | IK35: 0 | IL35: 0 | IM35: 1 | IN35: 0 | IO35: 1 | IP35: 0 | IQ35: 1 | IR35: 2 | IS35: 0 | IT35: 0 | IU35: 3 | IV35: 0 | IW35: 2 | IX35: 0 | IY35: 0 | IZ35: 2 | JA35: 0 | JB35: 0 | JC35: 1 | JD35: 1 | JE35: 0 | JF35: 0 | JG35: 0 | JH35: 0 | JI35: 1 | JJ35: 0
D36: 自動車航送船 | E36: 1 | F36: 1 | G36: 0 | H36: 3 | I36: 0 | J36: 0 | K36: 1 | L36: 1 | M36: 0 | N36: 0 | O36: 0 | P36: 0 | Q36: 0 | R36: 2 | S36: 0 | T36: 1 | U36: 0 | V36: 0 | W36: 1 | X36: 1 | Y36: 0 | Z36: 0 | AA36: 0 | AB36: 1 | AC36: 1 | AD36: 0 | AE36: 0 | AF36: 1 | AG36: 0 | AH36: 0 | AI36: 0 | AJ36: 1 | AK36: 1 | AL36: 1 | AM36: 1 | AN36: 1 | AO36: 0 | AP36: 0 | AQ36: 0 | AR36: 0 | AS36: 0 | AT36: 0 | AU36: 0 | AV36: 0 | AW36: 0 | AX36: 0 | AY36: 0 | AZ36: 1 | BA36: 0 | BB36: 0 | BD36: 0 | BE36: 1 | BF36: 0 | BG36: 1 | BH36: 1 | CX36: 0 | CY36: 1 | CZ36: 2 | DA36: 3 | DB36: 0 | DC36: 2 | DD36: 1 | DE36: 0 | DF36: 1 | DG36: 0 | DH36: 1 | DI36: 0 | DJ36: 0 | DK36: 1 | DL36: 2 | DM36: 0 | DN36: 0 | DO36: 1 | DP36: 0 | DQ36: 0 | DR36: 0 | DS36: 0 | DT36: 0 | DU36: 0 | DV36: 0 | DW36: 1 | DX36: 2 | DY36: 2 | DZ36: 1 | EA36: 0 | EB36: 1 | EC36: 0 | ED36: 0 | EE36: 0 | EF36: 0 | EG36: 1 | EH36: 0 | EI36: 1 | EJ36: 2 | EK36: 2 | EL36: 0 | EM36: 0 | EN36: 0 | EO36: 0 | EP36: 3 | EQ36: 1 | ER36: 1 | ES36: 0 | ET36: 1 | EU36: 0 | EV36: 0 | EW36: 0 | EX36: 0 | EY36: 0 | EZ36: 1 | FA36: 0 | FB36: 3 | FC36: 0 | FD36: 0 | FE36: 1 | FF36: 0 | FG36: 0 | FH36: 3 | FI36: 0 | FJ36: 2 | FK36: 0 | FL36: 2 | FM36: 0 | FN36: 0 | FO36: 1 | FP36: 1 | FQ36: 0 | FR36: 1 | FS36: 1 | FT36: 2 | FU36: 2 | FV36: 0 | FW36: 1 | FX36: 2 | FY36: 3 | FZ36: 0 | GA36: 0 | GB36: 0 | GC36: 1 | GD36: 2 | GE36: 0 | GF36: 1 | GG36: 4 | GH36: 0 | GI36: 1 | GJ36: 1 | GK36: 0 | GL36: 2 | GM36: 0 | GN36: 0 | GO36: 0 | GP36: 1 | GQ36: 2 | GR36: 1 | GS36: 1 | GT36: 0 | GU36: 2 | GV36: 3 | GW36: 1 | GX36: 0 | GY36: 0 | GZ36: 0 | HA36: 0 | HB36: 1 | HC36: 1 | HD36: 0 | HE36: 0 | HF36: 0 | HG36: 3 | HH36: 0 | HI36: 0 | HJ36: 0 | HK36: 1 | HL36: 1 | HM36: 2 | HN36: 0 | HO36: 0 | HP36: 2 | HQ36: 0 | HR36: 0 | HS36: 1 | HT36: 1 | HU36: 0 | HV36: 2 | HW36: 0 | HX36: 0 | HY36: 2 | HZ36: 1 | IA36: 1 | IB36: 3 | IC36: 0 | ID36: 0 | IE36: 0 | IF36: 1 | IG36: 0 | IH36: 2 | II36: 0 | IJ36: 0 | IK36: 1 | IL36: 2 | IM36: 0 | IN36: 1 | IO36: 0 | IP36: 1 | IQ36: 0 | IR36: 0 | IS36: 0 | IT36: 1 | IU36: 0 | IV36: 0 | IW36: 1 | IX36: 1 | IY36: 1 | IZ36: 0 | JA36: 0 | JB36: 0 | JC36: 1 | JD36: 1 | JE36: 0 | JF36: 0 | JG36: 1 | JH36: 0 | JI36: 0 | JJ36: 1
