Workbook

Sheet 表紙 
C7: 造船造機統計
A10: 造 船 統 計 月 報
A15: 令和8年1月分

Sheet 目次
A6: 目 次
A9: 造船造機統計（基幹統計）造船調査概要
A11: 造船調査結果（令和８年１月分）の概要
A14: 鋼船しゅん工実績の推移
A17: 第１表 鋼船建造実績
A19: 第２表 強化プラスチック（木）船しゅん工実績
A21: 第３表 用途別・トン数階級別受注鋼船隻数及びトン数
A23: 第４表 用途別・トン数階級別起工鋼船隻数及びトン数
A25: 第５表 用途別・トン数階級別進水鋼船隻数及びトン数
A27: 第６表 用途別・トン数階級別しゅん工鋼船隻数、トン数及び船価
A29: 第７表 用途別・トン数階級別しゅん工強化プラスチック（木）船隻数、トン数及び船価
A31: 第８表 独航不能船舶のしゅん工隻数、トン数及び船価
... A35: 第１０表 地方運輸局管轄区域別建造実績及び船舶修繕実績

Sheet 調査概要
A3: 造船造機統計（基幹統計） 造船調査概要
A5: １．調査の目的
A6: 造船の実態を明らかにすることを目的とする。
A8: ２．調査の時期
A9: 毎月末現在により行う。
A11: ３．調査の対象及び調査事項
A12: 調査の対象
A13: 鋼製船舶又は鋼製以外の船舶で総トン数20トン以上若しくは長さ15メートル以上のものの
A14: 製造設備又は入きょもしくは上架設備を有する工場。
A15: 調査事項
A16: 鋼製船舶及び鋼製以外の船舶を製造又は修繕したもの。
A17: ただし、鋼製以外の船舶のうち総トン数20トン未満かつ、長さ15メートル未満のものは含まない。
... A56: 〔電話 03-5253-8111 内線28-748〕まで御連絡ください。

Sheet 調査概況
B2: =+"造船調査結果（"&概要作成シート!H3&"）の概要" -> 造船調査結果（令和８年１月分）の概要
B4: （１）集計工場数
C5: =" "&概要作成シート!H3&"の集計工場数は、鋼船については、"&概要作成シート!H4&"であった。" -> 令和８年１月分の集計工場数は、鋼船については、392工場であった。
C6: =+" 強化プラスチック（木）船については、"&概要作成シート!H7&"であった。" -> 強化プラスチック（木）船については、121工場であった。
B7: （２）鋼船建造実績
C8: =" "&概要作成シート!H3&"の鋼船建造実績は、"&概要作成シート!H78&概要作成シート!H79&概要作成シート!H10&概要作成シート!H11&概要作成シート!H13&概要作成シート!H14&概要作成シート!H16&概要作成シート!H17&"しゅん工船価"&概要作成シート!H18&"億円、生産指数"&概要作成シート!H65&"であり、生産指数の前年同月比は、"&概要作成シート!H71&"であった。" -> 令和８年１月分の鋼船建造実績は、受注8隻、17万1千G/T、起工24隻、80万4千G/T、進水28隻、63万5千G/T、しゅん工30隻、91万4千G/T、しゅん工船価1,589億円、生産指数133.2であり、生産指数の前年同月比は、6.8%減であった。
C9: =+" このうち国内船は、しゅん工"&概要作成シート!H21&"、"&概要作成シート!H22&"、しゅん工船価"&概要作成シート!H23&"億円、生産指数"&概要作成シート!H66&"であり、生産指数の前年同月比は、"&概要作成シート!H72&"であった。また、輸出船は、しゅん工"&概要作成シート!H26&"、"&概要作成シート!H27&"、しゅん工船価"&概要作成シート!H28&"億円、生産指数165.0であり、生産指数の前年同月比は、"&概要作成シート!H73&"であった。" -> このうち国内船は、しゅん工7隻、2千G/T、しゅん工船価60億円、生産指数22.5であり、生産指数の前年同月比は、23.0%減であった。また、輸出船は、しゅん工23隻、91万2千G/T、しゅん工船価1,529億円、生産指数165.0であり、生産指数の前年同月比は、6.1%減であった。
C11: ①生産指数の推移
C13: ※生産指数は、当該月のしゅん工船価を、基準時（令和2年）のしゅん工船価の月平均値で除して求めた指数である。
C15: ②しゅん工船の用途別隻数（鋼船）
C16: =+" しゅん工船のうち国内船は"&概要作成シート!H21&"、輸出船は"&概要作成シート!H26&"で、用途別（船種）では、次のとおりであった。" -> しゅん工船のうち国内船は7隻、輸出船は23隻で、用途別（船種）では、次のとおりであった。
C18: ※構成比は小数点以下第2位を四捨五入しているため、合計しても必ずしも100とはならない。
C19: ③G/T当たり船価
C20: =+" 当月におけるG/T当たり船価は、"&ROUND(データ!E81,0)&"千円であり、前年同月比は、"&データ!F83&データ!G83&データ!H83 -> 当月におけるG/T当たり船価は、174千円であり、前年同月比は、1.5％増であった。
C22: ※G/T当たり船価は、当該月のしゅん工船価を、同総トン数(G/T)で除したものである。

Sheet データ
E2: 46023 | F2: 38352 | G2: =F2 -> 38352 | H2: =G2 -> 38352 | I2: =H2 -> 38352 | J2: =I2 -> 38352 | K2: =J2 -> 38352 | L2: =K2 -> 38352 | M2: =L2 -> 38352 | N2: =M2 -> 38352 | ... Q2: =P2 -> 38352 | R2: =DATE(YEAR(F2)+1,12,31) -> 38717 | S2: =R2 -> 38717 | T2: =S2 -> 38717 | U2: =T2 -> 38717 | V2: =U2 -> 38717 | W2: =V2 -> 38717 | X2: =W2 -> 38717 | Y2: =X2 -> 38717 | Z2: =Y2 -> 38717 | ... AC2: =AB2 -> 38717 | AD2: =DATE(YEAR(R2)+1,12,31) -> 39082 | AE2: =AD2 -> 39082 | AF2: =AE2 -> 39082 | AG2: =AF2 -> 39082 | AH2: =AG2 -> 39082 | AI2: =AH2 -> 39082 | AJ2: =AI2 -> 39082 | AK2: =AJ2 -> 39082 | AL2: =AK2 -> 39082 | ... AO2: =AN2 -> 39082 | AP2: =DATE(YEAR(AD2)+1,12,31) -> 39447 | AQ2: =AP2 -> 39447 | AR2: =AQ2 -> 39447 | AS2: =AR2 -> 39447 | AT2: =AS2 -> 39447 | AU2: =AT2 -> 39447 | AV2: =AU2 -> 39447 | AW2: =AV2 -> 39447 | AX2: =AW2 -> 39447 | ... BA2: =AZ2 -> 39447 | BB2: =DATE(YEAR(AP2)+1,12,31) -> 39813 | BC2: =BB2 -> 39813 | BD2: =BC2 -> 39813 | BE2: =BD2 -> 39813 | BF2: =BE2 -> 39813 | BG2: =BF2 -> 39813 | BH2: =BG2 -> 39813 | BI2: =BH2 -> 39813 | BJ2: =BI2 -> 39813 | ... BM2: =BL2 -> 39813 | BN2: =DATE(YEAR(BB2)+1,12,31) -> 40178 | BO2: =BN2 -> 40178 | BP2: =BO2 -> 40178 | BQ2: =BP2 -> 40178 | BR2: =BQ2 -> 40178 | BS2: =BR2 -> 40178 | BT2: =BS2 -> 40178 | BU2: =BT2 -> 40178 | BV2: =BU2 -> 40178 | ... BY2: =BX2 -> 40178 | BZ2: =DATE(YEAR(BN2)+1,12,31) -> 40543 | CA2: =BZ2 -> 40543 | CB2: =CA2 -> 40543 | CC2: =CB2 -> 40543 | CD2: =CC2 -> 40543 | CE2: =CD2 -> 40543 | CF2: =CE2 -> 40543 | CG2: =CF2 -> 40543 | CH2: =CG2 -> 40543 | ... CK2: =CJ2 -> 40543 | CL2: =DATE(YEAR(BZ2)+1,12,31) -> 40908 | CM2: =CL2 -> 40908 | CN2: =CM2 -> 40908 | CO2: =CN2 -> 40908 | CP2: =CO2 -> 40908 | CQ2: =CP2 -> 40908 | CR2: =CQ2 -> 40908 | CS2: =CR2 -> 40908 | CT2: =CS2 -> 40908 | ... CW2: =CV2 -> 40908 | CX2: =DATE(YEAR(CL2)+1,12,31) -> 41274 | CY2: =CX2 -> 41274 | CZ2: =CY2 -> 41274 | DA2: =CZ2 -> 41274 | DB2: =DA2 -> 41274 | DC2: =DB2 -> 41274 | DD2: =DC2 -> 41274 | DE2: =DD2 -> 41274 | DF2: =DE2 -> 41274 | ... DI2: =DH2 -> 41274 | DJ2: =DATE(YEAR(CX2)+1,12,31) -> 41639 | DK2: =DJ2 -> 41639 | DL2: =DK2 -> 41639 | DM2: =DL2 -> 41639 | DN2: =DM2 -> 41639 | DO2: =DN2 -> 41639 | DP2: =DO2 -> 41639 | DQ2: =DP2 -> 41639 | DR2: =DQ2 -> 41639 | ... DU2: =DT2 -> 41639 | DV2: =DATE(YEAR(DJ2)+1,12,31) -> 42004 | DW2: =DV2 -> 42004 | DX2: =DW2 -> 42004 | DY2: =DX2 -> 42004 | DZ2: =DY2 -> 42004 | EA2: =DZ2 -> 42004 | EB2: =EA2 -> 42004 | EC2: =EB2 -> 42004 | ED2: =EC2 -> 42004 | ... EG2: =EF2 -> 42004 | EH2: =DATE(YEAR(DV2)+1,12,31) -> 42369 | EI2: =EH2 -> 42369 | EJ2: =EI2 -> 42369 | EK2: =EJ2 -> 42369 | EL2: =EK2 -> 42369 | EM2: =EL2 -> 42369 | EN2: =EM2 -> 42369 | EO2: =EN2 -> 42369 | EP2: =EO2 -> 42369 | ... ES2: =ER2 -> 42369 | ET2: =DATE(YEAR(EH2)+1,12,31) -> 42735 | EU2: =ET2 -> 42735 | EV2: =EU2 -> 42735 | EW2: =EV2 -> 42735 | EX2: =EW2 -> 42735 | EY2: =EX2 -> 42735 | EZ2: =EY2 -> 42735 | FA2: =EZ2 -> 42735 | FB2: =FA2 -> 42735 | ... FE2: =FD2 -> 42735 | FF2: =DATE(YEAR(ET2)+1,12,31) -> 43100 | FG2: =FF2 -> 43100 | FH2: =FG2 -> 43100 | FI2: =FH2 -> 43100 | FJ2: =FI2 -> 43100 | FK2: =FJ2 -> 43100 | FL2: =FK2 -> 43100 | FM2: =FL2 -> 43100 | FN2: =FM2 -> 43100 | ... FQ2: =FP2 -> 43100 | FR2: =DATE(YEAR(FF2)+1,12,31) -> 43465 | FS2: =FR2 -> 43465 | FT2: =FS2 -> 43465 | FU2: =FT2 -> 43465 | FV2: =FU2 -> 43465 | FW2: =FV2 -> 43465 | FX2: =FW2 -> 43465 | FY2: =FX2 -> 43465 | FZ2: =FY2 -> 43465 | ... GC2: =GB2 -> 43465 | GD2: =DATE(YEAR(FR2)+1,12,31) -> 43830 | GE2: =GD2 -> 43830 | GF2: =GE2 -> 43830 | GG2: =GF2 -> 43830 | GH2: =GG2 -> 43830 | GI2: =GH2 -> 43830 | GJ2: =GI2 -> 43830 | GK2: =GJ2 -> 43830 | GL2: =GK2 -> 43830 | ... GO2: =GN2 -> 43830 | GP2: =DATE(YEAR(GD2)+1,12,31) -> 44196 | GQ2: =GP2 -> 44196 | GR2: =GQ2 -> 44196 | GS2: =GR2 -> 44196 | GT2: =GS2 -> 44196 | GU2: =GT2 -> 44196 | GV2: =GU2 -> 44196 | GW2: =GV2 -> 44196 | GX2: =GW2 -> 44196 | ... HA2: =GZ2 -> 44196 | HB2: =DATE(YEAR(GP2)+1,12,31) -> 44561 | HC2: =HB2 -> 44561 | HD2: =HC2 -> 44561 | HE2: =HD2 -> 44561 | HF2: =HE2 -> 44561 | HG2: =HF2 -> 44561 | HH2: =HG2 -> 44561 | HI2: =HH2 -> 44561 | HJ2: =HI2 -> 44561 | ... HM2: =HL2 -> 44561 | HN2: =DATE(YEAR(HB2)+1,1,1) -> 44562 | HO2: =HN2 -> 44562 | HP2: =HO2 -> 44562 | HQ2: =HP2 -> 44562 | HR2: =HQ2 -> 44562 | HS2: =HR2 -> 44562 | HT2: =HS2 -> 44562 | HU2: =HT2 -> 44562 | HV2: =HU2 -> 44562 | ... HY2: =HX2 -> 44562 | HZ2: =DATE(YEAR(HN2)+1,1,1) -> 44927 | IA2: =HZ2 -> 44927 | IB2: =IA2 -> 44927 | IC2: =IB2 -> 44927 | ID2: =IC2 -> 44927 | IE2: =ID2 -> 44927 | IF2: =IE2 -> 44927 | IG2: =IF2 -> 44927 | IH2: =IG2 -> 44927 | ... IK2: =IJ2 -> 44927 | IL2: =DATE(YEAR(HZ2)+1,1,1) -> 45292 | IM2: =IL2 -> 45292 | IN2: =IM2 -> 45292 | IO2: =IN2 -> 45292 | IP2: =IO2 -> 45292 | IQ2: =IP2 -> 45292 | IR2: =IQ2 -> 45292 | IS2: =IR2 -> 45292 | IT2: =IS2 -> 45292 | ... IW2: =IV2 -> 45292 | IX2: =DATE(YEAR(IL2)+1,1,1) -> 45658 | IY2: =IX2 -> 45658 | IZ2: =IY2 -> 45658 | JA2: =IZ2 -> 45658 | JB2: =JA2 -> 45658 | JC2: =JB2 -> 45658 | JD2: =JC2 -> 45658 | JE2: =JD2 -> 45658 | JF2: =JE2 -> 45658 | ... JI2: =JH2 -> 45658 | JJ2: =DATE(YEAR(IX2)+1,1,1) -> 46023 | JK2: =JJ2 -> 46023 | JL2: =JK2 -> 46023 | JM2: =JL2 -> 46023 | JN2: =JM2 -> 46023 | JO2: =JN2 -> 46023 | JP2: =JO2 -> 46023 | JQ2: =JP2 -> 46023 | JR2: =JQ2 -> 46023 | ... JU2: =JT2 -> 46023 | JV2: =DATE(YEAR(JJ2)+1,1,1) -> 46388 | JW2: =JV2 -> 46388 | JX2: =JW2 -> 46388 | JY2: =JX2 -> 46388 | JZ2: =JY2 -> 46388 | KA2: =JZ2 -> 46388 | KB2: =KA2 -> 46388 | KC2: =KB2 -> 46388 | KD2: =KC2 -> 46388 | ... KG2: =KF2 -> 46388 | KH2: =DATE(YEAR(JV2)+1,1,1) -> 46753 | KI2: =KH2 -> 46753 | KJ2: =KI2 -> 46753 | KK2: =KJ2 -> 46753 | KL2: =KK2 -> 46753 | KM2: =KL2 -> 46753 | KN2: =KM2 -> 46753 | KO2: =KN2 -> 46753 | KP2: =KO2 -> 46753 | ... KS2: =KR2 -> 46753 | KT2: =DATE(YEAR(KH2)+1,1,1) -> 47119 | KU2: =KT2 -> 47119 | KV2: =KU2 -> 47119 | KW2: =KV2 -> 47119 | KX2: =KW2 -> 47119 | KY2: =KX2 -> 47119 | KZ2: =KY2 -> 47119 | LA2: =KZ2 -> 47119 | LB2: =LA2 -> 47119 | ... LE2: =LD2 -> 47119 | LF2: =DATE(YEAR(KT2)+1,1,1) -> 47484 | LG2: =LF2 -> 47484 | LH2: =LG2 -> 47484 | LI2: =LH2 -> 47484 | LJ2: =LI2 -> 47484 | LK2: =LJ2 -> 47484 | LL2: =LK2 -> 47484 | LM2: =LL2 -> 47484 | LN2: =LM2 -> 47484 | ... LQ2: =LP2 -> 47484 | LR2: =DATE(YEAR(LF2)+1,1,1) -> 47849 | LS2: =LR2 -> 47849 | LT2: =LS2 -> 47849 | LU2: =LT2 -> 47849 | LV2: =LU2 -> 47849 | LW2: =LV2 -> 47849 | LX2: =LW2 -> 47849 | LY2: =LX2 -> 47849 | LZ2: =LY2 -> 47849 | ... MC2: =MB2 -> 47849 | MD2: =DATE(YEAR(LR2)+1,1,1) -> 48214 | ME2: =MD2 -> 48214 | MF2: =ME2 -> 48214 | MG2: =MF2 -> 48214 | MH2: =MG2 -> 48214 | MI2: =MH2 -> 48214 | MJ2: =MI2 -> 48214 | MK2: =MJ2 -> 48214 | ML2: =MK2 -> 48214 | ... MO2: =MN2 -> 48214 | MP2: =DATE(YEAR(MD2)+1,1,1) -> 48580 | MQ2: =MP2 -> 48580 | MR2: =MQ2 -> 48580 | MS2: =MR2 -> 48580 | MT2: =MS2 -> 48580 | MU2: =MT2 -> 48580 | MV2: =MU2 -> 48580 | MW2: =MV2 -> 48580 | MX2: =MW2 -> 48580 | ... NA2: =MZ2 -> 48580 | NB2: =DATE(YEAR(MP2)+1,1,1) -> 48945 | NC2: =NB2 -> 48945 | ND2: =NC2 -> 48945 | NE2: =ND2 -> 48945 | NF2: =NE2 -> 48945 | NG2: =NF2 -> 48945 | NH2: =NG2 -> 48945 | NI2: =NH2 -> 48945 | NJ2: =NI2 -> 48945 | ... NM2: =NL2 -> 48945 | NN2: =DATE(YEAR(NB2)+1,1,1) -> 49310 | NO2: =NN2 -> 49310 | NP2: =NO2 -> 49310 | NQ2: =NP2 -> 49310 | NR2: =NQ2 -> 49310 | NS2: =NR2 -> 49310 | NT2: =NS2 -> 49310 | NU2: =NT2 -> 49310 | NV2: =NU2 -> 49310 | ... NY2: =NX2 -> 49310 | NZ2: =DATE(YEAR(NN2)+1,1,1) -> 49675 | OA2: =NZ2 -> 49675 | OB2: =OA2 -> 49675 | OC2: =OB2 -> 49675 | OD2: =OC2 -> 49675 | OE2: =OD2 -> 49675 | OF2: =OE2 -> 49675 | OG2: =OF2 -> 49675 | OH2: =OG2 -> 49675 | ... OK2: =OJ2 -> 49675 | OL2: =DATE(YEAR(NZ2)+1,1,1) -> 50041 | OM2: =OL2 -> 50041 | ON2: =OM2 -> 50041 | OO2: =ON2 -> 50041 | OP2: =OO2 -> 50041 | OQ2: =OP2 -> 50041 | OR2: =OQ2 -> 50041 | OS2: =OR2 -> 50041 | OT2: =OS2 -> 50041 | ... OW2: =OV2 -> 50041 | OX2: =DATE(YEAR(OL2)+1,1,1) -> 50406 | OY2: =OX2 -> 50406 | OZ2: =OY2 -> 50406 | PA2: =OZ2 -> 50406 | PB2: =PA2 -> 50406 | PC2: =PB2 -> 50406 | PD2: =PC2 -> 50406 | PE2: =PD2 -> 50406 | PF2: =PE2 -> 50406 | ... PI2: =PH2 -> 50406
E3: １月 | F3: １月 | G3: ２月 | H3: ３月 | I3: ４月 | J3: ５月 | K3: ６月 | L3: ７月 | M3: ８月 | N3: ９月 | O3: １０月 | P3: １１月 | Q3: １２月 | R3: １月 | S3: ２月 | T3: ３月 | U3: ４月 | V3: ５月 | W3: ６月 | X3: ７月 | Y3: ８月 | Z3: ９月 | AA3: １０月 | AB3: １１月 | AC3: １２月 | AD3: １月 | AE3: ２月 | AF3: ３月 | AG3: ４月 | AH3: ５月 | AI3: ６月 | AJ3: ７月 | AK3: ８月 | AL3: ９月 | AM3: １０月 | AN3: １１月 | AO3: １２月 | AP3: １月 | AQ3: ２月 | AR3: ３月 | AS3: ４月 | AT3: ５月 | AU3: ６月 | AV3: ７月 | AW3: ８月 | AX3: ９月 | AY3: １０月 | AZ3: １１月 | BA3: １２月 | BB3: １月 | BC3: ２月 | BD3: ３月 | BE3: ４月 | BF3: ５月 | BG3: ６月 | BH3: ７月 | BI3: ８月 | BJ3: ９月 | BK3: １０月 | BL3: １１月 | BM3: １２月 | BN3: １月 | BO3: ２月 | BP3: ３月 | BQ3: ４月 | BR3: ５月 | BS3: ６月 | BT3: ７月 | BU3: ８月 | BV3: ９月 | BW3: １０月 | BX3: １１月 | BY3: １２月 | BZ3: １月 | CA3: ２月 | CB3: ３月 | CC3: ４月 | CD3: ５月 | CE3: ６月 | CF3: ７月 | CG3: ８月 | CH3: ９月 | CI3: １０月 | CJ3: １１月 | CK3: １２月 | CL3: １月 | CM3: ２月 | CN3: ３月 | CO3: ４月 | CP3: ５月 | CQ3: ６月 | CR3: ７月 | CS3: ８月 | CT3: ９月 | CU3: １０月 | CV3: １１月 | CW3: １２月 | CX3: １月 | CY3: ２月 | CZ3: ３月 | DA3: ４月 | DB3: ５月 | DC3: ６月 | DD3: ７月 | DE3: ８月 | DF3: ９月 | DG3: １０月 | DH3: １１月 | DI3: １２月 | DJ3: １月 | DK3: ２月 | DL3: ３月 | DM3: ４月 | DN3: ５月 | DO3: ６月 | DP3: ７月 | DQ3: ８月 | DR3: ９月 | DS3: １０月 | DT3: １１月 | DU3: １２月 | DV3: １月 | DW3: ２月 | DX3: ３月 | DY3: ４月 | DZ3: ５月 | EA3: ６月 | EB3: ７月 | EC3: ８月 | ED3: ９月 | EE3: １０月 | EF3: １１月 | EG3: １２月 | EH3: １月 | EI3: ２月 | EJ3: ３月 | EK3: ４月 | EL3: ５月 | EM3: ６月 | EN3: ７月 | EO3: ８月 | EP3: ９月 | EQ3: １０月 | ER3: １１月 | ES3: １２月 | ET3: １月 | EU3: ２月 | EV3: ３月 | EW3: ４月 | EX3: ５月 | EY3: ６月 | EZ3: ７月 | FA3: ８月 | FB3: ９月 | FC3: １０月 | FD3: １１月 | FE3: １２月 | FF3: １月 | FG3: ２月 | FH3: ３月 | FI3: ４月 | FJ3: ５月 | FK3: ６月 | FL3: ７月 | FM3: ８月 | FN3: ９月 | FO3: １０月 | FP3: １１月 | FQ3: １２月 | FR3: １月 | FS3: ２月 | FT3: ３月 | FU3: ４月 | FV3: ５月 | FW3: ６月 | FX3: ７月 | FY3: ８月 | FZ3: ９月 | GA3: １０月 | GB3: １１月 | GC3: １２月 | GD3: １月 | GE3: ２月 | GF3: ３月 | GG3: ４月 | GH3: ５月 | GI3: ６月 | GJ3: ７月 | GK3: ８月 | GL3: ９月 | GM3: １０月 | GN3: １１月 | GO3: １２月 | GP3: １月 | GQ3: ２月 | GR3: ３月 | GS3: ４月 | GT3: ５月 | GU3: ６月 | GV3: ７月 | GW3: ８月 | GX3: ９月 | GY3: １０月 | GZ3: １１月 | HA3: １２月 | HB3: １月 | HC3: ２月 | HD3: ３月 | HE3: ４月 | HF3: ５月 | HG3: ６月 | HH3: ７月 | HI3: ８月 | HJ3: ９月 | HK3: １０月 | HL3: １１月 | HM3: １２月 | HN3: １月 | HO3: ２月 | HP3: ３月 | HQ3: ４月 | HR3: ５月 | HS3: ６月 | HT3: ７月 | HU3: ８月 | HV3: ９月 | HW3: １０月 | HX3: １１月 | HY3: １２月 | HZ3: １月 | IA3: ２月 | IB3: ３月 | IC3: ４月 | ID3: ５月 | IE3: ６月 | IF3: ７月 | IG3: ８月 | IH3: ９月 | II3: １０月 | IJ3: １１月 | IK3: １２月 | IL3: １月 | IM3: ２月 | IN3: ３月 | IO3: ４月 | IP3: ５月 | IQ3: ６月 | IR3: ７月 | IS3: ８月 | IT3: ９月 | IU3: １０月 | IV3: １１月 | IW3: １２月 | IX3: １月 | IY3: ２月 | IZ3: ３月 | JA3: ４月 | JB3: ５月 | JC3: ６月 | JD3: ７月 | JE3: ８月 | JF3: ９月 | JG3: １０月 | JH3: １１月 | JI3: １２月 | JJ3: １月 | JK3: ２月 | JL3: ３月 | JM3: ４月 | JN3: ５月 | JO3: ６月 | JP3: ７月 | JQ3: ８月 | JR3: ９月 | JS3: １０月 | JT3: １１月 | JU3: １２月 | JV3: １月 | JW3: ２月 | JX3: ３月 | JY3: ４月 | JZ3: ５月 | KA3: ６月 | KB3: ７月 | KC3: ８月 | KD3: ９月 | KE3: １０月 | KF3: １１月 | KG3: １２月 | KH3: １月 | KI3: ２月 | KJ3: ３月 | KK3: ４月 | KL3: ５月 | KM3: ６月 | KN3: ７月 | KO3: ８月 | KP3: ９月 | KQ3: １０月 | KR3: １１月 | KS3: １２月 | KT3: １月 | KU3: ２月 | KV3: ３月 | KW3: ４月 | KX3: ５月 | KY3: ６月 | KZ3: ７月 | LA3: ８月 | LB3: ９月 | LC3: １０月 | LD3: １１月 | LE3: １２月 | LF3: １月 | LG3: ２月 | LH3: ３月 | LI3: ４月 | LJ3: ５月 | LK3: ６月 | LL3: ７月 | LM3: ８月 | LN3: ９月 | LO3: １０月 | LP3: １１月 | LQ3: １２月 | LR3: １月 | LS3: ２月 | LT3: ３月 | LU3: ４月 | LV3: ５月 | LW3: ６月 | LX3: ７月 | LY3: ８月 | LZ3: ９月 | MA3: １０月 | MB3: １１月 | MC3: １２月 | MD3: １月 | ME3: ２月 | MF3: ３月 | MG3: ４月 | MH3: ５月 | MI3: ６月 | MJ3: ７月 | MK3: ８月 | ML3: ９月 | MM3: １０月 | MN3: １１月 | MO3: １２月 | MP3: １月 | MQ3: ２月 | MR3: ３月 | MS3: ４月 | MT3: ５月 | MU3: ６月 | MV3: ７月 | MW3: ８月 | MX3: ９月 | MY3: １０月 | MZ3: １１月 | NA3: １２月 | NB3: １月 | NC3: ２月 | ND3: ３月 | NE3: ４月 | NF3: ５月 | NG3: ６月 | NH3: ７月 | NI3: ８月 | NJ3: ９月 | NK3: １０月 | NL3: １１月 | NM3: １２月 | NN3: １月 | NO3: ２月 | NP3: ３月 | NQ3: ４月 | NR3: ５月 | NS3: ６月 | NT3: ７月 | NU3: ８月 | NV3: ９月 | NW3: １０月 | NX3: １１月 | NY3: １２月 | NZ3: １月 | OA3: ２月 | OB3: ３月 | OC3: ４月 | OD3: ５月 | OE3: ６月 | OF3: ７月 | OG3: ８月 | OH3: ９月 | OI3: １０月 | OJ3: １１月 | OK3: １２月 | OL3: １月 | OM3: ２月 | ON3: ３月 | OO3: ４月 | OP3: ５月 | OQ3: ６月 | OR3: ７月 | OS3: ８月 | OT3: ９月 | OU3: １０月 | OV3: １１月 | OW3: １２月 | OX3: １月 | OY3: ２月 | OZ3: ３月 | PA3: ４月 | PB3: ５月 | PC3: ６月 | PD3: ７月 | PE3: ８月 | PF3: ９月 | PG3: １０月 | PH3: １１月 | PI3: １２月
B4: 鋼船工場数 | E4: 392 | F4: 595 | G4: 379 | H4: 393 | I4: 513 | J4: 511 | K4: 547 | L4: 546 | M4: 569 | N4: 560 | O4: 550 | P4: 544 | Q4: 570 | R4: 560 | S4: 567 | T4: 569 | U4: 561 | V4: 556 | W4: 559 | X4: 562 | Y4: 563 | Z4: 558 | AA4: 565 | AB4: 541 | AC4: 521 | AD4: 502 | AE4: 487 | AF4: 473 | AG4: 485 | AH4: 503 | AI4: 500 | AJ4: 507 | AK4: 512 | AL4: 508 | AM4: 501 | AN4: 505 | AO4: 500 | AP4: 508 | AQ4: 490 | AR4: 463 | AS4: 427 | AT4: 450 | AU4: 477 | AV4: 441 | AW4: 448 | AX4: 477 | AY4: 445 | AZ4: 476 | BA4: 484 | BB4: 470 | BC4: 484 | BD4: 473 | BE4: 458 | BF4: 438 | BG4: 445 | BH4: 439 | CX4: 451 | CY4: 447 | CZ4: 452 | DA4: 462 | DB4: 460 | DC4: 470 | DD4: 462 | DE4: 463 | DF4: 465 | DG4: 485 | DH4: 488 | DI4: 544 | DJ4: 440 | DK4: 438 | DL4: 441 | DM4: 436 | DN4: 434 | DO4: 433 | DP4: 430 | DQ4: 424 | DR4: 462 | DS4: 457 | DT4: 456 | DU4: 398 | DV4: 406 | DW4: 413 | DX4: 423 | DY4: 424 | DZ4: 424 | EA4: 414 | EB4: 417 | EC4: 419 | ED4: 421 | EE4: 397 | EF4: 392 | EG4: 389 | EH4: 409 | EI4: 385 | EJ4: 371 | EK4: 376 | EL4: 372 | EM4: 376 | EN4: 384 | EO4: 387 | EP4: 383 | EQ4: 376 | ER4: 372 | ES4: 312 | ET4: 315 | EU4: 314 | EV4: 321 | EW4: 324 | EX4: 329 | EY4: 326 | EZ4: 323 | FA4: 320 | FB4: 320 | FC4: 308 | FD4: 302 | FE4: 313 | FF4: 324 | FG4: 317 | FH4: 322 | FI4: 323 | FJ4: 316 | FK4: 317 | FL4: 314 | FM4: 318 | FN4: 323 | FO4: 313 | FP4: 310 | FQ4: 309 | FR4: 303 | FS4: 298 | FT4: 307 | FU4: 303 | FV4: 297 | FW4: 279 | FX4: 305 | FY4: 297 | FZ4: 305 | GA4: 286 | GB4: 282 | GC4: 277 | GG4: 287 | GH4: 267 | GI4: 274 | GJ4: 285 | GK4: 274 | GL4: 288 | GM4: 301 | GN4: 285 | HB4: 400 | HC4: 412 | HD4: 0 | HE4: 407 | HF4: 416 | HG4: 417 | HH4: 0 | HI4: 0 | HJ4: 0 | HK4: 0 | HL4: 0 | HM4: 431 | HN4: 358 | HO4: 373 | HP4: 362 | HQ4: 425 | HR4: 416 | HS4: 421 | HT4: 426 | HU4: 426 | HV4: 424 | HW4: 384 | HX4: 384 | HY4: 379 | HZ4: 403 | IA4: 432 | IB4: 461 | IC4: 427 | ID4: 408 | IE4: 405 | IF4: 417 | IG4: 402 | IH4: 406 | II4: 398 | IJ4: 414 | IK4: 413 | IL4: 0 | IM4: 0 | IN4: 0 | IO4: 0 | IP4: 0 | IQ4: 0 | IR4: 0 | IS4: 0 | IT4: 0 | IU4: 0 | IV4: 0 | IW4: 0 | IX4: 0 | IY4: 419 | IZ4: 0 | JA4: 0 | JB4: 419 | JC4: 0 | JD4: 0 | JE4: 0 | JF4: 0 | JG4: 0 | JH4: 403 | JI4: 417 | JJ4: 0
D5: 前年同月比 | E5: #DIV/0! | R5: =ROUND(R4/F4*100,1) -> 94.1 | S5: =ROUND(S4/G4*100,1) -> 149.6 | T5: =ROUND(T4/H4*100,1) -> 144.8 | U5: =ROUND(U4/I4*100,1) -> 109.4 | V5: =ROUND(V4/J4*100,1) -> 108.8 | W5: =ROUND(W4/K4*100,1) -> 102.2 | X5: =ROUND(X4/L4*100,1) -> 102.9 | Y5: =ROUND(Y4/M4*100,1) -> 98.9 | ... PI5: =ROUND(PI4/OW4*100,1) -> #DIV/0!
F6: =ROUNDDOWN(E5,0)&"." -> #DIV/0! | G6: =ROUND((+E5-ROUNDDOWN(E5,0))*10,0) -> #DIV/0!
B7: 木船工場数 | E7: 121 | F7: 76 | G7: 77 | H7: 75 | I7: 71 | J7: 67 | K7: 67 | L7: 72 | M7: 69 | N7: 65 | O7: 69 | P7: 69 | Q7: 68 | R7: 61 | S7: 65 | T7: 71 | U7: 65 | V7: 67 | W7: 67 | X7: 66 | Y7: 71 | Z7: 65 | AA7: 66 | AB7: 75 | AC7: 59 | AD7: 132 | AE7: 142 | AF7: 134 | AG7: 140 | AH7: 135 | AI7: 136 | AJ7: 138 | AK7: 144 | AL7: 143 | AM7: 137 | AN7: 136 | AO7: 156 | AP7: 135 | AQ7: 140 | AR7: 142 | AS7: 134 | AT7: 136 | AU7: 138 | AV7: 129 | AW7: 131 | AX7: 141 | AY7: 137 | AZ7: 138 | BA7: 147 | BB7: 138 | BC7: 142 | BD7: 141 | BE7: 126 | BF7: 139 | BG7: 141 | BH7: 121 | CX7: 163 | CY7: 159 | CZ7: 160 | DA7: 160 | DB7: 164 | DC7: 165 | DD7: 165 | DE7: 167 | DF7: 164 | DG7: 178 | DH7: 188 | DI7: 230 | DJ7: 115 | DK7: 114 | DL7: 115 | DM7: 115 | DN7: 114 | DO7: 115 | DP7: 115 | DQ7: 116 | DR7: 171 | DS7: 168 | DT7: 170 | DU7: 56 | DV7: 129 | DW7: 130 | DX7: 139 | DY7: 135 | DZ7: 135 | EA7: 135 | EB7: 132 | EC7: 134 | ED7: 133 | EE7: 108 | EF7: 106 | EG7: 107 | EH7: 134 | EI7: 102 | EJ7: 94 | EK7: 92 | EL7: 92 | EM7: 94 | EN7: 98 | EO7: 97 | EP7: 97 | EQ7: 81 | ER7: 81 | ES7: 54 | ET7: 56 | EU7: 56 | EV7: 56 | EW7: 57 | EX7: 57 | EY7: 58 | EZ7: 58 | FA7: 51 | FB7: 51 | FC7: 53 | FD7: 47 | FE7: 51 | FF7: 57 | FG7: 53 | FH7: 54 | FI7: 54 | FJ7: 51 | FK7: 50 | FL7: 49 | FM7: 56 | FN7: 59 | FO7: 55 | FP7: 56 | FQ7: 51 | FR7: 58 | FS7: 48 | FT7: 57 | FU7: 59 | FV7: 57 | FW7: 64 | FX7: 62 | FY7: 63 | FZ7: 61 | GA7: 63 | GB7: 63 | GC7: 62 | GD7: 64 | GE7: 63 | GF7: 65 | GG7: 58 | GH7: 58 | GI7: 60 | GJ7: 60 | GK7: 51 | GL7: 53 | GM7: 63 | GN7: 64 | GO7: 66 | GP7: 58 | GQ7: 55 | GR7: 59 | GS7: 56 | GT7: 61 | GU7: 61 | GV7: 55 | GW7: 54 | GX7: 63 | GY7: 59 | GZ7: 58 | HA7: 58 | HB7: 174 | HC7: 165 | HD7: 0 | HE7: 174 | HF7: 160 | HG7: 158 | HH7: 0 | HI7: 0 | HJ7: 0 | HK7: 0 | HL7: 0 | HM7: 162 | HN7: 163 | HO7: 156 | HP7: 145 | HQ7: 169 | HR7: 161 | HS7: 161 | HT7: 157 | HU7: 159 | HV7: 162 | HW7: 158 | HX7: 155 | HY7: 145 | HZ7: 152 | IA7: 155 | IB7: 166 | IC7: 158 | ID7: 155 | IE7: 153 | IF7: 152 | IG7: 149 | IH7: 151 | II7: 151 | IJ7: 149 | IK7: 154 | IL7: 0 | IM7: 0 | IN7: 0 | IO7: 0 | IP7: 0 | IQ7: 0 | IR7: 0 | IS7: 0 | IT7: 0 | IU7: 0 | IV7: 0 | IW7: 0 | IX7: 0 | IY7: 144 | IZ7: 0 | JA7: 0 | JB7: 144 | JC7: 0 | JD7: 0 | JE7: 0 | JF7: 0 | JG7: 0 | JH7: 136 | JI7: 135 | JJ7: 0
D8: 前年同月比 | E8: #DIV/0! | R8: =ROUND(R7/F7*100,1) -> 80.3 | S8: =ROUND(S7/G7*100,1) -> 84.4 | T8: =ROUND(T7/H7*100,1) -> 94.7 | U8: =ROUND(U7/I7*100,1) -> 91.5 | V8: =ROUND(V7/J7*100,1) -> 100 | W8: =ROUND(W7/K7*100,1) -> 100 | X8: =ROUND(X7/L7*100,1) -> 91.7 | Y8: =ROUND(Y7/M7*100,1) -> 102.9 | ... PI8: =ROUND(PI7/OW7*100,1) -> #DIV/0!
F9: =ROUNDDOWN(E8,0)&"." -> #DIV/0! | G9: =ROUND((+E8-ROUNDDOWN(E8,0))*10,0) -> #DIV/0!
B10: 起工 | D10: 隻数 | E10: 24 | F10: 30 | G10: 38 | H10: 34 | I10: 45 | J10: 37 | K10: 38 | L10: 43 | M10: 28 | N10: 41 | O10: 45 | P10: 95 | Q10: 137 | R10: 54 | S10: 32 | T10: 39 | U10: 36 | V10: 38 | W10: 38 | X10: 41 | Y10: 27 | Z10: 35 | AA10: 46 | AB10: 43 | AC10: 42 | AD10: 33 | AE10: 37 | AF10: 41 | AG10: 37 | AH10: 46 | AI10: 44 | AJ10: 44 | AK10: 33 | AL10: 53 | AM10: 40 | AN10: 59 | AO10: 38 | AP10: 30 | AQ10: 43 | AR10: 47 | AS10: 36 | AT10: 54 | AU10: 49 | AV10: 33 | AW10: 44 | AX10: 51 | AY10: 42 | AZ10: 39 | BA10: 49 | BB10: 47 | BC10: 34 | BD10: 60 | BE10: 47 | BF10: 52 | BG10: 44 | BH10: 70 | CX10: 42 | CY10: 45 | CZ10: 37 | DA10: 44 | DB10: 40 | DC10: 46 | DD10: 47 | DE10: 40 | DF10: 41 | DG10: 51 | DH10: 44 | DI10: 40 | DJ10: 35 | DK10: 44 | DL10: 52 | DM10: 46 | DN10: 31 | DO10: 37 | DP10: 64 | DQ10: 47 | DR10: 29 | DS10: 45 | DT10: 41 | DU10: 44 | DV10: 34 | DW10: 49 | DX10: 46 | DY10: 48 | DZ10: 41 | EA10: 57 | EB10: 58 | EC10: 44 | ED10: 36 | EE10: 48 | EF10: 41 | EG10: 40 | EH10: 37 | EI10: 44 | EJ10: 51 | EK10: 41 | EL10: 33 | EM10: 48 | EN10: 51 | EO10: 36 | EP10: 53 | EQ10: 64 | ER10: 50 | ES10: 66 | ET10: 27 | EU10: 41 | EV10: 40 | EW10: 43 | EX10: 39 | EY10: 51 | EZ10: 50 | FA10: 33 | FB10: 42 | FC10: 38 | FD10: 42 | FE10: 36 | FF10: 34 | FG10: 49 | FH10: 41 | FI10: 40 | FJ10: 34 | FK10: 26 | FL10: 42 | FM10: 27 | FN10: 37 | FO10: 38 | FP10: 35 | FQ10: 36 | FR10: 26 | FS10: 40 | FT10: 35 | FU10: 36 | FV10: 34 | FW10: 37 | FX10: 49 | FY10: 29 | FZ10: 31 | GA10: 40 | GB10: 43 | GC10: 37 | GD10: 33 | GE10: 38 | GF10: 45 | GG10: 36 | GH10: 44 | GI10: 40 | GJ10: 43 | GK10: 34 | GL10: 48 | GM10: 44 | GN10: 48 | GO10: 46 | GP10: 37 | GQ10: 38 | GR10: 38 | GS10: 43 | GT10: 34 | GU10: 31 | GV10: 35 | GW10: 30 | GX10: 35 | GY10: 39 | GZ10: 36 | HA10: 42 | HB10: 24 | HC10: 28 | HD10: 47 | HE10: 31 | HF10: 38 | HG10: 34 | HH10: 50 | HI10: 29 | HJ10: 31 | HK10: 28 | HL10: 36 | HM10: 33 | HN10: 24 | HO10: 30 | HP10: 40 | HQ10: 31 | HR10: 31 | HS10: 34 | HT10: 29 | HU10: 29 | HV10: 42 | HW10: 28 | HX10: 37 | HY10: 27 | HZ10: 33 | IA10: 33 | IB10: 32 | IC10: 37 | ID10: 24 | IE10: 35 | IF10: 40 | IG10: 24 | IH10: 40 | II10: 35 | IJ10: 29 | IK10: 30 | IL10: 25 | IM10: 32 | IN10: 26 | IO10: 46 | IP10: 31 | IQ10: 34 | IR10: 41 | IS10: 23 | IT10: 35 | IU10: 31 | IV10: 35 | IW10: 29 | IX10: 27 | IY10: 33 | IZ10: 37 | JA10: 36 | JB10: 28 | JC10: 31 | JD10: 33 | JE10: 24 | JF10: 28 | JG10: 37 | JH10: 28 | JI10: 29 | JJ10: 24
D11: Ｇ／Ｔ | E11: 804243 | F11: 918921 | G11: 1049260 | H11: 875420 | I11: 1453239 | J11: 934895 | K11: 1234608 | L11: 1084978 | M11: 580703 | N11: 1493526 | O11: 1194720 | P11: 3122600 | Q11: 5214718 | R11: 1453160 | S11: 1079780 | T11: 1295581 | U11: 762512 | V11: 1146331 | W11: 1049706 | X11: 1301970 | Y11: 519753 | Z11: 1121898 | AA11: 1159072 | AB11: 1035223 | AC11: 1061977 | AD11: 981000 | AE11: 1377435 | AF11: 968155 | AG11: 1247406 | AH11: 1284678 | AI11: 1093713 | AJ11: 1295338 | AK11: 850685 | AL11: 1154400 | AM11: 1203776 | AN11: 1771621 | AO11: 1115081 | AP11: 846165 | AQ11: 1480809 | AR11: 1305304 | AS11: 938720 | AT11: 1320710 | AU11: 1445486 | AV11: 880284 | AW11: 1664594 | AX11: 906869 | AY11: 1187142 | AZ11: 1329211 | BA11: 1310481 | BB11: 1177066 | BC11: 994797 | BD11: 1562002 | BE11: 1628258 | BF11: 1223928 | BG11: 1463733 | BH11: 1451002 | CX11: 1045000 | CY11: 1559347 | CZ11: 1140910 | DA11: 1106743 | DB11: 1129771 | DC11: 1107689 | DD11: 1417655 | DE11: 965398 | DF11: 1144211 | DG11: 1321038 | DH11: 945576 | DI11: 1042932 | DJ11: 889081 | DK11: 1030932 | DL11: 1173391 | DM11: 1012177 | DN11: 572726 | DO11: 1301041 | DP11: 1079167 | DQ11: 1215139 | DR11: 595057 | DS11: 1107980 | DT11: 1157713 | DU11: 1104896 | DV11: 1054124 | DW11: 1034208 | DX11: 874772 | DY11: 905543 | DZ11: 1205138 | EA11: 1120129 | EB11: 1154061 | EC11: 656034 | ED11: 873500 | EE11: 1133956 | EF11: 1120885 | EG11: 1007725 | EH11: 1069186 | EI11: 996020 | EJ11: 1339105 | EK11: 907097 | EL11: 846112 | EM11: 1515913 | EN11: 1201449 | EO11: 747992 | EP11: 1455805 | EQ11: 1671507 | ER11: 948805 | ES11: 1523143 | ET11: 981616 | EU11: 977260 | EV11: 961017 | EW11: 1090732 | EX11: 1011739 | EY11: 863694 | EZ11: 1247897 | FA11: 571730 | FB11: 1452656 | FC11: 732889 | FD11: 1228203 | FE11: 1165397 | FF11: 785782 | FG11: 1452432 | FH11: 911824 | FI11: 1000077 | FJ11: 1348227 | FK11: 949806 | FL11: 995273 | FM11: 971631 | FN11: 846332 | FO11: 911560 | FP11: 920903 | FQ11: 1219695 | FR11: 808057 | FS11: 1127337 | FT11: 795794 | FU11: 988559 | FV11: 630741 | FW11: 1203020 | FX11: 812681 | FY11: 798246 | FZ11: 1182044 | GA11: 807213 | GB11: 931667 | GC11: 1013503 | GD11: 806062 | GE11: 1142453 | GF11: 931287 | GG11: 953012 | GH11: 959216 | GI11: 1282803 | GJ11: 1000819 | GK11: 736774 | GL11: 1331786 | GM11: 1107244 | GN11: 1142081 | GO11: 1189457 | GP11: 851628 | GQ11: 849981 | GR11: 1095028 | GS11: 927662 | GT11: 906380 | GU11: 765760 | GV11: 706743 | GW11: 684545 | GX11: 858025 | GY11: 1081919 | GZ11: 576152 | HA11: 1483394 | HB11: 562063 | HC11: 490987 | HD11: 729665 | HE11: 950062 | HF11: 620314 | HG11: 839521 | HH11: 739698 | HI11: 597566 | HJ11: 574019 | HK11: 781151 | HL11: 1016467 | HM11: 602968 | HN11: 415345 | HO11: 906809 | HP11: 873656 | HQ11: 548541 | HR11: 854988 | HS11: 1024953 | HT11: 502287 | HU11: 452788 | HV11: 937827 | HW11: 537874 | HX11: 646161 | HY11: 910940 | HZ11: 767024 | IA11: 1158121 | IB11: 620173 | IC11: 741677 | ID11: 562582 | IE11: 843572 | IF11: 1010011 | IG11: 493251 | IH11: 720950 | II11: 806729 | IJ11: 882650 | IK11: 897671 | IL11: 698328 | IM11: 598252 | IN11: 720760 | IO11: 1055318 | IP11: 736567 | IQ11: 803216 | IR11: 785874 | IS11: 565272 | IT11: 999023 | IU11: 794384 | IV11: 712235 | IW11: 627258 | IX11: 847425 | IY11: 685118 | IZ11: 971735 | JA11: 847684 | JB11: 765538 | JC11: 717508 | JD11: 812297 | JE11: 884009 | JF11: 439863 | JG11: 1052535 | JH11: 548545 | JI11: 995819 | JJ11: 804243
AL12: 42
B13: 進水 | D13: 隻数 | E13: 28 | F13: 38 | G13: 40 | H13: 33 | I13: 55 | J13: 36 | K13: 45 | L13: 47 | M13: 17 | N13: 44 | O13: 43 | P13: 48 | Q13: 52 | R13: 27 | S13: 51 | T13: 43 | U13: 38 | V13: 49 | W13: 44 | X13: 53 | Y13: 29 | Z13: 54 | AA13: 57 | AB13: 42 | AC13: 59 | AD13: 49 | AE13: 48 | AF13: 44 | AG13: 47 | AH13: 42 | AI13: 44 | AJ13: 49 | AK13: 42 | AL13: 42 | AM13: 55 | AN13: 47 | AO13: 47 | AP13: 49 | AQ13: 42 | AR13: 57 | AS13: 39 | AT13: 58 | AU13: 49 | AV13: 56 | AW13: 47 | AX13: 38 | AY13: 60 | AZ13: 58 | BA13: 44 | BB13: 56 | BC13: 49 | BD13: 41 | BE13: 53 | BF13: 47 | BG13: 42 | BH13: 58 | CX13: 52 | CY13: 46 | CZ13: 58 | DA13: 47 | DB13: 53 | DC13: 48 | DD13: 47 | DE13: 49 | DF13: 37 | DG13: 55 | DH13: 43 | DI13: 44 | DJ13: 50 | DK13: 46 | DL13: 58 | DM13: 35 | DN13: 48 | DO13: 41 | DP13: 50 | DQ13: 42 | DR13: 43 | DS13: 52 | DT13: 41 | DU13: 51 | DV13: 44 | DW13: 47 | DX13: 46 | DY13: 47 | DZ13: 39 | EA13: 43 | EB13: 66 | EC13: 35 | ED13: 46 | EE13: 54 | EF13: 51 | EG13: 49 | EH13: 48 | EI13: 49 | EJ13: 54 | EK13: 53 | EL13: 34 | EM13: 49 | EN13: 54 | EO13: 49 | EP13: 51 | EQ13: 56 | ER13: 47 | ES13: 45 | ET13: 45 | EU13: 47 | EV13: 55 | EW13: 49 | EX13: 51 | EY13: 47 | EZ13: 61 | FA13: 33 | FB13: 53 | FC13: 46 | FD13: 61 | FE13: 42 | FF13: 41 | FG13: 47 | FH13: 47 | FI13: 46 | FJ13: 35 | FK13: 51 | FL13: 42 | FM13: 40 | FN13: 40 | FO13: 43 | FP13: 34 | FQ13: 42 | FR13: 43 | FS13: 33 | FT13: 50 | FU13: 41 | FV13: 42 | FW13: 46 | FX13: 52 | FY13: 40 | FZ13: 41 | GA13: 39 | GB13: 46 | GC13: 52 | GD13: 41 | GE13: 53 | GF13: 56 | GG13: 45 | GH13: 46 | GI13: 44 | GJ13: 50 | GK13: 44 | GL13: 48 | GM13: 48 | GN13: 47 | GO13: 49 | GP13: 56 | GQ13: 43 | GR13: 55 | GS13: 50 | GT13: 45 | GU13: 35 | GV13: 48 | GW13: 42 | GX13: 41 | GY13: 43 | GZ13: 43 | HA13: 43 | HB13: 32 | HC13: 45 | HD13: 40 | HE13: 40 | HF13: 33 | HG13: 28 | HH13: 46 | HI13: 35 | HJ13: 39 | HK13: 40 | HL13: 39 | HM13: 42 | HN13: 34 | HO13: 36 | HP13: 39 | HQ13: 39 | HR13: 34 | HS13: 43 | HT13: 32 | HU13: 41 | HV13: 40 | HW13: 30 | HX13: 41 | HY13: 31 | HZ13: 35 | IA13: 37 | IB13: 39 | IC13: 36 | ID13: 30 | IE13: 33 | IF13: 40 | IG13: 26 | IH13: 39 | II13: 37 | IJ13: 42 | IK13: 39 | IL13: 35 | IM13: 35 | IN13: 30 | IO13: 42 | IP13: 30 | IQ13: 40 | IR13: 29 | IS13: 30 | IT13: 36 | IU13: 39 | IV13: 40 | IW13: 28 | IX13: 37 | IY13: 34 | IZ13: 38 | JA13: 33 | JB13: 37 | JC13: 33 | JD13: 42 | JE13: 28 | JF13: 29 | JG13: 39 | JH13: 34 | JI13: 29 | JJ13: 28
D14: Ｇ／Ｔ | E14: 635261 | F14: 1204362 | G14: 794971 | H14: 1025134 | I14: 1291349 | J14: 1341244 | K14: 1387038 | L14: 1028344 | M14: 668828 | N14: 1297473 | O14: 1023998 | P14: 1594572 | Q14: 1472572 | R14: 744920 | S14: 1390703 | T14: 1315060 | U14: 1030721 | V14: 1724607 | W14: 966608 | X14: 1657628 | Y14: 1105113 | Z14: 1669281 | AA14: 1208968 | AB14: 1118368 | AC14: 1534005 | AD14: 1410204 | AE14: 1271705 | AF14: 1384428 | AG14: 1499622 | AH14: 1397659 | AI14: 1104717 | AJ14: 1599594 | AK14: 951690 | AL14: 1647290 | AM14: 1826602 | AN14: 1437923 | AO14: 1569733 | AP14: 1219305 | AQ14: 1391278 | AR14: 1611217 | AS14: 1329569 | AT14: 1409225 | AU14: 1336427 | AV14: 1846451 | AW14: 1217079 | AX14: 1087091 | AY14: 2097970 | AZ14: 1291892 | BA14: 1261989 | BB14: 1715820 | BC14: 1403079 | BD14: 1297938 | BE14: 1457782 | BF14: 1477323 | BG14: 1344028 | BH14: 1540516 | CX14: 1463004 | CY14: 1444213 | CZ14: 1729024 | DA14: 1626016 | DB14: 1412216 | DC14: 1171750 | DD14: 1346350 | DE14: 1554087 | DF14: 1225361 | DG14: 1600650 | DH14: 1329848 | DI14: 1128174 | DJ14: 1339300 | DK14: 972521 | DL14: 1625839 | DM14: 870979 | DN14: 1155281 | DO14: 1246796 | DP14: 1104646 | DQ14: 864936 | DR14: 896467 | DS14: 1064102 | DT14: 939844 | DU14: 1285022 | DV14: 1235925 | DW14: 1005828 | DX14: 945194 | DY14: 1390009 | DZ14: 980469 | EA14: 1182803 | EB14: 1271594 | EC14: 964153 | ED14: 1086179 | EE14: 1156746 | EF14: 1163917 | EG14: 1188652 | EH14: 1139668 | EI14: 1084242 | EJ14: 1397993 | EK14: 1048244 | EL14: 902159 | EM14: 1423327 | EN14: 879666 | EO14: 1132344 | EP14: 1390072 | EQ14: 1089546 | ER14: 1213577 | ES14: 941863 | ET14: 1207004 | EU14: 938650 | EV14: 1450126 | EW14: 1216230 | EX14: 1091254 | EY14: 997430 | EZ14: 1245653 | FA14: 804507 | FB14: 1255839 | FC14: 967993 | FD14: 1740891 | FE14: 963414 | FF14: 859823 | FG14: 1147526 | FH14: 1302058 | FI14: 1099969 | FJ14: 917904 | FK14: 1196703 | FL14: 1130563 | FM14: 1254170 | FN14: 992474 | FO14: 1063835 | FP14: 1275695 | FQ14: 1450858 | FR14: 830541 | FS14: 966053 | FT14: 1341818 | FU14: 986727 | FV14: 912011 | FW14: 1000160 | FX14: 1033380 | FY14: 1109243 | FZ14: 1277427 | GA14: 785050 | GB14: 1448728 | GC14: 1269422 | GD14: 850149 | GE14: 1372537 | GF14: 1286817 | GG14: 1000151 | GH14: 1268772 | GI14: 1413150 | GJ14: 1128063 | GK14: 928048 | GL14: 1589093 | GM14: 1145048 | GN14: 1060148 | GO14: 1373250 | GP14: 1029284 | GQ14: 1088557 | GR14: 1449586 | GS14: 968251 | GT14: 993476 | GU14: 763000 | GV14: 995493 | GW14: 767090 | GX14: 1068163 | GY14: 849326 | GZ14: 945993 | HA14: 1279097 | HB14: 626681 | HC14: 824549 | HD14: 1056453 | HE14: 887750 | HF14: 649909 | HG14: 1124933 | HH14: 1008566 | HI14: 751442 | HJ14: 512320 | HK14: 902712 | HL14: 1079181 | HM14: 580882 | HN14: 716140 | HO14: 1014507 | HP14: 812992 | HQ14: 623803 | HR14: 658716 | HS14: 1083196 | HT14: 496823 | HU14: 852108 | HV14: 845867 | HW14: 577848 | HX14: 704916 | HY14: 982144 | HZ14: 538921 | IA14: 1118663 | IB14: 676560 | IC14: 848089 | ID14: 508564 | IE14: 1030026 | IF14: 1400738 | IG14: 508841 | IH14: 825447 | II14: 900138 | IJ14: 853250 | IK14: 861434 | IL14: 807276 | IM14: 614072 | IN14: 651863 | IO14: 972197 | IP14: 726240 | IQ14: 907811 | IR14: 696326 | IS14: 769646 | IT14: 819531 | IU14: 709890 | IV14: 1010285 | IW14: 759019 | IX14: 985684 | IY14: 553898 | IZ14: 944814 | JA14: 675648 | JB14: 1047460 | JC14: 635799 | JD14: 875343 | JE14: 1037910 | JF14: 652898 | JG14: 959234 | JH14: 634688 | JI14: 855583 | JJ14: 635261
F15: =IF(J15>=1,J15,"") -> 63 | G15: =IF(F15="","","万") -> 万 | H15: =IF(K15>0,K15,"") -> 5 | I15: =IF(H15="","","千") -> 千 | J15: =IF(M15=10,L15+1,L15) -> 63 | K15: =IF(M15<10,M15,"") -> 5 | L15: =ROUNDDOWN(E14/10000,0) -> 63 | M15: =ROUND((+E14-ROUNDDOWN(E14/10000,0)*10000)/1000,0) -> 5
C16: 合 | D16: 隻数 | E16: 30 | F16: =F31 -> 52 | G16: =G31 -> 43 | H16: =H31 -> 65 | I16: =I31 -> 35 | J16: =J31 -> 42 | K16: =K31 -> 50 | L16: =L31 -> 36 | M16: =M31 -> 31 | ... AM16: =AM31 -> 40 | AO16: =AO31 -> 38 | AP16: =AP31 -> 65 | AQ16: =AQ31 -> 33 | AR16: =AR31 -> 89 | AS16: =AS31 -> 37 | AT16: =AT31 -> 50 | AU16: =AU31 -> 69 | AV16: =AV31 -> 55 | ... PI16: =PI31 -> 0
D17: Ｇ／Ｔ | E17: 914234 | F17: =F22+F27 -> 1493812 | G17: =G22+G27 -> 1150020 | H17: =H22+H27 -> 1176712 | I17: =I22+I27 -> 1101146 | J17: =J22+J27 -> 1132031 | K17: =K22+K27 -> 1352270 | L17: =L22+L27 -> 1049593 | M17: =M22+M27 -> 839191 | ... AM17: =AM22+AM27 -> 1406593 | AO17: =AO22+AO27 -> 1115081 | AP17: =AP22+AP27 -> 2167974 | AQ17: =AQ22+AQ27 -> 794731 | AR17: =AR22+AR27 -> 2303494 | AS17: =AS22+AS27 -> 1250666 | AT17: =AT22+AT27 -> 1047891 | AU17: =AU22+AU27 -> 1927338 | AV17: =AV22+AV27 -> 1516360 | ... PI17: =PI22+PI27 -> 0
B18: 竣 | C18: 計 | D18: 竣工船価 | E18: 158877339 | F18: =F23+F28 -> 148915981 | G18: =G23+G28 -> 139821575 | H18: =H23+H28 -> 114618291 | I18: =I23+I28 -> 95141191 | J18: =J23+J28 -> 132153381 | K18: =K23+K28 -> 151535190 | L18: =L23+L28 -> 101999496 | M18: =M23+M28 -> 72939505 | ... AM18: =AM23+AM28 -> 119081938 | AO18: =AO23+AO28 -> 102676743 | AP18: =AP23+AP28 -> 205046492 | AQ18: =AQ23+AQ28 -> 77211758 | AR18: =AR23+AR28 -> 211891620 | AS18: =AS23+AS28 -> 105381902 | AT18: =AT23+AT28 -> 107009168 | AU18: =AU23+AU28 -> 235531176 | AV18: =AV23+AV28 -> 162439297 | ... PI18: =PI23+PI28 -> 0
F19: =IF(J19>=1,J19,"") -> 91 | G19: =IF(F19="","","万") -> 万 | H19: =IF(K19>0,K19,"") -> 4 | I19: =IF(H19="","","千") -> 千 | J19: =IF(M19=10,L19+1,L19) -> 91 | K19: =IF(M19<10,M19,"") -> 4 | L19: =ROUNDDOWN(E17/10000,0) -> 91 | M19: =ROUND((+E17-ROUNDDOWN(E17/10000,0)*10000)/1000,0) -> 4
F20: =IF(ROUNDDOWN(E18/100000000,0)>0,+ROUNDDOWN(E18/100000000,0)&",","")&+IF(ROUND(E18/100000,0)-(ROUNDDOWN(E18/100000000,0)*1000)>99,ROUND(E18/100000,0)-ROUNDDOWN(E18/100000000,0)*1000,IF(ROUND(E18/100000,0)-ROUNDDOWN(E18/100000000,0)*1000>9,"0"&+ROUND(E18/100000,0)-ROUNDDOWN(E18/100000000,0)*1000,"00"&+ROUND(E18/100000,0)-ROUNDDOWN(E18/100000000,0)*1000)) -> 1,589
C21: 国 | D21: 隻数 | E21: 7 | F21: =F32 -> 13 | G21: =G32 -> 10 | H21: =H32 -> 27 | I21: =I32 -> 12 | J21: =J32 -> 16 | K21: =K32 -> 15 | L21: =L32 -> 10 | M21: =M32 -> 7 | ... AM21: =AM32 -> 12 | AO21: =AO32 -> 10 | AP21: =AP32 -> 11 | AQ21: =AQ32 -> 13 | AR21: =AR32 -> 33 | AS21: =AS32 -> 10 | AT21: =AT32 -> 17 | AU21: =AU32 -> 20 | AV21: =AV32 -> 11 | ... PI21: =PI32 -> 0
C22: 内 | D22: Ｇ／Ｔ | E22: 2340 | F22: 5297 | G22: 1940 | H22: 14134 | I22: 1964 | J22: 163757 | K22: 66051 | L22: 162117 | M22: 4434 | N22: 5815 | O22: 9049 | P22: 14131 | Q22: 4193 | R22: 21020 | S22: 2302 | T22: 146905 | U22: 1951 | V22: 1822 | W22: 4051 | X22: 119768 | Y22: 25747 | Z22: 12778 | AA22: 5118 | AB22: 17915 | AC22: 12371 | AD22: 24772 | AE22: 19364 | AF22: 8414 | AG22: 12407 | AH22: 4609 | AI22: 13862 | AJ22: 66962 | AK22: 23169 | AL22: 28216 | AM22: 5735 | AN22: 17104 | AO22: 12882 | AP22: 11533 | AQ22: 15435 | AR22: 9674 | AS22: 2268 | AT22: 10685 | AU22: 18598 | AV22: 3675 | AW22: 48058 | AX22: 56341 | AY22: 96281 | AZ22: 84751 | BA22: 62929 | BB22: 15576 | BC22: 60756 | BD22: 13105 | BE22: 20535 | BF22: 54648 | BG22: 167660 | BH22: 11604 | CX22: 98469 | CY22: 8281 | CZ22: 130228 | DA22: 29818 | DB22: 189469 | DC22: 256437 | DD22: 8527 | DE22: 144182 | DF22: 105863 | DG22: 143594 | DH22: 47667 | DI22: 2604 | DJ22: 100395 | DK22: 21496 | DL22: 84850 | DM22: 10798 | DN22: 75746 | DO22: 22519 | DP22: 17512 | DQ22: 10722 | DR22: 274752 | DS22: 14334 | DT22: 12679 | DU22: 179672 | DV22: 11113 | DW22: 59907 | DX22: 263702 | DY22: 29661 | DZ22: 187020 | EA22: 136048 | EB22: 122776 | EC22: 21804 | ED22: 15742 | EE22: 13779 | EF22: 143137 | EG22: 21256 | EH22: 120758 | EI22: 11281 | EJ22: 66628 | EK22: 77287 | EL22: 34918 | EM22: 13661 | EN22: 9965 | EO22: 154270 | EP22: 38843 | EQ22: 199789 | ER22: 108356 | ES22: 26691 | ET22: 108413 | EU22: 59376 | EV22: 16901 | EW22: 4291 | EX22: 65229 | EY22: 5743 | EZ22: 15673 | FA22: 12244 | FB22: 107970 | FC22: 216601 | FD22: 12592 | FE22: 5305 | FF22: 9752 | FG22: 144656 | FH22: 124923 | FI22: 24116 | FJ22: 69680 | FK22: 65728 | FL22: 5086 | FM22: 26132 | FN22: 87171 | FO22: 37818 | FP22: 26881 | FQ22: 194051 | FR22: 77834 | FS22: 170017 | FT22: 376613 | FU22: 371634 | FV22: 52338 | FW22: 533900 | FX22: 176070 | FY22: 140286 | FZ22: 54610 | GA22: 293975 | GB22: 60290 | GC22: 23145 | GD22: 103217 | GE22: 275847 | GF22: 33085 | GG22: 280288 | GH22: 92694 | GI22: 47640 | GJ22: 327859 | GK22: 15559 | GL22: 54101 | GM22: 20204 | GN22: 23303 | GO22: 3882 | GP22: 14803 | GQ22: 35734 | GR22: 275633 | GS22: 16925 | GT22: 6532 | GU22: 60742 | GV22: 13948 | GW22: 23051 | GX22: 65225 | GY22: 81452 | GZ22: 9280 | HA22: 12602 | HB22: 38021 | HC22: 23795 | HD22: 145791 | HE22: 3144 | HF22: 17018 | HG22: 15290 | HH22: 57673 | HI22: 59274 | HJ22: 219769 | HK22: 102951 | HL22: 116035 | HM22: 85357 | HN22: 257955 | HO22: 53426 | HP22: 118877 | HQ22: 50864 | HR22: 3612 | HS22: 225638 | HT22: 43555 | HU22: 3940 | HV22: 42133 | HW22: 102757 | HX22: 16761 | HY22: 123692 | HZ22: 2197 | IA22: 7465 | IB22: 34233 | IC22: 16825 | ID22: 10900 | IE22: 3725 | IF22: 10702 | IG22: 3171 | IH22: 11961 | II22: 70831 | IJ22: 10554 | IK22: 3835 | IL22: 117958 | IM22: 9444 | IN22: 128188 | IO22: 15193 | IP22: 114009 | IQ22: 11123 | IR22: 22260 | IS22: 1271 | IT22: 5217 | IU22: 129393 | IV22: 1086 | IW22: 21800 | IX22: 7094 | IY22: 113224 | IZ22: 153107 | JA22: 81279 | JB22: 11155 | JC22: 82585 | JD22: 23224 | JE22: 120198 | JF22: 7428 | JG22: 261423 | JH22: 19275 | JI22: 121005 | JJ22: 2340
C23: 船 | D23: 竣工船価 | E23: 5982891 | F23: 4903071 | G23: 2424369 | H23: 15586565 | I23: 4302300 | J23: 12527310 | K23: 28881812 | L23: 11683440 | M23: 5776421 | N23: 5563604 | O23: 4998450 | P23: 5843547 | Q23: 7025285 | R23: 11915050 | S23: 3027236 | T23: 39131228 | U23: 2711753 | V23: 2323666 | W23: 4166900 | X23: 56785000 | Y23: 5339315 | Z23: 6975473 | AA23: 5808356 | AB23: 7126950 | AC23: 9211965 | AD23: 11432700 | AE23: 8921918 | AF23: 9658746 | AG23: 10494022 | AH23: 4219250 | AI23: 8730041 | AJ23: 12701602 | AK23: 15224250 | AL23: 15758042 | AM23: 3752000 | AN23: 9908073 | AO23: 5367703 | AP23: 4412375 | AQ23: 8431709 | AR23: 11508020 | AS23: 2947575 | AT23: 8543405 | AU23: 19434117 | AV23: 4876800 | AW23: 5015925 | AX23: 12521778 | AY23: 21462331 | AZ23: 23632782 | BA23: 14156775 | BB23: 9467885 | BC23: 13428310 | BD23: 17115220 | BE23: 13045224 | BF23: 13551771 | BG23: 36255310 | BH23: 9379564 | CX23: 40917400 | CY23: 10400888 | CZ23: 30375310 | DA23: 29313956 | DB23: 28288888 | DC23: 49571880 | DD23: 12864615 | DE23: 15236157 | DF23: 18047732 | DG23: 19239708 | DH23: 11706067 | DI23: 4681830 | DJ23: 24248734 | DK23: 17190005 | DL23: 34125953 | DM23: 9495375 | DN23: 18237103 | DO23: 25854230 | DP23: 13994857 | DQ23: 6726140 | DR23: 53640831 | DS23: 12124343 | DT23: 7695800 | DU23: 24610133 | DV23: 12909850 | DW23: 13921376 | DX23: 56069955 | DY23: 17539000 | DZ23: 23500218 | EA23: 29394748 | EB23: 28723252 | EC23: 11851035 | ED23: 19781285 | EE23: 15802762 | EF23: 29043055 | EG23: 12735702 | EH23: 16777527 | EI23: 20057738 | EJ23: 27576078 | EK23: 20923295 | EL23: 11640689 | EM23: 10861100 | EN23: 5518116 | EO23: 18101600 | EP23: 22944617 | EQ23: 32675368 | ER23: 31643480 | ES23: 13672256 | ET23: 15236216 | EU23: 19622397 | EV23: 39810382 | EW23: 6854234 | EX23: 14216080 | EY23: 9712392 | EZ23: 10716780 | FA23: 9276775 | FB23: 30586176 | FC23: 38188435 | FD23: 16433371 | FE23: 10263958 | FF23: 6087200 | FG23: 40193496 | FH23: 28808884 | FI23: 18666163 | FJ23: 17967792 | FK23: 22163113 | FL23: 7354780 | FM23: 15814755 | FN23: 22039940 | FO23: 20816810 | FP23: 19842633 | FQ23: 30890545 | FR23: 21370307 | FS23: 27350854 | FT23: 73196549 | FU23: 54507404 | FV23: 8430849 | FW23: 56781318 | FX23: 29929625 | FY23: 26649541 | FZ23: 12134317 | GA23: 39841111 | GB23: 9312110 | GC23: 17064129 | GD23: 52924241 | GE23: 67389019 | GF23: 38034783 | GG23: 41136775 | GH23: 24608940 | GI23: 23756408 | GJ23: 36582473 | GK23: 16846524 | GL23: 24456749 | GM23: 14210941 | GN23: 12589546 | GO23: 7909987 | GP23: 20298000 | GQ23: 47867640 | GR23: 87559931 | GS23: 14034526 | GT23: 10060575 | GU23: 43520036 | GV23: 19596846 | GW23: 14287349 | GX23: 19593276 | GY23: 17218228 | GZ23: 14015769 | HA23: 11649308 | HB23: 18262972 | HC23: 25589470 | HD23: 52348010 | HE23: 5652960 | HF23: 11737907 | HG23: 15336890 | HH23: 27756181 | HI23: 16081138 | HJ23: 30050037 | HK23: 14826653 | HL23: 34725229 | HM23: 41286342 | HN23: 26075760 | HO23: 8916877 | HP23: 64465892 | HQ23: 36826589 | HR23: 6523033 | HS23: 34218468 | HT23: 24346623 | HU23: 12422141 | HV23: 41255283 | HW23: 17966075 | HX23: 11433349 | HY23: 53015616 | HZ23: 5966470 | IA23: 10704080 | IB23: 68952262 | IC23: 17928481 | ID23: 18196568 | IE23: 6353040 | IF23: 17627351 | IG23: 6580308 | IH23: 13148217 | II23: 11819717 | IJ23: 14615298 | IK23: 7991041 | IL23: 20125626 | IM23: 19133289 | IN23: 97479267 | IO23: 11023668 | IP23: 15730020 | IQ23: 16055903 | IR23: 22333723 | IS23: 1953110 | IT23: 8877405 | IU23: 31630856 | IV23: 2165800 | IW23: 24407050 | IX23: 7774900 | IY23: 17370147 | IZ23: 68366846 | JA23: 18917140 | JB23: 14450963 | JC23: 38685869 | JD23: 18462902 | JE23: 24773401 | JF23: 8960580 | JG23: 59642828 | JH23: 13675000 | JI23: 31818995 | JJ23: 5982891
F24: =IF(J24>=1,J24,"") | G24: =IF(F24="","","万") | H24: =IF(K24>0,K24,"") -> 2 | I24: =IF(H24="","","千") -> 千 | J24: =IF(M24=10,L24+1,L24) -> 0 | K24: =IF(M24<10,M24,"") -> 2 | L24: =ROUNDDOWN(E22/10000,0) -> 0 | M24: =ROUND((+E22-ROUNDDOWN(E22/10000,0)*10000)/1000,0) -> 2
F25: =ROUND(E23/100000,0) -> 60
B26: 工 | C26: 輸 | D26: 隻数 | E26: 23 | F26: =F40 -> 39 | G26: =G40 -> 33 | H26: =H40 -> 38 | I26: =I40 -> 23 | J26: =J40 -> 26 | K26: =K40 -> 35 | L26: =L40 -> 26 | M26: =M40 -> 24 | ... AM26: =AM40 -> 28 | AO26: =AO40 -> 28 | AP26: =AP40 -> 54 | AQ26: =AQ40 -> 20 | AR26: =AR40 -> 56 | AS26: =AS40 -> 27 | AT26: =AT40 -> 33 | AU26: =AU40 -> 49 | AV26: =AV40 -> 44 | ... PI26: =PI40 -> 0
C27: 出 | D27: Ｇ／Ｔ | E27: 911894 | F27: 1488515 | G27: 1148080 | H27: 1162578 | I27: 1099182 | J27: 968274 | K27: 1286219 | L27: 887476 | M27: 834757 | N27: 1646679 | O27: 1420360 | P27: 875490 | Q27: 660774 | R27: 1574031 | S27: 1266027 | T27: 1712089 | U27: 1035389 | V27: 922962 | W27: 1193202 | X27: 1729374 | Y27: 985277 | Z27: 1400297 | AA27: 1417496 | AB27: 1481465 | AC27: 942058 | AD27: 1886931 | AE27: 1433747 | AF27: 1825368 | AG27: 1378754 | AH27: 1193691 | AI27: 1045385 | AJ27: 1328095 | AK27: 1438057 | AL27: 1571998 | AM27: 1400858 | AN27: 1419944 | AO27: 1102199 | AP27: 2156441 | AQ27: 779296 | AR27: 2293820 | AS27: 1248398 | AT27: 1037206 | AU27: 1908740 | AV27: 1512685 | AW27: 884822 | AX27: 1200668 | AY27: 1355783 | AZ27: 1285686 | BA27: 1156447 | BB27: 1914400 | BC27: 1364053 | BD27: 2383108 | BE27: 989824 | BF27: 1161901 | BG27: 1449587 | BH27: 1116323 | CX27: 2066875 | CY27: 1198316 | CZ27: 1863737 | DA27: 1629402 | DB27: 1208695 | DC27: 2003049 | DD27: 1142709 | DE27: 702562 | DF27: 1274026 | DG27: 870149 | DH27: 1008993 | DI27: 635449 | DJ27: 1965186 | DK27: 1209522 | DL27: 1727257 | DM27: 986636 | DN27: 1039680 | DO27: 1185009 | DP27: 1304055 | DQ27: 484199 | DR27: 1040141 | DS27: 983706 | DT27: 1072361 | DU27: 599721 | DV27: 1390468 | DW27: 1255691 | DX27: 1516657 | DY27: 697601 | DZ27: 801774 | EA27: 1080475 | EB27: 1060853 | EC27: 538382 | ED27: 1348305 | EE27: 1531602 | EF27: 649969 | EG27: 396026 | EH27: 1776497 | EI27: 810706 | EJ27: 1667532 | EK27: 741711 | EL27: 983188 | EM27: 805169 | EN27: 1341350 | EO27: 814627 | EP27: 1029265 | EQ27: 793844 | ER27: 615629 | ES27: 380617 | ET27: 1772271 | EU27: 1320429 | EV27: 1866079 | EW27: 879184 | EX27: 1045698 | EY27: 1092781 | EZ27: 676673 | FA27: 594026 | FB27: 1198569 | FC27: 644080 | FD27: 1100046 | FE27: 169553 | FF27: 1777659 | FG27: 808377 | FH27: 1796884 | FI27: 1048414 | FJ27: 644196 | FK27: 1229139 | FL27: 1036774 | FM27: 722783 | FN27: 884222 | FO27: 710654 | FP27: 734164 | FQ27: 530834 | FR27: 1860844 | FS27: 594352 | FT27: 1433721 | FU27: 793258 | FV27: 696245 | FW27: 1282407 | FX27: 837606 | FY27: 905945 | FZ27: 979964 | GA27: 845530 | GB27: 1027178 | GC27: 652791 | GD27: 1101976 | GE27: 1210038 | GF27: 1826239 | GG27: 1048358 | GH27: 1126482 | GI27: 1077208 | GJ27: 1414597 | GK27: 1183993 | GL27: 1312020 | GM27: 1902640 | GN27: 857136 | GO27: 741972 | GP27: 1821150 | GQ27: 1206504 | GR27: 1109010 | GS27: 1186747 | GT27: 706612 | GU27: 2032853 | GV27: 505990 | GW27: 566235 | GX27: 712693 | GY27: 978550 | GZ27: 725008 | HA27: 651460 | HB27: 1040039 | HC27: 1057176 | HD27: 1262994 | HE27: 616022 | HF27: 908947 | HG27: 887324 | HH27: 725006 | HI27: 687626 | HJ27: 873682 | HK27: 670356 | HL27: 676189 | HM27: 491010 | HN27: 836783 | HO27: 460900 | HP27: 1013305 | HQ27: 638835 | HR27: 569660 | HS27: 728665 | HT27: 945019 | HU27: 504899 | HV27: 778914 | HW27: 792509 | HX27: 845967 | HY27: 165337 | HZ27: 985360 | IA27: 654932 | IB27: 1011635 | IC27: 657099 | ID27: 340199 | IE27: 1002007 | IF27: 1101833 | IG27: 506870 | IH27: 703541 | II27: 898197 | IJ27: 696062 | IK27: 1116093 | IL27: 634810 | IM27: 634659 | IN27: 1225354 | IO27: 724190 | IP27: 635309 | IQ27: 748791 | IR27: 739151 | IS27: 645681 | IT27: 785649 | IU27: 577525 | IV27: 478368 | IW27: 512884 | IX27: 988854 | IY27: 695674 | IZ27: 1079643 | JA27: 470541 | JB27: 506609 | JC27: 1070605 | JD27: 807080 | JE27: 676979 | JF27: 865827 | JG27: 705387 | JH27: 683074 | JI27: 350628 | JJ27: 911894
C28: 船 | D28: 竣工船価 | E28: 152894448 | F28: 144012910 | G28: 137397206 | H28: 99031726 | I28: 90838891 | J28: 119626071 | K28: 122653378 | L28: 90316056 | M28: 67163084 | N28: 128676077 | O28: 125878320 | P28: 59267093 | Q28: 66281272 | R28: 105714605 | S28: 92062733 | T28: 136652199 | U28: 96220020 | V28: 67594668 | W28: 100175280 | X28: 110125519 | Y28: 80204816 | Z28: 108985253 | AA28: 101387092 | AB28: 117302543 | AC28: 82122715 | AD28: 172157736 | AE28: 126406301 | AF28: 180379293 | AG28: 101798300 | AH28: 99699638 | AI28: 77188461 | AJ28: 117508043 | AK28: 102091034 | AL28: 131124776 | AM28: 115329938 | AN28: 137605838 | AO28: 97309040 | AP28: 200634117 | AQ28: 68780049 | AR28: 200383600 | AS28: 102434327 | AT28: 98465763 | AU28: 216097059 | AV28: 157562497 | AW28: 88055716 | AX28: 128730016 | AY28: 148150424 | AZ28: 131238751 | BA28: 121552349 | BB28: 206944337 | BC28: 138488453 | BD28: 259082792 | BE28: 120269252 | BF28: 126495083 | BG28: 159517352 | BH28: 141272531 | CX28: 235034764 | CY28: 130895857 | CZ28: 197650892 | DA28: 177150776 | DB28: 116785900 | DC28: 241235716 | DD28: 107657810 | DE28: 91037206 | DF28: 122719724 | DG28: 88170196 | DH28: 102099833 | DI28: 63551213 | DJ28: 211484301 | DK28: 114291862 | DL28: 187897466 | DM28: 93499480 | DN28: 115849357 | DO28: 116169466 | DP28: 138922155 | DQ28: 57957092 | DR28: 98423457 | DS28: 90950565 | DT28: 102878592 | DU28: 56287498 | DV28: 146890794 | DW28: 117942280 | DX28: 155346794 | DY28: 111646307 | DZ28: 78618429 | EA28: 105085667 | EB28: 98310043 | EC28: 59224155 | ED28: 145799524 | EE28: 146430306 | EF28: 66805850 | EG28: 53448930 | EH28: 160089756 | EI28: 85530810 | EJ28: 160588481 | EK28: 71667308 | EL28: 108957061 | EM28: 84253096 | EN28: 135901677 | EO28: 78785660 | EP28: 101552702 | EQ28: 84456460 | ER28: 77087640 | ES28: 39919809 | ET28: 173886460 | EU28: 130474891 | EV28: 246815013 | EW28: 82602512 | EX28: 97993952 | EY28: 113045050 | EZ28: 72055706 | FA28: 66868613 | FB28: 111728041 | FC28: 73953064 | FD28: 95678585 | FE28: 28195781 | FF28: 182092537 | FG28: 77592301 | FH28: 201562856 | FI28: 142080011 | FJ28: 75070754 | FK28: 125555190 | FL28: 106649435 | FM28: 77303840 | FN28: 97069109 | FO28: 80831826 | FP28: 68108629 | FQ28: 55577271 | FR28: 199165793 | FS28: 87261505 | FT28: 171662870 | FU28: 83740160 | FV28: 72471628 | FW28: 144805700 | FX28: 87770409 | FY28: 96151961 | FZ28: 97264924 | GA28: 99223148 | GB28: 119731490 | GC28: 59891646 | GD28: 113982383 | GE28: 140437966 | GF28: 204134659 | GG28: 98381691 | GH28: 112020444 | GI28: 102547524 | GJ28: 145507313 | GK28: 114484570 | GL28: 133467461 | GM28: 150998765 | GN28: 80250212 | GO28: 65942750 | GP28: 147112966 | GQ28: 124170011 | GR28: 99475690 | GS28: 97304021 | GT28: 64877488 | GU28: 181299155 | GV28: 44612145 | GW28: 48918839 | GX28: 66152782 | GY28: 96736437 | GZ28: 69707098 | HA28: 71460112 | HB28: 104492645 | HC28: 95286851 | HD28: 135934816 | HE28: 55782232 | HF28: 85729139 | HG28: 81504819 | HH28: 66691360 | HI28: 77859075 | HJ28: 78578726 | HK28: 65088279 | HL28: 75591383 | HM28: 55463263 | HN28: 88061147 | HO28: 72917926 | HP28: 104525526 | HQ28: 65964383 | HR28: 66062870 | HS28: 67527805 | HT28: 100121782 | HU28: 67660920 | HV28: 92363443 | HW28: 96609915 | HX28: 103458260 | HY28: 27878705 | HZ28: 103489423 | IA28: 77846272 | IB28: 121100511 | IC28: 79772065 | ID28: 38971263 | IE28: 131119495 | IF28: 127448309 | IG28: 71157358 | IH28: 101169909 | II28: 108022172 | IJ28: 96621844 | IK28: 134008364 | IL28: 83917871 | IM28: 93337975 | IN28: 170416103 | IO28: 122086722 | IP28: 93450868 | IQ28: 116260212 | IR28: 139405588 | IS28: 89984394 | IT28: 121686486 | IU28: 98811359 | IV28: 90835115 | IW28: 88964506 | IX28: 162755656 | IY28: 116370579 | IZ28: 180999050 | JA28: 77020342 | JB28: 72908716 | JC28: 174977680 | JD28: 139167325 | JE28: 127792596 | JF28: 148923159 | JG28: 118883844 | JH28: 122988458 | JI28: 55196659 | JJ28: 152894448
F29: =IF(J29>=1,J29,"") -> 91 | G29: =IF(F29="","","万") -> 万 | H29: =IF(K29>0,K29,"") -> 2 | I29: =IF(H29="","","千") -> 千 | J29: =IF(M29=10,L29+1,L29) -> 91 | K29: =IF(M29<10,M29,"") -> 2 | L29: =ROUNDDOWN(E27/10000,0) -> 91 | M29: =ROUND((+E27-ROUNDDOWN(E27/10000,0)*10000)/1000,0) -> 2
F30: =IF(ROUNDDOWN(E28/100000000,0)>0,+ROUNDDOWN(E28/100000000,0)&",","")&+IF(ROUND(E28/100000,0)-(ROUNDDOWN(E28/100000000,0)*1000)>99,ROUND(E28/100000,0)-ROUNDDOWN(E28/100000000,0)*1000,IF(ROUND(E28/100000,0)-ROUNDDOWN(E28/100000000,0)*1000>9,"0"&+ROUND(E28/100000,0)-ROUNDDOWN(E28/100000000,0)*1000,"00"&+ROUND(E28/100000,0)-ROUNDDOWN(E28/100000000,0)*1000)) -> 1,529
C31: 合 計 | E31: 30 | F31: =F32+F40 -> 52 | G31: =G32+G40 -> 43 | H31: =H32+H40 -> 65 | I31: =I32+I40 -> 35 | J31: =J32+J40 -> 42 | K31: =K32+K40 -> 50 | L31: =L32+L40 -> 36 | M31: =M32+M40 -> 31 | ... PI31: =PI32+PI40 -> 0
B32: 竣 | D32: 計 | E32: 7 | F32: =SUM(F33:F39) -> 13 | G32: =SUM(G33:G39) -> 10 | H32: =SUM(H33:H39) -> 27 | I32: =SUM(I33:I39) -> 12 | J32: =SUM(J33:J39) -> 16 | K32: =SUM(K33:K39) -> 15 | L32: =SUM(L33:L39) -> 10 | M32: =SUM(M33:M39) -> 7 | ... PI32: =SUM(PI33:PI39) -> 0
C33: 国 | D33: 貨物船 | E33: 3 | F33: 3 | G33: 1 | H33: 2 | I33: 1 | J33: 2 | K33: 1 | L33: 0 | M33: 3 | N33: 5 | O33: 1 | P33: 5 | Q33: 4 | R33: 3 | S33: 2 | T33: 5 | U33: 3 | V33: 2 | W33: 4 | X33: 4 | Y33: 1 | Z33: 2 | AA33: 4 | AB33: 1 | AC33: 5 | AD33: 7 | AE33: 2 | AF33: 5 | AG33: 2 | AH33: 4 | AI33: 3 | AJ33: 4 | AK33: 5 | AL33: 4 | AM33: 1 | AN33: 4 | AO33: 4 | AP33: 4 | AQ33: 3 | AR33: 4 | AS33: 4 | AT33: 5 | AU33: 5 | AV33: 3 | AW33: 3 | AX33: 3 | AY33: 7 | AZ33: 7 | BA33: 7 | BB33: 5 | BC33: 6 | BD33: 6 | BE33: 4 | BF33: 6 | BG33: 6 | BH33: 4 | CX33: 6 | CY33: 4 | CZ33: 7 | DA33: 4 | DB33: 6 | DC33: 2 | DD33: 4 | DE33: 2 | DF33: 3 | DG33: 5 | DH33: 3 | DI33: 5 | DJ33: 5 | DK33: 3 | DL33: 6 | DM33: 6 | DN33: 9 | DO33: 3 | DP33: 6 | DQ33: 4 | DR33: 10 | DS33: 4 | DT33: 5 | DU33: 9 | DV33: 3 | DW33: 6 | DX33: 8 | DY33: 5 | DZ33: 5 | EA33: 7 | EB33: 4 | EC33: 6 | ED33: 6 | EE33: 9 | EF33: 4 | EG33: 8 | EH33: 6 | EI33: 3 | EJ33: 11 | EK33: 5 | EL33: 5 | EM33: 8 | EN33: 3 | EO33: 2 | EP33: 8 | EQ33: 8 | ER33: 6 | ES33: 3 | ET33: 8 | EU33: 6 | EV33: 7 | EW33: 5 | EX33: 4 | EY33: 8 | EZ33: 3 | FA33: 6 | FB33: 11 | FC33: 5 | FD33: 5 | FE33: 6 | FF33: 1 | FG33: 1 | FH33: 5 | FI33: 9 | FJ33: 2 | FK33: 5 | FL33: 5 | FM33: 5 | FN33: 7 | FO33: 2 | FP33: 6 | FQ33: 3 | FR33: 2 | FS33: 7 | FT33: 11 | FU33: 11 | FV33: 2 | FW33: 9 | FX33: 8 | FY33: 2 | FZ33: 7 | GA33: 7 | GB33: 4 | GC33: 3 | GD33: 5 | GE33: 6 | GF33: 6 | GG33: 7 | GH33: 9 | GI33: 7 | GJ33: 8 | GK33: 4 | GL33: 3 | GM33: 9 | GN33: 5 | GO33: 5 | GP33: 2 | GQ33: 2 | GR33: 10 | GS33: 4 | GT33: 5 | GU33: 5 | GV33: 8 | GW33: 1 | GX33: 9 | GY33: 4 | GZ33: 1 | HA33: 2 | HB33: 3 | HC33: 4 | HD33: 12 | HE33: 3 | HF33: 3 | HG33: 2 | HH33: 5 | HI33: 5 | HJ33: 5 | HK33: 2 | HL33: 6 | HM33: 5 | HN33: 2 | HO33: 1 | HP33: 6 | HQ33: 2 | HR33: 6 | HS33: 4 | HT33: 5 | HU33: 4 | HV33: 8 | HW33: 4 | HX33: 6 | HY33: 5 | HZ33: 1 | IA33: 3 | IB33: 5 | IC33: 3 | ID33: 2 | IE33: 5 | IF33: 4 | IG33: 2 | IH33: 3 | II33: 8 | IJ33: 4 | IK33: 3 | IL33: 6 | IM33: 4 | IN33: 10 | IO33: 3 | IP33: 4 | IQ33: 4 | IR33: 8 | IS33: 0 | IT33: 5 | IU33: 4 | IV33: 2 | IW33: 7 | IX33: 1 | IY33: 2 | IZ33: 8 | JA33: 4 | JB33: 5 | JC33: 6 | JD33: 7 | JE33: 5 | JF33: 3 | JG33: 8 | JH33: 6 | JI33: 4 | JJ33: 3
D34: 貨客船 | E34: 0 | F34: 0 | G34: 0 | H34: 0 | I34: 0 | J34: 0 | K34: 0 | L34: 1 | M34: 0 | N34: 0 | O34: 0 | P34: 0 | Q34: 1 | R34: 0 | S34: 0 | T34: 0 | U34: 0 | V34: 0 | W34: 0 | X34: 0 | Y34: 0 | Z34: 0 | AA34: 0 | AB34: 0 | AC34: 1 | AD34: 0 | AE34: 0 | AF34: 0 | AG34: 0 | AH34: 0 | AI34: 0 | AJ34: 1 | AK34: 0 | AL34: 0 | AM34: 0 | AN34: 0 | AO34: 0 | AP34: 0 | AQ34: 0 | AR34: 0 | AS34: 0 | AT34: 0 | AU34: 1 | AV34: 1 | AW34: 0 | AX34: 0 | AY34: 0 | AZ34: 0 | BA34: 0 | BB34: 0 | BD34: 0 | BE34: 0 | BF34: 0 | BG34: 0 | BH34: 0 | CX34: 0 | CY34: 0 | CZ34: 0 | DA34: 0 | DB34: 0 | DC34: 1 | DD34: 0 | DE34: 0 | DF34: 0 | DG34: 0 | DH34: 0 | DI34: 0 | DJ34: 0 | DK34: 0 | DL34: 0 | DM34: 0 | DN34: 0 | DO34: 0 | DP34: 0 | DQ34: 0 | DR34: 0 | DS34: 0 | DT34: 0 | DU34: 1 | DV34: 0 | DW34: 0 | DX34: 0 | DY34: 0 | DZ34: 0 | EA34: 1 | EB34: 0 | EC34: 0 | ED34: 0 | EE34: 0 | EF34: 0 | EG34: 0 | EH34: 0 | EI34: 1 | EJ34: 0 | EK34: 0 | EL34: 0 | EM34: 0 | EN34: 0 | EO34: 0 | EP34: 0 | EQ34: 0 | ER34: 0 | ES34: 0 | ET34: 0 | EU34: 0 | EV34: 0 | EW34: 0 | EX34: 0 | EY34: 0 | EZ34: 0 | FA34: 0 | FB34: 0 | FC34: 0 | FD34: 0 | FE34: 0 | FF34: 0 | FG34: 0 | FH34: 0 | FI34: 0 | FJ34: 0 | FK34: 0 | FL34: 0 | FM34: 0 | FN34: 0 | FO34: 0 | FP34: 0 | FQ34: 0 | FR34: 0 | FS34: 0 | FT34: 0 | FU34: 0 | FV34: 0 | FW34: 0 | FX34: 0 | FY34: 0 | FZ34: 0 | GA34: 0 | GB34: 0 | GC34: 0 | GD34: 0 | GE34: 0 | GF34: 2 | GG34: 0 | GH34: 0 | GI34: 0 | GJ34: 0 | GK34: 0 | GL34: 0 | GM34: 0 | GN34: 0 | GO34: 0 | GP34: 0 | GQ34: 0 | GR34: 0 | GS34: 0 | GT34: 0 | GU34: 1 | GV34: 0 | GW34: 0 | GX34: 0 | GY34: 0 | GZ34: 0 | HA34: 0 | HB34: 0 | HC34: 0 | HD34: 0 | HE34: 0 | HF34: 0 | HG34: 0 | HH34: 0 | HI34: 0 | HJ34: 0 | HK34: 0 | HL34: 0 | HM34: 0 | HN34: 1 | HO34: 0 | HP34: 0 | HQ34: 0 | HR34: 0 | HS34: 0 | HT34: 0 | HU34: 0 | HV34: 0 | HW34: 0 | HX34: 0 | HY34: 0 | HZ34: 1 | IA34: 0 | IB34: 0 | IC34: 0 | ID34: 0 | IE34: 0 | IF34: 0 | IG34: 0 | IH34: 0 | II34: 0 | IJ34: 0 | IK34: 0 | IL34: 0 | IM34: 0 | IN34: 0 | IO34: 0 | IP34: 0 | IQ34: 0 | IR34: 0 | IS34: 0 | IT34: 0 | IU34: 0 | IV34: 0 | IW34: 0 | IX34: 0 | IY34: 0 | IZ34: 0 | JA34: 0 | JB34: 0 | JC34: 0 | JD34: 0 | JE34: 0 | JF34: 0 | JG34: 0 | JH34: 0 | JI34: 0 | JJ34: 0
B35: 工 | C35: 内 | D35: 客船 | E35: 0 | F35: 2 | G35: 1 | H35: 3 | I35: 0 | J35: 0 | K35: 3 | L35: 1 | M35: 0 | N35: 2 | O35: 0 | P35: 2 | Q35: 2 | R35: 0 | S35: 0 | T35: 1 | U35: 2 | V35: 1 | W35: 1 | X35: 0 | Y35: 0 | Z35: 0 | AA35: 1 | AB35: 1 | AC35: 0 | AD35: 0 | AE35: 0 | AF35: 0 | AG35: 0 | AH35: 1 | AI35: 2 | AJ35: 0 | AK35: 0 | AL35: 1 | AM35: 0 | AN35: 1 | AO35: 0 | AP35: 0 | AQ35: 0 | AR35: 1 | AS35: 0 | AT35: 0 | AU35: 1 | AV35: 1 | AW35: 0 | AX35: 1 | AY35: 1 | AZ35: 0 | BA35: 0 | BB35: 1 | BD35: 0 | BE35: 1 | BF35: 0 | BG35: 0 | BH35: 0 | CX35: 0 | CY35: 0 | CZ35: 1 | DA35: 0 | DB35: 0 | DC35: 0 | DD35: 0 | DE35: 0 | DF35: 0 | DG35: 0 | DH35: 1 | DI35: 0 | DJ35: 0 | DK35: 3 | DL35: 1 | DM35: 0 | DN35: 1 | DO35: 0 | DP35: 2 | DQ35: 0 | DR35: 0 | DS35: 0 | DT35: 0 | DU35: 0 | DV35: 0 | DW35: 0 | DX35: 4 | DY35: 0 | DZ35: 0 | EA35: 0 | EB35: 1 | EC35: 0 | ED35: 0 | EE35: 0 | EF35: 1 | EG35: 0 | EH35: 1 | EI35: 0 | EJ35: 0 | EK35: 0 | EL35: 0 | EM35: 0 | EN35: 0 | EO35: 0 | EP35: 1 | EQ35: 0 | ER35: 0 | ES35: 1 | ET35: 1 | EU35: 0 | EV35: 1 | EW35: 1 | EX35: 2 | EY35: 1 | EZ35: 2 | FA35: 0 | FB35: 1 | FC35: 1 | FD35: 0 | FE35: 1 | FF35: 0 | FG35: 0 | FH35: 0 | FI35: 6 | FJ35: 0 | FK35: 1 | FL35: 0 | FM35: 0 | FN35: 1 | FO35: 3 | FP35: 0 | FQ35: 1 | FR35: 1 | FS35: 2 | FT35: 4 | FU35: 0 | FV35: 0 | FW35: 1 | FX35: 1 | FY35: 1 | FZ35: 1 | GA35: 2 | GB35: 0 | GC35: 1 | GD35: 1 | GE35: 0 | GF35: 2 | GG35: 1 | GH35: 0 | GI35: 0 | GJ35: 0 | GK35: 0 | GL35: 3 | GM35: 0 | GN35: 1 | GO35: 1 | GP35: 1 | GQ35: 1 | GR35: 3 | GS35: 0 | GT35: 0 | GU35: 2 | GV35: 1 | GW35: 1 | GX35: 2 | GY35: 0 | GZ35: 3 | HA35: 0 | HB35: 0 | HC35: 1 | HD35: 0 | HE35: 0 | HF35: 0 | HG35: 0 | HH35: 2 | HI35: 1 | HJ35: 0 | HK35: 2 | HL35: 2 | HM35: 1 | HN35: 1 | HO35: 1 | HP35: 2 | HQ35: 0 | HR35: 2 | HS35: 0 | HT35: 0 | HU35: 0 | HV35: 2 | HW35: 2 | HX35: 0 | HY35: 0 | HZ35: 0 | IA35: 1 | IB35: 2 | IC35: 1 | ID35: 0 | IE35: 0 | IF35: 1 | IG35: 1 | IH35: 1 | II35: 0 | IJ35: 0 | IK35: 0 | IL35: 0 | IM35: 1 | IN35: 0 | IO35: 1 | IP35: 0 | IQ35: 1 | IR35: 2 | IS35: 0 | IT35: 0 | IU35: 3 | IV35: 0 | IW35: 2 | IX35: 0 | IY35: 0 | IZ35: 2 | JA35: 0 | JB35: 0 | JC35: 1 | JD35: 1 | JE35: 0 | JF35: 0 | JG35: 0 | JH35: 0 | JI35: 1 | JJ35: 0
D36: 自動車航送船 | E36: 1 | F36: 1 | G36: 0 | H36: 3 | I36: 0 | J36: 0 | K36: 1 | L36: 1 | M36: 0 | N36: 0 | O36: 0 | P36: 0 | Q36: 0 | R36: 2 | S36: 0 | T36: 1 | U36: 0 | V36: 0 | W36: 1 | X36: 1 | Y36: 0 | Z36: 0 | AA36: 0 | AB36: 1 | AC36: 1 | AD36: 0 | AE36: 0 | AF36: 1 | AG36: 0 | AH36: 0 | AI36: 0 | AJ36: 1 | AK36: 1 | AL36: 1 | AM36: 1 | AN36: 1 | AO36: 0 | AP36: 0 | AQ36: 0 | AR36: 0 | AS36: 0 | AT36: 0 | AU36: 0 | AV36: 0 | AW36: 0 | AX36: 0 | AY36: 0 | AZ36: 1 | BA36: 0 | BB36: 0 | BD36: 0 | BE36: 1 | BF36: 0 | BG36: 1 | BH36: 1 | CX36: 0 | CY36: 1 | CZ36: 2 | DA36: 3 | DB36: 0 | DC36: 2 | DD36: 1 | DE36: 0 | DF36: 1 | DG36: 0 | DH36: 1 | DI36: 0 | DJ36: 0 | DK36: 1 | DL36: 2 | DM36: 0 | DN36: 0 | DO36: 1 | DP36: 0 | DQ36: 0 | DR36: 0 | DS36: 0 | DT36: 0 | DU36: 0 | DV36: 0 | DW36: 1 | DX36: 2 | DY36: 2 | DZ36: 1 | EA36: 0 | EB36: 1 | EC36: 0 | ED36: 0 | EE36: 0 | EF36: 0 | EG36: 1 | EH36: 0 | EI36: 1 | EJ36: 2 | EK36: 2 | EL36: 0 | EM36: 0 | EN36: 0 | EO36: 0 | EP36: 3 | EQ36: 1 | ER36: 1 | ES36: 0 | ET36: 1 | EU36: 0 | EV36: 0 | EW36: 0 | EX36: 0 | EY36: 0 | EZ36: 1 | FA36: 0 | FB36: 3 | FC36: 0 | FD36: 0 | FE36: 1 | FF36: 0 | FG36: 0 | FH36: 3 | FI36: 0 | FJ36: 2 | FK36: 0 | FL36: 2 | FM36: 0 | FN36: 0 | FO36: 1 | FP36: 1 | FQ36: 0 | FR36: 1 | FS36: 1 | FT36: 2 | FU36: 2 | FV36: 0 | FW36: 1 | FX36: 2 | FY36: 3 | FZ36: 0 | GA36: 0 | GB36: 0 | GC36: 1 | GD36: 2 | GE36: 0 | GF36: 1 | GG36: 4 | GH36: 0 | GI36: 1 | GJ36: 1 | GK36: 0 | GL36: 2 | GM36: 0 | GN36: 0 | GO36: 0 | GP36: 1 | GQ36: 2 | GR36: 1 | GS36: 1 | GT36: 0 | GU36: 2 | GV36: 3 | GW36: 1 | GX36: 0 | GY36: 0 | GZ36: 0 | HA36: 0 | HB36: 1 | HC36: 1 | HD36: 0 | HE36: 0 | HF36: 0 | HG36: 3 | HH36: 0 | HI36: 0 | HJ36: 0 | HK36: 1 | HL36: 1 | HM36: 2 | HN36: 0 | HO36: 0 | HP36: 2 | HQ36: 0 | HR36: 0 | HS36: 1 | HT36: 1 | HU36: 0 | HV36: 2 | HW36: 0 | HX36: 0 | HY36: 2 | HZ36: 1 | IA36: 1 | IB36: 3 | IC36: 0 | ID36: 0 | IE36: 0 | IF36: 1 | IG36: 0 | IH36: 2 | II36: 0 | IJ36: 0 | IK36: 1 | IL36: 2 | IM36: 0 | IN36: 1 | IO36: 0 | IP36: 1 | IQ36: 0 | IR36: 0 | IS36: 0 | IT36: 1 | IU36: 0 | IV36: 0 | IW36: 1 | IX36: 1 | IY36: 1 | IZ36: 0 | JA36: 0 | JB36: 0 | JC36: 1 | JD36: 1 | JE36: 0 | JF36: 0 | JG36: 1 | JH36: 0 | JI36: 0 | JJ36: 1
C37: 船 | D37: 油送船 | E37: 0 | F37: 1 | G37: 1 | H37: 3 | I37: 2 | J37: 4 | K37: 2 | L37: 2 | M37: 0 | N37: 4 | O37: 3 | P37: 2 | Q37: 0 | R37: 1 | S37: 1 | T37: 4 | U37: 1 | V37: 1 | W37: 1 | X37: 3 | Y37: 2 | Z37: 4 | AA37: 4 | AB37: 2 | AC37: 7 | AD37: 3 | AE37: 4 | AF37: 3 | AG37: 1 | AH37: 3 | AI37: 3 | AJ37: 1 | AK37: 3 | AL37: 1 | AM37: 3 | AN37: 3 | AO37: 3 | AP37: 0 | AQ37: 2 | AR37: 6 | AS37: 1 | AT37: 6 | AU37: 5 | AV37: 1 | AW37: 1 | AX37: 5 | AY37: 6 | AZ37: 3 | BA37: 3 | BB37: 3 | BC37: 3 | BD37: 2 | BE37: 0 | BF37: 2 | BG37: 6 | BH37: 3 | CX37: 1 | CY37: 2 | CZ37: 1 | DA37: 3 | DB37: 1 | DC37: 6 | DD37: 5 | DE37: 1 | DF37: 5 | DG37: 4 | DH37: 4 | DI37: 1 | DJ37: 3 | DK37: 2 | DL37: 4 | DM37: 4 | DN37: 6 | DO37: 5 | DP37: 5 | DQ37: 2 | DR37: 8 | DS37: 5 | DT37: 3 | DU37: 3 | DV37: 2 | DW37: 1 | DX37: 6 | DY37: 4 | DZ37: 5 | EA37: 6 | EB37: 6 | EC37: 1 | ED37: 3 | EE37: 3 | EF37: 3 | EG37: 2 | EH37: 0 | EI37: 0 | EJ37: 3 | EK37: 3 | EL37: 2 | EM37: 0 | EN37: 1 | EO37: 0 | EP37: 2 | EQ37: 6 | ER37: 0 | ES37: 1 | ET37: 1 | EU37: 1 | EV37: 5 | EW37: 3 | EX37: 0 | EY37: 1 | EZ37: 2 | FA37: 1 | FB37: 1 | FC37: 6 | FD37: 2 | FE37: 2 | FF37: 2 | FG37: 2 | FH37: 2 | FI37: 4 | FJ37: 5 | FK37: 3 | FL37: 3 | FM37: 2 | FN37: 1 | FO37: 6 | FP37: 2 | FQ37: 2 | FR37: 5 | FS37: 0 | FT37: 5 | FU37: 2 | FV37: 3 | FW37: 3 | FX37: 6 | FY37: 5 | FZ37: 1 | GA37: 4 | GB37: 1 | GC37: 3 | GD37: 3 | GE37: 2 | GF37: 8 | GG37: 2 | GH37: 4 | GI37: 5 | GJ37: 4 | GK37: 2 | GL37: 1 | GM37: 2 | GN37: 3 | GO37: 3 | GP37: 5 | GQ37: 0 | GR37: 2 | GS37: 6 | GT37: 6 | GU37: 1 | GV37: 3 | GW37: 8 | GX37: 3 | GY37: 5 | GZ37: 6 | HA37: 4 | HB37: 3 | HC37: 2 | HD37: 4 | HE37: 3 | HF37: 4 | HG37: 2 | HH37: 5 | HI37: 3 | HJ37: 5 | HK37: 4 | HL37: 2 | HM37: 6 | HN37: 2 | HO37: 5 | HP37: 7 | HQ37: 4 | HR37: 2 | HS37: 5 | HT37: 7 | HU37: 2 | HV37: 4 | HW37: 3 | HX37: 3 | HY37: 1 | HZ37: 1 | IA37: 1 | IB37: 4 | IC37: 2 | ID37: 0 | IE37: 0 | IF37: 3 | IG37: 1 | IH37: 1 | II37: 1 | IJ37: 4 | IK37: 0 | IL37: 1 | IM37: 1 | IN37: 3 | IO37: 2 | IP37: 1 | IQ37: 2 | IR37: 0 | IS37: 1 | IT37: 1 | IU37: 2 | IV37: 0 | IW37: 3 | IX37: 2 | IY37: 0 | IZ37: 3 | JA37: 1 | JB37: 3 | JC37: 2 | JD37: 1 | JE37: 1 | JF37: 4 | JG37: 3 | JH37: 1 | JI37: 2 | JJ37: 0
B38: 隻 | D38: 漁船 | E38: 0 | F38: 2 | G38: 6 | H38: 9 | I38: 4 | J38: 3 | K38: 4 | L38: 4 | M38: 3 | N38: 0 | O38: 1 | P38: 7 | Q38: 2 | R38: 0 | S38: 3 | T38: 6 | U38: 3 | V38: 1 | W38: 2 | X38: 2 | Y38: 2 | Z38: 2 | AA38: 9 | AB38: 2 | AC38: 2 | AD38: 2 | AE38: 0 | AF38: 2 | AG38: 1 | AH38: 1 | AI38: 4 | AJ38: 1 | AK38: 6 | AL38: 4 | AM38: 2 | AN38: 3 | AO38: 2 | AP38: 0 | AQ38: 0 | AR38: 5 | AS38: 3 | AT38: 2 | AU38: 5 | AV38: 1 | AW38: 4 | AX38: 5 | AY38: 2 | AZ38: 1 | BA38: 2 | BB38: 0 | BD38: 4 | BE38: 2 | BF38: 1 | BG38: 3 | BH38: 0 | CX38: 1 | CY38: 2 | CZ38: 3 | DA38: 8 | DB38: 8 | DC38: 0 | DD38: 7 | DE38: 8 | DF38: 3 | DG38: 8 | DH38: 1 | DI38: 5 | DJ38: 2 | DK38: 1 | DL38: 11 | DM38: 2 | DN38: 6 | DO38: 5 | DP38: 7 | DQ38: 6 | DR38: 4 | DS38: 4 | DT38: 0 | DU38: 2 | DV38: 5 | DW38: 2 | DX38: 10 | DY38: 5 | DZ38: 1 | EA38: 2 | EB38: 6 | EC38: 4 | ED38: 4 | EE38: 3 | EF38: 3 | EG38: 2 | EH38: 0 | EI38: 5 | EJ38: 5 | EK38: 4 | EL38: 2 | EM38: 1 | EN38: 2 | EO38: 6 | EP38: 4 | EQ38: 1 | ER38: 3 | ES38: 3 | ET38: 0 | EU38: 2 | EV38: 3 | EW38: 3 | EX38: 4 | EY38: 3 | EZ38: 2 | FA38: 5 | FB38: 0 | FC38: 0 | FD38: 0 | FE38: 5 | FF38: 4 | FG38: 4 | FH38: 1 | FI38: 5 | FJ38: 2 | FK38: 4 | FL38: 1 | FM38: 4 | FN38: 6 | FO38: 3 | FP38: 2 | FQ38: 4 | FR38: 3 | FS38: 3 | FT38: 5 | FU38: 2 | FV38: 3 | FW38: 2 | FX38: 6 | FY38: 3 | FZ38: 1 | GA38: 0 | GB38: 1 | GC38: 3 | GD38: 0 | GE38: 1 | GF38: 7 | GG38: 3 | GH38: 4 | GI38: 2 | GJ38: 4 | GK38: 6 | GL38: 1 | GM38: 2 | GN38: 2 | GO38: 2 | GP38: 2 | GQ38: 5 | GR38: 3 | GS38: 4 | GT38: 5 | GU38: 3 | GV38: 4 | GW38: 6 | GX38: 2 | GY38: 1 | GZ38: 5 | HA38: 5 | HB38: 1 | HC38: 3 | HD38: 7 | HE38: 4 | HF38: 2 | HG38: 2 | HH38: 2 | HI38: 6 | HJ38: 2 | HK38: 3 | HL38: 3 | HM38: 0 | HN38: 6 | HO38: 0 | HP38: 4 | HQ38: 4 | HR38: 2 | HS38: 2 | HT38: 4 | HU38: 7 | HV38: 4 | HW38: 1 | HX38: 2 | HY38: 1 | HZ38: 0 | IA38: 1 | IB38: 9 | IC38: 3 | ID38: 4 | IE38: 1 | IF38: 2 | IG38: 3 | IH38: 3 | II38: 0 | IJ38: 3 | IK38: 1 | IL38: 2 | IM38: 2 | IN38: 3 | IO38: 2 | IP38: 4 | IQ38: 4 | IR38: 3 | IS38: 0 | IT38: 2 | IU38: 1 | IV38: 1 | IW38: 0 | IX38: 3 | IY38: 3 | IZ38: 2 | JA38: 1 | JB38: 3 | JC38: 2 | JD38: 3 | JE38: 3 | JF38: 2 | JG38: 1 | JH38: 2 | JI38: 1 | JJ38: 0
D39: その他 | E39: 3 | F39: 4 | G39: 1 | H39: 7 | I39: 5 | J39: 7 | K39: 4 | L39: 1 | M39: 1 | N39: 3 | O39: 4 | P39: 2 | Q39: 3 | R39: 4 | S39: 5 | T39: 9 | U39: 3 | V39: 5 | W39: 4 | X39: 7 | Y39: 3 | Z39: 6 | AA39: 9 | AB39: 5 | AC39: 3 | AD39: 1 | AE39: 5 | AF39: 12 | AG39: 4 | AH39: 3 | AI39: 3 | AJ39: 4 | AK39: 5 | AL39: 3 | AM39: 5 | AN39: 8 | AO39: 1 | AP39: 7 | AQ39: 8 | AR39: 17 | AS39: 2 | AT39: 4 | AU39: 3 | AV39: 4 | AW39: 0 | AX39: 3 | AY39: 3 | AZ39: 7 | BA39: 2 | BB39: 3 | BC39: 1 | BD39: 21 | BE39: 6 | BF39: 5 | BG39: 0 | BH39: 4 | CX39: 5 | CY39: 5 | CZ39: 12 | DA39: 6 | DB39: 3 | DC39: 4 | DD39: 5 | DE39: 1 | DF39: 3 | DG39: 5 | DH39: 1 | DI39: 1 | DJ39: 5 | DK39: 6 | DL39: 15 | DM39: 2 | DN39: 3 | DO39: 8 | DP39: 3 | DQ39: 4 | DR39: 7 | DS39: 6 | DT39: 6 | DU39: 5 | DV39: 4 | DW39: 6 | DX39: 12 | DY39: 2 | DZ39: 3 | EA39: 6 | EB39: 8 | EC39: 6 | ED39: 5 | EE39: 5 | EF39: 10 | EG39: 5 | EH39: 5 | EI39: 11 | EJ39: 13 | EK39: 5 | EL39: 6 | EM39: 3 | EN39: 5 | EO39: 5 | EP39: 7 | EQ39: 6 | ER39: 11 | ES39: 8 | ET39: 4 | EU39: 9 | EV39: 15 | EW39: 7 | EX39: 3 | EY39: 7 | EZ39: 5 | FA39: 4 | FB39: 3 | FC39: 7 | FD39: 9 | FE39: 5 | FF39: 3 | FG39: 3 | FH39: 11 | FI39: 17 | FJ39: 4 | FK39: 4 | FL39: 5 | FM39: 4 | FN39: 1 | FO39: 5 | FP39: 7 | FQ39: 7 | FR39: 8 | FS39: 7 | FT39: 18 | FU39: 6 | FV39: 4 | FW39: 7 | FX39: 6 | FY39: 6 | FZ39: 4 | GA39: 9 | GB39: 7 | GC39: 7 | GD39: 8 | GE39: 12 | GF39: 17 | GG39: 6 | GH39: 6 | GI39: 6 | GJ39: 3 | GK39: 6 | GL39: 8 | GM39: 4 | GN39: 3 | GO39: 6 | GP39: 7 | GQ39: 6 | GR39: 22 | GS39: 5 | GT39: 2 | GU39: 3 | GV39: 13 | GW39: 2 | GX39: 3 | GY39: 5 | GZ39: 7 | HA39: 7 | HB39: 4 | HC39: 6 | HD39: 15 | HE39: 9 | HF39: 5 | HG39: 7 | HH39: 2 | HI39: 4 | HJ39: 5 | HK39: 3 | HL39: 5 | HM39: 6 | HN39: 5 | HO39: 4 | HP39: 21 | HQ39: 6 | HR39: 8 | HS39: 8 | HT39: 5 | HU39: 4 | HV39: 5 | HW39: 7 | HX39: 5 | HY39: 6 | HZ39: 5 | IA39: 10 | IB39: 15 | IC39: 6 | ID39: 4 | IE39: 4 | IF39: 7 | IG39: 4 | IH39: 11 | II39: 3 | IJ39: 3 | IK39: 3 | IL39: 6 | IM39: 9 | IN39: 14 | IO39: 3 | IP39: 2 | IQ39: 5 | IR39: 4 | IS39: 3 | IT39: 8 | IU39: 1 | IV39: 7 | IW39: 5 | IX39: 3 | IY39: 5 | IZ39: 19 | JA39: 1 | JB39: 4 | JC39: 3 | JD39: 3 | JE39: 3 | JF39: 2 | JG39: 7 | JH39: 2 | JI39: 2 | JJ39: 3
D40: 計 | E40: 23 | F40: =SUM(F41:F43) -> 39 | G40: =SUM(G41:G43) -> 33 | H40: =SUM(H41:H43) -> 38 | I40: =SUM(I41:I43) -> 23 | J40: =SUM(J41:J43) -> 26 | K40: =SUM(K41:K43) -> 35 | L40: =SUM(L41:L43) -> 26 | M40: =SUM(M41:M43) -> 24 | ... PI40: =SUM(PI41:PI43) -> 0
B41: 数 | C41: 輸 | D41: 貨物船 | E41: 16 | F41: 20 | G41: 20 | H41: 21 | I41: 16 | J41: 17 | K41: 27 | L41: 15 | M41: 14 | N41: 29 | O41: 17 | P41: 21 | Q41: 11 | R41: 28 | S41: 27 | T41: 29 | U41: 21 | V41: 17 | W41: 27 | X41: 28 | Y41: 19 | Z41: 26 | AA41: 24 | AB41: 28 | AC41: 13 | AD41: 29 | AE41: 30 | AF41: 30 | AG41: 23 | AH41: 25 | AI41: 18 | AJ41: 21 | AK41: 19 | AL41: 29 | AM41: 18 | AN41: 26 | AO41: 18 | AP41: 36 | AQ41: 15 | AR41: 36 | AS41: 24 | AT41: 24 | AU41: 29 | AV41: 29 | AW41: 22 | AX41: 23 | AY41: 23 | AZ41: 21 | BA41: 15 | BB41: 38 | BC41: 24 | BD41: 34 | BE41: 19 | BF41: 24 | BG41: 26 | BH41: 20 | CX41: 42 | CY41: 30 | CZ41: 30 | DA41: 38 | DB41: 25 | DC41: 43 | DD41: 27 | DE41: 22 | DF41: 27 | DG41: 23 | DH41: 25 | DI41: 13 | DJ41: 40 | DK41: 22 | DL41: 38 | DM41: 21 | DN41: 22 | DO41: 28 | DP41: 30 | DQ41: 15 | DR41: 22 | DS41: 26 | DT41: 20 | DU41: 13 | DV41: 32 | DW41: 25 | DX41: 34 | DY41: 19 | DZ41: 19 | EA41: 26 | EB41: 29 | EC41: 11 | ED41: 28 | EE41: 29 | EF41: 13 | EG41: 8 | EH41: 39 | EI41: 23 | EJ41: 40 | EK41: 20 | EL41: 23 | EM41: 21 | EN41: 32 | EO41: 18 | EP41: 23 | EQ41: 22 | ER41: 11 | ES41: 9 | ET41: 38 | EU41: 24 | EV41: 36 | EW41: 23 | EX41: 21 | EY41: 18 | EZ41: 16 | FA41: 18 | FB41: 23 | FC41: 15 | FD41: 15 | FE41: 6 | FF41: 40 | FG41: 20 | FH41: 35 | FI41: 16 | FJ41: 12 | FK41: 23 | FL41: 19 | FM41: 12 | FN41: 14 | FO41: 12 | FP41: 11 | FQ41: 4 | FR41: 28 | FS41: 6 | FT41: 23 | FU41: 10 | FV41: 11 | FW41: 14 | FX41: 13 | FY41: 10 | FZ41: 13 | GA41: 11 | GB41: 13 | GC41: 4 | GD41: 20 | GE41: 12 | GF41: 21 | GG41: 14 | GH41: 17 | GI41: 18 | GJ41: 14 | GK41: 23 | GL41: 20 | GM41: 28 | GN41: 18 | GO41: 10 | GP41: 28 | GQ41: 23 | GR41: 21 | GS41: 23 | GT41: 17 | GU41: 34 | GV41: 10 | GW41: 11 | GX41: 14 | GY41: 19 | GZ41: 13 | HA41: 12 | HB41: 22 | HC41: 13 | HD41: 29 | HE41: 13 | HF41: 18 | HG41: 16 | HH41: 14 | HI41: 11 | HJ41: 11 | HK41: 15 | HL41: 14 | HM41: 10 | HN41: 14 | HO41: 11 | HP41: 13 | HQ41: 12 | HR41: 14 | HS41: 14 | HT41: 12 | HU41: 12 | HV41: 16 | HW41: 16 | HX41: 17 | HY41: 8 | HZ41: 20 | IA41: 16 | IB41: 27 | IC41: 17 | ID41: 8 | IE41: 23 | IF41: 19 | IG41: 14 | IH41: 17 | II41: 19 | IJ41: 19 | IK41: 13 | IL41: 14 | IM41: 22 | IN41: 21 | IO41: 19 | IP41: 19 | IQ41: 15 | IR41: 22 | IS41: 16 | IT41: 19 | IU41: 18 | IV41: 13 | IW41: 15 | IX41: 22 | IY41: 14 | IZ41: 29 | JA41: 10 | JB41: 12 | JC41: 20 | JD41: 18 | JE41: 12 | JF41: 18 | JG41: 15 | JH41: 18 | JI41: 7 | JJ41: 16
C42: 出 | D42: 油送船 | E42: 7 | F42: 19 | G42: 9 | H42: 17 | I42: 7 | J42: 8 | K42: 7 | L42: 11 | M42: 10 | N42: 12 | O42: 14 | P42: 2 | Q42: 11 | R42: 8 | S42: 5 | T42: 16 | U42: 9 | V42: 7 | W42: 9 | X42: 8 | Y42: 9 | Z42: 7 | AA42: 7 | AB42: 11 | AC42: 7 | AD42: 15 | AE42: 9 | AF42: 18 | AG42: 6 | AH42: 8 | AI42: 4 | AJ42: 9 | AK42: 9 | AL42: 8 | AM42: 10 | AN42: 8 | AO42: 9 | AP42: 17 | AQ42: 5 | AR42: 18 | AS42: 3 | AT42: 9 | AU42: 19 | AV42: 14 | AW42: 6 | AX42: 6 | AY42: 15 | AZ42: 9 | BA42: 9 | BB42: 14 | BC42: 9 | BD42: 18 | BE42: 10 | BF42: 10 | BG42: 11 | BH42: 11 | CX42: 0 | CY42: 0 | CZ42: 0 | DA42: 0 | DB42: 0 | DC42: 0 | DD42: 0 | DE42: 0 | DF42: 0 | DG42: 0 | DH42: 0 | DI42: 0 | DJ42: 8 | DK42: 3 | DL42: 5 | DM42: 2 | DN42: 2 | DO42: 1 | DP42: 2 | DQ42: 3 | DR42: 2 | DS42: 0 | DT42: 3 | DU42: 0 | DV42: 5 | DW42: 5 | DX42: 5 | DY42: 2 | DZ42: 3 | EA42: 4 | EB42: 2 | EC42: 6 | ED42: 8 | EE42: 5 | EF42: 5 | EG42: 4 | EH42: 5 | EI42: 5 | EJ42: 5 | EK42: 3 | EL42: 6 | EM42: 7 | EN42: 4 | EO42: 5 | EP42: 7 | EQ42: 5 | ER42: 4 | ES42: 1 | ET42: 10 | EU42: 11 | EV42: 8 | EW42: 4 | EX42: 5 | EY42: 11 | EZ42: 5 | FA42: 5 | FB42: 5 | FC42: 8 | FD42: 8 | FE42: 2 | FF42: 12 | FG42: 2 | FH42: 10 | FI42: 6 | FJ42: 8 | FK42: 6 | FL42: 10 | FM42: 6 | FN42: 10 | FO42: 4 | FP42: 6 | FQ42: 6 | FR42: 16 | FS42: 5 | FT42: 9 | FU42: 8 | FV42: 7 | FW42: 14 | FX42: 8 | FY42: 7 | FZ42: 6 | GA42: 7 | GB42: 12 | GC42: 4 | GD42: 9 | GE42: 13 | GF42: 15 | GG42: 10 | GH42: 5 | GI42: 9 | GJ42: 12 | GK42: 7 | GL42: 8 | GM42: 8 | GN42: 6 | GO42: 3 | GP42: 9 | GQ42: 11 | GR42: 7 | GS42: 6 | GT42: 4 | GU42: 13 | GV42: 3 | GW42: 3 | GX42: 5 | GY42: 5 | GZ42: 7 | HA42: 3 | HB42: 6 | HC42: 7 | HD42: 7 | HE42: 3 | HF42: 3 | HG42: 5 | HH42: 3 | HI42: 7 | HJ42: 5 | HK42: 3 | HL42: 4 | HM42: 1 | HN42: 9 | HO42: 5 | HP42: 7 | HQ42: 5 | HR42: 2 | HS42: 3 | HT42: 7 | HU42: 3 | HV42: 3 | HW42: 5 | HX42: 5 | HY42: 1 | HZ42: 5 | IA42: 2 | IB42: 4 | IC42: 3 | ID42: 1 | IE42: 4 | IF42: 0 | IG42: 3 | IH42: 5 | II42: 3 | IJ42: 0 | IK42: 4 | IL42: 4 | IM42: 1 | IN42: 6 | IO42: 1 | IP42: 2 | IQ42: 4 | IR42: 6 | IS42: 1 | IT42: 2 | IU42: 1 | IV42: 3 | IW42: 1 | IX42: 2 | IY42: 6 | IZ42: 3 | JA42: 5 | JB42: 3 | JC42: 4 | JD42: 4 | JE42: 4 | JF42: 7 | JG42: 6 | JH42: 2 | JI42: 0 | JJ42: 7
C43: 船 | D43: その他 | E43: 0 | F43: 0 | G43: 4 | H43: 0 | I43: 0 | J43: 1 | K43: 1 | L43: 0 | M43: 0 | N43: 1 | O43: 0 | P43: 0 | Q43: 1 | R43: 0 | S43: 0 | T43: 0 | U43: 0 | V43: 1 | W43: 0 | X43: 0 | Y43: 0 | Z43: 0 | AA43: 3 | AB43: 0 | AC43: 0 | AD43: 1 | AE43: 0 | AF43: 2 | AG43: 0 | AH43: 0 | AI43: 1 | AJ43: 1 | AK43: 2 | AL43: 0 | AM43: 0 | AN43: 0 | AO43: 1 | AP43: 1 | AQ43: 0 | AR43: 2 | AS43: 0 | AT43: 0 | AU43: 1 | AV43: 1 | AW43: 1 | AX43: 0 | AY43: 0 | AZ43: 3 | BA43: 0 | BB43: 0 | BD43: 1 | BE43: 0 | BF43: 2 | BG43: 0 | BH43: 0 | CX43: 1 | CY43: 1 | CZ43: 1 | DA43: 1 | DB43: 0 | DC43: 2 | DD43: 0 | DE43: 0 | DF43: 1 | DG43: 0 | DH43: 0 | DI43: 1 | DJ43: 2 | DK43: 0 | DL43: 2 | DM43: 0 | DN43: 2 | DO43: 0 | DP43: 0 | DQ43: 0 | DR43: 0 | DS43: 1 | DT43: 1 | DU43: 0 | DV43: 1 | DW43: 0 | DX43: 1 | DY43: 1 | DZ43: 0 | EA43: 0 | EB43: 3 | EC43: 1 | ED43: 3 | EE43: 0 | EF43: 0 | EG43: 0 | EH43: 1 | EI43: 0 | EJ43: 1 | EK43: 1 | EL43: 2 | EM43: 2 | EN43: 0 | EO43: 0 | EP43: 1 | EQ43: 1 | ER43: 4 | ES43: 0 | ET43: 0 | EU43: 0 | EV43: 3 | EW43: 1 | EX43: 0 | EY43: 0 | EZ43: 2 | FA43: 0 | FB43: 2 | FC43: 0 | FD43: 0 | FE43: 1 | FF43: 1 | FG43: 0 | FH43: 2 | FI43: 1 | FJ43: 1 | FK43: 2 | FL43: 1 | FM43: 1 | FN43: 0 | FO43: 2 | FP43: 0 | FQ43: 0 | FR43: 2 | FS43: 4 | FT43: 1 | FU43: 0 | FV43: 2 | FW43: 1 | FX43: 3 | FY43: 1 | FZ43: 0 | GA43: 0 | GB43: 1 | GC43: 2 | GD43: 0 | GE43: 0 | GF43: 0 | GG43: 0 | GH43: 0 | GI43: 0 | GJ43: 0 | GK43: 0 | GL43: 2 | GM43: 1 | GN43: 1 | GO43: 0 | GP43: 0 | GQ43: 0 | GR43: 0 | GS43: 0 | GT43: 0 | GU43: 0 | GV43: 2 | GW43: 1 | GX43: 0 | GY43: 0 | GZ43: 0 | HA43: 1 | HB43: 1 | HC43: 0 | HD43: 1 | HE43: 0 | HF43: 1 | HG43: 1 | HH43: 0 | HI43: 0 | HJ43: 2 | HK43: 0 | HL43: 0 | HM43: 1 | HN43: 0 | HO43: 2 | HP43: 1 | HQ43: 0 | HR43: 1 | HS43: 0 | HT43: 0 | HU43: 1 | HV43: 0 | HW43: 1 | HX43: 0 | HY43: 0 | HZ43: 0 | IA43: 0 | IB43: 0 | IC43: 0 | ID43: 0 | IE43: 0 | IF43: 0 | IG43: 2 | IH43: 0 | II43: 0 | IJ43: 0 | IK43: 0 | IL43: 0 | IM43: 0 | IN43: 0 | IO43: 1 | IP43: 0 | IQ43: 0 | IR43: 0 | IS43: 0 | IT43: 0 | IU43: 0 | IV43: 0 | IW43: 2 | IX43: 1 | IY43: 0 | IZ43: 1 | JA43: 1 | JB43: 0 | JC43: 0 | JD43: 0 | JE43: 0 | JF43: 0 | JG43: 0 | JH43: 0 | JI43: 1 | JJ43: 0
B44: 竣工 | D44: 合計 | E44: 158877339 | F44: =F45+F46 -> 148915981 | G44: =G45+G46 -> 139821575 | H44: =H45+H46 -> 114618291 | I44: =I45+I46 -> 95141191 | J44: =J45+J46 -> 132153381 | K44: =K45+K46 -> 151535190 | L44: =L45+L46 -> 101999496 | M44: =M45+M46 -> 72939505 | ... PI44: =PI45+PI46 -> 0
B45: 船価 | D45: 国内船 | E45: 5982891 | F45: =F23 -> 4903071 | G45: =G23 -> 2424369 | H45: =H23 -> 15586565 | I45: =I23 -> 4302300 | J45: =J23 -> 12527310 | K45: =K23 -> 28881812 | L45: =L23 -> 11683440 | M45: =M23 -> 5776421 | ... PI45: =PI23 -> 0
D46: 輸出船 | E46: 152894448 | F46: =F28 -> 144012910 | G46: =G28 -> 137397206 | H46: =H28 -> 99031726 | I46: =I28 -> 90838891 | J46: =J28 -> 119626071 | K46: =K28 -> 122653378 | L46: =L28 -> 90316056 | M46: =M28 -> 67163084 | ... PI46: =PI28 -> 0
C47: 工 場 数
B48: 造 | D48: 前 年 同 月 比
C50: 製 造 高
D51: 前 年 同 月 比
C54: 月末在庫高
D55: 前 年 同 月 比
B58: 機 | C58: 修 繕 高
D59: 前 年 同 月 比
F60: =ROUNDDOWN(E59,0)&"." -> 0. | G60: =ROUND((+E59-ROUNDDOWN(E59,0))*10,0) -> 0 | DV60: 9219
F61: =ROUND(E58/100000,0) -> 0 | G61: 億 | DV61: 0
B62: 竣工 | D62: 年 | E62: 2026 | F62: 2004 | R62: =F62+1 -> 2005 | AD62: =R62+1 -> 2006 | AP62: =AD62+1 -> 2007 | BB62: =AP62+1 -> 2008 | BN62: =BB62+1 -> 2009 | BZ62: =BN62+1 -> 2010 | CL62: =BZ62+1 -> 2011 | CX62: =CL62+1 -> 2012 | DJ62: =CX62+1 -> 2013 | DV62: =DJ62+1 -> 2014 | EH62: =DV62+1 -> 2015 | ET62: =EH62+1 -> 2016 | FF62: =ET62+1 -> 2017 | FR62: =FF62+1 -> 2018 | GD62: =FR62+1 -> 2019 | GP62: =GD62+1 -> 2020 | HB62: =GP62+1 -> 2021 | HN62: =HB62+1 -> 2022 | HZ62: =HN62+1 -> 2023 | IL62: =HZ62+1 -> 2024 | IX62: =IL62+1 -> 2025 | JJ62: =IX62+1 -> 2026 | JV62: =JJ62+1 -> 2027 | KH62: =JV62+1 -> 2028 | KT62: =KH62+1 -> 2029 | LF62: =KT62+1 -> 2030 | LR62: =LF62+1 -> 2031 | MD62: =LR62+1 -> 2032 | MP62: =MD62+1 -> 2033 | NB62: =MP62+1 -> 2034 | NN62: =NB62+1 -> 2035 | NZ62: =NN62+1 -> 2036 | OL62: =NZ62+1 -> 2037 | OX62: =OL62+1 -> 2038
B63: 船価 | D63: 月 | E63: 1 | F63: 1 | G63: 2 | H63: 3 | I63: 4 | J63: 5 | K63: 6 | L63: 7 | M63: 8 | N63: 9 | O63: 10 | P63: 11 | Q63: 12 | R63: 1 | S63: 2 | T63: 3 | U63: 4 | V63: 5 | W63: 6 | X63: 7 | Y63: 8 | Z63: 9 | AA63: 10 | AB63: 11 | AC63: 12 | AD63: 1 | AE63: 2 | AF63: 3 | AG63: 4 | AH63: 5 | AI63: 6 | AJ63: 7 | AK63: 8 | AL63: 9 | AM63: 10 | AN63: 11 | AO63: 12 | AP63: 1 | AQ63: 2 | AR63: 3 | AS63: 4 | AT63: 5 | AU63: 6 | AV63: 7 | AW63: 8 | AX63: 9 | AY63: 10 | AZ63: 11 | BA63: 12 | BB63: 1 | BC63: 2 | BD63: 3 | BE63: 4 | BF63: 5 | BG63: 6 | BH63: 7 | BI63: 8 | BJ63: 9 | BK63: 10 | BL63: 11 | BM63: 12 | BN63: 1 | BO63: 2 | BP63: 3 | BQ63: 4 | BR63: 5 | BS63: 6 | BT63: 7 | BU63: 8 | BV63: 9 | BW63: 10 | BX63: 11 | BY63: 12 | BZ63: 1 | CA63: 2 | CB63: 3 | CC63: 4 | CD63: 5 | CE63: 6 | CF63: 7 | CG63: 8 | CH63: 9 | CI63: 10 | CJ63: 11 | CK63: 12 | CL63: 1 | CM63: 2 | CN63: 3 | CO63: 4 | CP63: 5 | CQ63: 6 | CR63: 7 | CS63: 8 | CT63: 9 | CU63: 10 | CV63: 11 | CW63: 12 | CX63: 1 | CY63: 2 | CZ63: 3 | DA63: 4 | DB63: 5 | DC63: 6 | DD63: 7 | DE63: 8 | DF63: 9 | DG63: 10 | DH63: 11 | DI63: 12 | DJ63: 1 | DK63: 2 | DL63: 3 | DM63: 4 | DN63: 5 | DO63: 6 | DP63: 7 | DQ63: 8 | DR63: 9 | DS63: 10 | DT63: 11 | DU63: 12 | DV63: 1 | DW63: 2 | DX63: 3 | DY63: 4 | DZ63: 5 | EA63: 6 | EB63: 7 | EC63: 8 | ED63: 9 | EE63: 10 | EF63: 11 | EG63: 12 | EH63: 1 | EI63: 2 | EJ63: 3 | EK63: 4 | EL63: 5 | EM63: 6 | EN63: 7 | EO63: 8 | EP63: 9 | EQ63: 10 | ER63: 11 | ES63: 12 | ET63: 1 | EU63: 2 | EV63: 3 | EW63: 4 | EX63: 5 | EY63: 6 | EZ63: 7 | FA63: 8 | FB63: 9 | FC63: 10 | FD63: 11 | FE63: 12 | FF63: 1 | FG63: 2 | FH63: 3 | FI63: 4 | FJ63: 5 | FK63: 6 | FL63: 7 | FM63: 8 | FN63: 9 | FO63: 10 | FP63: 11 | FQ63: 12 | FR63: 1 | FS63: 2 | FT63: 3 | FU63: 4 | FV63: 5 | FW63: 6 | FX63: 7 | FY63: 8 | FZ63: 9 | GA63: 10 | GB63: 11 | GC63: 12 | GD63: 1 | GE63: 2 | GF63: 3 | GG63: 4 | GH63: 5 | GI63: 6 | GJ63: 7 | GK63: 8 | GL63: 9 | GM63: 10 | GN63: 11 | GO63: 12 | GP63: 1 | GQ63: 2 | GR63: 3 | GS63: 4 | GT63: 5 | GU63: 6 | GV63: 7 | GW63: 8 | GX63: 9 | GY63: 10 | GZ63: 11 | HA63: 12 | HB63: 1 | HC63: 2 | HD63: 3 | HE63: 4 | HF63: 5 | HG63: 6 | HH63: 7 | HI63: 8 | HJ63: 9 | HK63: 10 | HL63: 11 | HM63: 12 | HN63: 1 | HO63: 2 | HP63: 3 | HQ63: 4 | HR63: 5 | HS63: 6 | HT63: 7 | HU63: 8 | HV63: 9 | HW63: 10 | HX63: 11 | HY63: 12 | HZ63: 1 | IA63: 2 | IB63: 3 | IC63: 4 | ID63: 5 | IE63: 6 | IF63: 7 | IG63: 8 | IH63: 9 | II63: 10 | IJ63: 11 | IK63: 12 | IL63: 1 | IM63: 2 | IN63: 3 | IO63: 4 | IP63: 5 | IQ63: 6 | IR63: 7 | IS63: 8 | IT63: 9 | IU63: 10 | IV63: 11 | IW63: 12 | IX63: 1 | IY63: 2 | IZ63: 3 | JA63: 4 | JB63: 5 | JC63: 6 | JD63: 7 | JE63: 8 | JF63: 9 | JG63: 10 | JH63: 11 | JI63: 12 | JJ63: 1 | JK63: 2 | JL63: 3 | JM63: 4 | JN63: 5 | JO63: 6 | JP63: 7 | JQ63: 8 | JR63: 9 | JS63: 10 | JT63: 11 | JU63: 12 | JV63: 1 | JW63: 2 | JX63: 3 | JY63: 4 | JZ63: 5 | KA63: 6 | KB63: 7 | KC63: 8 | KD63: 9 | KE63: 10 | KF63: 11 | KG63: 12 | KH63: 1 | KI63: 2 | KJ63: 3 | KK63: 4 | KL63: 5 | KM63: 6 | KN63: 7 | KO63: 8 | KP63: 9 | KQ63: 10 | KR63: 11 | KS63: 12 | KT63: 1 | KU63: 2 | KV63: 3 | KW63: 4 | KX63: 5 | KY63: 6 | KZ63: 7 | LA63: 8 | LB63: 9 | LC63: 10 | LD63: 11 | LE63: 12 | LF63: 1 | LG63: 2 | LH63: 3 | LI63: 4 | LJ63: 5 | LK63: 6 | LL63: 7 | LM63: 8 | LN63: 9 | LO63: 10 | LP63: 11 | LQ63: 12 | LR63: 1 | LS63: 2 | LT63: 3 | LU63: 4 | LV63: 5 | LW63: 6 | LX63: 7 | LY63: 8 | LZ63: 9 | MA63: 10 | MB63: 11 | MC63: 12 | MD63: 1 | ME63: 2 | MF63: 3 | MG63: 4 | MH63: 5 | MI63: 6 | MJ63: 7 | MK63: 8 | ML63: 9 | MM63: 10 | MN63: 11 | MO63: 12 | MP63: 1 | MQ63: 2 | MR63: 3 | MS63: 4 | MT63: 5 | MU63: 6 | MV63: 7 | MW63: 8 | MX63: 9 | MY63: 10 | MZ63: 11 | NA63: 12 | NB63: 1 | NC63: 2 | ND63: 3 | NE63: 4 | NF63: 5 | NG63: 6 | NH63: 7 | NI63: 8 | NJ63: 9 | NK63: 10 | NL63: 11 | NM63: 12 | NN63: 1 | NO63: 2 | NP63: 3 | NQ63: 4 | NR63: 5 | NS63: 6 | NT63: 7 | NU63: 8 | NV63: 9 | NW63: 10 | NX63: 11 | NY63: 12 | NZ63: 1 | OA63: 2 | OB63: 3 | OC63: 4 | OD63: 5 | OE63: 6 | OF63: 7 | OG63: 8 | OH63: 9 | OI63: 10 | OJ63: 11 | OK63: 12 | OL63: 1 | OM63: 2 | ON63: 3 | OO63: 4 | OP63: 5 | OQ63: 6 | OR63: 7 | OS63: 8 | OT63: 9 | OU63: 10 | OV63: 11 | OW63: 12 | OX63: 1 | OY63: 2 | OZ63: 3 | PA63: 4 | PB63: 5 | PC63: 6 | PD63: 7 | PE63: 8 | PF63: 9 | PG63: 10 | PH63: 11 | PI63: 12
D64: 令和2年 | E64: 100 | F64: 100 | G64: 100 | H64: 100 | I64: 100 | J64: 100 | K64: 100 | L64: 100 | M64: 100 | N64: 100 | O64: 100 | P64: 100 | Q64: 100 | R64: 100 | S64: 100 | T64: 100 | U64: 100 | V64: 100 | W64: 100 | X64: 100 | Y64: 100 | Z64: 100 | AA64: 100 | AB64: 100 | AC64: 100 | AD64: 100 | AE64: 100 | AF64: 100 | AG64: 100 | AH64: 100 | AI64: 100 | AJ64: 100 | AK64: 100 | AL64: 100 | AM64: 100 | AN64: 100 | AO64: 100 | AP64: 100 | AQ64: 100 | AR64: 100 | AS64: 100 | AT64: 100 | AU64: 100 | AV64: 100 | AW64: 100 | AX64: 100 | AY64: 100 | AZ64: 100 | BA64: 100 | BB64: 100 | BC64: 100 | BD64: 100 | BE64: 100 | BF64: 100 | BG64: 100 | BH64: 100 | BI64: 100 | BJ64: 100 | BK64: 100 | BL64: 100 | BM64: 100 | BN64: 100 | BO64: 100 | BP64: 100 | BQ64: 100 | BR64: 100 | BS64: 100 | BT64: 100 | BU64: 100 | BV64: 100 | BW64: 100 | BX64: 100 | BY64: 100 | BZ64: 100 | CA64: 100 | CB64: 100 | CC64: 100 | CD64: 100 | CE64: 100 | CF64: 100 | CG64: 100 | CH64: 100 | CI64: 100 | CJ64: 100 | CK64: 100 | CL64: 100 | CM64: 100 | CN64: 100 | CO64: 100 | CP64: 100 | CQ64: 100 | CR64: 100 | CS64: 100 | CT64: 100 | CU64: 100 | CV64: 100 | CW64: 100 | CX64: 100 | CY64: 100 | CZ64: 100 | DA64: 100 | DB64: 100 | DC64: 100 | DD64: 100 | DE64: 100 | DF64: 100 | DG64: 100 | DH64: 100 | DI64: 100 | DJ64: 100 | DK64: 100 | DL64: 100 | DM64: 100 | DN64: 100 | DO64: 100 | DP64: 100 | DQ64: 100 | DR64: 100 | DS64: 100 | DT64: 100 | DU64: 100 | DV64: 100 | DW64: 100 | DX64: 100 | DY64: 100 | DZ64: 100 | EA64: 100 | EB64: 100 | EC64: 100 | ED64: 100 | EE64: 100 | EF64: 100 | EG64: 100 | EH64: 100 | EI64: 100 | EJ64: 100 | EK64: 100 | EL64: 100 | EM64: 100 | EN64: 100 | EO64: 100 | EP64: 100 | EQ64: 100 | ER64: 100 | ES64: 100 | ET64: 100 | EU64: 100 | EV64: 100 | EW64: 100 | EX64: 100 | EY64: 100 | EZ64: 100 | FA64: 100 | FB64: 100 | FC64: 100 | FD64: 100 | FE64: 100 | FF64: 100 | FG64: 100 | FH64: 100 | FI64: 100 | FJ64: 100 | FK64: 100 | FL64: 100 | FM64: 100 | FN64: 100 | FO64: 100 | FP64: 100 | FQ64: 100 | FR64: 100 | FS64: 100 | FT64: 100 | FU64: 100 | FV64: 100 | FW64: 100 | FX64: 100 | FY64: 100 | FZ64: 100 | GA64: 100 | GB64: 100 | GC64: 100 | GD64: 100 | GE64: 100 | GF64: 100 | GG64: 100 | GH64: 100 | GI64: 100 | GJ64: 100 | GK64: 100 | GL64: 100 | GM64: 100 | GN64: 100 | GO64: 100 | GP64: 100 | GQ64: 100 | GR64: 100 | GS64: 100 | GT64: 100 | GU64: 100 | GV64: 100 | GW64: 100 | GX64: 100 | GY64: 100 | GZ64: 100 | HA64: 100 | HB64: 100 | HC64: 100 | HD64: 100 | HE64: 100 | HF64: 100 | HG64: 100 | HH64: 100 | HI64: 100 | HJ64: 100 | HK64: 100 | HL64: 100 | HM64: 100 | HN64: 100 | HO64: 100 | HP64: 100 | HQ64: 100 | HR64: 100 | HS64: 100 | HT64: 100 | HU64: 100 | HV64: 100 | HW64: 100 | HX64: 100 | HY64: 100 | HZ64: 100 | IA64: 100 | IB64: 100 | IC64: 100 | ID64: 100 | IE64: 100 | IF64: 100 | IG64: 100 | IH64: 100 | II64: 100 | IJ64: 100 | IK64: 100 | IL64: 100 | IM64: 100 | IN64: 100 | IO64: 100 | IP64: 100 | IQ64: 100 | IR64: 100 | IS64: 100 | IT64: 100 | IU64: 100 | IV64: 100 | IW64: 100 | IX64: 100 | IY64: 100 | IZ64: 100 | JA64: 100 | JB64: 100 | JC64: 100 | JD64: 100 | JE64: 100 | JF64: 100 | JG64: 100 | JH64: 100 | JI64: 100 | JJ64: 100 | JK64: 100 | JL64: 100 | JM64: 100 | JN64: 100 | JO64: 100 | JP64: 100 | JQ64: 100 | JR64: 100 | JS64: 100 | JT64: 100 | JU64: 100 | JV64: 100 | JW64: 100 | JX64: 100 | JY64: 100 | JZ64: 100 | KA64: 100 | KB64: 100 | KC64: 100 | KD64: 100 | KE64: 100 | KF64: 100 | KG64: 100 | KH64: 100 | KI64: 100 | KJ64: 100 | KK64: 100 | KL64: 100 | KM64: 100 | KN64: 100 | KO64: 100 | KP64: 100 | KQ64: 100 | KR64: 100 | KS64: 100 | KT64: 100 | KU64: 100 | KV64: 100 | KW64: 100 | KX64: 100 | KY64: 100 | KZ64: 100 | LA64: 100 | LB64: 100 | LC64: 100 | LD64: 100 | LE64: 100 | LF64: 100 | LG64: 100 | LH64: 100 | LI64: 100 | LJ64: 100 | LK64: 100 | LL64: 100 | LM64: 100 | LN64: 100 | LO64: 100 | LP64: 100 | LQ64: 100 | LR64: 100 | LS64: 100 | LT64: 100 | LU64: 100 | LV64: 100 | LW64: 100 | LX64: 100 | LY64: 100 | LZ64: 100 | MA64: 100 | MB64: 100 | MC64: 100 | MD64: 100 | ME64: 100 | MF64: 100 | MG64: 100 | MH64: 100 | MI64: 100 | MJ64: 100 | MK64: 100 | ML64: 100 | MM64: 100 | MN64: 100 | MO64: 100 | MP64: 100 | MQ64: 100 | MR64: 100 | MS64: 100 | MT64: 100 | MU64: 100 | MV64: 100 | MW64: 100 | MX64: 100 | MY64: 100 | MZ64: 100 | NA64: 100 | NB64: 100 | NC64: 100 | ND64: 100 | NE64: 100 | NF64: 100 | NG64: 100 | NH64: 100 | NI64: 100 | NJ64: 100 | NK64: 100 | NL64: 100 | NM64: 100 | NN64: 100 | NO64: 100 | NP64: 100 | NQ64: 100 | NR64: 100 | NS64: 100 | NT64: 100 | NU64: 100 | NV64: 100 | NW64: 100 | NX64: 100 | NY64: 100 | NZ64: 100 | OA64: 100 | OB64: 100 | OC64: 100 | OD64: 100 | OE64: 100 | OF64: 100 | OG64: 100 | OH64: 100 | OI64: 100 | OJ64: 100 | OK64: 100 | OL64: 100 | OM64: 100 | ON64: 100 | OO64: 100 | OP64: 100 | OQ64: 100 | OR64: 100 | OS64: 100 | OT64: 100 | OU64: 100 | OV64: 100 | OW64: 100 | OX64: 100 | OY64: 100 | OZ64: 100 | PA64: 100 | PB64: 100 | PC64: 100 | PD64: 100 | PE64: 100 | PF64: 100 | PG64: 100 | PH64: 100 | PI64: 100
B65: 指 | D65: 総合 | E65: 133.18131 | F65: =F44/基準データ!$F5*100 -> 124.83105 | G65: =G44/基準データ!$F5*100 -> 117.20753 | H65: =H44/基準データ!$F5*100 -> 96.080501 | I65: =I44/基準データ!$F5*100 -> 79.75353 | J65: =J44/基準データ!$F5*100 -> 110.77955 | K65: =K44/基準データ!$F5*100 -> 127.02664 | L65: =L44/基準データ!$F5*100 -> 85.502607 | M65: =M44/基準データ!$F5*100 -> 61.142634 | ... PI65: =PI44/基準データ!$F5*100 -> 0
B66: 数 | D66: 国内船 | E66: 22.45679 | F66: =F45/基準データ!$F6*100 -> 18.403684 | G66: =G45/基準データ!$F6*100 -> 9.0998727 | H66: =H45/基準データ!$F6*100 -> 58.504195 | I66: =I45/基準データ!$F6*100 -> 16.14869 | J66: =J45/基準データ!$F6*100 -> 47.021277 | K66: =K45/基準データ!$F6*100 -> 108.40792 | L66: =L45/基準データ!$F6*100 -> 43.85381 | M66: =M45/基準データ!$F6*100 -> 21.681805 | ... PI66: =PI45/基準データ!$F6*100 -> 0
D67: 輸出船 | E67: 165.01972 | F67: =F46/基準データ!$F7*100 -> 155.43383 | G67: =G46/基準データ!$F7*100 -> 148.29347 | H67: =H46/基準データ!$F7*100 -> 106.88542 | I67: =I46/基準データ!$F7*100 -> 98.042856 | J67: =J46/基準データ!$F7*100 -> 129.113 | K67: =K46/基準データ!$F7*100 -> 132.38039 | L67: =L46/基準データ!$F7*100 -> 97.478558 | M67: =M46/基準データ!$F7*100 -> 72.489442 | ... PI67: =PI46/基準データ!$F7*100 -> 0
F68: =F47/基準データ!$E8*100 -> 0 | G68: =ROUND((E65-ROUNDDOWN(E65,0))*10,0) -> 2
F69: =F48/基準データ!$E9*100 -> 0 | G69: =ROUND((E66-ROUNDDOWN(E66,0))*10,0) -> 5
F70: =F49/基準データ!$E10*100 -> 0 | G70: =ROUND((E67-ROUNDDOWN(E67,0))*10,0) -> 0
B71: 前年 | D71: 総合 | E71: 93.2 | R71: =ROUND(R44/F44*100,1) -> 79 | S71: =ROUND(S44/G44*100,1) -> 68 | T71: =ROUND(T44/H44*100,1) -> 153.4 | U71: =ROUND(U44/I44*100,1) -> 104 | V71: =ROUND(V44/J44*100,1) -> 52.9 | W71: =ROUND(W44/K44*100,1) -> 68.9 | X71: =ROUND(X44/L44*100,1) -> 163.6 | Y71: =ROUND(Y44/M44*100,1) -> 117.3 | ... PI71: =ROUND(PI44/OW44*100,1) -> #DIV/0!
B72: 同月 | D72: 国内船 | E72: 77 | R72: =ROUND(R45/F45*100,1) -> 243 | S72: =ROUND(S45/G45*100,1) -> 124.9 | T72: =ROUND(T45/H45*100,1) -> 251.1 | U72: =ROUND(U45/I45*100,1) -> 63 | V72: =ROUND(V45/J45*100,1) -> 18.5 | W72: =ROUND(W45/K45*100,1) -> 14.4 | X72: =ROUND(X45/L45*100,1) -> 486 | Y72: =ROUND(Y45/M45*100,1) -> 92.4 | ... PI72: =ROUND(PI45/OW45*100,1) -> #DIV/0!
B73: 比 | D73: 輸出船 | E73: 93.9 | R73: =ROUND(R46/F46*100,1) -> 73.4 | S73: =ROUND(S46/G46*100,1) -> 67 | T73: =ROUND(T46/H46*100,1) -> 138 | U73: =ROUND(U46/I46*100,1) -> 105.9 | V73: =ROUND(V46/J46*100,1) -> 56.5 | W73: =ROUND(W46/K46*100,1) -> 81.7 | X73: =ROUND(X46/L46*100,1) -> 121.9 | Y73: =ROUND(Y46/M46*100,1) -> 119.4 | ... PI73: =ROUND(PI46/OW46*100,1) -> #DIV/0!
F74: =IF(I74=0,"増減がなかった。",ROUNDDOWN(I74,0)&".") -> 6. | G74: =ROUND(IF(I74=0,"",+(I74-ROUNDDOWN(I74,0))*10),0) -> 8 | H74: =IF(J74>0,"％増であった。",IF(J74=0,"","％減であった。")) -> ％減であった。 | I74: =ROUND(IF(J74>0,J74,J74*-1),1) -> 6.8 | J74: =+E71-100 -> -6.8
F75: =IF(I75=0,"増減がなかった。",ROUNDDOWN(I75,0)&".") -> 23. | G75: =ROUND(IF(I75=0,"",+(I75-ROUNDDOWN(I75,0))*10),0) -> 0 | H75: =IF(J75>0,"％増、",IF(J75=0,"","％減、")) -> ％減、 | I75: =ROUND(IF(J75>0,J75,J75*-1),1) -> 23 | J75: =+E72-100 -> -23
F76: =IF(I76=0,"増減がなかった。",ROUNDDOWN(I76,0)&".") -> 6. | G76: =ROUND(IF(I76=0,"",+(I76-ROUNDDOWN(I76,0))*10),0) -> 1 | H76: =IF(J76>0,"％増であった。",IF(J76=0,"","％減であった。")) -> ％減であった。 | I76: =ROUND(IF(J76>0,J76,J76*-1),1) -> 6.1 | J76: =+E73-100 -> -6.1
B78: 受注 | D78: 隻数 | E78: 8 | CX78: 0 | CY78: 0 | CZ78: 0 | DA78: 0 | DB78: 0 | DC78: 0 | DD78: 0 | DE78: 0 | DF78: 0 | DG78: 0 | DH78: 0 | DI78: 0 | DJ78: 0 | DK78: 33 | DL78: 0 | DM78: 0 | DN78: 0 | DO78: 0 | DP78: 0 | DQ78: 0 | DR78: 0 | DS78: 0 | DT78: 0 | DU78: 0 | DV78: 40 | DW78: 38 | DX78: 59 | DY78: 48 | DZ78: 42 | EA78: 124 | EB78: 16 | EC78: 11 | ED78: 12 | EE78: 11 | EF78: 8 | EG78: 25 | EH78: 13 | EI78: 10 | EJ78: 40 | EK78: 25 | EL78: 14 | EM78: 83 | EN78: 14 | EO78: 10 | EP78: 17 | EQ78: 43 | ER78: 27 | ES78: 22 | ET78: 3 | EU78: 10 | EV78: 20 | EW78: 10 | EX78: 13 | EY78: 21 | EZ78: 8 | FA78: 13 | FB78: 5 | FC78: 6 | FD78: 9 | FE78: 16 | FF78: 7 | FG78: 12 | FH78: 31 | FI78: 29 | FJ78: 16 | FK78: 20 | FL78: 20 | FM78: 23 | FN78: 17 | FO78: 10 | FP78: 13 | FQ78: 11 | FR78: 16 | FS78: 22 | FT78: 41 | FU78: 17 | FV78: 36 | FW78: 25 | FX78: 20 | FY78: 20 | FZ78: 26 | GA78: 19 | GB78: 29 | GC78: 20 | GD78: 11 | GE78: 10 | GF78: 54 | GG78: 10 | GH78: 13 | GI78: 18 | GJ78: 14 | GK78: 16 | GL78: 21 | GM78: 15 | GN78: 16 | GO78: 18 | GP78: 15 | GQ78: 13 | GR78: 32 | GS78: 11 | GT78: 13 | GU78: 17 | GV78: 17 | GW78: 7 | GX78: 15 | GY78: 13 | GZ78: 7 | HA78: 28 | HB78: 22 | HC78: 16 | HD78: 26 | HE78: 13 | HF78: 40 | HG78: 85 | HH78: 22 | HI78: 25 | HJ78: 14 | HK78: 21 | HL78: 34 | HM78: 23 | HN78: 16 | HO78: 16 | HP78: 37 | HQ78: 31 | HR78: 29 | HS78: 26 | HT78: 23 | HU78: 47 | HV78: 11 | HW78: 19 | HX78: 9 | HY78: 16 | HZ78: 12 | IA78: 37 | IB78: 27 | IC78: 23 | ID78: 14 | IE78: 18 | IF78: 13 | IG78: 18 | IH78: 13 | II78: 39 | IJ78: 12 | IK78: 24 | IL78: 10 | IM78: 15 | IN78: 55 | IO78: 20 | IP78: 28 | IQ78: 22 | IR78: 31 | IS78: 14 | IT78: 20 | IU78: 32 | IV78: 24 | IW78: 26 | IX78: 6 | IY78: 6 | IZ78: 44 | JA78: 5 | JB78: 18 | JC78: 24 | JD78: 20 | JE78: 11 | JF78: 13 | JG78: 33 | JH78: 11 | JI78: 16 | JJ78: 8
D79: Ｇ／Ｔ | E79: 170916 | CX79: 0 | CY79: 0 | CZ79: 0 | DA79: 0 | DB79: 0 | DC79: 0 | DD79: 0 | DE79: 0 | DF79: 0 | DG79: 0 | DH79: 0 | DI79: 0 | DJ79: 0 | DK79: 953917 | DL79: 0 | DM79: 0 | DN79: 0 | DO79: 0 | DP79: 0 | DQ79: 0 | DR79: 0 | DS79: 0 | DT79: 0 | DU79: 0 | DV79: 1646009 | DW79: 978833 | DX79: 1551313 | DY79: 1889617 | DZ79: 778806 | EA79: 4811850 | EB79: 61708 | EC79: 596297 | ED79: 332335 | EE79: 197150 | EF79: 85136 | EG79: 703398 | EH79: 136616 | EI79: 171938 | EJ79: 829083 | EK79: 1200549 | EL79: 1207727 | EM79: 3205782 | EN79: 865296 | EO79: 350367 | EP79: 223467 | EQ79: 2889095 | ER79: 927557 | ES79: 687626 | ET79: 1506 | EU79: 128785 | EV79: 515218 | EW79: 2383 | EX79: 41787 | EY79: 41247 | EZ79: 2446 | FA79: 19613 | FB79: 15479 | FC79: 88934 | FD79: 9615 | FE79: 22625 | FF79: 795 | FG79: 7770 | FH79: 621738 | FI79: 586369 | FJ79: 180531 | FK79: 231081 | FL79: 364174 | FM79: 427887 | FN79: 323261 | FO79: 86893 | FP79: 357763 | FQ79: 91645 | FR79: 91060 | FS79: 541828 | FT79: 762560 | FU79: 189921 | FV79: 251183 | FW79: 249990 | FX79: 257226 | FY79: 250029 | FZ79: 704962 | GA79: 337062 | GB79: 743615 | GC79: 185975 | GD79: 190063 | GE79: 17838 | GF79: 483103 | GG79: 119262 | GH79: 53620 | GI79: 202064 | GJ79: 96000 | GK79: 151897 | GL79: 241458 | GM79: 180153 | GN79: 282869 | GO79: 223936 | GP79: 276143 | GQ79: 25429 | GR79: 286313 | GS79: 109257 | GT79: 37030 | GU79: 546053 | GV79: 96705 | GW79: 69278 | GX79: 328274 | GY79: 105063 | GZ79: 78706 | HA79: 908070 | HB79: 216440 | HC79: 226589 | HD79: 502890 | HE79: 62412 | HF79: 679643 | HG79: 2464349 | HH79: 367561 | HI79: 504653 | HJ79: 217214 | HK79: 857494 | HL79: 894937 | HM79: 742921 | HN79: 196671 | HO79: 402732 | HP79: 816951 | HQ79: 696765 | HR79: 1090326 | HS79: 930402 | HT79: 334590 | HU79: 1417844 | HV79: 194203 | HW79: 169915 | HX79: 386336 | HY79: 282027 | HZ79: 214761 | IA79: 1961737 | IB79: 325858 | IC79: 220929 | ID79: 221520 | IE79: 279829 | IF79: 160573 | IG79: 321155 | IH79: 228859 | II79: 2018687 | IJ79: 383849 | IK79: 561826 | IL79: 59761 | IM79: 246630 | IN79: 1694747 | IO79: 167055 | IP79: 384751 | IQ79: 338082 | IR79: 1106845 | IS79: 411744 | IT79: 553671 | IU79: 729249 | IV79: 462250 | IW79: 483560 | IX79: 16482 | IY79: 6027 | IZ79: 1404668 | JA79: 1214 | JB79: 246229 | JC79: 549223 | JD79: 556849 | JE79: 340473 | JF79: 223750 | JG79: 984602 | JH79: 193516 | JI79: 337805 | JJ79: 170916
B81: 竣工 | D81: Ｇ／Ｔ当たり船価 | E81: =E18/E17 -> 173.78192 | F81: =F18/F17 -> 99.688569 | G81: =G18/G17 -> 121.58186 | H81: =H18/H17 -> 97.40556 | I81: =I18/I17 -> 86.401977 | J81: =J18/J17 -> 116.74007 | K81: =K18/K17 -> 112.05986 | L81: =L18/L17 -> 97.180046 | ... PI81: =PI18/PI17 -> #DIV/0!
D82: 前年同月比 | E82: 101.5 | R82: =ROUND(R81/F81*100,1) -> 74 | S82: =ROUND(S81/G81*100,1) -> 61.7 | T82: =ROUND(T81/H81*100,1) -> 97.1 | U82: =ROUND(U81/I81*100,1) -> 110.4 | V82: =ROUND(V81/J81*100,1) -> 64.8 | W82: =ROUND(W81/K81*100,1) -> 77.8 | X82: =ROUND(X81/L81*100,1) -> 92.9 | Y82: =ROUND(Y81/M81*100,1) -> 97.3 | ... PI82: =ROUND(PI81/OW81*100,1) -> #DIV/0!
F83: =IF(I83=0,"増減がなかった。",ROUNDDOWN(I83,0)&".") -> 1. | G83: =ROUND(IF(I83=0,"",+(I83-ROUNDDOWN(I83,0))*10),0) -> 5 | H83: =IF(J83>0,"％増であった。",IF(J83=0,"","％減であった。")) -> ％増であった。 | I83: =ROUND(IF(J83>0,J83,J83*-1),1) -> 1.5 | J83: =+E82-100 -> 1.5

Sheet 概要作成シート
D2: =IF(TEXT(データ!E2, "e")="1", TEXT(データ!E2, "[$-ja-JP]ggg元年"), TEXT(データ!E2, "[$-ja-JP]ggge年")) -> 令和8年
D3: =データ!E3 -> １月 | H3: =+DBCS(D2&D3)&"分" -> 令和８年１月分
A4: 鋼船工場数 | D4: =データ!E4 -> 392 | H4: =+D4&"工場" -> 392工場
C5: 前年同月比 | D5: =データ!E5 -> #DIV/0!
A7: 木船工場数 | D7: =データ!E7 -> 121 | H7: =+D7&"工場" -> 121工場
C8: 前年同月比 | D8: =データ!E8 -> #DIV/0!
A10: 起工 | C10: 隻数 | D10: =データ!E10 -> 24 | H10: ="起工"&D10&"隻、" -> 起工24隻、
C11: Ｇ／Ｔ | D11: =データ!E11 -> 804243 | E11: =+ROUND(D11,-3) -> 804000 | F11: =+ROUNDDOWN(E11/10000,0)&"万" -> 80万 | G11: =+IF(LEFT(RIGHT(E11,4),1)="0","",LEFT(RIGHT(E11,4),1)&"千") -> 4千 | H11: =+F11&G11&"G/T、" -> 80万4千G/T、
A13: 進水 | C13: 隻数 | D13: =データ!E13 -> 28 | H13: ="進水"&D13&"隻、" -> 進水28隻、
C14: Ｇ／Ｔ | D14: =データ!E14 -> 635261 | E14: =+ROUND(D14,-3) -> 635000 | F14: =+ROUNDDOWN(E14/10000,0)&"万" -> 63万 | G14: =+IF(LEFT(RIGHT(E14,4),1)="0","",LEFT(RIGHT(E14,4),1)&"千") -> 5千 | H14: =+F14&G14&"G/T、" -> 63万5千G/T、
B16: 合 | C16: 隻数 | D16: =データ!E16 -> 30 | H16: ="しゅん工"&D16&"隻、" -> しゅん工30隻、
C17: Ｇ／Ｔ | D17: =データ!E17 -> 914234 | E17: =+ROUND(D17,-3) -> 914000 | F17: =+ROUNDDOWN(E17/10000,0)&"万" -> 91万 | G17: =+IF(LEFT(RIGHT(E17,4),1)="0","",LEFT(RIGHT(E17,4),1)&"千") -> 4千 | H17: =+F17&G17&"G/T、" -> 91万4千G/T、
A18: 竣 | B18: 計 | C18: 竣工船価 | D18: =データ!E18 -> 158877339 | E18: =+ROUND(D18,-5) -> 158900000 | F18: =+E18/100000 -> 1589 | G18: =+IF(F19>0,F19&",","") -> 1, | H18: =+G18&G19 -> 1,589
F19: =+ROUNDDOWN(F18/1000,0) -> 1 | G19: =+RIGHT(F18,3) -> 589
B21: 国 | C21: 隻数 | D21: =データ!E21 -> 7 | H21: =+D21&"隻" -> 7隻
B22: 内 | C22: Ｇ／Ｔ | D22: =データ!E22 -> 2340 | E22: =+ROUND(D22,-3) -> 2000 | G22: =+IF(LEFT(RIGHT(E22,4),1)="0","",LEFT(RIGHT(E22,4),1)&"千") -> 2千 | H22: =+F22&G22&"G/T" -> 2千G/T
B23: 船 | C23: 竣工船価 | D23: =データ!E23 -> 5982891 | E23: =+ROUND(D23,-5) -> 6000000 | F23: =+E23/100000 -> 60 | G23: =+IF(F24>0,F24&",","") | H23: =+G23&G24 -> 60
F24: =+ROUNDDOWN(F23/1000,0) -> 0 | G24: =+RIGHT(F23,3) -> 60
A26: 工 | B26: 輸 | C26: 隻数 | D26: =データ!E26 -> 23 | H26: =+D26&"隻" -> 23隻
B27: 出 | C27: Ｇ／Ｔ | D27: =データ!E27 -> 911894 | E27: =+ROUND(D27,-3) -> 912000 | F27: =+ROUNDDOWN(E27/10000,0)&"万" -> 91万 | G27: =+IF(LEFT(RIGHT(E27,4),1)="0","",LEFT(RIGHT(E27,4),1)&"千") -> 2千 | H27: =+F27&G27&"G/T" -> 91万2千G/T
B28: 船 | C28: 竣工船価 | D28: =データ!E28 -> 152894448 | E28: =+ROUND(D28,-5) -> 152900000 | F28: =+E28/100000 -> 1529 | G28: =+IF(F29>0,F29&",","") -> 1, | H28: =+G28&G29 -> 1,529
F29: =+ROUNDDOWN(F28/1000,0) -> 1 | G29: =+RIGHT(F28,3) -> 529
B31: 合 計 | D31: =データ!E31 -> 30 | H31: =+D31&"隻" -> 30隻
A32: 竣 | C32: 計 | D32: =データ!E32 -> 7
B33: 国 | C33: 貨物船 | D33: =データ!E33 -> 3
C34: 貨客船 | D34: =データ!E34 -> 0
A35: 工 | B35: 内 | C35: 客船 | D35: =データ!E35 -> 0
C36: 自動車航送船 | D36: =データ!E36 -> 1
B37: 船 | C37: 油送船 | D37: =データ!E37 -> 0
A38: 隻 | C38: 漁船 | D38: =データ!E38 -> 0
C39: その他 | D39: =データ!E39 -> 3
C40: 計 | D40: =データ!E40 -> 23
A41: 数 | B41: 輸 | C41: 貨物船 | D41: =データ!E41 -> 16
B42: 出 | C42: 油送船 | D42: =データ!E42 -> 7
B43: 船 | C43: その他 | D43: =データ!E43 -> 0
A44: 竣工 | C44: 合計 | D44: =データ!E44 -> 158877339
A45: 船価 | C45: 国内船 | D45: =データ!E45 -> 5982891
C46: 輸出船 | D46: =データ!E46 -> 152894448
B47: 工 場 数 | D47: =データ!E47 -> 0 | H47: =+D47&"工場" -> 0工場
A48: 造 | C48: 前 年 同 月 比 | D48: =データ!E48 -> 0
B50: 製 造 高 | D50: =データ!E50 -> 0 | E50: =+ROUND(D50,-5) -> 0 | F50: =+E50/100000 -> 0 | G50: =+IF(F51>0,F51&",","") | H50: =+G50&G51 -> 0
C51: 前 年 同 月 比 | D51: =データ!E51 -> 0 | F51: =+ROUNDDOWN(F50/1000,0) -> 0 | G51: =+RIGHT(F50,3) -> 0
B54: 月末在庫高 | D54: =データ!E54 -> 0 | E54: =+ROUND(D54,-5) -> 0 | F54: =+E54/100000 -> 0 | G54: =+IF(F55>0,F55&",","") | H54: =+G54&G55 -> 0
C55: 前 年 同 月 比 | D55: =データ!E55 -> 0 | F55: =+ROUNDDOWN(F54/1000,0) -> 0 | G55: =+RIGHT(F54,3) -> 0
A58: 機 | B58: 修 繕 高 | D58: =データ!E58 -> 0 | E58: =+ROUND(D58,-5) -> 0 | F58: =+E58/100000 -> 0 | G58: =+IF(F59>0,F59&",","") | H58: =+G58&G59 -> 0
C59: 前 年 同 月 比 | D59: =データ!E59 -> 0 | F59: =+ROUNDDOWN(F58/1000,0) -> 0 | G59: =+RIGHT(F58,3) -> 0
A62: 竣工 | C62: 年 | D62: =データ!E62 -> 2026
A63: 船価 | C63: 月 | D63: =データ!E63 -> 1
C64: 平成17年 | D64: =データ!E64 -> 100
A65: 指 | C65: 総合 | D65: =データ!E65 -> 133.18131 | H65: 133.2
A66: 数 | C66: 国内船 | D66: =データ!E66 -> 22.45679 | H66: 22.5
C67: 輸出船 | D67: =データ!E67 -> 165.01972 | H67: 165
A71: 前年 | C71: 総合 | D71: =データ!E71 -> 93.2 | E71: =+D71-100 -> -6.8 | F71: =ABS(E71) -> 6.8 | G71: =+IF(E71=0,"!",IF(E71>0,"%増","%減")) -> %減 | H71: =+TEXT(F71,"##0.0")&G71 -> 6.8%減
A72: 同月 | C72: 国内船 | D72: =データ!E72 -> 77 | E72: =+D72-100 -> -23 | F72: =ABS(E72) -> 23 | G72: =+IF(E72=0,"!",IF(E72>0,"%増","%減")) -> %減 | H72: =+TEXT(F72,"##0.0")&G72 -> 23.0%減
A73: 比 | C73: 輸出船 | D73: =データ!E73 -> 93.9 | E73: =+D73-100 -> -6.1 | F73: =ABS(E73) -> 6.1 | G73: =+IF(E73=0,"!",IF(E73>0,"%増","%減")) -> %減 | H73: =+TEXT(F73,"##0.0")&G73 -> 6.1%減
A78: 受注 | C78: 隻数 | D78: =データ!E78 -> 8 | H78: ="受注"&D78&"隻、" -> 受注8隻、
C79: Ｇ／Ｔ | D79: =データ!E79 -> 170916 | E79: =+ROUND(D79,-3) -> 171000 | F79: =+ROUNDDOWN(E79/10000,0)&"万" -> 17万 | G79: =+IF(LEFT(RIGHT(E79,4),1)="0","",LEFT(RIGHT(E79,4),1)&"千") -> 1千 | H79: =+F79&G79&"G/T、" -> 17万1千G/T、

Sheet 生産指数
B3: =データ!F2 -> 38352 | N3: =データ!R2 -> 38717 | Z3: =データ!AD2 -> 39082 | AL3: =データ!AP2 -> 39447 | AX3: =データ!BB2 -> 39813 | BJ3: =データ!BN2 -> 40178 | BV3: =データ!BZ2 -> 40543 | CH3: =データ!CL2 -> 40908 | CT3: =データ!CX2 -> 41274 | DF3: =データ!DJ2 -> 41639 | DR3: =データ!DV2 -> 42004 | ED3: =データ!EH2 -> 42369 | EP3: =データ!ET2 -> 42735 | FB3: =データ!FF2 -> 43100 | FN3: =データ!FR2 -> 43465 | FZ3: =データ!GD2 -> 43830 | GL3: =データ!GP2 -> 44196 | GX3: =データ!HB2 -> 44561 | HJ3: =データ!HN2 -> 44562 | HV3: =データ!HZ2 -> 44927 | IH3: =データ!IL2 -> 45292 | IT3: =データ!IX2 -> 45658 | JF3: =データ!JJ2 -> 46023 | JR3: =データ!JV2 -> 46388 | KD3: =データ!KH2 -> 46753 | KP3: =データ!KT2 -> 47119 | LB3: =データ!LF2 -> 47484 | LN3: =データ!LR2 -> 47849 | LZ3: =データ!MD2 -> 48214 | ML3: =データ!MP2 -> 48580 | MX3: =データ!NB2 -> 48945 | NJ3: =データ!NN2 -> 49310 | NV3: =データ!NZ2 -> 49675 | OH3: =データ!OL2 -> 50041 | OT3: =データ!OX2 -> 50406
A4: 年・月 | B4: =データ!F63 -> 1 | C4: =データ!G63 -> 2 | D4: =データ!H63 -> 3 | E4: =データ!I63 -> 4 | F4: =データ!J63 -> 5 | G4: =データ!K63 -> 6 | H4: =データ!L63 -> 7 | I4: =データ!M63 -> 8 | ... PE4: =データ!PI63 -> 12
A5: =データ!D64 -> 令和2年 | B5: =データ!F64 -> 100 | C5: =データ!G64 -> 100 | D5: =データ!H64 -> 100 | E5: =データ!I64 -> 100 | F5: =データ!J64 -> 100 | G5: =データ!K64 -> 100 | H5: =データ!L64 -> 100 | I5: =データ!M64 -> 100 | ... PE5: =データ!PI64 -> 100
A6: =データ!D65 -> 総合 | B6: =データ!F65 -> 124.83105 | C6: =データ!G65 -> 117.20753 | D6: =データ!H65 -> 96.080501 | E6: =データ!I65 -> 79.75353 | F6: =データ!J65 -> 110.77955 | G6: =データ!K65 -> 127.02664 | H6: =データ!L65 -> 85.502607 | I6: =データ!M65 -> 61.142634 | ... PE6: =データ!PI65 -> 0
A7: =データ!D66 -> 国内船 | B7: =データ!F66 -> 18.403684 | C7: =データ!G66 -> 9.0998727 | D7: =データ!H66 -> 58.504195 | E7: =データ!I66 -> 16.14869 | F7: =データ!J66 -> 47.021277 | G7: =データ!K66 -> 108.40792 | H7: =データ!L66 -> 43.85381 | I7: =データ!M66 -> 21.681805 | ... PE7: =データ!PI66 -> 0
A8: =データ!D67 -> 輸出船 | B8: =データ!F67 -> 155.43383 | C8: =データ!G67 -> 148.29347 | D8: =データ!H67 -> 106.88542 | E8: =データ!I67 -> 98.042856 | F8: =データ!J67 -> 129.113 | G8: =データ!K67 -> 132.38039 | H8: =データ!L67 -> 97.478558 | I8: =データ!M67 -> 72.489442 | ... PE8: =データ!PI67 -> 0

Sheet 用途別
B3: 国内船 | C3: ％ | E3: 輸出船 | F3: ％
A4: 隻 ％ | D4: 隻 ％
A5: =+"貨 物 船 "&+B17&" "&+C17&"."&+C31 -> 貨 物 船 3 42.9 | B5: =+データ!E33 -> 3 | C5: =ROUND(B5/$C$12*100,1) -> 42.9 | D5: =+"貨 物 船 "&+E17&" "&+F17&"."&+F31 -> 貨 物 船 16 69.6 | E5: =+データ!E41 -> 16 | F5: =ROUND(E5/+$F$8*100,1) -> 69.6
A6: =+"貨 客 船 "&+B18&" "&+" -" -> 貨 客 船 0 - | B6: =+データ!E34 -> 0 | C6: =ROUND(B6/$C$12*100,1) -> 0 | D6: =+"油 送 船 "&+E18&" "&+F18&"."&+F32 -> 油 送 船 7 30.4 | E6: =+データ!E42 -> 7 | F6: =ROUND(E6/+$F$8*100,1) -> 30.4
A7: =+"客 船 "&+B19&" "&+" -" -> 客 船 0 - | B7: =+データ!E35 -> 0 | C7: =ROUND(B7/$C$12*100,1) -> 0 | D7: =+"そ の 他 "&+E19&" "&+" -" -> そ の 他 0 - | E7: =+データ!E43 -> 0 | F7: =100-F6-F5 -> 0
A8: =+"航 送 船 "&+B20&" "&+C20&"."&+C34 -> 航 送 船 1 14.3 | B8: =+データ!E36 -> 1 | C8: =ROUND(B8/$C$12*100,1) -> 14.3 | D8: =+"合 計 値 "&+F8 -> 合 計 値 23 | F8: =SUM(E5:E7) -> 23
A9: =+"油 送 船 "&+B21&" "&+" -" -> 油 送 船 0 - | B9: =+データ!E37 -> 0 | C9: =ROUND(B9/$C$12*100,1) -> 0
A10: =+"漁 船 "&+B22&" "&+" -" -> 漁 船 0 - | B10: =+データ!E38 -> 0 | C10: =ROUND(B10/$C$12*100,1) -> 0
A11: =+"そ の 他 "&+B23&" "&+C23&"."&+C37 -> そ の 他 3 42.9 | B11: =+データ!E39 -> 3 | C11: 42.9
A12: =+"合 計 値 "&+C12 -> 合 計 値 7 | C12: =SUM(B5:B11) -> 7
A16: 凡例用数値
B17: =IF(B5>9,+B5,+" "&+B5) -> 3 | C17: =IF(ROUNDDOWN(C5,0)>9,ROUNDDOWN(C5,0),+" "&+ROUNDDOWN(C5,0)) -> 42 | E17: =IF(E5>9,+E5,+" "&+E5) -> 16 | F17: =IF(ROUNDDOWN(F5,0)>10,ROUNDDOWN(F5,0),+" "&+ROUNDDOWN(F5,0)) -> 69
B18: =IF(B6>9,+B6,+" "&+B6) -> 0 | C18: =IF(ROUNDDOWN(C6,0)>9,ROUNDDOWN(C6,0),+" "&+ROUNDDOWN(C6,0)) -> 0 | E18: =IF(E6>9,+E6,+" "&+E6) -> 7 | F18: =IF(ROUNDDOWN(F6,0)>10,ROUNDDOWN(F6,0),+" "&+ROUNDDOWN(F6,0)) -> 30
B19: =IF(B7>9,+B7,+" "&+B7) -> 0 | C19: =IF(ROUNDDOWN(C7,0)>9,ROUNDDOWN(C7,0),+" "&+ROUNDDOWN(C7,0)) -> 0 | E19: =IF(E7>9,+E7,+" "&+E7) -> 0 | F19: =IF(ROUNDDOWN(F7,0)>10,ROUNDDOWN(F7,0),+" "&+ROUNDDOWN(F7,0)) -> 0
B20: =IF(B8>9,+B8,+" "&+B8) -> 1 | C20: =IF(ROUNDDOWN(C8,0)>9,ROUNDDOWN(C8,0),+" "&+ROUNDDOWN(C8,0)) -> 14
B21: =IF(B9>9,+B9,+" "&+B9) -> 0 | C21: =IF(ROUNDDOWN(C9,0)>9,ROUNDDOWN(C9,0),+" "&+ROUNDDOWN(C9,0)) -> 0
B22: =IF(B10>9,+B10,+" "&+B10) -> 0 | C22: =IF(ROUNDDOWN(C10,0)>9,ROUNDDOWN(C10,0),+" "&+ROUNDDOWN(C10,0)) -> 0
B23: =IF(B11>9,+B11,+" "&+B11) -> 3 | C23: =IF(ROUNDDOWN(C11,0)>9,ROUNDDOWN(C11,0),+" "&+ROUNDDOWN(C11,0)) -> 42
C24: =IF(ROUNDDOWN(C12,0)>9,ROUNDDOWN(C12,0),+" "&+ROUNDDOWN(C12,0)) -> 7 | F24: =ROUNDDOWN(F5,0) -> 69
C25: =ROUNDDOWN(C6,0) -> 0 | F25: =ROUNDDOWN(F6,0) -> 30
C26: =ROUNDDOWN(C7,0) -> 0 | F26: =ROUNDDOWN(F7,0) -> 0
C27: =ROUNDDOWN(C8,0) -> 14
C28: =ROUNDDOWN(C9,0) -> 0
C29: =ROUNDDOWN(C10,0) -> 0
C30: =ROUNDDOWN(C11,0) -> 42
C31: =ROUND(+(C5-C17)*10,0) -> 9 | F31: =ROUND(+(F5-F24)*10,0) -> 6
C32: =ROUND(+(C6-C18)*10,0) -> 0 | F32: =ROUND(+(F6-F25)*10,0) -> 4
C33: =ROUND(+(C7-C19)*10,0) -> 0 | F33: =ROUND(+(F7-F26)*10,0) -> 0
C34: =ROUND(+(C8-C20)*10,0) -> 3
C35: =ROUND(+(C9-C21)*10,0) -> 0
C36: =ROUND(+(C10-C22)*10,0) -> 0
C37: =ROUND(+(C11-C23)*10,0) -> 9

Sheet 基準データ
B1: 令和2年データ ５年ごとに基準を変えていく（次回令和7年）
C2: 造船統計（指数計算）
C3: 基準年の統計(2020) | D3: 竣工トン数 | E3: 竣工船価 | F3: 船価(月平均) | G3: 単価 | H3: ウエイト
C4: 全工場分 | D4: Qo | E4: Vo | F4: So=Vo/12 | G4: Po=Vo/Qo | H4: Wi
B5: 合計 | D5: =D6+D7 -> 12818739 | E5: =E6+E7 -> 1431528228 | F5: =E5/12 -> 119294019 | G5: =E5/D5 -> 111.67465 | H5: =E5/$E$5 -> 1
C6: 国内船小計 | D6: =SUM(D8:D14) -> 615927 | E6: =SUM(E8:E14) -> 319701484 | F6: =E6/12 -> 26641790 | G6: =E6/D6 -> 519.05743 | H6: =E6/$E$5 -> 0.2233288 | I6: =E6/$E$6 -> 1
C7: 輸出船小計 | D7: =SUM(D15:D17) -> 12202812 | E7: =SUM(E15:E17) -> 1111826744 | F7: =E7/12 -> 92652229 | G7: =E7/D7 -> 91.112339 | H7: =E7/$E$5 -> 0.7766712 | I7: =E7/$E$7 -> 1
B8: 国内船 | C8: 貨物船 | D8: 302441 | E8: 70271731 | F8: =E8/12 -> 5855977.6 | G8: =E8/D8 -> 232.34856 | H8: =E8/$E$5 -> 0.04908861 | I8: =E8/$E$6 -> 0.21980421
C9: 貨客船 | D9: 6099 | E9: 6461640 | F9: =E9/12 -> 538470 | G9: =E9/D9 -> 1059.4589 | H9: =E9/$E$5 -> 0.0045138055 | I9: =E9/$E$6 -> 0.02021148
C10: 客船 | D10: 682 | E10: 7563970 | F10: =E10/12 -> 630330.83 | G10: =E10/D10 -> 11090.865 | H10: =E10/$E$5 -> 0.0052838427 | I10: =E10/$E$6 -> 0.023659477
C11: 自動車航送船 | D11: 51645 | E11: 38420188 | F11: =E11/12 -> 3201682.3 | G11: =E11/D11 -> 743.92851 | H11: =E11/$E$5 -> 0.026838582 | I11: =E11/$E$6 -> 0.12017519
C12: 油送船 | D12: 206604 | E12: 54202345 | F12: =E12/12 -> 4516862.1 | G12: =E12/D12 -> 262.34896 | H12: =E12/$E$5 -> 0.037863274 | I12: =E12/$E$6 -> 0.16954049
C13: 漁船 | D13: 9874 | E13: 27074792 | F13: =E13/12 -> 2256232.7 | G13: =E13/D13 -> 2742.0288 | H13: =E13/$E$5 -> 0.018913209 | I13: =E13/$E$6 -> 0.084687727
C14: その他 | D14: 38582 | E14: 115706818 | F14: =E14/12 -> 9642234.8 | G14: =E14/D14 -> 2998.9844 | H14: =E14/$E$5 -> 0.080827479 | I14: =E14/$E$6 -> 0.36192143
B15: 輸出船 | C15: 貨物船 | D15: 9626474 | E15: 759873857 | F15: =E15/12 -> 63322821 | G15: =E15/D15 -> 78.935845 | H15: =E15/$E$5 -> 0.53081304 | I15: =E15/$E$7 -> 0.68344628
C16: 油送船 | D16: 2571654 | E16: 343821233 | F16: =E16/12 -> 28651769 | G16: =E16/D16 -> 133.69654 | H16: =E16/$E$5 -> 0.24017775 | I16: =E16/$E$7 -> 0.30923994
C17: その他 | D17: 4684 | E17: 8131654 | F17: =E17/12 -> 677637.83 | G17: =E17/D17 -> 1736.0491 | H17: =E17/$E$5 -> 0.0056804007 | I17: =E17/$E$7 -> 0.007313778

Sheet 推移表
A1: 鋼船しゅん工実績の推移
E2: 令和3年 | F2: 令和4年 | G2: 令和5年 | H2: 令和6年 | I2: 令和7年 | J2: 令和7年 | U2: 令和8年
J3: 2月分 | K3: 3月分 | L3: 4月分 | M3: 5月分 | N3: 6月分 | O3: 7月分 | P3: 8月分 | Q3: 9月分 | R3: 10月分 | S3: 11月分 | T3: 12月分 | U3: 1月分
A4: 合計 | C4: 隻数 | E4: 469 | F4: 458 | G4: 431 | H4: 429 | I4: 417 | J4: 31 | K4: 67 | L4: 23 | M4: 30 | N4: 39 | O4: 38 | P4: 28 | Q4: 36 | R4: 41 | S4: 31 | T4: 15 | U4: 30
C5: G／Ｔ | E5: 10780489 | F5: 9324003 | G5: 9860227 | H5: 8919313 | I5: 9901898 | J5: 808898 | K5: 1232750 | L5: 551820 | M5: 517764 | N5: 1153190 | O5: 830304 | P5: 797177 | Q5: 873255 | R5: 966810 | S5: 702349 | T5: 470566 | U5: 914234
C6: 生産指数 | D6: 指数 | E6: 88.8 | F6: 90.2 | G6: 97.1 | H6: 110.4 | I6: 127.2 | J6: 112.1 | K6: 209 | L6: 80.4 | M6: 73.2 | N6: 179.1 | O6: 132.1 | P6: 127.9 | Q6: 132.3 | R6: 149.7 | S6: 114.6 | T6: 71.5 | U6: 133.2
D7: 前年比 | E7: 88.8 | F7: 101.5 | G7: 107.7 | H7: 113.6 | I7: 115.2 | J7: 118.9 | K7: 93.1 | L7: 72.1 | M7: 80 | N7: 161.5 | O7: 97.5 | P7: 165.9 | Q7: 120.9 | R7: 136.9 | S7: 146.9 | T7: 75.2 | U7: 93.2
A8: 国内船 | B8: 小計 | C8: 隻数 | E8: 222 | F8: 238 | G8: 183 | H8: 181 | I8: 172 | J8: 11 | K8: 34 | L8: 7 | M8: 15 | N8: 15 | O8: 16 | P8: 12 | Q8: 11 | R8: 20 | S8: 11 | T8: 7 | U8: 7
C9: G／Ｔ | E9: 884118 | F9: 1043210 | G9: 186399 | H9: 576942 | I9: 1000997 | J9: 113224 | K9: 153107 | L9: 81279 | M9: 11155 | N9: 82585 | O9: 23224 | P9: 120198 | Q9: 7428 | R9: 261423 | S9: 19275 | T9: 119938 | U9: 2340
C10: 生産指数 | D10: 指数 | E10: 91.9 | F10: 105.6 | G10: 62.5 | H10: 84.7 | I10: 101 | J10: 65.2 | K10: 256.6 | L10: 71 | M10: 54.2 | N10: 145.2 | O10: 69.3 | P10: 93 | Q10: 33.6 | R10: 223.9 | S10: 51.3 | T10: 113 | U10: 22.5
D11: 前年比 | E11: 91.9 | F11: 114.9 | G11: 59.2 | H11: 135.5 | I11: 119.2 | J11: 90.8 | K11: 70.1 | L11: 171.6 | M11: 91.9 | N11: 240.9 | O11: 82.7 | P11: 1268.4 | Q11: 100.9 | R11: 188.6 | S11: 631.4 | T11: 123.4 | U11: 77
B12: 貨物船 | C12: 隻数 | E12: 55 | F12: 53 | G12: 43 | H12: 57 | I12: 59 | J12: 2 | K12: 8 | L12: 4 | M12: 5 | N12: 6 | O12: 7 | P12: 5 | Q12: 3 | R12: 8 | S12: 6 | T12: 3 | U12: 3
C13: G／Ｔ | E13: 758389 | F13: 547910 | G13: 104549 | H13: 446539 | I13: 913313 | J13: 111019 | K13: 133956 | L13: 80767 | M13: 9840 | N13: 61341 | O13: 13306 | P13: 118736 | Q13: 1194 | R13: 252514 | S13: 17920 | T13: 111472 | U13: 1493
B14: 貨客船 | C14: 隻数 | E14: 0 | F14: 1 | G14: 1 | H14: 0 | I14: 0 | J14: 0 | K14: 0 | L14: 0 | M14: 0 | N14: 0 | O14: 0 | P14: 0 | Q14: 0 | R14: 0 | S14: 0 | T14: 0 | U14: 0
C15: G／Ｔ | E15: 0 | F15: 493 | G15: 498 | H15: 0 | I15: 0 | J15: 0 | K15: 0 | L15: 0 | M15: 0 | N15: 0 | O15: 0 | P15: 0 | Q15: 0 | R15: 0 | S15: 0 | T15: 0 | U15: 0
B16: 客船 | C16: 隻数 | E16: 9 | F16: 10 | G16: 7 | H16: 10 | I16: 5 | J16: 0 | K16: 2 | L16: 0 | M16: 0 | N16: 1 | O16: 1 | P16: 0 | Q16: 0 | R16: 0 | S16: 0 | T16: 0 | U16: 0
C17: G／Ｔ | E17: 11015 | F17: 300 | G17: 277 | H17: 798 | I17: 95 | J17: 0 | K17: 38 | L17: 0 | M17: 0 | N17: 19 | O17: 19 | P17: 0 | Q17: 0 | R17: 0 | S17: 0 | T17: 0 | U17: 0
B18: 自動車航送船 | C18: 隻数 | E18: 9 | F18: 8 | G18: 9 | H18: 6 | I18: 5 | J18: 1 | K18: 0 | L18: 0 | M18: 0 | N18: 1 | O18: 1 | P18: 0 | Q18: 0 | R18: 1 | S18: 0 | T18: 0 | U18: 1
C19: G／Ｔ | E19: 35689 | F19: 69360 | G19: 23942 | H19: 20353 | I19: 25713 | J19: 1110 | K19: 0 | L19: 0 | M19: 0 | N19: 15512 | O19: 8897 | P19: 0 | Q19: 0 | R19: 175 | S19: 0 | T19: 0 | U19: 310
B20: 油送船 | C20: 隻数 | E20: 43 | F20: 45 | G20: 18 | H20: 17 | I20: 23 | J20: 0 | K20: 3 | L20: 1 | M20: 3 | N20: 2 | O20: 1 | P20: 1 | Q20: 4 | R20: 3 | S20: 1 | T20: 2 | U20: 0
C21: G／Ｔ | E21: 41639 | F21: 400213 | G21: 11373 | H21: 70314 | I21: 29371 | J21: 0 | K21: 5247 | L21: 499 | M21: 544 | N21: 1098 | O21: 89 | P21: 499 | Q21: 5683 | R21: 4787 | S21: 999 | T21: 4457 | U21: 0
B22: 漁船 | C22: 隻数 | E22: 35 | F22: 37 | G22: 30 | H22: 24 | I22: 26 | J22: 3 | K22: 2 | L22: 1 | M22: 3 | N22: 2 | O22: 3 | P22: 3 | Q22: 2 | R22: 1 | S22: 2 | T22: 1 | U22: 0
C23: G／Ｔ | E23: 7812 | F23: 5810 | G23: 8418 | H23: 12913 | I23: 4189 | J23: 529 | K23: 726 | L23: 9 | M23: 591 | N23: 218 | O23: 355 | P23: 303 | Q23: 513 | R23: 85 | S23: 38 | T23: 9 | U23: 0
B24: その他 | C24: 隻数 | E24: 71 | F24: 84 | G24: 75 | H24: 67 | I24: 54 | J24: 5 | K24: 19 | L24: 1 | M24: 4 | N24: 3 | O24: 3 | P24: 3 | Q24: 2 | R24: 7 | S24: 2 | T24: 1 | U24: 3
C25: G／Ｔ | E25: 29574 | F25: 19124 | G25: 37342 | H25: 26025 | I25: 28316 | J25: 566 | K25: 13140 | L25: 4 | M25: 180 | N25: 4397 | O25: 558 | P25: 660 | Q25: 38 | R25: 3862 | S25: 318 | T25: 4000 | U25: 537
A26: 輸出船 | B26: 小計 | C26: 隻数 | E26: 247 | F26: 220 | G26: 248 | H26: 248 | I26: 245 | J26: 20 | K26: 33 | L26: 16 | M26: 15 | N26: 24 | O26: 22 | P26: 16 | Q26: 25 | R26: 21 | S26: 20 | T26: 8 | U26: 23
C27: G／Ｔ | E27: 9896371 | F27: 8280793 | G27: 9673828 | H27: 8342371 | I27: 8900901 | J27: 695674 | K27: 1079643 | L27: 470541 | M27: 506609 | N27: 1070605 | O27: 807080 | P27: 676979 | Q27: 865827 | R27: 705387 | S27: 683074 | T27: 350628 | U27: 911894
C28: 生産指数 | D28: 指数 | E28: 88 | F28: 85.7 | G28: 107.1 | H28: 117.7 | I28: 134.7 | J28: 125.6 | K28: 195.4 | L28: 83.1 | M28: 78.7 | N28: 188.9 | O28: 150.2 | P28: 137.9 | Q28: 160.7 | R28: 128.3 | S28: 132.7 | T28: 59.6 | U28: 165
D29: 前年比 | E29: 88 | F29: 97.5 | G29: 124.9 | H29: 109.9 | I29: 114.4 | J29: 124.7 | K29: 106.2 | L29: 63.1 | M29: 78 | N29: 150.5 | O29: 99.8 | P29: 142 | Q29: 122.4 | R29: 120.3 | S29: 135.4 | T29: 62 | U29: 93.9
B30: 貨物船 | C30: 隻数 | E30: 186 | F30: 159 | G30: 212 | H30: 213 | I30: 195 | J30: 14 | K30: 29 | L30: 10 | M30: 12 | N30: 20 | O30: 18 | P30: 12 | Q30: 18 | R30: 15 | S30: 18 | T30: 7 | U30: 16
C31: G／Ｔ | E31: 7487320 | F31: 6343526 | G31: 8965838 | H31: 7745703 | I31: 7743391 | J31: 603395 | K31: 1056095 | L31: 362296 | M31: 436132 | N31: 916192 | O31: 684125 | P31: 549669 | Q31: 618051 | R31: 600105 | S31: 648233 | T31: 349440 | U31: 587952
B32: 油送船 | C32: 隻数 | E32: 54 | F32: 55 | G32: 34 | H32: 32 | I32: 46 | J32: 6 | K32: 3 | L32: 5 | M32: 3 | N32: 4 | O32: 4 | P32: 4 | Q32: 7 | R32: 6 | S32: 2 | T32: 0 | U32: 7
C33: G／Ｔ | E33: 2397753 | F33: 1931086 | G33: 707766 | H33: 595586 | I33: 1154403 | J33: 92279 | K33: 21688 | L33: 108205 | M33: 70477 | N33: 154413 | O33: 122955 | P33: 127310 | Q33: 247776 | R33: 105282 | S33: 34841 | T33: 0 | U33: 323942
B34: その他 | C34: 隻数 | E34: 7 | F34: 6 | G34: 2 | H34: 3 | I34: 4 | J34: 0 | K34: 1 | L34: 1 | M34: 0 | N34: 0 | O34: 0 | P34: 0 | Q34: 0 | R34: 0 | S34: 0 | T34: 1 | U34: 0
C35: G／Ｔ | E35: 11298 | F35: 6181 | G35: 224 | H35: 1082 | I35: 3107 | J35: 0 | K35: 1860 | L35: 40 | M35: 0 | N35: 0 | O35: 0 | P35: 0 | Q35: 0 | R35: 0 | S35: 0 | T35: 1188 | U35: 0
A36: （注）1.生産指数（年次）は、当該年のしゅん工船価（合計）を、基準時（令和2年）のしゅん工船価（合計）で除して求めた指数である。 なお、基準時（令和2年）のしゅん工船価（合計、国内船、輸出船）は、それぞれ 119,294,019(千円)、26,641,790(千円)、92,652,229(千円)である。 2.その他の船種区分は、独航能力を有するもので、巡視船、曳船、作業船等をいう。

Sheet 造船第１表
A1: １．造船調査
A2: 鋼船建造実績
A3: 第１表 工場数 392工場
B4: 用途別 | E4: 受注 | I4: 起工 | K4: 進水 | M4: しゅん工 | O4: しゅん工船 | P4: Ｇ／Ｔ当り船価
E5: 隻数 | G5: Ｇ／Ｔ | I5: 隻数 | J5: Ｇ／Ｔ | K5: 隻数 | L5: Ｇ／Ｔ | M5: 隻数 | N5: Ｇ／Ｔ | O5: 船価（千円） | P5: （千円）
A6: 令和8年1月分 | B6: 合計 | E6: 8 | G6: 170916 | I6: 24 | J6: 804243 | K6: 28 | L6: 635261 | M6: 30 | N6: 914234 | O6: 158877339 | P6: 174
B7: 国内船 | C7: 計 | E7: 5 | G7: 4502 | I7: 10 | J7: 265093 | K7: 13 | L7: 38222 | M7: 7 | N7: 2340 | O7: 5982891 | P7: 2557
C8: 貨物船計 | E8: 1 | G8: 499 | I8: 2 | J8: 95299 | K8: 5 | L8: 2545 | M8: 3 | N8: 1493 | O8: ・・ | P8: ・・
D9: 一般貨物船 | E9: 1 | G9: 499 | I9: 1 | J9: 499 | K9: 3 | L9: 1297 | M9: 2 | N9: 998 | O9: ・・ | P9: ・・
D10: 鉱石専用船
D11: ばら積み船 | K11: 1 | L11: 749
D12: コンテナ船
D13: 自動車専用船
D14: 鉱石兼撤積船 | I14: 1 | J14: 94800
D15: 石炭専用船
D16: セメント専用船
D17: ＲＯＲＯ船 | M17: 1 | N17: 495 | O17: ・・ | P17: ・・
D18: 木材兼撤積船
D19: その他貨物船 | K19: 1 | L19: 499
C20: 貨客船
C21: 客船 | K21: 1 | L21: 122
C22: 自動車航送船 | E22: 1 | G22: 3580 | M22: 1 | N22: 310 | O22: ・・ | P22: ・・
C23: 油送船計 | E23: 1 | G23: 19 | I23: 4 | J23: 169225 | K23: 4 | L23: 35497
D24: 一般油送船 | E24: 1 | G24: 19 | I24: 4 | J24: 169225 | K24: 2 | L24: 4998
D25: プロダクトキャリア
D26: ＬＰＧ船
D27: 化学薬品船 | K27: 2 | L27: 30499
D28: ＬＮＧ船
D29: その他油送船
C30: 漁船 | E30: 1 | G30: 105 | I30: 1 | J30: 183
C31: その他 | E31: 1 | G31: 299 | I31: 3 | J31: 386 | K31: 3 | L31: 58 | M31: 3 | N31: 537 | O31: 1634800 | P31: 3044
B32: 輸出船 | C32: 計 | E32: 3 | G32: 166414 | I32: 14 | J32: 539150 | K32: 15 | L32: 597039 | M32: 23 | N32: 911894 | O32: 152894448 | P32: 168
C33: 貨物船計 | E33: 3 | G33: 166414 | I33: 10 | J33: 374200 | K33: 14 | L33: 546639 | M33: 16 | N33: 587952 | O33: 91588853 | P33: 156
D34: 一般貨物船 | K34: 1 | L34: 13000 | M34: 1 | N34: 9943 | O34: ・・ | P34: ・・
D35: 鉱石専用船
D36: ばら積み船 | E36: 1 | G36: 50600 | I36: 7 | J36: 229100 | K36: 10 | L36: 302100 | M36: 13 | N36: 405725 | O36: 64130505 | P36: 158
D37: コンテナ船 | E37: 2 | G37: 115814 | K37: 1 | L37: 86500
D38: 自動車専用船 | M38: 1 | N38: 77650 | O38: ・・ | P38: ・・
D39: 鉱石兼撤積船 | I39: 2 | J39: 130100 | K39: 2 | L39: 145039 | M39: 1 | N39: 94634 | O39: ・・ | P39: ・・
D40: 石炭専用船
D41: セメント専用船 | I41: 1 | J41: 15000
D42: ＲＯＲＯ船
D43: 木材兼撤積船
D44: その他貨物船
C45: 油送船計 | I45: 4 | J45: 164950 | K45: 1 | L45: 50400 | M45: 7 | N45: 323942 | O45: 61305595 | P45: 189
D46: 一般油送船 | I46: 1 | J46: 83500 | M46: 3 | N46: 226687 | O46: ・・ | P46: ・・
D47: プロダクトキャリア
D48: ＬＰＧ船 | I48: 2 | J48: 56850 | K48: 1 | L48: 50400 | M48: 1 | N48: 49561 | O48: ・・ | P48: ・・
D49: 化学薬品船 | I49: 1 | J49: 24600 | M49: 3 | N49: 47694 | O49: 17080758 | P49: 358
D50: ＬＮＧ船
D51: その他油送船
C52: その他
B53: 用途別 | E53: 受注 | I53: 起工 | K53: 進水 | M53: しゅん工 | O53: しゅん工船 | P53: 排水トン当り船価
E54: 隻数 | G54: 排水トン | I54: 隻数 | J54: 排水トン | K54: 隻数 | L54: 排水トン | M54: 隻数 | N54: 排水トン | O54: 船価（千円） | P54: （千円）
A55: 令和8年1月分 | B55: 合計
B56: 国内船 | C56: 計
B57: 輸出船 | C57: 計
A58: （注）工場数は、調査票を回収した工場の数である。

Sheet 造船第２表
A2: 強化プラスチック（木）船しゅん工実績
A3: 第２表 工場数 121工場
B4: 用途別 | D4: しゅん工 | F4: しゅん工船 | G4: Ｇ／Ｔ当り船価
D5: 隻数 | E5: Ｇ／Ｔ | F5: 船価（千円） | G5: （千円）
A6: 令和8年1月分 | B6: 合計
B7: 国内船 | C7: 計
C8: 貨物船
C9: 客船
C10: 漁船
C11: その他
B12: 輸出船 | C12: 計
A13: （注）工場数は、調査票を回収した工場の数である。

Sheet 造船第３表
A1: 用途別・トン数階級別受注鋼船隻数及びトン数
A2: 第３表
A3: 区分 | B3: 用途 | C3: トン数階級 | D3: 令和8年1月分
C4: （単位Ｇ／Ｔ） | D4: 隻数 | F4: Ｇ／Ｔ | H4: Ｄ／Ｗ
A5: 合計 | C5: 計 | D5: 8 | F5: 170916 | H5: -
C6: 20Ｇ／Ｔ未満 | D6: 1 | F6: 19 | H6: -
C7: 20～100 | H7: -
C8: 100～500 | D8: 3 | F8: 903 | H8: -
C9: 500～1,000 | H9: -
C10: 1,000～2,000 | H10: -
C11: 2,000～3,000 | H11: -
C12: 3,000～4,000 | D12: 1 | F12: 3580 | H12: -
C13: 4,000～5,000 | H13: -
C14: 5,000～6,000 | H14: -
C15: 6,000～7,000 | H15: -
C16: 7,000～8,000 | H16: -
C17: 8,000～9,000 | H17: -
C18: 9,000～10,000 | H18: -
C19: 10,000～15,000 | H19: -
C20: 15,000～20,000 | H20: -
C21: 20,000～25,000 | H21: -
C22: 25,000～30,000 | H22: -
C23: 30,000～35,000 | H23: -
C24: 35,000～40,000 | H24: -
... C26: 45,000～50,000 | H26: -
C27: 50,000～55,000 | D27: 1 | F27: 50600 | H27: -
C28: 55,000～60,000 | D28: 2 | F28: 115814 | H28: -
C29: 60,000～65,000 | H29: -
C30: 65,000～70,000 | H30: -
C31: 70,000～75,000 | H31: -
C32: 75,000～100,000 | H32: -
C33: 100,000～150,000 | H33: -
C34: 150,000～200,000 | H34: -
C35: 200,000～ | H35: -
A36: 国内船 | B36: 貨物船 | C36: 計 | D36: 1 | F36: 499 | H36: 1740
C37: 100～500 | D37: 1 | F37: 499 | H37: 1740
B38: 自動車航送船 | C38: 計 | D38: 1 | F38: 3580 | H38: -
C39: 3,000～4,000 | D39: 1 | F39: 3580 | H39: -
B40: 油送船 | C40: 計 | D40: 1 | F40: 19 | H40: 86
C41: 20Ｇ／Ｔ未満 | D41: 1 | F41: 19 | H41: 86
B42: 漁船 | C42: 計 | D42: 1 | F42: 105 | H42: -
C43: 100～500 | D43: 1 | F43: 105 | H43: -
B44: その他 | C44: 計 | D44: 1 | F44: 299 | H44: -
C45: 100～500 | D45: 1 | F45: 299 | H45: -
A46: 輸出船 | B46: 貨物船 | C46: 計 | D46: 3 | F46: 166414 | H46: 244802
C47: 50,000～55,000 | D47: 1 | F47: 50600 | H47: 91864
C48: 55,000～60,000 | D48: 2 | F48: 115814 | H48: 152938

Sheet 造船第４表
A1: 用途別・トン数階級別起工鋼船隻数及びトン数
A2: 第４表
A3: 区分 | B3: 用途 | C3: トン数階級 | D3: 令和8年1月分
C4: （単位Ｇ／Ｔ） | D4: 隻数 | E4: Ｇ／Ｔ | F4: Ｄ／Ｗ
A5: 合計 | C5: 計 | D5: 24 | E5: 804243 | F5: -
C6: 20Ｇ／Ｔ未満 | D6: 1 | E6: 19 | F6: -
C7: 20～100 | D7: 1 | E7: 68 | F7: -
C8: 100～500 | D8: 4 | E8: 1207 | F8: -
C9: 500～1,000 | D9: 1 | E9: 749 | F9: -
C10: 1,000～2,000 | F10: -
C11: 2,000～3,000 | F11: -
C12: 3,000～4,000 | D12: 1 | E12: 3950 | F12: -
C13: 4,000～5,000 | F13: -
C14: 5,000～6,000 | F14: -
C15: 6,000～7,000 | D15: 1 | E15: 6450 | F15: -
C16: 7,000～8,000 | F16: -
C17: 8,000～9,000 | F17: -
C18: 9,000～10,000 | F18: -
C19: 10,000～15,000 | F19: -
C20: 15,000～20,000 | D20: 1 | E20: 15000 | F20: -
C21: 20,000～25,000 | D21: 1 | E21: 24600 | F21: -
C22: 25,000～30,000 | D22: 3 | E22: 75800 | F22: -
C23: 30,000～35,000 | F23: -
C24: 35,000～40,000 | D24: 4 | E24: 146100 | F24: -
C25: 40,000～45,000 | D25: 1 | E25: 43700 | F25: -
C26: 45,000～50,000 | F26: -
C27: 50,000～55,000 | D27: 1 | E27: 50400 | F27: -
C28: 55,000～60,000 | F28: -
C29: 60,000～65,000 | F29: -
C30: 65,000～70,000 | F30: -
C31: 70,000～75,000 | F31: -
C32: 75,000～100,000 | D32: 3 | E32: 271900 | F32: -
C33: 100,000～150,000 | F33: -
C34: 150,000～200,000 | D34: 1 | E34: 164300 | F34: -
C35: 200,000～ | F35: -
A36: 国内船 | B36: 貨物船 | C36: 計 | D36: 2 | E36: 95299 | F36: 183349
C37: 100～500 | D37: 1 | E37: 499 | F37: 1750
C38: 75,000～100,000 | D38: 1 | E38: 94800 | F38: 181599
B39: 油送船 | C39: 計 | D39: 4 | E39: 169225 | F39: 317633
C40: 100～500 | D40: 1 | E40: 226 | F40: 480
C41: 500～1,000 | D41: 1 | E41: 749 | F41: 1830
C42: 3,000～4,000 | D42: 1 | E42: 3950 | F42: 5450
C43: 150,000～200,000 | D43: 1 | E43: 164300 | F43: 309873
B44: 漁船 | C44: 計 | D44: 1 | E44: 183 | F44: -
C45: 100～500 | D45: 1 | E45: 183 | F45: -
B46: その他 | C46: 計 | D46: 3 | E46: 386 | F46: -
C47: 20Ｇ／Ｔ未満 | D47: 1 | E47: 19 | F47: -
C48: 20～100 | D48: 1 | E48: 68 | F48: -
C49: 100～500 | D49: 1 | E49: 299 | F49: -
A50: 輸出船 | B50: 貨物船 | C50: 計 | D50: 10 | E50: 374200 | F50: 655075
C51: 15,000～20,000 | D51: 1 | E51: 15000 | F51: 22300
C52: 25,000～30,000 | D52: 3 | E52: 75800 | F52: 115095
C53: 35,000～40,000 | D53: 3 | E53: 109600 | F53: 191020
C54: 35,000～40,000 | D54: 1 | E54: 36500 | F54: 63500
C55: 40,000～45,000 | D55: 1 | E55: 43700 | F55: 81800
C56: 75,000～100,000 | D56: 1 | E56: 93600 | F56: 181360
B57: 油送船 | C57: 計 | D57: 4 | E57: 164950 | F57: 260831
C58: 6,000～7,000 | D58: 1 | E58: 6450 | F58: 6750
C59: 20,000～25,000 | D59: 1 | E59: 24600 | F59: 44000
C60: 50,000～55,000 | D60: 1 | E60: 50400 | F60: 52044
C61: 75,000～100,000 | D61: 1 | E61: 83500 | F61: 158037

Sheet 造船第５表
A1: 用途別・トン数階級別進水鋼船隻数及びトン数
A2: 第５表
A3: 区分 | B3: 用途 | C3: トン数階級 | D3: 令和8年1月分
C4: （単位Ｇ／Ｔ） | D4: 隻数 | E4: Ｇ／Ｔ | F4: Ｄ／Ｗ
A5: 合計 | C5: 計 | D5: 28 | E5: 635261 | F5: -
C6: 20Ｇ／Ｔ未満 | D6: 1 | E6: 13 | F6: -
C7: 20～100 | D7: 2 | E7: 45 | F7: -
C8: 100～500 | D8: 6 | E8: 2417 | F8: -
C9: 500～1,000 | D9: 2 | E9: 1747 | F9: -
C10: 1,000～2,000 | F10: -
C11: 2,000～3,000 | F11: -
C12: 3,000～4,000 | F12: -
C13: 4,000～5,000 | D13: 1 | E13: 4000 | F13: -
C14: 5,000～6,000 | F14: -
C15: 6,000～7,000 | F15: -
C16: 7,000～8,000 | F16: -
C17: 8,000～9,000 | F17: -
C18: 9,000～10,000 | F18: -
C19: 10,000～15,000 | D19: 1 | E19: 13000 | F19: -
C20: 15,000～20,000 | F20: -
C21: 20,000～25,000 | D21: 3 | E21: 72995 | F21: -
C22: 25,000～30,000 | D22: 3 | E22: 75950 | F22: -
C23: 30,000～35,000 | D23: 1 | E23: 30000 | F23: -
C24: 35,000～40,000 | D24: 4 | E24: 145839 | F24: -
C25: 40,000～45,000 | D25: 1 | E25: 43455 | F25: -
C26: 45,000～50,000 | F26: -
C27: 50,000～55,000 | D27: 1 | E27: 50400 | F27: -
C28: 55,000～60,000 | F28: -
C29: 60,000～65,000 | F29: -
C30: 65,000～70,000 | F30: -
C31: 70,000～75,000 | F31: -
C32: 75,000～100,000 | D32: 1 | E32: 86500 | F32: -
C33: 100,000～150,000 | D33: 1 | E33: 108900 | F33: -
C34: 150,000～200,000 | F34: -
C35: 200,000～ | F35: -
A36: 国内船 | B36: 貨物船 | C36: 計 | D36: 5 | E36: 2545 | F36: 6960
C37: 100～500 | D37: 3 | E37: 1297 | F37: 4300
C38: 100～500 | D38: 1 | E38: 499 | F38: 1740
C39: 500～1,000 | D39: 1 | E39: 749 | F39: 920
B40: 客船 | C40: 計 | D40: 1 | E40: 122 | F40: -
C41: 100～500 | D41: 1 | E41: 122 | F41: -
B42: 油送船 | C42: 計 | D42: 4 | E42: 35497 | F42: 38915
C43: 100～500 | D43: 1 | E43: 499 | F43: 1215
C44: 500～1,000 | D44: 1 | E44: 998 | F44: 2350
C45: 4,000～5,000 | D45: 1 | E45: 4000 | F45: 5400
C46: 30,000～35,000 | D46: 1 | E46: 30000 | F46: 29950
B47: その他 | C47: 計 | D47: 3 | E47: 58 | F47: -
C48: 20Ｇ／Ｔ未満 | D48: 1 | E48: 13 | F48: -
C49: 20～100 | D49: 2 | E49: 45 | F49: -
A50: 輸出船 | B50: 貨物船 | C50: 計 | D50: 14 | E50: 546639 | F50: 910513
C51: 10,000～15,000 | D51: 1 | E51: 13000 | F51: 17000
C52: 20,000～25,000 | D52: 3 | E52: 72995 | F52: 119400
C53: 25,000～30,000 | D53: 3 | E53: 75950 | F53: 119385
C54: 35,000～40,000 | D54: 3 | E54: 109700 | F54: 191340
C55: 35,000～40,000 | D55: 1 | E55: 36139 | F55: 63470
C56: 40,000～45,000 | D56: 1 | E56: 43455 | F56: 82022
C57: 75,000～100,000 | D57: 1 | E57: 86500 | F57: 106564
C58: 100,000～150,000 | D58: 1 | E58: 108900 | F58: 211332
B59: 油送船 | C59: 計 | D59: 1 | E59: 50400 | F59: 52044
C60: 50,000～55,000 | D60: 1 | E60: 50400 | F60: 52044

Sheet 造船第６表
A1: 用途別・トン数階級別しゅん工鋼船隻数、トン数及び船価
A2: 第６表
A3: 区分 | B3: 用途 | C3: トン数階級 | D3: 令和8年1月分
C4: （単位Ｇ／Ｔ） | D4: 隻数 | E4: Ｇ／Ｔ | F4: Ｄ／Ｗ | G4: 船価（千円） | H4: Ｇ／Ｔ当り船価
A5: 合計 | C5: 計 | D5: 30 | E5: 914234 | F5: - | G5: 158877339 | H5: 174
C6: 20Ｇ／Ｔ未満 | D6: 2 | E6: 38 | F6: - | G6: ・・ | H6: ・・
C7: 20～100 | F7: -
C8: 100～500 | D8: 5 | E8: 2302 | F8: - | G8: 5598091 | H8: 2432
C9: 500～1,000 | F9: -
C10: 1,000～2,000 | F10: -
C11: 2,000～3,000 | F11: -
C12: 3,000～4,000 | F12: -
C13: 4,000～5,000 | F13: -
C14: 5,000～6,000 | F14: -
C15: 6,000～7,000 | F15: -
C16: 7,000～8,000 | F16: -
C17: 8,000～9,000 | F17: -
C18: 9,000～10,000 | D18: 1 | E18: 9943 | F18: - | G18: ・・ | H18: ・・
C19: 10,000～15,000 | D19: 2 | E19: 24223 | F19: - | G19: ・・ | H19: ・・
C20: 15,000～20,000 | F20: -
C21: 20,000～25,000 | D21: 4 | E21: 92960 | F21: - | G21: 22481181 | H21: 242
C22: 25,000～30,000 | D22: 3 | E22: 75715 | F22: - | G22: 13239583 | H22: 175
C23: 30,000～35,000 | F23: -
C24: 35,000～40,000 | D24: 6 | E24: 217066 | F24: - | G24: 30006390 | H24: 138
C25: 40,000～45,000 | D25: 1 | E25: 43455 | F25: - | G25: ・・ | H25: ・・
C26: 45,000～50,000 | D26: 1 | E26: 49561 | F26: - | G26: ・・ | H26: ・・
C27: 50,000～55,000 | F27: -
C28: 55,000～60,000 | F28: -
C29: 60,000～65,000 | D29: 1 | E29: 60177 | F29: - | G29: ・・ | H29: ・・
C30: 65,000～70,000 | F30: -
C31: 70,000～75,000 | F31: -
C32: 75,000～100,000 | D32: 4 | E32: 338794 | F32: - | G32: 46270065 | H32: 137
C33: 100,000～150,000 | F33: -
C34: 150,000～200,000 | F34: -
C35: 200,000～ | F35: -
A36: 国内船 | B36: 貨物船 | C36: 計 | D36: 3 | E36: 1493 | F36: 3714 | G36: ・・ | H36: ・・
C37: 100～500 | D37: 2 | E37: 998 | F37: 3430 | G37: ・・ | H37: ・・
C38: 100～500 | D38: 1 | E38: 495 | F38: 284 | G38: ・・ | H38: ・・
B39: 自動車航送船 | C39: 計 | D39: 1 | E39: 310 | F39: - | G39: ・・ | H39: ・・
C40: 100～500 | D40: 1 | E40: 310 | F40: - | G40: ・・ | H40: ・・
B41: その他 | C41: 計 | D41: 3 | E41: 537 | F41: - | G41: 1634800 | H41: 3044
C42: 20Ｇ／Ｔ未満 | D42: 2 | E42: 38 | F42: - | G42: ・・ | H42: ・・
C43: 100～500 | D43: 1 | E43: 499 | F43: - | G43: ・・ | H43: ・・
A44: 輸出船 | B44: 貨物船 | C44: 計 | D44: 16 | E44: 587952 | F44: 917394 | G44: 91588853 | H44: 156
C45: 9,000～10,000 | D45: 1 | E45: 9943 | F45: 13552 | G45: ・・ | H45: ・・
C46: 20,000～25,000 | D46: 3 | E46: 69489 | F46: 114355 | G46: ・・ | H46: ・・
C47: 25,000～30,000 | D47: 3 | E47: 75715 | F47: 120409 | G47: 13239583 | H47: 175
C48: 35,000～40,000 | D48: 6 | E48: 217066 | F48: 385749 | G48: 30006390 | H48: 138
C49: 40,000～45,000 | D49: 1 | E49: 43455 | F49: 81986 | G49: ・・ | H49: ・・
C50: 75,000～100,000 | D50: 1 | E50: 77650 | F50: 18652 | G50: ・・ | H50: ・・
C51: 75,000～100,000 | D51: 1 | E51: 94634 | F51: 182691 | G51: ・・ | H51: ・・
B52: 油送船 | C52: 計 | D52: 7 | E52: 323942 | F52: 565210 | G52: 61305595 | H52: 189
C53: 10,000～15,000 | D53: 2 | E53: 24223 | F53: 40697 | G53: ・・ | H53: ・・
C54: 20,000～25,000 | D54: 1 | E54: 23471 | F54: 35762 | G54: ・・ | H54: ・・
C55: 45,000～50,000 | D55: 1 | E55: 49561 | F55: 56360 | G55: ・・ | H55: ・・
C56: 60,000～65,000 | D56: 1 | E56: 60177 | F56: 115000 | G56: ・・ | H56: ・・
C57: 75,000～100,000 | D57: 2 | E57: 166510 | F57: 317391 | G57: 21256500 | H57: 128

Sheet 造船第７表
A1: 用途別・トン数階級別しゅん工強化プラスチック（木）船隻数、トン数及び船価
A2: 第７表
A3: 区分 | B3: 用途 | C3: トン数 階級 （単位Ｇ／Ｔ） | D3: 令和8年1月分
D4: 隻数 | E4: Ｇ／Ｔ | F4: 船価 （千円） | G4: G/T当り 船価
A5: 合計 | C5: 計
C7: 20Ｇ／Ｔ未満
C9: 20～100
C11: 100～200
C13: 200～
A15: 国内船 | B15: 貨物船 | C15: 計
C17: 20Ｇ／Ｔ未満
C19: 20～100
C21: 100～200
C23: 200～
B25: 客船 | C25: 計
C27: 20Ｇ／Ｔ未満
C29: 20～100
C31: 100～200
C33: 200～
B35: 漁船 | C35: 計
C37: 20Ｇ／Ｔ未満
C39: 20～100
C41: 100～200
C43: 200～
B45: その他 | C45: 計
C47: 20Ｇ／Ｔ未満
C49: 20～100
C51: 100～200
C53: 200～
A55: 輸出船 | C55: 計
C57: 20Ｇ／Ｔ未満
C59: 20～100
C61: 100～200
C63: 200～
A65: （注）上段はFRP船、下段は木船の値である。

Sheet 造船第８表
A1: 独航不能船舶のしゅん工隻数、トン数及び船価
A2: 第８表
C3: 令和8年1月分
C4: 隻数 | D4: Ｄ／Ｗ | E4: 排水トン | F4: 船価 （千円） | G4: トン当り 船価（千円）
A5: 鋼船 | B5: はしけ | E5: -
D6: -
B7: しゅんせつ船 | E7: -
D8: -
B9: 土運船 | E9: -
D10: -
B11: その他の独航不能船 | C11: 2 | D11: 1664 | E11: - | F11: 1005390 | G11: 604
D12: -
A13: ＦＲＰ (木)船 | B13: はしけ | E13: -
D14: -
B15: しゅんせつ船 | E15: -
D16: -
B17: 土運船 | E17: -
D18: -
B19: その他の独航不能船 | E19: -
D20: -
A21: （注）上段は載貨重量トン数、下段は排水トン数の値である。

Sheet 造船第９表
A1: 船質別・国籍別修繕船舶隻数、トン数及び修繕高
A2: 第９表
B3: 船質 | C3: 受注区分 | D3: 工事区分 | E3: 隻数 | F3: 総トン数 | G3: 修繕高(千円)
A4: 令和8年1月分 | B4: 鋼船 | C4: 合計 | D4: 計 | E4: 699 | F4: 813664 | G4: 9075605
D5: 入きょ | E5: 374 | F5: 522308 | G5: 8279914
D6: 非入きょ | E6: 325 | F6: 291356 | G6: 795691
C7: 日本船 | D7: 計 | E7: 691 | F7: 728088 | G7: 8978726
D8: 入きょ | E8: 369 | F8: 488659 | G8: 8200801
D9: 非入きょ | E9: 322 | F9: 239429 | G9: 777925
C10: 外国船 | D10: 計 | E10: 8 | F10: 85576 | G10: 96879
D11: 入きょ | E11: 5 | F11: 33649 | G11: 79113
D12: 非入きょ | E12: 3 | F12: 51927 | G12: 17766
B13: FRP(木)船 | C13: 日本船 | E13: 52 | F13: 2952 | G13: 314848
B15: 船質 | C15: 受注区分 | D15: 工事区分 | E15: 隻数 | F15: 排水トン数 | G15: 修繕高(千円)
A16: 令和8年1月分 | B16: 鋼船 | C16: 合計 | D16: 計 | E16: 35 | F16: 131247 | G16: 8858522
D17: 入きょ | E17: 15 | F17: 31427 | G17: 5879662
D18: 非入きょ | E18: 20 | F18: 99820 | G18: 2978860
C19: 日本船 | D19: 計 | E19: 35 | F19: 131247 | G19: 8858522
D20: 入きょ | E20: 15 | F20: 31427 | G20: 5879662
D21: 非入きょ | E21: 20 | F21: 99820 | G21: 2978860
C22: 外国船 | D22: 計
D23: 入きょ
D24: 非入きょ

Sheet 造船第１０表
A1: 地方運輸局管轄区域別建造実績及び船舶修繕実績
A2: 第１０表
A3: 運輸局名 | B3: 鋼船建造実績 | N3: 国籍別修繕船舶隻数、 トン数及び修繕高
B4: 内外別 | C4: 受注 | G4: 起工 | I4: 進水 | K4: しゅん工
C5: 隻数 | E5: G／T | G5: 隻数 | H5: G／T | I5: 隻数 | J5: G／T | K5: 隻数 | L5: G／T | M5: 船価（千円） | N5: 受注区分 | O5: 隻数 | P5: G／T | Q5: 修繕高（千円）
A6: 北海道運輸局 | B6: 計 | K6: 1 | L6: 24219 | M6: ・・ | N6: 計 | O6: 79 | P6: 31074 | Q6: 390770
B7: 国内船 | N7: 日本船 | O7: 79 | P7: 31074 | Q7: 390770
B8: 輸出船 | K8: 1 | L8: 24219 | M8: ・・ | N8: 外国船
A9: 東北運輸局 | B9: 計 | C9: 2 | E9: 124 | G9: 1 | H9: 24600 | N9: 計 | O9: 57 | P9: 17371 | Q9: 572002
B10: 国内船 | C10: 2 | E10: 124 | N10: 日本船 | O10: 57 | P10: 17371 | Q10: 572002
B11: 輸出船 | G11: 1 | H11: 24600 | N11: 外国船
A12: 関東運輸局 | B12: 計 | I12: 1 | J12: 20 | K12: 1 | L12: 60177 | M12: ・・ | N12: 計 | O12: 70 | P12: 32081 | Q12: 2209240
B13: 国内船 | I13: 1 | J13: 20 | N13: 日本船 | O13: 70 | P13: 32081 | Q13: 2209240
B14: 輸出船 | K14: 1 | L14: 60177 | M14: ・・ | N14: 外国船
A15: 北陸信越運輸局 | B15: 計 | G15: 1 | H15: 299 | N15: 計 | O15: 4 | P15: 1092 | Q15: 134886
B16: 国内船 | G16: 1 | H16: 299 | N16: 日本船 | O16: 4 | P16: 1092 | Q16: 134886
B17: 輸出船 | N17: 外国船
A18: 中部運輸局 | B18: 計 | G18: 1 | H18: 83500 | I18: 1 | J18: 108900 | K18: 1 | L18: 83500 | M18: ・・ | N18: 計 | O18: 13 | P18: 13812 | Q18: 380731
B19: 国内船 | N19: 日本船 | O19: 13 | P19: 13812 | Q19: 380731
B20: 輸出船 | G20: 1 | H20: 83500 | I20: 1 | J20: 108900 | K20: 1 | L20: 83500 | M20: ・・ | N20: 外国船
A21: 近畿運輸局 | B21: 計 | C21: 1 | E21: 299 | N21: 計 | O21: 39 | P21: 108152 | Q21: 712344
B22: 国内船 | C22: 1 | E22: 299 | N22: 日本船 | O22: 39 | P22: 108152 | Q22: 712344
B23: 輸出船 | N23: 外国船
A24: 神戸運輸監理部 | B24: 計 | I24: 1 | J24: 499 | K24: 1 | L24: 19 | M24: ・・ | N24: 計 | O24: 13 | P24: 18960 | Q24: 209309
B25: 国内船 | I25: 1 | J25: 499 | K25: 1 | L25: 19 | M25: ・・ | N25: 日本船 | O25: 13 | P25: 18960 | Q25: 209309
B26: 輸出船 | N26: 外国船
A27: 中国運輸局 | B27: 計 | C27: 3 | E27: 119394 | G27: 5 | H27: 155387 | I27: 6 | J27: 131138 | K27: 3 | L27: 80043 | M27: 11720521 | N27: 計 | O27: 150 | P27: 313530 | Q27: 2416149
B28: 国内船 | C28: 1 | E28: 3580 | G28: 2 | H28: 87 | I28: 4 | J28: 1183 | K28: 1 | L28: 310 | M28: ・・ | N28: 日本船 | O28: 144 | P28: 236993 | Q28: 2321490
B29: 輸出船 | C29: 2 | E29: 115814 | G29: 3 | H29: 155300 | I29: 2 | J29: 129955 | K29: 2 | L29: 79733 | M29: ・・ | N29: 外国船 | O29: 6 | P29: 76537 | Q29: 94659
A30: 四国運輸局 | B30: 計 | C30: 2 | E30: 51099 | G30: 10 | H30: 194424 | I30: 11 | J30: 205279 | K30: 10 | L30: 273595 | M30: 58901221 | N30: 計 | O30: 96 | P30: 55958 | Q30: 613172
B31: 国内船 | C31: 1 | E31: 499 | G31: 4 | H31: 5424 | I31: 5 | J31: 6495 | K31: 2 | L31: 998 | M31: 1565000 | N31: 日本船 | O31: 95 | P31: 48707 | Q31: 612952
B32: 輸出船 | C32: 1 | E32: 50600 | G32: 6 | H32: 189000 | I32: 6 | J32: 198784 | K32: 8 | L32: 272597 | M32: 57336221 | N32: 外国船 | O32: 1 | P32: 7251 | Q32: 220
A33: 九州運輸局 | B33: 計 | G33: 6 | H33: 346033 | I33: 8 | J33: 189425 | K33: 13 | L33: 392681 | M33: 64015657 | N33: 計 | O33: 163 | P33: 217232 | Q33: 1309606
B34: 国内船 | G34: 3 | H34: 259283 | I34: 2 | J34: 30025 | K34: 3 | L34: 1013 | M34: 3354091 | N34: 日本船 | O34: 162 | P34: 215444 | Q34: 1307606
B35: 輸出船 | G35: 3 | H35: 86750 | I35: 6 | J35: 159400 | K35: 10 | L35: 391668 | M35: 60661566 | N35: 外国船 | O35: 1 | P35: 1788 | Q35: 2000
A36: 沖縄総合事務局 | B36: 計 | N36: 計 | O36: 15 | P36: 4402 | Q36: 127396
B37: 国内船 | N37: 日本船 | O37: 15 | P37: 4402 | Q37: 127396
B38: 輸出船 | N38: 外国船
A39: 全国計 | B39: 計 | C39: 8 | E39: 170916 | G39: 24 | H39: 804243 | I39: 28 | J39: 635261 | K39: 30 | L39: 914234 | M39: 158877339 | N39: 計 | O39: 699 | P39: 813664 | Q39: 9075605
B40: 国内船 | C40: 5 | E40: 4502 | G40: 10 | H40: 265093 | I40: 13 | J40: 38222 | K40: 7 | L40: 2340 | M40: 5982891 | N40: 日本船 | O40: 691 | P40: 728088 | Q40: 8978726
B41: 輸出船 | C41: 3 | E41: 166414 | G41: 14 | H41: 539150 | I41: 15 | J41: 597039 | K41: 23 | L41: 911894 | M41: 152894448 | N41: 外国船 | O41: 8 | P41: 85576 | Q41: 96879
A42: （注）平成１４年７月の地方運輸局再編に伴い、秋田県・山形県は東北運輸局へ、新潟県・富山県・石川県・長野県は北陸信越運輸局へ、福井県は中部運輸局へそれぞれ移管された。_x000D_ また、従来は九州運輸局に含まれていた沖縄県分を、沖縄総合事務局として別掲することとした。
